Workbook

Sheet Details
N1: OMB Approval No. 2501-0017
B2: Grant Application Detailed Budget Worksheet | N2: (Exp. 01/31/2008)
A3: Name and Address of Applicant: | C3: Capital District Regional Planning Commission
C4: 1 Park Place, Suite 102
C5: Albany, NY 12205
A8: Category | B8: Detailed Description of Budget (for full grant period)
A9: 1. Personnel (Direct Labor) | C9: Estimated Hours | D9: Rate per Hour | E9: Estimated Cost | G9: HUD Share | H9: Applicant Match | J9: Other HUD Funds | K9: Other Federal Share | L9: State Share | M9: Local/Tribal Share | N9: Other | O9: Program Income
A10: Position or Individual | G10: 5
A11: Executive Director | C11: 65.72 | D11: 63.51 | E11: =C11*D11 -> 4173.8772 | G11: =E11 -> 4173.8772 | J11: 0 | K11: 0 | L11: 0 | M11: 0 | N11: 0 | O11: 0
A12: Senior Planner | C12: 65.72 | D12: 39.495 | E12: =C12*D12 -> 2595.6114 | G12: =E12 -> 2595.6114
E13: =C13*D13 -> 0
E14: =C14*D14 -> 0
E15: =C15*D15 -> 0
E16: =C16*D16 -> 0
E17: =C17*D17 -> 0
E18: =C18*D18 -> 0
E19: =C19*D19 -> 0
A20: Total Direct Labor Cost | E20: =SUM(E11:E19) -> 6769.4886 | G20: =SUM(G11:G19) -> 6769.4886 | H20: =SUM(H11:H19) -> 0 | J20: =SUM(J11:J19) -> 0 | K20: =SUM(K11:K19) -> 0 | L20: =SUM(L11:L19) -> 0 | M20: =SUM(M11:M19) -> 0 | N20: =SUM(N11:N19) -> 0 | O20: =SUM(O11:O19) -> 0
A21: 2. Fringe Benefits | C21: Rate (%) | D21: Base | E21: Estimated Cost | G21: HUD Share | H21: Applicant Match | J21: Other HUD Funds | K21: Other Federal Share | L21: State Share | M21: Local/Tribal Share | N21: Other | O21: Program Income
A22: Executive Director | C22: 0.429 | D22: =E11 -> 4173.8772 | E22: =C22*D22 -> 1790.5933 | G22: =E22 -> 1790.5933 | J22: 0 | K22: 0 | L22: 0 | M22: 0 | N22: 0 | O22: 0
A23: Senior Planner | C23: 0.429 | D23: =E12 -> 2595.6114 | E23: =C23*D23 -> 1113.5173 | G23: =E23 -> 1113.5173
E24: =C24*D24 -> 0
E25: =C25*D25 -> 0
E26: =C26*D26 -> 0
E27: =C27*D27 -> 0
E28: =C28*D28 -> 0
A29: Total Fringe Benefits Cost | E29: =SUM(E22:E28) -> 2904.1106 | G29: =SUM(G22:G28) -> 2904.1106 | H29: =SUM(H22:H28) -> 0 | J29: =SUM(J22:J28) -> 0 | K29: =SUM(K22:K28) -> 0 | L29: =SUM(L22:L28) -> 0 | M29: =SUM(M22:M28) -> 0 | N29: =SUM(N22:N28) -> 0 | O29: =SUM(O22:O28) -> 0
A30: 3. Travel
A31: 3a. Transportation - Local Private Vehicle | C31: Mileage | D31: Rate per Mile | E31: Estimated Cost | G31: HUD Share | H31: Applicant Match | J31: Other HUD Funds | K31: Other Federal Share | L31: State Share | M31: Local/Tribal Share | N31: Other | O31: Program Income
E32: =C32*D32 -> 0 | H32: 0 | J32: 0 | K32: 0 | L32: 0 | M32: 0 | N32: 0 | O32: 0
E33: =C33*D33 -> 0
E34: =C34*D34 -> 0
E35: =C35*D35 -> 0
E36: =C36*D36 -> 0
E37: =C37*D37 -> 0
A38: Subtotal - Trans - Local Private Vehicle | E38: =SUM(E32:E37) -> 0 | G38: =SUM(G32:G37) -> 0 | H38: =SUM(H32:H37) -> 0 | J38: =SUM(J32:J37) -> 0 | K38: =SUM(K32:K37) -> 0 | L38: =SUM(L32:L37) -> 0 | M38: =SUM(M32:M37) -> 0 | N38: =SUM(N32:N37) -> 0 | O38: =SUM(O32:O37) -> 0
F39: 1 | M39: form HUD-424-CBW (2/2003)
B40: Grant Application Detailed Budget Worksheet
B41: Detailed Description of Budget
A42: 3b. Transportation - Airfare (show destination) | C42: Trips | D42: Fare | E42: Estimated Cost | G42: HUD Share | H42: Applicant Match | J42: Other HUD Funds | K42: Other Federal Share | L42: State Share | M42: Local/Tribal Share | N42: Other | O42: Program Income
...

Sheet Summary
F3: OMB Approval No. 2501-0017
A4: Grant Application Detailed Budget Worksheet | F4: (Exp. 01/31/2018)
A5: Public reporting burden for this collection of information is estimated to average 3 hours 12 minutes per response, including the time for reviewing instructions, searching existing data sources, gathering and maintaining the data needed, and completing and reviewing the collection of information. This agency may not collect this information, and you are not required to complete this form, unless it displays a currently valid OMB control number. Information collected will provide proposed budget data for multiple programs. HUD will use this information in the selection of applicants. Response to this request for information is required in order to receive the benefits to be derived. The information requested does not lend itself to confidentiality.
A10: Detailed Description of Budget
A11: Analysis of Total Estimated Costs | E11: Estimated Cost | F11: Percent of Total
A13: 1 | B13: Personnel (Direct Labor) | E13: =Details!E20 -> 6769.4886 | F13: =E13/E$23 -> 0.045129923
A14: 2 | B14: Fringe Benefits | E14: =Details!E29 -> 2904.1106 | F14: =E14/E$23 -> 0.019360737
A15: 3 | B15: Travel | E15: =Details!E65 -> 0 | F15: =E15/E$23 -> 0
A16: 4 | B16: Equipment | E16: =Details!E71 -> 0 | F16: =E16/E$23 -> 0
A17: 5 | B17: Supplies and Materials | E17: =Details!E96 -> 0 | F17: =E17/E$23 -> 0
A18: 6 | B18: Consultants | E18: =Details!E104 -> 135000.17 | F18: =E18/E$23 -> 0.90000112
A19: 7 | B19: Contracts and Sub-Grantees | E19: =Details!E111 -> 0 | F19: =E19/E$23 -> 0
A20: 8 | B20: Construction | E20: =Details!E188 -> 0 | F20: =E20/E$23 -> 0
A21: 9 | B21: Other Direct Costs | E21: =Details!E206 -> 0 | F21: =E21/E$23 -> 0
A22: 10 | B22: Indirect Costs | E22: =Details!E221 -> 5326.2336 | F22: =E22/E$23 -> 0.035508224
B23: Total: | E23: =SUM(E13:E22) -> 150000 | F23: =SUM(F13:F22) -> 1
B25: Federal Share: | E25: =+Details!G222+Details!J222+Details!K222 -> 90000.003 | F25: =E25/E27 -> 0.60000001
B26: Match: | E26: =+Details!H222+Details!L222+Details!M222+Details!N222+Details!O222 -> 60000 | F26: =E26/E27 -> 0.39999999
E27: =SUM(E25:E26) -> 150000
D28: 7
E36: form HUD-424-CBW (2/2003)
