{"text_format":"1","workbook":"xlsx","n_sheets":32,"sheets":["Homestead&Village NonFilers","2017 OSC","2017 WKS","2017 Base Data","2017 SD","2017","DN_Table12","DN_Chart_Data12","DN_Chart12","WWW_Chart12","CFS 12","2012 SD_Chart_Data","SD_Chart_ALB12","SD_Chart_REN12","SD_Chart_SAR12","SD_Chart_SCH12","2011Homestead&Village NonFilers","2011Table2","2011Table2-WKS","2011 Base Data","2011 SD","2011","DN_Table11","DN_Chart_Data11","DN_Chart11","WWW_Chart11","CFS 11","2011 SD_Chart_Data","SD_Chart_ALB11","SD_Chart_REN11","SD_Chart_SAR11","SD_Chart_SCH11"],"not_rendered":{"charts":24,"images":0,"macros":0,"external_links":0,"defined_names":128,"comments":0,"pivot_tables":0},"unopened":[{"sheet":"DN_Chart12","index":8,"reason":"not_a_worksheet"},{"sheet":"WWW_Chart12","index":9,"reason":"not_a_worksheet"},{"sheet":"SD_Chart_ALB12","index":12,"reason":"not_a_worksheet"},{"sheet":"SD_Chart_REN12","index":13,"reason":"not_a_worksheet"},{"sheet":"SD_Chart_SAR12","index":14,"reason":"not_a_worksheet"},{"sheet":"SD_Chart_SCH12","index":15,"reason":"not_a_worksheet"},{"sheet":"DN_Chart11","index":24,"reason":"not_a_worksheet"},{"sheet":"WWW_Chart11","index":25,"reason":"not_a_worksheet"},{"sheet":"SD_Chart_ALB11","index":28,"reason":"not_a_worksheet"},{"sheet":"SD_Chart_REN11","index":29,"reason":"not_a_worksheet"},{"sheet":"SD_Chart_SAR11","index":30,"reason":"not_a_worksheet"},{"sheet":"SD_Chart_SCH11","index":31,"reason":"not_a_worksheet"}],"bounds":{"document_bytes":16777216,"sheet_cells":100000,"rows_first":2000,"rows_last":500,"rows_between":2000,"halvings":0,"cell_chars":16384,"cell_head_chars":4096},"cells_cut":0,"cells_raw":0,"read":"whole","date_system":"1900"}

{"sheet":"Homestead&Village NonFilers","index":0,"n_rows":25,"n_cols":4,"rows_kept":25,"cut":false,"hidden":false,"merged":[]}
[2017]
["LOCALITIES THAT IMPOSE HOMESTEAD AND NON-HOMESTEAD RATES"]
["Localities are listed by county. School districts (S.D.) may impose homestead/non-homestead rates in all or"]
["some of the towns and/or cities in which the district is located."]
[]
["Albany County"]
["Albany City"]
["Albany S.D."]
["Niskayuna S.D."]
[]
["Rensselaer County"]
["East Greenbush Town"]
["East Greenbush Central S.D."]
[]
["Schenectady County"]
["Niskayuna Town"]
["Rotterdam Town"]
["Niskayuna Central S.D."]
["Schalmont Central S.D."]
[]
[]
[]
[]
["Municipal Code","Village Name","County Location","Town Location"]
["410474705070","Village of Victory","Saratoga","Town of Saratoga"]

{"sheet":"2017 OSC","index":1,"n_rows":200,"n_cols":25,"rows_kept":200,"cut":false,"hidden":false,"merged":[[1,14,1,16],[1,17,1,24],[4,1,5,1],[4,2,5,2],[4,4,5,4],[0,1,0,3],[0,4,0,12],[1,7,1,13]]}
[null,"NOTE: Cities or Villages that reflect a zero city or village tax rate may not have filed their information with this office;  see the 2012 Non-Filers tab.",null,null,"TABLE 2 - 2017 OVERALL PROPERTY TAX RATES"]
[null,null,null,null,null,"Percent","Percent","ASSESSED VALUE TAX RATES (per $1,000 assessed valuation)",null,null,null,null,null,null,"EQUALIZATION RATES",null,null,"FULL VALUE TAX RATES (per $1,000 full valuation)"]
[null,null,null,"TOWN",null,"Of","Of City/",null,null,null,null,null,"Town",null,null,"Town","City /",null,null,null,null,null,"Town","Hide this column"]
[null,null,null,"IN WHICH",null,"School","Town",null,null,null,null,null,"Special",null,"City /","(applied to ","Town",null,null,null,null,null,"Special"]
["COUNTY","MUNICIPAL NAME","CLASS","VILLAGE IS","SCHOOL DISTRICT NAME","in","in",null,null,"City /",null,"Sub","District",null,"Town/","Village's Co. "," (applied to",null,null,"City/",null,"Sub","District"]
["NAME",null,null,"LOCATED",null,"City/Town","School","County","Town","Village","School","Total","(computed)","Total","Village","& Town AV rate)","School) ","County","Town","Village","School","Total","(computed)","SORT CODE","Total"]
["ALBANY","ALBANY","CITY",null,"ALBANY",100,100,null,null,null,null,null,null,null,null,null,null,3.72,null,11.99,24.99,{"$f":"SUM(R7:U7)","v":40.700000000000003},null,null,{"$f":"V7+W7","v":40.700000000000003}]
["ALBANY","COHOES","CITY",null,"COHOES",100,100,null,null,null,null,null,null,null,null,null,null,3.72,null,8.91,17.64,{"$f":"SUM(R8:U8)","v":30.270000000000003},null,null,{"$f":"V8+W8","v":30.270000000000003}]
["ALBANY","WATERVLIET","CITY",null,"WATERVLIET",86.76,100,null,null,null,null,null,null,null,null,null,null,3.72,null,11.1,null,14.82,null,null,14.82]
["ALBANY","BERNE","TOWN",null,"BERNE-KNOX-WESTERLO",40.85,89.94,null,null,null,null,null,null,null,null,null,null,3.72,3.09,null,19.760000000000002,26.57,null,null,26.57]
["ALBANY","BERNE","TOWN",null,"VOORHEESVILLE",1.32,4.46,null,null,null,null,null,null,null,null,null,null,3.72,3.09,null,20.65,27.46,null,null,27.46]
["ALBANY","BERNE","TOWN",null,"GREENVILLE",0.04,0.14000000000000001,null,null,null,null,null,null,null,null,null,null,3.72,3.09,null,21.7,28.509999999999998,null,null,28.509999999999998]
["ALBANY","BERNE","TOWN",null,"MIDDLEBURGH",3.1,5.44,null,null,null,null,null,null,null,null,null,null,3.72,3.09,null,21.66,28.47,null,null,28.47]
["ALBANY","BETHLEHEM","TOWN",null,"BETHLEHEM",91.95,79.7,null,null,null,null,null,null,null,null,null,null,3.72,3.64,null,22.11,29.47,null,null,29.47]
["ALBANY","BETHLEHEM","TOWN",null,"RAVENA-COEYMANS-SELKIRK",38.39,13.96,null,null,null,null,null,null,null,null,null,null,3.72,3.64,null,19.55,26.91,null,null,26.91]
["ALBANY","BETHLEHEM","TOWN",null,"GUILDERLAND",6.13,6.33,null,null,null,null,null,null,null,null,null,null,3.72,3.64,null,20.61,27.97,null,null,27.97]
["ALBANY","COEYMANS","TOWN",null,"RAVENA-COEYMANS-SELKIRK",49.05,97.59,null,null,null,null,null,null,null,null,null,null,3.72,3.14,null,null,6.86,null,null,6.86]
["ALBANY","RAVENA","VILLAGE","COEYMANS","RAVENA-COEYMANS-SELKIRK",null,null,null,null,null,null,null,null,null,null,null,null,3.72,3.14,4.97,null,11.83,null,null,11.83]
["ALBANY","COEYMANS","TOWN",null,"GREENVILLE",1.87,2.4,null,null,null,null,null,null,null,null,null,null,3.72,3.14,null,null,6.86,null,null,6.86]
["ALBANY","COLONIE","TOWN",null,"SOUTH COLONIE",90.09,39.700000000000003,null,null,null,null,null,null,null,null,null,null,3.72,3.13,null,null,6.85,null,null,6.85]
["ALBANY","COLONIE","VILLAGE","COLONIE","SOUTH COLONIE",null,null,null,null,null,null,null,null,null,null,null,null,3.72,3.13,1.5,null,8.35,null,null,8.35]
["ALBANY","COLONIE","TOWN",null,"NORTH COLONIE CENTRAL",100,52.42,null,null,null,null,null,null,null,null,null,null,3.72,3.13,null,null,6.85,null,null,6.85]
["ALBANY","COLONIE","TOWN",null,"MENANDS",100,4.32,null,null,null,null,null,null,null,null,null,null,3.72,3.13,null,null,6.85,null,null,6.85]
["ALBANY","MENANDS","VILLAGE","COLONIE","MENANDS",null,null,null,null,null,null,null,null,null,null,null,null,3.72,3.13,5.07,null,11.92,null,null,11.92]
["ALBANY","COLONIE","TOWN",null,"WATERVLIET",13.23,0.7,null,null,null,null,null,null,null,null,null,null,3.72,3.13,null,null,6.85,null,null,6.85]
["ALBANY","COLONIE","TOWN",null,"NISKAYUNA",7.06,2.2000000000000002,null,null,null,null,null,null,null,null,null,null,3.72,3.13,null,null,6.85,null,null,6.85]
["ALBANY","COLONIE","TOWN",null,"ROTTERDAM-MOHONASEN",3.82,0.64,null,null,null,null,null,null,null,null,null,null,3.72,3.13,null,null,6.85,null,null,6.85]
["ALBANY","GREEN ISLAND","TOWN",null,"GREEN ISLAND",100,100,null,null,null,null,null,null,null,null,null,null,3.72,0,null,null,3.72,null,null,3.72]
["ALBANY","GREEN ISLAND","VILLAGE","GREEN ISLAND","GREEN ISLAND",null,null,null,null,null,null,null,null,null,null,null,null,3.72,0,12.07,null,15.790000000000001,null,null,15.790000000000001]
["ALBANY","GUILDERLAND","TOWN",null,"SOUTH COLONIE",7.0000000000000007E-2,0.08,null,null,null,null,null,null,null,null,null,null,3.72,3.37,null,null,7.09,null,null,7.09]
["ALBANY","GUILDERLAND","TOWN",null,"GUILDERLAND",92.69,91.13,null,null,null,null,null,null,null,null,null,null,3.72,3.37,null,null,7.09,null,null,7.09]
["ALBANY","ALTAMONT","VILLAGE","GUILDERLAND","GUILDERLAND",null,null,null,null,null,null,null,null,null,null,null,null,3.72,3.37,2.41,null,9.5,null,null,9.5]
["ALBANY","GUILDERLAND","TOWN",null,"VOORHEESVILLE",22.95,5.72,null,null,null,null,null,null,null,null,null,null,3.72,3.37,null,null,7.09,null,null,7.09]
["ALBANY","GUILDERLAND","TOWN",null,"SCHALMONT",2.86,1.2,null,null,null,null,null,null,null,null,null,null,3.72,3.37,null,null,7.09,null,null,7.09]
["ALBANY","GUILDERLAND","TOWN",null,"ROTTERDAM-MOHONASEN",4.53,1.85,null,null,null,null,null,null,null,null,null,null,3.72,3.37,null,null,7.09,null,null,7.09]
["ALBANY","KNOX","TOWN",null,"BERNE-KNOX-WESTERLO",35.11,86.38,null,null,null,null,null,null,null,null,null,null,3.72,1.25,null,null,4.9700000000000006,null,null,4.9700000000000006]
["ALBANY","KNOX","TOWN",null,"GUILDERLAND",0.7,10.47,null,null,null,null,null,null,null,null,null,null,3.72,1.25,null,null,4.9700000000000006,null,null,4.9700000000000006]
["ALBANY","KNOX","TOWN",null,"DUANESBURG",1.36,2.3199999999999998,null,null,null,null,null,null,null,null,null,null,3.72,1.25,null,null,4.9700000000000006,null,null,4.9700000000000006]
["ALBANY","KNOX","TOWN",null,"SCHOHARIE",0.44,0.82,null,null,null,null,null,null,null,null,null,null,3.72,1.25,null,null,4.9700000000000006,null,null,4.9700000000000006]
["ALBANY","NEW SCOTLAND","TOWN",null,"BERNE-KNOX-WESTERLO",1.1100000000000001,0.65,null,null,null,null,null,null,null,null,null,null,3.72,2.85,null,null,6.57,null,null,6.57]
["ALBANY","NEW SCOTLAND","TOWN",null,"BETHLEHEM",8.0399999999999991,23.8,null,null,null,null,null,null,null,null,null,null,3.72,2.85,null,null,6.57,null,null,6.57]
["ALBANY","NEW SCOTLAND","TOWN",null,"RAVENA-COEYMANS-SELKIRK",4.9000000000000004,6.09,null,null,null,null,null,null,null,null,null,null,3.72,2.85,null,null,6.57,null,null,6.57]
["ALBANY","NEW SCOTLAND","TOWN",null,"GUILDERLAND",0.45,1.61,null,null,null,null,null,null,null,null,null,null,3.72,2.85,null,null,6.57,null,null,6.57]
["ALBANY","NEW SCOTLAND","TOWN",null,"VOORHEESVILLE",75.709999999999994,67.72,null,null,null,null,null,null,null,null,null,null,3.72,2.85,null,null,6.57,null,null,6.57]
["ALBANY","VOORHEESVILLE","VILLAGE","NEW SCOTLAND","VOORHEESVILLE",null,null,null,null,null,null,null,null,null,null,null,null,3.72,2.85,1.26,null,7.83,null,null,7.83]
["ALBANY","NEW SCOTLAND","TOWN",null,"GREENVILLE",0.13,0.1,null,null,null,null,null,null,null,null,null,null,3.72,2.85,null,null,6.57,null,null,6.57]
["ALBANY","RENSSELAERVILLE","TOWN",null,"BERNE-KNOX-WESTERLO",0.06,0.15,null,null,null,null,null,null,null,null,null,null,3.72,5.69,null,null,9.41,null,null,9.41]
["ALBANY","RENSSELAERVILLE","TOWN",null,"CAIRO-DURHAM",1.23,4.7300000000000004,null,null,null,null,null,null,null,null,null,null,3.72,5.69,null,null,9.41,null,null,9.41]
["ALBANY","RENSSELAERVILLE","TOWN",null,"GREENVILLE",18.440000000000001,61.53,null,null,null,null,null,null,null,null,null,null,3.72,5.69,null,null,9.41,null,null,9.41]
["ALBANY","RENSSELAERVILLE","TOWN",null,"MIDDLEBURGH",17.309999999999999,33.56,null,null,null,null,null,null,null,null,null,null,3.72,5.69,null,null,9.41,null,null,9.41]
["ALBANY","WESTERLO","TOWN",null,"BERNE-KNOX-WESTERLO",22.76,43.25,null,null,null,null,null,null,null,null,null,null,3.72,4.6900000000000004,null,null,8.41,null,null,8.41]
["ALBANY","WESTERLO","TOWN",null,"GREENVILLE",21.8,56.74,null,null,null,null,null,null,null,null,null,null,3.72,4.6900000000000004,null,null,8.41,null,null,8.41]
[]
["RENSSELAER","RENSSELAER","CITY",null,"RENSSELAER",100,100]
["RENSSELAER","TROY","CITY",null,"TROY",81.260000000000005,72.45]
["RENSSELAER","TROY","CITY",null,"LANSINGBURGH",62.83,27.54]
["RENSSELAER","BERLIN","TOWN",null,"BERLIN",23.88,89.87]
["RENSSELAER","BERLIN","TOWN",null,"AVERILL PARK",1.03,10.119999999999999]
["RENSSELAER","BRUNSWICK","TOWN",null,"BRUNSWICK",65.430000000000007,41.31]
["RENSSELAER","BRUNSWICK","TOWN",null,"TROY",18.73,31.21]
["RENSSELAER","BRUNSWICK","TOWN",null,"LANSINGBURGH",14.84,12.15]
["RENSSELAER","BRUNSWICK","TOWN",null,"WYNANTSKILL",0,0]
["RENSSELAER","BRUNSWICK","TOWN",null,"AVERILL PARK",9.86,15.31]
["RENSSELAER","EAST GREENBUSH","TOWN",null,"EAST GREENBUSH",56.71,99.44]
["RENSSELAER","EAST GREENBUSH","TOWN",null,"AVERILL PARK",0.55000000000000004,0.55000000000000004]
["RENSSELAER","GRAFTON","TOWN",null,"BERLIN",26.54,75.540000000000006]
["RENSSELAER","GRAFTON","TOWN",null,"BRUNSWICK",5.4,16.190000000000001]
["RENSSELAER","GRAFTON","TOWN",null,"HOOSICK FALLS",3.51,8.26]
["RENSSELAER","HOOSICK","TOWN",null,"HOOSICK FALLS",77.239999999999995,94.1]
["RENSSELAER","HOOSICK FALLS","VILLAGE","HOOSICK","HOOSICK FALLS"]
["RENSSELAER","HOOSICK","TOWN",null,"CAMBRIDGE",4.37,5.89]
["RENSSELAER","NASSAU","TOWN",null,"KINDERHOOK",0.73,2.65]
["RENSSELAER","NASSAU","TOWN",null,"NEW LEBANON",6.79,12.1]
["RENSSELAER","EAST NASSAU","VILLAGE","NASSAU","NEW LEBANON"]
["RENSSELAER","NASSAU","TOWN",null,"EAST GREENBUSH",6.46,46.19]
["RENSSELAER","EAST NASSAU","VILLAGE","NASSAU","EAST GREENBUSH"]
["RENSSELAER","NASSAU","VILLAGE","NASSAU","EAST GREENBUSH"]
["RENSSELAER","NASSAU","TOWN",null,"AVERILL PARK",9.51,39.04]
["RENSSELAER","EAST NASSAU","VILLAGE","NASSAU","AVERILL PARK"]
["RENSSELAER","NORTH GREENBUSH","TOWN",null,"EAST GREENBUSH",15.53,43.93]
["RENSSELAER","NORTH GREENBUSH","TOWN",null,"NORTH GREENBUSH",100,16.37]
["RENSSELAER","NORTH GREENBUSH","TOWN",null,"WYNANTSKILL",99.89,24.68]
["RENSSELAER","NORTH GREENBUSH","TOWN",null,"AVERILL PARK",9.24,15]
["RENSSELAER","PETERSBURGH","TOWN",null,"BERLIN",16.5,78.739999999999995]
["RENSSELAER","PETERSBURGH","TOWN",null,"HOOSICK FALLS",5.39,21.25]
["RENSSELAER","PITTSTOWN","TOWN",null,"BRUNSWICK",27.53,44.8]
["RENSSELAER","PITTSTOWN","TOWN",null,"HOOSICK FALLS",5.85,7.47]
["RENSSELAER","PITTSTOWN","TOWN",null,"LANSINGBURGH",0,0]
["RENSSELAER","PITTSTOWN","TOWN",null,"HOOSIC VALLEY",36.14,47.62]
["RENSSELAER","VALLEY FALLS","VILLAGE","PITTSTOWN","HOOSIC VALLEY"]
["RENSSELAER","PITTSTOWN","TOWN",null,"CAMBRIDGE",0.06,0.09]
["RENSSELAER","POESTENKILL","TOWN",null,"BERLIN",3.07,5.34]
["RENSSELAER","POESTENKILL","TOWN",null,"BRUNSWICK",1.26,2.2999999999999998]
["RENSSELAER","POESTENKILL","TOWN",null,"WYNANTSKILL",0.09,0.06]
["RENSSELAER","POESTENKILL","TOWN",null,"AVERILL PARK",20.48,92.27]
["RENSSELAER","SAND LAKE","TOWN",null,"EAST GREENBUSH",1.44,5.21]
["RENSSELAER","SAND LAKE","TOWN",null,"AVERILL PARK",45.85,94.78]
["RENSSELAER","SCHAGHTICOKE","TOWN",null,"BRUNSWICK",0.36,0.38]
["RENSSELAER","SCHAGHTICOKE","TOWN",null,"LANSINGBURGH",22.31,30.92]
["RENSSELAER","SCHAGHTICOKE","TOWN",null,"HOOSIC VALLEY",63.06,54.55]
["RENSSELAER","SCHAGHTICOKE","VILLAGE","SCHAGHTICOKE","HOOSIC VALLEY"]
["RENSSELAER","VALLEY FALLS","VILLAGE","SCHAGHTICOKE","HOOSIC VALLEY"]
["RENSSELAER","SCHAGHTICOKE","TOWN",null,"MECHANICVILLE",12.31,13.75]
["RENSSELAER","SCHAGHTICOKE","TOWN",null,"STILLWATER",0.05,0.06]
["RENSSELAER","SCHAGHTICOKE","TOWN",null,"CAMBRIDGE",0.33,0.31]
["RENSSELAER","SCHODACK","TOWN",null,"KINDERHOOK",2.78,3.23]
["RENSSELAER","SCHODACK","TOWN",null,"EAST GREENBUSH",19.8,45.49]
["RENSSELAER","NASSAU","VILLAGE","SCHODACK","EAST GREENBUSH"]
["RENSSELAER","SCHODACK","TOWN",null,"AVERILL PARK",1.49,1.96]
["RENSSELAER","SCHODACK","TOWN",null,"SCHODACK",99.17,49.3]
["RENSSELAER","CASTLETON-ON-HUDSON","VILLAGE","SCHODACK","SCHODACK"]
["RENSSELAER","STEPHENTOWN","TOWN",null,"NEW LEBANON",9.0399999999999991,22.5]
["RENSSELAER","STEPHENTOWN","TOWN",null,"BERLIN",29.99,66.33]
["RENSSELAER","STEPHENTOWN","TOWN",null,"AVERILL PARK",1.94,11.15]
[]
["SARATOGA","MECHANICVILLE","CITY",null,"MECHANICVILLE",32.35,100]
["SARATOGA","SARATOGA SPRINGS","CITY",null,"SARATOGA SPRINGS",61.21,100]
["SARATOGA","BALLSTON","TOWN",null,"BURNT HILLS-BALLSTON LAKE",36.5,70.59]
["SARATOGA","BALLSTON","TOWN",null,"SHENENDEHOWA",0.63,4.2300000000000004]
["SARATOGA","BALLSTON","TOWN",null,"BALLSTON SPA",9.89,25.17]
["SARATOGA","BALLSTON SPA","VILLAGE","BALLSTON","BALLSTON SPA"]
["SARATOGA","CHARLTON","TOWN",null,"AMSTERDAM",0.04,0.09]
["SARATOGA","CHARLTON","TOWN",null,"BURNT HILLS-BALLSTON LAKE",19.600000000000001,79.5]
["SARATOGA","CHARLTON","TOWN",null,"GALWAY",12.62,19.57]
["SARATOGA","CHARLTON","TOWN",null,"BALLSTON SPA",0.05,0.27]
["SARATOGA","CHARLTON","TOWN",null,"SCOTIA-GLENVILLE",0.17,0.54]
["SARATOGA","CLIFTON PARK","TOWN",null,"BURNT HILLS-BALLSTON LAKE",6.08,2.7]
["SARATOGA","CLIFTON PARK","TOWN",null,"SHENENDEHOWA",60.84,93.46]
["SARATOGA","CLIFTON PARK","TOWN",null,"NISKAYUNA",5.71,3.82]
["SARATOGA","CORINTH","TOWN",null,"CORINTH",83.46,100]
["SARATOGA","CORINTH","VILLAGE","CORINTH","CORINTH"]
["SARATOGA","DAY","TOWN",null,"CORINTH",0.66,1.49]
["SARATOGA","DAY","TOWN",null,"EDINBURG",11.55,14.35]
["SARATOGA","DAY","TOWN",null,"HADLEY-LUZERNE",25.1,84.14]
["SARATOGA","EDINBURG","TOWN",null,"BROADALBIN-PERTH",3.1,6.59]
["SARATOGA","EDINBURG","TOWN",null,"NORTHVILLE",7.0000000000000007E-2,0.09]
["SARATOGA","EDINBURG","TOWN",null,"EDINBURG",88.19,92.96]
["SARATOGA","EDINBURG","TOWN",null,"HADLEY-LUZERNE",0.12,0.34]
["SARATOGA","GALWAY","TOWN",null,"BROADALBIN-PERTH",0.9,1.69]
["SARATOGA","GALWAY","TOWN",null,"GALWAY",59.62,98.3]
["SARATOGA","GALWAY","VILLAGE","GALWAY","GALWAY"]
["SARATOGA","GREENFIELD","TOWN",null,"CORINTH",9.34,8.66]
["SARATOGA","GREENFIELD","TOWN",null,"SARATOGA SPRINGS",10.99,91.33]
["SARATOGA","HADLEY","TOWN",null,"CORINTH",2.44,6.18]
["SARATOGA","HADLEY","TOWN",null,"HADLEY-LUZERNE",24.92,93.81]
["SARATOGA","HALFMOON","TOWN",null,"SHENENDEHOWA",28.89,87.53]
["SARATOGA","HALFMOON","TOWN",null,"MECHANICVILLE",33.74,11.12]
["SARATOGA","HALFMOON","TOWN",null,"WATERFORD-HALFMOON",6.17,1.33]
["SARATOGA","MALTA","TOWN",null,"SHENENDEHOWA",7.02,27.8]
["SARATOGA","ROUND LAKE","VILLAGE","MALTA","SHENENDEHOWA"]
["SARATOGA","MALTA","TOWN",null,"SARATOGA SPRINGS",0.08,0.32]
["SARATOGA","MALTA","TOWN",null,"BALLSTON SPA",47.66,71.87]
["SARATOGA","MILTON","TOWN",null,"GALWAY",3.47,1.88]
["SARATOGA","MILTON","TOWN",null,"SARATOGA SPRINGS",3.78,18.88]
["SARATOGA","MILTON","TOWN",null,"BALLSTON SPA",42.38,79.22]
["SARATOGA","BALLSTON SPA","VILLAGE","MILTON","BALLSTON SPA"]
["SARATOGA","MOREAU","TOWN",null,"SOUTH GLENS FALLS",72.790000000000006,96.75]
["SARATOGA","SOUTH GLENS FALLS","VILLAGE","MOREAU","SOUTH GLENS FALLS"]
["SARATOGA","MOREAU","TOWN",null,"HUDSON FALLS",5.1100000000000003,3.24]
["SARATOGA","NORTHUMBERLAND","TOWN",null,"SOUTH GLENS FALLS",6.01,29.26]
["SARATOGA","NORTHUMBERLAND","TOWN",null,"SCHUYLERVILLE",30.72,70.73]
["SARATOGA","PROVIDENCE","TOWN",null,"BROADALBIN-PERTH",5.8,23.89]
["SARATOGA","PROVIDENCE","TOWN",null,"GALWAY",21.03,76.099999999999994]
["SARATOGA","SARATOGA","TOWN",null,"SARATOGA SPRINGS",0.48,5.76]
["SARATOGA","SARATOGA","TOWN",null,"SCHUYLERVILLE",49.72,77.510000000000005]
["SARATOGA","SCHUYLERVILLE","VILLAGE","SARATOGA","SCHUYLERVILLE"]
["SARATOGA","VICTORY","VILLAGE","SARATOGA","SCHUYLERVILLE"]
["SARATOGA","SARATOGA","TOWN",null,"STILLWATER",13.14,16.72]
["SARATOGA","STILLWATER","TOWN",null,"SHENENDEHOWA",0.03,0.26]
["SARATOGA","STILLWATER","TOWN",null,"MECHANICVILLE",21.59,20]
["SARATOGA","STILLWATER","TOWN",null,"SCHUYLERVILLE",0.28999999999999998,0.33]
["SARATOGA","STILLWATER","TOWN",null,"STILLWATER",84.78,79.39]
["SARATOGA","STILLWATER","VILLAGE","STILLWATER","STILLWATER"]
["SARATOGA","WATERFORD","TOWN",null,"SHENENDEHOWA",2.56,27.68]
["SARATOGA","WATERFORD","TOWN",null,"WATERFORD-HALFMOON",93.82,72.31]
["SARATOGA","WATERFORD","VILLAGE","WATERFORD","WATERFORD-HALFMOON"]
["SARATOGA","WILTON","TOWN",null,"CORINTH",0,0]
["SARATOGA","WILTON","TOWN",null,"SARATOGA SPRINGS",23.43,76.180000000000007]
["SARATOGA","WILTON","TOWN",null,"SOUTH GLENS FALLS",21.18,19.27]
["SARATOGA","WILTON","TOWN",null,"SCHUYLERVILLE",10.56,4.54]
[]
["SCHENECTADY","SCHENECTADY","CITY",null,"SCHENECTADY",97.54,100]
["SCHENECTADY","DUANESBURG","TOWN",null,"AMSTERDAM",0.12,0.26]
["SCHENECTADY","DUANESBURG","TOWN",null,"DUANESBURG",94.31,76.52]
["SCHENECTADY","DELANSON","VILLAGE","DUANESBURG","DUANESBURG"]
["SCHENECTADY","DUANESBURG","TOWN",null,"SCHALMONT",7.02,21.23]
["SCHENECTADY","DUANESBURG","TOWN",null,"SCHOHARIE",2.23,1.96]
["SCHENECTADY","GLENVILLE","TOWN",null,"AMSTERDAM",1.47,0.68]
["SCHENECTADY","GLENVILLE","TOWN",null,"BURNT HILLS-BALLSTON LAKE",37.81,29.73]
["SCHENECTADY","GLENVILLE","TOWN",null,"GALWAY",0.14000000000000001,0.04]
["SCHENECTADY","GLENVILLE","TOWN",null,"SCOTIA-GLENVILLE",99.75,60.54]
["SCHENECTADY","SCOTIA","VILLAGE","GLENVILLE","SCOTIA-GLENVILLE"]
["SCHENECTADY","GLENVILLE","TOWN",null,"NISKAYUNA",7.6,8.98]
["SCHENECTADY","NISKAYUNA","TOWN",null,"SOUTH COLONIE",9.82,14.83]
["SCHENECTADY","NISKAYUNA","TOWN",null,"NISKAYUNA",79.599999999999994,85.16]
["SCHENECTADY","PRINCETOWN","TOWN",null,"DUANESBURG",0.19,0.43]
["SCHENECTADY","PRINCETOWN","TOWN",null,"SCHALMONT",12.09,99.56]
["SCHENECTADY","ROTTERDAM","TOWN",null,"SCHENECTADY",2.4500000000000002,2.41]
["SCHENECTADY","ROTTERDAM","TOWN",null,"SCHALMONT",77.36,45.43]
["SCHENECTADY","ROTTERDAM","TOWN",null,"ROTTERDAM-MOHONASEN",91.63,52.14]

{"sheet":"2017 WKS","index":2,"n_rows":283,"n_cols":23,"rows_kept":283,"cut":false,"hidden":false,"merged":[]}
[2012,null,"NOTE: Villages that reflect a zero village tax rate probably have not filed their information with this office;  see the 2011 Village Non-Filers tab.",null,"TABLE 2 - 2011 OVERALL PROPERTY TAX RATES"]
[null,"2009-03-30",null,null,null,"ASSESSED VALUE TAX RATES (per $1,000 assessed valuation)",null,null,null,null,"EQUALIZATION RATES",null,null,"FULL VALUE TAX RATES (per $1,000 full valuation)"]
[null,null,null,"TOWN",null,null,null,null,null,null,null,"Town","City /",null,null,null,null,null,null,null,null,"TOWN"]
[null,null,null,"IN WHICH",null,null,null,null,null,null,"City /","(applied to ","Town",null,null,null,null,null,null,null,null,"IN WHICH"]
[null,"COUNTY","MUNICIPAL NAME","VILLAGE IS","SCHOOL DISTRICT NAME",null,null,"City /",null,"Sub","Town/","Village's Co. "," (applied to",null,null,"City/",null,"Sub",null,"COUNTY","MUNICIPAL NAME","VILLAGE IS","SCHOOL DISTRICT NAME"]
["Area","NAME",null,"LOCATED",null,"County","Town","Village","School","Total","Village","& Town AV rate)","School) ","County","Town","Village","School","Total",null,"NAME",null,"LOCATED"]
["Albany County"]
["City of Albany"]
["Albany City SD","ALBANY","ALBANY",null,"ALBANY",null,null,null,null,null,null,null,null,{"$f":"'2017 OSC'!R7","v":3.72},{"$f":"'2017 OSC'!S7","v":0},{"$f":"'2017 OSC'!T7","v":11.99},{"$f":"'2017 OSC'!U7","v":24.99},{"$f":"'2017 OSC'!V7","v":40.700000000000003},null,{"$f":"IF(B9<>'2017 Base Data'!B9,1,0)","v":0},{"$f":"IF(C9<>'2017 Base Data'!C9,1,0)","v":0},{"$f":"IF(D9<>'2017 Base Data'!D9,1,0)","v":0},{"$f":"IF(E9<>'2017 Base Data'!E9,1,0)","v":0}]
["Town of Berne",null,null,null,null,null,null,null,null,null,null,null,null,null,null,null,null,null,null,{"$f":"IF(B10<>'2017 Base Data'!B10,1,0)","v":0},{"$f":"IF(C10<>'2017 Base Data'!C10,1,0)","v":0},{"$f":"IF(D10<>'2017 Base Data'!D10,1,0)","v":0},{"$f":"IF(E10<>'2017 Base Data'!E10,1,0)","v":0}]
["Berne-Knox-Westerlo CSD","ALBANY","BERNE",null,"BERNE-KNOX-WESTERLO",null,null,null,null,null,null,null,null,{"$f":"'2017 OSC'!R10","v":3.72},{"$f":"'2017 OSC'!S10","v":3.09},{"$f":"'2017 OSC'!T10","v":0},{"$f":"'2017 OSC'!U10","v":19.760000000000002},{"$f":"'2017 OSC'!V10","v":26.57},null,{"$f":"IF(B11<>'2017 Base Data'!B11,1,0)","v":0},{"$f":"IF(C11<>'2017 Base Data'!C11,1,0)","v":0},{"$f":"IF(D11<>'2017 Base Data'!D11,1,0)","v":0},{"$f":"IF(E11<>'2017 Base Data'!E11,1,0)","v":0}]
["Greenville CSD","ALBANY","BERNE",null,"GREENVILLE",null,null,null,null,null,null,null,null,{"$f":"'2017 OSC'!R12","v":3.72},{"$f":"'2017 OSC'!S12","v":3.09},{"$f":"'2017 OSC'!T12","v":0},{"$f":"'2017 OSC'!U12","v":21.7},{"$f":"'2017 OSC'!V12","v":28.509999999999998},null,{"$f":"IF(B12<>'2017 Base Data'!B12,1,0)","v":0},{"$f":"IF(C12<>'2017 Base Data'!C12,1,0)","v":0},{"$f":"IF(D12<>'2017 Base Data'!D12,1,0)","v":0},{"$f":"IF(E12<>'2017 Base Data'!E12,1,0)","v":0}]
["Middleburgh CSD","ALBANY","BERNE",null,"MIDDLEBURGH",null,null,null,null,null,null,null,null,{"$f":"'2017 OSC'!R13","v":3.72},{"$f":"'2017 OSC'!S13","v":3.09},{"$f":"'2017 OSC'!T13","v":0},{"$f":"'2017 OSC'!U13","v":21.66},{"$f":"'2017 OSC'!V13","v":28.47},null,{"$f":"IF(B13<>'2017 Base Data'!B13,1,0)","v":0},{"$f":"IF(C13<>'2017 Base Data'!C13,1,0)","v":0},{"$f":"IF(D13<>'2017 Base Data'!D13,1,0)","v":0},{"$f":"IF(E13<>'2017 Base Data'!E13,1,0)","v":0}]
["Voorheesville CSD","ALBANY","BERNE",null,"VOORHEESVILLE",null,null,null,null,null,null,null,null,{"$f":"'2017 OSC'!R11","v":3.72},{"$f":"'2017 OSC'!S11","v":3.09},{"$f":"'2017 OSC'!T11","v":0},{"$f":"'2017 OSC'!U11","v":20.65},{"$f":"'2017 OSC'!V11","v":27.46},null,{"$f":"IF(B14<>'2017 Base Data'!B14,1,0)","v":0},{"$f":"IF(C14<>'2017 Base Data'!C14,1,0)","v":0},{"$f":"IF(D14<>'2017 Base Data'!D14,1,0)","v":0},{"$f":"IF(E14<>'2017 Base Data'!E14,1,0)","v":0}]
["Town of Bethlehem",null,null,null,null,null,null,null,null,null,null,null,null,null,null,null,null,null,null,{"$f":"IF(B15<>'2017 Base Data'!B15,1,0)","v":0},{"$f":"IF(C15<>'2017 Base Data'!C15,1,0)","v":0},{"$f":"IF(D15<>'2017 Base Data'!D15,1,0)","v":0},{"$f":"IF(E15<>'2017 Base Data'!E15,1,0)","v":0}]
["Bethlehem CSD","ALBANY","BETHLEHEM",null,"BETHLEHEM",null,null,null,null,null,null,null,null,null,null,null,null,null,null,{"$f":"IF(B16<>'2017 Base Data'!B16,1,0)","v":0},{"$f":"IF(C16<>'2017 Base Data'!C16,1,0)","v":0},{"$f":"IF(D16<>'2017 Base Data'!D16,1,0)","v":0},{"$f":"IF(E16<>'2017 Base Data'!E16,1,0)","v":0}]
["Guilderland CSD","ALBANY","BETHLEHEM",null,"GUILDERLAND",null,null,null,null,null,null,null,null,null,null,null,null,null,null,{"$f":"IF(B17<>'2017 Base Data'!B17,1,0)","v":0},{"$f":"IF(C17<>'2017 Base Data'!C17,1,0)","v":0},{"$f":"IF(D17<>'2017 Base Data'!D17,1,0)","v":0},{"$f":"IF(E17<>'2017 Base Data'!E17,1,0)","v":0}]
["Ravena-Coeymans-Selkirk CSD","ALBANY","BETHLEHEM",null,"RAVENA-COEYMANS-SELKIRK",null,null,null,null,null,null,null,null,null,null,null,null,null,null,{"$f":"IF(B18<>'2017 Base Data'!B18,1,0)","v":0},{"$f":"IF(C18<>'2017 Base Data'!C18,1,0)","v":0},{"$f":"IF(D18<>'2017 Base Data'!D18,1,0)","v":0},{"$f":"IF(E18<>'2017 Base Data'!E18,1,0)","v":0}]
["Town of Coeymans",null,null,null,null,null,null,null,null,null,null,null,null,null,null,null,null,null,null,{"$f":"IF(B19<>'2017 Base Data'!B19,1,0)","v":0},{"$f":"IF(C19<>'2017 Base Data'!C19,1,0)","v":0},{"$f":"IF(D19<>'2017 Base Data'!D19,1,0)","v":0},{"$f":"IF(E19<>'2017 Base Data'!E19,1,0)","v":0}]
["Greenville CSD","ALBANY","COEYMANS",null,"GREENVILLE",null,null,null,null,null,null,null,null,null,null,null,null,null,null,{"$f":"IF(B20<>'2017 Base Data'!B20,1,0)","v":0},{"$f":"IF(C20<>'2017 Base Data'!C20,1,0)","v":0},{"$f":"IF(D20<>'2017 Base Data'!D20,1,0)","v":0},{"$f":"IF(E20<>'2017 Base Data'!E20,1,0)","v":0}]
["Ravena-Coeymans-Selkirk CSD","ALBANY","COEYMANS",null,"RAVENA-COEYMANS-SELKIRK",null,null,null,null,null,null,null,null,null,null,null,null,null,null,{"$f":"IF(B21<>'2017 Base Data'!B21,1,0)","v":0},{"$f":"IF(C21<>'2017 Base Data'!C21,1,0)","v":0},{"$f":"IF(D21<>'2017 Base Data'!D21,1,0)","v":0},{"$f":"IF(E21<>'2017 Base Data'!E21,1,0)","v":0}]
["Village of Ravena",null,null,null,null,null,null,null,null,null,null,null,null,null,null,null,null,null,null,{"$f":"IF(B22<>'2017 Base Data'!B22,1,0)","v":0},{"$f":"IF(C22<>'2017 Base Data'!C22,1,0)","v":0},{"$f":"IF(D22<>'2017 Base Data'!D22,1,0)","v":0},{"$f":"IF(E22<>'2017 Base Data'!E22,1,0)","v":0}]
["Ravena-Coeymans-Selkirk CSD","ALBANY","RAVENA","COEYMANS","RAVENA-COEYMANS-SELKIRK",null,null,null,null,null,null,null,null,null,null,null,null,null,null,{"$f":"IF(B23<>'2017 Base Data'!B23,1,0)","v":0},{"$f":"IF(C23<>'2017 Base Data'!C23,1,0)","v":0},{"$f":"IF(D23<>'2017 Base Data'!D23,1,0)","v":0},{"$f":"IF(E23<>'2017 Base Data'!E23,1,0)","v":0}]
["City of Cohoes",null,null,null,null,null,null,null,null,null,null,null,null,null,null,null,null,null,null,{"$f":"IF(B24<>'2017 Base Data'!B24,1,0)","v":0},{"$f":"IF(C24<>'2017 Base Data'!C24,1,0)","v":0},{"$f":"IF(D24<>'2017 Base Data'!D24,1,0)","v":0},{"$f":"IF(E24<>'2017 Base Data'!E24,1,0)","v":0}]
["Cohoes City SD","ALBANY","COHOES",null,"COHOES",null,null,null,null,null,null,null,null,null,null,null,null,null,null,{"$f":"IF(B25<>'2017 Base Data'!B25,1,0)","v":0},{"$f":"IF(C25<>'2017 Base Data'!C25,1,0)","v":0},{"$f":"IF(D25<>'2017 Base Data'!D25,1,0)","v":0},{"$f":"IF(E25<>'2017 Base Data'!E25,1,0)","v":0}]
["Town of Colonie",null,null,null,null,null,null,null,null,null,null,null,null,null,null,null,null,null,null,{"$f":"IF(B26<>'2017 Base Data'!B26,1,0)","v":0},{"$f":"IF(C26<>'2017 Base Data'!C26,1,0)","v":0},{"$f":"IF(D26<>'2017 Base Data'!D26,1,0)","v":0},{"$f":"IF(E26<>'2017 Base Data'!E26,1,0)","v":0}]
["Menands UFSD","ALBANY","COLONIE",null,"MENANDS",null,null,null,null,null,null,null,null,null,null,null,null,null,null,{"$f":"IF(B27<>'2017 Base Data'!B27,1,0)","v":0},{"$f":"IF(C27<>'2017 Base Data'!C27,1,0)","v":0},{"$f":"IF(D27<>'2017 Base Data'!D27,1,0)","v":0},{"$f":"IF(E27<>'2017 Base Data'!E27,1,0)","v":0}]
["Niskayuna CSD","ALBANY","COLONIE",null,"NISKAYUNA",null,null,null,null,null,null,null,null,null,null,null,null,null,null,{"$f":"IF(B28<>'2017 Base Data'!B28,1,0)","v":0},{"$f":"IF(C28<>'2017 Base Data'!C28,1,0)","v":0},{"$f":"IF(D28<>'2017 Base Data'!D28,1,0)","v":0},{"$f":"IF(E28<>'2017 Base Data'!E28,1,0)","v":0}]
["North Colonie CSD","ALBANY","COLONIE",null,"NORTH COLONIE CENTRAL",null,null,null,null,null,null,null,null,null,null,null,null,null,null,{"$f":"IF(B29<>'2017 Base Data'!B29,1,0)","v":0},{"$f":"IF(C29<>'2017 Base Data'!C29,1,0)","v":0},{"$f":"IF(D29<>'2017 Base Data'!D29,1,0)","v":0},{"$f":"IF(E29<>'2017 Base Data'!E29,1,0)","v":0}]
["Rotterdam-Mohonasen CSD","ALBANY","COLONIE",null,"ROTTERDAM-MOHONASEN",null,null,null,null,null,null,null,null,null,null,null,null,null,null,{"$f":"IF(B30<>'2017 Base Data'!B30,1,0)","v":0},{"$f":"IF(C30<>'2017 Base Data'!C30,1,0)","v":0},{"$f":"IF(D30<>'2017 Base Data'!D30,1,0)","v":0},{"$f":"IF(E30<>'2017 Base Data'!E30,1,0)","v":0}]
["South Colonie CSD","ALBANY","COLONIE",null,"SOUTH COLONIE",null,null,null,null,null,null,null,null,null,null,null,null,null,null,{"$f":"IF(B31<>'2017 Base Data'!B31,1,0)","v":0},{"$f":"IF(C31<>'2017 Base Data'!C31,1,0)","v":0},{"$f":"IF(D31<>'2017 Base Data'!D31,1,0)","v":0},{"$f":"IF(E31<>'2017 Base Data'!E31,1,0)","v":0}]
["Watervliet City SD","ALBANY","COLONIE",null,"WATERVLIET",null,null,null,null,null,null,null,null,null,null,null,null,null,null,{"$f":"IF(B32<>'2017 Base Data'!B32,1,0)","v":0},{"$f":"IF(C32<>'2017 Base Data'!C32,1,0)","v":0},{"$f":"IF(D32<>'2017 Base Data'!D32,1,0)","v":0},{"$f":"IF(E32<>'2017 Base Data'!E32,1,0)","v":0}]
["Village of Colonie",null,null,null,null,null,null,null,null,null,null,null,null,null,null,null,null,null,null,{"$f":"IF(B33<>'2017 Base Data'!B33,1,0)","v":0},{"$f":"IF(C33<>'2017 Base Data'!C33,1,0)","v":0},{"$f":"IF(D33<>'2017 Base Data'!D33,1,0)","v":0},{"$f":"IF(E33<>'2017 Base Data'!E33,1,0)","v":0}]
["South Colonie CSD","ALBANY","COLONIE","COLONIE","SOUTH COLONIE",null,null,null,null,null,null,null,null,null,null,null,null,null,null,{"$f":"IF(B34<>'2017 Base Data'!B34,1,0)","v":0},{"$f":"IF(C34<>'2017 Base Data'!C34,1,0)","v":0},{"$f":"IF(D34<>'2017 Base Data'!D34,1,0)","v":0},{"$f":"IF(E34<>'2017 Base Data'!E34,1,0)","v":0}]
["Village of Menands",null,null,null,null,null,null,null,null,null,null,null,null,null,null,null,null,null,null,{"$f":"IF(B35<>'2017 Base Data'!B35,1,0)","v":0},{"$f":"IF(C35<>'2017 Base Data'!C35,1,0)","v":0},{"$f":"IF(D35<>'2017 Base Data'!D35,1,0)","v":0},{"$f":"IF(E35<>'2017 Base Data'!E35,1,0)","v":0}]
["Menands UFSD","ALBANY","MENANDS","COLONIE","MENANDS",null,null,null,null,null,null,null,null,null,null,null,null,null,null,{"$f":"IF(B36<>'2017 Base Data'!B36,1,0)","v":0},{"$f":"IF(C36<>'2017 Base Data'!C36,1,0)","v":0},{"$f":"IF(D36<>'2017 Base Data'!D36,1,0)","v":0},{"$f":"IF(E36<>'2017 Base Data'!E36,1,0)","v":0}]
["Town of Green Island",null,null,null,null,null,null,null,null,null,null,null,null,null,null,null,null,null,null,{"$f":"IF(B37<>'2017 Base Data'!B37,1,0)","v":0},{"$f":"IF(C37<>'2017 Base Data'!C37,1,0)","v":0},{"$f":"IF(D37<>'2017 Base Data'!D37,1,0)","v":0},{"$f":"IF(E37<>'2017 Base Data'!E37,1,0)","v":0}]
["Village of Green Island"]
["Green Island UFSD","ALBANY","GREEN ISLAND","GREEN ISLAND","GREEN ISLAND",null,null,null,null,null,null,null,null,null,null,null,null,null,null,{"$f":"IF(B39<>'2017 Base Data'!B39,1,0)","v":0},{"$f":"IF(C39<>'2017 Base Data'!C39,1,0)","v":0},{"$f":"IF(D39<>'2017 Base Data'!D39,1,0)","v":0},{"$f":"IF(E39<>'2017 Base Data'!E39,1,0)","v":0}]
["Town of Guilderland",null,null,null,null,null,null,null,null,null,null,null,null,null,null,null,null,null,null,{"$f":"IF(B40<>'2017 Base Data'!B40,1,0)","v":0},{"$f":"IF(C40<>'2017 Base Data'!C40,1,0)","v":0},{"$f":"IF(D40<>'2017 Base Data'!D40,1,0)","v":0},{"$f":"IF(E40<>'2017 Base Data'!E40,1,0)","v":0}]
["Guilderland CSD","ALBANY","GUILDERLAND",null,"GUILDERLAND",null,null,null,null,null,null,null,null,null,null,null,null,null,null,{"$f":"IF(B41<>'2017 Base Data'!B41,1,0)","v":0},{"$f":"IF(C41<>'2017 Base Data'!C41,1,0)","v":0},{"$f":"IF(D41<>'2017 Base Data'!D41,1,0)","v":0},{"$f":"IF(E41<>'2017 Base Data'!E41,1,0)","v":0}]
["Rotterdam-Mohonasen CSD","ALBANY","GUILDERLAND",null,"ROTTERDAM-MOHONASEN",null,null,null,null,null,null,null,null,null,null,null,null,null,null,{"$f":"IF(B42<>'2017 Base Data'!B42,1,0)","v":0},{"$f":"IF(C42<>'2017 Base Data'!C42,1,0)","v":0},{"$f":"IF(D42<>'2017 Base Data'!D42,1,0)","v":0},{"$f":"IF(E42<>'2017 Base Data'!E42,1,0)","v":0}]
["Schalmont CSD","ALBANY","GUILDERLAND",null,"SCHALMONT",null,null,null,null,null,null,null,null,null,null,null,null,null,null,{"$f":"IF(B43<>'2017 Base Data'!B43,1,0)","v":0},{"$f":"IF(C43<>'2017 Base Data'!C43,1,0)","v":0},{"$f":"IF(D43<>'2017 Base Data'!D43,1,0)","v":0},{"$f":"IF(E43<>'2017 Base Data'!E43,1,0)","v":0}]
["South Colonie CSD","ALBANY","GUILDERLAND",null,"SOUTH COLONIE",null,null,null,null,null,null,null,null,null,null,null,null,null,null,{"$f":"IF(B44<>'2017 Base Data'!B44,1,0)","v":0},{"$f":"IF(C44<>'2017 Base Data'!C44,1,0)","v":0},{"$f":"IF(D44<>'2017 Base Data'!D44,1,0)","v":0},{"$f":"IF(E44<>'2017 Base Data'!E44,1,0)","v":0}]
["Voorheesville CSD","ALBANY","GUILDERLAND",null,"VOORHEESVILLE",null,null,null,null,null,null,null,null,null,null,null,null,null,null,{"$f":"IF(B45<>'2017 Base Data'!B45,1,0)","v":0},{"$f":"IF(C45<>'2017 Base Data'!C45,1,0)","v":0},{"$f":"IF(D45<>'2017 Base Data'!D45,1,0)","v":0},{"$f":"IF(E45<>'2017 Base Data'!E45,1,0)","v":0}]
["Village of Altamont",null,null,null,null,null,null,null,null,null,null,null,null,null,null,null,null,null,null,{"$f":"IF(B46<>'2017 Base Data'!B46,1,0)","v":0},{"$f":"IF(C46<>'2017 Base Data'!C46,1,0)","v":0},{"$f":"IF(D46<>'2017 Base Data'!D46,1,0)","v":0},{"$f":"IF(E46<>'2017 Base Data'!E46,1,0)","v":0}]
["Guilderland CSD","ALBANY","ALTAMONT","GUILDERLAND","GUILDERLAND",null,null,null,null,null,null,null,null,null,null,null,null,null,null,{"$f":"IF(B47<>'2017 Base Data'!B47,1,0)","v":0},{"$f":"IF(C47<>'2017 Base Data'!C47,1,0)","v":0},{"$f":"IF(D47<>'2017 Base Data'!D47,1,0)","v":0},{"$f":"IF(E47<>'2017 Base Data'!E47,1,0)","v":0}]
["Town of Knox",null,null,null,null,null,null,null,null,null,null,null,null,null,null,null,null,null,null,{"$f":"IF(B48<>'2017 Base Data'!B48,1,0)","v":0},{"$f":"IF(C48<>'2017 Base Data'!C48,1,0)","v":0},{"$f":"IF(D48<>'2017 Base Data'!D48,1,0)","v":0},{"$f":"IF(E48<>'2017 Base Data'!E48,1,0)","v":0}]
["Berne-Knox-Westerlo CSD","ALBANY","KNOX",null,"BERNE-KNOX-WESTERLO",null,null,null,null,null,null,null,null,null,null,null,null,null,null,{"$f":"IF(B49<>'2017 Base Data'!B49,1,0)","v":0},{"$f":"IF(C49<>'2017 Base Data'!C49,1,0)","v":0},{"$f":"IF(D49<>'2017 Base Data'!D49,1,0)","v":0},{"$f":"IF(E49<>'2017 Base Data'!E49,1,0)","v":0}]
["Duanesburg CSD","ALBANY","KNOX",null,"DUANESBURG",null,null,null,null,null,null,null,null,null,null,null,null,null,null,{"$f":"IF(B50<>'2017 Base Data'!B50,1,0)","v":0},{"$f":"IF(C50<>'2017 Base Data'!C50,1,0)","v":0},{"$f":"IF(D50<>'2017 Base Data'!D50,1,0)","v":0},{"$f":"IF(E50<>'2017 Base Data'!E50,1,0)","v":0}]
["Guilderland CSD","ALBANY","KNOX",null,"GUILDERLAND",null,null,null,null,null,null,null,null,null,null,null,null,null,null,{"$f":"IF(B51<>'2017 Base Data'!B51,1,0)","v":0},{"$f":"IF(C51<>'2017 Base Data'!C51,1,0)","v":0},{"$f":"IF(D51<>'2017 Base Data'!D51,1,0)","v":0},{"$f":"IF(E51<>'2017 Base Data'!E51,1,0)","v":0}]
["Schoharie CSD","ALBANY","KNOX",null,"SCHOHARIE",null,null,null,null,null,null,null,null,null,null,null,null,null,null,{"$f":"IF(B52<>'2017 Base Data'!B52,1,0)","v":0},{"$f":"IF(C52<>'2017 Base Data'!C52,1,0)","v":0},{"$f":"IF(D52<>'2017 Base Data'!D52,1,0)","v":0},{"$f":"IF(E52<>'2017 Base Data'!E52,1,0)","v":0}]
["Town of New Scotland",null,null,null,null,null,null,null,null,null,null,null,null,null,null,null,null,null,null,{"$f":"IF(B53<>'2017 Base Data'!B53,1,0)","v":0},{"$f":"IF(C53<>'2017 Base Data'!C53,1,0)","v":0},{"$f":"IF(D53<>'2017 Base Data'!D53,1,0)","v":0},{"$f":"IF(E53<>'2017 Base Data'!E53,1,0)","v":0}]
["Berne-Knox-Westerlo CSD","ALBANY","NEW SCOTLAND",null,"BERNE-KNOX-WESTERLO",null,null,null,null,null,null,null,null,null,null,null,null,null,null,{"$f":"IF(B54<>'2017 Base Data'!B54,1,0)","v":0},{"$f":"IF(C54<>'2017 Base Data'!C54,1,0)","v":0},{"$f":"IF(D54<>'2017 Base Data'!D54,1,0)","v":0},{"$f":"IF(E54<>'2017 Base Data'!E54,1,0)","v":0}]
["Bethlehem CSD","ALBANY","NEW SCOTLAND",null,"BETHLEHEM",null,null,null,null,null,null,null,null,null,null,null,null,null,null,{"$f":"IF(B55<>'2017 Base Data'!B55,1,0)","v":0},{"$f":"IF(C55<>'2017 Base Data'!C55,1,0)","v":0},{"$f":"IF(D55<>'2017 Base Data'!D55,1,0)","v":0},{"$f":"IF(E55<>'2017 Base Data'!E55,1,0)","v":0}]
["Greenville CSD","ALBANY","NEW SCOTLAND",null,"GREENVILLE",null,null,null,null,null,null,null,null,null,null,null,null,null,null,{"$f":"IF(B56<>'2017 Base Data'!B56,1,0)","v":0},{"$f":"IF(C56<>'2017 Base Data'!C56,1,0)","v":0},{"$f":"IF(D56<>'2017 Base Data'!D56,1,0)","v":0},{"$f":"IF(E56<>'2017 Base Data'!E56,1,0)","v":0}]
["Guilderland CSD","ALBANY","NEW SCOTLAND",null,"GUILDERLAND",null,null,null,null,null,null,null,null,null,null,null,null,null,null,{"$f":"IF(B57<>'2017 Base Data'!B57,1,0)","v":0},{"$f":"IF(C57<>'2017 Base Data'!C57,1,0)","v":0},{"$f":"IF(D57<>'2017 Base Data'!D57,1,0)","v":0},{"$f":"IF(E57<>'2017 Base Data'!E57,1,0)","v":0}]
["Ravena-Coeymans-Selkirk CSD","ALBANY","NEW SCOTLAND",null,"RAVENA-COEYMANS-SELKIRK",null,null,null,null,null,null,null,null,null,null,null,null,null,null,{"$f":"IF(B58<>'2017 Base Data'!B58,1,0)","v":0},{"$f":"IF(C58<>'2017 Base Data'!C58,1,0)","v":0},{"$f":"IF(D58<>'2017 Base Data'!D58,1,0)","v":0},{"$f":"IF(E58<>'2017 Base Data'!E58,1,0)","v":0}]
["Voorheesville CSD","ALBANY","NEW SCOTLAND",null,"VOORHEESVILLE",null,null,null,null,null,null,null,null,null,null,null,null,null,null,{"$f":"IF(B59<>'2017 Base Data'!B59,1,0)","v":0},{"$f":"IF(C59<>'2017 Base Data'!C59,1,0)","v":0},{"$f":"IF(D59<>'2017 Base Data'!D59,1,0)","v":0},{"$f":"IF(E59<>'2017 Base Data'!E59,1,0)","v":0}]
["Village of Voorheesville",null,null,null,null,null,null,null,null,null,null,null,null,null,null,null,null,null,null,{"$f":"IF(B60<>'2017 Base Data'!B60,1,0)","v":0},{"$f":"IF(C60<>'2017 Base Data'!C60,1,0)","v":0},{"$f":"IF(D60<>'2017 Base Data'!D60,1,0)","v":0},{"$f":"IF(E60<>'2017 Base Data'!E60,1,0)","v":0}]
["Voorheesville CSD","ALBANY","VOORHEESVILLE","NEW SCOTLAND","VOORHEESVILLE",null,null,null,null,null,null,null,null,null,null,null,null,null,null,{"$f":"IF(B61<>'2017 Base Data'!B61,1,0)","v":0},{"$f":"IF(C61<>'2017 Base Data'!C61,1,0)","v":0},{"$f":"IF(D61<>'2017 Base Data'!D61,1,0)","v":0},{"$f":"IF(E61<>'2017 Base Data'!E61,1,0)","v":0}]
["Town of Rensselaerville",null,null,null,null,null,null,null,null,null,null,null,null,null,null,null,null,null,null,{"$f":"IF(B62<>'2017 Base Data'!B62,1,0)","v":0},{"$f":"IF(C62<>'2017 Base Data'!C62,1,0)","v":0},{"$f":"IF(D62<>'2017 Base Data'!D62,1,0)","v":0},{"$f":"IF(E62<>'2017 Base Data'!E62,1,0)","v":0}]
["Berne-Knox-Westerlo CSD","ALBANY","RENSSELAERVILLE",null,"BERNE-KNOX-WESTERLO",null,null,null,null,null,null,null,null,null,null,null,null,null,null,{"$f":"IF(B63<>'2017 Base Data'!B63,1,0)","v":0},{"$f":"IF(C63<>'2017 Base Data'!C63,1,0)","v":0},{"$f":"IF(D63<>'2017 Base Data'!D63,1,0)","v":0},{"$f":"IF(E63<>'2017 Base Data'!E63,1,0)","v":0}]
["Cairo-Durham CSD","ALBANY","RENSSELAERVILLE",null,"CAIRO-DURHAM",null,null,null,null,null,null,null,null,null,null,null,null,null,null,{"$f":"IF(B64<>'2017 Base Data'!B64,1,0)","v":0},{"$f":"IF(C64<>'2017 Base Data'!C64,1,0)","v":0},{"$f":"IF(D64<>'2017 Base Data'!D64,1,0)","v":0},{"$f":"IF(E64<>'2017 Base Data'!E64,1,0)","v":0}]
["Greenville CSD","ALBANY","RENSSELAERVILLE",null,"GREENVILLE",null,null,null,null,null,null,null,null,null,null,null,null,null,null,{"$f":"IF(B65<>'2017 Base Data'!B65,1,0)","v":0},{"$f":"IF(C65<>'2017 Base Data'!C65,1,0)","v":0},{"$f":"IF(D65<>'2017 Base Data'!D65,1,0)","v":0},{"$f":"IF(E65<>'2017 Base Data'!E65,1,0)","v":0}]
["Middleburgh CSD","ALBANY","RENSSELAERVILLE",null,"MIDDLEBURGH",null,null,null,null,null,null,null,null,null,null,null,null,null,null,{"$f":"IF(B66<>'2017 Base Data'!B66,1,0)","v":0},{"$f":"IF(C66<>'2017 Base Data'!C66,1,0)","v":0},{"$f":"IF(D66<>'2017 Base Data'!D66,1,0)","v":0},{"$f":"IF(E66<>'2017 Base Data'!E66,1,0)","v":0}]
["City of Watervliet",null,null,null,null,null,null,null,null,null,null,null,null,null,null,null,null,null,null,{"$f":"IF(B67<>'2017 Base Data'!B67,1,0)","v":0},{"$f":"IF(C67<>'2017 Base Data'!C67,1,0)","v":0},{"$f":"IF(D67<>'2017 Base Data'!D67,1,0)","v":0},{"$f":"IF(E67<>'2017 Base Data'!E67,1,0)","v":0}]
["Watervliet City SD","ALBANY","WATERVLIET",null,"WATERVLIET",null,null,null,null,null,null,null,null,null,null,null,null,null,null,{"$f":"IF(B68<>'2017 Base Data'!B68,1,0)","v":0},{"$f":"IF(C68<>'2017 Base Data'!C68,1,0)","v":0},{"$f":"IF(D68<>'2017 Base Data'!D68,1,0)","v":0},{"$f":"IF(E68<>'2017 Base Data'!E68,1,0)","v":0}]
["Town of Westerlo",null,null,null,null,null,null,null,null,null,null,null,null,null,null,null,null,null,null,{"$f":"IF(B69<>'2017 Base Data'!B69,1,0)","v":0},{"$f":"IF(C69<>'2017 Base Data'!C69,1,0)","v":0},{"$f":"IF(D69<>'2017 Base Data'!D69,1,0)","v":0},{"$f":"IF(E69<>'2017 Base Data'!E69,1,0)","v":0}]
["Berne-Knox-Westerlo CSD","ALBANY","WESTERLO",null,"BERNE-KNOX-WESTERLO",null,null,null,null,null,null,null,null,null,null,null,null,null,null,{"$f":"IF(B70<>'2017 Base Data'!B70,1,0)","v":0},{"$f":"IF(C70<>'2017 Base Data'!C70,1,0)","v":0},{"$f":"IF(D70<>'2017 Base Data'!D70,1,0)","v":0},{"$f":"IF(E70<>'2017 Base Data'!E70,1,0)","v":0}]
["Greenville CSD","ALBANY","WESTERLO",null,"GREENVILLE",null,null,null,null,null,null,null,null,null,null,null,null,null,null,{"$f":"IF(B71<>'2017 Base Data'!B71,1,0)","v":0},{"$f":"IF(C71<>'2017 Base Data'!C71,1,0)","v":0},{"$f":"IF(D71<>'2017 Base Data'!D71,1,0)","v":0},{"$f":"IF(E71<>'2017 Base Data'!E71,1,0)","v":0}]
["Rensselaer County",null,null,null,null,null,null,null,null,null,null,null,null,null,null,null,null,null,null,{"$f":"IF(B72<>'2017 Base Data'!B72,1,0)","v":0},{"$f":"IF(C72<>'2017 Base Data'!C72,1,0)","v":0},{"$f":"IF(D72<>'2017 Base Data'!D72,1,0)","v":0},{"$f":"IF(E72<>'2017 Base Data'!E72,1,0)","v":0}]
["Town of Berlin",null,null,null,null,null,null,null,null,null,null,null,null,null,null,null,null,null,null,{"$f":"IF(B73<>'2017 Base Data'!B73,1,0)","v":0},{"$f":"IF(C73<>'2017 Base Data'!C73,1,0)","v":0},{"$f":"IF(D73<>'2017 Base Data'!D73,1,0)","v":0},{"$f":"IF(E73<>'2017 Base Data'!E73,1,0)","v":0}]
["Averill Park CSD","RENSSELAER","BERLIN",null,"AVERILL PARK",null,null,null,null,null,null,null,null,null,null,null,null,null,null,{"$f":"IF(B74<>'2017 Base Data'!B74,1,0)","v":0},{"$f":"IF(C74<>'2017 Base Data'!C74,1,0)","v":0},{"$f":"IF(D74<>'2017 Base Data'!D74,1,0)","v":0},{"$f":"IF(E74<>'2017 Base Data'!E74,1,0)","v":0}]
["Berlin CSD","RENSSELAER","BERLIN",null,"BERLIN",null,null,null,null,null,null,null,null,null,null,null,null,null,null,{"$f":"IF(B75<>'2017 Base Data'!B75,1,0)","v":0},{"$f":"IF(C75<>'2017 Base Data'!C75,1,0)","v":0},{"$f":"IF(D75<>'2017 Base Data'!D75,1,0)","v":0},{"$f":"IF(E75<>'2017 Base Data'!E75,1,0)","v":0}]
["Town of Brunswick",null,null,null,null,null,null,null,null,null,null,null,null,null,null,null,null,null,null,{"$f":"IF(B76<>'2017 Base Data'!B76,1,0)","v":0},{"$f":"IF(C76<>'2017 Base Data'!C76,1,0)","v":0},{"$f":"IF(D76<>'2017 Base Data'!D76,1,0)","v":0},{"$f":"IF(E76<>'2017 Base Data'!E76,1,0)","v":0}]
["Averill Park CSD","RENSSELAER","BRUNSWICK",null,"AVERILL PARK",null,null,null,null,null,null,null,null,null,null,null,null,null,null,{"$f":"IF(B77<>'2017 Base Data'!B77,1,0)","v":0},{"$f":"IF(C77<>'2017 Base Data'!C77,1,0)","v":0},{"$f":"IF(D77<>'2017 Base Data'!D77,1,0)","v":0},{"$f":"IF(E77<>'2017 Base Data'!E77,1,0)","v":0}]
["Brunswick CSD","RENSSELAER","BRUNSWICK",null,"BRUNSWICK",null,null,null,null,null,null,null,null,null,null,null,null,null,null,{"$f":"IF(B78<>'2017 Base Data'!B78,1,0)","v":0},{"$f":"IF(C78<>'2017 Base Data'!C78,1,0)","v":0},{"$f":"IF(D78<>'2017 Base Data'!D78,1,0)","v":0},{"$f":"IF(E78<>'2017 Base Data'!E78,1,0)","v":0}]
["Lansingburgh CSD","RENSSELAER","BRUNSWICK",null,"LANSINGBURGH",null,null,null,null,null,null,null,null,null,null,null,null,null,null,{"$f":"IF(B79<>'2017 Base Data'!B79,1,0)","v":0},{"$f":"IF(C79<>'2017 Base Data'!C79,1,0)","v":0},{"$f":"IF(D79<>'2017 Base Data'!D79,1,0)","v":0},{"$f":"IF(E79<>'2017 Base Data'!E79,1,0)","v":0}]
["Troy City SD","RENSSELAER","BRUNSWICK",null,"TROY",null,null,null,null,null,null,null,null,null,null,null,null,null,null,{"$f":"IF(B80<>'2017 Base Data'!B80,1,0)","v":0},{"$f":"IF(C80<>'2017 Base Data'!C80,1,0)","v":0},{"$f":"IF(D80<>'2017 Base Data'!D80,1,0)","v":0},{"$f":"IF(E80<>'2017 Base Data'!E80,1,0)","v":0}]
["Wynantskill UFSD","RENSSELAER","BRUNSWICK",null,"WYNANTSKILL",null,null,null,null,null,null,null,null,null,null,null,null,null,null,{"$f":"IF(B81<>'2017 Base Data'!B81,1,0)","v":0},{"$f":"IF(C81<>'2017 Base Data'!C81,1,0)","v":0},{"$f":"IF(D81<>'2017 Base Data'!D81,1,0)","v":0},{"$f":"IF(E81<>'2017 Base Data'!E81,1,0)","v":0}]
["Town of East Greenbush",null,null,null,null,null,null,null,null,null,null,null,null,null,null,null,null,null,null,{"$f":"IF(B82<>'2017 Base Data'!B82,1,0)","v":0},{"$f":"IF(C82<>'2017 Base Data'!C82,1,0)","v":0},{"$f":"IF(D82<>'2017 Base Data'!D82,1,0)","v":0},{"$f":"IF(E82<>'2017 Base Data'!E82,1,0)","v":0}]
["Averill Park CSD","RENSSELAER","EAST GREENBUSH",null,"AVERILL PARK",null,null,null,null,null,null,null,null,null,null,null,null,null,null,{"$f":"IF(B83<>'2017 Base Data'!B83,1,0)","v":0},{"$f":"IF(C83<>'2017 Base Data'!C83,1,0)","v":0},{"$f":"IF(D83<>'2017 Base Data'!D83,1,0)","v":0},{"$f":"IF(E83<>'2017 Base Data'!E83,1,0)","v":0}]
["East Greenbush CSD","RENSSELAER","EAST GREENBUSH",null,"EAST GREENBUSH",null,null,null,null,null,null,null,null,null,null,null,null,null,null,{"$f":"IF(B84<>'2017 Base Data'!B84,1,0)","v":0},{"$f":"IF(C84<>'2017 Base Data'!C84,1,0)","v":0},{"$f":"IF(D84<>'2017 Base Data'!D84,1,0)","v":0},{"$f":"IF(E84<>'2017 Base Data'!E84,1,0)","v":0}]
["Town of Grafton",null,null,null,null,null,null,null,null,null,null,null,null,null,null,null,null,null,null,{"$f":"IF(B85<>'2017 Base Data'!B85,1,0)","v":0},{"$f":"IF(C85<>'2017 Base Data'!C85,1,0)","v":0},{"$f":"IF(D85<>'2017 Base Data'!D85,1,0)","v":0},{"$f":"IF(E85<>'2017 Base Data'!E85,1,0)","v":0}]
["Berlin CSD","RENSSELAER","GRAFTON",null,"BERLIN",null,null,null,null,null,null,null,null,null,null,null,null,null,null,{"$f":"IF(B86<>'2017 Base Data'!B86,1,0)","v":0},{"$f":"IF(C86<>'2017 Base Data'!C86,1,0)","v":0},{"$f":"IF(D86<>'2017 Base Data'!D86,1,0)","v":0},{"$f":"IF(E86<>'2017 Base Data'!E86,1,0)","v":0}]
["Brunswick CSD","RENSSELAER","GRAFTON",null,"BRUNSWICK",null,null,null,null,null,null,null,null,null,null,null,null,null,null,{"$f":"IF(B87<>'2017 Base Data'!B87,1,0)","v":0},{"$f":"IF(C87<>'2017 Base Data'!C87,1,0)","v":0},{"$f":"IF(D87<>'2017 Base Data'!D87,1,0)","v":0},{"$f":"IF(E87<>'2017 Base Data'!E87,1,0)","v":0}]
["Hoosick Falls CSD","RENSSELAER","GRAFTON",null,"HOOSICK FALLS",null,null,null,null,null,null,null,null,null,null,null,null,null,null,{"$f":"IF(B88<>'2017 Base Data'!B88,1,0)","v":0},{"$f":"IF(C88<>'2017 Base Data'!C88,1,0)","v":0},{"$f":"IF(D88<>'2017 Base Data'!D88,1,0)","v":0},{"$f":"IF(E88<>'2017 Base Data'!E88,1,0)","v":0}]
["Town of Hoosick",null,null,null,null,null,null,null,null,null,null,null,null,null,null,null,null,null,null,{"$f":"IF(B89<>'2017 Base Data'!B89,1,0)","v":0},{"$f":"IF(C89<>'2017 Base Data'!C89,1,0)","v":0},{"$f":"IF(D89<>'2017 Base Data'!D89,1,0)","v":0},{"$f":"IF(E89<>'2017 Base Data'!E89,1,0)","v":0}]
["Cambridge CSD","RENSSELAER","HOOSICK",null,"CAMBRIDGE",null,null,null,null,null,null,null,null,null,null,null,null,null,null,{"$f":"IF(B90<>'2017 Base Data'!B90,1,0)","v":0},{"$f":"IF(C90<>'2017 Base Data'!C90,1,0)","v":0},{"$f":"IF(D90<>'2017 Base Data'!D90,1,0)","v":0},{"$f":"IF(E90<>'2017 Base Data'!E90,1,0)","v":0}]
["Hoosick Falls CSD","RENSSELAER","HOOSICK",null,"HOOSICK FALLS",null,null,null,null,null,null,null,null,null,null,null,null,null,null,{"$f":"IF(B91<>'2017 Base Data'!B91,1,0)","v":0},{"$f":"IF(C91<>'2017 Base Data'!C91,1,0)","v":0},{"$f":"IF(D91<>'2017 Base Data'!D91,1,0)","v":0},{"$f":"IF(E91<>'2017 Base Data'!E91,1,0)","v":0}]
["Village of Hoosick Falls",null,null,null,null,null,null,null,null,null,null,null,null,null,null,null,null,null,null,{"$f":"IF(B92<>'2017 Base Data'!B92,1,0)","v":0},{"$f":"IF(C92<>'2017 Base Data'!C92,1,0)","v":0},{"$f":"IF(D92<>'2017 Base Data'!D92,1,0)","v":0},{"$f":"IF(E92<>'2017 Base Data'!E92,1,0)","v":0}]
["Hoosick Falls CSD","RENSSELAER","HOOSICK FALLS","HOOSICK","HOOSICK FALLS",null,null,null,null,null,null,null,null,null,null,null,null,null,null,{"$f":"IF(B93<>'2017 Base Data'!B93,1,0)","v":0},{"$f":"IF(C93<>'2017 Base Data'!C93,1,0)","v":0},{"$f":"IF(D93<>'2017 Base Data'!D93,1,0)","v":0},{"$f":"IF(E93<>'2017 Base Data'!E93,1,0)","v":0}]
["Town of Nassau",null,null,null,null,null,null,null,null,null,null,null,null,null,null,null,null,null,null,{"$f":"IF(B94<>'2017 Base Data'!B94,1,0)","v":0},{"$f":"IF(C94<>'2017 Base Data'!C94,1,0)","v":0},{"$f":"IF(D94<>'2017 Base Data'!D94,1,0)","v":0},{"$f":"IF(E94<>'2017 Base Data'!E94,1,0)","v":0}]
["Averill Park CSD","RENSSELAER","NASSAU",null,"AVERILL PARK",null,null,null,null,null,null,null,null,null,null,null,null,null,null,{"$f":"IF(B95<>'2017 Base Data'!B95,1,0)","v":0},{"$f":"IF(C95<>'2017 Base Data'!C95,1,0)","v":0},{"$f":"IF(D95<>'2017 Base Data'!D95,1,0)","v":0},{"$f":"IF(E95<>'2017 Base Data'!E95,1,0)","v":0}]
["East Greenbush CSD","RENSSELAER","NASSAU",null,"EAST GREENBUSH",null,null,null,null,null,null,null,null,null,null,null,null,null,null,{"$f":"IF(B96<>'2017 Base Data'!B96,1,0)","v":0},{"$f":"IF(C96<>'2017 Base Data'!C96,1,0)","v":0},{"$f":"IF(D96<>'2017 Base Data'!D96,1,0)","v":0},{"$f":"IF(E96<>'2017 Base Data'!E96,1,0)","v":0}]
["Kinderhook CSD","RENSSELAER","NASSAU",null,"KINDERHOOK",null,null,null,null,null,null,null,null,null,null,null,null,null,null,{"$f":"IF(B97<>'2017 Base Data'!B97,1,0)","v":0},{"$f":"IF(C97<>'2017 Base Data'!C97,1,0)","v":0},{"$f":"IF(D97<>'2017 Base Data'!D97,1,0)","v":0},{"$f":"IF(E97<>'2017 Base Data'!E97,1,0)","v":0}]
["New Lebanon CSD","RENSSELAER","NASSAU",null,"NEW LEBANON",null,null,null,null,null,null,null,null,null,null,null,null,null,null,{"$f":"IF(B98<>'2017 Base Data'!B98,1,0)","v":0},{"$f":"IF(C98<>'2017 Base Data'!C98,1,0)","v":0},{"$f":"IF(D98<>'2017 Base Data'!D98,1,0)","v":0},{"$f":"IF(E98<>'2017 Base Data'!E98,1,0)","v":0}]
["Village of East Nassau",null,null,null,null,null,null,null,null,null,null,null,null,null,null,null,null,null,null,{"$f":"IF(B99<>'2017 Base Data'!B99,1,0)","v":0},{"$f":"IF(C99<>'2017 Base Data'!C99,1,0)","v":0},{"$f":"IF(D99<>'2017 Base Data'!D99,1,0)","v":0},{"$f":"IF(E99<>'2017 Base Data'!E99,1,0)","v":0}]
["Averill Park CSD","RENSSELAER","EAST NASSAU","NASSAU","AVERILL PARK",null,null,null,null,null,null,null,null,null,null,null,null,null,null,{"$f":"IF(B100<>'2017 Base Data'!B100,1,0)","v":0},{"$f":"IF(C100<>'2017 Base Data'!C100,1,0)","v":0},{"$f":"IF(D100<>'2017 Base Data'!D100,1,0)","v":0},{"$f":"IF(E100<>'2017 Base Data'!E100,1,0)","v":0}]
["East Greenbush CSD","RENSSELAER","EAST NASSAU","NASSAU","EAST GREENBUSH",null,null,null,null,null,null,null,null,null,null,null,null,null,null,{"$f":"IF(B101<>'2017 Base Data'!B101,1,0)","v":0},{"$f":"IF(C101<>'2017 Base Data'!C101,1,0)","v":0},{"$f":"IF(D101<>'2017 Base Data'!D101,1,0)","v":0},{"$f":"IF(E101<>'2017 Base Data'!E101,1,0)","v":0}]
["New Lebanon CSD","RENSSELAER","EAST NASSAU","NASSAU","NEW LEBANON",null,null,null,null,null,null,null,null,null,null,null,null,null,null,{"$f":"IF(B102<>'2017 Base Data'!B102,1,0)","v":0},{"$f":"IF(C102<>'2017 Base Data'!C102,1,0)","v":0},{"$f":"IF(D102<>'2017 Base Data'!D102,1,0)","v":0},{"$f":"IF(E102<>'2017 Base Data'!E102,1,0)","v":0}]
["Village of Nassau (part)",null,null,null,null,null,null,null,null,null,null,null,null,null,null,null,null,null,null,{"$f":"IF(B103<>'2017 Base Data'!B103,1,0)","v":0},{"$f":"IF(C103<>'2017 Base Data'!C103,1,0)","v":0},{"$f":"IF(D103<>'2017 Base Data'!D103,1,0)","v":0},{"$f":"IF(E103<>'2017 Base Data'!E103,1,0)","v":0}]
["East Greenbush CSD","RENSSELAER","NASSAU","NASSAU","EAST GREENBUSH",null,null,null,null,null,null,null,null,null,null,null,null,null,null,{"$f":"IF(B104<>'2017 Base Data'!B104,1,0)","v":0},{"$f":"IF(C104<>'2017 Base Data'!C104,1,0)","v":0},{"$f":"IF(D104<>'2017 Base Data'!D104,1,0)","v":0},{"$f":"IF(E104<>'2017 Base Data'!E104,1,0)","v":0}]
["Town of North Greenbush",null,null,null,null,null,null,null,null,null,null,null,null,null,null,null,null,null,null,{"$f":"IF(B105<>'2017 Base Data'!B105,1,0)","v":0},{"$f":"IF(C105<>'2017 Base Data'!C105,1,0)","v":0},{"$f":"IF(D105<>'2017 Base Data'!D105,1,0)","v":0},{"$f":"IF(E105<>'2017 Base Data'!E105,1,0)","v":0}]
["Averill Park CSD","RENSSELAER","NORTH GREENBUSH",null,"AVERILL PARK",null,null,null,null,null,null,null,null,null,null,null,null,null,null,{"$f":"IF(B106<>'2017 Base Data'!B106,1,0)","v":0},{"$f":"IF(C106<>'2017 Base Data'!C106,1,0)","v":0},{"$f":"IF(D106<>'2017 Base Data'!D106,1,0)","v":0},{"$f":"IF(E106<>'2017 Base Data'!E106,1,0)","v":0}]
["East Greenbush CSD","RENSSELAER","NORTH GREENBUSH",null,"EAST GREENBUSH",null,null,null,null,null,null,null,null,null,null,null,null,null,null,{"$f":"IF(B107<>'2017 Base Data'!B107,1,0)","v":0},{"$f":"IF(C107<>'2017 Base Data'!C107,1,0)","v":0},{"$f":"IF(D107<>'2017 Base Data'!D107,1,0)","v":0},{"$f":"IF(E107<>'2017 Base Data'!E107,1,0)","v":0}]
["North Greenbush Common SD","RENSSELAER","NORTH GREENBUSH",null,"NORTH GREENBUSH",null,null,null,null,null,null,null,null,null,null,null,null,null,null,{"$f":"IF(B108<>'2017 Base Data'!B108,1,0)","v":0},{"$f":"IF(C108<>'2017 Base Data'!C108,1,0)","v":0},{"$f":"IF(D108<>'2017 Base Data'!D108,1,0)","v":0},{"$f":"IF(E108<>'2017 Base Data'!E108,1,0)","v":0}]
["Wynantskill UFSD","RENSSELAER","NORTH GREENBUSH",null,"WYNANTSKILL",null,null,null,null,null,null,null,null,null,null,null,null,null,null,{"$f":"IF(B109<>'2017 Base Data'!B109,1,0)","v":0},{"$f":"IF(C109<>'2017 Base Data'!C109,1,0)","v":0},{"$f":"IF(D109<>'2017 Base Data'!D109,1,0)","v":0},{"$f":"IF(E109<>'2017 Base Data'!E109,1,0)","v":0}]
["Town of Petersburgh",null,null,null,null,null,null,null,null,null,null,null,null,null,null,null,null,null,null,{"$f":"IF(B110<>'2017 Base Data'!B110,1,0)","v":0},{"$f":"IF(C110<>'2017 Base Data'!C110,1,0)","v":0},{"$f":"IF(D110<>'2017 Base Data'!D110,1,0)","v":0},{"$f":"IF(E110<>'2017 Base Data'!E110,1,0)","v":0}]
["Berlin CSD","RENSSELAER","PETERSBURGH",null,"BERLIN",null,null,null,null,null,null,null,null,null,null,null,null,null,null,{"$f":"IF(B111<>'2017 Base Data'!B111,1,0)","v":0},{"$f":"IF(C111<>'2017 Base Data'!C111,1,0)","v":0},{"$f":"IF(D111<>'2017 Base Data'!D111,1,0)","v":0},{"$f":"IF(E111<>'2017 Base Data'!E111,1,0)","v":0}]
["Hoosick Falls CSD","RENSSELAER","PETERSBURGH",null,"HOOSICK FALLS",null,null,null,null,null,null,null,null,null,null,null,null,null,null,{"$f":"IF(B112<>'2017 Base Data'!B112,1,0)","v":0},{"$f":"IF(C112<>'2017 Base Data'!C112,1,0)","v":0},{"$f":"IF(D112<>'2017 Base Data'!D112,1,0)","v":0},{"$f":"IF(E112<>'2017 Base Data'!E112,1,0)","v":0}]
["Town of Pittstown",null,null,null,null,null,null,null,null,null,null,null,null,null,null,null,null,null,null,{"$f":"IF(B113<>'2017 Base Data'!B113,1,0)","v":0},{"$f":"IF(C113<>'2017 Base Data'!C113,1,0)","v":0},{"$f":"IF(D113<>'2017 Base Data'!D113,1,0)","v":0},{"$f":"IF(E113<>'2017 Base Data'!E113,1,0)","v":0}]
["Brunswick CSD","RENSSELAER","PITTSTOWN",null,"BRUNSWICK",null,null,null,null,null,null,null,null,null,null,null,null,null,null,{"$f":"IF(B114<>'2017 Base Data'!B114,1,0)","v":0},{"$f":"IF(C114<>'2017 Base Data'!C114,1,0)","v":0},{"$f":"IF(D114<>'2017 Base Data'!D114,1,0)","v":0},{"$f":"IF(E114<>'2017 Base Data'!E114,1,0)","v":0}]
["Cambridge CSD","RENSSELAER","PITTSTOWN",null,"CAMBRIDGE",null,null,null,null,null,null,null,null,null,null,null,null,null,null,{"$f":"IF(B115<>'2017 Base Data'!B115,1,0)","v":0},{"$f":"IF(C115<>'2017 Base Data'!C115,1,0)","v":0},{"$f":"IF(D115<>'2017 Base Data'!D115,1,0)","v":0},{"$f":"IF(E115<>'2017 Base Data'!E115,1,0)","v":0}]
["Hoosic Valley CSD","RENSSELAER","PITTSTOWN",null,"HOOSIC VALLEY",null,null,null,null,null,null,null,null,null,null,null,null,null,null,{"$f":"IF(B116<>'2017 Base Data'!B116,1,0)","v":0},{"$f":"IF(C116<>'2017 Base Data'!C116,1,0)","v":0},{"$f":"IF(D116<>'2017 Base Data'!D116,1,0)","v":0},{"$f":"IF(E116<>'2017 Base Data'!E116,1,0)","v":0}]
["Hoosick Falls CSD","RENSSELAER","PITTSTOWN",null,"HOOSICK FALLS",null,null,null,null,null,null,null,null,null,null,null,null,null,null,{"$f":"IF(B117<>'2017 Base Data'!B117,1,0)","v":0},{"$f":"IF(C117<>'2017 Base Data'!C117,1,0)","v":0},{"$f":"IF(D117<>'2017 Base Data'!D117,1,0)","v":0},{"$f":"IF(E117<>'2017 Base Data'!E117,1,0)","v":0}]
["Lansingburgh CSD","RENSSELAER","PITTSTOWN",null,"LANSINGBURGH",null,null,null,null,null,null,null,null,null,null,null,null,null,null,{"$f":"IF(B118<>'2017 Base Data'!B118,1,0)","v":0},{"$f":"IF(C118<>'2017 Base Data'!C118,1,0)","v":0},{"$f":"IF(D118<>'2017 Base Data'!D118,1,0)","v":0},{"$f":"IF(E118<>'2017 Base Data'!E118,1,0)","v":0}]
["Village of Valley Falls (part)",null,null,null,null,null,null,null,null,null,null,null,null,null,null,null,null,null,null,{"$f":"IF(B119<>'2017 Base Data'!B119,1,0)","v":0},{"$f":"IF(C119<>'2017 Base Data'!C119,1,0)","v":0},{"$f":"IF(D119<>'2017 Base Data'!D119,1,0)","v":0},{"$f":"IF(E119<>'2017 Base Data'!E119,1,0)","v":0}]
["Hoosic Valley CSD","RENSSELAER","VALLEY FALLS","PITTSTOWN","HOOSIC VALLEY",null,null,null,null,null,null,null,null,null,null,null,null,null,null,{"$f":"IF(B120<>'2017 Base Data'!B120,1,0)","v":0},{"$f":"IF(C120<>'2017 Base Data'!C120,1,0)","v":0},{"$f":"IF(D120<>'2017 Base Data'!D120,1,0)","v":0},{"$f":"IF(E120<>'2017 Base Data'!E120,1,0)","v":0}]
["Town of Poestenkill",null,null,null,null,null,null,null,null,null,null,null,null,null,null,null,null,null,null,{"$f":"IF(B121<>'2017 Base Data'!B121,1,0)","v":0},{"$f":"IF(C121<>'2017 Base Data'!C121,1,0)","v":0},{"$f":"IF(D121<>'2017 Base Data'!D121,1,0)","v":0},{"$f":"IF(E121<>'2017 Base Data'!E121,1,0)","v":0}]
["Averill Park CSD","RENSSELAER","POESTENKILL",null,"AVERILL PARK",null,null,null,null,null,null,null,null,null,null,null,null,null,null,{"$f":"IF(B122<>'2017 Base Data'!B122,1,0)","v":0},{"$f":"IF(C122<>'2017 Base Data'!C122,1,0)","v":0},{"$f":"IF(D122<>'2017 Base Data'!D122,1,0)","v":0},{"$f":"IF(E122<>'2017 Base Data'!E122,1,0)","v":0}]
["Berlin CSD","RENSSELAER","POESTENKILL",null,"BERLIN",null,null,null,null,null,null,null,null,null,null,null,null,null,null,{"$f":"IF(B123<>'2017 Base Data'!B123,1,0)","v":0},{"$f":"IF(C123<>'2017 Base Data'!C123,1,0)","v":0},{"$f":"IF(D123<>'2017 Base Data'!D123,1,0)","v":0},{"$f":"IF(E123<>'2017 Base Data'!E123,1,0)","v":0}]
["Brunswick CSD","RENSSELAER","POESTENKILL",null,"BRUNSWICK",null,null,null,null,null,null,null,null,null,null,null,null,null,null,{"$f":"IF(B124<>'2017 Base Data'!B124,1,0)","v":0},{"$f":"IF(C124<>'2017 Base Data'!C124,1,0)","v":0},{"$f":"IF(D124<>'2017 Base Data'!D124,1,0)","v":0},{"$f":"IF(E124<>'2017 Base Data'!E124,1,0)","v":0}]
["Wynantskill UFSD","RENSSELAER","POESTENKILL",null,"WYNANTSKILL",null,null,null,null,null,null,null,null,null,null,null,null,null,null,{"$f":"IF(B125<>'2017 Base Data'!B125,1,0)","v":0},{"$f":"IF(C125<>'2017 Base Data'!C125,1,0)","v":0},{"$f":"IF(D125<>'2017 Base Data'!D125,1,0)","v":0},{"$f":"IF(E125<>'2017 Base Data'!E125,1,0)","v":0}]
["City of Rensselaer",null,null,null,null,null,null,null,null,null,null,null,null,null,null,null,null,null,null,{"$f":"IF(B126<>'2017 Base Data'!B126,1,0)","v":0},{"$f":"IF(C126<>'2017 Base Data'!C126,1,0)","v":0},{"$f":"IF(D126<>'2017 Base Data'!D126,1,0)","v":0},{"$f":"IF(E126<>'2017 Base Data'!E126,1,0)","v":0}]
["Rensselaer City SD","RENSSELAER","RENSSELAER",null,"RENSSELAER",null,null,null,null,null,null,null,null,null,null,null,null,null,null,{"$f":"IF(B127<>'2017 Base Data'!B127,1,0)","v":0},{"$f":"IF(C127<>'2017 Base Data'!C127,1,0)","v":0},{"$f":"IF(D127<>'2017 Base Data'!D127,1,0)","v":0},{"$f":"IF(E127<>'2017 Base Data'!E127,1,0)","v":0}]
["Town of Sand Lake",null,null,null,null,null,null,null,null,null,null,null,null,null,null,null,null,null,null,{"$f":"IF(B128<>'2017 Base Data'!B128,1,0)","v":0},{"$f":"IF(C128<>'2017 Base Data'!C128,1,0)","v":0},{"$f":"IF(D128<>'2017 Base Data'!D128,1,0)","v":0},{"$f":"IF(E128<>'2017 Base Data'!E128,1,0)","v":0}]
["Averill Park CSD","RENSSELAER","SAND LAKE",null,"AVERILL PARK",null,null,null,null,null,null,null,null,null,null,null,null,null,null,{"$f":"IF(B129<>'2017 Base Data'!B129,1,0)","v":0},{"$f":"IF(C129<>'2017 Base Data'!C129,1,0)","v":0},{"$f":"IF(D129<>'2017 Base Data'!D129,1,0)","v":0},{"$f":"IF(E129<>'2017 Base Data'!E129,1,0)","v":0}]
["East Greenbush CSD","RENSSELAER","SAND LAKE",null,"EAST GREENBUSH",null,null,null,null,null,null,null,null,null,null,null,null,null,null,{"$f":"IF(B130<>'2017 Base Data'!B130,1,0)","v":0},{"$f":"IF(C130<>'2017 Base Data'!C130,1,0)","v":0},{"$f":"IF(D130<>'2017 Base Data'!D130,1,0)","v":0},{"$f":"IF(E130<>'2017 Base Data'!E130,1,0)","v":0}]
["Town of Schaghticoke",null,null,null,null,null,null,null,null,null,null,null,null,null,null,null,null,null,null,{"$f":"IF(B131<>'2017 Base Data'!B131,1,0)","v":0},{"$f":"IF(C131<>'2017 Base Data'!C131,1,0)","v":0},{"$f":"IF(D131<>'2017 Base Data'!D131,1,0)","v":0},{"$f":"IF(E131<>'2017 Base Data'!E131,1,0)","v":0}]
["Brunswick CSD","RENSSELAER","SCHAGHTICOKE",null,"BRUNSWICK",null,null,null,null,null,null,null,null,null,null,null,null,null,null,{"$f":"IF(B132<>'2017 Base Data'!B132,1,0)","v":0},{"$f":"IF(C132<>'2017 Base Data'!C132,1,0)","v":0},{"$f":"IF(D132<>'2017 Base Data'!D132,1,0)","v":0},{"$f":"IF(E132<>'2017 Base Data'!E132,1,0)","v":0}]
["Cambridge CSD","RENSSELAER","SCHAGHTICOKE",null,"CAMBRIDGE",null,null,null,null,null,null,null,null,null,null,null,null,null,null,{"$f":"IF(B133<>'2017 Base Data'!B133,1,0)","v":0},{"$f":"IF(C133<>'2017 Base Data'!C133,1,0)","v":0},{"$f":"IF(D133<>'2017 Base Data'!D133,1,0)","v":0},{"$f":"IF(E133<>'2017 Base Data'!E133,1,0)","v":0}]
["Hoosic Valley CSD","RENSSELAER","SCHAGHTICOKE",null,"HOOSIC VALLEY",null,null,null,null,null,null,null,null,null,null,null,null,null,null,{"$f":"IF(B134<>'2017 Base Data'!B134,1,0)","v":0},{"$f":"IF(C134<>'2017 Base Data'!C134,1,0)","v":0},{"$f":"IF(D134<>'2017 Base Data'!D134,1,0)","v":0},{"$f":"IF(E134<>'2017 Base Data'!E134,1,0)","v":0}]
["Lansingburgh CSD","RENSSELAER","SCHAGHTICOKE",null,"LANSINGBURGH",null,null,null,null,null,null,null,null,null,null,null,null,null,null,{"$f":"IF(B135<>'2017 Base Data'!B135,1,0)","v":0},{"$f":"IF(C135<>'2017 Base Data'!C135,1,0)","v":0},{"$f":"IF(D135<>'2017 Base Data'!D135,1,0)","v":0},{"$f":"IF(E135<>'2017 Base Data'!E135,1,0)","v":0}]
["Mechanicville City SD","RENSSELAER","SCHAGHTICOKE",null,"MECHANICVILLE",null,null,null,null,null,null,null,null,null,null,null,null,null,null,{"$f":"IF(B136<>'2017 Base Data'!B136,1,0)","v":0},{"$f":"IF(C136<>'2017 Base Data'!C136,1,0)","v":0},{"$f":"IF(D136<>'2017 Base Data'!D136,1,0)","v":0},{"$f":"IF(E136<>'2017 Base Data'!E136,1,0)","v":0}]
["Stillwater CSD","RENSSELAER","SCHAGHTICOKE",null,"STILLWATER",null,null,null,null,null,null,null,null,null,null,null,null,null,null,{"$f":"IF(B137<>'2017 Base Data'!B137,1,0)","v":0},{"$f":"IF(C137<>'2017 Base Data'!C137,1,0)","v":0},{"$f":"IF(D137<>'2017 Base Data'!D137,1,0)","v":0},{"$f":"IF(E137<>'2017 Base Data'!E137,1,0)","v":0}]
["Village of Schaghticoke",null,null,null,null,null,null,null,null,null,null,null,null,null,null,null,null,null,null,{"$f":"IF(B138<>'2017 Base Data'!B138,1,0)","v":0},{"$f":"IF(C138<>'2017 Base Data'!C138,1,0)","v":0},{"$f":"IF(D138<>'2017 Base Data'!D138,1,0)","v":0},{"$f":"IF(E138<>'2017 Base Data'!E138,1,0)","v":0}]
["Hoosic Valley CSD","RENSSELAER","SCHAGHTICOKE","SCHAGHTICOKE","HOOSIC VALLEY",null,null,null,null,null,null,null,null,null,null,null,null,null,null,{"$f":"IF(B139<>'2017 Base Data'!B139,1,0)","v":0},{"$f":"IF(C139<>'2017 Base Data'!C139,1,0)","v":0},{"$f":"IF(D139<>'2017 Base Data'!D139,1,0)","v":0},{"$f":"IF(E139<>'2017 Base Data'!E139,1,0)","v":0}]
["Village of Valley Falls (part)",null,null,null,null,null,null,null,null,null,null,null,null,null,null,null,null,null,null,{"$f":"IF(B140<>'2017 Base Data'!B140,1,0)","v":0},{"$f":"IF(C140<>'2017 Base Data'!C140,1,0)","v":0},{"$f":"IF(D140<>'2017 Base Data'!D140,1,0)","v":0},{"$f":"IF(E140<>'2017 Base Data'!E140,1,0)","v":0}]
["Hoosic Valley CSD","RENSSELAER","VALLEY FALLS","SCHAGHTICOKE","HOOSIC VALLEY",null,null,null,null,null,null,null,null,null,null,null,null,null,null,{"$f":"IF(B141<>'2017 Base Data'!B141,1,0)","v":0},{"$f":"IF(C141<>'2017 Base Data'!C141,1,0)","v":0},{"$f":"IF(D141<>'2017 Base Data'!D141,1,0)","v":0},{"$f":"IF(E141<>'2017 Base Data'!E141,1,0)","v":0}]
["Town of Schodack",null,null,null,null,null,null,null,null,null,null,null,null,null,null,null,null,null,null,{"$f":"IF(B142<>'2017 Base Data'!B142,1,0)","v":0},{"$f":"IF(C142<>'2017 Base Data'!C142,1,0)","v":0},{"$f":"IF(D142<>'2017 Base Data'!D142,1,0)","v":0},{"$f":"IF(E142<>'2017 Base Data'!E142,1,0)","v":0}]
["Averill Park CSD","RENSSELAER","SCHODACK",null,"AVERILL PARK",null,null,null,null,null,null,null,null,null,null,null,null,null,null,{"$f":"IF(B143<>'2017 Base Data'!B143,1,0)","v":0},{"$f":"IF(C143<>'2017 Base Data'!C143,1,0)","v":0},{"$f":"IF(D143<>'2017 Base Data'!D143,1,0)","v":0},{"$f":"IF(E143<>'2017 Base Data'!E143,1,0)","v":0}]
["East Greenbush CSD","RENSSELAER","SCHODACK",null,"EAST GREENBUSH",null,null,null,null,null,null,null,null,null,null,null,null,null,null,{"$f":"IF(B144<>'2017 Base Data'!B144,1,0)","v":0},{"$f":"IF(C144<>'2017 Base Data'!C144,1,0)","v":0},{"$f":"IF(D144<>'2017 Base Data'!D144,1,0)","v":0},{"$f":"IF(E144<>'2017 Base Data'!E144,1,0)","v":0}]
["Kinderhook CSD","RENSSELAER","SCHODACK",null,"KINDERHOOK",null,null,null,null,null,null,null,null,null,null,null,null,null,null,{"$f":"IF(B145<>'2017 Base Data'!B145,1,0)","v":0},{"$f":"IF(C145<>'2017 Base Data'!C145,1,0)","v":0},{"$f":"IF(D145<>'2017 Base Data'!D145,1,0)","v":0},{"$f":"IF(E145<>'2017 Base Data'!E145,1,0)","v":0}]
["Schodack CSD","RENSSELAER","SCHODACK",null,"SCHODACK",null,null,null,null,null,null,null,null,null,null,null,null,null,null,{"$f":"IF(B146<>'2017 Base Data'!B146,1,0)","v":0},{"$f":"IF(C146<>'2017 Base Data'!C146,1,0)","v":0},{"$f":"IF(D146<>'2017 Base Data'!D146,1,0)","v":0},{"$f":"IF(E146<>'2017 Base Data'!E146,1,0)","v":0}]
["Village of Castleton-on-Hudson",null,null,null,null,null,null,null,null,null,null,null,null,null,null,null,null,null,null,{"$f":"IF(B147<>'2017 Base Data'!B147,1,0)","v":0},{"$f":"IF(C147<>'2017 Base Data'!C147,1,0)","v":0},{"$f":"IF(D147<>'2017 Base Data'!D147,1,0)","v":0},{"$f":"IF(E147<>'2017 Base Data'!E147,1,0)","v":0}]
["Schodack CSD","RENSSELAER","CASTLETON-ON-HUDSON","SCHODACK","SCHODACK",null,null,null,null,null,null,null,null,null,null,null,null,null,null,{"$f":"IF(B148<>'2017 Base Data'!B148,1,0)","v":0},{"$f":"IF(C148<>'2017 Base Data'!C148,1,0)","v":0},{"$f":"IF(D148<>'2017 Base Data'!D148,1,0)","v":0},{"$f":"IF(E148<>'2017 Base Data'!E148,1,0)","v":0}]
["Village of Nassau (part)",null,null,null,null,null,null,null,null,null,null,null,null,null,null,null,null,null,null,{"$f":"IF(B149<>'2017 Base Data'!B149,1,0)","v":0},{"$f":"IF(C149<>'2017 Base Data'!C149,1,0)","v":0},{"$f":"IF(D149<>'2017 Base Data'!D149,1,0)","v":0},{"$f":"IF(E149<>'2017 Base Data'!E149,1,0)","v":0}]
["East Greenbush CSD","RENSSELAER","NASSAU","SCHODACK","EAST GREENBUSH",null,null,null,null,null,null,null,null,null,null,null,null,null,null,{"$f":"IF(B150<>'2017 Base Data'!B150,1,0)","v":0},{"$f":"IF(C150<>'2017 Base Data'!C150,1,0)","v":0},{"$f":"IF(D150<>'2017 Base Data'!D150,1,0)","v":0},{"$f":"IF(E150<>'2017 Base Data'!E150,1,0)","v":0}]
["Town of Stephentown",null,null,null,null,null,null,null,null,null,null,null,null,null,null,null,null,null,null,{"$f":"IF(B151<>'2017 Base Data'!B151,1,0)","v":0},{"$f":"IF(C151<>'2017 Base Data'!C151,1,0)","v":0},{"$f":"IF(D151<>'2017 Base Data'!D151,1,0)","v":0},{"$f":"IF(E151<>'2017 Base Data'!E151,1,0)","v":0}]
["Averill Park CSD","RENSSELAER","STEPHENTOWN",null,"AVERILL PARK",null,null,null,null,null,null,null,null,null,null,null,null,null,null,{"$f":"IF(B152<>'2017 Base Data'!B152,1,0)","v":0},{"$f":"IF(C152<>'2017 Base Data'!C152,1,0)","v":0},{"$f":"IF(D152<>'2017 Base Data'!D152,1,0)","v":0},{"$f":"IF(E152<>'2017 Base Data'!E152,1,0)","v":0}]
["Berlin CSD","RENSSELAER","STEPHENTOWN",null,"BERLIN",null,null,null,null,null,null,null,null,null,null,null,null,null,null,{"$f":"IF(B153<>'2017 Base Data'!B153,1,0)","v":0},{"$f":"IF(C153<>'2017 Base Data'!C153,1,0)","v":0},{"$f":"IF(D153<>'2017 Base Data'!D153,1,0)","v":0},{"$f":"IF(E153<>'2017 Base Data'!E153,1,0)","v":0}]
["New Lebanon CSD","RENSSELAER","STEPHENTOWN",null,"NEW LEBANON",null,null,null,null,null,null,null,null,null,null,null,null,null,null,{"$f":"IF(B154<>'2017 Base Data'!B154,1,0)","v":0},{"$f":"IF(C154<>'2017 Base Data'!C154,1,0)","v":0},{"$f":"IF(D154<>'2017 Base Data'!D154,1,0)","v":0},{"$f":"IF(E154<>'2017 Base Data'!E154,1,0)","v":0}]
["City of Troy",null,null,null,null,null,null,null,null,null,null,null,null,null,null,null,null,null,null,{"$f":"IF(B155<>'2017 Base Data'!B155,1,0)","v":0},{"$f":"IF(C155<>'2017 Base Data'!C155,1,0)","v":0},{"$f":"IF(D155<>'2017 Base Data'!D155,1,0)","v":0},{"$f":"IF(E155<>'2017 Base Data'!E155,1,0)","v":0}]
["Lansingburgh CSD","RENSSELAER","TROY",null,"LANSINGBURGH",null,null,null,null,null,null,null,null,null,null,null,null,null,null,{"$f":"IF(B156<>'2017 Base Data'!B156,1,0)","v":0},{"$f":"IF(C156<>'2017 Base Data'!C156,1,0)","v":0},{"$f":"IF(D156<>'2017 Base Data'!D156,1,0)","v":0},{"$f":"IF(E156<>'2017 Base Data'!E156,1,0)","v":0}]
["Troy City SD","RENSSELAER","TROY",null,"TROY",null,null,null,null,null,null,null,null,null,null,null,null,null,null,{"$f":"IF(B157<>'2017 Base Data'!B157,1,0)","v":0},{"$f":"IF(C157<>'2017 Base Data'!C157,1,0)","v":0},{"$f":"IF(D157<>'2017 Base Data'!D157,1,0)","v":0},{"$f":"IF(E157<>'2017 Base Data'!E157,1,0)","v":0}]
["Saratoga County",null,null,null,null,null,null,null,null,null,null,null,null,null,null,null,null,null,null,{"$f":"IF(B158<>'2017 Base Data'!B158,1,0)","v":0},{"$f":"IF(C158<>'2017 Base Data'!C158,1,0)","v":0},{"$f":"IF(D158<>'2017 Base Data'!D158,1,0)","v":0},{"$f":"IF(E158<>'2017 Base Data'!E158,1,0)","v":0}]
["Town of Ballston",null,null,null,null,null,null,null,null,null,null,null,null,null,null,null,null,null,null,{"$f":"IF(B159<>'2017 Base Data'!B159,1,0)","v":0},{"$f":"IF(C159<>'2017 Base Data'!C159,1,0)","v":0},{"$f":"IF(D159<>'2017 Base Data'!D159,1,0)","v":0},{"$f":"IF(E159<>'2017 Base Data'!E159,1,0)","v":0}]
["Ballston Spa CSD","SARATOGA","BALLSTON",null,"BALLSTON SPA",null,null,null,null,null,null,null,null,null,null,null,null,null,null,{"$f":"IF(B160<>'2017 Base Data'!B160,1,0)","v":0},{"$f":"IF(C160<>'2017 Base Data'!C160,1,0)","v":0},{"$f":"IF(D160<>'2017 Base Data'!D160,1,0)","v":0},{"$f":"IF(E160<>'2017 Base Data'!E160,1,0)","v":0}]
["Burnt Hills-Ballston Lake CSD","SARATOGA","BALLSTON",null,"BURNT HILLS-BALLSTON LAKE",null,null,null,null,null,null,null,null,null,null,null,null,null,null,{"$f":"IF(B161<>'2017 Base Data'!B161,1,0)","v":0},{"$f":"IF(C161<>'2017 Base Data'!C161,1,0)","v":0},{"$f":"IF(D161<>'2017 Base Data'!D161,1,0)","v":0},{"$f":"IF(E161<>'2017 Base Data'!E161,1,0)","v":0}]
["Shenendehowa CSD","SARATOGA","BALLSTON",null,"SHENENDEHOWA",null,null,null,null,null,null,null,null,null,null,null,null,null,null,{"$f":"IF(B162<>'2017 Base Data'!B162,1,0)","v":0},{"$f":"IF(C162<>'2017 Base Data'!C162,1,0)","v":0},{"$f":"IF(D162<>'2017 Base Data'!D162,1,0)","v":0},{"$f":"IF(E162<>'2017 Base Data'!E162,1,0)","v":0}]
["Village of Ballston Spa (part)",null,null,null,null,null,null,null,null,null,null,null,null,null,null,null,null,null,null,{"$f":"IF(B163<>'2017 Base Data'!B163,1,0)","v":0},{"$f":"IF(C163<>'2017 Base Data'!C163,1,0)","v":0},{"$f":"IF(D163<>'2017 Base Data'!D163,1,0)","v":0},{"$f":"IF(E163<>'2017 Base Data'!E163,1,0)","v":0}]
["Ballston Spa CSD","SARATOGA","BALLSTON SPA","BALLSTON","BALLSTON SPA",null,null,null,null,null,null,null,null,null,null,null,null,null,null,{"$f":"IF(B164<>'2017 Base Data'!B164,1,0)","v":0},{"$f":"IF(C164<>'2017 Base Data'!C164,1,0)","v":0},{"$f":"IF(D164<>'2017 Base Data'!D164,1,0)","v":0},{"$f":"IF(E164<>'2017 Base Data'!E164,1,0)","v":0}]
["Town of Charlton",null,null,null,null,null,null,null,null,null,null,null,null,null,null,null,null,null,null,{"$f":"IF(B165<>'2017 Base Data'!B165,1,0)","v":0},{"$f":"IF(C165<>'2017 Base Data'!C165,1,0)","v":0},{"$f":"IF(D165<>'2017 Base Data'!D165,1,0)","v":0},{"$f":"IF(E165<>'2017 Base Data'!E165,1,0)","v":0}]
["Amsterdam City SD","SARATOGA","CHARLTON",null,"AMSTERDAM",null,null,null,null,null,null,null,null,null,null,null,null,null,null,{"$f":"IF(B166<>'2017 Base Data'!B166,1,0)","v":0},{"$f":"IF(C166<>'2017 Base Data'!C166,1,0)","v":0},{"$f":"IF(D166<>'2017 Base Data'!D166,1,0)","v":0},{"$f":"IF(E166<>'2017 Base Data'!E166,1,0)","v":0}]
["Ballston Spa CSD","SARATOGA","CHARLTON",null,"BALLSTON SPA",null,null,null,null,null,null,null,null,null,null,null,null,null,null,{"$f":"IF(B167<>'2017 Base Data'!B167,1,0)","v":0},{"$f":"IF(C167<>'2017 Base Data'!C167,1,0)","v":0},{"$f":"IF(D167<>'2017 Base Data'!D167,1,0)","v":0},{"$f":"IF(E167<>'2017 Base Data'!E167,1,0)","v":0}]
["Burnt Hills-Ballston Lake CSD","SARATOGA","CHARLTON",null,"BURNT HILLS-BALLSTON LAKE",null,null,null,null,null,null,null,null,null,null,null,null,null,null,{"$f":"IF(B168<>'2017 Base Data'!B168,1,0)","v":0},{"$f":"IF(C168<>'2017 Base Data'!C168,1,0)","v":0},{"$f":"IF(D168<>'2017 Base Data'!D168,1,0)","v":0},{"$f":"IF(E168<>'2017 Base Data'!E168,1,0)","v":0}]
["Galway CSD","SARATOGA","CHARLTON",null,"GALWAY",null,null,null,null,null,null,null,null,null,null,null,null,null,null,{"$f":"IF(B169<>'2017 Base Data'!B169,1,0)","v":0},{"$f":"IF(C169<>'2017 Base Data'!C169,1,0)","v":0},{"$f":"IF(D169<>'2017 Base Data'!D169,1,0)","v":0},{"$f":"IF(E169<>'2017 Base Data'!E169,1,0)","v":0}]
["Scotia-Glenville CSD","SARATOGA","CHARLTON",null,"SCOTIA-GLENVILLE",null,null,null,null,null,null,null,null,null,null,null,null,null,null,{"$f":"IF(B170<>'2017 Base Data'!B170,1,0)","v":0},{"$f":"IF(C170<>'2017 Base Data'!C170,1,0)","v":0},{"$f":"IF(D170<>'2017 Base Data'!D170,1,0)","v":0},{"$f":"IF(E170<>'2017 Base Data'!E170,1,0)","v":0}]
["Town of Clifton Park",null,null,null,null,null,null,null,null,null,null,null,null,null,null,null,null,null,null,{"$f":"IF(B171<>'2017 Base Data'!B171,1,0)","v":0},{"$f":"IF(C171<>'2017 Base Data'!C171,1,0)","v":0},{"$f":"IF(D171<>'2017 Base Data'!D171,1,0)","v":0},{"$f":"IF(E171<>'2017 Base Data'!E171,1,0)","v":0}]
["Burnt Hills-Ballston Lake CSD","SARATOGA","CLIFTON PARK",null,"BURNT HILLS-BALLSTON LAKE",null,null,null,null,null,null,null,null,null,null,null,null,null,null,{"$f":"IF(B172<>'2017 Base Data'!B172,1,0)","v":0},{"$f":"IF(C172<>'2017 Base Data'!C172,1,0)","v":0},{"$f":"IF(D172<>'2017 Base Data'!D172,1,0)","v":0},{"$f":"IF(E172<>'2017 Base Data'!E172,1,0)","v":0}]
["Niskayuna CSD","SARATOGA","CLIFTON PARK",null,"NISKAYUNA",null,null,null,null,null,null,null,null,null,null,null,null,null,null,{"$f":"IF(B173<>'2017 Base Data'!B173,1,0)","v":0},{"$f":"IF(C173<>'2017 Base Data'!C173,1,0)","v":0},{"$f":"IF(D173<>'2017 Base Data'!D173,1,0)","v":0},{"$f":"IF(E173<>'2017 Base Data'!E173,1,0)","v":0}]
["Shenendehowa CSD","SARATOGA","CLIFTON PARK",null,"SHENENDEHOWA",null,null,null,null,null,null,null,null,null,null,null,null,null,null,{"$f":"IF(B174<>'2017 Base Data'!B174,1,0)","v":0},{"$f":"IF(C174<>'2017 Base Data'!C174,1,0)","v":0},{"$f":"IF(D174<>'2017 Base Data'!D174,1,0)","v":0},{"$f":"IF(E174<>'2017 Base Data'!E174,1,0)","v":0}]
["Town of Corinth",null,null,null,null,null,null,null,null,null,null,null,null,null,null,null,null,null,null,{"$f":"IF(B175<>'2017 Base Data'!B175,1,0)","v":0},{"$f":"IF(C175<>'2017 Base Data'!C175,1,0)","v":0},{"$f":"IF(D175<>'2017 Base Data'!D175,1,0)","v":0},{"$f":"IF(E175<>'2017 Base Data'!E175,1,0)","v":0}]
["Corinth CSD","SARATOGA","CORINTH",null,"CORINTH",null,null,null,null,null,null,null,null,null,null,null,null,null,null,{"$f":"IF(B176<>'2017 Base Data'!B176,1,0)","v":0},{"$f":"IF(C176<>'2017 Base Data'!C176,1,0)","v":0},{"$f":"IF(D176<>'2017 Base Data'!D176,1,0)","v":0},{"$f":"IF(E176<>'2017 Base Data'!E176,1,0)","v":0}]
["Village of Corinth",null,null,null,null,null,null,null,null,null,null,null,null,null,null,null,null,null,null,{"$f":"IF(B177<>'2017 Base Data'!B177,1,0)","v":0},{"$f":"IF(C177<>'2017 Base Data'!C177,1,0)","v":0},{"$f":"IF(D177<>'2017 Base Data'!D177,1,0)","v":0},{"$f":"IF(E177<>'2017 Base Data'!E177,1,0)","v":0}]
["Corinth CSD","SARATOGA","CORINTH","CORINTH","CORINTH",null,null,null,null,null,null,null,null,null,null,null,null,null,null,{"$f":"IF(B178<>'2017 Base Data'!B178,1,0)","v":0},{"$f":"IF(C178<>'2017 Base Data'!C178,1,0)","v":0},{"$f":"IF(D178<>'2017 Base Data'!D178,1,0)","v":0},{"$f":"IF(E178<>'2017 Base Data'!E178,1,0)","v":0}]
["Town of Day",null,null,null,null,null,null,null,null,null,null,null,null,null,null,null,null,null,null,{"$f":"IF(B179<>'2017 Base Data'!B179,1,0)","v":0},{"$f":"IF(C179<>'2017 Base Data'!C179,1,0)","v":0},{"$f":"IF(D179<>'2017 Base Data'!D179,1,0)","v":0},{"$f":"IF(E179<>'2017 Base Data'!E179,1,0)","v":0}]
["Corinth CSD","SARATOGA","DAY",null,"CORINTH",null,null,null,null,null,null,null,null,null,null,null,null,null,null,{"$f":"IF(B180<>'2017 Base Data'!B180,1,0)","v":0},{"$f":"IF(C180<>'2017 Base Data'!C180,1,0)","v":0},{"$f":"IF(D180<>'2017 Base Data'!D180,1,0)","v":0},{"$f":"IF(E180<>'2017 Base Data'!E180,1,0)","v":0}]
["Edinburg Common SD","SARATOGA","DAY",null,"EDINBURG",null,null,null,null,null,null,null,null,null,null,null,null,null,null,{"$f":"IF(B181<>'2017 Base Data'!B181,1,0)","v":0},{"$f":"IF(C181<>'2017 Base Data'!C181,1,0)","v":0},{"$f":"IF(D181<>'2017 Base Data'!D181,1,0)","v":0},{"$f":"IF(E181<>'2017 Base Data'!E181,1,0)","v":0}]
["Hadley-Luzerne CSD","SARATOGA","DAY",null,"HADLEY-LUZERNE",null,null,null,null,null,null,null,null,null,null,null,null,null,null,{"$f":"IF(B182<>'2017 Base Data'!B182,1,0)","v":0},{"$f":"IF(C182<>'2017 Base Data'!C182,1,0)","v":0},{"$f":"IF(D182<>'2017 Base Data'!D182,1,0)","v":0},{"$f":"IF(E182<>'2017 Base Data'!E182,1,0)","v":0}]
["Town of Edinburg",null,null,null,null,null,null,null,null,null,null,null,null,null,null,null,null,null,null,{"$f":"IF(B183<>'2017 Base Data'!B183,1,0)","v":0},{"$f":"IF(C183<>'2017 Base Data'!C183,1,0)","v":0},{"$f":"IF(D183<>'2017 Base Data'!D183,1,0)","v":0},{"$f":"IF(E183<>'2017 Base Data'!E183,1,0)","v":0}]
["Broadalbin-Perth CSD","SARATOGA","EDINBURG",null,"BROADALBIN-PERTH",null,null,null,null,null,null,null,null,null,null,null,null,null,null,{"$f":"IF(B184<>'2017 Base Data'!B184,1,0)","v":0},{"$f":"IF(C184<>'2017 Base Data'!C184,1,0)","v":0},{"$f":"IF(D184<>'2017 Base Data'!D184,1,0)","v":0},{"$f":"IF(E184<>'2017 Base Data'!E184,1,0)","v":0}]
["Edinburg Common SD","SARATOGA","EDINBURG",null,"EDINBURG",null,null,null,null,null,null,null,null,null,null,null,null,null,null,{"$f":"IF(B185<>'2017 Base Data'!B185,1,0)","v":0},{"$f":"IF(C185<>'2017 Base Data'!C185,1,0)","v":0},{"$f":"IF(D185<>'2017 Base Data'!D185,1,0)","v":0},{"$f":"IF(E185<>'2017 Base Data'!E185,1,0)","v":0}]
["Hadley-Luzerne CSD","SARATOGA","EDINBURG",null,"HADLEY-LUZERNE",null,null,null,null,null,null,null,null,null,null,null,null,null,null,{"$f":"IF(B186<>'2017 Base Data'!B186,1,0)","v":0},{"$f":"IF(C186<>'2017 Base Data'!C186,1,0)","v":0},{"$f":"IF(D186<>'2017 Base Data'!D186,1,0)","v":0},{"$f":"IF(E186<>'2017 Base Data'!E186,1,0)","v":0}]
["Northville CSD","SARATOGA","EDINBURG",null,"NORTHVILLE",null,null,null,null,null,null,null,null,null,null,null,null,null,null,{"$f":"IF(B187<>'2017 Base Data'!B187,1,0)","v":0},{"$f":"IF(C187<>'2017 Base Data'!C187,1,0)","v":0},{"$f":"IF(D187<>'2017 Base Data'!D187,1,0)","v":0},{"$f":"IF(E187<>'2017 Base Data'!E187,1,0)","v":0}]
["Town of Galway",null,null,null,null,null,null,null,null,null,null,null,null,null,null,null,null,null,null,{"$f":"IF(B188<>'2017 Base Data'!B188,1,0)","v":0},{"$f":"IF(C188<>'2017 Base Data'!C188,1,0)","v":0},{"$f":"IF(D188<>'2017 Base Data'!D188,1,0)","v":0},{"$f":"IF(E188<>'2017 Base Data'!E188,1,0)","v":0}]
["Broadalbin-Perth CSD","SARATOGA","GALWAY",null,"BROADALBIN-PERTH",null,null,null,null,null,null,null,null,null,null,null,null,null,null,{"$f":"IF(B189<>'2017 Base Data'!B189,1,0)","v":0},{"$f":"IF(C189<>'2017 Base Data'!C189,1,0)","v":0},{"$f":"IF(D189<>'2017 Base Data'!D189,1,0)","v":0},{"$f":"IF(E189<>'2017 Base Data'!E189,1,0)","v":0}]
["Galway CSD","SARATOGA","GALWAY",null,"GALWAY",null,null,null,null,null,null,null,null,null,null,null,null,null,null,{"$f":"IF(B190<>'2017 Base Data'!B190,1,0)","v":0},{"$f":"IF(C190<>'2017 Base Data'!C190,1,0)","v":0},{"$f":"IF(D190<>'2017 Base Data'!D190,1,0)","v":0},{"$f":"IF(E190<>'2017 Base Data'!E190,1,0)","v":0}]
["Village of Galway",null,null,null,null,null,null,null,null,null,null,null,null,null,null,null,null,null,null,{"$f":"IF(B191<>'2017 Base Data'!B191,1,0)","v":0},{"$f":"IF(C191<>'2017 Base Data'!C191,1,0)","v":0},{"$f":"IF(D191<>'2017 Base Data'!D191,1,0)","v":0},{"$f":"IF(E191<>'2017 Base Data'!E191,1,0)","v":0}]
["Galway CSD","SARATOGA","GALWAY","GALWAY","GALWAY",null,null,null,null,null,null,null,null,null,null,null,null,null,null,{"$f":"IF(B192<>'2017 Base Data'!B192,1,0)","v":0},{"$f":"IF(C192<>'2017 Base Data'!C192,1,0)","v":0},{"$f":"IF(D192<>'2017 Base Data'!D192,1,0)","v":0},{"$f":"IF(E192<>'2017 Base Data'!E192,1,0)","v":0}]
["Town of Greenfield",null,null,null,null,null,null,null,null,null,null,null,null,null,null,null,null,null,null,{"$f":"IF(B193<>'2017 Base Data'!B193,1,0)","v":0},{"$f":"IF(C193<>'2017 Base Data'!C193,1,0)","v":0},{"$f":"IF(D193<>'2017 Base Data'!D193,1,0)","v":0},{"$f":"IF(E193<>'2017 Base Data'!E193,1,0)","v":0}]
["Corinth CSD","SARATOGA","GREENFIELD",null,"CORINTH",null,null,null,null,null,null,null,null,null,null,null,null,null,null,{"$f":"IF(B194<>'2017 Base Data'!B194,1,0)","v":0},{"$f":"IF(C194<>'2017 Base Data'!C194,1,0)","v":0},{"$f":"IF(D194<>'2017 Base Data'!D194,1,0)","v":0},{"$f":"IF(E194<>'2017 Base Data'!E194,1,0)","v":0}]
["Saratoga Springs City SD","SARATOGA","GREENFIELD",null,"SARATOGA SPRINGS",null,null,null,null,null,null,null,null,null,null,null,null,null,null,{"$f":"IF(B195<>'2017 Base Data'!B195,1,0)","v":0},{"$f":"IF(C195<>'2017 Base Data'!C195,1,0)","v":0},{"$f":"IF(D195<>'2017 Base Data'!D195,1,0)","v":0},{"$f":"IF(E195<>'2017 Base Data'!E195,1,0)","v":0}]
["Town of Hadley",null,null,null,null,null,null,null,null,null,null,null,null,null,null,null,null,null,null,{"$f":"IF(B196<>'2017 Base Data'!B196,1,0)","v":0},{"$f":"IF(C196<>'2017 Base Data'!C196,1,0)","v":0},{"$f":"IF(D196<>'2017 Base Data'!D196,1,0)","v":0},{"$f":"IF(E196<>'2017 Base Data'!E196,1,0)","v":0}]
["Corinth CSD","SARATOGA","HADLEY",null,"CORINTH",null,null,null,null,null,null,null,null,null,null,null,null,null,null,{"$f":"IF(B197<>'2017 Base Data'!B197,1,0)","v":0},{"$f":"IF(C197<>'2017 Base Data'!C197,1,0)","v":0},{"$f":"IF(D197<>'2017 Base Data'!D197,1,0)","v":0},{"$f":"IF(E197<>'2017 Base Data'!E197,1,0)","v":0}]
["Hadley-Luzerne CSD","SARATOGA","HADLEY",null,"HADLEY-LUZERNE",null,null,null,null,null,null,null,null,null,null,null,null,null,null,{"$f":"IF(B198<>'2017 Base Data'!B198,1,0)","v":0},{"$f":"IF(C198<>'2017 Base Data'!C198,1,0)","v":0},{"$f":"IF(D198<>'2017 Base Data'!D198,1,0)","v":0},{"$f":"IF(E198<>'2017 Base Data'!E198,1,0)","v":0}]
["Town of Halfmoon",null,null,null,null,null,null,null,null,null,null,null,null,null,null,null,null,null,null,{"$f":"IF(B199<>'2017 Base Data'!B199,1,0)","v":0},{"$f":"IF(C199<>'2017 Base Data'!C199,1,0)","v":0},{"$f":"IF(D199<>'2017 Base Data'!D199,1,0)","v":0},{"$f":"IF(E199<>'2017 Base Data'!E199,1,0)","v":0}]
["Mechanicville City SD","SARATOGA","HALFMOON",null,"MECHANICVILLE",null,null,null,null,null,null,null,null,null,null,null,null,null,null,{"$f":"IF(B200<>'2017 Base Data'!B200,1,0)","v":0},{"$f":"IF(C200<>'2017 Base Data'!C200,1,0)","v":0},{"$f":"IF(D200<>'2017 Base Data'!D200,1,0)","v":0},{"$f":"IF(E200<>'2017 Base Data'!E200,1,0)","v":0}]
["Shenendehowa CSD","SARATOGA","HALFMOON",null,"SHENENDEHOWA",null,null,null,null,null,null,null,null,null,null,null,null,null,null,{"$f":"IF(B201<>'2017 Base Data'!B201,1,0)","v":0},{"$f":"IF(C201<>'2017 Base Data'!C201,1,0)","v":0},{"$f":"IF(D201<>'2017 Base Data'!D201,1,0)","v":0},{"$f":"IF(E201<>'2017 Base Data'!E201,1,0)","v":0}]
["Waterford-Halfmoon UFSD","SARATOGA","HALFMOON",null,"WATERFORD-HALFMOON",null,null,null,null,null,null,null,null,null,null,null,null,null,null,{"$f":"IF(B202<>'2017 Base Data'!B202,1,0)","v":0},{"$f":"IF(C202<>'2017 Base Data'!C202,1,0)","v":0},{"$f":"IF(D202<>'2017 Base Data'!D202,1,0)","v":0},{"$f":"IF(E202<>'2017 Base Data'!E202,1,0)","v":0}]
["Town of Malta",null,null,null,null,null,null,null,null,null,null,null,null,null,null,null,null,null,null,{"$f":"IF(B203<>'2017 Base Data'!B203,1,0)","v":0},{"$f":"IF(C203<>'2017 Base Data'!C203,1,0)","v":0},{"$f":"IF(D203<>'2017 Base Data'!D203,1,0)","v":0},{"$f":"IF(E203<>'2017 Base Data'!E203,1,0)","v":0}]
["Ballston Spa CSD","SARATOGA","MALTA",null,"BALLSTON SPA",null,null,null,null,null,null,null,null,null,null,null,null,null,null,{"$f":"IF(B204<>'2017 Base Data'!B204,1,0)","v":0},{"$f":"IF(C204<>'2017 Base Data'!C204,1,0)","v":0},{"$f":"IF(D204<>'2017 Base Data'!D204,1,0)","v":0},{"$f":"IF(E204<>'2017 Base Data'!E204,1,0)","v":0}]
["Saratoga Springs City SD","SARATOGA","MALTA",null,"SARATOGA SPRINGS",null,null,null,null,null,null,null,null,null,null,null,null,null,null,{"$f":"IF(B205<>'2017 Base Data'!B205,1,0)","v":0},{"$f":"IF(C205<>'2017 Base Data'!C205,1,0)","v":0},{"$f":"IF(D205<>'2017 Base Data'!D205,1,0)","v":0},{"$f":"IF(E205<>'2017 Base Data'!E205,1,0)","v":0}]
["Shenendehowa CSD","SARATOGA","MALTA",null,"SHENENDEHOWA",null,null,null,null,null,null,null,null,null,null,null,null,null,null,{"$f":"IF(B206<>'2017 Base Data'!B206,1,0)","v":0},{"$f":"IF(C206<>'2017 Base Data'!C206,1,0)","v":0},{"$f":"IF(D206<>'2017 Base Data'!D206,1,0)","v":0},{"$f":"IF(E206<>'2017 Base Data'!E206,1,0)","v":0}]
["Village of Round Lake",null,null,null,null,null,null,null,null,null,null,null,null,null,null,null,null,null,null,{"$f":"IF(B207<>'2017 Base Data'!B207,1,0)","v":0},{"$f":"IF(C207<>'2017 Base Data'!C207,1,0)","v":0},{"$f":"IF(D207<>'2017 Base Data'!D207,1,0)","v":0},{"$f":"IF(E207<>'2017 Base Data'!E207,1,0)","v":0}]
["Shenendehowa CSD","SARATOGA","ROUND LAKE","MALTA","SHENENDEHOWA",null,null,null,null,null,null,null,null,null,null,null,null,null,null,{"$f":"IF(B208<>'2017 Base Data'!B208,1,0)","v":0},{"$f":"IF(C208<>'2017 Base Data'!C208,1,0)","v":0},{"$f":"IF(D208<>'2017 Base Data'!D208,1,0)","v":0},{"$f":"IF(E208<>'2017 Base Data'!E208,1,0)","v":0}]
["City of Mechanicville",null,null,null,null,null,null,null,null,null,null,null,null,null,null,null,null,null,null,{"$f":"IF(B209<>'2017 Base Data'!B209,1,0)","v":0},{"$f":"IF(C209<>'2017 Base Data'!C209,1,0)","v":0},{"$f":"IF(D209<>'2017 Base Data'!D209,1,0)","v":0},{"$f":"IF(E209<>'2017 Base Data'!E209,1,0)","v":0}]
["Mechanicville City SD","SARATOGA","MECHANICVILLE",null,"MECHANICVILLE",null,null,null,null,null,null,null,null,null,null,null,null,null,null,{"$f":"IF(B210<>'2017 Base Data'!B210,1,0)","v":0},{"$f":"IF(C210<>'2017 Base Data'!C210,1,0)","v":0},{"$f":"IF(D210<>'2017 Base Data'!D210,1,0)","v":0},{"$f":"IF(E210<>'2017 Base Data'!E210,1,0)","v":0}]
["Town of Milton",null,null,null,null,null,null,null,null,null,null,null,null,null,null,null,null,null,null,{"$f":"IF(B211<>'2017 Base Data'!B211,1,0)","v":0},{"$f":"IF(C211<>'2017 Base Data'!C211,1,0)","v":0},{"$f":"IF(D211<>'2017 Base Data'!D211,1,0)","v":0},{"$f":"IF(E211<>'2017 Base Data'!E211,1,0)","v":0}]
["Ballston Spa CSD","SARATOGA","MILTON",null,"BALLSTON SPA",null,null,null,null,null,null,null,null,null,null,null,null,null,null,{"$f":"IF(B212<>'2017 Base Data'!B212,1,0)","v":0},{"$f":"IF(C212<>'2017 Base Data'!C212,1,0)","v":0},{"$f":"IF(D212<>'2017 Base Data'!D212,1,0)","v":0},{"$f":"IF(E212<>'2017 Base Data'!E212,1,0)","v":0}]
["Galway CSD","SARATOGA","MILTON",null,"GALWAY",null,null,null,null,null,null,null,null,null,null,null,null,null,null,{"$f":"IF(B213<>'2017 Base Data'!B213,1,0)","v":0},{"$f":"IF(C213<>'2017 Base Data'!C213,1,0)","v":0},{"$f":"IF(D213<>'2017 Base Data'!D213,1,0)","v":0},{"$f":"IF(E213<>'2017 Base Data'!E213,1,0)","v":0}]
["Saratoga Springs City SD","SARATOGA","MILTON",null,"SARATOGA SPRINGS",null,null,null,null,null,null,null,null,null,null,null,null,null,null,{"$f":"IF(B214<>'2017 Base Data'!B214,1,0)","v":0},{"$f":"IF(C214<>'2017 Base Data'!C214,1,0)","v":0},{"$f":"IF(D214<>'2017 Base Data'!D214,1,0)","v":0},{"$f":"IF(E214<>'2017 Base Data'!E214,1,0)","v":0}]
["Village of Ballston Spa (part)",null,null,null,null,null,null,null,null,null,null,null,null,null,null,null,null,null,null,{"$f":"IF(B215<>'2017 Base Data'!B215,1,0)","v":0},{"$f":"IF(C215<>'2017 Base Data'!C215,1,0)","v":0},{"$f":"IF(D215<>'2017 Base Data'!D215,1,0)","v":0},{"$f":"IF(E215<>'2017 Base Data'!E215,1,0)","v":0}]
["Ballston Spa CSD","SARATOGA","BALLSTON SPA","MILTON","BALLSTON SPA",null,null,null,null,null,null,null,null,null,null,null,null,null,null,{"$f":"IF(B216<>'2017 Base Data'!B216,1,0)","v":0},{"$f":"IF(C216<>'2017 Base Data'!C216,1,0)","v":0},{"$f":"IF(D216<>'2017 Base Data'!D216,1,0)","v":0},{"$f":"IF(E216<>'2017 Base Data'!E216,1,0)","v":0}]
["Town of Moreau",null,null,null,null,null,null,null,null,null,null,null,null,null,null,null,null,null,null,{"$f":"IF(B217<>'2017 Base Data'!B217,1,0)","v":0},{"$f":"IF(C217<>'2017 Base Data'!C217,1,0)","v":0},{"$f":"IF(D217<>'2017 Base Data'!D217,1,0)","v":0},{"$f":"IF(E217<>'2017 Base Data'!E217,1,0)","v":0}]
["Hudson Falls CSD","SARATOGA","MOREAU",null,"HUDSON FALLS",null,null,null,null,null,null,null,null,null,null,null,null,null,null,{"$f":"IF(B218<>'2017 Base Data'!B218,1,0)","v":0},{"$f":"IF(C218<>'2017 Base Data'!C218,1,0)","v":0},{"$f":"IF(D218<>'2017 Base Data'!D218,1,0)","v":0},{"$f":"IF(E218<>'2017 Base Data'!E218,1,0)","v":0}]
["South Glens Falls CSD","SARATOGA","MOREAU",null,"SOUTH GLENS FALLS",null,null,null,null,null,null,null,null,null,null,null,null,null,null,{"$f":"IF(B219<>'2017 Base Data'!B219,1,0)","v":0},{"$f":"IF(C219<>'2017 Base Data'!C219,1,0)","v":0},{"$f":"IF(D219<>'2017 Base Data'!D219,1,0)","v":0},{"$f":"IF(E219<>'2017 Base Data'!E219,1,0)","v":0}]
["Village of South Glens Falls",null,null,null,null,null,null,null,null,null,null,null,null,null,null,null,null,null,null,{"$f":"IF(B220<>'2017 Base Data'!B220,1,0)","v":0},{"$f":"IF(C220<>'2017 Base Data'!C220,1,0)","v":0},{"$f":"IF(D220<>'2017 Base Data'!D220,1,0)","v":0},{"$f":"IF(E220<>'2017 Base Data'!E220,1,0)","v":0}]
["South Glens Falls CSD","SARATOGA","SOUTH GLENS FALLS","MOREAU","SOUTH GLENS FALLS",null,null,null,null,null,null,null,null,null,null,null,null,null,null,{"$f":"IF(B221<>'2017 Base Data'!B221,1,0)","v":0},{"$f":"IF(C221<>'2017 Base Data'!C221,1,0)","v":0},{"$f":"IF(D221<>'2017 Base Data'!D221,1,0)","v":0},{"$f":"IF(E221<>'2017 Base Data'!E221,1,0)","v":0}]
["Town of Northumberland",null,null,null,null,null,null,null,null,null,null,null,null,null,null,null,null,null,null,{"$f":"IF(B222<>'2017 Base Data'!B222,1,0)","v":0},{"$f":"IF(C222<>'2017 Base Data'!C222,1,0)","v":0},{"$f":"IF(D222<>'2017 Base Data'!D222,1,0)","v":0},{"$f":"IF(E222<>'2017 Base Data'!E222,1,0)","v":0}]
["Schuylerville CSD","SARATOGA","NORTHUMBERLAND",null,"SCHUYLERVILLE",null,null,null,null,null,null,null,null,null,null,null,null,null,null,{"$f":"IF(B223<>'2017 Base Data'!B223,1,0)","v":0},{"$f":"IF(C223<>'2017 Base Data'!C223,1,0)","v":0},{"$f":"IF(D223<>'2017 Base Data'!D223,1,0)","v":0},{"$f":"IF(E223<>'2017 Base Data'!E223,1,0)","v":0}]
["South Glens Falls CSD","SARATOGA","NORTHUMBERLAND",null,"SOUTH GLENS FALLS",null,null,null,null,null,null,null,null,null,null,null,null,null,null,{"$f":"IF(B224<>'2017 Base Data'!B224,1,0)","v":0},{"$f":"IF(C224<>'2017 Base Data'!C224,1,0)","v":0},{"$f":"IF(D224<>'2017 Base Data'!D224,1,0)","v":0},{"$f":"IF(E224<>'2017 Base Data'!E224,1,0)","v":0}]
["Town of Providence",null,null,null,null,null,null,null,null,null,null,null,null,null,null,null,null,null,null,{"$f":"IF(B225<>'2017 Base Data'!B225,1,0)","v":0},{"$f":"IF(C225<>'2017 Base Data'!C225,1,0)","v":0},{"$f":"IF(D225<>'2017 Base Data'!D225,1,0)","v":0},{"$f":"IF(E225<>'2017 Base Data'!E225,1,0)","v":0}]
["Broadalbin-Perth CSD","SARATOGA","PROVIDENCE",null,"BROADALBIN-PERTH",null,null,null,null,null,null,null,null,null,null,null,null,null,null,{"$f":"IF(B226<>'2017 Base Data'!B226,1,0)","v":0},{"$f":"IF(C226<>'2017 Base Data'!C226,1,0)","v":0},{"$f":"IF(D226<>'2017 Base Data'!D226,1,0)","v":0},{"$f":"IF(E226<>'2017 Base Data'!E226,1,0)","v":0}]
["Galway CSD","SARATOGA","PROVIDENCE",null,"GALWAY",null,null,null,null,null,null,null,null,null,null,null,null,null,null,{"$f":"IF(B227<>'2017 Base Data'!B227,1,0)","v":0},{"$f":"IF(C227<>'2017 Base Data'!C227,1,0)","v":0},{"$f":"IF(D227<>'2017 Base Data'!D227,1,0)","v":0},{"$f":"IF(E227<>'2017 Base Data'!E227,1,0)","v":0}]
["Town of Saratoga",null,null,null,null,null,null,null,null,null,null,null,null,null,null,null,null,null,null,{"$f":"IF(B228<>'2017 Base Data'!B228,1,0)","v":0},{"$f":"IF(C228<>'2017 Base Data'!C228,1,0)","v":0},{"$f":"IF(D228<>'2017 Base Data'!D228,1,0)","v":0},{"$f":"IF(E228<>'2017 Base Data'!E228,1,0)","v":0}]
["Saratoga Springs City SD","SARATOGA","SARATOGA",null,"SARATOGA SPRINGS",null,null,null,null,null,null,null,null,null,null,null,null,null,null,{"$f":"IF(B229<>'2017 Base Data'!B229,1,0)","v":0},{"$f":"IF(C229<>'2017 Base Data'!C229,1,0)","v":0},{"$f":"IF(D229<>'2017 Base Data'!D229,1,0)","v":0},{"$f":"IF(E229<>'2017 Base Data'!E229,1,0)","v":0}]
["Schuylerville CSD","SARATOGA","SARATOGA",null,"SCHUYLERVILLE",null,null,null,null,null,null,null,null,null,null,null,null,null,null,{"$f":"IF(B230<>'2017 Base Data'!B230,1,0)","v":0},{"$f":"IF(C230<>'2017 Base Data'!C230,1,0)","v":0},{"$f":"IF(D230<>'2017 Base Data'!D230,1,0)","v":0},{"$f":"IF(E230<>'2017 Base Data'!E230,1,0)","v":0}]
["Stillwater CSD","SARATOGA","SARATOGA",null,"STILLWATER",null,null,null,null,null,null,null,null,null,null,null,null,null,null,{"$f":"IF(B231<>'2017 Base Data'!B231,1,0)","v":0},{"$f":"IF(C231<>'2017 Base Data'!C231,1,0)","v":0},{"$f":"IF(D231<>'2017 Base Data'!D231,1,0)","v":0},{"$f":"IF(E231<>'2017 Base Data'!E231,1,0)","v":0}]
["Village of Schuylerville",null,null,null,null,null,null,null,null,null,null,null,null,null,null,null,null,null,null,{"$f":"IF(B232<>'2017 Base Data'!B232,1,0)","v":0},{"$f":"IF(C232<>'2017 Base Data'!C232,1,0)","v":0},{"$f":"IF(D232<>'2017 Base Data'!D232,1,0)","v":0},{"$f":"IF(E232<>'2017 Base Data'!E232,1,0)","v":0}]
["Schuylerville CSD","SARATOGA","SCHUYLERVILLE","SARATOGA","SCHUYLERVILLE",null,null,null,null,null,null,null,null,null,null,null,null,null,null,{"$f":"IF(B233<>'2017 Base Data'!B233,1,0)","v":0},{"$f":"IF(C233<>'2017 Base Data'!C233,1,0)","v":0},{"$f":"IF(D233<>'2017 Base Data'!D233,1,0)","v":0},{"$f":"IF(E233<>'2017 Base Data'!E233,1,0)","v":0}]
["Village of Victory",null,null,null,null,null,null,null,null,null,null,null,null,null,null,null,null,null,null,{"$f":"IF(B234<>'2017 Base Data'!B234,1,0)","v":0},{"$f":"IF(C234<>'2017 Base Data'!C234,1,0)","v":0},{"$f":"IF(D234<>'2017 Base Data'!D234,1,0)","v":0},{"$f":"IF(E234<>'2017 Base Data'!E234,1,0)","v":0}]
["Schuylerville CSD","SARATOGA","VICTORY","SARATOGA","SCHUYLERVILLE",null,null,null,null,null,null,null,null,null,null,null,null,null,null,{"$f":"IF(B235<>'2017 Base Data'!B235,1,0)","v":0},{"$f":"IF(C235<>'2017 Base Data'!C235,1,0)","v":0},{"$f":"IF(D235<>'2017 Base Data'!D235,1,0)","v":0},{"$f":"IF(E235<>'2017 Base Data'!E235,1,0)","v":0}]
["City of Saratoga Springs",null,null,null,null,null,null,null,null,null,null,null,null,null,null,null,null,null,null,{"$f":"IF(B236<>'2017 Base Data'!B236,1,0)","v":0},{"$f":"IF(C236<>'2017 Base Data'!C236,1,0)","v":0},{"$f":"IF(D236<>'2017 Base Data'!D236,1,0)","v":0},{"$f":"IF(E236<>'2017 Base Data'!E236,1,0)","v":0}]
["Saratoga Springs City SD","SARATOGA","SARATOGA SPRINGS",null,"SARATOGA SPRINGS",null,null,null,null,null,null,null,null,null,null,null,null,null,null,{"$f":"IF(B237<>'2017 Base Data'!B237,1,0)","v":0},{"$f":"IF(C237<>'2017 Base Data'!C237,1,0)","v":0},{"$f":"IF(D237<>'2017 Base Data'!D237,1,0)","v":0},{"$f":"IF(E237<>'2017 Base Data'!E237,1,0)","v":0}]
["Town of Stillwater",null,null,null,null,null,null,null,null,null,null,null,null,null,null,null,null,null,null,{"$f":"IF(B238<>'2017 Base Data'!B238,1,0)","v":0},{"$f":"IF(C238<>'2017 Base Data'!C238,1,0)","v":0},{"$f":"IF(D238<>'2017 Base Data'!D238,1,0)","v":0},{"$f":"IF(E238<>'2017 Base Data'!E238,1,0)","v":0}]
["Mechanicville City SD","SARATOGA","STILLWATER",null,"MECHANICVILLE",null,null,null,null,null,null,null,null,null,null,null,null,null,null,{"$f":"IF(B239<>'2017 Base Data'!B239,1,0)","v":0},{"$f":"IF(C239<>'2017 Base Data'!C239,1,0)","v":0},{"$f":"IF(D239<>'2017 Base Data'!D239,1,0)","v":0},{"$f":"IF(E239<>'2017 Base Data'!E239,1,0)","v":0}]
["Schuylerville CSD","SARATOGA","STILLWATER",null,"SCHUYLERVILLE",null,null,null,null,null,null,null,null,null,null,null,null,null,null,{"$f":"IF(B240<>'2017 Base Data'!B240,1,0)","v":0},{"$f":"IF(C240<>'2017 Base Data'!C240,1,0)","v":0},{"$f":"IF(D240<>'2017 Base Data'!D240,1,0)","v":0},{"$f":"IF(E240<>'2017 Base Data'!E240,1,0)","v":0}]
["Shenendehowa CSD","SARATOGA","STILLWATER",null,"SHENENDEHOWA",null,null,null,null,null,null,null,null,null,null,null,null,null,null,{"$f":"IF(B241<>'2017 Base Data'!B241,1,0)","v":0},{"$f":"IF(C241<>'2017 Base Data'!C241,1,0)","v":0},{"$f":"IF(D241<>'2017 Base Data'!D241,1,0)","v":0},{"$f":"IF(E241<>'2017 Base Data'!E241,1,0)","v":0}]
["Stillwater CSD","SARATOGA","STILLWATER",null,"STILLWATER",null,null,null,null,null,null,null,null,null,null,null,null,null,null,{"$f":"IF(B242<>'2017 Base Data'!B242,1,0)","v":0},{"$f":"IF(C242<>'2017 Base Data'!C242,1,0)","v":0},{"$f":"IF(D242<>'2017 Base Data'!D242,1,0)","v":0},{"$f":"IF(E242<>'2017 Base Data'!E242,1,0)","v":0}]
["Village of Stillwater",null,null,null,null,null,null,null,null,null,null,null,null,null,null,null,null,null,null,{"$f":"IF(B243<>'2017 Base Data'!B243,1,0)","v":0},{"$f":"IF(C243<>'2017 Base Data'!C243,1,0)","v":0},{"$f":"IF(D243<>'2017 Base Data'!D243,1,0)","v":0},{"$f":"IF(E243<>'2017 Base Data'!E243,1,0)","v":0}]
["Stillwater CSD","SARATOGA","STILLWATER","STILLWATER","STILLWATER",null,null,null,null,null,null,null,null,null,null,null,null,null,null,{"$f":"IF(B244<>'2017 Base Data'!B244,1,0)","v":0},{"$f":"IF(C244<>'2017 Base Data'!C244,1,0)","v":0},{"$f":"IF(D244<>'2017 Base Data'!D244,1,0)","v":0},{"$f":"IF(E244<>'2017 Base Data'!E244,1,0)","v":0}]
["Town of Waterford",null,null,null,null,null,null,null,null,null,null,null,null,null,null,null,null,null,null,{"$f":"IF(B245<>'2017 Base Data'!B245,1,0)","v":0},{"$f":"IF(C245<>'2017 Base Data'!C245,1,0)","v":0},{"$f":"IF(D245<>'2017 Base Data'!D245,1,0)","v":0},{"$f":"IF(E245<>'2017 Base Data'!E245,1,0)","v":0}]
["Shenendehowa CSD","SARATOGA","WATERFORD",null,"SHENENDEHOWA",null,null,null,null,null,null,null,null,null,null,null,null,null,null,{"$f":"IF(B246<>'2017 Base Data'!B246,1,0)","v":0},{"$f":"IF(C246<>'2017 Base Data'!C246,1,0)","v":0},{"$f":"IF(D246<>'2017 Base Data'!D246,1,0)","v":0},{"$f":"IF(E246<>'2017 Base Data'!E246,1,0)","v":0}]
["Waterford-Halfmoon UFSD","SARATOGA","WATERFORD",null,"WATERFORD-HALFMOON",null,null,null,null,null,null,null,null,null,null,null,null,null,null,{"$f":"IF(B247<>'2017 Base Data'!B247,1,0)","v":0},{"$f":"IF(C247<>'2017 Base Data'!C247,1,0)","v":0},{"$f":"IF(D247<>'2017 Base Data'!D247,1,0)","v":0},{"$f":"IF(E247<>'2017 Base Data'!E247,1,0)","v":0}]
["Village of Waterford",null,null,null,null,null,null,null,null,null,null,null,null,null,null,null,null,null,null,{"$f":"IF(B248<>'2017 Base Data'!B248,1,0)","v":0},{"$f":"IF(C248<>'2017 Base Data'!C248,1,0)","v":0},{"$f":"IF(D248<>'2017 Base Data'!D248,1,0)","v":0},{"$f":"IF(E248<>'2017 Base Data'!E248,1,0)","v":0}]
["Waterford-Halfmoon UFSD","SARATOGA","WATERFORD","WATERFORD","WATERFORD-HALFMOON",null,null,null,null,null,null,null,null,null,null,null,null,null,null,{"$f":"IF(B249<>'2017 Base Data'!B249,1,0)","v":0},{"$f":"IF(C249<>'2017 Base Data'!C249,1,0)","v":0},{"$f":"IF(D249<>'2017 Base Data'!D249,1,0)","v":0},{"$f":"IF(E249<>'2017 Base Data'!E249,1,0)","v":0}]
["Town of Wilton",null,null,null,null,null,null,null,null,null,null,null,null,null,null,null,null,null,null,{"$f":"IF(B250<>'2017 Base Data'!B250,1,0)","v":0},{"$f":"IF(C250<>'2017 Base Data'!C250,1,0)","v":0},{"$f":"IF(D250<>'2017 Base Data'!D250,1,0)","v":0},{"$f":"IF(E250<>'2017 Base Data'!E250,1,0)","v":0}]
["Corinth CSD","SARATOGA","WILTON",null,"CORINTH",null,null,null,null,null,null,null,null,null,null,null,null,null,null,{"$f":"IF(B251<>'2017 Base Data'!B251,1,0)","v":0},{"$f":"IF(C251<>'2017 Base Data'!C251,1,0)","v":0},{"$f":"IF(D251<>'2017 Base Data'!D251,1,0)","v":0},{"$f":"IF(E251<>'2017 Base Data'!E251,1,0)","v":0}]
["Saratoga Springs City SD","SARATOGA","WILTON",null,"SARATOGA SPRINGS",null,null,null,null,null,null,null,null,null,null,null,null,null,null,{"$f":"IF(B252<>'2017 Base Data'!B252,1,0)","v":0},{"$f":"IF(C252<>'2017 Base Data'!C252,1,0)","v":0},{"$f":"IF(D252<>'2017 Base Data'!D252,1,0)","v":0},{"$f":"IF(E252<>'2017 Base Data'!E252,1,0)","v":0}]
["Schuylerville CSD","SARATOGA","WILTON",null,"SCHUYLERVILLE",null,null,null,null,null,null,null,null,null,null,null,null,null,null,{"$f":"IF(B253<>'2017 Base Data'!B253,1,0)","v":0},{"$f":"IF(C253<>'2017 Base Data'!C253,1,0)","v":0},{"$f":"IF(D253<>'2017 Base Data'!D253,1,0)","v":0},{"$f":"IF(E253<>'2017 Base Data'!E253,1,0)","v":0}]
["South Glens Falls CSD","SARATOGA","WILTON",null,"SOUTH GLENS FALLS",null,null,null,null,null,null,null,null,null,null,null,null,null,null,{"$f":"IF(B254<>'2017 Base Data'!B254,1,0)","v":0},{"$f":"IF(C254<>'2017 Base Data'!C254,1,0)","v":0},{"$f":"IF(D254<>'2017 Base Data'!D254,1,0)","v":0},{"$f":"IF(E254<>'2017 Base Data'!E254,1,0)","v":0}]
["Schenectady County",null,null,null,null,null,null,null,null,null,null,null,null,null,null,null,null,null,null,{"$f":"IF(B255<>'2017 Base Data'!B255,1,0)","v":0},{"$f":"IF(C255<>'2017 Base Data'!C255,1,0)","v":0},{"$f":"IF(D255<>'2017 Base Data'!D255,1,0)","v":0},{"$f":"IF(E255<>'2017 Base Data'!E255,1,0)","v":0}]
["Town of Duanesburg",null,null,null,null,null,null,null,null,null,null,null,null,null,null,null,null,null,null,{"$f":"IF(B256<>'2017 Base Data'!B256,1,0)","v":0},{"$f":"IF(C256<>'2017 Base Data'!C256,1,0)","v":0},{"$f":"IF(D256<>'2017 Base Data'!D256,1,0)","v":0},{"$f":"IF(E256<>'2017 Base Data'!E256,1,0)","v":0}]
["Amsterdam City SD","SCHENECTADY","DUANESBURG",null,"AMSTERDAM",null,null,null,null,null,null,null,null,null,null,null,null,null,null,{"$f":"IF(B257<>'2017 Base Data'!B257,1,0)","v":0},{"$f":"IF(C257<>'2017 Base Data'!C257,1,0)","v":0},{"$f":"IF(D257<>'2017 Base Data'!D257,1,0)","v":0},{"$f":"IF(E257<>'2017 Base Data'!E257,1,0)","v":0}]
["Duanesburg CSD","SCHENECTADY","DUANESBURG",null,"DUANESBURG",null,null,null,null,null,null,null,null,null,null,null,null,null,null,{"$f":"IF(B258<>'2017 Base Data'!B258,1,0)","v":0},{"$f":"IF(C258<>'2017 Base Data'!C258,1,0)","v":0},{"$f":"IF(D258<>'2017 Base Data'!D258,1,0)","v":0},{"$f":"IF(E258<>'2017 Base Data'!E258,1,0)","v":0}]
["Schalmont CSD","SCHENECTADY","DUANESBURG",null,"SCHALMONT",null,null,null,null,null,null,null,null,null,null,null,null,null,null,{"$f":"IF(B259<>'2017 Base Data'!B259,1,0)","v":0},{"$f":"IF(C259<>'2017 Base Data'!C259,1,0)","v":0},{"$f":"IF(D259<>'2017 Base Data'!D259,1,0)","v":0},{"$f":"IF(E259<>'2017 Base Data'!E259,1,0)","v":0}]
["Schoharie CSD","SCHENECTADY","DUANESBURG",null,"SCHOHARIE",null,null,null,null,null,null,null,null,null,null,null,null,null,null,{"$f":"IF(B260<>'2017 Base Data'!B260,1,0)","v":0},{"$f":"IF(C260<>'2017 Base Data'!C260,1,0)","v":0},{"$f":"IF(D260<>'2017 Base Data'!D260,1,0)","v":0},{"$f":"IF(E260<>'2017 Base Data'!E260,1,0)","v":0}]
["Village of Delanson",null,null,null,null,null,null,null,null,null,null,null,null,null,null,null,null,null,null,{"$f":"IF(B261<>'2017 Base Data'!B261,1,0)","v":0},{"$f":"IF(C261<>'2017 Base Data'!C261,1,0)","v":0},{"$f":"IF(D261<>'2017 Base Data'!D261,1,0)","v":0},{"$f":"IF(E261<>'2017 Base Data'!E261,1,0)","v":0}]
["Duanesburg CSD","SCHENECTADY","DELANSON","DUANESBURG","DUANESBURG",null,null,null,null,null,null,null,null,null,null,null,null,null,null,{"$f":"IF(B262<>'2017 Base Data'!B262,1,0)","v":0},{"$f":"IF(C262<>'2017 Base Data'!C262,1,0)","v":0},{"$f":"IF(D262<>'2017 Base Data'!D262,1,0)","v":0},{"$f":"IF(E262<>'2017 Base Data'!E262,1,0)","v":0}]
["Town of Glenville",null,null,null,null,null,null,null,null,null,null,null,null,null,null,null,null,null,null,{"$f":"IF(B263<>'2017 Base Data'!B263,1,0)","v":0},{"$f":"IF(C263<>'2017 Base Data'!C263,1,0)","v":0},{"$f":"IF(D263<>'2017 Base Data'!D263,1,0)","v":0},{"$f":"IF(E263<>'2017 Base Data'!E263,1,0)","v":0}]
["Amsterdam City SD","SCHENECTADY","GLENVILLE",null,"AMSTERDAM",null,null,null,null,null,null,null,null,null,null,null,null,null,null,{"$f":"IF(B264<>'2017 Base Data'!B264,1,0)","v":0},{"$f":"IF(C264<>'2017 Base Data'!C264,1,0)","v":0},{"$f":"IF(D264<>'2017 Base Data'!D264,1,0)","v":0},{"$f":"IF(E264<>'2017 Base Data'!E264,1,0)","v":0}]
["Burnt Hills-Ballston Lake CSD","SCHENECTADY","GLENVILLE",null,"BURNT HILLS-BALLSTON LAKE",null,null,null,null,null,null,null,null,null,null,null,null,null,null,{"$f":"IF(B265<>'2017 Base Data'!B265,1,0)","v":0},{"$f":"IF(C265<>'2017 Base Data'!C265,1,0)","v":0},{"$f":"IF(D265<>'2017 Base Data'!D265,1,0)","v":0},{"$f":"IF(E265<>'2017 Base Data'!E265,1,0)","v":0}]
["Galway CSD","SCHENECTADY","GLENVILLE",null,"GALWAY",null,null,null,null,null,null,null,null,null,null,null,null,null,null,{"$f":"IF(B266<>'2017 Base Data'!B266,1,0)","v":0},{"$f":"IF(C266<>'2017 Base Data'!C266,1,0)","v":0},{"$f":"IF(D266<>'2017 Base Data'!D266,1,0)","v":0},{"$f":"IF(E266<>'2017 Base Data'!E266,1,0)","v":0}]
["Niskayuna CSD","SCHENECTADY","GLENVILLE",null,"NISKAYUNA",null,null,null,null,null,null,null,null,null,null,null,null,null,null,{"$f":"IF(B267<>'2017 Base Data'!B267,1,0)","v":0},{"$f":"IF(C267<>'2017 Base Data'!C267,1,0)","v":0},{"$f":"IF(D267<>'2017 Base Data'!D267,1,0)","v":0},{"$f":"IF(E267<>'2017 Base Data'!E267,1,0)","v":0}]
["Scotia-Glenville CSD","SCHENECTADY","GLENVILLE",null,"SCOTIA-GLENVILLE",null,null,null,null,null,null,null,null,null,null,null,null,null,null,{"$f":"IF(B268<>'2017 Base Data'!B268,1,0)","v":0},{"$f":"IF(C268<>'2017 Base Data'!C268,1,0)","v":0},{"$f":"IF(D268<>'2017 Base Data'!D268,1,0)","v":0},{"$f":"IF(E268<>'2017 Base Data'!E268,1,0)","v":0}]
["Village of Scotia",null,null,null,null,null,null,null,null,null,null,null,null,null,null,null,null,null,null,{"$f":"IF(B269<>'2017 Base Data'!B269,1,0)","v":0},{"$f":"IF(C269<>'2017 Base Data'!C269,1,0)","v":0},{"$f":"IF(D269<>'2017 Base Data'!D269,1,0)","v":0},{"$f":"IF(E269<>'2017 Base Data'!E269,1,0)","v":0}]
["Scotia-Glenville CSD","SCHENECTADY","SCOTIA","GLENVILLE","SCOTIA-GLENVILLE",null,null,null,null,null,null,null,null,null,null,null,null,null,null,{"$f":"IF(B270<>'2017 Base Data'!B270,1,0)","v":0},{"$f":"IF(C270<>'2017 Base Data'!C270,1,0)","v":0},{"$f":"IF(D270<>'2017 Base Data'!D270,1,0)","v":0},{"$f":"IF(E270<>'2017 Base Data'!E270,1,0)","v":0}]
["Town of Niskayuna",null,null,null,null,null,null,null,null,null,null,null,null,null,null,null,null,null,null,{"$f":"IF(B271<>'2017 Base Data'!B271,1,0)","v":0},{"$f":"IF(C271<>'2017 Base Data'!C271,1,0)","v":0},{"$f":"IF(D271<>'2017 Base Data'!D271,1,0)","v":0},{"$f":"IF(E271<>'2017 Base Data'!E271,1,0)","v":0}]
["Niskayuna CSD","SCHENECTADY","NISKAYUNA",null,"NISKAYUNA",null,null,null,null,null,null,null,null,null,null,null,null,null,null,{"$f":"IF(B272<>'2017 Base Data'!B272,1,0)","v":0},{"$f":"IF(C272<>'2017 Base Data'!C272,1,0)","v":0},{"$f":"IF(D272<>'2017 Base Data'!D272,1,0)","v":0},{"$f":"IF(E272<>'2017 Base Data'!E272,1,0)","v":0}]
["South Colonie CSD","SCHENECTADY","NISKAYUNA",null,"SOUTH COLONIE",null,null,null,null,null,null,null,null,null,null,null,null,null,null,{"$f":"IF(B273<>'2017 Base Data'!B273,1,0)","v":0},{"$f":"IF(C273<>'2017 Base Data'!C273,1,0)","v":0},{"$f":"IF(D273<>'2017 Base Data'!D273,1,0)","v":0},{"$f":"IF(E273<>'2017 Base Data'!E273,1,0)","v":0}]
["Town of Princetown",null,null,null,null,null,null,null,null,null,null,null,null,null,null,null,null,null,null,{"$f":"IF(B274<>'2017 Base Data'!B274,1,0)","v":0},{"$f":"IF(C274<>'2017 Base Data'!C274,1,0)","v":0},{"$f":"IF(D274<>'2017 Base Data'!D274,1,0)","v":0},{"$f":"IF(E274<>'2017 Base Data'!E274,1,0)","v":0}]
["Duanesburg CSD","SCHENECTADY","PRINCETOWN",null,"DUANESBURG",null,null,null,null,null,null,null,null,null,null,null,null,null,null,{"$f":"IF(B275<>'2017 Base Data'!B275,1,0)","v":0},{"$f":"IF(C275<>'2017 Base Data'!C275,1,0)","v":0},{"$f":"IF(D275<>'2017 Base Data'!D275,1,0)","v":0},{"$f":"IF(E275<>'2017 Base Data'!E275,1,0)","v":0}]
["Schalmont CSD","SCHENECTADY","PRINCETOWN",null,"SCHALMONT",null,null,null,null,null,null,null,null,null,null,null,null,null,null,{"$f":"IF(B276<>'2017 Base Data'!B276,1,0)","v":0},{"$f":"IF(C276<>'2017 Base Data'!C276,1,0)","v":0},{"$f":"IF(D276<>'2017 Base Data'!D276,1,0)","v":0},{"$f":"IF(E276<>'2017 Base Data'!E276,1,0)","v":0}]
["Town of Rotterdam",null,null,null,null,null,null,null,null,null,null,null,null,null,null,null,null,null,null,{"$f":"IF(B277<>'2017 Base Data'!B277,1,0)","v":0},{"$f":"IF(C277<>'2017 Base Data'!C277,1,0)","v":0},{"$f":"IF(D277<>'2017 Base Data'!D277,1,0)","v":0},{"$f":"IF(E277<>'2017 Base Data'!E277,1,0)","v":0}]
["Rotterdam-Mohonasen CSD","SCHENECTADY","ROTTERDAM",null,"ROTTERDAM-MOHONASEN",null,null,null,null,null,null,null,null,null,null,null,null,null,null,{"$f":"IF(B278<>'2017 Base Data'!B278,1,0)","v":0},{"$f":"IF(C278<>'2017 Base Data'!C278,1,0)","v":0},{"$f":"IF(D278<>'2017 Base Data'!D278,1,0)","v":0},{"$f":"IF(E278<>'2017 Base Data'!E278,1,0)","v":0}]
["Schalmont CSD","SCHENECTADY","ROTTERDAM",null,"SCHALMONT",null,null,null,null,null,null,null,null,null,null,null,null,null,null,{"$f":"IF(B279<>'2017 Base Data'!B279,1,0)","v":0},{"$f":"IF(C279<>'2017 Base Data'!C279,1,0)","v":0},{"$f":"IF(D279<>'2017 Base Data'!D279,1,0)","v":0},{"$f":"IF(E279<>'2017 Base Data'!E279,1,0)","v":0}]
["Schenectady City SD","SCHENECTADY","ROTTERDAM",null,"SCHENECTADY",null,null,null,null,null,null,null,null,null,null,null,null,null,null,{"$f":"IF(B280<>'2017 Base Data'!B280,1,0)","v":0},{"$f":"IF(C280<>'2017 Base Data'!C280,1,0)","v":0},{"$f":"IF(D280<>'2017 Base Data'!D280,1,0)","v":0},{"$f":"IF(E280<>'2017 Base Data'!E280,1,0)","v":0}]
["City of Schenectady",null,null,null,null,null,null,null,null,null,null,null,null,null,null,null,null,null,null,{"$f":"IF(B281<>'2017 Base Data'!B281,1,0)","v":0},{"$f":"IF(C281<>'2017 Base Data'!C281,1,0)","v":0},{"$f":"IF(D281<>'2017 Base Data'!D281,1,0)","v":0},{"$f":"IF(E281<>'2017 Base Data'!E281,1,0)","v":0}]
["Schenectady City SD","SCHENECTADY","SCHENECTADY",null,"SCHENECTADY",null,null,null,null,null,null,null,null,null,null,null,null,null,null,{"$f":"IF(B282<>'2017 Base Data'!B282,1,0)","v":0},{"$f":"IF(C282<>'2017 Base Data'!C282,1,0)","v":0},{"$f":"IF(D282<>'2017 Base Data'!D282,1,0)","v":0},{"$f":"IF(E282<>'2017 Base Data'!E282,1,0)","v":0}]
["Capital District"]

{"sheet":"2017 Base Data","index":3,"n_rows":283,"n_cols":18,"rows_kept":283,"cut":false,"hidden":false,"merged":[]}
[2017,"NOTE: Villages that reflect a zero village tax rate probably have not filed their information with this office;  see the 2010 Village Non-Filers tab.",null,null,"TABLE 2 - 2010 OVERALL PROPERTY TAX RATES"]
[null,"2009-03-30",null,null,null,"ASSESSED VALUE TAX RATES (per $1,000 assessed valuation)",null,null,null,null,"EQUALIZATION RATES",null,null,"FULL VALUE TAX RATES (per $1,000 full valuation)"]
[null,null,null,"TOWN",null,null,null,null,null,null,null,"Town","City /"]
[null,null,null,"IN WHICH",null,null,null,null,null,null,"City /","(applied to ","Town"]
[null,"COUNTY","MUNICIPAL NAME","VILLAGE IS","SCHOOL DISTRICT NAME",null,null,"City /",null,"Sub","Town/","Village's Co. "," (applied to",null,null,"City/",null,"Sub"]
["Area","NAME",null,"LOCATED",null,"County","Town","Village","School","Total","Village","& Town AV rate)","School) ","County","Town","Village","School","Total"]
["Albany County"]
["City of Albany"]
["Albany City SD","ALBANY","ALBANY",null,"ALBANY",null,null,null,null,null,null,null,null,{"$f":"'2017 WKS'!N9","v":3.72},{"$f":"'2017 WKS'!O9","v":0},{"$f":"'2017 WKS'!P9","v":11.99},{"$f":"'2017 WKS'!Q9","v":24.99},{"$f":"'2017 WKS'!R9","v":40.700000000000003}]
["Town of Berne"]
["Berne-Knox-Westerlo CSD","ALBANY","BERNE",null,"BERNE-KNOX-WESTERLO",null,null,null,null,null,null,null,null,{"$f":"'2017 WKS'!N11","v":3.72},{"$f":"'2017 WKS'!O11","v":3.09},{"$f":"'2017 WKS'!P11","v":0},{"$f":"'2017 WKS'!Q11","v":19.760000000000002},{"$f":"'2017 WKS'!R11","v":26.57}]
["Greenville CSD","ALBANY","BERNE",null,"GREENVILLE",null,null,null,null,null,null,null,null,{"$f":"'2017 WKS'!N12","v":3.72},{"$f":"'2017 WKS'!O12","v":3.09},{"$f":"'2017 WKS'!P12","v":0},{"$f":"'2017 WKS'!Q12","v":21.7},{"$f":"'2017 WKS'!R12","v":28.509999999999998}]
["Middleburgh CSD","ALBANY","BERNE",null,"MIDDLEBURGH",null,null,null,null,null,null,null,null,{"$f":"'2017 WKS'!N13","v":3.72},{"$f":"'2017 WKS'!O13","v":3.09},{"$f":"'2017 WKS'!P13","v":0},{"$f":"'2017 WKS'!Q13","v":21.66},{"$f":"'2017 WKS'!R13","v":28.47}]
["Voorheesville CSD","ALBANY","BERNE",null,"VOORHEESVILLE",null,null,null,null,null,null,null,null,{"$f":"'2017 WKS'!N14","v":3.72},{"$f":"'2017 WKS'!O14","v":3.09},{"$f":"'2017 WKS'!P14","v":0},{"$f":"'2017 WKS'!Q14","v":20.65},{"$f":"'2017 WKS'!R14","v":27.46}]
["Town of Bethlehem"]
["Bethlehem CSD","ALBANY","BETHLEHEM",null,"BETHLEHEM",null,null,null,null,null,null,null,null,{"$f":"'2017 WKS'!N16","v":0}]
["Guilderland CSD","ALBANY","BETHLEHEM",null,"GUILDERLAND",null,null,null,null,null,null,null,null,{"$f":"'2017 WKS'!N17","v":0}]
["Ravena-Coeymans-Selkirk CSD","ALBANY","BETHLEHEM",null,"RAVENA-COEYMANS-SELKIRK",null,null,null,null,null,null,null,null,{"$f":"'2017 WKS'!N18","v":0}]
["Town of Coeymans"]
["Greenville CSD","ALBANY","COEYMANS",null,"GREENVILLE"]
["Ravena-Coeymans-Selkirk CSD","ALBANY","COEYMANS",null,"RAVENA-COEYMANS-SELKIRK"]
["Village of Ravena"]
["Ravena-Coeymans-Selkirk CSD","ALBANY","RAVENA","COEYMANS","RAVENA-COEYMANS-SELKIRK"]
["City of Cohoes"]
["Cohoes City SD","ALBANY","COHOES",null,"COHOES"]
["Town of Colonie"]
["Menands UFSD","ALBANY","COLONIE",null,"MENANDS"]
["Niskayuna CSD","ALBANY","COLONIE",null,"NISKAYUNA"]
["North Colonie CSD","ALBANY","COLONIE",null,"NORTH COLONIE CENTRAL"]
["Rotterdam-Mohonasen CSD","ALBANY","COLONIE",null,"ROTTERDAM-MOHONASEN"]
["South Colonie CSD","ALBANY","COLONIE",null,"SOUTH COLONIE"]
["Watervliet City SD","ALBANY","COLONIE",null,"WATERVLIET"]
["Village of Colonie"]
["South Colonie CSD","ALBANY","COLONIE","COLONIE","SOUTH COLONIE"]
["Village of Menands"]
["Menands UFSD","ALBANY","MENANDS","COLONIE","MENANDS"]
["Town of Green Island"]
["Village of Green Island"]
["Green Island UFSD","ALBANY","GREEN ISLAND","GREEN ISLAND","GREEN ISLAND"]
["Town of Guilderland"]
["Guilderland CSD","ALBANY","GUILDERLAND",null,"GUILDERLAND"]
["Rotterdam-Mohonasen CSD","ALBANY","GUILDERLAND",null,"ROTTERDAM-MOHONASEN"]
["Schalmont CSD","ALBANY","GUILDERLAND",null,"SCHALMONT"]
["South Colonie CSD","ALBANY","GUILDERLAND",null,"SOUTH COLONIE"]
["Voorheesville CSD","ALBANY","GUILDERLAND",null,"VOORHEESVILLE"]
["Village of Altamont"]
["Guilderland CSD","ALBANY","ALTAMONT","GUILDERLAND","GUILDERLAND"]
["Town of Knox"]
["Berne-Knox-Westerlo CSD","ALBANY","KNOX",null,"BERNE-KNOX-WESTERLO"]
["Duanesburg CSD","ALBANY","KNOX",null,"DUANESBURG"]
["Guilderland CSD","ALBANY","KNOX",null,"GUILDERLAND"]
["Schoharie CSD","ALBANY","KNOX",null,"SCHOHARIE"]
["Town of New Scotland"]
["Berne-Knox-Westerlo CSD","ALBANY","NEW SCOTLAND",null,"BERNE-KNOX-WESTERLO"]
["Bethlehem CSD","ALBANY","NEW SCOTLAND",null,"BETHLEHEM"]
["Greenville CSD","ALBANY","NEW SCOTLAND",null,"GREENVILLE"]
["Guilderland CSD","ALBANY","NEW SCOTLAND",null,"GUILDERLAND"]
["Ravena-Coeymans-Selkirk CSD","ALBANY","NEW SCOTLAND",null,"RAVENA-COEYMANS-SELKIRK"]
["Voorheesville CSD","ALBANY","NEW SCOTLAND",null,"VOORHEESVILLE"]
["Village of Voorheesville"]
["Voorheesville CSD","ALBANY","VOORHEESVILLE","NEW SCOTLAND","VOORHEESVILLE"]
["Town of Rensselaerville"]
["Berne-Knox-Westerlo CSD","ALBANY","RENSSELAERVILLE",null,"BERNE-KNOX-WESTERLO"]
["Cairo-Durham CSD","ALBANY","RENSSELAERVILLE",null,"CAIRO-DURHAM"]
["Greenville CSD","ALBANY","RENSSELAERVILLE",null,"GREENVILLE"]
["Middleburgh CSD","ALBANY","RENSSELAERVILLE",null,"MIDDLEBURGH"]
["City of Watervliet"]
["Watervliet City SD","ALBANY","WATERVLIET",null,"WATERVLIET"]
["Town of Westerlo"]
["Berne-Knox-Westerlo CSD","ALBANY","WESTERLO",null,"BERNE-KNOX-WESTERLO"]
["Greenville CSD","ALBANY","WESTERLO",null,"GREENVILLE"]
["Rensselaer County"]
["Town of Berlin"]
["Averill Park CSD","RENSSELAER","BERLIN",null,"AVERILL PARK"]
["Berlin CSD","RENSSELAER","BERLIN",null,"BERLIN"]
["Town of Brunswick"]
["Averill Park CSD","RENSSELAER","BRUNSWICK",null,"AVERILL PARK"]
["Brunswick CSD","RENSSELAER","BRUNSWICK",null,"BRUNSWICK"]
["Lansingburgh CSD","RENSSELAER","BRUNSWICK",null,"LANSINGBURGH"]
["Troy City SD","RENSSELAER","BRUNSWICK",null,"TROY"]
["Wynantskill UFSD","RENSSELAER","BRUNSWICK",null,"WYNANTSKILL"]
["Town of East Greenbush"]
["Averill Park CSD","RENSSELAER","EAST GREENBUSH",null,"AVERILL PARK"]
["East Greenbush CSD","RENSSELAER","EAST GREENBUSH",null,"EAST GREENBUSH"]
["Town of Grafton"]
["Berlin CSD","RENSSELAER","GRAFTON",null,"BERLIN"]
["Brunswick CSD","RENSSELAER","GRAFTON",null,"BRUNSWICK"]
["Hoosick Falls CSD","RENSSELAER","GRAFTON",null,"HOOSICK FALLS"]
["Town of Hoosick"]
["Cambridge CSD","RENSSELAER","HOOSICK",null,"CAMBRIDGE"]
["Hoosick Falls CSD","RENSSELAER","HOOSICK",null,"HOOSICK FALLS"]
["Village of Hoosick Falls"]
["Hoosick Falls CSD","RENSSELAER","HOOSICK FALLS","HOOSICK","HOOSICK FALLS"]
["Town of Nassau"]
["Averill Park CSD","RENSSELAER","NASSAU",null,"AVERILL PARK"]
["East Greenbush CSD","RENSSELAER","NASSAU",null,"EAST GREENBUSH"]
["Kinderhook CSD","RENSSELAER","NASSAU",null,"KINDERHOOK"]
["New Lebanon CSD","RENSSELAER","NASSAU",null,"NEW LEBANON"]
["Village of East Nassau"]
["Averill Park CSD","RENSSELAER","EAST NASSAU","NASSAU","AVERILL PARK"]
["East Greenbush CSD","RENSSELAER","EAST NASSAU","NASSAU","EAST GREENBUSH"]
["New Lebanon CSD","RENSSELAER","EAST NASSAU","NASSAU","NEW LEBANON"]
["Village of Nassau (part)"]
["East Greenbush CSD","RENSSELAER","NASSAU","NASSAU","EAST GREENBUSH"]
["Town of North Greenbush"]
["Averill Park CSD","RENSSELAER","NORTH GREENBUSH",null,"AVERILL PARK"]
["East Greenbush CSD","RENSSELAER","NORTH GREENBUSH",null,"EAST GREENBUSH"]
["North Greenbush Common SD","RENSSELAER","NORTH GREENBUSH",null,"NORTH GREENBUSH"]
["Wynantskill UFSD","RENSSELAER","NORTH GREENBUSH",null,"WYNANTSKILL"]
["Town of Petersburgh"]
["Berlin CSD","RENSSELAER","PETERSBURGH",null,"BERLIN"]
["Hoosick Falls CSD","RENSSELAER","PETERSBURGH",null,"HOOSICK FALLS"]
["Town of Pittstown"]
["Brunswick CSD","RENSSELAER","PITTSTOWN",null,"BRUNSWICK"]
["Cambridge CSD","RENSSELAER","PITTSTOWN",null,"CAMBRIDGE"]
["Hoosic Valley CSD","RENSSELAER","PITTSTOWN",null,"HOOSIC VALLEY"]
["Hoosick Falls CSD","RENSSELAER","PITTSTOWN",null,"HOOSICK FALLS"]
["Lansingburgh CSD","RENSSELAER","PITTSTOWN",null,"LANSINGBURGH"]
["Village of Valley Falls (part)"]
["Hoosic Valley CSD","RENSSELAER","VALLEY FALLS","PITTSTOWN","HOOSIC VALLEY"]
["Town of Poestenkill"]
["Averill Park CSD","RENSSELAER","POESTENKILL",null,"AVERILL PARK"]
["Berlin CSD","RENSSELAER","POESTENKILL",null,"BERLIN"]
["Brunswick CSD","RENSSELAER","POESTENKILL",null,"BRUNSWICK"]
["Wynantskill UFSD","RENSSELAER","POESTENKILL",null,"WYNANTSKILL"]
["City of Rensselaer"]
["Rensselaer City SD","RENSSELAER","RENSSELAER",null,"RENSSELAER"]
["Town of Sand Lake"]
["Averill Park CSD","RENSSELAER","SAND LAKE",null,"AVERILL PARK"]
["East Greenbush CSD","RENSSELAER","SAND LAKE",null,"EAST GREENBUSH"]
["Town of Schaghticoke"]
["Brunswick CSD","RENSSELAER","SCHAGHTICOKE",null,"BRUNSWICK"]
["Cambridge CSD","RENSSELAER","SCHAGHTICOKE",null,"CAMBRIDGE"]
["Hoosic Valley CSD","RENSSELAER","SCHAGHTICOKE",null,"HOOSIC VALLEY"]
["Lansingburgh CSD","RENSSELAER","SCHAGHTICOKE",null,"LANSINGBURGH"]
["Mechanicville City SD","RENSSELAER","SCHAGHTICOKE",null,"MECHANICVILLE"]
["Stillwater CSD","RENSSELAER","SCHAGHTICOKE",null,"STILLWATER"]
["Village of Schaghticoke"]
["Hoosic Valley CSD","RENSSELAER","SCHAGHTICOKE","SCHAGHTICOKE","HOOSIC VALLEY"]
["Village of Valley Falls (part)"]
["Hoosic Valley CSD","RENSSELAER","VALLEY FALLS","SCHAGHTICOKE","HOOSIC VALLEY"]
["Town of Schodack"]
["Averill Park CSD","RENSSELAER","SCHODACK",null,"AVERILL PARK"]
["East Greenbush CSD","RENSSELAER","SCHODACK",null,"EAST GREENBUSH"]
["Kinderhook CSD","RENSSELAER","SCHODACK",null,"KINDERHOOK"]
["Schodack CSD","RENSSELAER","SCHODACK",null,"SCHODACK"]
["Village of Castleton-on-Hudson"]
["Schodack CSD","RENSSELAER","CASTLETON-ON-HUDSON","SCHODACK","SCHODACK"]
["Village of Nassau (part)"]
["East Greenbush CSD","RENSSELAER","NASSAU","SCHODACK","EAST GREENBUSH"]
["Town of Stephentown"]
["Averill Park CSD","RENSSELAER","STEPHENTOWN",null,"AVERILL PARK"]
["Berlin CSD","RENSSELAER","STEPHENTOWN",null,"BERLIN"]
["New Lebanon CSD","RENSSELAER","STEPHENTOWN",null,"NEW LEBANON"]
["City of Troy"]
["Lansingburgh CSD","RENSSELAER","TROY",null,"LANSINGBURGH"]
["Troy City SD","RENSSELAER","TROY",null,"TROY"]
["Saratoga County"]
["Town of Ballston"]
["Ballston Spa CSD","SARATOGA","BALLSTON",null,"BALLSTON SPA"]
["Burnt Hills-Ballston Lake CSD","SARATOGA","BALLSTON",null,"BURNT HILLS-BALLSTON LAKE"]
["Shenendehowa CSD","SARATOGA","BALLSTON",null,"SHENENDEHOWA"]
["Village of Ballston Spa (part)"]
["Ballston Spa CSD","SARATOGA","BALLSTON SPA","BALLSTON","BALLSTON SPA"]
["Town of Charlton"]
["Amsterdam City SD","SARATOGA","CHARLTON",null,"AMSTERDAM"]
["Ballston Spa CSD","SARATOGA","CHARLTON",null,"BALLSTON SPA"]
["Burnt Hills-Ballston Lake CSD","SARATOGA","CHARLTON",null,"BURNT HILLS-BALLSTON LAKE"]
["Galway CSD","SARATOGA","CHARLTON",null,"GALWAY"]
["Scotia-Glenville CSD","SARATOGA","CHARLTON",null,"SCOTIA-GLENVILLE"]
["Town of Clifton Park"]
["Burnt Hills-Ballston Lake CSD","SARATOGA","CLIFTON PARK",null,"BURNT HILLS-BALLSTON LAKE"]
["Niskayuna CSD","SARATOGA","CLIFTON PARK",null,"NISKAYUNA"]
["Shenendehowa CSD","SARATOGA","CLIFTON PARK",null,"SHENENDEHOWA"]
["Town of Corinth"]
["Corinth CSD","SARATOGA","CORINTH",null,"CORINTH"]
["Village of Corinth"]
["Corinth CSD","SARATOGA","CORINTH","CORINTH","CORINTH"]
["Town of Day"]
["Corinth CSD","SARATOGA","DAY",null,"CORINTH"]
["Edinburg Common SD","SARATOGA","DAY",null,"EDINBURG"]
["Hadley-Luzerne CSD","SARATOGA","DAY",null,"HADLEY-LUZERNE"]
["Town of Edinburg"]
["Broadalbin-Perth CSD","SARATOGA","EDINBURG",null,"BROADALBIN-PERTH"]
["Edinburg Common SD","SARATOGA","EDINBURG",null,"EDINBURG"]
["Hadley-Luzerne CSD","SARATOGA","EDINBURG",null,"HADLEY-LUZERNE"]
["Northville CSD","SARATOGA","EDINBURG",null,"NORTHVILLE"]
["Town of Galway"]
["Broadalbin-Perth CSD","SARATOGA","GALWAY",null,"BROADALBIN-PERTH"]
["Galway CSD","SARATOGA","GALWAY",null,"GALWAY"]
["Village of Galway"]
["Galway CSD","SARATOGA","GALWAY","GALWAY","GALWAY"]
["Town of Greenfield"]
["Corinth CSD","SARATOGA","GREENFIELD",null,"CORINTH"]
["Saratoga Springs City SD","SARATOGA","GREENFIELD",null,"SARATOGA SPRINGS"]
["Town of Hadley"]
["Corinth CSD","SARATOGA","HADLEY",null,"CORINTH"]
["Hadley-Luzerne CSD","SARATOGA","HADLEY",null,"HADLEY-LUZERNE"]
["Town of Halfmoon"]
["Mechanicville City SD","SARATOGA","HALFMOON",null,"MECHANICVILLE"]
["Shenendehowa CSD","SARATOGA","HALFMOON",null,"SHENENDEHOWA"]
["Waterford-Halfmoon UFSD","SARATOGA","HALFMOON",null,"WATERFORD-HALFMOON"]
["Town of Malta"]
["Ballston Spa CSD","SARATOGA","MALTA",null,"BALLSTON SPA"]
["Saratoga Springs City SD","SARATOGA","MALTA",null,"SARATOGA SPRINGS"]
["Shenendehowa CSD","SARATOGA","MALTA",null,"SHENENDEHOWA"]
["Village of Round Lake"]
["Shenendehowa CSD","SARATOGA","ROUND LAKE","MALTA","SHENENDEHOWA"]
["City of Mechanicville"]
["Mechanicville City SD","SARATOGA","MECHANICVILLE",null,"MECHANICVILLE"]
["Town of Milton"]
["Ballston Spa CSD","SARATOGA","MILTON",null,"BALLSTON SPA"]
["Galway CSD","SARATOGA","MILTON",null,"GALWAY"]
["Saratoga Springs City SD","SARATOGA","MILTON",null,"SARATOGA SPRINGS"]
["Village of Ballston Spa (part)"]
["Ballston Spa CSD","SARATOGA","BALLSTON SPA","MILTON","BALLSTON SPA"]
["Town of Moreau"]
["Hudson Falls CSD","SARATOGA","MOREAU",null,"HUDSON FALLS"]
["South Glens Falls CSD","SARATOGA","MOREAU",null,"SOUTH GLENS FALLS"]
["Village of South Glens Falls"]
["South Glens Falls CSD","SARATOGA","SOUTH GLENS FALLS","MOREAU","SOUTH GLENS FALLS"]
["Town of Northumberland"]
["Schuylerville CSD","SARATOGA","NORTHUMBERLAND",null,"SCHUYLERVILLE"]
["South Glens Falls CSD","SARATOGA","NORTHUMBERLAND",null,"SOUTH GLENS FALLS"]
["Town of Providence"]
["Broadalbin-Perth CSD","SARATOGA","PROVIDENCE",null,"BROADALBIN-PERTH"]
["Galway CSD","SARATOGA","PROVIDENCE",null,"GALWAY"]
["Town of Saratoga"]
["Saratoga Springs City SD","SARATOGA","SARATOGA",null,"SARATOGA SPRINGS"]
["Schuylerville CSD","SARATOGA","SARATOGA",null,"SCHUYLERVILLE"]
["Stillwater CSD","SARATOGA","SARATOGA",null,"STILLWATER"]
["Village of Schuylerville"]
["Schuylerville CSD","SARATOGA","SCHUYLERVILLE","SARATOGA","SCHUYLERVILLE"]
["Village of Victory"]
["Schuylerville CSD","SARATOGA","VICTORY","SARATOGA","SCHUYLERVILLE"]
["City of Saratoga Springs"]
["Saratoga Springs City SD","SARATOGA","SARATOGA SPRINGS",null,"SARATOGA SPRINGS"]
["Town of Stillwater"]
["Mechanicville City SD","SARATOGA","STILLWATER",null,"MECHANICVILLE"]
["Schuylerville CSD","SARATOGA","STILLWATER",null,"SCHUYLERVILLE"]
["Shenendehowa CSD","SARATOGA","STILLWATER",null,"SHENENDEHOWA"]
["Stillwater CSD","SARATOGA","STILLWATER",null,"STILLWATER"]
["Village of Stillwater"]
["Stillwater CSD","SARATOGA","STILLWATER","STILLWATER","STILLWATER"]
["Town of Waterford"]
["Shenendehowa CSD","SARATOGA","WATERFORD",null,"SHENENDEHOWA"]
["Waterford-Halfmoon UFSD","SARATOGA","WATERFORD",null,"WATERFORD-HALFMOON"]
["Village of Waterford"]
["Waterford-Halfmoon UFSD","SARATOGA","WATERFORD","WATERFORD","WATERFORD-HALFMOON"]
["Town of Wilton"]
["Corinth CSD","SARATOGA","WILTON",null,"CORINTH"]
["Saratoga Springs City SD","SARATOGA","WILTON",null,"SARATOGA SPRINGS"]
["Schuylerville CSD","SARATOGA","WILTON",null,"SCHUYLERVILLE"]
["South Glens Falls CSD","SARATOGA","WILTON",null,"SOUTH GLENS FALLS"]
["Schenectady County"]
["Town of Duanesburg"]
["Amsterdam City SD","SCHENECTADY","DUANESBURG",null,"AMSTERDAM"]
["Duanesburg CSD","SCHENECTADY","DUANESBURG",null,"DUANESBURG"]
["Schalmont CSD","SCHENECTADY","DUANESBURG",null,"SCHALMONT"]
["Schoharie CSD","SCHENECTADY","DUANESBURG",null,"SCHOHARIE"]
["Village of Delanson"]
["Duanesburg CSD","SCHENECTADY","DELANSON","DUANESBURG","DUANESBURG"]
["Town of Glenville"]
["Amsterdam City SD","SCHENECTADY","GLENVILLE",null,"AMSTERDAM"]
["Burnt Hills-Ballston Lake CSD","SCHENECTADY","GLENVILLE",null,"BURNT HILLS-BALLSTON LAKE"]
["Galway CSD","SCHENECTADY","GLENVILLE",null,"GALWAY"]
["Niskayuna CSD","SCHENECTADY","GLENVILLE",null,"NISKAYUNA"]
["Scotia-Glenville CSD","SCHENECTADY","GLENVILLE",null,"SCOTIA-GLENVILLE"]
["Village of Scotia"]
["Scotia-Glenville CSD","SCHENECTADY","SCOTIA","GLENVILLE","SCOTIA-GLENVILLE"]
["Town of Niskayuna"]
["Niskayuna CSD","SCHENECTADY","NISKAYUNA",null,"NISKAYUNA"]
["South Colonie CSD","SCHENECTADY","NISKAYUNA",null,"SOUTH COLONIE"]
["Town of Princetown"]
["Duanesburg CSD","SCHENECTADY","PRINCETOWN",null,"DUANESBURG"]
["Schalmont CSD","SCHENECTADY","PRINCETOWN",null,"SCHALMONT"]
["Town of Rotterdam"]
["Rotterdam-Mohonasen CSD","SCHENECTADY","ROTTERDAM",null,"ROTTERDAM-MOHONASEN"]
["Schalmont CSD","SCHENECTADY","ROTTERDAM",null,"SCHALMONT"]
["Schenectady City SD","SCHENECTADY","ROTTERDAM",null,"SCHENECTADY"]
["City of Schenectady"]
["Schenectady City SD","SCHENECTADY","SCHENECTADY",null,"SCHENECTADY"]
["Capital District"]

{"sheet":"2017 SD","index":4,"n_rows":283,"n_cols":34,"rows_kept":283,"cut":false,"hidden":false,"merged":[]}
[]
[]
[null,null,null,null,null,null,null,null,null,null,null,null,null,null,null,null,null,"All Equalization Rates"]
["Property Tax Rates for",{"$f":"'2017'!B1","v":"2017 Tax Rates per $1,000 in Assessed Valuation"},null,null,null,null,null,null,null,null,null,"Total Overall",null,null,"Full","Full",null,"City,","Town On","City/Town"]
["MCDs & School Districts",null,null,"City or",null,null,null,null,null,null,"Equal.","Full Value Range:",null,null,"Value","Value",null,"Town,","County","on",null,null,null,null,"HTML Code"]
["Area","County","Town","Village","School District Range",null,null,"Total Overall Range",null,null,"Rate","Rate per $1,000",null,null,"Computed","Check",null,"Village","& Town","School"]
["Albany County",null,null,null,{"$f":"MIN(E8:E69)","v":0},{"$f":"IF(G7<>0,\"to\",\"\")","v":""},{"$f":"MAX(E8:G69)","v":0},{"$f":"MIN(H8:H69)","v":0},{"$f":"IF(J7<>0,\"to\",\"\")","v":""},{"$f":"MAX(H8:J69)","v":0},null,{"$f":"MIN(L8:L69)","v":0},{"$f":"IF(N7<>0,\"to\",\"\")","v":"to"},{"$f":"MAX(L8:N69)","v":40.700000000000003},null,null,null,null,null,null,null,null,null,null,"<TR VALIGN=BOTTOM BGCOLOR=\"#CCCCFF\">",{"$f":"\"<TH NOWRAP ALIGN=LEFT><FONT FACE=\"\"Times New Roman\"\" COLOR=\"\"#AA00AA\"\">\"&A7&\"</FONT></TH>\"","v":"<TH NOWRAP ALIGN=LEFT><FONT FACE=\"Times New Roman\" COLOR=\"#AA00AA\">Albany County</FONT></TH>"},{"$f":"\"<TD NOWRAP ALIGN=RIGHT><FONT FACE=\"\"Times New Roman\"\" SIZE=-1>\"&IF(B7=\"\",\"<BR>\",TEXT(B7,\"$#,##0.00\"))&\"</FONT></TD>\"","v":"<TD NOWRAP ALIGN=RIGHT><FONT FACE=\"Times New Roman\" SIZE=-1><BR></FONT></TD>"},"<TD NOWRAP ALIGN=RIGHT><FONT FACE=\"Times New Roman\" SIZE=-1><BR></FONT></TD>","<TD NOWRAP ALIGN=RIGHT><FONT FACE=\"Times New Roman\" SIZE=-1><BR></FONT></TD>",{"$f":"\"<TD NOWRAP ALIGN=CENTER><FONT FACE=\"\"Times New Roman\"\" SIZE=-1>\"&TEXT(E7,\"$#,##0.00\")&IF(F7=\"\",\"\",\" to \")&IF(G7<=0,\"\",TEXT(G7,\"$#,##0.00\"))&\"</FONT></TD>\"","v":"<TD NOWRAP ALIGN=CENTER><FONT FACE=\"Times New Roman\" SIZE=-1>$0.00</FONT></TD>"},{"$f":"\"<TD NOWRAP ALIGN=CENTER><FONT FACE=\"\"Times New Roman\"\" SIZE=-1>\"&TEXT(H7,\"$#,##0.00\")&IF(I7=\"\",\"\",\" to \")&IF(J7<=0,\"\",TEXT(J7,\"$#,##0.00\"))&\"</FONT></TD>\"","v":"<TD NOWRAP ALIGN=CENTER><FONT FACE=\"Times New Roman\" SIZE=-1>$0.00</FONT></TD>"},{"$f":"\"<TD NOWRAP ALIGN=CENTER><FONT FACE=\"\"Times New Roman\"\" SIZE=-1>\"&IF(K7=\"\",\"<BR>\",TEXT(K7,\"0.0000\"))&\"</FONT></TD>\"","v":"<TD NOWRAP ALIGN=CENTER><FONT FACE=\"Times New Roman\" SIZE=-1><BR></FONT></TD>"},{"$f":"\"<TD NOWRAP ALIGN=CENTER><FONT FACE=\"\"Times New Roman\"\" SIZE=-1>\"&TEXT(L7,\"$#,##0.00\")&IF(M7=\"\",\"\",\" to \")&IF(N7<=0,\"\",TEXT(N7,\"$#,##0.00\"))&\"</FONT></TD>\"","v":"<TD NOWRAP ALIGN=CENTER><FONT FACE=\"Times New Roman\" SIZE=-1>$0.00 to $40.70</FONT></TD>"},"</TR>"]
["City of Albany",{"$f":"B9","v":3.72},null,{"$f":"D9","v":11.99},{"$f":"MIN(INDIRECT(U9))","v":0},{"$f":"IF(G8<>0,\"to\",\"\")","v":""},{"$f":"IF(U8<>V8,MAX(INDIRECT(U9)),0)","v":0},{"$f":"MIN(INDIRECT(V9))","v":0},{"$f":"IF(J8<>0,\"to\",\"\")","v":""},{"$f":"IF(U8<>V8,MAX(INDIRECT(V9)),0)","v":0},{"$f":"K9","v":0},{"$f":"MIN(INDIRECT(W9))","v":40.700000000000003},{"$f":"IF(N8<>0,\"to\",\"\")","v":""},{"$f":"IF(U8<>V8,MAX(INDIRECT(W9)),0)","v":0},null,null,null,null,null,null,{"$f":"CELL(\"row\",P9)","v":9},{"$f":"CELL(\"row\",P9)","v":9},null,null,"<TR VALIGN=BOTTOM BGCOLOR=\"#FFFFCC\">",{"$f":"\"<TH NOWRAP ALIGN=LEFT><FONT FACE=\"\"Times New Roman\"\" SIZE=-1 COLOR=#800000\"\">\"&A8&\"</FONT></TH>\"","v":"<TH NOWRAP ALIGN=LEFT><FONT FACE=\"Times New Roman\" SIZE=-1 COLOR=#800000\">City of Albany</FONT></TH>"},"<TD NOWRAP ALIGN=RIGHT><FONT FACE=\"Times New Roman\" SIZE=-1>$3.72</FONT></TD>","<TD NOWRAP ALIGN=RIGHT><FONT FACE=\"Times New Roman\" SIZE=-1><BR></FONT></TD>","<TD NOWRAP ALIGN=RIGHT><FONT FACE=\"Times New Roman\" SIZE=-1>$11.99</FONT></TD>","<TD NOWRAP ALIGN=CENTER><FONT FACE=\"Times New Roman\" SIZE=-1>$0.00</FONT></TD>","<TD NOWRAP ALIGN=CENTER><FONT FACE=\"Times New Roman\" SIZE=-1>$0.00</FONT></TD>","<TD NOWRAP ALIGN=CENTER><FONT FACE=\"Times New Roman\" SIZE=-1>0.0000</FONT></TD>","<TD NOWRAP ALIGN=CENTER><FONT FACE=\"Times New Roman\" SIZE=-1>$40.70</FONT></TD>","</TR>"]
["Albany City SD",{"$f":"'2017 Base Data'!N9","v":3.72},{"$f":"'2017 Base Data'!O9","v":0},{"$f":"'2017 Base Data'!P9","v":11.99},{"$f":"'2017 Base Data'!I9","v":0},null,null,{"$f":"'2017 Base Data'!J9","v":0},null,null,{"$f":"'2017 Base Data'!K9","v":0},{"$f":"'2017 Base Data'!R9","v":40.700000000000003},null,null,{"$f":"ROUND(IF(S9<>0,R9*D9+S9*SUM(B9:C9)+T9*E9,R9*SUM(B9:D9)+T9*E9),2)","v":0},{"$f":"L9-O9","v":40.700000000000003},null,{"$f":"'2017 Base Data'!K9","v":0},{"$f":"'2017 Base Data'!L9","v":0},{"$f":"'2017 Base Data'!M9","v":0},{"$f":"\"E\"&U8&\":\"&\"E\"&V8","v":"E9:E9"},{"$f":"\"H\"&U8&\":\"&\"H\"&V8","v":"H9:H9"},{"$f":"\"L\"&U8&\":\"&\"L\"&V8","v":"L9:L9"},null,"<TR VALIGN=BOTTOM>",{"$f":"\"<TD NOWRAP ALIGN=LEFT><FONT FACE=\"\"Times New Roman\"\" SIZE=-1 COLOR=#00AA00\"\">\"&A9&\"</FONT></TD>\"","v":"<TD NOWRAP ALIGN=LEFT><FONT FACE=\"Times New Roman\" SIZE=-1 COLOR=#00AA00\">Albany City SD</FONT></TD>"},"<TD NOWRAP ALIGN=RIGHT><FONT FACE=\"Times New Roman\" SIZE=-1>$3.72</FONT></TD>","<TD NOWRAP ALIGN=RIGHT><FONT FACE=\"Times New Roman\" SIZE=-1>$0.00</FONT></TD>","<TD NOWRAP ALIGN=RIGHT><FONT FACE=\"Times New Roman\" SIZE=-1>$11.99</FONT></TD>","<TD NOWRAP ALIGN=CENTER><FONT FACE=\"Times New Roman\" SIZE=-1>$0.00</FONT></TD>","<TD NOWRAP ALIGN=CENTER><FONT FACE=\"Times New Roman\" SIZE=-1>$0.00</FONT></TD>","<TD NOWRAP ALIGN=CENTER><FONT FACE=\"Times New Roman\" SIZE=-1>0.0000</FONT></TD>","<TD NOWRAP ALIGN=CENTER><FONT FACE=\"Times New Roman\" SIZE=-1>$40.70</FONT></TD>","</TR>"]
["Town of Berne",{"$f":"B11","v":3.72},{"$f":"C11","v":3.09},null,{"$f":"MIN(INDIRECT(U11))","v":0},{"$f":"IF(G10<>0,\"to\",\"\")","v":""},{"$f":"IF(U10<>V10,MAX(INDIRECT(U11)),0)","v":0},{"$f":"MIN(INDIRECT(V11))","v":0},{"$f":"IF(J10<>0,\"to\",\"\")","v":""},{"$f":"IF(U10<>V10,MAX(INDIRECT(V11)),0)","v":0},{"$f":"K11","v":0},{"$f":"MIN(INDIRECT(W11))","v":26.57},{"$f":"IF(N10<>0,\"to\",\"\")","v":"to"},{"$f":"IF(U10<>V10,MAX(INDIRECT(W11)),0)","v":28.509999999999998},null,null,null,null,null,null,{"$f":"CELL(\"row\",P11)","v":11},{"$f":"CELL(\"row\",P14)","v":14},null,null,"<TR VALIGN=BOTTOM BGCOLOR=\"#FFFFCC\">",{"$f":"\"<TH NOWRAP ALIGN=LEFT><FONT FACE=\"\"Times New Roman\"\" SIZE=-1>\"&A10&\"</FONT></TH>\"","v":"<TH NOWRAP ALIGN=LEFT><FONT FACE=\"Times New Roman\" SIZE=-1>Town of Berne</FONT></TH>"},"<TD NOWRAP ALIGN=RIGHT><FONT FACE=\"Times New Roman\" SIZE=-1>$3.72</FONT></TD>","<TD NOWRAP ALIGN=RIGHT><FONT FACE=\"Times New Roman\" SIZE=-1>$3.09</FONT></TD>","<TD NOWRAP ALIGN=RIGHT><FONT FACE=\"Times New Roman\" SIZE=-1><BR></FONT></TD>","<TD NOWRAP ALIGN=CENTER><FONT FACE=\"Times New Roman\" SIZE=-1>$0.00</FONT></TD>","<TD NOWRAP ALIGN=CENTER><FONT FACE=\"Times New Roman\" SIZE=-1>$0.00</FONT></TD>","<TD NOWRAP ALIGN=CENTER><FONT FACE=\"Times New Roman\" SIZE=-1>0.0000</FONT></TD>","<TD NOWRAP ALIGN=CENTER><FONT FACE=\"Times New Roman\" SIZE=-1>$26.57 to $28.51</FONT></TD>","</TR>"]
["Berne-Knox-Westerlo CSD",{"$f":"'2017 Base Data'!N11","v":3.72},{"$f":"'2017 Base Data'!O11","v":3.09},{"$f":"'2017 Base Data'!P11","v":0},{"$f":"'2017 Base Data'!I11","v":0},null,null,{"$f":"'2017 Base Data'!J11","v":0},null,null,{"$f":"'2017 Base Data'!K11","v":0},{"$f":"'2017 Base Data'!R11","v":26.57},null,null,{"$f":"ROUND(IF(S11<>0,R11*D11+S11*SUM(B11:C11)+T11*E11,R11*SUM(B11:D11)+T11*E11),2)","v":0},{"$f":"L11-O11","v":26.57},null,{"$f":"'2017 Base Data'!K11","v":0},{"$f":"'2017 Base Data'!L11","v":0},{"$f":"'2017 Base Data'!M11","v":0},{"$f":"\"E\"&U10&\":\"&\"E\"&V10","v":"E11:E14"},{"$f":"\"H\"&U10&\":\"&\"H\"&V10","v":"H11:H14"},{"$f":"\"L\"&U10&\":\"&\"L\"&V10","v":"L11:L14"},null,"<TR VALIGN=BOTTOM>",{"$f":"\"<TD NOWRAP ALIGN=LEFT><FONT FACE=\"\"Times New Roman\"\" SIZE=-1 COLOR=#00AA00\"\">\"&A11&\"</FONT></TD>\"","v":"<TD NOWRAP ALIGN=LEFT><FONT FACE=\"Times New Roman\" SIZE=-1 COLOR=#00AA00\">Berne-Knox-Westerlo CSD</FONT></TD>"},"<TD NOWRAP ALIGN=RIGHT><FONT FACE=\"Times New Roman\" SIZE=-1>$3.72</FONT></TD>","<TD NOWRAP ALIGN=RIGHT><FONT FACE=\"Times New Roman\" SIZE=-1>$3.09</FONT></TD>","<TD NOWRAP ALIGN=RIGHT><FONT FACE=\"Times New Roman\" SIZE=-1>$0.00</FONT></TD>","<TD NOWRAP ALIGN=CENTER><FONT FACE=\"Times New Roman\" SIZE=-1>$0.00</FONT></TD>","<TD NOWRAP ALIGN=CENTER><FONT FACE=\"Times New Roman\" SIZE=-1>$0.00</FONT></TD>","<TD NOWRAP ALIGN=CENTER><FONT FACE=\"Times New Roman\" SIZE=-1>0.0000</FONT></TD>","<TD NOWRAP ALIGN=CENTER><FONT FACE=\"Times New Roman\" SIZE=-1>$26.57</FONT></TD>","</TR>"]
["Greenville CSD",{"$f":"'2017 Base Data'!N12","v":3.72},{"$f":"'2017 Base Data'!O12","v":3.09},{"$f":"'2017 Base Data'!P12","v":0},{"$f":"'2017 Base Data'!I12","v":0},null,null,{"$f":"'2017 Base Data'!J12","v":0},null,null,{"$f":"'2017 Base Data'!K12","v":0},{"$f":"'2017 Base Data'!R12","v":28.509999999999998},null,null,{"$f":"ROUND(IF(S12<>0,R12*D12+S12*SUM(B12:C12)+T12*E12,R12*SUM(B12:D12)+T12*E12),2)","v":0},{"$f":"L12-O12","v":28.509999999999998},null,{"$f":"'2017 Base Data'!K12","v":0},{"$f":"'2017 Base Data'!L12","v":0},{"$f":"'2017 Base Data'!M12","v":0},null,null,null,null,"<TR VALIGN=BOTTOM>",{"$f":"\"<TD NOWRAP ALIGN=LEFT><FONT FACE=\"\"Times New Roman\"\" SIZE=-1 COLOR=#00AA00\"\">\"&A12&\"</FONT></TD>\"","v":"<TD NOWRAP ALIGN=LEFT><FONT FACE=\"Times New Roman\" SIZE=-1 COLOR=#00AA00\">Greenville CSD</FONT></TD>"},"<TD NOWRAP ALIGN=RIGHT><FONT FACE=\"Times New Roman\" SIZE=-1>$3.72</FONT></TD>","<TD NOWRAP ALIGN=RIGHT><FONT FACE=\"Times New Roman\" SIZE=-1>$3.09</FONT></TD>","<TD NOWRAP ALIGN=RIGHT><FONT FACE=\"Times New Roman\" SIZE=-1>$0.00</FONT></TD>","<TD NOWRAP ALIGN=CENTER><FONT FACE=\"Times New Roman\" SIZE=-1>$0.00</FONT></TD>","<TD NOWRAP ALIGN=CENTER><FONT FACE=\"Times New Roman\" SIZE=-1>$0.00</FONT></TD>","<TD NOWRAP ALIGN=CENTER><FONT FACE=\"Times New Roman\" SIZE=-1>0.0000</FONT></TD>","<TD NOWRAP ALIGN=CENTER><FONT FACE=\"Times New Roman\" SIZE=-1>$28.51</FONT></TD>","</TR>"]
["Middleburgh CSD",{"$f":"'2017 Base Data'!N13","v":3.72},{"$f":"'2017 Base Data'!O13","v":3.09},{"$f":"'2017 Base Data'!P13","v":0},{"$f":"'2017 Base Data'!I13","v":0},null,null,{"$f":"'2017 Base Data'!J13","v":0},null,null,{"$f":"'2017 Base Data'!K13","v":0},{"$f":"'2017 Base Data'!R13","v":28.47},null,null,{"$f":"ROUND(IF(S13<>0,R13*D13+S13*SUM(B13:C13)+T13*E13,R13*SUM(B13:D13)+T13*E13),2)","v":0},{"$f":"L13-O13","v":28.47},null,{"$f":"'2017 Base Data'!K13","v":0},{"$f":"'2017 Base Data'!L13","v":0},{"$f":"'2017 Base Data'!M13","v":0},null,null,null,null,"<TR VALIGN=BOTTOM>",{"$f":"\"<TD NOWRAP ALIGN=LEFT><FONT FACE=\"\"Times New Roman\"\" SIZE=-1 COLOR=#00AA00\"\">\"&A13&\"</FONT></TD>\"","v":"<TD NOWRAP ALIGN=LEFT><FONT FACE=\"Times New Roman\" SIZE=-1 COLOR=#00AA00\">Middleburgh CSD</FONT></TD>"},"<TD NOWRAP ALIGN=RIGHT><FONT FACE=\"Times New Roman\" SIZE=-1>$3.72</FONT></TD>","<TD NOWRAP ALIGN=RIGHT><FONT FACE=\"Times New Roman\" SIZE=-1>$3.09</FONT></TD>","<TD NOWRAP ALIGN=RIGHT><FONT FACE=\"Times New Roman\" SIZE=-1>$0.00</FONT></TD>","<TD NOWRAP ALIGN=CENTER><FONT FACE=\"Times New Roman\" SIZE=-1>$0.00</FONT></TD>","<TD NOWRAP ALIGN=CENTER><FONT FACE=\"Times New Roman\" SIZE=-1>$0.00</FONT></TD>","<TD NOWRAP ALIGN=CENTER><FONT FACE=\"Times New Roman\" SIZE=-1>0.0000</FONT></TD>","<TD NOWRAP ALIGN=CENTER><FONT FACE=\"Times New Roman\" SIZE=-1>$28.47</FONT></TD>","</TR>"]
["Voorheesville CSD",{"$f":"'2017 Base Data'!N14","v":3.72},{"$f":"'2017 Base Data'!O14","v":3.09},{"$f":"'2017 Base Data'!P14","v":0},{"$f":"'2017 Base Data'!I14","v":0},null,null,{"$f":"'2017 Base Data'!J14","v":0},null,null,{"$f":"'2017 Base Data'!K14","v":0},{"$f":"'2017 Base Data'!R14","v":27.46},null,null,{"$f":"ROUND(IF(S14<>0,R14*D14+S14*SUM(B14:C14)+T14*E14,R14*SUM(B14:D14)+T14*E14),2)","v":0},{"$f":"L14-O14","v":27.46},null,{"$f":"'2017 Base Data'!K14","v":0},{"$f":"'2017 Base Data'!L14","v":0},{"$f":"'2017 Base Data'!M14","v":0},null,null,null,null,"<TR VALIGN=BOTTOM>",{"$f":"\"<TD NOWRAP ALIGN=LEFT><FONT FACE=\"\"Times New Roman\"\" SIZE=-1 COLOR=#00AA00\"\">\"&A14&\"</FONT></TD>\"","v":"<TD NOWRAP ALIGN=LEFT><FONT FACE=\"Times New Roman\" SIZE=-1 COLOR=#00AA00\">Voorheesville CSD</FONT></TD>"},"<TD NOWRAP ALIGN=RIGHT><FONT FACE=\"Times New Roman\" SIZE=-1>$3.72</FONT></TD>","<TD NOWRAP ALIGN=RIGHT><FONT FACE=\"Times New Roman\" SIZE=-1>$3.09</FONT></TD>","<TD NOWRAP ALIGN=RIGHT><FONT FACE=\"Times New Roman\" SIZE=-1>$0.00</FONT></TD>","<TD NOWRAP ALIGN=CENTER><FONT FACE=\"Times New Roman\" SIZE=-1>$0.00</FONT></TD>","<TD NOWRAP ALIGN=CENTER><FONT FACE=\"Times New Roman\" SIZE=-1>$0.00</FONT></TD>","<TD NOWRAP ALIGN=CENTER><FONT FACE=\"Times New Roman\" SIZE=-1>0.0000</FONT></TD>","<TD NOWRAP ALIGN=CENTER><FONT FACE=\"Times New Roman\" SIZE=-1>$27.46</FONT></TD>","</TR>"]
["Town of Bethlehem",{"$f":"B16","v":0},{"$f":"C16","v":0},null,{"$f":"MIN(INDIRECT(U16))","v":0},{"$f":"IF(G15<>0,\"to\",\"\")","v":""},{"$f":"IF(U15<>V15,MAX(INDIRECT(U16)),0)","v":0},{"$f":"MIN(INDIRECT(V16))","v":0},{"$f":"IF(J15<>0,\"to\",\"\")","v":""},{"$f":"IF(U15<>V15,MAX(INDIRECT(V16)),0)","v":0},{"$f":"K16","v":0},{"$f":"MIN(INDIRECT(W16))","v":0},{"$f":"IF(N15<>0,\"to\",\"\")","v":""},{"$f":"IF(U15<>V15,MAX(INDIRECT(W16)),0)","v":0},null,null,null,null,null,null,{"$f":"CELL(\"row\",P16)","v":16},{"$f":"CELL(\"row\",P18)","v":18},null,null,"<TR VALIGN=BOTTOM BGCOLOR=\"#FFFFCC\">",{"$f":"\"<TH NOWRAP ALIGN=LEFT><FONT FACE=\"\"Times New Roman\"\" SIZE=-1>\"&A15&\"</FONT></TH>\"","v":"<TH NOWRAP ALIGN=LEFT><FONT FACE=\"Times New Roman\" SIZE=-1>Town of Bethlehem</FONT></TH>"},"<TD NOWRAP ALIGN=RIGHT><FONT FACE=\"Times New Roman\" SIZE=-1>$0.00</FONT></TD>","<TD NOWRAP ALIGN=RIGHT><FONT FACE=\"Times New Roman\" SIZE=-1>$0.00</FONT></TD>","<TD NOWRAP ALIGN=RIGHT><FONT FACE=\"Times New Roman\" SIZE=-1><BR></FONT></TD>","<TD NOWRAP ALIGN=CENTER><FONT FACE=\"Times New Roman\" SIZE=-1>$0.00</FONT></TD>","<TD NOWRAP ALIGN=CENTER><FONT FACE=\"Times New Roman\" SIZE=-1>$0.00</FONT></TD>","<TD NOWRAP ALIGN=CENTER><FONT FACE=\"Times New Roman\" SIZE=-1>0.0000</FONT></TD>","<TD NOWRAP ALIGN=CENTER><FONT FACE=\"Times New Roman\" SIZE=-1>$0.00</FONT></TD>","</TR>"]
["Bethlehem CSD",{"$f":"'2017 Base Data'!F16","v":0},{"$f":"'2017 Base Data'!G16","v":0},null,{"$f":"'2017 Base Data'!I16","v":0},null,null,{"$f":"'2017 Base Data'!J16","v":0},null,null,{"$f":"'2017 Base Data'!K16","v":0},{"$f":"'2017 Base Data'!R16","v":0},null,null,{"$f":"ROUND(IF(S16<>0,R16*D16+S16*SUM(B16:C16)+T16*E16,R16*SUM(B16:D16)+T16*E16),2)","v":0},{"$f":"L16-O16","v":0},null,{"$f":"'2017 Base Data'!K16","v":0},{"$f":"'2017 Base Data'!L16","v":0},{"$f":"'2017 Base Data'!M16","v":0},{"$f":"\"E\"&U15&\":\"&\"E\"&V15","v":"E16:E18"},{"$f":"\"H\"&U15&\":\"&\"H\"&V15","v":"H16:H18"},{"$f":"\"L\"&U15&\":\"&\"L\"&V15","v":"L16:L18"},null,"<TR VALIGN=BOTTOM>",{"$f":"\"<TD NOWRAP ALIGN=LEFT><FONT FACE=\"\"Times New Roman\"\" SIZE=-1 COLOR=#00AA00\"\">\"&A16&\"</FONT></TD>\"","v":"<TD NOWRAP ALIGN=LEFT><FONT FACE=\"Times New Roman\" SIZE=-1 COLOR=#00AA00\">Bethlehem CSD</FONT></TD>"},"<TD NOWRAP ALIGN=RIGHT><FONT FACE=\"Times New Roman\" SIZE=-1>$0.00</FONT></TD>","<TD NOWRAP ALIGN=RIGHT><FONT FACE=\"Times New Roman\" SIZE=-1>$0.00</FONT></TD>","<TD NOWRAP ALIGN=RIGHT><FONT FACE=\"Times New Roman\" SIZE=-1><BR></FONT></TD>","<TD NOWRAP ALIGN=CENTER><FONT FACE=\"Times New Roman\" SIZE=-1>$0.00</FONT></TD>","<TD NOWRAP ALIGN=CENTER><FONT FACE=\"Times New Roman\" SIZE=-1>$0.00</FONT></TD>","<TD NOWRAP ALIGN=CENTER><FONT FACE=\"Times New Roman\" SIZE=-1>0.0000</FONT></TD>","<TD NOWRAP ALIGN=CENTER><FONT FACE=\"Times New Roman\" SIZE=-1>$0.00</FONT></TD>","</TR>"]
["Guilderland CSD",{"$f":"'2017 Base Data'!F17","v":0},{"$f":"'2017 Base Data'!G17","v":0},null,{"$f":"'2017 Base Data'!I17","v":0},null,null,{"$f":"'2017 Base Data'!J17","v":0},null,null,{"$f":"'2017 Base Data'!K17","v":0},{"$f":"'2017 Base Data'!R17","v":0},null,null,{"$f":"ROUND(IF(S17<>0,R17*D17+S17*SUM(B17:C17)+T17*E17,R17*SUM(B17:D17)+T17*E17),2)","v":0},{"$f":"L17-O17","v":0},null,{"$f":"'2017 Base Data'!K17","v":0},{"$f":"'2017 Base Data'!L17","v":0},{"$f":"'2017 Base Data'!M17","v":0},null,null,null,null,"<TR VALIGN=BOTTOM>",{"$f":"\"<TD NOWRAP ALIGN=LEFT><FONT FACE=\"\"Times New Roman\"\" SIZE=-1 COLOR=#00AA00\"\">\"&A17&\"</FONT></TD>\"","v":"<TD NOWRAP ALIGN=LEFT><FONT FACE=\"Times New Roman\" SIZE=-1 COLOR=#00AA00\">Guilderland CSD</FONT></TD>"},"<TD NOWRAP ALIGN=RIGHT><FONT FACE=\"Times New Roman\" SIZE=-1>$0.00</FONT></TD>","<TD NOWRAP ALIGN=RIGHT><FONT FACE=\"Times New Roman\" SIZE=-1>$0.00</FONT></TD>","<TD NOWRAP ALIGN=RIGHT><FONT FACE=\"Times New Roman\" SIZE=-1><BR></FONT></TD>","<TD NOWRAP ALIGN=CENTER><FONT FACE=\"Times New Roman\" SIZE=-1>$0.00</FONT></TD>","<TD NOWRAP ALIGN=CENTER><FONT FACE=\"Times New Roman\" SIZE=-1>$0.00</FONT></TD>","<TD NOWRAP ALIGN=CENTER><FONT FACE=\"Times New Roman\" SIZE=-1>0.0000</FONT></TD>","<TD NOWRAP ALIGN=CENTER><FONT FACE=\"Times New Roman\" SIZE=-1>$0.00</FONT></TD>","</TR>"]
["Ravena-Coeymans-Selkirk CSD",{"$f":"'2017 Base Data'!F18","v":0},{"$f":"'2017 Base Data'!G18","v":0},null,{"$f":"'2017 Base Data'!I18","v":0},null,null,{"$f":"'2017 Base Data'!J18","v":0},null,null,{"$f":"'2017 Base Data'!K18","v":0},{"$f":"'2017 Base Data'!R18","v":0},null,null,{"$f":"ROUND(IF(S18<>0,R18*D18+S18*SUM(B18:C18)+T18*E18,R18*SUM(B18:D18)+T18*E18),2)","v":0},{"$f":"L18-O18","v":0},null,{"$f":"'2017 Base Data'!K18","v":0},{"$f":"'2017 Base Data'!L18","v":0},{"$f":"'2017 Base Data'!M18","v":0},null,null,null,null,"<TR VALIGN=BOTTOM>",{"$f":"\"<TD NOWRAP ALIGN=LEFT><FONT FACE=\"\"Times New Roman\"\" SIZE=-1 COLOR=#00AA00\"\">\"&A18&\"</FONT></TD>\"","v":"<TD NOWRAP ALIGN=LEFT><FONT FACE=\"Times New Roman\" SIZE=-1 COLOR=#00AA00\">Ravena-Coeymans-Selkirk CSD</FONT></TD>"},"<TD NOWRAP ALIGN=RIGHT><FONT FACE=\"Times New Roman\" SIZE=-1>$0.00</FONT></TD>","<TD NOWRAP ALIGN=RIGHT><FONT FACE=\"Times New Roman\" SIZE=-1>$0.00</FONT></TD>","<TD NOWRAP ALIGN=RIGHT><FONT FACE=\"Times New Roman\" SIZE=-1><BR></FONT></TD>","<TD NOWRAP ALIGN=CENTER><FONT FACE=\"Times New Roman\" SIZE=-1>$0.00</FONT></TD>","<TD NOWRAP ALIGN=CENTER><FONT FACE=\"Times New Roman\" SIZE=-1>$0.00</FONT></TD>","<TD NOWRAP ALIGN=CENTER><FONT FACE=\"Times New Roman\" SIZE=-1>0.0000</FONT></TD>","<TD NOWRAP ALIGN=CENTER><FONT FACE=\"Times New Roman\" SIZE=-1>$0.00</FONT></TD>","</TR>"]
["Town of Coeymans",{"$f":"B20","v":0},{"$f":"C20","v":0},null,{"$f":"MIN(INDIRECT(U20))","v":0},{"$f":"IF(G19<>0,\"to\",\"\")","v":""},{"$f":"IF(U19<>V19,MAX(INDIRECT(U20)),0)","v":0},{"$f":"MIN(INDIRECT(V20))","v":0},{"$f":"IF(J19<>0,\"to\",\"\")","v":""},{"$f":"IF(U19<>V19,MAX(INDIRECT(V20)),0)","v":0},{"$f":"K20","v":0},{"$f":"MIN(INDIRECT(W20))","v":0},{"$f":"IF(N19<>0,\"to\",\"\")","v":""},{"$f":"IF(U19<>V19,MAX(INDIRECT(W20)),0)","v":0},null,null,null,null,null,null,{"$f":"CELL(\"row\",P20)","v":20},{"$f":"CELL(\"row\",P21)","v":21},null,null,"<TR VALIGN=BOTTOM BGCOLOR=\"#FFFFCC\">",{"$f":"\"<TH NOWRAP ALIGN=LEFT><FONT FACE=\"\"Times New Roman\"\" SIZE=-1>\"&A19&\"</FONT></TH>\"","v":"<TH NOWRAP ALIGN=LEFT><FONT FACE=\"Times New Roman\" SIZE=-1>Town of Coeymans</FONT></TH>"},"<TD NOWRAP ALIGN=RIGHT><FONT FACE=\"Times New Roman\" SIZE=-1>$0.00</FONT></TD>","<TD NOWRAP ALIGN=RIGHT><FONT FACE=\"Times New Roman\" SIZE=-1>$0.00</FONT></TD>","<TD NOWRAP ALIGN=RIGHT><FONT FACE=\"Times New Roman\" SIZE=-1><BR></FONT></TD>","<TD NOWRAP ALIGN=CENTER><FONT FACE=\"Times New Roman\" SIZE=-1>$0.00</FONT></TD>","<TD NOWRAP ALIGN=CENTER><FONT FACE=\"Times New Roman\" SIZE=-1>$0.00</FONT></TD>","<TD NOWRAP ALIGN=CENTER><FONT FACE=\"Times New Roman\" SIZE=-1>0.0000</FONT></TD>","<TD NOWRAP ALIGN=CENTER><FONT FACE=\"Times New Roman\" SIZE=-1>$0.00</FONT></TD>","</TR>"]
["Greenville CSD",{"$f":"'2017 Base Data'!F20","v":0},{"$f":"'2017 Base Data'!G20","v":0},null,{"$f":"'2017 Base Data'!I20","v":0},null,null,{"$f":"'2017 Base Data'!J20","v":0},null,null,{"$f":"'2017 Base Data'!K20","v":0},{"$f":"'2017 Base Data'!R20","v":0},null,null,{"$f":"ROUND(IF(S20<>0,R20*D20+S20*SUM(B20:C20)+T20*E20,R20*SUM(B20:D20)+T20*E20),2)","v":0},{"$f":"L20-O20","v":0},null,{"$f":"'2017 Base Data'!K20","v":0},{"$f":"'2017 Base Data'!L20","v":0},{"$f":"'2017 Base Data'!M20","v":0},{"$f":"\"E\"&U19&\":\"&\"E\"&V19","v":"E20:E21"},{"$f":"\"H\"&U19&\":\"&\"H\"&V19","v":"H20:H21"},{"$f":"\"L\"&U19&\":\"&\"L\"&V19","v":"L20:L21"},null,"<TR VALIGN=BOTTOM>",{"$f":"\"<TD NOWRAP ALIGN=LEFT><FONT FACE=\"\"Times New Roman\"\" SIZE=-1 COLOR=#00AA00\"\">\"&A20&\"</FONT></TD>\"","v":"<TD NOWRAP ALIGN=LEFT><FONT FACE=\"Times New Roman\" SIZE=-1 COLOR=#00AA00\">Greenville CSD</FONT></TD>"},"<TD NOWRAP ALIGN=RIGHT><FONT FACE=\"Times New Roman\" SIZE=-1>$0.00</FONT></TD>","<TD NOWRAP ALIGN=RIGHT><FONT FACE=\"Times New Roman\" SIZE=-1>$0.00</FONT></TD>","<TD NOWRAP ALIGN=RIGHT><FONT FACE=\"Times New Roman\" SIZE=-1><BR></FONT></TD>","<TD NOWRAP ALIGN=CENTER><FONT FACE=\"Times New Roman\" SIZE=-1>$0.00</FONT></TD>","<TD NOWRAP ALIGN=CENTER><FONT FACE=\"Times New Roman\" SIZE=-1>$0.00</FONT></TD>","<TD NOWRAP ALIGN=CENTER><FONT FACE=\"Times New Roman\" SIZE=-1>0.0000</FONT></TD>","<TD NOWRAP ALIGN=CENTER><FONT FACE=\"Times New Roman\" SIZE=-1>$0.00</FONT></TD>","</TR>"]
["Ravena-Coeymans-Selkirk CSD",{"$f":"'2017 Base Data'!F21","v":0},{"$f":"'2017 Base Data'!G21","v":0},null,{"$f":"'2017 Base Data'!I21","v":0},null,null,{"$f":"'2017 Base Data'!J21","v":0},null,null,{"$f":"'2017 Base Data'!K21","v":0},{"$f":"'2017 Base Data'!R21","v":0},null,null,{"$f":"ROUND(IF(S21<>0,R21*D21+S21*SUM(B21:C21)+T21*E21,R21*SUM(B21:D21)+T21*E21),2)","v":0},{"$f":"L21-O21","v":0},null,{"$f":"'2017 Base Data'!K21","v":0},{"$f":"'2017 Base Data'!L21","v":0},{"$f":"'2017 Base Data'!M21","v":0},null,null,null,null,"<TR VALIGN=BOTTOM>",{"$f":"\"<TD NOWRAP ALIGN=LEFT><FONT FACE=\"\"Times New Roman\"\" SIZE=-1 COLOR=#00AA00\"\">\"&A21&\"</FONT></TD>\"","v":"<TD NOWRAP ALIGN=LEFT><FONT FACE=\"Times New Roman\" SIZE=-1 COLOR=#00AA00\">Ravena-Coeymans-Selkirk CSD</FONT></TD>"},"<TD NOWRAP ALIGN=RIGHT><FONT FACE=\"Times New Roman\" SIZE=-1>$0.00</FONT></TD>","<TD NOWRAP ALIGN=RIGHT><FONT FACE=\"Times New Roman\" SIZE=-1>$0.00</FONT></TD>","<TD NOWRAP ALIGN=RIGHT><FONT FACE=\"Times New Roman\" SIZE=-1><BR></FONT></TD>","<TD NOWRAP ALIGN=CENTER><FONT FACE=\"Times New Roman\" SIZE=-1>$0.00</FONT></TD>","<TD NOWRAP ALIGN=CENTER><FONT FACE=\"Times New Roman\" SIZE=-1>$0.00</FONT></TD>","<TD NOWRAP ALIGN=CENTER><FONT FACE=\"Times New Roman\" SIZE=-1>0.0000</FONT></TD>","<TD NOWRAP ALIGN=CENTER><FONT FACE=\"Times New Roman\" SIZE=-1>$0.00</FONT></TD>","</TR>"]
["Village of Ravena",{"$f":"B23","v":0},{"$f":"C23","v":0},{"$f":"D23","v":0},{"$f":"MIN(INDIRECT(U23))","v":0},{"$f":"IF(G22<>0,\"to\",\"\")","v":""},{"$f":"IF(U22<>V22,MAX(INDIRECT(U23)),0)","v":0},{"$f":"MIN(INDIRECT(V23))","v":0},{"$f":"IF(J22<>0,\"to\",\"\")","v":""},{"$f":"IF(U22<>V22,MAX(INDIRECT(V23)),0)","v":0},{"$f":"K23","v":0},{"$f":"MIN(INDIRECT(W23))","v":0},{"$f":"IF(N22<>0,\"to\",\"\")","v":""},{"$f":"IF(U22<>V22,MAX(INDIRECT(W23)),0)","v":0},null,null,null,null,null,null,{"$f":"CELL(\"row\",P23)","v":23},{"$f":"CELL(\"row\",P23)","v":23},null,null,"<TR VALIGN=BOTTOM BGCOLOR=\"#FFFFCC\">",{"$f":"\"<TH NOWRAP ALIGN=LEFT><FONT FACE=\"\"Times New Roman\"\" SIZE=-1 COLOR=\"\"#0000CC\"\">\"&A22&\"</FONT></TH>\"","v":"<TH NOWRAP ALIGN=LEFT><FONT FACE=\"Times New Roman\" SIZE=-1 COLOR=\"#0000CC\">Village of Ravena</FONT></TH>"},"<TD NOWRAP ALIGN=RIGHT><FONT FACE=\"Times New Roman\" SIZE=-1>$0.00</FONT></TD>","<TD NOWRAP ALIGN=RIGHT><FONT FACE=\"Times New Roman\" SIZE=-1>$0.00</FONT></TD>","<TD NOWRAP ALIGN=RIGHT><FONT FACE=\"Times New Roman\" SIZE=-1>$0.00</FONT></TD>","<TD NOWRAP ALIGN=CENTER><FONT FACE=\"Times New Roman\" SIZE=-1>$0.00</FONT></TD>","<TD NOWRAP ALIGN=CENTER><FONT FACE=\"Times New Roman\" SIZE=-1>$0.00</FONT></TD>","<TD NOWRAP ALIGN=CENTER><FONT FACE=\"Times New Roman\" SIZE=-1>0.0000</FONT></TD>","<TD NOWRAP ALIGN=CENTER><FONT FACE=\"Times New Roman\" SIZE=-1>$0.00</FONT></TD>","</TR>"]
["Ravena-Coeymans-Selkirk CSD",{"$f":"'2017 Base Data'!F23","v":0},{"$f":"'2017 Base Data'!G23","v":0},{"$f":"'2017 Base Data'!H23","v":0},{"$f":"'2017 Base Data'!I23","v":0},null,null,{"$f":"'2017 Base Data'!J23","v":0},null,null,{"$f":"'2017 Base Data'!K23","v":0},{"$f":"'2017 Base Data'!R23","v":0},null,null,{"$f":"ROUND(IF(S23<>0,R23*D23+S23*SUM(B23:C23)+T23*E23,R23*SUM(B23:D23)+T23*E23),2)","v":0},{"$f":"L23-O23","v":0},null,{"$f":"'2017 Base Data'!K23","v":0},{"$f":"'2017 Base Data'!L23","v":0},{"$f":"'2017 Base Data'!M23","v":0},{"$f":"\"E\"&U22&\":\"&\"E\"&V22","v":"E23:E23"},{"$f":"\"H\"&U22&\":\"&\"H\"&V22","v":"H23:H23"},{"$f":"\"L\"&U22&\":\"&\"L\"&V22","v":"L23:L23"},null,"<TR VALIGN=BOTTOM>",{"$f":"\"<TD NOWRAP ALIGN=LEFT><FONT FACE=\"\"Times New Roman\"\" SIZE=-1 COLOR=#00AA00\"\">\"&A23&\"</FONT></TD>\"","v":"<TD NOWRAP ALIGN=LEFT><FONT FACE=\"Times New Roman\" SIZE=-1 COLOR=#00AA00\">Ravena-Coeymans-Selkirk CSD</FONT></TD>"},"<TD NOWRAP ALIGN=RIGHT><FONT FACE=\"Times New Roman\" SIZE=-1>$0.00</FONT></TD>","<TD NOWRAP ALIGN=RIGHT><FONT FACE=\"Times New Roman\" SIZE=-1>$0.00</FONT></TD>","<TD NOWRAP ALIGN=RIGHT><FONT FACE=\"Times New Roman\" SIZE=-1>$0.00</FONT></TD>","<TD NOWRAP ALIGN=CENTER><FONT FACE=\"Times New Roman\" SIZE=-1>$0.00</FONT></TD>","<TD NOWRAP ALIGN=CENTER><FONT FACE=\"Times New Roman\" SIZE=-1>$0.00</FONT></TD>","<TD NOWRAP ALIGN=CENTER><FONT FACE=\"Times New Roman\" SIZE=-1>0.0000</FONT></TD>","<TD NOWRAP ALIGN=CENTER><FONT FACE=\"Times New Roman\" SIZE=-1>$0.00</FONT></TD>","</TR>"]
["City of Cohoes",{"$f":"B25","v":0},null,{"$f":"D25","v":0},{"$f":"MIN(INDIRECT(U25))","v":0},{"$f":"IF(G24<>0,\"to\",\"\")","v":""},{"$f":"IF(U24<>V24,MAX(INDIRECT(U25)),0)","v":0},{"$f":"MIN(INDIRECT(V25))","v":0},{"$f":"IF(J24<>0,\"to\",\"\")","v":""},{"$f":"IF(U24<>V24,MAX(INDIRECT(V25)),0)","v":0},{"$f":"K25","v":0},{"$f":"MIN(INDIRECT(W25))","v":0},{"$f":"IF(N24<>0,\"to\",\"\")","v":""},{"$f":"IF(U24<>V24,MAX(INDIRECT(W25)),0)","v":0},null,null,null,null,null,null,{"$f":"CELL(\"row\",P25)","v":25},{"$f":"CELL(\"row\",P25)","v":25},null,null,"<TR VALIGN=BOTTOM BGCOLOR=\"#FFFFCC\">",{"$f":"\"<TH NOWRAP ALIGN=LEFT><FONT FACE=\"\"Times New Roman\"\" SIZE=-1 COLOR=#800000\"\">\"&A24&\"</FONT></TH>\"","v":"<TH NOWRAP ALIGN=LEFT><FONT FACE=\"Times New Roman\" SIZE=-1 COLOR=#800000\">City of Cohoes</FONT></TH>"},"<TD NOWRAP ALIGN=RIGHT><FONT FACE=\"Times New Roman\" SIZE=-1>$0.00</FONT></TD>","<TD NOWRAP ALIGN=RIGHT><FONT FACE=\"Times New Roman\" SIZE=-1><BR></FONT></TD>","<TD NOWRAP ALIGN=RIGHT><FONT FACE=\"Times New Roman\" SIZE=-1>$0.00</FONT></TD>","<TD NOWRAP ALIGN=CENTER><FONT FACE=\"Times New Roman\" SIZE=-1>$0.00</FONT></TD>","<TD NOWRAP ALIGN=CENTER><FONT FACE=\"Times New Roman\" SIZE=-1>$0.00</FONT></TD>","<TD NOWRAP ALIGN=CENTER><FONT FACE=\"Times New Roman\" SIZE=-1>0.0000</FONT></TD>","<TD NOWRAP ALIGN=CENTER><FONT FACE=\"Times New Roman\" SIZE=-1>$0.00</FONT></TD>","</TR>"]
["Cohoes City SD",{"$f":"'2017 Base Data'!F25","v":0},null,{"$f":"'2017 Base Data'!H25","v":0},{"$f":"'2017 Base Data'!I25","v":0},null,null,{"$f":"'2017 Base Data'!J25","v":0},null,null,{"$f":"'2017 Base Data'!K25","v":0},{"$f":"'2017 Base Data'!R25","v":0},null,null,{"$f":"ROUND(IF(S25<>0,R25*D25+S25*SUM(B25:C25)+T25*E25,R25*SUM(B25:D25)+T25*E25),2)","v":0},{"$f":"L25-O25","v":0},null,{"$f":"'2017 Base Data'!K25","v":0},{"$f":"'2017 Base Data'!L25","v":0},{"$f":"'2017 Base Data'!M25","v":0},{"$f":"\"E\"&U24&\":\"&\"E\"&V24","v":"E25:E25"},{"$f":"\"H\"&U24&\":\"&\"H\"&V24","v":"H25:H25"},{"$f":"\"L\"&U24&\":\"&\"L\"&V24","v":"L25:L25"},null,"<TR VALIGN=BOTTOM>",{"$f":"\"<TD NOWRAP ALIGN=LEFT><FONT FACE=\"\"Times New Roman\"\" SIZE=-1 COLOR=#00AA00\"\">\"&A25&\"</FONT></TD>\"","v":"<TD NOWRAP ALIGN=LEFT><FONT FACE=\"Times New Roman\" SIZE=-1 COLOR=#00AA00\">Cohoes City SD</FONT></TD>"},"<TD NOWRAP ALIGN=RIGHT><FONT FACE=\"Times New Roman\" SIZE=-1>$0.00</FONT></TD>","<TD NOWRAP ALIGN=RIGHT><FONT FACE=\"Times New Roman\" SIZE=-1><BR></FONT></TD>","<TD NOWRAP ALIGN=RIGHT><FONT FACE=\"Times New Roman\" SIZE=-1>$0.00</FONT></TD>","<TD NOWRAP ALIGN=CENTER><FONT FACE=\"Times New Roman\" SIZE=-1>$0.00</FONT></TD>","<TD NOWRAP ALIGN=CENTER><FONT FACE=\"Times New Roman\" SIZE=-1>$0.00</FONT></TD>","<TD NOWRAP ALIGN=CENTER><FONT FACE=\"Times New Roman\" SIZE=-1>0.0000</FONT></TD>","<TD NOWRAP ALIGN=CENTER><FONT FACE=\"Times New Roman\" SIZE=-1>$0.00</FONT></TD>","</TR>"]
["Town of Colonie",{"$f":"B27","v":0},{"$f":"C27","v":0},null,{"$f":"MIN(INDIRECT(U27))","v":0},{"$f":"IF(G26<>0,\"to\",\"\")","v":""},{"$f":"IF(U26<>V26,MAX(INDIRECT(U27)),0)","v":0},{"$f":"MIN(INDIRECT(V27))","v":0},{"$f":"IF(J26<>0,\"to\",\"\")","v":""},{"$f":"IF(U26<>V26,MAX(INDIRECT(V27)),0)","v":0},{"$f":"K27","v":0},{"$f":"MIN(INDIRECT(W27))","v":0},{"$f":"IF(N26<>0,\"to\",\"\")","v":""},{"$f":"IF(U26<>V26,MAX(INDIRECT(W27)),0)","v":0},null,null,null,null,null,null,{"$f":"CELL(\"row\",P27)","v":27},{"$f":"CELL(\"row\",P32)","v":32},null,null,"<TR VALIGN=BOTTOM BGCOLOR=\"#FFFFCC\">",{"$f":"\"<TH NOWRAP ALIGN=LEFT><FONT FACE=\"\"Times New Roman\"\" SIZE=-1>\"&A26&\"</FONT></TH>\"","v":"<TH NOWRAP ALIGN=LEFT><FONT FACE=\"Times New Roman\" SIZE=-1>Town of Colonie</FONT></TH>"},"<TD NOWRAP ALIGN=RIGHT><FONT FACE=\"Times New Roman\" SIZE=-1>$0.00</FONT></TD>","<TD NOWRAP ALIGN=RIGHT><FONT FACE=\"Times New Roman\" SIZE=-1>$0.00</FONT></TD>","<TD NOWRAP ALIGN=RIGHT><FONT FACE=\"Times New Roman\" SIZE=-1><BR></FONT></TD>","<TD NOWRAP ALIGN=CENTER><FONT FACE=\"Times New Roman\" SIZE=-1>$0.00</FONT></TD>","<TD NOWRAP ALIGN=CENTER><FONT FACE=\"Times New Roman\" SIZE=-1>$0.00</FONT></TD>","<TD NOWRAP ALIGN=CENTER><FONT FACE=\"Times New Roman\" SIZE=-1>0.0000</FONT></TD>","<TD NOWRAP ALIGN=CENTER><FONT FACE=\"Times New Roman\" SIZE=-1>$0.00</FONT></TD>","</TR>"]
["Menands UFSD",{"$f":"'2017 Base Data'!F27","v":0},{"$f":"'2017 Base Data'!G27","v":0},null,{"$f":"'2017 Base Data'!I27","v":0},null,null,{"$f":"'2017 Base Data'!J27","v":0},null,null,{"$f":"'2017 Base Data'!K27","v":0},{"$f":"'2017 Base Data'!R27","v":0},null,null,{"$f":"ROUND(IF(S27<>0,R27*D27+S27*SUM(B27:C27)+T27*E27,R27*SUM(B27:D27)+T27*E27),2)","v":0},{"$f":"L27-O27","v":0},null,{"$f":"'2017 Base Data'!K27","v":0},{"$f":"'2017 Base Data'!L27","v":0},{"$f":"'2017 Base Data'!M27","v":0},{"$f":"\"E\"&U26&\":\"&\"E\"&V26","v":"E27:E32"},{"$f":"\"H\"&U26&\":\"&\"H\"&V26","v":"H27:H32"},{"$f":"\"L\"&U26&\":\"&\"L\"&V26","v":"L27:L32"},null,"<TR VALIGN=BOTTOM>",{"$f":"\"<TD NOWRAP ALIGN=LEFT><FONT FACE=\"\"Times New Roman\"\" SIZE=-1 COLOR=#00AA00\"\">\"&A27&\"</FONT></TD>\"","v":"<TD NOWRAP ALIGN=LEFT><FONT FACE=\"Times New Roman\" SIZE=-1 COLOR=#00AA00\">Menands UFSD</FONT></TD>"},"<TD NOWRAP ALIGN=RIGHT><FONT FACE=\"Times New Roman\" SIZE=-1>$0.00</FONT></TD>","<TD NOWRAP ALIGN=RIGHT><FONT FACE=\"Times New Roman\" SIZE=-1>$0.00</FONT></TD>","<TD NOWRAP ALIGN=RIGHT><FONT FACE=\"Times New Roman\" SIZE=-1><BR></FONT></TD>","<TD NOWRAP ALIGN=CENTER><FONT FACE=\"Times New Roman\" SIZE=-1>$0.00</FONT></TD>","<TD NOWRAP ALIGN=CENTER><FONT FACE=\"Times New Roman\" SIZE=-1>$0.00</FONT></TD>","<TD NOWRAP ALIGN=CENTER><FONT FACE=\"Times New Roman\" SIZE=-1>0.0000</FONT></TD>","<TD NOWRAP ALIGN=CENTER><FONT FACE=\"Times New Roman\" SIZE=-1>$0.00</FONT></TD>","</TR>"]
["Niskayuna CSD",{"$f":"'2017 Base Data'!F28","v":0},{"$f":"'2017 Base Data'!G28","v":0},null,{"$f":"'2017 Base Data'!I28","v":0},null,null,{"$f":"'2017 Base Data'!J28","v":0},null,null,{"$f":"'2017 Base Data'!K28","v":0},{"$f":"'2017 Base Data'!R28","v":0},null,null,0,0,null,{"$f":"'2017 Base Data'!K28","v":0},{"$f":"'2017 Base Data'!L28","v":0},{"$f":"'2017 Base Data'!M28","v":0},null,null,null,null,"<TR VALIGN=BOTTOM>","<TD NOWRAP ALIGN=LEFT><FONT FACE=\"Times New Roman\" SIZE=-1 COLOR=#00AA00\">Niskayuna CSD</FONT></TD>","<TD NOWRAP ALIGN=RIGHT><FONT FACE=\"Times New Roman\" SIZE=-1>$0.00</FONT></TD>","<TD NOWRAP ALIGN=RIGHT><FONT FACE=\"Times New Roman\" SIZE=-1>$0.00</FONT></TD>","<TD NOWRAP ALIGN=RIGHT><FONT FACE=\"Times New Roman\" SIZE=-1><BR></FONT></TD>","<TD NOWRAP ALIGN=CENTER><FONT FACE=\"Times New Roman\" SIZE=-1>$0.00</FONT></TD>","<TD NOWRAP ALIGN=CENTER><FONT FACE=\"Times New Roman\" SIZE=-1>$0.00</FONT></TD>","<TD NOWRAP ALIGN=CENTER><FONT FACE=\"Times New Roman\" SIZE=-1>0.0000</FONT></TD>","<TD NOWRAP ALIGN=CENTER><FONT FACE=\"Times New Roman\" SIZE=-1>$0.00</FONT></TD>","</TR>"]
["North Colonie CSD",{"$f":"'2017 Base Data'!F29","v":0},{"$f":"'2017 Base Data'!G29","v":0},null,{"$f":"'2017 Base Data'!I29","v":0},null,null,{"$f":"'2017 Base Data'!J29","v":0},null,null,{"$f":"'2017 Base Data'!K29","v":0},{"$f":"'2017 Base Data'!R29","v":0},null,null,0,0,null,{"$f":"'2017 Base Data'!K29","v":0},{"$f":"'2017 Base Data'!L29","v":0},{"$f":"'2017 Base Data'!M29","v":0},null,null,null,null,"<TR VALIGN=BOTTOM>","<TD NOWRAP ALIGN=LEFT><FONT FACE=\"Times New Roman\" SIZE=-1 COLOR=#00AA00\">North Colonie CSD</FONT></TD>","<TD NOWRAP ALIGN=RIGHT><FONT FACE=\"Times New Roman\" SIZE=-1>$0.00</FONT></TD>","<TD NOWRAP ALIGN=RIGHT><FONT FACE=\"Times New Roman\" SIZE=-1>$0.00</FONT></TD>","<TD NOWRAP ALIGN=RIGHT><FONT FACE=\"Times New Roman\" SIZE=-1><BR></FONT></TD>","<TD NOWRAP ALIGN=CENTER><FONT FACE=\"Times New Roman\" SIZE=-1>$0.00</FONT></TD>","<TD NOWRAP ALIGN=CENTER><FONT FACE=\"Times New Roman\" SIZE=-1>$0.00</FONT></TD>","<TD NOWRAP ALIGN=CENTER><FONT FACE=\"Times New Roman\" SIZE=-1>0.0000</FONT></TD>","<TD NOWRAP ALIGN=CENTER><FONT FACE=\"Times New Roman\" SIZE=-1>$0.00</FONT></TD>","</TR>"]
["Rotterdam-Mohonasen CSD",{"$f":"'2017 Base Data'!F30","v":0},{"$f":"'2017 Base Data'!G30","v":0},null,{"$f":"'2017 Base Data'!I30","v":0},null,null,{"$f":"'2017 Base Data'!J30","v":0},null,null,{"$f":"'2017 Base Data'!K30","v":0},{"$f":"'2017 Base Data'!R30","v":0},null,null,0,0,null,{"$f":"'2017 Base Data'!K30","v":0},{"$f":"'2017 Base Data'!L30","v":0},{"$f":"'2017 Base Data'!M30","v":0},null,null,null,null,"<TR VALIGN=BOTTOM>","<TD NOWRAP ALIGN=LEFT><FONT FACE=\"Times New Roman\" SIZE=-1 COLOR=#00AA00\">Rotterdam-Mohonasen CSD</FONT></TD>","<TD NOWRAP ALIGN=RIGHT><FONT FACE=\"Times New Roman\" SIZE=-1>$0.00</FONT></TD>","<TD NOWRAP ALIGN=RIGHT><FONT FACE=\"Times New Roman\" SIZE=-1>$0.00</FONT></TD>","<TD NOWRAP ALIGN=RIGHT><FONT FACE=\"Times New Roman\" SIZE=-1><BR></FONT></TD>","<TD NOWRAP ALIGN=CENTER><FONT FACE=\"Times New Roman\" SIZE=-1>$0.00</FONT></TD>","<TD NOWRAP ALIGN=CENTER><FONT FACE=\"Times New Roman\" SIZE=-1>$0.00</FONT></TD>","<TD NOWRAP ALIGN=CENTER><FONT FACE=\"Times New Roman\" SIZE=-1>0.0000</FONT></TD>","<TD NOWRAP ALIGN=CENTER><FONT FACE=\"Times New Roman\" SIZE=-1>$0.00</FONT></TD>","</TR>"]
["South Colonie CSD",{"$f":"'2017 Base Data'!F31","v":0},{"$f":"'2017 Base Data'!G31","v":0},null,{"$f":"'2017 Base Data'!I31","v":0},null,null,{"$f":"'2017 Base Data'!J31","v":0},null,null,{"$f":"'2017 Base Data'!K31","v":0},{"$f":"'2017 Base Data'!R31","v":0},null,null,0,0,null,{"$f":"'2017 Base Data'!K31","v":0},{"$f":"'2017 Base Data'!L31","v":0},{"$f":"'2017 Base Data'!M31","v":0},null,null,null,null,"<TR VALIGN=BOTTOM>","<TD NOWRAP ALIGN=LEFT><FONT FACE=\"Times New Roman\" SIZE=-1 COLOR=#00AA00\">South Colonie CSD</FONT></TD>","<TD NOWRAP ALIGN=RIGHT><FONT FACE=\"Times New Roman\" SIZE=-1>$0.00</FONT></TD>","<TD NOWRAP ALIGN=RIGHT><FONT FACE=\"Times New Roman\" SIZE=-1>$0.00</FONT></TD>","<TD NOWRAP ALIGN=RIGHT><FONT FACE=\"Times New Roman\" SIZE=-1><BR></FONT></TD>","<TD NOWRAP ALIGN=CENTER><FONT FACE=\"Times New Roman\" SIZE=-1>$0.00</FONT></TD>","<TD NOWRAP ALIGN=CENTER><FONT FACE=\"Times New Roman\" SIZE=-1>$0.00</FONT></TD>","<TD NOWRAP ALIGN=CENTER><FONT FACE=\"Times New Roman\" SIZE=-1>0.0000</FONT></TD>","<TD NOWRAP ALIGN=CENTER><FONT FACE=\"Times New Roman\" SIZE=-1>$0.00</FONT></TD>","</TR>"]
["Watervliet City SD",{"$f":"'2017 Base Data'!F32","v":0},{"$f":"'2017 Base Data'!G32","v":0},null,{"$f":"'2017 Base Data'!I32","v":0},null,null,{"$f":"'2017 Base Data'!J32","v":0},null,null,{"$f":"'2017 Base Data'!K32","v":0},{"$f":"'2017 Base Data'!R32","v":0},null,null,0,0,null,{"$f":"'2017 Base Data'!K32","v":0},{"$f":"'2017 Base Data'!L32","v":0},{"$f":"'2017 Base Data'!M32","v":0},null,null,null,null,"<TR VALIGN=BOTTOM>","<TD NOWRAP ALIGN=LEFT><FONT FACE=\"Times New Roman\" SIZE=-1 COLOR=#00AA00\">Watervliet City SD</FONT></TD>","<TD NOWRAP ALIGN=RIGHT><FONT FACE=\"Times New Roman\" SIZE=-1>$0.00</FONT></TD>","<TD NOWRAP ALIGN=RIGHT><FONT FACE=\"Times New Roman\" SIZE=-1>$0.00</FONT></TD>","<TD NOWRAP ALIGN=RIGHT><FONT FACE=\"Times New Roman\" SIZE=-1><BR></FONT></TD>","<TD NOWRAP ALIGN=CENTER><FONT FACE=\"Times New Roman\" SIZE=-1>$0.00</FONT></TD>","<TD NOWRAP ALIGN=CENTER><FONT FACE=\"Times New Roman\" SIZE=-1>$0.00</FONT></TD>","<TD NOWRAP ALIGN=CENTER><FONT FACE=\"Times New Roman\" SIZE=-1>0.0000</FONT></TD>","<TD NOWRAP ALIGN=CENTER><FONT FACE=\"Times New Roman\" SIZE=-1>$0.00</FONT></TD>","</TR>"]
["Village of Colonie",{"$f":"B34","v":0},{"$f":"C34","v":0},{"$f":"D34","v":0},{"$f":"MIN(INDIRECT(U34))","v":0},{"$f":"IF(G33<>0,\"to\",\"\")","v":""},{"$f":"IF(U33<>V33,MAX(INDIRECT(U34)),0)","v":0},{"$f":"MIN(INDIRECT(V34))","v":0},{"$f":"IF(J33<>0,\"to\",\"\")","v":""},{"$f":"IF(U33<>V33,MAX(INDIRECT(V34)),0)","v":0},{"$f":"K34","v":0},{"$f":"MIN(INDIRECT(W34))","v":0},{"$f":"IF(N33<>0,\"to\",\"\")","v":""},{"$f":"IF(U33<>V33,MAX(INDIRECT(W34)),0)","v":0},null,null,null,null,null,null,{"$f":"CELL(\"row\",P34)","v":34},{"$f":"CELL(\"row\",P34)","v":34},null,null,"<TR VALIGN=BOTTOM BGCOLOR=\"#FFFFCC\">",{"$f":"\"<TH NOWRAP ALIGN=LEFT><FONT FACE=\"\"Times New Roman\"\" SIZE=-1 COLOR=\"\"#0000CC\"\">\"&A33&\"</FONT></TH>\"","v":"<TH NOWRAP ALIGN=LEFT><FONT FACE=\"Times New Roman\" SIZE=-1 COLOR=\"#0000CC\">Village of Colonie</FONT></TH>"},"<TD NOWRAP ALIGN=RIGHT><FONT FACE=\"Times New Roman\" SIZE=-1>$0.00</FONT></TD>","<TD NOWRAP ALIGN=RIGHT><FONT FACE=\"Times New Roman\" SIZE=-1>$0.00</FONT></TD>","<TD NOWRAP ALIGN=RIGHT><FONT FACE=\"Times New Roman\" SIZE=-1>$0.00</FONT></TD>","<TD NOWRAP ALIGN=CENTER><FONT FACE=\"Times New Roman\" SIZE=-1>$0.00</FONT></TD>","<TD NOWRAP ALIGN=CENTER><FONT FACE=\"Times New Roman\" SIZE=-1>$0.00</FONT></TD>","<TD NOWRAP ALIGN=CENTER><FONT FACE=\"Times New Roman\" SIZE=-1>0.0000</FONT></TD>","<TD NOWRAP ALIGN=CENTER><FONT FACE=\"Times New Roman\" SIZE=-1>$0.00</FONT></TD>","</TR>"]
["South Colonie CSD",{"$f":"'2017 Base Data'!F34","v":0},{"$f":"'2017 Base Data'!G34","v":0},{"$f":"'2017 Base Data'!H34","v":0},{"$f":"'2017 Base Data'!I34","v":0},null,null,{"$f":"'2017 Base Data'!J34","v":0},null,null,{"$f":"'2017 Base Data'!K34","v":0},{"$f":"'2017 Base Data'!R34","v":0},null,null,{"$f":"ROUND(IF(S34<>0,R34*D34+S34*SUM(B34:C34)+T34*E34,R34*SUM(B34:D34)+T34*E34),2)","v":0},{"$f":"L34-O34","v":0},null,{"$f":"'2017 Base Data'!K34","v":0},{"$f":"'2017 Base Data'!L34","v":0},{"$f":"'2017 Base Data'!M34","v":0},{"$f":"\"E\"&U33&\":\"&\"E\"&V33","v":"E34:E34"},{"$f":"\"H\"&U33&\":\"&\"H\"&V33","v":"H34:H34"},{"$f":"\"L\"&U33&\":\"&\"L\"&V33","v":"L34:L34"},null,"<TR VALIGN=BOTTOM>",{"$f":"\"<TD NOWRAP ALIGN=LEFT><FONT FACE=\"\"Times New Roman\"\" SIZE=-1 COLOR=#00AA00\"\">\"&A34&\"</FONT></TD>\"","v":"<TD NOWRAP ALIGN=LEFT><FONT FACE=\"Times New Roman\" SIZE=-1 COLOR=#00AA00\">South Colonie CSD</FONT></TD>"},"<TD NOWRAP ALIGN=RIGHT><FONT FACE=\"Times New Roman\" SIZE=-1>$0.00</FONT></TD>","<TD NOWRAP ALIGN=RIGHT><FONT FACE=\"Times New Roman\" SIZE=-1>$0.00</FONT></TD>","<TD NOWRAP ALIGN=RIGHT><FONT FACE=\"Times New Roman\" SIZE=-1>$0.00</FONT></TD>","<TD NOWRAP ALIGN=CENTER><FONT FACE=\"Times New Roman\" SIZE=-1>$0.00</FONT></TD>","<TD NOWRAP ALIGN=CENTER><FONT FACE=\"Times New Roman\" SIZE=-1>$0.00</FONT></TD>","<TD NOWRAP ALIGN=CENTER><FONT FACE=\"Times New Roman\" SIZE=-1>0.0000</FONT></TD>","<TD NOWRAP ALIGN=CENTER><FONT FACE=\"Times New Roman\" SIZE=-1>$0.00</FONT></TD>","</TR>"]
["Village of Menands",{"$f":"B36","v":0},{"$f":"C36","v":0},{"$f":"D36","v":0},{"$f":"MIN(INDIRECT(U36))","v":0},{"$f":"IF(G35<>0,\"to\",\"\")","v":""},{"$f":"IF(U35<>V35,MAX(INDIRECT(U36)),0)","v":0},{"$f":"MIN(INDIRECT(V36))","v":0},{"$f":"IF(J35<>0,\"to\",\"\")","v":""},{"$f":"IF(U35<>V35,MAX(INDIRECT(V36)),0)","v":0},{"$f":"K36","v":0},{"$f":"MIN(INDIRECT(W36))","v":0},{"$f":"IF(N35<>0,\"to\",\"\")","v":""},{"$f":"IF(U35<>V35,MAX(INDIRECT(W36)),0)","v":0},null,null,null,null,null,null,{"$f":"CELL(\"row\",P36)","v":36},{"$f":"CELL(\"row\",P36)","v":36},null,null,"<TR VALIGN=BOTTOM BGCOLOR=\"#FFFFCC\">",{"$f":"\"<TH NOWRAP ALIGN=LEFT><FONT FACE=\"\"Times New Roman\"\" SIZE=-1 COLOR=\"\"#0000CC\"\">\"&A35&\"</FONT></TH>\"","v":"<TH NOWRAP ALIGN=LEFT><FONT FACE=\"Times New Roman\" SIZE=-1 COLOR=\"#0000CC\">Village of Menands</FONT></TH>"},"<TD NOWRAP ALIGN=RIGHT><FONT FACE=\"Times New Roman\" SIZE=-1>$0.00</FONT></TD>","<TD NOWRAP ALIGN=RIGHT><FONT FACE=\"Times New Roman\" SIZE=-1>$0.00</FONT></TD>","<TD NOWRAP ALIGN=RIGHT><FONT FACE=\"Times New Roman\" SIZE=-1>$0.00</FONT></TD>","<TD NOWRAP ALIGN=CENTER><FONT FACE=\"Times New Roman\" SIZE=-1>$0.00</FONT></TD>","<TD NOWRAP ALIGN=CENTER><FONT FACE=\"Times New Roman\" SIZE=-1>$0.00</FONT></TD>","<TD NOWRAP ALIGN=CENTER><FONT FACE=\"Times New Roman\" SIZE=-1>0.0000</FONT></TD>","<TD NOWRAP ALIGN=CENTER><FONT FACE=\"Times New Roman\" SIZE=-1>$0.00</FONT></TD>","</TR>"]
["Menands UFSD",{"$f":"'2017 Base Data'!F36","v":0},{"$f":"'2017 Base Data'!G36","v":0},{"$f":"'2017 Base Data'!H36","v":0},{"$f":"'2017 Base Data'!I36","v":0},null,null,{"$f":"'2017 Base Data'!J36","v":0},null,null,{"$f":"'2017 Base Data'!K36","v":0},{"$f":"'2017 Base Data'!R36","v":0},null,null,{"$f":"ROUND(IF(S36<>0,R36*D36+S36*SUM(B36:C36)+T36*E36,R36*SUM(B36:D36)+T36*E36),2)","v":0},{"$f":"L36-O36","v":0},null,{"$f":"'2017 Base Data'!K36","v":0},{"$f":"'2017 Base Data'!L36","v":0},{"$f":"'2017 Base Data'!M36","v":0},{"$f":"\"E\"&U35&\":\"&\"E\"&V35","v":"E36:E36"},{"$f":"\"H\"&U35&\":\"&\"H\"&V35","v":"H36:H36"},{"$f":"\"L\"&U35&\":\"&\"L\"&V35","v":"L36:L36"},null,"<TR VALIGN=BOTTOM>",{"$f":"\"<TD NOWRAP ALIGN=LEFT><FONT FACE=\"\"Times New Roman\"\" SIZE=-1 COLOR=#00AA00\"\">\"&A36&\"</FONT></TD>\"","v":"<TD NOWRAP ALIGN=LEFT><FONT FACE=\"Times New Roman\" SIZE=-1 COLOR=#00AA00\">Menands UFSD</FONT></TD>"},"<TD NOWRAP ALIGN=RIGHT><FONT FACE=\"Times New Roman\" SIZE=-1>$0.00</FONT></TD>","<TD NOWRAP ALIGN=RIGHT><FONT FACE=\"Times New Roman\" SIZE=-1>$0.00</FONT></TD>","<TD NOWRAP ALIGN=RIGHT><FONT FACE=\"Times New Roman\" SIZE=-1>$0.00</FONT></TD>","<TD NOWRAP ALIGN=CENTER><FONT FACE=\"Times New Roman\" SIZE=-1>$0.00</FONT></TD>","<TD NOWRAP ALIGN=CENTER><FONT FACE=\"Times New Roman\" SIZE=-1>$0.00</FONT></TD>","<TD NOWRAP ALIGN=CENTER><FONT FACE=\"Times New Roman\" SIZE=-1>0.0000</FONT></TD>","<TD NOWRAP ALIGN=CENTER><FONT FACE=\"Times New Roman\" SIZE=-1>$0.00</FONT></TD>","</TR>"]
["Town of Green Island",{"$f":"'2017'!B14","v":"COTERMINUS TOWN/VILLAGE – SEE LINE BELOW"},null,null,null,null,null,null,null,null,null,null,null,null,{"$f":"ROUND(IF(S37<>0,R37*D37+S37*SUM(B37:C37)+T37*E37,R37*SUM(B37:D37)+T37*E37),2)","v":0},null,null,null,null,null,null,null,null,null,"<TR VALIGN=BOTTOM BGCOLOR=\"#FFFFCC\">","<TH NOWRAP ALIGN=LEFT><FONT FACE=\"Times New Roman\" SIZE=-1>Town of Green Island</FONT></TH>","<TH NOWRAP COLSPAN=7><FONT FACE=\"Times New Roman\" SIZE=-1>Coterminous Town/Village - Taxes Are Levied by the Village Only - see Village below</FONT></TH>","</TR>"]
["Village of Green Island",{"$f":"B39","v":0},null,{"$f":"D39","v":0},{"$f":"MIN(INDIRECT(U39))","v":0},{"$f":"IF(G38<>0,\"to\",\"\")","v":""},{"$f":"IF(U38<>V38,MAX(INDIRECT(U39)),0)","v":0},{"$f":"MIN(INDIRECT(V39))","v":0},{"$f":"IF(J38<>0,\"to\",\"\")","v":""},{"$f":"IF(U38<>V38,MAX(INDIRECT(V39)),0)","v":0},{"$f":"K39","v":0},{"$f":"MIN(INDIRECT(W39))","v":0},{"$f":"IF(N38<>0,\"to\",\"\")","v":""},{"$f":"IF(U38<>V38,MAX(INDIRECT(W39)),0)","v":0},null,null,null,null,null,null,{"$f":"CELL(\"row\",P39)","v":39},{"$f":"CELL(\"row\",P39)","v":39},null,null,"<TR VALIGN=BOTTOM BGCOLOR=\"#FFFFCC\">",{"$f":"\"<TH NOWRAP ALIGN=LEFT><FONT FACE=\"\"Times New Roman\"\" SIZE=-1 COLOR=\"\"#0000CC\"\">\"&A38&\"</FONT></TH>\"","v":"<TH NOWRAP ALIGN=LEFT><FONT FACE=\"Times New Roman\" SIZE=-1 COLOR=\"#0000CC\">Village of Green Island</FONT></TH>"},{"$f":"\"<TD NOWRAP ALIGN=RIGHT><FONT FACE=\"\"Times New Roman\"\" SIZE=-1>\"&IF(B38=\"\",\"<BR>\",TEXT(B38,\"$#,##0.00\"))&\"</FONT></TD>\"","v":"<TD NOWRAP ALIGN=RIGHT><FONT FACE=\"Times New Roman\" SIZE=-1>$0.00</FONT></TD>"},"<TD NOWRAP ALIGN=RIGHT><FONT FACE=\"Times New Roman\" SIZE=-1><BR></FONT></TD>","<TD NOWRAP ALIGN=RIGHT><FONT FACE=\"Times New Roman\" SIZE=-1>$0.00</FONT></TD>",{"$f":"\"<TD NOWRAP ALIGN=CENTER><FONT FACE=\"\"Times New Roman\"\" SIZE=-1>\"&TEXT(E38,\"$#,##0.00\")&IF(F38=\"\",\"\",\" to \")&IF(G38<=0,\"\",TEXT(G38,\"$#,##0.00\"))&\"</FONT></TD>\"","v":"<TD NOWRAP ALIGN=CENTER><FONT FACE=\"Times New Roman\" SIZE=-1>$0.00</FONT></TD>"},{"$f":"\"<TD NOWRAP ALIGN=CENTER><FONT FACE=\"\"Times New Roman\"\" SIZE=-1>\"&TEXT(H38,\"$#,##0.00\")&IF(I38=\"\",\"\",\" to \")&IF(J38<=0,\"\",TEXT(J38,\"$#,##0.00\"))&\"</FONT></TD>\"","v":"<TD NOWRAP ALIGN=CENTER><FONT FACE=\"Times New Roman\" SIZE=-1>$0.00</FONT></TD>"},{"$f":"\"<TD NOWRAP ALIGN=CENTER><FONT FACE=\"\"Times New Roman\"\" SIZE=-1>\"&IF(K38=\"\",\"<BR>\",TEXT(K38,\"0.0000\"))&\"</FONT></TD>\"","v":"<TD NOWRAP ALIGN=CENTER><FONT FACE=\"Times New Roman\" SIZE=-1>0.0000</FONT></TD>"},{"$f":"\"<TD NOWRAP ALIGN=CENTER><FONT FACE=\"\"Times New Roman\"\" SIZE=-1>\"&TEXT(L38,\"$#,##0.00\")&IF(M38=\"\",\"\",\" to \")&IF(N38<=0,\"\",TEXT(N38,\"$#,##0.00\"))&\"</FONT></TD>\"","v":"<TD NOWRAP ALIGN=CENTER><FONT FACE=\"Times New Roman\" SIZE=-1>$0.00</FONT></TD>"},"</TR>"]
["Green Island UFSD",{"$f":"'2017 Base Data'!F39","v":0},null,{"$f":"'2017 Base Data'!H39","v":0},{"$f":"'2017 Base Data'!I39","v":0},null,null,{"$f":"'2017 Base Data'!J39","v":0},null,null,{"$f":"'2017 Base Data'!K39","v":0},{"$f":"'2017 Base Data'!R39","v":0},null,null,{"$f":"ROUND(IF(S39<>0,R39*D39+S39*SUM(B39:C39)+T39*E39,R39*SUM(B39:D39)+T39*E39),2)","v":0},{"$f":"L39-O39","v":0},null,{"$f":"'2017 Base Data'!K39","v":0},{"$f":"'2017 Base Data'!L39","v":0},{"$f":"'2017 Base Data'!M39","v":0},{"$f":"\"E\"&U38&\":\"&\"E\"&V38","v":"E39:E39"},{"$f":"\"H\"&U38&\":\"&\"H\"&V38","v":"H39:H39"},{"$f":"\"L\"&U38&\":\"&\"L\"&V38","v":"L39:L39"},null,"<TR VALIGN=BOTTOM>",{"$f":"\"<TD NOWRAP ALIGN=LEFT><FONT FACE=\"\"Times New Roman\"\" SIZE=-1 COLOR=#00AA00\"\">\"&A39&\"</FONT></TD>\"","v":"<TD NOWRAP ALIGN=LEFT><FONT FACE=\"Times New Roman\" SIZE=-1 COLOR=#00AA00\">Green Island UFSD</FONT></TD>"},"<TD NOWRAP ALIGN=RIGHT><FONT FACE=\"Times New Roman\" SIZE=-1>$0.00</FONT></TD>","<TD NOWRAP ALIGN=RIGHT><FONT FACE=\"Times New Roman\" SIZE=-1><BR></FONT></TD>","<TD NOWRAP ALIGN=RIGHT><FONT FACE=\"Times New Roman\" SIZE=-1>$0.00</FONT></TD>","<TD NOWRAP ALIGN=CENTER><FONT FACE=\"Times New Roman\" SIZE=-1>$0.00</FONT></TD>","<TD NOWRAP ALIGN=CENTER><FONT FACE=\"Times New Roman\" SIZE=-1>$0.00</FONT></TD>","<TD NOWRAP ALIGN=CENTER><FONT FACE=\"Times New Roman\" SIZE=-1>0.0000</FONT></TD>","<TD NOWRAP ALIGN=CENTER><FONT FACE=\"Times New Roman\" SIZE=-1>$0.00</FONT></TD>","</TR>"]
["Town of Guilderland",{"$f":"B41","v":0},{"$f":"C41","v":0},null,{"$f":"MIN(INDIRECT(U41))","v":0},{"$f":"IF(G40<>0,\"to\",\"\")","v":""},{"$f":"IF(U40<>V40,MAX(INDIRECT(U41)),0)","v":0},{"$f":"MIN(INDIRECT(V41))","v":0},{"$f":"IF(J40<>0,\"to\",\"\")","v":""},{"$f":"IF(U40<>V40,MAX(INDIRECT(V41)),0)","v":0},{"$f":"K41","v":0},{"$f":"MIN(INDIRECT(W41))","v":0},{"$f":"IF(N40<>0,\"to\",\"\")","v":""},{"$f":"IF(U40<>V40,MAX(INDIRECT(W41)),0)","v":0},null,null,null,null,null,null,{"$f":"CELL(\"row\",P41)","v":41},{"$f":"CELL(\"row\",P45)","v":45},null,null,"<TR VALIGN=BOTTOM BGCOLOR=\"#FFFFCC\">",{"$f":"\"<TH NOWRAP ALIGN=LEFT><FONT FACE=\"\"Times New Roman\"\" SIZE=-1>\"&A40&\"</FONT></TH>\"","v":"<TH NOWRAP ALIGN=LEFT><FONT FACE=\"Times New Roman\" SIZE=-1>Town of Guilderland</FONT></TH>"},"<TD NOWRAP ALIGN=RIGHT><FONT FACE=\"Times New Roman\" SIZE=-1>$0.00</FONT></TD>","<TD NOWRAP ALIGN=RIGHT><FONT FACE=\"Times New Roman\" SIZE=-1>$0.00</FONT></TD>","<TD NOWRAP ALIGN=RIGHT><FONT FACE=\"Times New Roman\" SIZE=-1><BR></FONT></TD>","<TD NOWRAP ALIGN=CENTER><FONT FACE=\"Times New Roman\" SIZE=-1>$0.00</FONT></TD>","<TD NOWRAP ALIGN=CENTER><FONT FACE=\"Times New Roman\" SIZE=-1>$0.00</FONT></TD>","<TD NOWRAP ALIGN=CENTER><FONT FACE=\"Times New Roman\" SIZE=-1>0.0000</FONT></TD>","<TD NOWRAP ALIGN=CENTER><FONT FACE=\"Times New Roman\" SIZE=-1>$0.00</FONT></TD>","</TR>"]
["Guilderland CSD",{"$f":"'2017 Base Data'!F41","v":0},{"$f":"'2017 Base Data'!G41","v":0},null,{"$f":"'2017 Base Data'!I41","v":0},null,null,{"$f":"'2017 Base Data'!J41","v":0},null,null,{"$f":"'2017 Base Data'!K41","v":0},{"$f":"'2017 Base Data'!R41","v":0},null,null,{"$f":"ROUND(IF(S41<>0,R41*D41+S41*SUM(B41:C41)+T41*E41,R41*SUM(B41:D41)+T41*E41),2)","v":0},{"$f":"L41-O41","v":0},null,{"$f":"'2017 Base Data'!K41","v":0},{"$f":"'2017 Base Data'!L41","v":0},{"$f":"'2017 Base Data'!M41","v":0},{"$f":"\"E\"&U40&\":\"&\"E\"&V40","v":"E41:E45"},{"$f":"\"H\"&U40&\":\"&\"H\"&V40","v":"H41:H45"},{"$f":"\"L\"&U40&\":\"&\"L\"&V40","v":"L41:L45"},null,"<TR VALIGN=BOTTOM>",{"$f":"\"<TD NOWRAP ALIGN=LEFT><FONT FACE=\"\"Times New Roman\"\" SIZE=-1 COLOR=#00AA00\"\">\"&A41&\"</FONT></TD>\"","v":"<TD NOWRAP ALIGN=LEFT><FONT FACE=\"Times New Roman\" SIZE=-1 COLOR=#00AA00\">Guilderland CSD</FONT></TD>"},"<TD NOWRAP ALIGN=RIGHT><FONT FACE=\"Times New Roman\" SIZE=-1>$0.00</FONT></TD>","<TD NOWRAP ALIGN=RIGHT><FONT FACE=\"Times New Roman\" SIZE=-1>$0.00</FONT></TD>","<TD NOWRAP ALIGN=RIGHT><FONT FACE=\"Times New Roman\" SIZE=-1><BR></FONT></TD>","<TD NOWRAP ALIGN=CENTER><FONT FACE=\"Times New Roman\" SIZE=-1>$0.00</FONT></TD>","<TD NOWRAP ALIGN=CENTER><FONT FACE=\"Times New Roman\" SIZE=-1>$0.00</FONT></TD>","<TD NOWRAP ALIGN=CENTER><FONT FACE=\"Times New Roman\" SIZE=-1>0.0000</FONT></TD>","<TD NOWRAP ALIGN=CENTER><FONT FACE=\"Times New Roman\" SIZE=-1>$0.00</FONT></TD>","</TR>"]
["Rotterdam-Mohonasen CSD",{"$f":"'2017 Base Data'!F42","v":0},{"$f":"'2017 Base Data'!G42","v":0},null,{"$f":"'2017 Base Data'!I42","v":0},null,null,{"$f":"'2017 Base Data'!J42","v":0},null,null,{"$f":"'2017 Base Data'!K42","v":0},{"$f":"'2017 Base Data'!R42","v":0},null,null,{"$f":"ROUND(IF(S42<>0,R42*D42+S42*SUM(B42:C42)+T42*E42,R42*SUM(B42:D42)+T42*E42),2)","v":0},{"$f":"L42-O42","v":0},null,{"$f":"'2017 Base Data'!K42","v":0},{"$f":"'2017 Base Data'!L42","v":0},{"$f":"'2017 Base Data'!M42","v":0},null,null,null,null,"<TR VALIGN=BOTTOM>",{"$f":"\"<TD NOWRAP ALIGN=LEFT><FONT FACE=\"\"Times New Roman\"\" SIZE=-1 COLOR=#00AA00\"\">\"&A42&\"</FONT></TD>\"","v":"<TD NOWRAP ALIGN=LEFT><FONT FACE=\"Times New Roman\" SIZE=-1 COLOR=#00AA00\">Rotterdam-Mohonasen CSD</FONT></TD>"},"<TD NOWRAP ALIGN=RIGHT><FONT FACE=\"Times New Roman\" SIZE=-1>$0.00</FONT></TD>","<TD NOWRAP ALIGN=RIGHT><FONT FACE=\"Times New Roman\" SIZE=-1>$0.00</FONT></TD>","<TD NOWRAP ALIGN=RIGHT><FONT FACE=\"Times New Roman\" SIZE=-1><BR></FONT></TD>","<TD NOWRAP ALIGN=CENTER><FONT FACE=\"Times New Roman\" SIZE=-1>$0.00</FONT></TD>","<TD NOWRAP ALIGN=CENTER><FONT FACE=\"Times New Roman\" SIZE=-1>$0.00</FONT></TD>","<TD NOWRAP ALIGN=CENTER><FONT FACE=\"Times New Roman\" SIZE=-1>0.0000</FONT></TD>","<TD NOWRAP ALIGN=CENTER><FONT FACE=\"Times New Roman\" SIZE=-1>$0.00</FONT></TD>","</TR>"]
["Schalmont CSD",{"$f":"'2017 Base Data'!F43","v":0},{"$f":"'2017 Base Data'!G43","v":0},null,{"$f":"'2017 Base Data'!I43","v":0},null,null,{"$f":"'2017 Base Data'!J43","v":0},null,null,{"$f":"'2017 Base Data'!K43","v":0},{"$f":"'2017 Base Data'!R43","v":0},null,null,{"$f":"ROUND(IF(S43<>0,R43*D43+S43*SUM(B43:C43)+T43*E43,R43*SUM(B43:D43)+T43*E43),2)","v":0},{"$f":"L43-O43","v":0},null,{"$f":"'2017 Base Data'!K43","v":0},{"$f":"'2017 Base Data'!L43","v":0},{"$f":"'2017 Base Data'!M43","v":0},null,null,null,null,"<TR VALIGN=BOTTOM>",{"$f":"\"<TD NOWRAP ALIGN=LEFT><FONT FACE=\"\"Times New Roman\"\" SIZE=-1 COLOR=#00AA00\"\">\"&A43&\"</FONT></TD>\"","v":"<TD NOWRAP ALIGN=LEFT><FONT FACE=\"Times New Roman\" SIZE=-1 COLOR=#00AA00\">Schalmont CSD</FONT></TD>"},"<TD NOWRAP ALIGN=RIGHT><FONT FACE=\"Times New Roman\" SIZE=-1>$0.00</FONT></TD>","<TD NOWRAP ALIGN=RIGHT><FONT FACE=\"Times New Roman\" SIZE=-1>$0.00</FONT></TD>","<TD NOWRAP ALIGN=RIGHT><FONT FACE=\"Times New Roman\" SIZE=-1><BR></FONT></TD>","<TD NOWRAP ALIGN=CENTER><FONT FACE=\"Times New Roman\" SIZE=-1>$0.00</FONT></TD>","<TD NOWRAP ALIGN=CENTER><FONT FACE=\"Times New Roman\" SIZE=-1>$0.00</FONT></TD>","<TD NOWRAP ALIGN=CENTER><FONT FACE=\"Times New Roman\" SIZE=-1>0.0000</FONT></TD>","<TD NOWRAP ALIGN=CENTER><FONT FACE=\"Times New Roman\" SIZE=-1>$0.00</FONT></TD>","</TR>"]
["South Colonie CSD",{"$f":"'2017 Base Data'!F44","v":0},{"$f":"'2017 Base Data'!G44","v":0},null,{"$f":"'2017 Base Data'!I44","v":0},null,null,{"$f":"'2017 Base Data'!J44","v":0},null,null,{"$f":"'2017 Base Data'!K44","v":0},{"$f":"'2017 Base Data'!R44","v":0},null,null,{"$f":"ROUND(IF(S44<>0,R44*D44+S44*SUM(B44:C44)+T44*E44,R44*SUM(B44:D44)+T44*E44),2)","v":0},{"$f":"L44-O44","v":0},null,{"$f":"'2017 Base Data'!K44","v":0},{"$f":"'2017 Base Data'!L44","v":0},{"$f":"'2017 Base Data'!M44","v":0},null,null,null,null,"<TR VALIGN=BOTTOM>",{"$f":"\"<TD NOWRAP ALIGN=LEFT><FONT FACE=\"\"Times New Roman\"\" SIZE=-1 COLOR=#00AA00\"\">\"&A44&\"</FONT></TD>\"","v":"<TD NOWRAP ALIGN=LEFT><FONT FACE=\"Times New Roman\" SIZE=-1 COLOR=#00AA00\">South Colonie CSD</FONT></TD>"},"<TD NOWRAP ALIGN=RIGHT><FONT FACE=\"Times New Roman\" SIZE=-1>$0.00</FONT></TD>","<TD NOWRAP ALIGN=RIGHT><FONT FACE=\"Times New Roman\" SIZE=-1>$0.00</FONT></TD>","<TD NOWRAP ALIGN=RIGHT><FONT FACE=\"Times New Roman\" SIZE=-1><BR></FONT></TD>","<TD NOWRAP ALIGN=CENTER><FONT FACE=\"Times New Roman\" SIZE=-1>$0.00</FONT></TD>","<TD NOWRAP ALIGN=CENTER><FONT FACE=\"Times New Roman\" SIZE=-1>$0.00</FONT></TD>","<TD NOWRAP ALIGN=CENTER><FONT FACE=\"Times New Roman\" SIZE=-1>0.0000</FONT></TD>","<TD NOWRAP ALIGN=CENTER><FONT FACE=\"Times New Roman\" SIZE=-1>$0.00</FONT></TD>","</TR>"]
["Voorheesville CSD",{"$f":"'2017 Base Data'!F45","v":0},{"$f":"'2017 Base Data'!G45","v":0},null,{"$f":"'2017 Base Data'!I45","v":0},null,null,{"$f":"'2017 Base Data'!J45","v":0},null,null,{"$f":"'2017 Base Data'!K45","v":0},{"$f":"'2017 Base Data'!R45","v":0},null,null,{"$f":"ROUND(IF(S45<>0,R45*D45+S45*SUM(B45:C45)+T45*E45,R45*SUM(B45:D45)+T45*E45),2)","v":0},{"$f":"L45-O45","v":0},null,{"$f":"'2017 Base Data'!K45","v":0},{"$f":"'2017 Base Data'!L45","v":0},{"$f":"'2017 Base Data'!M45","v":0},null,null,null,null,"<TR VALIGN=BOTTOM>",{"$f":"\"<TD NOWRAP ALIGN=LEFT><FONT FACE=\"\"Times New Roman\"\" SIZE=-1 COLOR=#00AA00\"\">\"&A45&\"</FONT></TD>\"","v":"<TD NOWRAP ALIGN=LEFT><FONT FACE=\"Times New Roman\" SIZE=-1 COLOR=#00AA00\">Voorheesville CSD</FONT></TD>"},"<TD NOWRAP ALIGN=RIGHT><FONT FACE=\"Times New Roman\" SIZE=-1>$0.00</FONT></TD>","<TD NOWRAP ALIGN=RIGHT><FONT FACE=\"Times New Roman\" SIZE=-1>$0.00</FONT></TD>","<TD NOWRAP ALIGN=RIGHT><FONT FACE=\"Times New Roman\" SIZE=-1><BR></FONT></TD>","<TD NOWRAP ALIGN=CENTER><FONT FACE=\"Times New Roman\" SIZE=-1>$0.00</FONT></TD>","<TD NOWRAP ALIGN=CENTER><FONT FACE=\"Times New Roman\" SIZE=-1>$0.00</FONT></TD>","<TD NOWRAP ALIGN=CENTER><FONT FACE=\"Times New Roman\" SIZE=-1>0.0000</FONT></TD>","<TD NOWRAP ALIGN=CENTER><FONT FACE=\"Times New Roman\" SIZE=-1>$0.00</FONT></TD>","</TR>"]
["Village of Altamont",{"$f":"B47","v":0},{"$f":"C47","v":0},{"$f":"D47","v":0},{"$f":"MIN(INDIRECT(U47))","v":0},{"$f":"IF(G46<>0,\"to\",\"\")","v":""},{"$f":"IF(U46<>V46,MAX(INDIRECT(U47)),0)","v":0},{"$f":"MIN(INDIRECT(V47))","v":0},{"$f":"IF(J46<>0,\"to\",\"\")","v":""},{"$f":"IF(U46<>V46,MAX(INDIRECT(V47)),0)","v":0},{"$f":"K47","v":0},{"$f":"MIN(INDIRECT(W47))","v":0},{"$f":"IF(N46<>0,\"to\",\"\")","v":""},{"$f":"IF(U46<>V46,MAX(INDIRECT(W47)),0)","v":0},null,null,null,null,null,null,{"$f":"CELL(\"row\",P47)","v":47},{"$f":"CELL(\"row\",P47)","v":47},null,null,"<TR VALIGN=BOTTOM BGCOLOR=\"#FFFFCC\">",{"$f":"\"<TH NOWRAP ALIGN=LEFT><FONT FACE=\"\"Times New Roman\"\" SIZE=-1 COLOR=\"\"#0000CC\"\">\"&A46&\"</FONT></TH>\"","v":"<TH NOWRAP ALIGN=LEFT><FONT FACE=\"Times New Roman\" SIZE=-1 COLOR=\"#0000CC\">Village of Altamont</FONT></TH>"},"<TD NOWRAP ALIGN=RIGHT><FONT FACE=\"Times New Roman\" SIZE=-1>$0.00</FONT></TD>","<TD NOWRAP ALIGN=RIGHT><FONT FACE=\"Times New Roman\" SIZE=-1>$0.00</FONT></TD>","<TD NOWRAP ALIGN=RIGHT><FONT FACE=\"Times New Roman\" SIZE=-1>$0.00</FONT></TD>","<TD NOWRAP ALIGN=CENTER><FONT FACE=\"Times New Roman\" SIZE=-1>$0.00</FONT></TD>","<TD NOWRAP ALIGN=CENTER><FONT FACE=\"Times New Roman\" SIZE=-1>$0.00</FONT></TD>","<TD NOWRAP ALIGN=CENTER><FONT FACE=\"Times New Roman\" SIZE=-1>0.0000</FONT></TD>","<TD NOWRAP ALIGN=CENTER><FONT FACE=\"Times New Roman\" SIZE=-1>$0.00</FONT></TD>","</TR>"]
["Guilderland CSD",{"$f":"'2017 Base Data'!F47","v":0},{"$f":"'2017 Base Data'!G47","v":0},{"$f":"'2017 Base Data'!H47","v":0},{"$f":"'2017 Base Data'!I47","v":0},null,null,{"$f":"'2017 Base Data'!J47","v":0},null,null,{"$f":"'2017 Base Data'!K47","v":0},{"$f":"'2017 Base Data'!R47","v":0},null,null,{"$f":"ROUND(IF(S47<>0,R47*D47+S47*SUM(B47:C47)+T47*E47,R47*SUM(B47:D47)+T47*E47),2)","v":0},{"$f":"L47-O47","v":0},null,{"$f":"'2017 Base Data'!K47","v":0},{"$f":"'2017 Base Data'!L47","v":0},{"$f":"'2017 Base Data'!M47","v":0},{"$f":"\"E\"&U46&\":\"&\"E\"&V46","v":"E47:E47"},{"$f":"\"H\"&U46&\":\"&\"H\"&V46","v":"H47:H47"},{"$f":"\"L\"&U46&\":\"&\"L\"&V46","v":"L47:L47"},null,"<TR VALIGN=BOTTOM>",{"$f":"\"<TD NOWRAP ALIGN=LEFT><FONT FACE=\"\"Times New Roman\"\" SIZE=-1 COLOR=#00AA00\"\">\"&A47&\"</FONT></TD>\"","v":"<TD NOWRAP ALIGN=LEFT><FONT FACE=\"Times New Roman\" SIZE=-1 COLOR=#00AA00\">Guilderland CSD</FONT></TD>"},"<TD NOWRAP ALIGN=RIGHT><FONT FACE=\"Times New Roman\" SIZE=-1>$0.00</FONT></TD>","<TD NOWRAP ALIGN=RIGHT><FONT FACE=\"Times New Roman\" SIZE=-1>$0.00</FONT></TD>","<TD NOWRAP ALIGN=RIGHT><FONT FACE=\"Times New Roman\" SIZE=-1>$0.00</FONT></TD>","<TD NOWRAP ALIGN=CENTER><FONT FACE=\"Times New Roman\" SIZE=-1>$0.00</FONT></TD>","<TD NOWRAP ALIGN=CENTER><FONT FACE=\"Times New Roman\" SIZE=-1>$0.00</FONT></TD>","<TD NOWRAP ALIGN=CENTER><FONT FACE=\"Times New Roman\" SIZE=-1>0.0000</FONT></TD>","<TD NOWRAP ALIGN=CENTER><FONT FACE=\"Times New Roman\" SIZE=-1>$0.00</FONT></TD>","</TR>"]
["Town of Knox",{"$f":"B49","v":0},{"$f":"C49","v":0},null,{"$f":"MIN(INDIRECT(U49))","v":0},{"$f":"IF(G48<>0,\"to\",\"\")","v":""},{"$f":"IF(U48<>V48,MAX(INDIRECT(U49)),0)","v":0},{"$f":"MIN(INDIRECT(V49))","v":0},{"$f":"IF(J48<>0,\"to\",\"\")","v":""},{"$f":"IF(U48<>V48,MAX(INDIRECT(V49)),0)","v":0},{"$f":"K49","v":0},{"$f":"MIN(INDIRECT(W49))","v":0},{"$f":"IF(N48<>0,\"to\",\"\")","v":""},{"$f":"IF(U48<>V48,MAX(INDIRECT(W49)),0)","v":0},null,null,null,null,null,null,{"$f":"CELL(\"row\",P49)","v":49},{"$f":"CELL(\"row\",P52)","v":52},null,null,"<TR VALIGN=BOTTOM BGCOLOR=\"#FFFFCC\">",{"$f":"\"<TH NOWRAP ALIGN=LEFT><FONT FACE=\"\"Times New Roman\"\" SIZE=-1>\"&A48&\"</FONT></TH>\"","v":"<TH NOWRAP ALIGN=LEFT><FONT FACE=\"Times New Roman\" SIZE=-1>Town of Knox</FONT></TH>"},"<TD NOWRAP ALIGN=RIGHT><FONT FACE=\"Times New Roman\" SIZE=-1>$0.00</FONT></TD>","<TD NOWRAP ALIGN=RIGHT><FONT FACE=\"Times New Roman\" SIZE=-1>$0.00</FONT></TD>","<TD NOWRAP ALIGN=RIGHT><FONT FACE=\"Times New Roman\" SIZE=-1><BR></FONT></TD>","<TD NOWRAP ALIGN=CENTER><FONT FACE=\"Times New Roman\" SIZE=-1>$0.00</FONT></TD>","<TD NOWRAP ALIGN=CENTER><FONT FACE=\"Times New Roman\" SIZE=-1>$0.00</FONT></TD>","<TD NOWRAP ALIGN=CENTER><FONT FACE=\"Times New Roman\" SIZE=-1>0.0000</FONT></TD>","<TD NOWRAP ALIGN=CENTER><FONT FACE=\"Times New Roman\" SIZE=-1>$0.00</FONT></TD>","</TR>"]
["Berne-Knox-Westerlo CSD",{"$f":"'2017 Base Data'!F49","v":0},{"$f":"'2017 Base Data'!G49","v":0},null,{"$f":"'2017 Base Data'!I49","v":0},null,null,{"$f":"'2017 Base Data'!J49","v":0},null,null,{"$f":"'2017 Base Data'!K49","v":0},{"$f":"'2017 Base Data'!R49","v":0},null,null,{"$f":"ROUND(IF(S49<>0,R49*D49+S49*SUM(B49:C49)+T49*E49,R49*SUM(B49:D49)+T49*E49),2)","v":0},{"$f":"L49-O49","v":0},null,{"$f":"'2017 Base Data'!K49","v":0},{"$f":"'2017 Base Data'!L49","v":0},{"$f":"'2017 Base Data'!M49","v":0},{"$f":"\"E\"&U48&\":\"&\"E\"&V48","v":"E49:E52"},{"$f":"\"H\"&U48&\":\"&\"H\"&V48","v":"H49:H52"},{"$f":"\"L\"&U48&\":\"&\"L\"&V48","v":"L49:L52"},null,"<TR VALIGN=BOTTOM>",{"$f":"\"<TD NOWRAP ALIGN=LEFT><FONT FACE=\"\"Times New Roman\"\" SIZE=-1 COLOR=#00AA00\"\">\"&A49&\"</FONT></TD>\"","v":"<TD NOWRAP ALIGN=LEFT><FONT FACE=\"Times New Roman\" SIZE=-1 COLOR=#00AA00\">Berne-Knox-Westerlo CSD</FONT></TD>"},"<TD NOWRAP ALIGN=RIGHT><FONT FACE=\"Times New Roman\" SIZE=-1>$0.00</FONT></TD>","<TD NOWRAP ALIGN=RIGHT><FONT FACE=\"Times New Roman\" SIZE=-1>$0.00</FONT></TD>","<TD NOWRAP ALIGN=RIGHT><FONT FACE=\"Times New Roman\" SIZE=-1><BR></FONT></TD>","<TD NOWRAP ALIGN=CENTER><FONT FACE=\"Times New Roman\" SIZE=-1>$0.00</FONT></TD>","<TD NOWRAP ALIGN=CENTER><FONT FACE=\"Times New Roman\" SIZE=-1>$0.00</FONT></TD>","<TD NOWRAP ALIGN=CENTER><FONT FACE=\"Times New Roman\" SIZE=-1>0.0000</FONT></TD>","<TD NOWRAP ALIGN=CENTER><FONT FACE=\"Times New Roman\" SIZE=-1>$0.00</FONT></TD>","</TR>"]
["Duanesburg CSD",{"$f":"'2017 Base Data'!F50","v":0},{"$f":"'2017 Base Data'!G50","v":0},null,{"$f":"'2017 Base Data'!I50","v":0},null,null,{"$f":"'2017 Base Data'!J50","v":0},null,null,{"$f":"'2017 Base Data'!K50","v":0},{"$f":"'2017 Base Data'!R50","v":0},null,null,{"$f":"ROUND(IF(S50<>0,R50*D50+S50*SUM(B50:C50)+T50*E50,R50*SUM(B50:D50)+T50*E50),2)","v":0},{"$f":"L50-O50","v":0},null,{"$f":"'2017 Base Data'!K50","v":0},{"$f":"'2017 Base Data'!L50","v":0},{"$f":"'2017 Base Data'!M50","v":0},null,null,null,null,"<TR VALIGN=BOTTOM>",{"$f":"\"<TD NOWRAP ALIGN=LEFT><FONT FACE=\"\"Times New Roman\"\" SIZE=-1 COLOR=#00AA00\"\">\"&A50&\"</FONT></TD>\"","v":"<TD NOWRAP ALIGN=LEFT><FONT FACE=\"Times New Roman\" SIZE=-1 COLOR=#00AA00\">Duanesburg CSD</FONT></TD>"},"<TD NOWRAP ALIGN=RIGHT><FONT FACE=\"Times New Roman\" SIZE=-1>$0.00</FONT></TD>","<TD NOWRAP ALIGN=RIGHT><FONT FACE=\"Times New Roman\" SIZE=-1>$0.00</FONT></TD>","<TD NOWRAP ALIGN=RIGHT><FONT FACE=\"Times New Roman\" SIZE=-1><BR></FONT></TD>","<TD NOWRAP ALIGN=CENTER><FONT FACE=\"Times New Roman\" SIZE=-1>$0.00</FONT></TD>","<TD NOWRAP ALIGN=CENTER><FONT FACE=\"Times New Roman\" SIZE=-1>$0.00</FONT></TD>","<TD NOWRAP ALIGN=CENTER><FONT FACE=\"Times New Roman\" SIZE=-1>0.0000</FONT></TD>","<TD NOWRAP ALIGN=CENTER><FONT FACE=\"Times New Roman\" SIZE=-1>$0.00</FONT></TD>","</TR>"]
["Guilderland CSD",{"$f":"'2017 Base Data'!F51","v":0},{"$f":"'2017 Base Data'!G51","v":0},null,{"$f":"'2017 Base Data'!I51","v":0},null,null,{"$f":"'2017 Base Data'!J51","v":0},null,null,{"$f":"'2017 Base Data'!K51","v":0},{"$f":"'2017 Base Data'!R51","v":0},null,null,{"$f":"ROUND(IF(S51<>0,R51*D51+S51*SUM(B51:C51)+T51*E51,R51*SUM(B51:D51)+T51*E51),2)","v":0},{"$f":"L51-O51","v":0},null,{"$f":"'2017 Base Data'!K51","v":0},{"$f":"'2017 Base Data'!L51","v":0},{"$f":"'2017 Base Data'!M51","v":0},null,null,null,null,"<TR VALIGN=BOTTOM>",{"$f":"\"<TD NOWRAP ALIGN=LEFT><FONT FACE=\"\"Times New Roman\"\" SIZE=-1 COLOR=#00AA00\"\">\"&A51&\"</FONT></TD>\"","v":"<TD NOWRAP ALIGN=LEFT><FONT FACE=\"Times New Roman\" SIZE=-1 COLOR=#00AA00\">Guilderland CSD</FONT></TD>"},"<TD NOWRAP ALIGN=RIGHT><FONT FACE=\"Times New Roman\" SIZE=-1>$0.00</FONT></TD>","<TD NOWRAP ALIGN=RIGHT><FONT FACE=\"Times New Roman\" SIZE=-1>$0.00</FONT></TD>","<TD NOWRAP ALIGN=RIGHT><FONT FACE=\"Times New Roman\" SIZE=-1><BR></FONT></TD>","<TD NOWRAP ALIGN=CENTER><FONT FACE=\"Times New Roman\" SIZE=-1>$0.00</FONT></TD>","<TD NOWRAP ALIGN=CENTER><FONT FACE=\"Times New Roman\" SIZE=-1>$0.00</FONT></TD>","<TD NOWRAP ALIGN=CENTER><FONT FACE=\"Times New Roman\" SIZE=-1>0.0000</FONT></TD>","<TD NOWRAP ALIGN=CENTER><FONT FACE=\"Times New Roman\" SIZE=-1>$0.00</FONT></TD>","</TR>"]
["Schoharie CSD",{"$f":"'2017 Base Data'!F52","v":0},{"$f":"'2017 Base Data'!G52","v":0},null,{"$f":"'2017 Base Data'!I52","v":0},null,null,{"$f":"'2017 Base Data'!J52","v":0},null,null,{"$f":"'2017 Base Data'!K52","v":0},{"$f":"'2017 Base Data'!R52","v":0},null,null,{"$f":"ROUND(IF(S52<>0,R52*D52+S52*SUM(B52:C52)+T52*E52,R52*SUM(B52:D52)+T52*E52),2)","v":0},{"$f":"L52-O52","v":0},null,{"$f":"'2017 Base Data'!K52","v":0},{"$f":"'2017 Base Data'!L52","v":0},{"$f":"'2017 Base Data'!M52","v":0},null,null,null,null,"<TR VALIGN=BOTTOM>",{"$f":"\"<TD NOWRAP ALIGN=LEFT><FONT FACE=\"\"Times New Roman\"\" SIZE=-1 COLOR=#00AA00\"\">\"&A52&\"</FONT></TD>\"","v":"<TD NOWRAP ALIGN=LEFT><FONT FACE=\"Times New Roman\" SIZE=-1 COLOR=#00AA00\">Schoharie CSD</FONT></TD>"},"<TD NOWRAP ALIGN=RIGHT><FONT FACE=\"Times New Roman\" SIZE=-1>$0.00</FONT></TD>","<TD NOWRAP ALIGN=RIGHT><FONT FACE=\"Times New Roman\" SIZE=-1>$0.00</FONT></TD>","<TD NOWRAP ALIGN=RIGHT><FONT FACE=\"Times New Roman\" SIZE=-1><BR></FONT></TD>","<TD NOWRAP ALIGN=CENTER><FONT FACE=\"Times New Roman\" SIZE=-1>$0.00</FONT></TD>","<TD NOWRAP ALIGN=CENTER><FONT FACE=\"Times New Roman\" SIZE=-1>$0.00</FONT></TD>","<TD NOWRAP ALIGN=CENTER><FONT FACE=\"Times New Roman\" SIZE=-1>0.0000</FONT></TD>","<TD NOWRAP ALIGN=CENTER><FONT FACE=\"Times New Roman\" SIZE=-1>$0.00</FONT></TD>","</TR>"]
["Town of New Scotland",{"$f":"B54","v":0},{"$f":"C54","v":0},null,{"$f":"MIN(INDIRECT(U54))","v":0},{"$f":"IF(G53<>0,\"to\",\"\")","v":""},{"$f":"IF(U53<>V53,MAX(INDIRECT(U54)),0)","v":0},{"$f":"MIN(INDIRECT(V54))","v":0},{"$f":"IF(J53<>0,\"to\",\"\")","v":""},{"$f":"IF(U53<>V53,MAX(INDIRECT(V54)),0)","v":0},{"$f":"K54","v":0},{"$f":"MIN(INDIRECT(W54))","v":0},{"$f":"IF(N53<>0,\"to\",\"\")","v":""},{"$f":"IF(U53<>V53,MAX(INDIRECT(W54)),0)","v":0},null,null,null,null,null,null,{"$f":"CELL(\"row\",P54)","v":54},{"$f":"CELL(\"row\",P59)","v":59},null,null,"<TR VALIGN=BOTTOM BGCOLOR=\"#FFFFCC\">",{"$f":"\"<TH NOWRAP ALIGN=LEFT><FONT FACE=\"\"Times New Roman\"\" SIZE=-1>\"&A53&\"</FONT></TH>\"","v":"<TH NOWRAP ALIGN=LEFT><FONT FACE=\"Times New Roman\" SIZE=-1>Town of New Scotland</FONT></TH>"},"<TD NOWRAP ALIGN=RIGHT><FONT FACE=\"Times New Roman\" SIZE=-1>$0.00</FONT></TD>","<TD NOWRAP ALIGN=RIGHT><FONT FACE=\"Times New Roman\" SIZE=-1>$0.00</FONT></TD>","<TD NOWRAP ALIGN=RIGHT><FONT FACE=\"Times New Roman\" SIZE=-1><BR></FONT></TD>","<TD NOWRAP ALIGN=CENTER><FONT FACE=\"Times New Roman\" SIZE=-1>$0.00</FONT></TD>","<TD NOWRAP ALIGN=CENTER><FONT FACE=\"Times New Roman\" SIZE=-1>$0.00</FONT></TD>","<TD NOWRAP ALIGN=CENTER><FONT FACE=\"Times New Roman\" SIZE=-1>0.0000</FONT></TD>","<TD NOWRAP ALIGN=CENTER><FONT FACE=\"Times New Roman\" SIZE=-1>$0.00</FONT></TD>","</TR>"]
["Berne-Knox-Westerlo CSD",{"$f":"'2017 Base Data'!F54","v":0},{"$f":"'2017 Base Data'!G54","v":0},null,{"$f":"'2017 Base Data'!I54","v":0},null,null,{"$f":"'2017 Base Data'!J54","v":0},null,null,{"$f":"'2017 Base Data'!K54","v":0},{"$f":"'2017 Base Data'!R54","v":0},null,null,{"$f":"ROUND(IF(S54<>0,R54*D54+S54*SUM(B54:C54)+T54*E54,R54*SUM(B54:D54)+T54*E54),2)","v":0},{"$f":"L54-O54","v":0},null,{"$f":"'2017 Base Data'!K54","v":0},{"$f":"'2017 Base Data'!L54","v":0},{"$f":"'2017 Base Data'!M54","v":0},{"$f":"\"E\"&U53&\":\"&\"E\"&V53","v":"E54:E59"},{"$f":"\"H\"&U53&\":\"&\"H\"&V53","v":"H54:H59"},{"$f":"\"L\"&U53&\":\"&\"L\"&V53","v":"L54:L59"},null,"<TR VALIGN=BOTTOM>",{"$f":"\"<TD NOWRAP ALIGN=LEFT><FONT FACE=\"\"Times New Roman\"\" SIZE=-1 COLOR=#00AA00\"\">\"&A54&\"</FONT></TD>\"","v":"<TD NOWRAP ALIGN=LEFT><FONT FACE=\"Times New Roman\" SIZE=-1 COLOR=#00AA00\">Berne-Knox-Westerlo CSD</FONT></TD>"},"<TD NOWRAP ALIGN=RIGHT><FONT FACE=\"Times New Roman\" SIZE=-1>$0.00</FONT></TD>","<TD NOWRAP ALIGN=RIGHT><FONT FACE=\"Times New Roman\" SIZE=-1>$0.00</FONT></TD>","<TD NOWRAP ALIGN=RIGHT><FONT FACE=\"Times New Roman\" SIZE=-1><BR></FONT></TD>","<TD NOWRAP ALIGN=CENTER><FONT FACE=\"Times New Roman\" SIZE=-1>$0.00</FONT></TD>","<TD NOWRAP ALIGN=CENTER><FONT FACE=\"Times New Roman\" SIZE=-1>$0.00</FONT></TD>","<TD NOWRAP ALIGN=CENTER><FONT FACE=\"Times New Roman\" SIZE=-1>0.0000</FONT></TD>","<TD NOWRAP ALIGN=CENTER><FONT FACE=\"Times New Roman\" SIZE=-1>$0.00</FONT></TD>","</TR>"]
["Bethlehem CSD",{"$f":"'2017 Base Data'!F55","v":0},{"$f":"'2017 Base Data'!G55","v":0},null,{"$f":"'2017 Base Data'!I55","v":0},null,null,{"$f":"'2017 Base Data'!J55","v":0},null,null,{"$f":"'2017 Base Data'!K55","v":0},{"$f":"'2017 Base Data'!R55","v":0},null,null,0,0,null,{"$f":"'2017 Base Data'!K55","v":0},{"$f":"'2017 Base Data'!L55","v":0},{"$f":"'2017 Base Data'!M55","v":0},null,null,null,null,"<TR VALIGN=BOTTOM>","<TD NOWRAP ALIGN=LEFT><FONT FACE=\"Times New Roman\" SIZE=-1 COLOR=#00AA00\">Bethlehem CSD</FONT></TD>","<TD NOWRAP ALIGN=RIGHT><FONT FACE=\"Times New Roman\" SIZE=-1>$0.00</FONT></TD>","<TD NOWRAP ALIGN=RIGHT><FONT FACE=\"Times New Roman\" SIZE=-1>$0.00</FONT></TD>","<TD NOWRAP ALIGN=RIGHT><FONT FACE=\"Times New Roman\" SIZE=-1><BR></FONT></TD>","<TD NOWRAP ALIGN=CENTER><FONT FACE=\"Times New Roman\" SIZE=-1>$0.00</FONT></TD>","<TD NOWRAP ALIGN=CENTER><FONT FACE=\"Times New Roman\" SIZE=-1>$0.00</FONT></TD>","<TD NOWRAP ALIGN=CENTER><FONT FACE=\"Times New Roman\" SIZE=-1>0.0000</FONT></TD>","<TD NOWRAP ALIGN=CENTER><FONT FACE=\"Times New Roman\" SIZE=-1>$0.00</FONT></TD>","</TR>"]
["Greenville CSD",{"$f":"'2017 Base Data'!F56","v":0},{"$f":"'2017 Base Data'!G56","v":0},null,{"$f":"'2017 Base Data'!I56","v":0},null,null,{"$f":"'2017 Base Data'!J56","v":0},null,null,{"$f":"'2017 Base Data'!K56","v":0},{"$f":"'2017 Base Data'!R56","v":0},null,null,0,0,null,{"$f":"'2017 Base Data'!K56","v":0},{"$f":"'2017 Base Data'!L56","v":0},{"$f":"'2017 Base Data'!M56","v":0},null,null,null,null,"<TR VALIGN=BOTTOM>","<TD NOWRAP ALIGN=LEFT><FONT FACE=\"Times New Roman\" SIZE=-1 COLOR=#00AA00\">Greenville CSD</FONT></TD>","<TD NOWRAP ALIGN=RIGHT><FONT FACE=\"Times New Roman\" SIZE=-1>$0.00</FONT></TD>","<TD NOWRAP ALIGN=RIGHT><FONT FACE=\"Times New Roman\" SIZE=-1>$0.00</FONT></TD>","<TD NOWRAP ALIGN=RIGHT><FONT FACE=\"Times New Roman\" SIZE=-1><BR></FONT></TD>","<TD NOWRAP ALIGN=CENTER><FONT FACE=\"Times New Roman\" SIZE=-1>$0.00</FONT></TD>","<TD NOWRAP ALIGN=CENTER><FONT FACE=\"Times New Roman\" SIZE=-1>$0.00</FONT></TD>","<TD NOWRAP ALIGN=CENTER><FONT FACE=\"Times New Roman\" SIZE=-1>0.0000</FONT></TD>","<TD NOWRAP ALIGN=CENTER><FONT FACE=\"Times New Roman\" SIZE=-1>$0.00</FONT></TD>","</TR>"]
["Guilderland CSD",{"$f":"'2017 Base Data'!F57","v":0},{"$f":"'2017 Base Data'!G57","v":0},null,{"$f":"'2017 Base Data'!I57","v":0},null,null,{"$f":"'2017 Base Data'!J57","v":0},null,null,{"$f":"'2017 Base Data'!K57","v":0},{"$f":"'2017 Base Data'!R57","v":0},null,null,0,0,null,{"$f":"'2017 Base Data'!K57","v":0},{"$f":"'2017 Base Data'!L57","v":0},{"$f":"'2017 Base Data'!M57","v":0},null,null,null,null,"<TR VALIGN=BOTTOM>","<TD NOWRAP ALIGN=LEFT><FONT FACE=\"Times New Roman\" SIZE=-1 COLOR=#00AA00\">Guilderland CSD</FONT></TD>","<TD NOWRAP ALIGN=RIGHT><FONT FACE=\"Times New Roman\" SIZE=-1>$0.00</FONT></TD>","<TD NOWRAP ALIGN=RIGHT><FONT FACE=\"Times New Roman\" SIZE=-1>$0.00</FONT></TD>","<TD NOWRAP ALIGN=RIGHT><FONT FACE=\"Times New Roman\" SIZE=-1><BR></FONT></TD>","<TD NOWRAP ALIGN=CENTER><FONT FACE=\"Times New Roman\" SIZE=-1>$0.00</FONT></TD>","<TD NOWRAP ALIGN=CENTER><FONT FACE=\"Times New Roman\" SIZE=-1>$0.00</FONT></TD>","<TD NOWRAP ALIGN=CENTER><FONT FACE=\"Times New Roman\" SIZE=-1>0.0000</FONT></TD>","<TD NOWRAP ALIGN=CENTER><FONT FACE=\"Times New Roman\" SIZE=-1>$0.00</FONT></TD>","</TR>"]
["Ravena-Coeymans-Selkirk CSD",{"$f":"'2017 Base Data'!F58","v":0},{"$f":"'2017 Base Data'!G58","v":0},null,{"$f":"'2017 Base Data'!I58","v":0},null,null,{"$f":"'2017 Base Data'!J58","v":0},null,null,{"$f":"'2017 Base Data'!K58","v":0},{"$f":"'2017 Base Data'!R58","v":0},null,null,0,0,null,{"$f":"'2017 Base Data'!K58","v":0},{"$f":"'2017 Base Data'!L58","v":0},{"$f":"'2017 Base Data'!M58","v":0},null,null,null,null,"<TR VALIGN=BOTTOM>","<TD NOWRAP ALIGN=LEFT><FONT FACE=\"Times New Roman\" SIZE=-1 COLOR=#00AA00\">Ravena-Coeymans-Selkirk CSD</FONT></TD>","<TD NOWRAP ALIGN=RIGHT><FONT FACE=\"Times New Roman\" SIZE=-1>$0.00</FONT></TD>","<TD NOWRAP ALIGN=RIGHT><FONT FACE=\"Times New Roman\" SIZE=-1>$0.00</FONT></TD>","<TD NOWRAP ALIGN=RIGHT><FONT FACE=\"Times New Roman\" SIZE=-1><BR></FONT></TD>","<TD NOWRAP ALIGN=CENTER><FONT FACE=\"Times New Roman\" SIZE=-1>$0.00</FONT></TD>","<TD NOWRAP ALIGN=CENTER><FONT FACE=\"Times New Roman\" SIZE=-1>$0.00</FONT></TD>","<TD NOWRAP ALIGN=CENTER><FONT FACE=\"Times New Roman\" SIZE=-1>0.0000</FONT></TD>","<TD NOWRAP ALIGN=CENTER><FONT FACE=\"Times New Roman\" SIZE=-1>$0.00</FONT></TD>","</TR>"]
["Voorheesville CSD",{"$f":"'2017 Base Data'!F59","v":0},{"$f":"'2017 Base Data'!G59","v":0},null,{"$f":"'2017 Base Data'!I59","v":0},null,null,{"$f":"'2017 Base Data'!J59","v":0},null,null,{"$f":"'2017 Base Data'!K59","v":0},{"$f":"'2017 Base Data'!R59","v":0},null,null,0,0,null,{"$f":"'2017 Base Data'!K59","v":0},{"$f":"'2017 Base Data'!L59","v":0},{"$f":"'2017 Base Data'!M59","v":0},null,null,null,null,"<TR VALIGN=BOTTOM>","<TD NOWRAP ALIGN=LEFT><FONT FACE=\"Times New Roman\" SIZE=-1 COLOR=#00AA00\">Voorheesville CSD</FONT></TD>","<TD NOWRAP ALIGN=RIGHT><FONT FACE=\"Times New Roman\" SIZE=-1>$0.00</FONT></TD>","<TD NOWRAP ALIGN=RIGHT><FONT FACE=\"Times New Roman\" SIZE=-1>$0.00</FONT></TD>","<TD NOWRAP ALIGN=RIGHT><FONT FACE=\"Times New Roman\" SIZE=-1><BR></FONT></TD>","<TD NOWRAP ALIGN=CENTER><FONT FACE=\"Times New Roman\" SIZE=-1>$0.00</FONT></TD>","<TD NOWRAP ALIGN=CENTER><FONT FACE=\"Times New Roman\" SIZE=-1>$0.00</FONT></TD>","<TD NOWRAP ALIGN=CENTER><FONT FACE=\"Times New Roman\" SIZE=-1>0.0000</FONT></TD>","<TD NOWRAP ALIGN=CENTER><FONT FACE=\"Times New Roman\" SIZE=-1>$0.00</FONT></TD>","</TR>"]
["Village of Voorheesville",{"$f":"B61","v":0},{"$f":"C61","v":0},{"$f":"D61","v":0},{"$f":"MIN(INDIRECT(U61))","v":0},{"$f":"IF(G60<>0,\"to\",\"\")","v":""},{"$f":"IF(U60<>V60,MAX(INDIRECT(U61)),0)","v":0},{"$f":"MIN(INDIRECT(V61))","v":0},{"$f":"IF(J60<>0,\"to\",\"\")","v":""},{"$f":"IF(U60<>V60,MAX(INDIRECT(V61)),0)","v":0},{"$f":"K61","v":0},{"$f":"MIN(INDIRECT(W61))","v":0},{"$f":"IF(N60<>0,\"to\",\"\")","v":""},{"$f":"IF(U60<>V60,MAX(INDIRECT(W61)),0)","v":0},null,null,null,null,null,null,{"$f":"CELL(\"row\",P61)","v":61},{"$f":"CELL(\"row\",P61)","v":61},null,null,"<TR VALIGN=BOTTOM BGCOLOR=\"#FFFFCC\">",{"$f":"\"<TH NOWRAP ALIGN=LEFT><FONT FACE=\"\"Times New Roman\"\" SIZE=-1 COLOR=\"\"#0000CC\"\">\"&A60&\"</FONT></TH>\"","v":"<TH NOWRAP ALIGN=LEFT><FONT FACE=\"Times New Roman\" SIZE=-1 COLOR=\"#0000CC\">Village of Voorheesville</FONT></TH>"},"<TD NOWRAP ALIGN=RIGHT><FONT FACE=\"Times New Roman\" SIZE=-1>$0.00</FONT></TD>","<TD NOWRAP ALIGN=RIGHT><FONT FACE=\"Times New Roman\" SIZE=-1>$0.00</FONT></TD>","<TD NOWRAP ALIGN=RIGHT><FONT FACE=\"Times New Roman\" SIZE=-1>$0.00</FONT></TD>","<TD NOWRAP ALIGN=CENTER><FONT FACE=\"Times New Roman\" SIZE=-1>$0.00</FONT></TD>","<TD NOWRAP ALIGN=CENTER><FONT FACE=\"Times New Roman\" SIZE=-1>$0.00</FONT></TD>","<TD NOWRAP ALIGN=CENTER><FONT FACE=\"Times New Roman\" SIZE=-1>0.0000</FONT></TD>","<TD NOWRAP ALIGN=CENTER><FONT FACE=\"Times New Roman\" SIZE=-1>$0.00</FONT></TD>","</TR>"]
["Voorheesville CSD",{"$f":"'2017 Base Data'!F61","v":0},{"$f":"'2017 Base Data'!G61","v":0},{"$f":"'2017 Base Data'!H61","v":0},{"$f":"'2017 Base Data'!I61","v":0},null,null,{"$f":"'2017 Base Data'!J61","v":0},null,null,{"$f":"'2017 Base Data'!K61","v":0},{"$f":"'2017 Base Data'!R61","v":0},null,null,{"$f":"ROUND(IF(S61<>0,R61*D61+S61*SUM(B61:C61)+T61*E61,R61*SUM(B61:D61)+T61*E61),2)","v":0},{"$f":"L61-O61","v":0},null,{"$f":"'2017 Base Data'!K61","v":0},{"$f":"'2017 Base Data'!L61","v":0},{"$f":"'2017 Base Data'!M61","v":0},{"$f":"\"E\"&U60&\":\"&\"E\"&V60","v":"E61:E61"},{"$f":"\"H\"&U60&\":\"&\"H\"&V60","v":"H61:H61"},{"$f":"\"L\"&U60&\":\"&\"L\"&V60","v":"L61:L61"},null,"<TR VALIGN=BOTTOM>",{"$f":"\"<TD NOWRAP ALIGN=LEFT><FONT FACE=\"\"Times New Roman\"\" SIZE=-1 COLOR=#00AA00\"\">\"&A61&\"</FONT></TD>\"","v":"<TD NOWRAP ALIGN=LEFT><FONT FACE=\"Times New Roman\" SIZE=-1 COLOR=#00AA00\">Voorheesville CSD</FONT></TD>"},"<TD NOWRAP ALIGN=RIGHT><FONT FACE=\"Times New Roman\" SIZE=-1>$0.00</FONT></TD>","<TD NOWRAP ALIGN=RIGHT><FONT FACE=\"Times New Roman\" SIZE=-1>$0.00</FONT></TD>","<TD NOWRAP ALIGN=RIGHT><FONT FACE=\"Times New Roman\" SIZE=-1>$0.00</FONT></TD>","<TD NOWRAP ALIGN=CENTER><FONT FACE=\"Times New Roman\" SIZE=-1>$0.00</FONT></TD>","<TD NOWRAP ALIGN=CENTER><FONT FACE=\"Times New Roman\" SIZE=-1>$0.00</FONT></TD>","<TD NOWRAP ALIGN=CENTER><FONT FACE=\"Times New Roman\" SIZE=-1>0.0000</FONT></TD>","<TD NOWRAP ALIGN=CENTER><FONT FACE=\"Times New Roman\" SIZE=-1>$0.00</FONT></TD>","</TR>"]
["Town of Rensselaerville",{"$f":"B63","v":0},{"$f":"C63","v":0},null,{"$f":"MIN(INDIRECT(U63))","v":0},{"$f":"IF(G62<>0,\"to\",\"\")","v":""},{"$f":"IF(U62<>V62,MAX(INDIRECT(U63)),0)","v":0},{"$f":"MIN(INDIRECT(V63))","v":0},{"$f":"IF(J62<>0,\"to\",\"\")","v":""},{"$f":"IF(U62<>V62,MAX(INDIRECT(V63)),0)","v":0},{"$f":"K63","v":0},{"$f":"MIN(INDIRECT(W63))","v":0},{"$f":"IF(N62<>0,\"to\",\"\")","v":""},{"$f":"IF(U62<>V62,MAX(INDIRECT(W63)),0)","v":0},null,null,null,null,null,null,{"$f":"CELL(\"row\",P63)","v":63},{"$f":"CELL(\"row\",P66)","v":66},null,null,"<TR VALIGN=BOTTOM BGCOLOR=\"#FFFFCC\">",{"$f":"\"<TH NOWRAP ALIGN=LEFT><FONT FACE=\"\"Times New Roman\"\" SIZE=-1>\"&A62&\"</FONT></TH>\"","v":"<TH NOWRAP ALIGN=LEFT><FONT FACE=\"Times New Roman\" SIZE=-1>Town of Rensselaerville</FONT></TH>"},"<TD NOWRAP ALIGN=RIGHT><FONT FACE=\"Times New Roman\" SIZE=-1>$0.00</FONT></TD>","<TD NOWRAP ALIGN=RIGHT><FONT FACE=\"Times New Roman\" SIZE=-1>$0.00</FONT></TD>","<TD NOWRAP ALIGN=RIGHT><FONT FACE=\"Times New Roman\" SIZE=-1><BR></FONT></TD>","<TD NOWRAP ALIGN=CENTER><FONT FACE=\"Times New Roman\" SIZE=-1>$0.00</FONT></TD>","<TD NOWRAP ALIGN=CENTER><FONT FACE=\"Times New Roman\" SIZE=-1>$0.00</FONT></TD>","<TD NOWRAP ALIGN=CENTER><FONT FACE=\"Times New Roman\" SIZE=-1>0.0000</FONT></TD>","<TD NOWRAP ALIGN=CENTER><FONT FACE=\"Times New Roman\" SIZE=-1>$0.00</FONT></TD>","</TR>"]
["Berne-Knox-Westerlo CSD",{"$f":"'2017 Base Data'!F63","v":0},{"$f":"'2017 Base Data'!G63","v":0},null,{"$f":"'2017 Base Data'!I63","v":0},null,null,{"$f":"'2017 Base Data'!J63","v":0},null,null,{"$f":"'2017 Base Data'!K63","v":0},{"$f":"'2017 Base Data'!R63","v":0},null,null,{"$f":"ROUND(IF(S63<>0,R63*D63+S63*SUM(B63:C63)+T63*E63,R63*SUM(B63:D63)+T63*E63),2)","v":0},{"$f":"L63-O63","v":0},null,{"$f":"'2017 Base Data'!K63","v":0},{"$f":"'2017 Base Data'!L63","v":0},{"$f":"'2017 Base Data'!M63","v":0},{"$f":"\"E\"&U62&\":\"&\"E\"&V62","v":"E63:E66"},{"$f":"\"H\"&U62&\":\"&\"H\"&V62","v":"H63:H66"},{"$f":"\"L\"&U62&\":\"&\"L\"&V62","v":"L63:L66"},null,"<TR VALIGN=BOTTOM>",{"$f":"\"<TD NOWRAP ALIGN=LEFT><FONT FACE=\"\"Times New Roman\"\" SIZE=-1 COLOR=#00AA00\"\">\"&A63&\"</FONT></TD>\"","v":"<TD NOWRAP ALIGN=LEFT><FONT FACE=\"Times New Roman\" SIZE=-1 COLOR=#00AA00\">Berne-Knox-Westerlo CSD</FONT></TD>"},"<TD NOWRAP ALIGN=RIGHT><FONT FACE=\"Times New Roman\" SIZE=-1>$0.00</FONT></TD>","<TD NOWRAP ALIGN=RIGHT><FONT FACE=\"Times New Roman\" SIZE=-1>$0.00</FONT></TD>","<TD NOWRAP ALIGN=RIGHT><FONT FACE=\"Times New Roman\" SIZE=-1><BR></FONT></TD>","<TD NOWRAP ALIGN=CENTER><FONT FACE=\"Times New Roman\" SIZE=-1>$0.00</FONT></TD>","<TD NOWRAP ALIGN=CENTER><FONT FACE=\"Times New Roman\" SIZE=-1>$0.00</FONT></TD>","<TD NOWRAP ALIGN=CENTER><FONT FACE=\"Times New Roman\" SIZE=-1>0.0000</FONT></TD>","<TD NOWRAP ALIGN=CENTER><FONT FACE=\"Times New Roman\" SIZE=-1>$0.00</FONT></TD>","</TR>"]
["Cairo-Durham CSD",{"$f":"'2017 Base Data'!F64","v":0},{"$f":"'2017 Base Data'!G64","v":0},null,{"$f":"'2017 Base Data'!I64","v":0},null,null,{"$f":"'2017 Base Data'!J64","v":0},null,null,{"$f":"'2017 Base Data'!K64","v":0},{"$f":"'2017 Base Data'!R64","v":0},null,null,{"$f":"ROUND(IF(S64<>0,R64*D64+S64*SUM(B64:C64)+T64*E64,R64*SUM(B64:D64)+T64*E64),2)","v":0},{"$f":"L64-O64","v":0},null,{"$f":"'2017 Base Data'!K64","v":0},{"$f":"'2017 Base Data'!L64","v":0},{"$f":"'2017 Base Data'!M64","v":0},null,null,null,null,"<TR VALIGN=BOTTOM>",{"$f":"\"<TD NOWRAP ALIGN=LEFT><FONT FACE=\"\"Times New Roman\"\" SIZE=-1 COLOR=#00AA00\"\">\"&A64&\"</FONT></TD>\"","v":"<TD NOWRAP ALIGN=LEFT><FONT FACE=\"Times New Roman\" SIZE=-1 COLOR=#00AA00\">Cairo-Durham CSD</FONT></TD>"},"<TD NOWRAP ALIGN=RIGHT><FONT FACE=\"Times New Roman\" SIZE=-1>$0.00</FONT></TD>","<TD NOWRAP ALIGN=RIGHT><FONT FACE=\"Times New Roman\" SIZE=-1>$0.00</FONT></TD>","<TD NOWRAP ALIGN=RIGHT><FONT FACE=\"Times New Roman\" SIZE=-1><BR></FONT></TD>","<TD NOWRAP ALIGN=CENTER><FONT FACE=\"Times New Roman\" SIZE=-1>$0.00</FONT></TD>","<TD NOWRAP ALIGN=CENTER><FONT FACE=\"Times New Roman\" SIZE=-1>$0.00</FONT></TD>","<TD NOWRAP ALIGN=CENTER><FONT FACE=\"Times New Roman\" SIZE=-1>0.0000</FONT></TD>","<TD NOWRAP ALIGN=CENTER><FONT FACE=\"Times New Roman\" SIZE=-1>$0.00</FONT></TD>","</TR>"]
["Greenville CSD",{"$f":"'2017 Base Data'!F65","v":0},{"$f":"'2017 Base Data'!G65","v":0},null,{"$f":"'2017 Base Data'!I65","v":0},null,null,{"$f":"'2017 Base Data'!J65","v":0},null,null,{"$f":"'2017 Base Data'!K65","v":0},{"$f":"'2017 Base Data'!R65","v":0},null,null,{"$f":"ROUND(IF(S65<>0,R65*D65+S65*SUM(B65:C65)+T65*E65,R65*SUM(B65:D65)+T65*E65),2)","v":0},{"$f":"L65-O65","v":0},null,{"$f":"'2017 Base Data'!K65","v":0},{"$f":"'2017 Base Data'!L65","v":0},{"$f":"'2017 Base Data'!M65","v":0},null,null,null,null,"<TR VALIGN=BOTTOM>",{"$f":"\"<TD NOWRAP ALIGN=LEFT><FONT FACE=\"\"Times New Roman\"\" SIZE=-1 COLOR=#00AA00\"\">\"&A65&\"</FONT></TD>\"","v":"<TD NOWRAP ALIGN=LEFT><FONT FACE=\"Times New Roman\" SIZE=-1 COLOR=#00AA00\">Greenville CSD</FONT></TD>"},"<TD NOWRAP ALIGN=RIGHT><FONT FACE=\"Times New Roman\" SIZE=-1>$0.00</FONT></TD>","<TD NOWRAP ALIGN=RIGHT><FONT FACE=\"Times New Roman\" SIZE=-1>$0.00</FONT></TD>","<TD NOWRAP ALIGN=RIGHT><FONT FACE=\"Times New Roman\" SIZE=-1><BR></FONT></TD>","<TD NOWRAP ALIGN=CENTER><FONT FACE=\"Times New Roman\" SIZE=-1>$0.00</FONT></TD>","<TD NOWRAP ALIGN=CENTER><FONT FACE=\"Times New Roman\" SIZE=-1>$0.00</FONT></TD>","<TD NOWRAP ALIGN=CENTER><FONT FACE=\"Times New Roman\" SIZE=-1>0.0000</FONT></TD>","<TD NOWRAP ALIGN=CENTER><FONT FACE=\"Times New Roman\" SIZE=-1>$0.00</FONT></TD>","</TR>"]
["Middleburgh CSD",{"$f":"'2017 Base Data'!F66","v":0},{"$f":"'2017 Base Data'!G66","v":0},null,{"$f":"'2017 Base Data'!I66","v":0},null,null,{"$f":"'2017 Base Data'!J66","v":0},null,null,{"$f":"'2017 Base Data'!K66","v":0},{"$f":"'2017 Base Data'!R66","v":0},null,null,{"$f":"ROUND(IF(S66<>0,R66*D66+S66*SUM(B66:C66)+T66*E66,R66*SUM(B66:D66)+T66*E66),2)","v":0},{"$f":"L66-O66","v":0},null,{"$f":"'2017 Base Data'!K66","v":0},{"$f":"'2017 Base Data'!L66","v":0},{"$f":"'2017 Base Data'!M66","v":0},null,null,null,null,"<TR VALIGN=BOTTOM>",{"$f":"\"<TD NOWRAP ALIGN=LEFT><FONT FACE=\"\"Times New Roman\"\" SIZE=-1 COLOR=#00AA00\"\">\"&A66&\"</FONT></TD>\"","v":"<TD NOWRAP ALIGN=LEFT><FONT FACE=\"Times New Roman\" SIZE=-1 COLOR=#00AA00\">Middleburgh CSD</FONT></TD>"},"<TD NOWRAP ALIGN=RIGHT><FONT FACE=\"Times New Roman\" SIZE=-1>$0.00</FONT></TD>","<TD NOWRAP ALIGN=RIGHT><FONT FACE=\"Times New Roman\" SIZE=-1>$0.00</FONT></TD>","<TD NOWRAP ALIGN=RIGHT><FONT FACE=\"Times New Roman\" SIZE=-1><BR></FONT></TD>","<TD NOWRAP ALIGN=CENTER><FONT FACE=\"Times New Roman\" SIZE=-1>$0.00</FONT></TD>","<TD NOWRAP ALIGN=CENTER><FONT FACE=\"Times New Roman\" SIZE=-1>$0.00</FONT></TD>","<TD NOWRAP ALIGN=CENTER><FONT FACE=\"Times New Roman\" SIZE=-1>0.0000</FONT></TD>","<TD NOWRAP ALIGN=CENTER><FONT FACE=\"Times New Roman\" SIZE=-1>$0.00</FONT></TD>","</TR>"]
["City of Watervliet",{"$f":"B68","v":0},null,{"$f":"D68","v":0},{"$f":"MIN(INDIRECT(U68))","v":0},{"$f":"IF(G67<>0,\"to\",\"\")","v":""},{"$f":"IF(U67<>V67,MAX(INDIRECT(U68)),0)","v":0},{"$f":"MIN(INDIRECT(V68))","v":0},{"$f":"IF(J67<>0,\"to\",\"\")","v":""},{"$f":"IF(U67<>V67,MAX(INDIRECT(V68)),0)","v":0},{"$f":"K68","v":0},{"$f":"MIN(INDIRECT(W68))","v":0},{"$f":"IF(N67<>0,\"to\",\"\")","v":""},{"$f":"IF(U67<>V67,MAX(INDIRECT(W68)),0)","v":0},null,null,null,null,null,null,{"$f":"CELL(\"row\",P68)","v":68},{"$f":"CELL(\"row\",P68)","v":68},null,null,"<TR VALIGN=BOTTOM BGCOLOR=\"#FFFFCC\">",{"$f":"\"<TH NOWRAP ALIGN=LEFT><FONT FACE=\"\"Times New Roman\"\" SIZE=-1 COLOR=#800000\"\">\"&A67&\"</FONT></TH>\"","v":"<TH NOWRAP ALIGN=LEFT><FONT FACE=\"Times New Roman\" SIZE=-1 COLOR=#800000\">City of Watervliet</FONT></TH>"},"<TD NOWRAP ALIGN=RIGHT><FONT FACE=\"Times New Roman\" SIZE=-1>$0.00</FONT></TD>","<TD NOWRAP ALIGN=RIGHT><FONT FACE=\"Times New Roman\" SIZE=-1><BR></FONT></TD>","<TD NOWRAP ALIGN=RIGHT><FONT FACE=\"Times New Roman\" SIZE=-1>$0.00</FONT></TD>","<TD NOWRAP ALIGN=CENTER><FONT FACE=\"Times New Roman\" SIZE=-1>$0.00</FONT></TD>","<TD NOWRAP ALIGN=CENTER><FONT FACE=\"Times New Roman\" SIZE=-1>$0.00</FONT></TD>","<TD NOWRAP ALIGN=CENTER><FONT FACE=\"Times New Roman\" SIZE=-1>0.0000</FONT></TD>","<TD NOWRAP ALIGN=CENTER><FONT FACE=\"Times New Roman\" SIZE=-1>$0.00</FONT></TD>","</TR>"]
["Watervliet City SD",{"$f":"'2017 Base Data'!F68","v":0},null,{"$f":"'2017 Base Data'!H68","v":0},{"$f":"'2017 Base Data'!I68","v":0},null,null,{"$f":"'2017 Base Data'!J68","v":0},null,null,{"$f":"'2017 Base Data'!K68","v":0},{"$f":"'2017 Base Data'!R68","v":0},null,null,{"$f":"ROUND(IF(S68<>0,R68*D68+S68*SUM(B68:C68)+T68*E68,R68*SUM(B68:D68)+T68*E68),2)","v":0},{"$f":"L68-O68","v":0},null,{"$f":"'2017 Base Data'!K68","v":0},{"$f":"'2017 Base Data'!L68","v":0},{"$f":"'2017 Base Data'!M68","v":0},{"$f":"\"E\"&U67&\":\"&\"E\"&V67","v":"E68:E68"},{"$f":"\"H\"&U67&\":\"&\"H\"&V67","v":"H68:H68"},{"$f":"\"L\"&U67&\":\"&\"L\"&V67","v":"L68:L68"},null,"<TR VALIGN=BOTTOM>",{"$f":"\"<TD NOWRAP ALIGN=LEFT><FONT FACE=\"\"Times New Roman\"\" SIZE=-1 COLOR=#00AA00\"\">\"&A68&\"</FONT></TD>\"","v":"<TD NOWRAP ALIGN=LEFT><FONT FACE=\"Times New Roman\" SIZE=-1 COLOR=#00AA00\">Watervliet City SD</FONT></TD>"},"<TD NOWRAP ALIGN=RIGHT><FONT FACE=\"Times New Roman\" SIZE=-1>$0.00</FONT></TD>","<TD NOWRAP ALIGN=RIGHT><FONT FACE=\"Times New Roman\" SIZE=-1><BR></FONT></TD>","<TD NOWRAP ALIGN=RIGHT><FONT FACE=\"Times New Roman\" SIZE=-1>$0.00</FONT></TD>","<TD NOWRAP ALIGN=CENTER><FONT FACE=\"Times New Roman\" SIZE=-1>$0.00</FONT></TD>","<TD NOWRAP ALIGN=CENTER><FONT FACE=\"Times New Roman\" SIZE=-1>$0.00</FONT></TD>","<TD NOWRAP ALIGN=CENTER><FONT FACE=\"Times New Roman\" SIZE=-1>0.0000</FONT></TD>","<TD NOWRAP ALIGN=CENTER><FONT FACE=\"Times New Roman\" SIZE=-1>$0.00</FONT></TD>","</TR>"]
["Town of Westerlo",{"$f":"B70","v":0},{"$f":"C70","v":0},null,{"$f":"MIN(INDIRECT(U70))","v":0},{"$f":"IF(G69<>0,\"to\",\"\")","v":""},{"$f":"IF(U69<>V69,MAX(INDIRECT(U70)),0)","v":0},{"$f":"MIN(INDIRECT(V70))","v":0},{"$f":"IF(J69<>0,\"to\",\"\")","v":""},{"$f":"IF(U69<>V69,MAX(INDIRECT(V70)),0)","v":0},{"$f":"K70","v":0},{"$f":"MIN(INDIRECT(W70))","v":0},{"$f":"IF(N69<>0,\"to\",\"\")","v":""},{"$f":"IF(U69<>V69,MAX(INDIRECT(W70)),0)","v":0},null,null,null,null,null,null,{"$f":"CELL(\"row\",P70)","v":70},{"$f":"CELL(\"row\",P71)","v":71},null,null,"<TR VALIGN=BOTTOM BGCOLOR=\"#FFFFCC\">",{"$f":"\"<TH NOWRAP ALIGN=LEFT><FONT FACE=\"\"Times New Roman\"\" SIZE=-1>\"&A69&\"</FONT></TH>\"","v":"<TH NOWRAP ALIGN=LEFT><FONT FACE=\"Times New Roman\" SIZE=-1>Town of Westerlo</FONT></TH>"},"<TD NOWRAP ALIGN=RIGHT><FONT FACE=\"Times New Roman\" SIZE=-1>$0.00</FONT></TD>","<TD NOWRAP ALIGN=RIGHT><FONT FACE=\"Times New Roman\" SIZE=-1>$0.00</FONT></TD>","<TD NOWRAP ALIGN=RIGHT><FONT FACE=\"Times New Roman\" SIZE=-1><BR></FONT></TD>","<TD NOWRAP ALIGN=CENTER><FONT FACE=\"Times New Roman\" SIZE=-1>$0.00</FONT></TD>","<TD NOWRAP ALIGN=CENTER><FONT FACE=\"Times New Roman\" SIZE=-1>$0.00</FONT></TD>","<TD NOWRAP ALIGN=CENTER><FONT FACE=\"Times New Roman\" SIZE=-1>0.0000</FONT></TD>","<TD NOWRAP ALIGN=CENTER><FONT FACE=\"Times New Roman\" SIZE=-1>$0.00</FONT></TD>","</TR>"]
["Berne-Knox-Westerlo CSD",{"$f":"'2017 Base Data'!F70","v":0},{"$f":"'2017 Base Data'!G70","v":0},null,{"$f":"'2017 Base Data'!I70","v":0},null,null,{"$f":"'2017 Base Data'!J70","v":0},null,null,{"$f":"'2017 Base Data'!K70","v":0},{"$f":"'2017 Base Data'!R70","v":0},null,null,{"$f":"ROUND(IF(S70<>0,R70*D70+S70*SUM(B70:C70)+T70*E70,R70*SUM(B70:D70)+T70*E70),2)","v":0},{"$f":"L70-O70","v":0},null,{"$f":"'2017 Base Data'!K70","v":0},{"$f":"'2017 Base Data'!L70","v":0},{"$f":"'2017 Base Data'!M70","v":0},{"$f":"\"E\"&U69&\":\"&\"E\"&V69","v":"E70:E71"},{"$f":"\"H\"&U69&\":\"&\"H\"&V69","v":"H70:H71"},{"$f":"\"L\"&U69&\":\"&\"L\"&V69","v":"L70:L71"},null,"<TR VALIGN=BOTTOM>",{"$f":"\"<TD NOWRAP ALIGN=LEFT><FONT FACE=\"\"Times New Roman\"\" SIZE=-1 COLOR=#00AA00\"\">\"&A70&\"</FONT></TD>\"","v":"<TD NOWRAP ALIGN=LEFT><FONT FACE=\"Times New Roman\" SIZE=-1 COLOR=#00AA00\">Berne-Knox-Westerlo CSD</FONT></TD>"},"<TD NOWRAP ALIGN=RIGHT><FONT FACE=\"Times New Roman\" SIZE=-1>$0.00</FONT></TD>","<TD NOWRAP ALIGN=RIGHT><FONT FACE=\"Times New Roman\" SIZE=-1>$0.00</FONT></TD>","<TD NOWRAP ALIGN=RIGHT><FONT FACE=\"Times New Roman\" SIZE=-1><BR></FONT></TD>","<TD NOWRAP ALIGN=CENTER><FONT FACE=\"Times New Roman\" SIZE=-1>$0.00</FONT></TD>","<TD NOWRAP ALIGN=CENTER><FONT FACE=\"Times New Roman\" SIZE=-1>$0.00</FONT></TD>","<TD NOWRAP ALIGN=CENTER><FONT FACE=\"Times New Roman\" SIZE=-1>0.0000</FONT></TD>","<TD NOWRAP ALIGN=CENTER><FONT FACE=\"Times New Roman\" SIZE=-1>$0.00</FONT></TD>","</TR>"]
["Greenville CSD",{"$f":"'2017 Base Data'!F71","v":0},{"$f":"'2017 Base Data'!G71","v":0},null,{"$f":"'2017 Base Data'!I71","v":0},null,null,{"$f":"'2017 Base Data'!J71","v":0},null,null,{"$f":"'2017 Base Data'!K71","v":0},{"$f":"'2017 Base Data'!R71","v":0},null,null,{"$f":"ROUND(IF(S71<>0,R71*D71+S71*SUM(B71:C71)+T71*E71,R71*SUM(B71:D71)+T71*E71),2)","v":0},{"$f":"L71-O71","v":0},null,{"$f":"'2017 Base Data'!K71","v":0},{"$f":"'2017 Base Data'!L71","v":0},{"$f":"'2017 Base Data'!M71","v":0},null,null,null,null,"<TR VALIGN=BOTTOM>",{"$f":"\"<TD NOWRAP ALIGN=LEFT><FONT FACE=\"\"Times New Roman\"\" SIZE=-1 COLOR=#00AA00\"\">\"&A71&\"</FONT></TD>\"","v":"<TD NOWRAP ALIGN=LEFT><FONT FACE=\"Times New Roman\" SIZE=-1 COLOR=#00AA00\">Greenville CSD</FONT></TD>"},"<TD NOWRAP ALIGN=RIGHT><FONT FACE=\"Times New Roman\" SIZE=-1>$0.00</FONT></TD>","<TD NOWRAP ALIGN=RIGHT><FONT FACE=\"Times New Roman\" SIZE=-1>$0.00</FONT></TD>","<TD NOWRAP ALIGN=RIGHT><FONT FACE=\"Times New Roman\" SIZE=-1><BR></FONT></TD>","<TD NOWRAP ALIGN=CENTER><FONT FACE=\"Times New Roman\" SIZE=-1>$0.00</FONT></TD>","<TD NOWRAP ALIGN=CENTER><FONT FACE=\"Times New Roman\" SIZE=-1>$0.00</FONT></TD>","<TD NOWRAP ALIGN=CENTER><FONT FACE=\"Times New Roman\" SIZE=-1>0.0000</FONT></TD>","<TD NOWRAP ALIGN=CENTER><FONT FACE=\"Times New Roman\" SIZE=-1>$0.00</FONT></TD>","</TR>"]
["Rensselaer County",null,null,null,{"$f":"MIN(E73:E155)","v":0},{"$f":"IF(G72<>0,\"to\",\"\")","v":""},{"$f":"MAX(E73:G155)","v":0},{"$f":"MIN(H73:H155)","v":0},{"$f":"IF(J72<>0,\"to\",\"\")","v":""},{"$f":"MAX(H73:J155)","v":0},null,{"$f":"MIN(L73:L155)","v":0},{"$f":"IF(N72<>0,\"to\",\"\")","v":""},{"$f":"MAX(L73:N155)","v":0},null,null,null,null,null,null,null,null,null,null,"<TR VALIGN=BOTTOM BGCOLOR=\"#CCCCFF\">",{"$f":"\"<TH NOWRAP ALIGN=LEFT><FONT FACE=\"\"Times New Roman\"\" COLOR=\"\"#AA00AA\"\">\"&A72&\"</FONT></TH>\"","v":"<TH NOWRAP ALIGN=LEFT><FONT FACE=\"Times New Roman\" COLOR=\"#AA00AA\">Rensselaer County</FONT></TH>"},"<TD NOWRAP ALIGN=RIGHT><FONT FACE=\"Times New Roman\" SIZE=-1><BR></FONT></TD>","<TD NOWRAP ALIGN=RIGHT><FONT FACE=\"Times New Roman\" SIZE=-1><BR></FONT></TD>","<TD NOWRAP ALIGN=RIGHT><FONT FACE=\"Times New Roman\" SIZE=-1><BR></FONT></TD>","<TD NOWRAP ALIGN=CENTER><FONT FACE=\"Times New Roman\" SIZE=-1>$0.00</FONT></TD>","<TD NOWRAP ALIGN=CENTER><FONT FACE=\"Times New Roman\" SIZE=-1>$0.00</FONT></TD>","<TD NOWRAP ALIGN=CENTER><FONT FACE=\"Times New Roman\" SIZE=-1><BR></FONT></TD>","<TD NOWRAP ALIGN=CENTER><FONT FACE=\"Times New Roman\" SIZE=-1>$0.00</FONT></TD>","</TR>"]
["Town of Berlin",{"$f":"B74","v":0},{"$f":"C74","v":0},null,{"$f":"MIN(INDIRECT(U74))","v":0},{"$f":"IF(G73<>0,\"to\",\"\")","v":""},{"$f":"IF(U73<>V73,MAX(INDIRECT(U74)),0)","v":0},{"$f":"MIN(INDIRECT(V74))","v":0},{"$f":"IF(J73<>0,\"to\",\"\")","v":""},{"$f":"IF(U73<>V73,MAX(INDIRECT(V74)),0)","v":0},{"$f":"K74","v":0},{"$f":"MIN(INDIRECT(W74))","v":0},{"$f":"IF(N73<>0,\"to\",\"\")","v":""},{"$f":"IF(U73<>V73,MAX(INDIRECT(W74)),0)","v":0},null,null,null,null,null,null,{"$f":"CELL(\"row\",P74)","v":74},{"$f":"CELL(\"row\",P75)","v":75},null,null,"<TR VALIGN=BOTTOM BGCOLOR=\"#FFFFCC\">",{"$f":"\"<TH NOWRAP ALIGN=LEFT><FONT FACE=\"\"Times New Roman\"\" SIZE=-1>\"&A73&\"</FONT></TH>\"","v":"<TH NOWRAP ALIGN=LEFT><FONT FACE=\"Times New Roman\" SIZE=-1>Town of Berlin</FONT></TH>"},"<TD NOWRAP ALIGN=RIGHT><FONT FACE=\"Times New Roman\" SIZE=-1>$0.00</FONT></TD>","<TD NOWRAP ALIGN=RIGHT><FONT FACE=\"Times New Roman\" SIZE=-1>$0.00</FONT></TD>","<TD NOWRAP ALIGN=RIGHT><FONT FACE=\"Times New Roman\" SIZE=-1><BR></FONT></TD>","<TD NOWRAP ALIGN=CENTER><FONT FACE=\"Times New Roman\" SIZE=-1>$0.00</FONT></TD>","<TD NOWRAP ALIGN=CENTER><FONT FACE=\"Times New Roman\" SIZE=-1>$0.00</FONT></TD>","<TD NOWRAP ALIGN=CENTER><FONT FACE=\"Times New Roman\" SIZE=-1>0.0000</FONT></TD>","<TD NOWRAP ALIGN=CENTER><FONT FACE=\"Times New Roman\" SIZE=-1>$0.00</FONT></TD>","</TR>"]
["Averill Park CSD",{"$f":"'2017 Base Data'!F74","v":0},{"$f":"'2017 Base Data'!G74","v":0},null,{"$f":"'2017 Base Data'!I74","v":0},null,null,{"$f":"'2017 Base Data'!J74","v":0},null,null,{"$f":"'2017 Base Data'!K74","v":0},{"$f":"'2017 Base Data'!R74","v":0},null,null,{"$f":"ROUND(IF(S74<>0,R74*D74+S74*SUM(B74:C74)+T74*E74,R74*SUM(B74:D74)+T74*E74),2)","v":0},{"$f":"L74-O74","v":0},null,{"$f":"'2017 Base Data'!K74","v":0},{"$f":"'2017 Base Data'!L74","v":0},{"$f":"'2017 Base Data'!M74","v":0},{"$f":"\"E\"&U73&\":\"&\"E\"&V73","v":"E74:E75"},{"$f":"\"H\"&U73&\":\"&\"H\"&V73","v":"H74:H75"},{"$f":"\"L\"&U73&\":\"&\"L\"&V73","v":"L74:L75"},null,"<TR VALIGN=BOTTOM>",{"$f":"\"<TD NOWRAP ALIGN=LEFT><FONT FACE=\"\"Times New Roman\"\" SIZE=-1 COLOR=#00AA00\"\">\"&A74&\"</FONT></TD>\"","v":"<TD NOWRAP ALIGN=LEFT><FONT FACE=\"Times New Roman\" SIZE=-1 COLOR=#00AA00\">Averill Park CSD</FONT></TD>"},"<TD NOWRAP ALIGN=RIGHT><FONT FACE=\"Times New Roman\" SIZE=-1>$0.00</FONT></TD>","<TD NOWRAP ALIGN=RIGHT><FONT FACE=\"Times New Roman\" SIZE=-1>$0.00</FONT></TD>","<TD NOWRAP ALIGN=RIGHT><FONT FACE=\"Times New Roman\" SIZE=-1><BR></FONT></TD>","<TD NOWRAP ALIGN=CENTER><FONT FACE=\"Times New Roman\" SIZE=-1>$0.00</FONT></TD>","<TD NOWRAP ALIGN=CENTER><FONT FACE=\"Times New Roman\" SIZE=-1>$0.00</FONT></TD>","<TD NOWRAP ALIGN=CENTER><FONT FACE=\"Times New Roman\" SIZE=-1>0.0000</FONT></TD>","<TD NOWRAP ALIGN=CENTER><FONT FACE=\"Times New Roman\" SIZE=-1>$0.00</FONT></TD>","</TR>"]
["Berlin CSD",{"$f":"'2017 Base Data'!F75","v":0},{"$f":"'2017 Base Data'!G75","v":0},null,{"$f":"'2017 Base Data'!I75","v":0},null,null,{"$f":"'2017 Base Data'!J75","v":0},null,null,{"$f":"'2017 Base Data'!K75","v":0},{"$f":"'2017 Base Data'!R75","v":0},null,null,{"$f":"ROUND(IF(S75<>0,R75*D75+S75*SUM(B75:C75)+T75*E75,R75*SUM(B75:D75)+T75*E75),2)","v":0},{"$f":"L75-O75","v":0},null,{"$f":"'2017 Base Data'!K75","v":0},{"$f":"'2017 Base Data'!L75","v":0},{"$f":"'2017 Base Data'!M75","v":0},null,null,null,null,"<TR VALIGN=BOTTOM>",{"$f":"\"<TD NOWRAP ALIGN=LEFT><FONT FACE=\"\"Times New Roman\"\" SIZE=-1 COLOR=#00AA00\"\">\"&A75&\"</FONT></TD>\"","v":"<TD NOWRAP ALIGN=LEFT><FONT FACE=\"Times New Roman\" SIZE=-1 COLOR=#00AA00\">Berlin CSD</FONT></TD>"},"<TD NOWRAP ALIGN=RIGHT><FONT FACE=\"Times New Roman\" SIZE=-1>$0.00</FONT></TD>","<TD NOWRAP ALIGN=RIGHT><FONT FACE=\"Times New Roman\" SIZE=-1>$0.00</FONT></TD>","<TD NOWRAP ALIGN=RIGHT><FONT FACE=\"Times New Roman\" SIZE=-1><BR></FONT></TD>","<TD NOWRAP ALIGN=CENTER><FONT FACE=\"Times New Roman\" SIZE=-1>$0.00</FONT></TD>","<TD NOWRAP ALIGN=CENTER><FONT FACE=\"Times New Roman\" SIZE=-1>$0.00</FONT></TD>","<TD NOWRAP ALIGN=CENTER><FONT FACE=\"Times New Roman\" SIZE=-1>0.0000</FONT></TD>","<TD NOWRAP ALIGN=CENTER><FONT FACE=\"Times New Roman\" SIZE=-1>$0.00</FONT></TD>","</TR>"]
["Town of Brunswick",{"$f":"B77","v":0},{"$f":"C77","v":0},null,{"$f":"MIN(INDIRECT(U77))","v":0},{"$f":"IF(G76<>0,\"to\",\"\")","v":""},{"$f":"IF(U76<>V76,MAX(INDIRECT(U77)),0)","v":0},{"$f":"MIN(INDIRECT(V77))","v":0},{"$f":"IF(J76<>0,\"to\",\"\")","v":""},{"$f":"IF(U76<>V76,MAX(INDIRECT(V77)),0)","v":0},{"$f":"K77","v":0},{"$f":"MIN(INDIRECT(W77))","v":0},{"$f":"IF(N76<>0,\"to\",\"\")","v":""},{"$f":"IF(U76<>V76,MAX(INDIRECT(W77)),0)","v":0},null,null,null,null,null,null,{"$f":"CELL(\"row\",P77)","v":77},{"$f":"CELL(\"row\",P81)","v":81},null,null,"<TR VALIGN=BOTTOM BGCOLOR=\"#FFFFCC\">",{"$f":"\"<TH NOWRAP ALIGN=LEFT><FONT FACE=\"\"Times New Roman\"\" SIZE=-1>\"&A76&\"</FONT></TH>\"","v":"<TH NOWRAP ALIGN=LEFT><FONT FACE=\"Times New Roman\" SIZE=-1>Town of Brunswick</FONT></TH>"},"<TD NOWRAP ALIGN=RIGHT><FONT FACE=\"Times New Roman\" SIZE=-1>$0.00</FONT></TD>","<TD NOWRAP ALIGN=RIGHT><FONT FACE=\"Times New Roman\" SIZE=-1>$0.00</FONT></TD>","<TD NOWRAP ALIGN=RIGHT><FONT FACE=\"Times New Roman\" SIZE=-1><BR></FONT></TD>","<TD NOWRAP ALIGN=CENTER><FONT FACE=\"Times New Roman\" SIZE=-1>$0.00</FONT></TD>","<TD NOWRAP ALIGN=CENTER><FONT FACE=\"Times New Roman\" SIZE=-1>$0.00</FONT></TD>","<TD NOWRAP ALIGN=CENTER><FONT FACE=\"Times New Roman\" SIZE=-1>0.0000</FONT></TD>","<TD NOWRAP ALIGN=CENTER><FONT FACE=\"Times New Roman\" SIZE=-1>$0.00</FONT></TD>","</TR>"]
["Averill Park CSD",{"$f":"'2017 Base Data'!F77","v":0},{"$f":"'2017 Base Data'!G77","v":0},null,{"$f":"'2017 Base Data'!I77","v":0},null,null,{"$f":"'2017 Base Data'!J77","v":0},null,null,{"$f":"'2017 Base Data'!K77","v":0},{"$f":"'2017 Base Data'!R77","v":0},null,null,{"$f":"ROUND(IF(S77<>0,R77*D77+S77*SUM(B77:C77)+T77*E77,R77*SUM(B77:D77)+T77*E77),2)","v":0},{"$f":"L77-O77","v":0},null,{"$f":"'2017 Base Data'!K77","v":0},{"$f":"'2017 Base Data'!L77","v":0},{"$f":"'2017 Base Data'!M77","v":0},{"$f":"\"E\"&U76&\":\"&\"E\"&V76","v":"E77:E81"},{"$f":"\"H\"&U76&\":\"&\"H\"&V76","v":"H77:H81"},{"$f":"\"L\"&U76&\":\"&\"L\"&V76","v":"L77:L81"},null,"<TR VALIGN=BOTTOM>",{"$f":"\"<TD NOWRAP ALIGN=LEFT><FONT FACE=\"\"Times New Roman\"\" SIZE=-1 COLOR=#00AA00\"\">\"&A77&\"</FONT></TD>\"","v":"<TD NOWRAP ALIGN=LEFT><FONT FACE=\"Times New Roman\" SIZE=-1 COLOR=#00AA00\">Averill Park CSD</FONT></TD>"},"<TD NOWRAP ALIGN=RIGHT><FONT FACE=\"Times New Roman\" SIZE=-1>$0.00</FONT></TD>","<TD NOWRAP ALIGN=RIGHT><FONT FACE=\"Times New Roman\" SIZE=-1>$0.00</FONT></TD>","<TD NOWRAP ALIGN=RIGHT><FONT FACE=\"Times New Roman\" SIZE=-1><BR></FONT></TD>","<TD NOWRAP ALIGN=CENTER><FONT FACE=\"Times New Roman\" SIZE=-1>$0.00</FONT></TD>","<TD NOWRAP ALIGN=CENTER><FONT FACE=\"Times New Roman\" SIZE=-1>$0.00</FONT></TD>","<TD NOWRAP ALIGN=CENTER><FONT FACE=\"Times New Roman\" SIZE=-1>0.0000</FONT></TD>","<TD NOWRAP ALIGN=CENTER><FONT FACE=\"Times New Roman\" SIZE=-1>$0.00</FONT></TD>","</TR>"]
["Brunswick CSD",{"$f":"'2017 Base Data'!F78","v":0},{"$f":"'2017 Base Data'!G78","v":0},null,{"$f":"'2017 Base Data'!I78","v":0},null,null,{"$f":"'2017 Base Data'!J78","v":0},null,null,{"$f":"'2017 Base Data'!K78","v":0},{"$f":"'2017 Base Data'!R78","v":0},null,null,{"$f":"ROUND(IF(S78<>0,R78*D78+S78*SUM(B78:C78)+T78*E78,R78*SUM(B78:D78)+T78*E78),2)","v":0},{"$f":"L78-O78","v":0},null,{"$f":"'2017 Base Data'!K78","v":0},{"$f":"'2017 Base Data'!L78","v":0},{"$f":"'2017 Base Data'!M78","v":0},null,null,null,null,"<TR VALIGN=BOTTOM>",{"$f":"\"<TD NOWRAP ALIGN=LEFT><FONT FACE=\"\"Times New Roman\"\" SIZE=-1 COLOR=#00AA00\"\">\"&A78&\"</FONT></TD>\"","v":"<TD NOWRAP ALIGN=LEFT><FONT FACE=\"Times New Roman\" SIZE=-1 COLOR=#00AA00\">Brunswick CSD</FONT></TD>"},"<TD NOWRAP ALIGN=RIGHT><FONT FACE=\"Times New Roman\" SIZE=-1>$0.00</FONT></TD>","<TD NOWRAP ALIGN=RIGHT><FONT FACE=\"Times New Roman\" SIZE=-1>$0.00</FONT></TD>","<TD NOWRAP ALIGN=RIGHT><FONT FACE=\"Times New Roman\" SIZE=-1><BR></FONT></TD>","<TD NOWRAP ALIGN=CENTER><FONT FACE=\"Times New Roman\" SIZE=-1>$0.00</FONT></TD>","<TD NOWRAP ALIGN=CENTER><FONT FACE=\"Times New Roman\" SIZE=-1>$0.00</FONT></TD>","<TD NOWRAP ALIGN=CENTER><FONT FACE=\"Times New Roman\" SIZE=-1>0.0000</FONT></TD>","<TD NOWRAP ALIGN=CENTER><FONT FACE=\"Times New Roman\" SIZE=-1>$0.00</FONT></TD>","</TR>"]
["Lansingburgh CSD",{"$f":"'2017 Base Data'!F79","v":0},{"$f":"'2017 Base Data'!G79","v":0},null,{"$f":"'2017 Base Data'!I79","v":0},null,null,{"$f":"'2017 Base Data'!J79","v":0},null,null,{"$f":"'2017 Base Data'!K79","v":0},{"$f":"'2017 Base Data'!R79","v":0},null,null,{"$f":"ROUND(IF(S79<>0,R79*D79+S79*SUM(B79:C79)+T79*E79,R79*SUM(B79:D79)+T79*E79),2)","v":0},{"$f":"L79-O79","v":0},null,{"$f":"'2017 Base Data'!K79","v":0},{"$f":"'2017 Base Data'!L79","v":0},{"$f":"'2017 Base Data'!M79","v":0},null,null,null,null,"<TR VALIGN=BOTTOM>",{"$f":"\"<TD NOWRAP ALIGN=LEFT><FONT FACE=\"\"Times New Roman\"\" SIZE=-1 COLOR=#00AA00\"\">\"&A79&\"</FONT></TD>\"","v":"<TD NOWRAP ALIGN=LEFT><FONT FACE=\"Times New Roman\" SIZE=-1 COLOR=#00AA00\">Lansingburgh CSD</FONT></TD>"},"<TD NOWRAP ALIGN=RIGHT><FONT FACE=\"Times New Roman\" SIZE=-1>$0.00</FONT></TD>","<TD NOWRAP ALIGN=RIGHT><FONT FACE=\"Times New Roman\" SIZE=-1>$0.00</FONT></TD>","<TD NOWRAP ALIGN=RIGHT><FONT FACE=\"Times New Roman\" SIZE=-1><BR></FONT></TD>","<TD NOWRAP ALIGN=CENTER><FONT FACE=\"Times New Roman\" SIZE=-1>$0.00</FONT></TD>","<TD NOWRAP ALIGN=CENTER><FONT FACE=\"Times New Roman\" SIZE=-1>$0.00</FONT></TD>","<TD NOWRAP ALIGN=CENTER><FONT FACE=\"Times New Roman\" SIZE=-1>0.0000</FONT></TD>","<TD NOWRAP ALIGN=CENTER><FONT FACE=\"Times New Roman\" SIZE=-1>$0.00</FONT></TD>","</TR>"]
["Troy City SD",{"$f":"'2017 Base Data'!F80","v":0},{"$f":"'2017 Base Data'!G80","v":0},null,{"$f":"'2017 Base Data'!I80","v":0},null,null,{"$f":"'2017 Base Data'!J80","v":0},null,null,{"$f":"'2017 Base Data'!K80","v":0},{"$f":"'2017 Base Data'!R80","v":0},null,null,{"$f":"ROUND(IF(S80<>0,R80*D80+S80*SUM(B80:C80)+T80*E80,R80*SUM(B80:D80)+T80*E80),2)","v":0},{"$f":"L80-O80","v":0},null,{"$f":"'2017 Base Data'!K80","v":0},{"$f":"'2017 Base Data'!L80","v":0},{"$f":"'2017 Base Data'!M80","v":0},null,null,null,null,"<TR VALIGN=BOTTOM>",{"$f":"\"<TD NOWRAP ALIGN=LEFT><FONT FACE=\"\"Times New Roman\"\" SIZE=-1 COLOR=#00AA00\"\">\"&A80&\"</FONT></TD>\"","v":"<TD NOWRAP ALIGN=LEFT><FONT FACE=\"Times New Roman\" SIZE=-1 COLOR=#00AA00\">Troy City SD</FONT></TD>"},"<TD NOWRAP ALIGN=RIGHT><FONT FACE=\"Times New Roman\" SIZE=-1>$0.00</FONT></TD>","<TD NOWRAP ALIGN=RIGHT><FONT FACE=\"Times New Roman\" SIZE=-1>$0.00</FONT></TD>","<TD NOWRAP ALIGN=RIGHT><FONT FACE=\"Times New Roman\" SIZE=-1><BR></FONT></TD>","<TD NOWRAP ALIGN=CENTER><FONT FACE=\"Times New Roman\" SIZE=-1>$0.00</FONT></TD>","<TD NOWRAP ALIGN=CENTER><FONT FACE=\"Times New Roman\" SIZE=-1>$0.00</FONT></TD>","<TD NOWRAP ALIGN=CENTER><FONT FACE=\"Times New Roman\" SIZE=-1>0.0000</FONT></TD>","<TD NOWRAP ALIGN=CENTER><FONT FACE=\"Times New Roman\" SIZE=-1>$0.00</FONT></TD>","</TR>"]
["Wynantskill UFSD",{"$f":"'2017 Base Data'!F81","v":0},{"$f":"'2017 Base Data'!G81","v":0},null,{"$f":"'2017 Base Data'!I81","v":0},null,null,{"$f":"'2017 Base Data'!J81","v":0},null,null,{"$f":"'2017 Base Data'!K81","v":0},{"$f":"'2017 Base Data'!R81","v":0},null,null,{"$f":"ROUND(IF(S81<>0,R81*D81+S81*SUM(B81:C81)+T81*E81,R81*SUM(B81:D81)+T81*E81),2)","v":0},{"$f":"L81-O81","v":0},null,{"$f":"'2017 Base Data'!K81","v":0},{"$f":"'2017 Base Data'!L81","v":0},{"$f":"'2017 Base Data'!M81","v":0},null,null,null,null,"<TR VALIGN=BOTTOM>",{"$f":"\"<TD NOWRAP ALIGN=LEFT><FONT FACE=\"\"Times New Roman\"\" SIZE=-1 COLOR=#00AA00\"\">\"&A81&\"</FONT></TD>\"","v":"<TD NOWRAP ALIGN=LEFT><FONT FACE=\"Times New Roman\" SIZE=-1 COLOR=#00AA00\">Wynantskill UFSD</FONT></TD>"},"<TD NOWRAP ALIGN=RIGHT><FONT FACE=\"Times New Roman\" SIZE=-1>$0.00</FONT></TD>","<TD NOWRAP ALIGN=RIGHT><FONT FACE=\"Times New Roman\" SIZE=-1>$0.00</FONT></TD>","<TD NOWRAP ALIGN=RIGHT><FONT FACE=\"Times New Roman\" SIZE=-1><BR></FONT></TD>","<TD NOWRAP ALIGN=CENTER><FONT FACE=\"Times New Roman\" SIZE=-1>$0.00</FONT></TD>","<TD NOWRAP ALIGN=CENTER><FONT FACE=\"Times New Roman\" SIZE=-1>$0.00</FONT></TD>","<TD NOWRAP ALIGN=CENTER><FONT FACE=\"Times New Roman\" SIZE=-1>0.0000</FONT></TD>","<TD NOWRAP ALIGN=CENTER><FONT FACE=\"Times New Roman\" SIZE=-1>$0.00</FONT></TD>","</TR>"]
["Town of East Greenbush",{"$f":"B83","v":0},{"$f":"C83","v":0},null,{"$f":"MIN(INDIRECT(U83))","v":0},{"$f":"IF(G82<>0,\"to\",\"\")","v":""},{"$f":"IF(U82<>V82,MAX(INDIRECT(U83)),0)","v":0},{"$f":"MIN(INDIRECT(V83))","v":0},{"$f":"IF(J82<>0,\"to\",\"\")","v":""},{"$f":"IF(U82<>V82,MAX(INDIRECT(V83)),0)","v":0},{"$f":"K83","v":0},{"$f":"MIN(INDIRECT(W83))","v":0},{"$f":"IF(N82<>0,\"to\",\"\")","v":""},{"$f":"IF(U82<>V82,MAX(INDIRECT(W83)),0)","v":0},null,null,null,null,null,null,{"$f":"CELL(\"row\",P83)","v":83},{"$f":"CELL(\"row\",P84)","v":84},null,null,"<TR VALIGN=BOTTOM BGCOLOR=\"#FFFFCC\">",{"$f":"\"<TH NOWRAP ALIGN=LEFT><FONT FACE=\"\"Times New Roman\"\" SIZE=-1>\"&A82&\"</FONT></TH>\"","v":"<TH NOWRAP ALIGN=LEFT><FONT FACE=\"Times New Roman\" SIZE=-1>Town of East Greenbush</FONT></TH>"},"<TD NOWRAP ALIGN=RIGHT><FONT FACE=\"Times New Roman\" SIZE=-1>$0.00</FONT></TD>","<TD NOWRAP ALIGN=RIGHT><FONT FACE=\"Times New Roman\" SIZE=-1>$0.00</FONT></TD>","<TD NOWRAP ALIGN=RIGHT><FONT FACE=\"Times New Roman\" SIZE=-1><BR></FONT></TD>","<TD NOWRAP ALIGN=CENTER><FONT FACE=\"Times New Roman\" SIZE=-1>$0.00</FONT></TD>","<TD NOWRAP ALIGN=CENTER><FONT FACE=\"Times New Roman\" SIZE=-1>$0.00</FONT></TD>","<TD NOWRAP ALIGN=CENTER><FONT FACE=\"Times New Roman\" SIZE=-1>0.0000</FONT></TD>","<TD NOWRAP ALIGN=CENTER><FONT FACE=\"Times New Roman\" SIZE=-1>$0.00</FONT></TD>","</TR>"]
["Averill Park CSD",{"$f":"'2017 Base Data'!F83","v":0},{"$f":"'2017 Base Data'!G83","v":0},null,{"$f":"'2017 Base Data'!I83","v":0},null,null,{"$f":"'2017 Base Data'!J83","v":0},null,null,{"$f":"'2017 Base Data'!K83","v":0},{"$f":"'2017 Base Data'!R83","v":0},null,null,{"$f":"ROUND(IF(S83<>0,R83*D83+S83*SUM(B83:C83)+T83*E83,R83*SUM(B83:D83)+T83*E83),2)","v":0},{"$f":"L83-O83","v":0},null,{"$f":"'2017 Base Data'!K83","v":0},{"$f":"'2017 Base Data'!L83","v":0},{"$f":"'2017 Base Data'!M83","v":0},{"$f":"\"E\"&U82&\":\"&\"E\"&V82","v":"E83:E84"},{"$f":"\"H\"&U82&\":\"&\"H\"&V82","v":"H83:H84"},{"$f":"\"L\"&U82&\":\"&\"L\"&V82","v":"L83:L84"},null,"<TR VALIGN=BOTTOM>",{"$f":"\"<TD NOWRAP ALIGN=LEFT><FONT FACE=\"\"Times New Roman\"\" SIZE=-1 COLOR=#00AA00\"\">\"&A83&\"</FONT></TD>\"","v":"<TD NOWRAP ALIGN=LEFT><FONT FACE=\"Times New Roman\" SIZE=-1 COLOR=#00AA00\">Averill Park CSD</FONT></TD>"},"<TD NOWRAP ALIGN=RIGHT><FONT FACE=\"Times New Roman\" SIZE=-1>$0.00</FONT></TD>","<TD NOWRAP ALIGN=RIGHT><FONT FACE=\"Times New Roman\" SIZE=-1>$0.00</FONT></TD>","<TD NOWRAP ALIGN=RIGHT><FONT FACE=\"Times New Roman\" SIZE=-1><BR></FONT></TD>","<TD NOWRAP ALIGN=CENTER><FONT FACE=\"Times New Roman\" SIZE=-1>$0.00</FONT></TD>","<TD NOWRAP ALIGN=CENTER><FONT FACE=\"Times New Roman\" SIZE=-1>$0.00</FONT></TD>","<TD NOWRAP ALIGN=CENTER><FONT FACE=\"Times New Roman\" SIZE=-1>0.0000</FONT></TD>","<TD NOWRAP ALIGN=CENTER><FONT FACE=\"Times New Roman\" SIZE=-1>$0.00</FONT></TD>","</TR>"]
["East Greenbush CSD",{"$f":"'2017 Base Data'!F84","v":0},{"$f":"'2017 Base Data'!G84","v":0},null,{"$f":"'2017 Base Data'!I84","v":0},null,null,{"$f":"'2017 Base Data'!J84","v":0},null,null,{"$f":"'2017 Base Data'!K84","v":0},{"$f":"'2017 Base Data'!R84","v":0},null,null,{"$f":"ROUND(IF(S84<>0,R84*D84+S84*SUM(B84:C84)+T84*E84,R84*SUM(B84:D84)+T84*E84),2)","v":0},{"$f":"L84-O84","v":0},null,{"$f":"'2017 Base Data'!K84","v":0},{"$f":"'2017 Base Data'!L84","v":0},{"$f":"'2017 Base Data'!M84","v":0},null,null,null,null,"<TR VALIGN=BOTTOM>",{"$f":"\"<TD NOWRAP ALIGN=LEFT><FONT FACE=\"\"Times New Roman\"\" SIZE=-1 COLOR=#00AA00\"\">\"&A84&\"</FONT></TD>\"","v":"<TD NOWRAP ALIGN=LEFT><FONT FACE=\"Times New Roman\" SIZE=-1 COLOR=#00AA00\">East Greenbush CSD</FONT></TD>"},"<TD NOWRAP ALIGN=RIGHT><FONT FACE=\"Times New Roman\" SIZE=-1>$0.00</FONT></TD>","<TD NOWRAP ALIGN=RIGHT><FONT FACE=\"Times New Roman\" SIZE=-1>$0.00</FONT></TD>","<TD NOWRAP ALIGN=RIGHT><FONT FACE=\"Times New Roman\" SIZE=-1><BR></FONT></TD>","<TD NOWRAP ALIGN=CENTER><FONT FACE=\"Times New Roman\" SIZE=-1>$0.00</FONT></TD>","<TD NOWRAP ALIGN=CENTER><FONT FACE=\"Times New Roman\" SIZE=-1>$0.00</FONT></TD>","<TD NOWRAP ALIGN=CENTER><FONT FACE=\"Times New Roman\" SIZE=-1>0.0000</FONT></TD>","<TD NOWRAP ALIGN=CENTER><FONT FACE=\"Times New Roman\" SIZE=-1>$0.00</FONT></TD>","</TR>"]
["Town of Grafton",{"$f":"B86","v":0},{"$f":"C86","v":0},null,{"$f":"MIN(INDIRECT(U86))","v":0},{"$f":"IF(G85<>0,\"to\",\"\")","v":""},{"$f":"IF(U85<>V85,MAX(INDIRECT(U86)),0)","v":0},{"$f":"MIN(INDIRECT(V86))","v":0},{"$f":"IF(J85<>0,\"to\",\"\")","v":""},{"$f":"IF(U85<>V85,MAX(INDIRECT(V86)),0)","v":0},{"$f":"K86","v":0},{"$f":"MIN(INDIRECT(W86))","v":0},{"$f":"IF(N85<>0,\"to\",\"\")","v":""},{"$f":"IF(U85<>V85,MAX(INDIRECT(W86)),0)","v":0},null,null,null,null,null,null,{"$f":"CELL(\"row\",P86)","v":86},{"$f":"CELL(\"row\",P88)","v":88},null,null,"<TR VALIGN=BOTTOM BGCOLOR=\"#FFFFCC\">",{"$f":"\"<TH NOWRAP ALIGN=LEFT><FONT FACE=\"\"Times New Roman\"\" SIZE=-1>\"&A85&\"</FONT></TH>\"","v":"<TH NOWRAP ALIGN=LEFT><FONT FACE=\"Times New Roman\" SIZE=-1>Town of Grafton</FONT></TH>"},"<TD NOWRAP ALIGN=RIGHT><FONT FACE=\"Times New Roman\" SIZE=-1>$0.00</FONT></TD>","<TD NOWRAP ALIGN=RIGHT><FONT FACE=\"Times New Roman\" SIZE=-1>$0.00</FONT></TD>","<TD NOWRAP ALIGN=RIGHT><FONT FACE=\"Times New Roman\" SIZE=-1><BR></FONT></TD>","<TD NOWRAP ALIGN=CENTER><FONT FACE=\"Times New Roman\" SIZE=-1>$0.00</FONT></TD>","<TD NOWRAP ALIGN=CENTER><FONT FACE=\"Times New Roman\" SIZE=-1>$0.00</FONT></TD>","<TD NOWRAP ALIGN=CENTER><FONT FACE=\"Times New Roman\" SIZE=-1>0.0000</FONT></TD>","<TD NOWRAP ALIGN=CENTER><FONT FACE=\"Times New Roman\" SIZE=-1>$0.00</FONT></TD>","</TR>"]
["Berlin CSD",{"$f":"'2017 Base Data'!F86","v":0},{"$f":"'2017 Base Data'!G86","v":0},null,{"$f":"'2017 Base Data'!I86","v":0},null,null,{"$f":"'2017 Base Data'!J86","v":0},null,null,{"$f":"'2017 Base Data'!K86","v":0},{"$f":"'2017 Base Data'!R86","v":0},null,null,{"$f":"ROUND(IF(S86<>0,R86*D86+S86*SUM(B86:C86)+T86*E86,R86*SUM(B86:D86)+T86*E86),2)","v":0},{"$f":"L86-O86","v":0},null,{"$f":"'2017 Base Data'!K86","v":0},{"$f":"'2017 Base Data'!L86","v":0},{"$f":"'2017 Base Data'!M86","v":0},{"$f":"\"E\"&U85&\":\"&\"E\"&V85","v":"E86:E88"},{"$f":"\"H\"&U85&\":\"&\"H\"&V85","v":"H86:H88"},{"$f":"\"L\"&U85&\":\"&\"L\"&V85","v":"L86:L88"},null,"<TR VALIGN=BOTTOM>",{"$f":"\"<TD NOWRAP ALIGN=LEFT><FONT FACE=\"\"Times New Roman\"\" SIZE=-1 COLOR=#00AA00\"\">\"&A86&\"</FONT></TD>\"","v":"<TD NOWRAP ALIGN=LEFT><FONT FACE=\"Times New Roman\" SIZE=-1 COLOR=#00AA00\">Berlin CSD</FONT></TD>"},"<TD NOWRAP ALIGN=RIGHT><FONT FACE=\"Times New Roman\" SIZE=-1>$0.00</FONT></TD>","<TD NOWRAP ALIGN=RIGHT><FONT FACE=\"Times New Roman\" SIZE=-1>$0.00</FONT></TD>","<TD NOWRAP ALIGN=RIGHT><FONT FACE=\"Times New Roman\" SIZE=-1><BR></FONT></TD>","<TD NOWRAP ALIGN=CENTER><FONT FACE=\"Times New Roman\" SIZE=-1>$0.00</FONT></TD>","<TD NOWRAP ALIGN=CENTER><FONT FACE=\"Times New Roman\" SIZE=-1>$0.00</FONT></TD>","<TD NOWRAP ALIGN=CENTER><FONT FACE=\"Times New Roman\" SIZE=-1>0.0000</FONT></TD>","<TD NOWRAP ALIGN=CENTER><FONT FACE=\"Times New Roman\" SIZE=-1>$0.00</FONT></TD>","</TR>"]
["Brunswick CSD",{"$f":"'2017 Base Data'!F87","v":0},{"$f":"'2017 Base Data'!G87","v":0},null,{"$f":"'2017 Base Data'!I87","v":0},null,null,{"$f":"'2017 Base Data'!J87","v":0},null,null,{"$f":"'2017 Base Data'!K87","v":0},{"$f":"'2017 Base Data'!R87","v":0},null,null,{"$f":"ROUND(IF(S87<>0,R87*D87+S87*SUM(B87:C87)+T87*E87,R87*SUM(B87:D87)+T87*E87),2)","v":0},{"$f":"L87-O87","v":0},null,{"$f":"'2017 Base Data'!K87","v":0},{"$f":"'2017 Base Data'!L87","v":0},{"$f":"'2017 Base Data'!M87","v":0},null,null,null,null,"<TR VALIGN=BOTTOM>",{"$f":"\"<TD NOWRAP ALIGN=LEFT><FONT FACE=\"\"Times New Roman\"\" SIZE=-1 COLOR=#00AA00\"\">\"&A87&\"</FONT></TD>\"","v":"<TD NOWRAP ALIGN=LEFT><FONT FACE=\"Times New Roman\" SIZE=-1 COLOR=#00AA00\">Brunswick CSD</FONT></TD>"},"<TD NOWRAP ALIGN=RIGHT><FONT FACE=\"Times New Roman\" SIZE=-1>$0.00</FONT></TD>","<TD NOWRAP ALIGN=RIGHT><FONT FACE=\"Times New Roman\" SIZE=-1>$0.00</FONT></TD>","<TD NOWRAP ALIGN=RIGHT><FONT FACE=\"Times New Roman\" SIZE=-1><BR></FONT></TD>","<TD NOWRAP ALIGN=CENTER><FONT FACE=\"Times New Roman\" SIZE=-1>$0.00</FONT></TD>","<TD NOWRAP ALIGN=CENTER><FONT FACE=\"Times New Roman\" SIZE=-1>$0.00</FONT></TD>","<TD NOWRAP ALIGN=CENTER><FONT FACE=\"Times New Roman\" SIZE=-1>0.0000</FONT></TD>","<TD NOWRAP ALIGN=CENTER><FONT FACE=\"Times New Roman\" SIZE=-1>$0.00</FONT></TD>","</TR>"]
["Hoosick Falls CSD",{"$f":"'2017 Base Data'!F88","v":0},{"$f":"'2017 Base Data'!G88","v":0},null,{"$f":"'2017 Base Data'!I88","v":0},null,null,{"$f":"'2017 Base Data'!J88","v":0},null,null,{"$f":"'2017 Base Data'!K88","v":0},{"$f":"'2017 Base Data'!R88","v":0},null,null,{"$f":"ROUND(IF(S88<>0,R88*D88+S88*SUM(B88:C88)+T88*E88,R88*SUM(B88:D88)+T88*E88),2)","v":0},{"$f":"L88-O88","v":0},null,{"$f":"'2017 Base Data'!K88","v":0},{"$f":"'2017 Base Data'!L88","v":0},{"$f":"'2017 Base Data'!M88","v":0},null,null,null,null,"<TR VALIGN=BOTTOM>",{"$f":"\"<TD NOWRAP ALIGN=LEFT><FONT FACE=\"\"Times New Roman\"\" SIZE=-1 COLOR=#00AA00\"\">\"&A88&\"</FONT></TD>\"","v":"<TD NOWRAP ALIGN=LEFT><FONT FACE=\"Times New Roman\" SIZE=-1 COLOR=#00AA00\">Hoosick Falls CSD</FONT></TD>"},"<TD NOWRAP ALIGN=RIGHT><FONT FACE=\"Times New Roman\" SIZE=-1>$0.00</FONT></TD>","<TD NOWRAP ALIGN=RIGHT><FONT FACE=\"Times New Roman\" SIZE=-1>$0.00</FONT></TD>","<TD NOWRAP ALIGN=RIGHT><FONT FACE=\"Times New Roman\" SIZE=-1><BR></FONT></TD>","<TD NOWRAP ALIGN=CENTER><FONT FACE=\"Times New Roman\" SIZE=-1>$0.00</FONT></TD>","<TD NOWRAP ALIGN=CENTER><FONT FACE=\"Times New Roman\" SIZE=-1>$0.00</FONT></TD>","<TD NOWRAP ALIGN=CENTER><FONT FACE=\"Times New Roman\" SIZE=-1>0.0000</FONT></TD>","<TD NOWRAP ALIGN=CENTER><FONT FACE=\"Times New Roman\" SIZE=-1>$0.00</FONT></TD>","</TR>"]
["Town of Hoosick",{"$f":"B90","v":0},{"$f":"C90","v":0},null,{"$f":"MIN(INDIRECT(U90))","v":0},{"$f":"IF(G89<>0,\"to\",\"\")","v":""},{"$f":"IF(U89<>V89,MAX(INDIRECT(U90)),0)","v":0},{"$f":"MIN(INDIRECT(V90))","v":0},{"$f":"IF(J89<>0,\"to\",\"\")","v":""},{"$f":"IF(U89<>V89,MAX(INDIRECT(V90)),0)","v":0},{"$f":"K90","v":0},{"$f":"MIN(INDIRECT(W90))","v":0},{"$f":"IF(N89<>0,\"to\",\"\")","v":""},{"$f":"IF(U89<>V89,MAX(INDIRECT(W90)),0)","v":0},null,null,null,null,null,null,{"$f":"CELL(\"row\",P90)","v":90},{"$f":"CELL(\"row\",P91)","v":91},null,null,"<TR VALIGN=BOTTOM BGCOLOR=\"#FFFFCC\">",{"$f":"\"<TH NOWRAP ALIGN=LEFT><FONT FACE=\"\"Times New Roman\"\" SIZE=-1>\"&A89&\"</FONT></TH>\"","v":"<TH NOWRAP ALIGN=LEFT><FONT FACE=\"Times New Roman\" SIZE=-1>Town of Hoosick</FONT></TH>"},"<TD NOWRAP ALIGN=RIGHT><FONT FACE=\"Times New Roman\" SIZE=-1>$0.00</FONT></TD>","<TD NOWRAP ALIGN=RIGHT><FONT FACE=\"Times New Roman\" SIZE=-1>$0.00</FONT></TD>","<TD NOWRAP ALIGN=RIGHT><FONT FACE=\"Times New Roman\" SIZE=-1><BR></FONT></TD>","<TD NOWRAP ALIGN=CENTER><FONT FACE=\"Times New Roman\" SIZE=-1>$0.00</FONT></TD>","<TD NOWRAP ALIGN=CENTER><FONT FACE=\"Times New Roman\" SIZE=-1>$0.00</FONT></TD>","<TD NOWRAP ALIGN=CENTER><FONT FACE=\"Times New Roman\" SIZE=-1>0.0000</FONT></TD>","<TD NOWRAP ALIGN=CENTER><FONT FACE=\"Times New Roman\" SIZE=-1>$0.00</FONT></TD>","</TR>"]
["Cambridge CSD",{"$f":"'2017 Base Data'!F90","v":0},{"$f":"'2017 Base Data'!G90","v":0},null,{"$f":"'2017 Base Data'!I90","v":0},null,null,{"$f":"'2017 Base Data'!J90","v":0},null,null,{"$f":"'2017 Base Data'!K90","v":0},{"$f":"'2017 Base Data'!R90","v":0},null,null,{"$f":"ROUND(IF(S90<>0,R90*D90+S90*SUM(B90:C90)+T90*E90,R90*SUM(B90:D90)+T90*E90),2)","v":0},{"$f":"L90-O90","v":0},null,{"$f":"'2017 Base Data'!K90","v":0},{"$f":"'2017 Base Data'!L90","v":0},{"$f":"'2017 Base Data'!M90","v":0},{"$f":"\"E\"&U89&\":\"&\"E\"&V89","v":"E90:E91"},{"$f":"\"H\"&U89&\":\"&\"H\"&V89","v":"H90:H91"},{"$f":"\"L\"&U89&\":\"&\"L\"&V89","v":"L90:L91"},null,"<TR VALIGN=BOTTOM>",{"$f":"\"<TD NOWRAP ALIGN=LEFT><FONT FACE=\"\"Times New Roman\"\" SIZE=-1 COLOR=#00AA00\"\">\"&A90&\"</FONT></TD>\"","v":"<TD NOWRAP ALIGN=LEFT><FONT FACE=\"Times New Roman\" SIZE=-1 COLOR=#00AA00\">Cambridge CSD</FONT></TD>"},"<TD NOWRAP ALIGN=RIGHT><FONT FACE=\"Times New Roman\" SIZE=-1>$0.00</FONT></TD>","<TD NOWRAP ALIGN=RIGHT><FONT FACE=\"Times New Roman\" SIZE=-1>$0.00</FONT></TD>","<TD NOWRAP ALIGN=RIGHT><FONT FACE=\"Times New Roman\" SIZE=-1><BR></FONT></TD>","<TD NOWRAP ALIGN=CENTER><FONT FACE=\"Times New Roman\" SIZE=-1>$0.00</FONT></TD>","<TD NOWRAP ALIGN=CENTER><FONT FACE=\"Times New Roman\" SIZE=-1>$0.00</FONT></TD>","<TD NOWRAP ALIGN=CENTER><FONT FACE=\"Times New Roman\" SIZE=-1>0.0000</FONT></TD>","<TD NOWRAP ALIGN=CENTER><FONT FACE=\"Times New Roman\" SIZE=-1>$0.00</FONT></TD>","</TR>"]
["Hoosick Falls CSD",{"$f":"'2017 Base Data'!F91","v":0},{"$f":"'2017 Base Data'!G91","v":0},null,{"$f":"'2017 Base Data'!I91","v":0},null,null,{"$f":"'2017 Base Data'!J91","v":0},null,null,{"$f":"'2017 Base Data'!K91","v":0},{"$f":"'2017 Base Data'!R91","v":0},null,null,{"$f":"ROUND(IF(S91<>0,R91*D91+S91*SUM(B91:C91)+T91*E91,R91*SUM(B91:D91)+T91*E91),2)","v":0},{"$f":"L91-O91","v":0},null,{"$f":"'2017 Base Data'!K91","v":0},{"$f":"'2017 Base Data'!L91","v":0},{"$f":"'2017 Base Data'!M91","v":0},null,null,null,null,"<TR VALIGN=BOTTOM>",{"$f":"\"<TD NOWRAP ALIGN=LEFT><FONT FACE=\"\"Times New Roman\"\" SIZE=-1 COLOR=#00AA00\"\">\"&A91&\"</FONT></TD>\"","v":"<TD NOWRAP ALIGN=LEFT><FONT FACE=\"Times New Roman\" SIZE=-1 COLOR=#00AA00\">Hoosick Falls CSD</FONT></TD>"},"<TD NOWRAP ALIGN=RIGHT><FONT FACE=\"Times New Roman\" SIZE=-1>$0.00</FONT></TD>","<TD NOWRAP ALIGN=RIGHT><FONT FACE=\"Times New Roman\" SIZE=-1>$0.00</FONT></TD>","<TD NOWRAP ALIGN=RIGHT><FONT FACE=\"Times New Roman\" SIZE=-1><BR></FONT></TD>","<TD NOWRAP ALIGN=CENTER><FONT FACE=\"Times New Roman\" SIZE=-1>$0.00</FONT></TD>","<TD NOWRAP ALIGN=CENTER><FONT FACE=\"Times New Roman\" SIZE=-1>$0.00</FONT></TD>","<TD NOWRAP ALIGN=CENTER><FONT FACE=\"Times New Roman\" SIZE=-1>0.0000</FONT></TD>","<TD NOWRAP ALIGN=CENTER><FONT FACE=\"Times New Roman\" SIZE=-1>$0.00</FONT></TD>","</TR>"]
["Village of Hoosick Falls",{"$f":"B93","v":0},{"$f":"C93","v":0},{"$f":"D93","v":0},{"$f":"MIN(INDIRECT(U93))","v":0},{"$f":"IF(G92<>0,\"to\",\"\")","v":""},{"$f":"IF(U92<>V92,MAX(INDIRECT(U93)),0)","v":0},{"$f":"MIN(INDIRECT(V93))","v":0},{"$f":"IF(J92<>0,\"to\",\"\")","v":""},{"$f":"IF(U92<>V92,MAX(INDIRECT(V93)),0)","v":0},{"$f":"K93","v":0},{"$f":"MIN(INDIRECT(W93))","v":0},{"$f":"IF(N92<>0,\"to\",\"\")","v":""},{"$f":"IF(U92<>V92,MAX(INDIRECT(W93)),0)","v":0},null,null,null,null,null,null,{"$f":"CELL(\"row\",P93)","v":93},{"$f":"CELL(\"row\",P93)","v":93},null,null,"<TR VALIGN=BOTTOM BGCOLOR=\"#FFFFCC\">",{"$f":"\"<TH NOWRAP ALIGN=LEFT><FONT FACE=\"\"Times New Roman\"\" SIZE=-1 COLOR=\"\"#0000CC\"\">\"&A92&\"</FONT></TH>\"","v":"<TH NOWRAP ALIGN=LEFT><FONT FACE=\"Times New Roman\" SIZE=-1 COLOR=\"#0000CC\">Village of Hoosick Falls</FONT></TH>"},"<TD NOWRAP ALIGN=RIGHT><FONT FACE=\"Times New Roman\" SIZE=-1>$0.00</FONT></TD>","<TD NOWRAP ALIGN=RIGHT><FONT FACE=\"Times New Roman\" SIZE=-1>$0.00</FONT></TD>","<TD NOWRAP ALIGN=RIGHT><FONT FACE=\"Times New Roman\" SIZE=-1>$0.00</FONT></TD>","<TD NOWRAP ALIGN=CENTER><FONT FACE=\"Times New Roman\" SIZE=-1>$0.00</FONT></TD>","<TD NOWRAP ALIGN=CENTER><FONT FACE=\"Times New Roman\" SIZE=-1>$0.00</FONT></TD>","<TD NOWRAP ALIGN=CENTER><FONT FACE=\"Times New Roman\" SIZE=-1>0.0000</FONT></TD>","<TD NOWRAP ALIGN=CENTER><FONT FACE=\"Times New Roman\" SIZE=-1>$0.00</FONT></TD>","</TR>"]
["Hoosick Falls CSD",{"$f":"'2017 Base Data'!F93","v":0},{"$f":"'2017 Base Data'!G93","v":0},{"$f":"'2017 Base Data'!H93","v":0},{"$f":"'2017 Base Data'!I93","v":0},null,null,{"$f":"'2017 Base Data'!J93","v":0},null,null,{"$f":"'2017 Base Data'!K93","v":0},{"$f":"'2017 Base Data'!R93","v":0},null,null,{"$f":"ROUND(IF(S93<>0,R93*D93+S93*SUM(B93:C93)+T93*E93,R93*SUM(B93:D93)+T93*E93),2)","v":0},{"$f":"L93-O93","v":0},null,{"$f":"'2017 Base Data'!K93","v":0},{"$f":"'2017 Base Data'!L93","v":0},{"$f":"'2017 Base Data'!M93","v":0},{"$f":"\"E\"&U92&\":\"&\"E\"&V92","v":"E93:E93"},{"$f":"\"H\"&U92&\":\"&\"H\"&V92","v":"H93:H93"},{"$f":"\"L\"&U92&\":\"&\"L\"&V92","v":"L93:L93"},null,"<TR VALIGN=BOTTOM>",{"$f":"\"<TD NOWRAP ALIGN=LEFT><FONT FACE=\"\"Times New Roman\"\" SIZE=-1 COLOR=#00AA00\"\">\"&A93&\"</FONT></TD>\"","v":"<TD NOWRAP ALIGN=LEFT><FONT FACE=\"Times New Roman\" SIZE=-1 COLOR=#00AA00\">Hoosick Falls CSD</FONT></TD>"},"<TD NOWRAP ALIGN=RIGHT><FONT FACE=\"Times New Roman\" SIZE=-1>$0.00</FONT></TD>","<TD NOWRAP ALIGN=RIGHT><FONT FACE=\"Times New Roman\" SIZE=-1>$0.00</FONT></TD>","<TD NOWRAP ALIGN=RIGHT><FONT FACE=\"Times New Roman\" SIZE=-1>$0.00</FONT></TD>","<TD NOWRAP ALIGN=CENTER><FONT FACE=\"Times New Roman\" SIZE=-1>$0.00</FONT></TD>","<TD NOWRAP ALIGN=CENTER><FONT FACE=\"Times New Roman\" SIZE=-1>$0.00</FONT></TD>","<TD NOWRAP ALIGN=CENTER><FONT FACE=\"Times New Roman\" SIZE=-1>0.0000</FONT></TD>","<TD NOWRAP ALIGN=CENTER><FONT FACE=\"Times New Roman\" SIZE=-1>$0.00</FONT></TD>","</TR>"]
["Town of Nassau",{"$f":"B95","v":0},{"$f":"C95","v":0},null,{"$f":"MIN(INDIRECT(U95))","v":0},{"$f":"IF(G94<>0,\"to\",\"\")","v":""},{"$f":"IF(U94<>V94,MAX(INDIRECT(U95)),0)","v":0},{"$f":"MIN(INDIRECT(V95))","v":0},{"$f":"IF(J94<>0,\"to\",\"\")","v":""},{"$f":"IF(U94<>V94,MAX(INDIRECT(V95)),0)","v":0},{"$f":"K95","v":0},{"$f":"MIN(INDIRECT(W95))","v":0},{"$f":"IF(N94<>0,\"to\",\"\")","v":""},{"$f":"IF(U94<>V94,MAX(INDIRECT(W95)),0)","v":0},null,null,null,null,null,null,{"$f":"CELL(\"row\",P95)","v":95},{"$f":"CELL(\"row\",P98)","v":98},null,null,"<TR VALIGN=BOTTOM BGCOLOR=\"#FFFFCC\">",{"$f":"\"<TH NOWRAP ALIGN=LEFT><FONT FACE=\"\"Times New Roman\"\" SIZE=-1>\"&A94&\"</FONT></TH>\"","v":"<TH NOWRAP ALIGN=LEFT><FONT FACE=\"Times New Roman\" SIZE=-1>Town of Nassau</FONT></TH>"},"<TD NOWRAP ALIGN=RIGHT><FONT FACE=\"Times New Roman\" SIZE=-1>$0.00</FONT></TD>","<TD NOWRAP ALIGN=RIGHT><FONT FACE=\"Times New Roman\" SIZE=-1>$0.00</FONT></TD>","<TD NOWRAP ALIGN=RIGHT><FONT FACE=\"Times New Roman\" SIZE=-1><BR></FONT></TD>","<TD NOWRAP ALIGN=CENTER><FONT FACE=\"Times New Roman\" SIZE=-1>$0.00</FONT></TD>","<TD NOWRAP ALIGN=CENTER><FONT FACE=\"Times New Roman\" SIZE=-1>$0.00</FONT></TD>","<TD NOWRAP ALIGN=CENTER><FONT FACE=\"Times New Roman\" SIZE=-1>0.0000</FONT></TD>","<TD NOWRAP ALIGN=CENTER><FONT FACE=\"Times New Roman\" SIZE=-1>$0.00</FONT></TD>","</TR>"]
["Averill Park CSD",{"$f":"'2017 Base Data'!F95","v":0},{"$f":"'2017 Base Data'!G95","v":0},null,{"$f":"'2017 Base Data'!I95","v":0},null,null,{"$f":"'2017 Base Data'!J95","v":0},null,null,{"$f":"'2017 Base Data'!K95","v":0},{"$f":"'2017 Base Data'!R95","v":0},null,null,{"$f":"ROUND(IF(S95<>0,R95*D95+S95*SUM(B95:C95)+T95*E95,R95*SUM(B95:D95)+T95*E95),2)","v":0},{"$f":"L95-O95","v":0},null,{"$f":"'2017 Base Data'!K95","v":0},{"$f":"'2017 Base Data'!L95","v":0},{"$f":"'2017 Base Data'!M95","v":0},{"$f":"\"E\"&U94&\":\"&\"E\"&V94","v":"E95:E98"},{"$f":"\"H\"&U94&\":\"&\"H\"&V94","v":"H95:H98"},{"$f":"\"L\"&U94&\":\"&\"L\"&V94","v":"L95:L98"},null,"<TR VALIGN=BOTTOM>",{"$f":"\"<TD NOWRAP ALIGN=LEFT><FONT FACE=\"\"Times New Roman\"\" SIZE=-1 COLOR=#00AA00\"\">\"&A95&\"</FONT></TD>\"","v":"<TD NOWRAP ALIGN=LEFT><FONT FACE=\"Times New Roman\" SIZE=-1 COLOR=#00AA00\">Averill Park CSD</FONT></TD>"},"<TD NOWRAP ALIGN=RIGHT><FONT FACE=\"Times New Roman\" SIZE=-1>$0.00</FONT></TD>","<TD NOWRAP ALIGN=RIGHT><FONT FACE=\"Times New Roman\" SIZE=-1>$0.00</FONT></TD>","<TD NOWRAP ALIGN=RIGHT><FONT FACE=\"Times New Roman\" SIZE=-1><BR></FONT></TD>","<TD NOWRAP ALIGN=CENTER><FONT FACE=\"Times New Roman\" SIZE=-1>$0.00</FONT></TD>","<TD NOWRAP ALIGN=CENTER><FONT FACE=\"Times New Roman\" SIZE=-1>$0.00</FONT></TD>","<TD NOWRAP ALIGN=CENTER><FONT FACE=\"Times New Roman\" SIZE=-1>0.0000</FONT></TD>","<TD NOWRAP ALIGN=CENTER><FONT FACE=\"Times New Roman\" SIZE=-1>$0.00</FONT></TD>","</TR>"]
["East Greenbush CSD",{"$f":"'2017 Base Data'!F96","v":0},{"$f":"'2017 Base Data'!G96","v":0},null,{"$f":"'2017 Base Data'!I96","v":0},null,null,{"$f":"'2017 Base Data'!J96","v":0},null,null,{"$f":"'2017 Base Data'!K96","v":0},{"$f":"'2017 Base Data'!R96","v":0},null,null,{"$f":"ROUND(IF(S96<>0,R96*D96+S96*SUM(B96:C96)+T96*E96,R96*SUM(B96:D96)+T96*E96),2)","v":0},{"$f":"L96-O96","v":0},null,{"$f":"'2017 Base Data'!K96","v":0},{"$f":"'2017 Base Data'!L96","v":0},{"$f":"'2017 Base Data'!M96","v":0},null,null,null,null,"<TR VALIGN=BOTTOM>",{"$f":"\"<TD NOWRAP ALIGN=LEFT><FONT FACE=\"\"Times New Roman\"\" SIZE=-1 COLOR=#00AA00\"\">\"&A96&\"</FONT></TD>\"","v":"<TD NOWRAP ALIGN=LEFT><FONT FACE=\"Times New Roman\" SIZE=-1 COLOR=#00AA00\">East Greenbush CSD</FONT></TD>"},"<TD NOWRAP ALIGN=RIGHT><FONT FACE=\"Times New Roman\" SIZE=-1>$0.00</FONT></TD>","<TD NOWRAP ALIGN=RIGHT><FONT FACE=\"Times New Roman\" SIZE=-1>$0.00</FONT></TD>","<TD NOWRAP ALIGN=RIGHT><FONT FACE=\"Times New Roman\" SIZE=-1><BR></FONT></TD>","<TD NOWRAP ALIGN=CENTER><FONT FACE=\"Times New Roman\" SIZE=-1>$0.00</FONT></TD>","<TD NOWRAP ALIGN=CENTER><FONT FACE=\"Times New Roman\" SIZE=-1>$0.00</FONT></TD>","<TD NOWRAP ALIGN=CENTER><FONT FACE=\"Times New Roman\" SIZE=-1>0.0000</FONT></TD>","<TD NOWRAP ALIGN=CENTER><FONT FACE=\"Times New Roman\" SIZE=-1>$0.00</FONT></TD>","</TR>"]
["Kinderhook CSD",{"$f":"'2017 Base Data'!F97","v":0},{"$f":"'2017 Base Data'!G97","v":0},null,{"$f":"'2017 Base Data'!I97","v":0},null,null,{"$f":"'2017 Base Data'!J97","v":0},null,null,{"$f":"'2017 Base Data'!K97","v":0},{"$f":"'2017 Base Data'!R97","v":0},null,null,{"$f":"ROUND(IF(S97<>0,R97*D97+S97*SUM(B97:C97)+T97*E97,R97*SUM(B97:D97)+T97*E97),2)","v":0},{"$f":"L97-O97","v":0},null,{"$f":"'2017 Base Data'!K97","v":0},{"$f":"'2017 Base Data'!L97","v":0},{"$f":"'2017 Base Data'!M97","v":0},null,null,null,null,"<TR VALIGN=BOTTOM>",{"$f":"\"<TD NOWRAP ALIGN=LEFT><FONT FACE=\"\"Times New Roman\"\" SIZE=-1 COLOR=#00AA00\"\">\"&A97&\"</FONT></TD>\"","v":"<TD NOWRAP ALIGN=LEFT><FONT FACE=\"Times New Roman\" SIZE=-1 COLOR=#00AA00\">Kinderhook CSD</FONT></TD>"},"<TD NOWRAP ALIGN=RIGHT><FONT FACE=\"Times New Roman\" SIZE=-1>$0.00</FONT></TD>","<TD NOWRAP ALIGN=RIGHT><FONT FACE=\"Times New Roman\" SIZE=-1>$0.00</FONT></TD>","<TD NOWRAP ALIGN=RIGHT><FONT FACE=\"Times New Roman\" SIZE=-1><BR></FONT></TD>","<TD NOWRAP ALIGN=CENTER><FONT FACE=\"Times New Roman\" SIZE=-1>$0.00</FONT></TD>","<TD NOWRAP ALIGN=CENTER><FONT FACE=\"Times New Roman\" SIZE=-1>$0.00</FONT></TD>","<TD NOWRAP ALIGN=CENTER><FONT FACE=\"Times New Roman\" SIZE=-1>0.0000</FONT></TD>","<TD NOWRAP ALIGN=CENTER><FONT FACE=\"Times New Roman\" SIZE=-1>$0.00</FONT></TD>","</TR>"]
["New Lebanon CSD",{"$f":"'2017 Base Data'!F98","v":0},{"$f":"'2017 Base Data'!G98","v":0},null,{"$f":"'2017 Base Data'!I98","v":0},null,null,{"$f":"'2017 Base Data'!J98","v":0},null,null,{"$f":"'2017 Base Data'!K98","v":0},{"$f":"'2017 Base Data'!R98","v":0},null,null,{"$f":"ROUND(IF(S98<>0,R98*D98+S98*SUM(B98:C98)+T98*E98,R98*SUM(B98:D98)+T98*E98),2)","v":0},{"$f":"L98-O98","v":0},null,{"$f":"'2017 Base Data'!K98","v":0},{"$f":"'2017 Base Data'!L98","v":0},{"$f":"'2017 Base Data'!M98","v":0},null,null,null,null,"<TR VALIGN=BOTTOM>",{"$f":"\"<TD NOWRAP ALIGN=LEFT><FONT FACE=\"\"Times New Roman\"\" SIZE=-1 COLOR=#00AA00\"\">\"&A98&\"</FONT></TD>\"","v":"<TD NOWRAP ALIGN=LEFT><FONT FACE=\"Times New Roman\" SIZE=-1 COLOR=#00AA00\">New Lebanon CSD</FONT></TD>"},"<TD NOWRAP ALIGN=RIGHT><FONT FACE=\"Times New Roman\" SIZE=-1>$0.00</FONT></TD>","<TD NOWRAP ALIGN=RIGHT><FONT FACE=\"Times New Roman\" SIZE=-1>$0.00</FONT></TD>","<TD NOWRAP ALIGN=RIGHT><FONT FACE=\"Times New Roman\" SIZE=-1><BR></FONT></TD>","<TD NOWRAP ALIGN=CENTER><FONT FACE=\"Times New Roman\" SIZE=-1>$0.00</FONT></TD>","<TD NOWRAP ALIGN=CENTER><FONT FACE=\"Times New Roman\" SIZE=-1>$0.00</FONT></TD>","<TD NOWRAP ALIGN=CENTER><FONT FACE=\"Times New Roman\" SIZE=-1>0.0000</FONT></TD>","<TD NOWRAP ALIGN=CENTER><FONT FACE=\"Times New Roman\" SIZE=-1>$0.00</FONT></TD>","</TR>"]
["Village of East Nassau",{"$f":"B100","v":0},{"$f":"C100","v":0},{"$f":"D100","v":0},{"$f":"MIN(INDIRECT(U100))","v":0},{"$f":"IF(G99<>0,\"to\",\"\")","v":""},{"$f":"IF(U99<>V99,MAX(INDIRECT(U100)),0)","v":0},{"$f":"MIN(INDIRECT(V100))","v":0},{"$f":"IF(J99<>0,\"to\",\"\")","v":""},{"$f":"IF(U99<>V99,MAX(INDIRECT(V100)),0)","v":0},{"$f":"K100","v":0},{"$f":"MIN(INDIRECT(W100))","v":0},{"$f":"IF(N99<>0,\"to\",\"\")","v":""},{"$f":"IF(U99<>V99,MAX(INDIRECT(W100)),0)","v":0},null,null,null,null,null,null,{"$f":"CELL(\"row\",P100)","v":100},{"$f":"CELL(\"row\",P102)","v":102},null,null,"<TR VALIGN=BOTTOM BGCOLOR=\"#FFFFCC\">",{"$f":"\"<TH NOWRAP ALIGN=LEFT><FONT FACE=\"\"Times New Roman\"\" SIZE=-1 COLOR=\"\"#0000CC\"\">\"&A99&\"</FONT></TH>\"","v":"<TH NOWRAP ALIGN=LEFT><FONT FACE=\"Times New Roman\" SIZE=-1 COLOR=\"#0000CC\">Village of East Nassau</FONT></TH>"},"<TD NOWRAP ALIGN=RIGHT><FONT FACE=\"Times New Roman\" SIZE=-1>$0.00</FONT></TD>","<TD NOWRAP ALIGN=RIGHT><FONT FACE=\"Times New Roman\" SIZE=-1>$0.00</FONT></TD>","<TD NOWRAP ALIGN=RIGHT><FONT FACE=\"Times New Roman\" SIZE=-1>$0.00</FONT></TD>","<TD NOWRAP ALIGN=CENTER><FONT FACE=\"Times New Roman\" SIZE=-1>$0.00</FONT></TD>","<TD NOWRAP ALIGN=CENTER><FONT FACE=\"Times New Roman\" SIZE=-1>$0.00</FONT></TD>","<TD NOWRAP ALIGN=CENTER><FONT FACE=\"Times New Roman\" SIZE=-1>0.0000</FONT></TD>","<TD NOWRAP ALIGN=CENTER><FONT FACE=\"Times New Roman\" SIZE=-1>$0.00</FONT></TD>","</TR>"]
["Averill Park CSD",{"$f":"'2017 Base Data'!F100","v":0},{"$f":"'2017 Base Data'!G100","v":0},{"$f":"'2017 Base Data'!H100","v":0},{"$f":"'2017 Base Data'!I100","v":0},null,null,{"$f":"'2017 Base Data'!J100","v":0},null,null,{"$f":"'2017 Base Data'!K100","v":0},{"$f":"'2017 Base Data'!R100","v":0},null,null,{"$f":"ROUND(IF(S100<>0,R100*D100+S100*SUM(B100:C100)+T100*E100,R100*SUM(B100:D100)+T100*E100),2)","v":0},{"$f":"L100-O100","v":0},null,{"$f":"'2017 Base Data'!K100","v":0},{"$f":"'2017 Base Data'!L100","v":0},{"$f":"'2017 Base Data'!M100","v":0},{"$f":"\"E\"&U99&\":\"&\"E\"&V99","v":"E100:E102"},{"$f":"\"H\"&U99&\":\"&\"H\"&V99","v":"H100:H102"},{"$f":"\"L\"&U99&\":\"&\"L\"&V99","v":"L100:L102"},null,"<TR VALIGN=BOTTOM>",{"$f":"\"<TD NOWRAP ALIGN=LEFT><FONT FACE=\"\"Times New Roman\"\" SIZE=-1 COLOR=#00AA00\"\">\"&A100&\"</FONT></TD>\"","v":"<TD NOWRAP ALIGN=LEFT><FONT FACE=\"Times New Roman\" SIZE=-1 COLOR=#00AA00\">Averill Park CSD</FONT></TD>"},"<TD NOWRAP ALIGN=RIGHT><FONT FACE=\"Times New Roman\" SIZE=-1>$0.00</FONT></TD>","<TD NOWRAP ALIGN=RIGHT><FONT FACE=\"Times New Roman\" SIZE=-1>$0.00</FONT></TD>","<TD NOWRAP ALIGN=RIGHT><FONT FACE=\"Times New Roman\" SIZE=-1>$0.00</FONT></TD>","<TD NOWRAP ALIGN=CENTER><FONT FACE=\"Times New Roman\" SIZE=-1>$0.00</FONT></TD>","<TD NOWRAP ALIGN=CENTER><FONT FACE=\"Times New Roman\" SIZE=-1>$0.00</FONT></TD>","<TD NOWRAP ALIGN=CENTER><FONT FACE=\"Times New Roman\" SIZE=-1>0.0000</FONT></TD>","<TD NOWRAP ALIGN=CENTER><FONT FACE=\"Times New Roman\" SIZE=-1>$0.00</FONT></TD>","</TR>"]
["East Greenbush CSD",{"$f":"'2017 Base Data'!F101","v":0},{"$f":"'2017 Base Data'!G101","v":0},{"$f":"'2017 Base Data'!H101","v":0},{"$f":"'2017 Base Data'!I101","v":0},null,null,{"$f":"'2017 Base Data'!J101","v":0},null,null,{"$f":"'2017 Base Data'!K101","v":0},{"$f":"'2017 Base Data'!R101","v":0},null,null,{"$f":"ROUND(IF(S101<>0,R101*D101+S101*SUM(B101:C101)+T101*E101,R101*SUM(B101:D101)+T101*E101),2)","v":0},{"$f":"L101-O101","v":0},null,{"$f":"'2017 Base Data'!K101","v":0},{"$f":"'2017 Base Data'!L101","v":0},{"$f":"'2017 Base Data'!M101","v":0},null,null,null,null,"<TR VALIGN=BOTTOM>",{"$f":"\"<TD NOWRAP ALIGN=LEFT><FONT FACE=\"\"Times New Roman\"\" SIZE=-1 COLOR=#00AA00\"\">\"&A101&\"</FONT></TD>\"","v":"<TD NOWRAP ALIGN=LEFT><FONT FACE=\"Times New Roman\" SIZE=-1 COLOR=#00AA00\">East Greenbush CSD</FONT></TD>"},"<TD NOWRAP ALIGN=RIGHT><FONT FACE=\"Times New Roman\" SIZE=-1>$0.00</FONT></TD>","<TD NOWRAP ALIGN=RIGHT><FONT FACE=\"Times New Roman\" SIZE=-1>$0.00</FONT></TD>","<TD NOWRAP ALIGN=RIGHT><FONT FACE=\"Times New Roman\" SIZE=-1>$0.00</FONT></TD>","<TD NOWRAP ALIGN=CENTER><FONT FACE=\"Times New Roman\" SIZE=-1>$0.00</FONT></TD>","<TD NOWRAP ALIGN=CENTER><FONT FACE=\"Times New Roman\" SIZE=-1>$0.00</FONT></TD>","<TD NOWRAP ALIGN=CENTER><FONT FACE=\"Times New Roman\" SIZE=-1>0.0000</FONT></TD>","<TD NOWRAP ALIGN=CENTER><FONT FACE=\"Times New Roman\" SIZE=-1>$0.00</FONT></TD>","</TR>"]
["New Lebanon CSD",{"$f":"'2017 Base Data'!F102","v":0},{"$f":"'2017 Base Data'!G102","v":0},{"$f":"'2017 Base Data'!H102","v":0},{"$f":"'2017 Base Data'!I102","v":0},null,null,{"$f":"'2017 Base Data'!J102","v":0},null,null,{"$f":"'2017 Base Data'!K102","v":0},{"$f":"'2017 Base Data'!R102","v":0},null,null,{"$f":"ROUND(IF(S102<>0,R102*D102+S102*SUM(B102:C102)+T102*E102,R102*SUM(B102:D102)+T102*E102),2)","v":0},{"$f":"L102-O102","v":0},null,{"$f":"'2017 Base Data'!K102","v":0},{"$f":"'2017 Base Data'!L102","v":0},{"$f":"'2017 Base Data'!M102","v":0},null,null,null,null,"<TR VALIGN=BOTTOM>",{"$f":"\"<TD NOWRAP ALIGN=LEFT><FONT FACE=\"\"Times New Roman\"\" SIZE=-1 COLOR=#00AA00\"\">\"&A102&\"</FONT></TD>\"","v":"<TD NOWRAP ALIGN=LEFT><FONT FACE=\"Times New Roman\" SIZE=-1 COLOR=#00AA00\">New Lebanon CSD</FONT></TD>"},{"$f":"\"<TD NOWRAP ALIGN=RIGHT><FONT FACE=\"\"Times New Roman\"\" SIZE=-1>\"&IF(B102=\"\",\"<BR>\",TEXT(B102,\"$#,##0.00\"))&\"</FONT></TD>\"","v":"<TD NOWRAP ALIGN=RIGHT><FONT FACE=\"Times New Roman\" SIZE=-1>$0.00</FONT></TD>"},"<TD NOWRAP ALIGN=RIGHT><FONT FACE=\"Times New Roman\" SIZE=-1>$0.00</FONT></TD>","<TD NOWRAP ALIGN=RIGHT><FONT FACE=\"Times New Roman\" SIZE=-1>$0.00</FONT></TD>",{"$f":"\"<TD NOWRAP ALIGN=CENTER><FONT FACE=\"\"Times New Roman\"\" SIZE=-1>\"&TEXT(E102,\"$#,##0.00\")&IF(F102=\"\",\"\",\" to \")&IF(G102<=0,\"\",TEXT(G102,\"$#,##0.00\"))&\"</FONT></TD>\"","v":"<TD NOWRAP ALIGN=CENTER><FONT FACE=\"Times New Roman\" SIZE=-1>$0.00</FONT></TD>"},{"$f":"\"<TD NOWRAP ALIGN=CENTER><FONT FACE=\"\"Times New Roman\"\" SIZE=-1>\"&TEXT(H102,\"$#,##0.00\")&IF(I102=\"\",\"\",\" to \")&IF(J102<=0,\"\",TEXT(J102,\"$#,##0.00\"))&\"</FONT></TD>\"","v":"<TD NOWRAP ALIGN=CENTER><FONT FACE=\"Times New Roman\" SIZE=-1>$0.00</FONT></TD>"},{"$f":"\"<TD NOWRAP ALIGN=CENTER><FONT FACE=\"\"Times New Roman\"\" SIZE=-1>\"&IF(K102=\"\",\"<BR>\",TEXT(K102,\"0.0000\"))&\"</FONT></TD>\"","v":"<TD NOWRAP ALIGN=CENTER><FONT FACE=\"Times New Roman\" SIZE=-1>0.0000</FONT></TD>"},{"$f":"\"<TD NOWRAP ALIGN=CENTER><FONT FACE=\"\"Times New Roman\"\" SIZE=-1>\"&TEXT(L102,\"$#,##0.00\")&IF(M102=\"\",\"\",\" to \")&IF(N102<=0,\"\",TEXT(N102,\"$#,##0.00\"))&\"</FONT></TD>\"","v":"<TD NOWRAP ALIGN=CENTER><FONT FACE=\"Times New Roman\" SIZE=-1>$0.00</FONT></TD>"},"</TR>"]
["Village of Nassau (part)",{"$f":"B104","v":0},{"$f":"C104","v":0},{"$f":"D104","v":0},{"$f":"MIN(INDIRECT(U104))","v":0},{"$f":"IF(G103<>0,\"to\",\"\")","v":""},{"$f":"IF(U103<>V103,MAX(INDIRECT(U104)),0)","v":0},{"$f":"MIN(INDIRECT(V104))","v":0},{"$f":"IF(J103<>0,\"to\",\"\")","v":""},{"$f":"IF(U103<>V103,MAX(INDIRECT(V104)),0)","v":0},{"$f":"K104","v":0},{"$f":"MIN(INDIRECT(W104))","v":0},{"$f":"IF(N103<>0,\"to\",\"\")","v":""},{"$f":"IF(U103<>V103,MAX(INDIRECT(W104)),0)","v":0},null,null,null,null,null,null,{"$f":"CELL(\"row\",P104)","v":104},{"$f":"CELL(\"row\",P104)","v":104},null,null,"<TR VALIGN=BOTTOM BGCOLOR=\"#FFFFCC\">",{"$f":"\"<TH NOWRAP ALIGN=LEFT><FONT FACE=\"\"Times New Roman\"\" SIZE=-1 COLOR=\"\"#808000\"\">\"&A103&\"</FONT></TH>\"","v":"<TH NOWRAP ALIGN=LEFT><FONT FACE=\"Times New Roman\" SIZE=-1 COLOR=\"#808000\">Village of Nassau (part)</FONT></TH>"},"<TD NOWRAP ALIGN=RIGHT><FONT FACE=\"Times New Roman\" SIZE=-1>$0.00</FONT></TD>","<TD NOWRAP ALIGN=RIGHT><FONT FACE=\"Times New Roman\" SIZE=-1>$0.00</FONT></TD>","<TD NOWRAP ALIGN=RIGHT><FONT FACE=\"Times New Roman\" SIZE=-1>$0.00</FONT></TD>","<TD NOWRAP ALIGN=CENTER><FONT FACE=\"Times New Roman\" SIZE=-1>$0.00</FONT></TD>","<TD NOWRAP ALIGN=CENTER><FONT FACE=\"Times New Roman\" SIZE=-1>$0.00</FONT></TD>","<TD NOWRAP ALIGN=CENTER><FONT FACE=\"Times New Roman\" SIZE=-1>0.0000</FONT></TD>","<TD NOWRAP ALIGN=CENTER><FONT FACE=\"Times New Roman\" SIZE=-1>$0.00</FONT></TD>","</TR>"]
["East Greenbush CSD",{"$f":"'2017 Base Data'!F104","v":0},{"$f":"'2017 Base Data'!G104","v":0},{"$f":"'2017 Base Data'!H104","v":0},{"$f":"'2017 Base Data'!I104","v":0},null,null,{"$f":"'2017 Base Data'!J104","v":0},null,null,{"$f":"'2017 Base Data'!K104","v":0},{"$f":"'2017 Base Data'!R104","v":0},null,null,{"$f":"ROUND(IF(S104<>0,R104*D104+S104*SUM(B104:C104)+T104*E104,R104*SUM(B104:D104)+T104*E104),2)","v":0},{"$f":"L104-O104","v":0},null,{"$f":"'2017 Base Data'!K104","v":0},{"$f":"'2017 Base Data'!L104","v":0},{"$f":"'2017 Base Data'!M104","v":0},{"$f":"\"E\"&U103&\":\"&\"E\"&V103","v":"E104:E104"},{"$f":"\"H\"&U103&\":\"&\"H\"&V103","v":"H104:H104"},{"$f":"\"L\"&U103&\":\"&\"L\"&V103","v":"L104:L104"},null,"<TR VALIGN=BOTTOM>",{"$f":"\"<TD NOWRAP ALIGN=LEFT><FONT FACE=\"\"Times New Roman\"\" SIZE=-1 COLOR=#00AA00\"\">\"&A104&\"</FONT></TD>\"","v":"<TD NOWRAP ALIGN=LEFT><FONT FACE=\"Times New Roman\" SIZE=-1 COLOR=#00AA00\">East Greenbush CSD</FONT></TD>"},"<TD NOWRAP ALIGN=RIGHT><FONT FACE=\"Times New Roman\" SIZE=-1>$0.00</FONT></TD>","<TD NOWRAP ALIGN=RIGHT><FONT FACE=\"Times New Roman\" SIZE=-1>$0.00</FONT></TD>","<TD NOWRAP ALIGN=RIGHT><FONT FACE=\"Times New Roman\" SIZE=-1>$0.00</FONT></TD>","<TD NOWRAP ALIGN=CENTER><FONT FACE=\"Times New Roman\" SIZE=-1>$0.00</FONT></TD>","<TD NOWRAP ALIGN=CENTER><FONT FACE=\"Times New Roman\" SIZE=-1>$0.00</FONT></TD>","<TD NOWRAP ALIGN=CENTER><FONT FACE=\"Times New Roman\" SIZE=-1>0.0000</FONT></TD>","<TD NOWRAP ALIGN=CENTER><FONT FACE=\"Times New Roman\" SIZE=-1>$0.00</FONT></TD>","</TR>"]
["Town of North Greenbush",{"$f":"B106","v":0},{"$f":"C106","v":0},null,{"$f":"MIN(INDIRECT(U106))","v":0},{"$f":"IF(G105<>0,\"to\",\"\")","v":""},{"$f":"IF(U105<>V105,MAX(INDIRECT(U106)),0)","v":0},{"$f":"MIN(INDIRECT(V106))","v":0},{"$f":"IF(J105<>0,\"to\",\"\")","v":""},{"$f":"IF(U105<>V105,MAX(INDIRECT(V106)),0)","v":0},{"$f":"K106","v":0},{"$f":"MIN(INDIRECT(W106))","v":0},{"$f":"IF(N105<>0,\"to\",\"\")","v":""},{"$f":"IF(U105<>V105,MAX(INDIRECT(W106)),0)","v":0},null,null,null,null,null,null,{"$f":"CELL(\"row\",P106)","v":106},{"$f":"CELL(\"row\",P109)","v":109},null,null,"<TR VALIGN=BOTTOM BGCOLOR=\"#FFFFCC\">",{"$f":"\"<TH NOWRAP ALIGN=LEFT><FONT FACE=\"\"Times New Roman\"\" SIZE=-1>\"&A105&\"</FONT></TH>\"","v":"<TH NOWRAP ALIGN=LEFT><FONT FACE=\"Times New Roman\" SIZE=-1>Town of North Greenbush</FONT></TH>"},"<TD NOWRAP ALIGN=RIGHT><FONT FACE=\"Times New Roman\" SIZE=-1>$0.00</FONT></TD>","<TD NOWRAP ALIGN=RIGHT><FONT FACE=\"Times New Roman\" SIZE=-1>$0.00</FONT></TD>","<TD NOWRAP ALIGN=RIGHT><FONT FACE=\"Times New Roman\" SIZE=-1><BR></FONT></TD>","<TD NOWRAP ALIGN=CENTER><FONT FACE=\"Times New Roman\" SIZE=-1>$0.00</FONT></TD>","<TD NOWRAP ALIGN=CENTER><FONT FACE=\"Times New Roman\" SIZE=-1>$0.00</FONT></TD>","<TD NOWRAP ALIGN=CENTER><FONT FACE=\"Times New Roman\" SIZE=-1>0.0000</FONT></TD>","<TD NOWRAP ALIGN=CENTER><FONT FACE=\"Times New Roman\" SIZE=-1>$0.00</FONT></TD>","</TR>"]
["Averill Park CSD",{"$f":"'2017 Base Data'!F106","v":0},{"$f":"'2017 Base Data'!G106","v":0},null,{"$f":"'2017 Base Data'!I106","v":0},null,null,{"$f":"'2017 Base Data'!J106","v":0},null,null,{"$f":"'2017 Base Data'!K106","v":0},{"$f":"'2017 Base Data'!R106","v":0},null,null,{"$f":"ROUND(IF(S106<>0,R106*D106+S106*SUM(B106:C106)+T106*E106,R106*SUM(B106:D106)+T106*E106),2)","v":0},{"$f":"L106-O106","v":0},null,{"$f":"'2017 Base Data'!K106","v":0},{"$f":"'2017 Base Data'!L106","v":0},{"$f":"'2017 Base Data'!M106","v":0},{"$f":"\"E\"&U105&\":\"&\"E\"&V105","v":"E106:E109"},{"$f":"\"H\"&U105&\":\"&\"H\"&V105","v":"H106:H109"},{"$f":"\"L\"&U105&\":\"&\"L\"&V105","v":"L106:L109"},null,"<TR VALIGN=BOTTOM>",{"$f":"\"<TD NOWRAP ALIGN=LEFT><FONT FACE=\"\"Times New Roman\"\" SIZE=-1 COLOR=#00AA00\"\">\"&A106&\"</FONT></TD>\"","v":"<TD NOWRAP ALIGN=LEFT><FONT FACE=\"Times New Roman\" SIZE=-1 COLOR=#00AA00\">Averill Park CSD</FONT></TD>"},"<TD NOWRAP ALIGN=RIGHT><FONT FACE=\"Times New Roman\" SIZE=-1>$0.00</FONT></TD>","<TD NOWRAP ALIGN=RIGHT><FONT FACE=\"Times New Roman\" SIZE=-1>$0.00</FONT></TD>","<TD NOWRAP ALIGN=RIGHT><FONT FACE=\"Times New Roman\" SIZE=-1><BR></FONT></TD>","<TD NOWRAP ALIGN=CENTER><FONT FACE=\"Times New Roman\" SIZE=-1>$0.00</FONT></TD>","<TD NOWRAP ALIGN=CENTER><FONT FACE=\"Times New Roman\" SIZE=-1>$0.00</FONT></TD>","<TD NOWRAP ALIGN=CENTER><FONT FACE=\"Times New Roman\" SIZE=-1>0.0000</FONT></TD>","<TD NOWRAP ALIGN=CENTER><FONT FACE=\"Times New Roman\" SIZE=-1>$0.00</FONT></TD>","</TR>"]
["East Greenbush CSD",{"$f":"'2017 Base Data'!F107","v":0},{"$f":"'2017 Base Data'!G107","v":0},null,{"$f":"'2017 Base Data'!I107","v":0},null,null,{"$f":"'2017 Base Data'!J107","v":0},null,null,{"$f":"'2017 Base Data'!K107","v":0},{"$f":"'2017 Base Data'!R107","v":0},null,null,{"$f":"ROUND(IF(S107<>0,R107*D107+S107*SUM(B107:C107)+T107*E107,R107*SUM(B107:D107)+T107*E107),2)","v":0},{"$f":"L107-O107","v":0},null,{"$f":"'2017 Base Data'!K107","v":0},{"$f":"'2017 Base Data'!L107","v":0},{"$f":"'2017 Base Data'!M107","v":0},null,null,null,null,"<TR VALIGN=BOTTOM>",{"$f":"\"<TD NOWRAP ALIGN=LEFT><FONT FACE=\"\"Times New Roman\"\" SIZE=-1 COLOR=#00AA00\"\">\"&A107&\"</FONT></TD>\"","v":"<TD NOWRAP ALIGN=LEFT><FONT FACE=\"Times New Roman\" SIZE=-1 COLOR=#00AA00\">East Greenbush CSD</FONT></TD>"},"<TD NOWRAP ALIGN=RIGHT><FONT FACE=\"Times New Roman\" SIZE=-1>$0.00</FONT></TD>","<TD NOWRAP ALIGN=RIGHT><FONT FACE=\"Times New Roman\" SIZE=-1>$0.00</FONT></TD>","<TD NOWRAP ALIGN=RIGHT><FONT FACE=\"Times New Roman\" SIZE=-1><BR></FONT></TD>","<TD NOWRAP ALIGN=CENTER><FONT FACE=\"Times New Roman\" SIZE=-1>$0.00</FONT></TD>","<TD NOWRAP ALIGN=CENTER><FONT FACE=\"Times New Roman\" SIZE=-1>$0.00</FONT></TD>","<TD NOWRAP ALIGN=CENTER><FONT FACE=\"Times New Roman\" SIZE=-1>0.0000</FONT></TD>","<TD NOWRAP ALIGN=CENTER><FONT FACE=\"Times New Roman\" SIZE=-1>$0.00</FONT></TD>","</TR>"]
["North Greenbush Common SD",{"$f":"'2017 Base Data'!F108","v":0},{"$f":"'2017 Base Data'!G108","v":0},null,{"$f":"'2017 Base Data'!I108","v":0},null,null,{"$f":"'2017 Base Data'!J108","v":0},null,null,{"$f":"'2017 Base Data'!K108","v":0},{"$f":"'2017 Base Data'!R108","v":0},null,null,{"$f":"ROUND(IF(S108<>0,R108*D108+S108*SUM(B108:C108)+T108*E108,R108*SUM(B108:D108)+T108*E108),2)","v":0},{"$f":"L108-O108","v":0},null,{"$f":"'2017 Base Data'!K108","v":0},{"$f":"'2017 Base Data'!L108","v":0},{"$f":"'2017 Base Data'!M108","v":0},null,null,null,null,"<TR VALIGN=BOTTOM>",{"$f":"\"<TD NOWRAP ALIGN=LEFT><FONT FACE=\"\"Times New Roman\"\" SIZE=-1 COLOR=#00AA00\"\">\"&A108&\"</FONT></TD>\"","v":"<TD NOWRAP ALIGN=LEFT><FONT FACE=\"Times New Roman\" SIZE=-1 COLOR=#00AA00\">North Greenbush Common SD</FONT></TD>"},"<TD NOWRAP ALIGN=RIGHT><FONT FACE=\"Times New Roman\" SIZE=-1>$0.00</FONT></TD>","<TD NOWRAP ALIGN=RIGHT><FONT FACE=\"Times New Roman\" SIZE=-1>$0.00</FONT></TD>","<TD NOWRAP ALIGN=RIGHT><FONT FACE=\"Times New Roman\" SIZE=-1><BR></FONT></TD>","<TD NOWRAP ALIGN=CENTER><FONT FACE=\"Times New Roman\" SIZE=-1>$0.00</FONT></TD>","<TD NOWRAP ALIGN=CENTER><FONT FACE=\"Times New Roman\" SIZE=-1>$0.00</FONT></TD>","<TD NOWRAP ALIGN=CENTER><FONT FACE=\"Times New Roman\" SIZE=-1>0.0000</FONT></TD>","<TD NOWRAP ALIGN=CENTER><FONT FACE=\"Times New Roman\" SIZE=-1>$0.00</FONT></TD>","</TR>"]
["Wynantskill UFSD",{"$f":"'2017 Base Data'!F109","v":0},{"$f":"'2017 Base Data'!G109","v":0},null,{"$f":"'2017 Base Data'!I109","v":0},null,null,{"$f":"'2017 Base Data'!J109","v":0},null,null,{"$f":"'2017 Base Data'!K109","v":0},{"$f":"'2017 Base Data'!R109","v":0},null,null,{"$f":"ROUND(IF(S109<>0,R109*D109+S109*SUM(B109:C109)+T109*E109,R109*SUM(B109:D109)+T109*E109),2)","v":0},{"$f":"L109-O109","v":0},null,{"$f":"'2017 Base Data'!K109","v":0},{"$f":"'2017 Base Data'!L109","v":0},{"$f":"'2017 Base Data'!M109","v":0},null,null,null,null,"<TR VALIGN=BOTTOM>",{"$f":"\"<TD NOWRAP ALIGN=LEFT><FONT FACE=\"\"Times New Roman\"\" SIZE=-1 COLOR=#00AA00\"\">\"&A109&\"</FONT></TD>\"","v":"<TD NOWRAP ALIGN=LEFT><FONT FACE=\"Times New Roman\" SIZE=-1 COLOR=#00AA00\">Wynantskill UFSD</FONT></TD>"},"<TD NOWRAP ALIGN=RIGHT><FONT FACE=\"Times New Roman\" SIZE=-1>$0.00</FONT></TD>","<TD NOWRAP ALIGN=RIGHT><FONT FACE=\"Times New Roman\" SIZE=-1>$0.00</FONT></TD>","<TD NOWRAP ALIGN=RIGHT><FONT FACE=\"Times New Roman\" SIZE=-1><BR></FONT></TD>","<TD NOWRAP ALIGN=CENTER><FONT FACE=\"Times New Roman\" SIZE=-1>$0.00</FONT></TD>","<TD NOWRAP ALIGN=CENTER><FONT FACE=\"Times New Roman\" SIZE=-1>$0.00</FONT></TD>","<TD NOWRAP ALIGN=CENTER><FONT FACE=\"Times New Roman\" SIZE=-1>0.0000</FONT></TD>","<TD NOWRAP ALIGN=CENTER><FONT FACE=\"Times New Roman\" SIZE=-1>$0.00</FONT></TD>","</TR>"]
["Town of Petersburgh",{"$f":"B111","v":0},{"$f":"C111","v":0},null,{"$f":"MIN(INDIRECT(U111))","v":0},{"$f":"IF(G110<>0,\"to\",\"\")","v":""},{"$f":"IF(U110<>V110,MAX(INDIRECT(U111)),0)","v":0},{"$f":"MIN(INDIRECT(V111))","v":0},{"$f":"IF(J110<>0,\"to\",\"\")","v":""},{"$f":"IF(U110<>V110,MAX(INDIRECT(V111)),0)","v":0},{"$f":"K111","v":0},{"$f":"MIN(INDIRECT(W111))","v":0},{"$f":"IF(N110<>0,\"to\",\"\")","v":""},{"$f":"IF(U110<>V110,MAX(INDIRECT(W111)),0)","v":0},null,null,null,null,null,null,{"$f":"CELL(\"row\",P111)","v":111},{"$f":"CELL(\"row\",P112)","v":112},null,null,"<TR VALIGN=BOTTOM BGCOLOR=\"#FFFFCC\">",{"$f":"\"<TH NOWRAP ALIGN=LEFT><FONT FACE=\"\"Times New Roman\"\" SIZE=-1>\"&A110&\"</FONT></TH>\"","v":"<TH NOWRAP ALIGN=LEFT><FONT FACE=\"Times New Roman\" SIZE=-1>Town of Petersburgh</FONT></TH>"},"<TD NOWRAP ALIGN=RIGHT><FONT FACE=\"Times New Roman\" SIZE=-1>$0.00</FONT></TD>","<TD NOWRAP ALIGN=RIGHT><FONT FACE=\"Times New Roman\" SIZE=-1>$0.00</FONT></TD>","<TD NOWRAP ALIGN=RIGHT><FONT FACE=\"Times New Roman\" SIZE=-1><BR></FONT></TD>","<TD NOWRAP ALIGN=CENTER><FONT FACE=\"Times New Roman\" SIZE=-1>$0.00</FONT></TD>","<TD NOWRAP ALIGN=CENTER><FONT FACE=\"Times New Roman\" SIZE=-1>$0.00</FONT></TD>","<TD NOWRAP ALIGN=CENTER><FONT FACE=\"Times New Roman\" SIZE=-1>0.0000</FONT></TD>","<TD NOWRAP ALIGN=CENTER><FONT FACE=\"Times New Roman\" SIZE=-1>$0.00</FONT></TD>","</TR>"]
["Berlin CSD",{"$f":"'2017 Base Data'!F111","v":0},{"$f":"'2017 Base Data'!G111","v":0},null,{"$f":"'2017 Base Data'!I111","v":0},null,null,{"$f":"'2017 Base Data'!J111","v":0},null,null,{"$f":"'2017 Base Data'!K111","v":0},{"$f":"'2017 Base Data'!R111","v":0},null,null,{"$f":"ROUND(IF(S111<>0,R111*D111+S111*SUM(B111:C111)+T111*E111,R111*SUM(B111:D111)+T111*E111),2)","v":0},{"$f":"L111-O111","v":0},null,{"$f":"'2017 Base Data'!K111","v":0},{"$f":"'2017 Base Data'!L111","v":0},{"$f":"'2017 Base Data'!M111","v":0},{"$f":"\"E\"&U110&\":\"&\"E\"&V110","v":"E111:E112"},{"$f":"\"H\"&U110&\":\"&\"H\"&V110","v":"H111:H112"},{"$f":"\"L\"&U110&\":\"&\"L\"&V110","v":"L111:L112"},null,"<TR VALIGN=BOTTOM>",{"$f":"\"<TD NOWRAP ALIGN=LEFT><FONT FACE=\"\"Times New Roman\"\" SIZE=-1 COLOR=#00AA00\"\">\"&A111&\"</FONT></TD>\"","v":"<TD NOWRAP ALIGN=LEFT><FONT FACE=\"Times New Roman\" SIZE=-1 COLOR=#00AA00\">Berlin CSD</FONT></TD>"},"<TD NOWRAP ALIGN=RIGHT><FONT FACE=\"Times New Roman\" SIZE=-1>$0.00</FONT></TD>","<TD NOWRAP ALIGN=RIGHT><FONT FACE=\"Times New Roman\" SIZE=-1>$0.00</FONT></TD>","<TD NOWRAP ALIGN=RIGHT><FONT FACE=\"Times New Roman\" SIZE=-1><BR></FONT></TD>","<TD NOWRAP ALIGN=CENTER><FONT FACE=\"Times New Roman\" SIZE=-1>$0.00</FONT></TD>","<TD NOWRAP ALIGN=CENTER><FONT FACE=\"Times New Roman\" SIZE=-1>$0.00</FONT></TD>","<TD NOWRAP ALIGN=CENTER><FONT FACE=\"Times New Roman\" SIZE=-1>0.0000</FONT></TD>","<TD NOWRAP ALIGN=CENTER><FONT FACE=\"Times New Roman\" SIZE=-1>$0.00</FONT></TD>","</TR>"]
["Hoosick Falls CSD",{"$f":"'2017 Base Data'!F112","v":0},{"$f":"'2017 Base Data'!G112","v":0},null,{"$f":"'2017 Base Data'!I112","v":0},null,null,{"$f":"'2017 Base Data'!J112","v":0},null,null,{"$f":"'2017 Base Data'!K112","v":0},{"$f":"'2017 Base Data'!R112","v":0},null,null,{"$f":"ROUND(IF(S112<>0,R112*D112+S112*SUM(B112:C112)+T112*E112,R112*SUM(B112:D112)+T112*E112),2)","v":0},{"$f":"L112-O112","v":0},null,{"$f":"'2017 Base Data'!K112","v":0},{"$f":"'2017 Base Data'!L112","v":0},{"$f":"'2017 Base Data'!M112","v":0},null,null,null,null,"<TR VALIGN=BOTTOM>",{"$f":"\"<TD NOWRAP ALIGN=LEFT><FONT FACE=\"\"Times New Roman\"\" SIZE=-1 COLOR=#00AA00\"\">\"&A112&\"</FONT></TD>\"","v":"<TD NOWRAP ALIGN=LEFT><FONT FACE=\"Times New Roman\" SIZE=-1 COLOR=#00AA00\">Hoosick Falls CSD</FONT></TD>"},"<TD NOWRAP ALIGN=RIGHT><FONT FACE=\"Times New Roman\" SIZE=-1>$0.00</FONT></TD>","<TD NOWRAP ALIGN=RIGHT><FONT FACE=\"Times New Roman\" SIZE=-1>$0.00</FONT></TD>","<TD NOWRAP ALIGN=RIGHT><FONT FACE=\"Times New Roman\" SIZE=-1><BR></FONT></TD>","<TD NOWRAP ALIGN=CENTER><FONT FACE=\"Times New Roman\" SIZE=-1>$0.00</FONT></TD>","<TD NOWRAP ALIGN=CENTER><FONT FACE=\"Times New Roman\" SIZE=-1>$0.00</FONT></TD>","<TD NOWRAP ALIGN=CENTER><FONT FACE=\"Times New Roman\" SIZE=-1>0.0000</FONT></TD>","<TD NOWRAP ALIGN=CENTER><FONT FACE=\"Times New Roman\" SIZE=-1>$0.00</FONT></TD>","</TR>"]
["Town of Pittstown",{"$f":"B114","v":0},{"$f":"C114","v":0},null,{"$f":"MIN(INDIRECT(U114))","v":0},{"$f":"IF(G113<>0,\"to\",\"\")","v":""},{"$f":"IF(U113<>V113,MAX(INDIRECT(U114)),0)","v":0},{"$f":"MIN(INDIRECT(V114))","v":0},{"$f":"IF(J113<>0,\"to\",\"\")","v":""},{"$f":"IF(U113<>V113,MAX(INDIRECT(V114)),0)","v":0},{"$f":"K114","v":0},{"$f":"MIN(INDIRECT(W114))","v":0},{"$f":"IF(N113<>0,\"to\",\"\")","v":""},{"$f":"IF(U113<>V113,MAX(INDIRECT(W114)),0)","v":0},null,null,null,null,null,null,{"$f":"CELL(\"row\",P114)","v":114},{"$f":"CELL(\"row\",P118)","v":118},null,null,"<TR VALIGN=BOTTOM BGCOLOR=\"#FFFFCC\">",{"$f":"\"<TH NOWRAP ALIGN=LEFT><FONT FACE=\"\"Times New Roman\"\" SIZE=-1>\"&A113&\"</FONT></TH>\"","v":"<TH NOWRAP ALIGN=LEFT><FONT FACE=\"Times New Roman\" SIZE=-1>Town of Pittstown</FONT></TH>"},"<TD NOWRAP ALIGN=RIGHT><FONT FACE=\"Times New Roman\" SIZE=-1>$0.00</FONT></TD>","<TD NOWRAP ALIGN=RIGHT><FONT FACE=\"Times New Roman\" SIZE=-1>$0.00</FONT></TD>","<TD NOWRAP ALIGN=RIGHT><FONT FACE=\"Times New Roman\" SIZE=-1><BR></FONT></TD>","<TD NOWRAP ALIGN=CENTER><FONT FACE=\"Times New Roman\" SIZE=-1>$0.00</FONT></TD>","<TD NOWRAP ALIGN=CENTER><FONT FACE=\"Times New Roman\" SIZE=-1>$0.00</FONT></TD>","<TD NOWRAP ALIGN=CENTER><FONT FACE=\"Times New Roman\" SIZE=-1>0.0000</FONT></TD>","<TD NOWRAP ALIGN=CENTER><FONT FACE=\"Times New Roman\" SIZE=-1>$0.00</FONT></TD>","</TR>"]
["Brunswick CSD",{"$f":"'2017 Base Data'!F114","v":0},{"$f":"'2017 Base Data'!G114","v":0},null,{"$f":"'2017 Base Data'!I114","v":0},null,null,{"$f":"'2017 Base Data'!J114","v":0},null,null,{"$f":"'2017 Base Data'!K114","v":0},{"$f":"'2017 Base Data'!R114","v":0},null,null,{"$f":"ROUND(IF(S114<>0,R114*D114+S114*SUM(B114:C114)+T114*E114,R114*SUM(B114:D114)+T114*E114),2)","v":0},{"$f":"L114-O114","v":0},null,{"$f":"'2017 Base Data'!K114","v":0},{"$f":"'2017 Base Data'!L114","v":0},{"$f":"'2017 Base Data'!M114","v":0},{"$f":"\"E\"&U113&\":\"&\"E\"&V113","v":"E114:E118"},{"$f":"\"H\"&U113&\":\"&\"H\"&V113","v":"H114:H118"},{"$f":"\"L\"&U113&\":\"&\"L\"&V113","v":"L114:L118"},null,"<TR VALIGN=BOTTOM>",{"$f":"\"<TD NOWRAP ALIGN=LEFT><FONT FACE=\"\"Times New Roman\"\" SIZE=-1 COLOR=#00AA00\"\">\"&A114&\"</FONT></TD>\"","v":"<TD NOWRAP ALIGN=LEFT><FONT FACE=\"Times New Roman\" SIZE=-1 COLOR=#00AA00\">Brunswick CSD</FONT></TD>"},"<TD NOWRAP ALIGN=RIGHT><FONT FACE=\"Times New Roman\" SIZE=-1>$0.00</FONT></TD>","<TD NOWRAP ALIGN=RIGHT><FONT FACE=\"Times New Roman\" SIZE=-1>$0.00</FONT></TD>","<TD NOWRAP ALIGN=RIGHT><FONT FACE=\"Times New Roman\" SIZE=-1><BR></FONT></TD>","<TD NOWRAP ALIGN=CENTER><FONT FACE=\"Times New Roman\" SIZE=-1>$0.00</FONT></TD>","<TD NOWRAP ALIGN=CENTER><FONT FACE=\"Times New Roman\" SIZE=-1>$0.00</FONT></TD>","<TD NOWRAP ALIGN=CENTER><FONT FACE=\"Times New Roman\" SIZE=-1>0.0000</FONT></TD>","<TD NOWRAP ALIGN=CENTER><FONT FACE=\"Times New Roman\" SIZE=-1>$0.00</FONT></TD>","</TR>"]
["Cambridge CSD",{"$f":"'2017 Base Data'!F115","v":0},{"$f":"'2017 Base Data'!G115","v":0},null,{"$f":"'2017 Base Data'!I115","v":0},null,null,{"$f":"'2017 Base Data'!J115","v":0},null,null,{"$f":"'2017 Base Data'!K115","v":0},{"$f":"'2017 Base Data'!R115","v":0},null,null,{"$f":"ROUND(IF(S115<>0,R115*D115+S115*SUM(B115:C115)+T115*E115,R115*SUM(B115:D115)+T115*E115),2)","v":0},{"$f":"L115-O115","v":0},null,{"$f":"'2017 Base Data'!K115","v":0},{"$f":"'2017 Base Data'!L115","v":0},{"$f":"'2017 Base Data'!M115","v":0},null,null,null,null,"<TR VALIGN=BOTTOM>",{"$f":"\"<TD NOWRAP ALIGN=LEFT><FONT FACE=\"\"Times New Roman\"\" SIZE=-1 COLOR=#00AA00\"\">\"&A115&\"</FONT></TD>\"","v":"<TD NOWRAP ALIGN=LEFT><FONT FACE=\"Times New Roman\" SIZE=-1 COLOR=#00AA00\">Cambridge CSD</FONT></TD>"},"<TD NOWRAP ALIGN=RIGHT><FONT FACE=\"Times New Roman\" SIZE=-1>$0.00</FONT></TD>","<TD NOWRAP ALIGN=RIGHT><FONT FACE=\"Times New Roman\" SIZE=-1>$0.00</FONT></TD>","<TD NOWRAP ALIGN=RIGHT><FONT FACE=\"Times New Roman\" SIZE=-1><BR></FONT></TD>","<TD NOWRAP ALIGN=CENTER><FONT FACE=\"Times New Roman\" SIZE=-1>$0.00</FONT></TD>","<TD NOWRAP ALIGN=CENTER><FONT FACE=\"Times New Roman\" SIZE=-1>$0.00</FONT></TD>","<TD NOWRAP ALIGN=CENTER><FONT FACE=\"Times New Roman\" SIZE=-1>0.0000</FONT></TD>","<TD NOWRAP ALIGN=CENTER><FONT FACE=\"Times New Roman\" SIZE=-1>$0.00</FONT></TD>","</TR>"]
["Hoosic Valley CSD",{"$f":"'2017 Base Data'!F116","v":0},{"$f":"'2017 Base Data'!G116","v":0},null,{"$f":"'2017 Base Data'!I116","v":0},null,null,{"$f":"'2017 Base Data'!J116","v":0},null,null,{"$f":"'2017 Base Data'!K116","v":0},{"$f":"'2017 Base Data'!R116","v":0},null,null,{"$f":"ROUND(IF(S116<>0,R116*D116+S116*SUM(B116:C116)+T116*E116,R116*SUM(B116:D116)+T116*E116),2)","v":0},{"$f":"L116-O116","v":0},null,{"$f":"'2017 Base Data'!K116","v":0},{"$f":"'2017 Base Data'!L116","v":0},{"$f":"'2017 Base Data'!M116","v":0},null,null,null,null,"<TR VALIGN=BOTTOM>",{"$f":"\"<TD NOWRAP ALIGN=LEFT><FONT FACE=\"\"Times New Roman\"\" SIZE=-1 COLOR=#00AA00\"\">\"&A116&\"</FONT></TD>\"","v":"<TD NOWRAP ALIGN=LEFT><FONT FACE=\"Times New Roman\" SIZE=-1 COLOR=#00AA00\">Hoosic Valley CSD</FONT></TD>"},"<TD NOWRAP ALIGN=RIGHT><FONT FACE=\"Times New Roman\" SIZE=-1>$0.00</FONT></TD>","<TD NOWRAP ALIGN=RIGHT><FONT FACE=\"Times New Roman\" SIZE=-1>$0.00</FONT></TD>","<TD NOWRAP ALIGN=RIGHT><FONT FACE=\"Times New Roman\" SIZE=-1><BR></FONT></TD>","<TD NOWRAP ALIGN=CENTER><FONT FACE=\"Times New Roman\" SIZE=-1>$0.00</FONT></TD>","<TD NOWRAP ALIGN=CENTER><FONT FACE=\"Times New Roman\" SIZE=-1>$0.00</FONT></TD>","<TD NOWRAP ALIGN=CENTER><FONT FACE=\"Times New Roman\" SIZE=-1>0.0000</FONT></TD>","<TD NOWRAP ALIGN=CENTER><FONT FACE=\"Times New Roman\" SIZE=-1>$0.00</FONT></TD>","</TR>"]
["Hoosick Falls CSD",{"$f":"'2017 Base Data'!F117","v":0},{"$f":"'2017 Base Data'!G117","v":0},null,{"$f":"'2017 Base Data'!I117","v":0},null,null,{"$f":"'2017 Base Data'!J117","v":0},null,null,{"$f":"'2017 Base Data'!K117","v":0},{"$f":"'2017 Base Data'!R117","v":0},null,null,{"$f":"ROUND(IF(S117<>0,R117*D117+S117*SUM(B117:C117)+T117*E117,R117*SUM(B117:D117)+T117*E117),2)","v":0},{"$f":"L117-O117","v":0},null,{"$f":"'2017 Base Data'!K117","v":0},{"$f":"'2017 Base Data'!L117","v":0},{"$f":"'2017 Base Data'!M117","v":0},null,null,null,null,"<TR VALIGN=BOTTOM>",{"$f":"\"<TD NOWRAP ALIGN=LEFT><FONT FACE=\"\"Times New Roman\"\" SIZE=-1 COLOR=#00AA00\"\">\"&A117&\"</FONT></TD>\"","v":"<TD NOWRAP ALIGN=LEFT><FONT FACE=\"Times New Roman\" SIZE=-1 COLOR=#00AA00\">Hoosick Falls CSD</FONT></TD>"},"<TD NOWRAP ALIGN=RIGHT><FONT FACE=\"Times New Roman\" SIZE=-1>$0.00</FONT></TD>","<TD NOWRAP ALIGN=RIGHT><FONT FACE=\"Times New Roman\" SIZE=-1>$0.00</FONT></TD>","<TD NOWRAP ALIGN=RIGHT><FONT FACE=\"Times New Roman\" SIZE=-1><BR></FONT></TD>","<TD NOWRAP ALIGN=CENTER><FONT FACE=\"Times New Roman\" SIZE=-1>$0.00</FONT></TD>","<TD NOWRAP ALIGN=CENTER><FONT FACE=\"Times New Roman\" SIZE=-1>$0.00</FONT></TD>","<TD NOWRAP ALIGN=CENTER><FONT FACE=\"Times New Roman\" SIZE=-1>0.0000</FONT></TD>","<TD NOWRAP ALIGN=CENTER><FONT FACE=\"Times New Roman\" SIZE=-1>$0.00</FONT></TD>","</TR>"]
["Lansingburgh CSD",{"$f":"'2017 Base Data'!F118","v":0},{"$f":"'2017 Base Data'!G118","v":0},null,{"$f":"'2017 Base Data'!I118","v":0},null,null,{"$f":"'2017 Base Data'!J118","v":0},null,null,{"$f":"'2017 Base Data'!K118","v":0},{"$f":"'2017 Base Data'!R118","v":0},null,null,{"$f":"ROUND(IF(S118<>0,R118*D118+S118*SUM(B118:C118)+T118*E118,R118*SUM(B118:D118)+T118*E118),2)","v":0},{"$f":"L118-O118","v":0},null,{"$f":"'2017 Base Data'!K118","v":0},{"$f":"'2017 Base Data'!L118","v":0},{"$f":"'2017 Base Data'!M118","v":0},null,null,null,null,"<TR VALIGN=BOTTOM>",{"$f":"\"<TD NOWRAP ALIGN=LEFT><FONT FACE=\"\"Times New Roman\"\" SIZE=-1 COLOR=#00AA00\"\">\"&A118&\"</FONT></TD>\"","v":"<TD NOWRAP ALIGN=LEFT><FONT FACE=\"Times New Roman\" SIZE=-1 COLOR=#00AA00\">Lansingburgh CSD</FONT></TD>"},"<TD NOWRAP ALIGN=RIGHT><FONT FACE=\"Times New Roman\" SIZE=-1>$0.00</FONT></TD>","<TD NOWRAP ALIGN=RIGHT><FONT FACE=\"Times New Roman\" SIZE=-1>$0.00</FONT></TD>","<TD NOWRAP ALIGN=RIGHT><FONT FACE=\"Times New Roman\" SIZE=-1><BR></FONT></TD>","<TD NOWRAP ALIGN=CENTER><FONT FACE=\"Times New Roman\" SIZE=-1>$0.00</FONT></TD>","<TD NOWRAP ALIGN=CENTER><FONT FACE=\"Times New Roman\" SIZE=-1>$0.00</FONT></TD>","<TD NOWRAP ALIGN=CENTER><FONT FACE=\"Times New Roman\" SIZE=-1>0.0000</FONT></TD>","<TD NOWRAP ALIGN=CENTER><FONT FACE=\"Times New Roman\" SIZE=-1>$0.00</FONT></TD>","</TR>"]
["Village of Valley Falls (part)",{"$f":"B120","v":0},{"$f":"C120","v":0},{"$f":"D120","v":0},{"$f":"MIN(INDIRECT(U120))","v":0},{"$f":"IF(G119<>0,\"to\",\"\")","v":""},{"$f":"IF(U119<>V119,MAX(INDIRECT(U120)),0)","v":0},{"$f":"MIN(INDIRECT(V120))","v":0},{"$f":"IF(J119<>0,\"to\",\"\")","v":""},{"$f":"IF(U119<>V119,MAX(INDIRECT(V120)),0)","v":0},{"$f":"K120","v":0},{"$f":"MIN(INDIRECT(W120))","v":0},{"$f":"IF(N119<>0,\"to\",\"\")","v":""},{"$f":"IF(U119<>V119,MAX(INDIRECT(W120)),0)","v":0},null,null,null,null,null,null,{"$f":"CELL(\"row\",P120)","v":120},{"$f":"CELL(\"row\",P120)","v":120},null,null,"<TR VALIGN=BOTTOM BGCOLOR=\"#FFFFCC\">",{"$f":"\"<TH NOWRAP ALIGN=LEFT><FONT FACE=\"\"Times New Roman\"\" SIZE=-1 COLOR=\"\"#808000\"\">\"&A119&\"</FONT></TH>\"","v":"<TH NOWRAP ALIGN=LEFT><FONT FACE=\"Times New Roman\" SIZE=-1 COLOR=\"#808000\">Village of Valley Falls (part)</FONT></TH>"},"<TD NOWRAP ALIGN=RIGHT><FONT FACE=\"Times New Roman\" SIZE=-1>$0.00</FONT></TD>","<TD NOWRAP ALIGN=RIGHT><FONT FACE=\"Times New Roman\" SIZE=-1>$0.00</FONT></TD>","<TD NOWRAP ALIGN=RIGHT><FONT FACE=\"Times New Roman\" SIZE=-1>$0.00</FONT></TD>","<TD NOWRAP ALIGN=CENTER><FONT FACE=\"Times New Roman\" SIZE=-1>$0.00</FONT></TD>","<TD NOWRAP ALIGN=CENTER><FONT FACE=\"Times New Roman\" SIZE=-1>$0.00</FONT></TD>","<TD NOWRAP ALIGN=CENTER><FONT FACE=\"Times New Roman\" SIZE=-1>0.0000</FONT></TD>","<TD NOWRAP ALIGN=CENTER><FONT FACE=\"Times New Roman\" SIZE=-1>$0.00</FONT></TD>","</TR>"]
["Hoosic Valley CSD",{"$f":"'2017 Base Data'!F120","v":0},{"$f":"'2017 Base Data'!G120","v":0},{"$f":"'2017 Base Data'!H120","v":0},{"$f":"'2017 Base Data'!I120","v":0},null,null,{"$f":"'2017 Base Data'!J120","v":0},null,null,{"$f":"'2017 Base Data'!K120","v":0},{"$f":"'2017 Base Data'!R120","v":0},null,null,{"$f":"ROUND(IF(S120<>0,R120*D120+S120*SUM(B120:C120)+T120*E120,R120*SUM(B120:D120)+T120*E120),2)","v":0},{"$f":"L120-O120","v":0},null,{"$f":"'2017 Base Data'!K120","v":0},{"$f":"'2017 Base Data'!L120","v":0},{"$f":"'2017 Base Data'!M120","v":0},{"$f":"\"E\"&U119&\":\"&\"E\"&V119","v":"E120:E120"},{"$f":"\"H\"&U119&\":\"&\"H\"&V119","v":"H120:H120"},{"$f":"\"L\"&U119&\":\"&\"L\"&V119","v":"L120:L120"},null,"<TR VALIGN=BOTTOM>",{"$f":"\"<TD NOWRAP ALIGN=LEFT><FONT FACE=\"\"Times New Roman\"\" SIZE=-1 COLOR=#00AA00\"\">\"&A120&\"</FONT></TD>\"","v":"<TD NOWRAP ALIGN=LEFT><FONT FACE=\"Times New Roman\" SIZE=-1 COLOR=#00AA00\">Hoosic Valley CSD</FONT></TD>"},"<TD NOWRAP ALIGN=RIGHT><FONT FACE=\"Times New Roman\" SIZE=-1>$0.00</FONT></TD>","<TD NOWRAP ALIGN=RIGHT><FONT FACE=\"Times New Roman\" SIZE=-1>$0.00</FONT></TD>","<TD NOWRAP ALIGN=RIGHT><FONT FACE=\"Times New Roman\" SIZE=-1>$0.00</FONT></TD>","<TD NOWRAP ALIGN=CENTER><FONT FACE=\"Times New Roman\" SIZE=-1>$0.00</FONT></TD>","<TD NOWRAP ALIGN=CENTER><FONT FACE=\"Times New Roman\" SIZE=-1>$0.00</FONT></TD>","<TD NOWRAP ALIGN=CENTER><FONT FACE=\"Times New Roman\" SIZE=-1>0.0000</FONT></TD>","<TD NOWRAP ALIGN=CENTER><FONT FACE=\"Times New Roman\" SIZE=-1>$0.00</FONT></TD>","</TR>"]
["Town of Poestenkill",{"$f":"B122","v":0},{"$f":"C122","v":0},null,{"$f":"MIN(INDIRECT(U122))","v":0},{"$f":"IF(G121<>0,\"to\",\"\")","v":""},{"$f":"IF(U121<>V121,MAX(INDIRECT(U122)),0)","v":0},{"$f":"MIN(INDIRECT(V122))","v":0},{"$f":"IF(J121<>0,\"to\",\"\")","v":""},{"$f":"IF(U121<>V121,MAX(INDIRECT(V122)),0)","v":0},{"$f":"K122","v":0},{"$f":"MIN(INDIRECT(W122))","v":0},{"$f":"IF(N121<>0,\"to\",\"\")","v":""},{"$f":"IF(U121<>V121,MAX(INDIRECT(W122)),0)","v":0},null,null,null,null,null,null,{"$f":"CELL(\"row\",P122)","v":122},{"$f":"CELL(\"row\",P125)","v":125},null,null,"<TR VALIGN=BOTTOM BGCOLOR=\"#FFFFCC\">",{"$f":"\"<TH NOWRAP ALIGN=LEFT><FONT FACE=\"\"Times New Roman\"\" SIZE=-1>\"&A121&\"</FONT></TH>\"","v":"<TH NOWRAP ALIGN=LEFT><FONT FACE=\"Times New Roman\" SIZE=-1>Town of Poestenkill</FONT></TH>"},"<TD NOWRAP ALIGN=RIGHT><FONT FACE=\"Times New Roman\" SIZE=-1>$0.00</FONT></TD>","<TD NOWRAP ALIGN=RIGHT><FONT FACE=\"Times New Roman\" SIZE=-1>$0.00</FONT></TD>","<TD NOWRAP ALIGN=RIGHT><FONT FACE=\"Times New Roman\" SIZE=-1><BR></FONT></TD>","<TD NOWRAP ALIGN=CENTER><FONT FACE=\"Times New Roman\" SIZE=-1>$0.00</FONT></TD>","<TD NOWRAP ALIGN=CENTER><FONT FACE=\"Times New Roman\" SIZE=-1>$0.00</FONT></TD>","<TD NOWRAP ALIGN=CENTER><FONT FACE=\"Times New Roman\" SIZE=-1>0.0000</FONT></TD>","<TD NOWRAP ALIGN=CENTER><FONT FACE=\"Times New Roman\" SIZE=-1>$0.00</FONT></TD>","</TR>"]
["Averill Park CSD",{"$f":"'2017 Base Data'!F122","v":0},{"$f":"'2017 Base Data'!G122","v":0},null,{"$f":"'2017 Base Data'!I122","v":0},null,null,{"$f":"'2017 Base Data'!J122","v":0},null,null,{"$f":"'2017 Base Data'!K122","v":0},{"$f":"'2017 Base Data'!R122","v":0},null,null,{"$f":"ROUND(IF(S122<>0,R122*D122+S122*SUM(B122:C122)+T122*E122,R122*SUM(B122:D122)+T122*E122),2)","v":0},{"$f":"L122-O122","v":0},null,{"$f":"'2017 Base Data'!K122","v":0},{"$f":"'2017 Base Data'!L122","v":0},{"$f":"'2017 Base Data'!M122","v":0},{"$f":"\"E\"&U121&\":\"&\"E\"&V121","v":"E122:E125"},{"$f":"\"H\"&U121&\":\"&\"H\"&V121","v":"H122:H125"},{"$f":"\"L\"&U121&\":\"&\"L\"&V121","v":"L122:L125"},null,"<TR VALIGN=BOTTOM>",{"$f":"\"<TD NOWRAP ALIGN=LEFT><FONT FACE=\"\"Times New Roman\"\" SIZE=-1 COLOR=#00AA00\"\">\"&A122&\"</FONT></TD>\"","v":"<TD NOWRAP ALIGN=LEFT><FONT FACE=\"Times New Roman\" SIZE=-1 COLOR=#00AA00\">Averill Park CSD</FONT></TD>"},"<TD NOWRAP ALIGN=RIGHT><FONT FACE=\"Times New Roman\" SIZE=-1>$0.00</FONT></TD>","<TD NOWRAP ALIGN=RIGHT><FONT FACE=\"Times New Roman\" SIZE=-1>$0.00</FONT></TD>","<TD NOWRAP ALIGN=RIGHT><FONT FACE=\"Times New Roman\" SIZE=-1><BR></FONT></TD>","<TD NOWRAP ALIGN=CENTER><FONT FACE=\"Times New Roman\" SIZE=-1>$0.00</FONT></TD>","<TD NOWRAP ALIGN=CENTER><FONT FACE=\"Times New Roman\" SIZE=-1>$0.00</FONT></TD>","<TD NOWRAP ALIGN=CENTER><FONT FACE=\"Times New Roman\" SIZE=-1>0.0000</FONT></TD>","<TD NOWRAP ALIGN=CENTER><FONT FACE=\"Times New Roman\" SIZE=-1>$0.00</FONT></TD>","</TR>"]
["Berlin CSD",{"$f":"'2017 Base Data'!F123","v":0},{"$f":"'2017 Base Data'!G123","v":0},null,{"$f":"'2017 Base Data'!I123","v":0},null,null,{"$f":"'2017 Base Data'!J123","v":0},null,null,{"$f":"'2017 Base Data'!K123","v":0},{"$f":"'2017 Base Data'!R123","v":0},null,null,{"$f":"ROUND(IF(S123<>0,R123*D123+S123*SUM(B123:C123)+T123*E123,R123*SUM(B123:D123)+T123*E123),2)","v":0},{"$f":"L123-O123","v":0},null,{"$f":"'2017 Base Data'!K123","v":0},{"$f":"'2017 Base Data'!L123","v":0},{"$f":"'2017 Base Data'!M123","v":0},null,null,null,null,"<TR VALIGN=BOTTOM>",{"$f":"\"<TD NOWRAP ALIGN=LEFT><FONT FACE=\"\"Times New Roman\"\" SIZE=-1 COLOR=#00AA00\"\">\"&A123&\"</FONT></TD>\"","v":"<TD NOWRAP ALIGN=LEFT><FONT FACE=\"Times New Roman\" SIZE=-1 COLOR=#00AA00\">Berlin CSD</FONT></TD>"},"<TD NOWRAP ALIGN=RIGHT><FONT FACE=\"Times New Roman\" SIZE=-1>$0.00</FONT></TD>","<TD NOWRAP ALIGN=RIGHT><FONT FACE=\"Times New Roman\" SIZE=-1>$0.00</FONT></TD>","<TD NOWRAP ALIGN=RIGHT><FONT FACE=\"Times New Roman\" SIZE=-1><BR></FONT></TD>","<TD NOWRAP ALIGN=CENTER><FONT FACE=\"Times New Roman\" SIZE=-1>$0.00</FONT></TD>","<TD NOWRAP ALIGN=CENTER><FONT FACE=\"Times New Roman\" SIZE=-1>$0.00</FONT></TD>","<TD NOWRAP ALIGN=CENTER><FONT FACE=\"Times New Roman\" SIZE=-1>0.0000</FONT></TD>","<TD NOWRAP ALIGN=CENTER><FONT FACE=\"Times New Roman\" SIZE=-1>$0.00</FONT></TD>","</TR>"]
["Brunswick CSD",{"$f":"'2017 Base Data'!F124","v":0},{"$f":"'2017 Base Data'!G124","v":0},null,{"$f":"'2017 Base Data'!I124","v":0},null,null,{"$f":"'2017 Base Data'!J124","v":0},null,null,{"$f":"'2017 Base Data'!K124","v":0},{"$f":"'2017 Base Data'!R124","v":0},null,null,{"$f":"ROUND(IF(S124<>0,R124*D124+S124*SUM(B124:C124)+T124*E124,R124*SUM(B124:D124)+T124*E124),2)","v":0},{"$f":"L124-O124","v":0},null,{"$f":"'2017 Base Data'!K124","v":0},{"$f":"'2017 Base Data'!L124","v":0},{"$f":"'2017 Base Data'!M124","v":0},null,null,null,null,"<TR VALIGN=BOTTOM>",{"$f":"\"<TD NOWRAP ALIGN=LEFT><FONT FACE=\"\"Times New Roman\"\" SIZE=-1 COLOR=#00AA00\"\">\"&A124&\"</FONT></TD>\"","v":"<TD NOWRAP ALIGN=LEFT><FONT FACE=\"Times New Roman\" SIZE=-1 COLOR=#00AA00\">Brunswick CSD</FONT></TD>"},"<TD NOWRAP ALIGN=RIGHT><FONT FACE=\"Times New Roman\" SIZE=-1>$0.00</FONT></TD>","<TD NOWRAP ALIGN=RIGHT><FONT FACE=\"Times New Roman\" SIZE=-1>$0.00</FONT></TD>","<TD NOWRAP ALIGN=RIGHT><FONT FACE=\"Times New Roman\" SIZE=-1><BR></FONT></TD>","<TD NOWRAP ALIGN=CENTER><FONT FACE=\"Times New Roman\" SIZE=-1>$0.00</FONT></TD>","<TD NOWRAP ALIGN=CENTER><FONT FACE=\"Times New Roman\" SIZE=-1>$0.00</FONT></TD>","<TD NOWRAP ALIGN=CENTER><FONT FACE=\"Times New Roman\" SIZE=-1>0.0000</FONT></TD>","<TD NOWRAP ALIGN=CENTER><FONT FACE=\"Times New Roman\" SIZE=-1>$0.00</FONT></TD>","</TR>"]
["Wynantskill UFSD",{"$f":"'2017 Base Data'!F125","v":0},{"$f":"'2017 Base Data'!G125","v":0},null,{"$f":"'2017 Base Data'!I125","v":0},null,null,{"$f":"'2017 Base Data'!J125","v":0},null,null,{"$f":"'2017 Base Data'!K125","v":0},{"$f":"'2017 Base Data'!R125","v":0},null,null,{"$f":"ROUND(IF(S125<>0,R125*D125+S125*SUM(B125:C125)+T125*E125,R125*SUM(B125:D125)+T125*E125),2)","v":0},{"$f":"L125-O125","v":0},null,{"$f":"'2017 Base Data'!K125","v":0},{"$f":"'2017 Base Data'!L125","v":0},{"$f":"'2017 Base Data'!M125","v":0},null,null,null,null,"<TR VALIGN=BOTTOM>",{"$f":"\"<TD NOWRAP ALIGN=LEFT><FONT FACE=\"\"Times New Roman\"\" SIZE=-1 COLOR=#00AA00\"\">\"&A125&\"</FONT></TD>\"","v":"<TD NOWRAP ALIGN=LEFT><FONT FACE=\"Times New Roman\" SIZE=-1 COLOR=#00AA00\">Wynantskill UFSD</FONT></TD>"},"<TD NOWRAP ALIGN=RIGHT><FONT FACE=\"Times New Roman\" SIZE=-1>$0.00</FONT></TD>","<TD NOWRAP ALIGN=RIGHT><FONT FACE=\"Times New Roman\" SIZE=-1>$0.00</FONT></TD>","<TD NOWRAP ALIGN=RIGHT><FONT FACE=\"Times New Roman\" SIZE=-1><BR></FONT></TD>","<TD NOWRAP ALIGN=CENTER><FONT FACE=\"Times New Roman\" SIZE=-1>$0.00</FONT></TD>","<TD NOWRAP ALIGN=CENTER><FONT FACE=\"Times New Roman\" SIZE=-1>$0.00</FONT></TD>","<TD NOWRAP ALIGN=CENTER><FONT FACE=\"Times New Roman\" SIZE=-1>0.0000</FONT></TD>","<TD NOWRAP ALIGN=CENTER><FONT FACE=\"Times New Roman\" SIZE=-1>$0.00</FONT></TD>","</TR>"]
["City of Rensselaer",{"$f":"B127","v":0},null,{"$f":"D127","v":0},{"$f":"MIN(INDIRECT(U127))","v":0},{"$f":"IF(G126<>0,\"to\",\"\")","v":""},{"$f":"IF(U126<>V126,MAX(INDIRECT(U127)),0)","v":0},{"$f":"MIN(INDIRECT(V127))","v":0},{"$f":"IF(J126<>0,\"to\",\"\")","v":""},{"$f":"IF(U126<>V126,MAX(INDIRECT(V127)),0)","v":0},{"$f":"K127","v":0},{"$f":"MIN(INDIRECT(W127))","v":0},{"$f":"IF(N126<>0,\"to\",\"\")","v":""},{"$f":"IF(U126<>V126,MAX(INDIRECT(W127)),0)","v":0},null,null,null,null,null,null,{"$f":"CELL(\"row\",P127)","v":127},{"$f":"CELL(\"row\",P127)","v":127},null,null,"<TR VALIGN=BOTTOM BGCOLOR=\"#FFFFCC\">",{"$f":"\"<TH NOWRAP ALIGN=LEFT><FONT FACE=\"\"Times New Roman\"\" SIZE=-1 COLOR=#800000\"\">\"&A126&\"</FONT></TH>\"","v":"<TH NOWRAP ALIGN=LEFT><FONT FACE=\"Times New Roman\" SIZE=-1 COLOR=#800000\">City of Rensselaer</FONT></TH>"},"<TD NOWRAP ALIGN=RIGHT><FONT FACE=\"Times New Roman\" SIZE=-1>$0.00</FONT></TD>","<TD NOWRAP ALIGN=RIGHT><FONT FACE=\"Times New Roman\" SIZE=-1><BR></FONT></TD>","<TD NOWRAP ALIGN=RIGHT><FONT FACE=\"Times New Roman\" SIZE=-1>$0.00</FONT></TD>","<TD NOWRAP ALIGN=CENTER><FONT FACE=\"Times New Roman\" SIZE=-1>$0.00</FONT></TD>","<TD NOWRAP ALIGN=CENTER><FONT FACE=\"Times New Roman\" SIZE=-1>$0.00</FONT></TD>","<TD NOWRAP ALIGN=CENTER><FONT FACE=\"Times New Roman\" SIZE=-1>0.0000</FONT></TD>","<TD NOWRAP ALIGN=CENTER><FONT FACE=\"Times New Roman\" SIZE=-1>$0.00</FONT></TD>","</TR>"]
["Rensselaer City SD",{"$f":"'2017 Base Data'!F127","v":0},null,{"$f":"'2017 Base Data'!H127","v":0},{"$f":"'2017 Base Data'!I127","v":0},null,null,{"$f":"'2017 Base Data'!J127","v":0},null,null,{"$f":"'2017 Base Data'!K127","v":0},{"$f":"'2017 Base Data'!R127","v":0},null,null,{"$f":"ROUND(IF(S127<>0,R127*D127+S127*SUM(B127:C127)+T127*E127,R127*SUM(B127:D127)+T127*E127),2)","v":0},{"$f":"L127-O127","v":0},null,{"$f":"'2017 Base Data'!K127","v":0},{"$f":"'2017 Base Data'!L127","v":0},{"$f":"'2017 Base Data'!M127","v":0},{"$f":"\"E\"&U126&\":\"&\"E\"&V126","v":"E127:E127"},{"$f":"\"H\"&U126&\":\"&\"H\"&V126","v":"H127:H127"},{"$f":"\"L\"&U126&\":\"&\"L\"&V126","v":"L127:L127"},null,"<TR VALIGN=BOTTOM>",{"$f":"\"<TD NOWRAP ALIGN=LEFT><FONT FACE=\"\"Times New Roman\"\" SIZE=-1 COLOR=#00AA00\"\">\"&A127&\"</FONT></TD>\"","v":"<TD NOWRAP ALIGN=LEFT><FONT FACE=\"Times New Roman\" SIZE=-1 COLOR=#00AA00\">Rensselaer City SD</FONT></TD>"},"<TD NOWRAP ALIGN=RIGHT><FONT FACE=\"Times New Roman\" SIZE=-1>$0.00</FONT></TD>","<TD NOWRAP ALIGN=RIGHT><FONT FACE=\"Times New Roman\" SIZE=-1><BR></FONT></TD>","<TD NOWRAP ALIGN=RIGHT><FONT FACE=\"Times New Roman\" SIZE=-1>$0.00</FONT></TD>","<TD NOWRAP ALIGN=CENTER><FONT FACE=\"Times New Roman\" SIZE=-1>$0.00</FONT></TD>","<TD NOWRAP ALIGN=CENTER><FONT FACE=\"Times New Roman\" SIZE=-1>$0.00</FONT></TD>","<TD NOWRAP ALIGN=CENTER><FONT FACE=\"Times New Roman\" SIZE=-1>0.0000</FONT></TD>","<TD NOWRAP ALIGN=CENTER><FONT FACE=\"Times New Roman\" SIZE=-1>$0.00</FONT></TD>","</TR>"]
["Town of Sand Lake",{"$f":"B129","v":0},{"$f":"C129","v":0},null,{"$f":"MIN(INDIRECT(U129))","v":0},{"$f":"IF(G128<>0,\"to\",\"\")","v":""},{"$f":"IF(U128<>V128,MAX(INDIRECT(U129)),0)","v":0},{"$f":"MIN(INDIRECT(V129))","v":0},{"$f":"IF(J128<>0,\"to\",\"\")","v":""},{"$f":"IF(U128<>V128,MAX(INDIRECT(V129)),0)","v":0},{"$f":"K129","v":0},{"$f":"MIN(INDIRECT(W129))","v":0},{"$f":"IF(N128<>0,\"to\",\"\")","v":""},{"$f":"IF(U128<>V128,MAX(INDIRECT(W129)),0)","v":0},null,null,null,null,null,null,{"$f":"CELL(\"row\",P129)","v":129},{"$f":"CELL(\"row\",P130)","v":130},null,null,"<TR VALIGN=BOTTOM BGCOLOR=\"#FFFFCC\">",{"$f":"\"<TH NOWRAP ALIGN=LEFT><FONT FACE=\"\"Times New Roman\"\" SIZE=-1>\"&A128&\"</FONT></TH>\"","v":"<TH NOWRAP ALIGN=LEFT><FONT FACE=\"Times New Roman\" SIZE=-1>Town of Sand Lake</FONT></TH>"},"<TD NOWRAP ALIGN=RIGHT><FONT FACE=\"Times New Roman\" SIZE=-1>$0.00</FONT></TD>","<TD NOWRAP ALIGN=RIGHT><FONT FACE=\"Times New Roman\" SIZE=-1>$0.00</FONT></TD>","<TD NOWRAP ALIGN=RIGHT><FONT FACE=\"Times New Roman\" SIZE=-1><BR></FONT></TD>","<TD NOWRAP ALIGN=CENTER><FONT FACE=\"Times New Roman\" SIZE=-1>$0.00</FONT></TD>","<TD NOWRAP ALIGN=CENTER><FONT FACE=\"Times New Roman\" SIZE=-1>$0.00</FONT></TD>","<TD NOWRAP ALIGN=CENTER><FONT FACE=\"Times New Roman\" SIZE=-1>0.0000</FONT></TD>","<TD NOWRAP ALIGN=CENTER><FONT FACE=\"Times New Roman\" SIZE=-1>$0.00</FONT></TD>","</TR>"]
["Averill Park CSD",{"$f":"'2017 Base Data'!F129","v":0},{"$f":"'2017 Base Data'!G129","v":0},null,{"$f":"'2017 Base Data'!I129","v":0},null,null,{"$f":"'2017 Base Data'!J129","v":0},null,null,{"$f":"'2017 Base Data'!K129","v":0},{"$f":"'2017 Base Data'!R129","v":0},null,null,{"$f":"ROUND(IF(S129<>0,R129*D129+S129*SUM(B129:C129)+T129*E129,R129*SUM(B129:D129)+T129*E129),2)","v":0},{"$f":"L129-O129","v":0},null,{"$f":"'2017 Base Data'!K129","v":0},{"$f":"'2017 Base Data'!L129","v":0},{"$f":"'2017 Base Data'!M129","v":0},{"$f":"\"E\"&U128&\":\"&\"E\"&V128","v":"E129:E130"},{"$f":"\"H\"&U128&\":\"&\"H\"&V128","v":"H129:H130"},{"$f":"\"L\"&U128&\":\"&\"L\"&V128","v":"L129:L130"},null,"<TR VALIGN=BOTTOM>",{"$f":"\"<TD NOWRAP ALIGN=LEFT><FONT FACE=\"\"Times New Roman\"\" SIZE=-1 COLOR=#00AA00\"\">\"&A129&\"</FONT></TD>\"","v":"<TD NOWRAP ALIGN=LEFT><FONT FACE=\"Times New Roman\" SIZE=-1 COLOR=#00AA00\">Averill Park CSD</FONT></TD>"},"<TD NOWRAP ALIGN=RIGHT><FONT FACE=\"Times New Roman\" SIZE=-1>$0.00</FONT></TD>","<TD NOWRAP ALIGN=RIGHT><FONT FACE=\"Times New Roman\" SIZE=-1>$0.00</FONT></TD>","<TD NOWRAP ALIGN=RIGHT><FONT FACE=\"Times New Roman\" SIZE=-1><BR></FONT></TD>","<TD NOWRAP ALIGN=CENTER><FONT FACE=\"Times New Roman\" SIZE=-1>$0.00</FONT></TD>","<TD NOWRAP ALIGN=CENTER><FONT FACE=\"Times New Roman\" SIZE=-1>$0.00</FONT></TD>","<TD NOWRAP ALIGN=CENTER><FONT FACE=\"Times New Roman\" SIZE=-1>0.0000</FONT></TD>","<TD NOWRAP ALIGN=CENTER><FONT FACE=\"Times New Roman\" SIZE=-1>$0.00</FONT></TD>","</TR>"]
["East Greenbush CSD",{"$f":"'2017 Base Data'!F130","v":0},{"$f":"'2017 Base Data'!G130","v":0},null,{"$f":"'2017 Base Data'!I130","v":0},null,null,{"$f":"'2017 Base Data'!J130","v":0},null,null,{"$f":"'2017 Base Data'!K130","v":0},{"$f":"'2017 Base Data'!R130","v":0},null,null,{"$f":"ROUND(IF(S130<>0,R130*D130+S130*SUM(B130:C130)+T130*E130,R130*SUM(B130:D130)+T130*E130),2)","v":0},{"$f":"L130-O130","v":0},null,{"$f":"'2017 Base Data'!K130","v":0},{"$f":"'2017 Base Data'!L130","v":0},{"$f":"'2017 Base Data'!M130","v":0},null,null,null,null,"<TR VALIGN=BOTTOM>",{"$f":"\"<TD NOWRAP ALIGN=LEFT><FONT FACE=\"\"Times New Roman\"\" SIZE=-1 COLOR=#00AA00\"\">\"&A130&\"</FONT></TD>\"","v":"<TD NOWRAP ALIGN=LEFT><FONT FACE=\"Times New Roman\" SIZE=-1 COLOR=#00AA00\">East Greenbush CSD</FONT></TD>"},"<TD NOWRAP ALIGN=RIGHT><FONT FACE=\"Times New Roman\" SIZE=-1>$0.00</FONT></TD>","<TD NOWRAP ALIGN=RIGHT><FONT FACE=\"Times New Roman\" SIZE=-1>$0.00</FONT></TD>","<TD NOWRAP ALIGN=RIGHT><FONT FACE=\"Times New Roman\" SIZE=-1><BR></FONT></TD>","<TD NOWRAP ALIGN=CENTER><FONT FACE=\"Times New Roman\" SIZE=-1>$0.00</FONT></TD>","<TD NOWRAP ALIGN=CENTER><FONT FACE=\"Times New Roman\" SIZE=-1>$0.00</FONT></TD>","<TD NOWRAP ALIGN=CENTER><FONT FACE=\"Times New Roman\" SIZE=-1>0.0000</FONT></TD>","<TD NOWRAP ALIGN=CENTER><FONT FACE=\"Times New Roman\" SIZE=-1>$0.00</FONT></TD>","</TR>"]
["Town of Schaghticoke",{"$f":"B132","v":0},{"$f":"C132","v":0},null,{"$f":"MIN(INDIRECT(U132))","v":0},{"$f":"IF(G131<>0,\"to\",\"\")","v":""},{"$f":"IF(U131<>V131,MAX(INDIRECT(U132)),0)","v":0},{"$f":"MIN(INDIRECT(V132))","v":0},{"$f":"IF(J131<>0,\"to\",\"\")","v":""},{"$f":"IF(U131<>V131,MAX(INDIRECT(V132)),0)","v":0},{"$f":"K132","v":0},{"$f":"MIN(INDIRECT(W132))","v":0},{"$f":"IF(N131<>0,\"to\",\"\")","v":""},{"$f":"IF(U131<>V131,MAX(INDIRECT(W132)),0)","v":0},null,null,null,null,null,null,{"$f":"CELL(\"row\",P132)","v":132},{"$f":"CELL(\"row\",P137)","v":137},null,null,"<TR VALIGN=BOTTOM BGCOLOR=\"#FFFFCC\">",{"$f":"\"<TH NOWRAP ALIGN=LEFT><FONT FACE=\"\"Times New Roman\"\" SIZE=-1>\"&A131&\"</FONT></TH>\"","v":"<TH NOWRAP ALIGN=LEFT><FONT FACE=\"Times New Roman\" SIZE=-1>Town of Schaghticoke</FONT></TH>"},"<TD NOWRAP ALIGN=RIGHT><FONT FACE=\"Times New Roman\" SIZE=-1>$0.00</FONT></TD>","<TD NOWRAP ALIGN=RIGHT><FONT FACE=\"Times New Roman\" SIZE=-1>$0.00</FONT></TD>","<TD NOWRAP ALIGN=RIGHT><FONT FACE=\"Times New Roman\" SIZE=-1><BR></FONT></TD>","<TD NOWRAP ALIGN=CENTER><FONT FACE=\"Times New Roman\" SIZE=-1>$0.00</FONT></TD>","<TD NOWRAP ALIGN=CENTER><FONT FACE=\"Times New Roman\" SIZE=-1>$0.00</FONT></TD>","<TD NOWRAP ALIGN=CENTER><FONT FACE=\"Times New Roman\" SIZE=-1>0.0000</FONT></TD>","<TD NOWRAP ALIGN=CENTER><FONT FACE=\"Times New Roman\" SIZE=-1>$0.00</FONT></TD>","</TR>"]
["Brunswick CSD",{"$f":"'2017 Base Data'!F132","v":0},{"$f":"'2017 Base Data'!G132","v":0},null,{"$f":"'2017 Base Data'!I132","v":0},null,null,{"$f":"'2017 Base Data'!J132","v":0},null,null,{"$f":"'2017 Base Data'!K132","v":0},{"$f":"'2017 Base Data'!R132","v":0},null,null,{"$f":"ROUND(IF(S132<>0,R132*D132+S132*SUM(B132:C132)+T132*E132,R132*SUM(B132:D132)+T132*E132),2)","v":0},{"$f":"L132-O132","v":0},null,{"$f":"'2017 Base Data'!K132","v":0},{"$f":"'2017 Base Data'!L132","v":0},{"$f":"'2017 Base Data'!M132","v":0},{"$f":"\"E\"&U131&\":\"&\"E\"&V131","v":"E132:E137"},{"$f":"\"H\"&U131&\":\"&\"H\"&V131","v":"H132:H137"},{"$f":"\"L\"&U131&\":\"&\"L\"&V131","v":"L132:L137"},null,"<TR VALIGN=BOTTOM>",{"$f":"\"<TD NOWRAP ALIGN=LEFT><FONT FACE=\"\"Times New Roman\"\" SIZE=-1 COLOR=#00AA00\"\">\"&A132&\"</FONT></TD>\"","v":"<TD NOWRAP ALIGN=LEFT><FONT FACE=\"Times New Roman\" SIZE=-1 COLOR=#00AA00\">Brunswick CSD</FONT></TD>"},"<TD NOWRAP ALIGN=RIGHT><FONT FACE=\"Times New Roman\" SIZE=-1>$0.00</FONT></TD>","<TD NOWRAP ALIGN=RIGHT><FONT FACE=\"Times New Roman\" SIZE=-1>$0.00</FONT></TD>","<TD NOWRAP ALIGN=RIGHT><FONT FACE=\"Times New Roman\" SIZE=-1><BR></FONT></TD>","<TD NOWRAP ALIGN=CENTER><FONT FACE=\"Times New Roman\" SIZE=-1>$0.00</FONT></TD>","<TD NOWRAP ALIGN=CENTER><FONT FACE=\"Times New Roman\" SIZE=-1>$0.00</FONT></TD>","<TD NOWRAP ALIGN=CENTER><FONT FACE=\"Times New Roman\" SIZE=-1>0.0000</FONT></TD>","<TD NOWRAP ALIGN=CENTER><FONT FACE=\"Times New Roman\" SIZE=-1>$0.00</FONT></TD>","</TR>"]
["Cambridge CSD",{"$f":"'2017 Base Data'!F133","v":0},{"$f":"'2017 Base Data'!G133","v":0},null,{"$f":"'2017 Base Data'!I133","v":0},null,null,{"$f":"'2017 Base Data'!J133","v":0},null,null,{"$f":"'2017 Base Data'!K133","v":0},{"$f":"'2017 Base Data'!R133","v":0},null,null,0,0,null,{"$f":"'2017 Base Data'!K133","v":0},{"$f":"'2017 Base Data'!L133","v":0},{"$f":"'2017 Base Data'!M133","v":0},null,null,null,null,"<TR VALIGN=BOTTOM>","<TD NOWRAP ALIGN=LEFT><FONT FACE=\"Times New Roman\" SIZE=-1 COLOR=#00AA00\">Cambridge CSD</FONT></TD>","<TD NOWRAP ALIGN=RIGHT><FONT FACE=\"Times New Roman\" SIZE=-1>$0.00</FONT></TD>","<TD NOWRAP ALIGN=RIGHT><FONT FACE=\"Times New Roman\" SIZE=-1>$0.00</FONT></TD>","<TD NOWRAP ALIGN=RIGHT><FONT FACE=\"Times New Roman\" SIZE=-1><BR></FONT></TD>","<TD NOWRAP ALIGN=CENTER><FONT FACE=\"Times New Roman\" SIZE=-1>$0.00</FONT></TD>","<TD NOWRAP ALIGN=CENTER><FONT FACE=\"Times New Roman\" SIZE=-1>$0.00</FONT></TD>","<TD NOWRAP ALIGN=CENTER><FONT FACE=\"Times New Roman\" SIZE=-1>0.0000</FONT></TD>","<TD NOWRAP ALIGN=CENTER><FONT FACE=\"Times New Roman\" SIZE=-1>$0.00</FONT></TD>","</TR>"]
["Hoosic Valley CSD",{"$f":"'2017 Base Data'!F134","v":0},{"$f":"'2017 Base Data'!G134","v":0},null,{"$f":"'2017 Base Data'!I134","v":0},null,null,{"$f":"'2017 Base Data'!J134","v":0},null,null,{"$f":"'2017 Base Data'!K134","v":0},{"$f":"'2017 Base Data'!R134","v":0},null,null,0,0,null,{"$f":"'2017 Base Data'!K134","v":0},{"$f":"'2017 Base Data'!L134","v":0},{"$f":"'2017 Base Data'!M134","v":0},null,null,null,null,"<TR VALIGN=BOTTOM>","<TD NOWRAP ALIGN=LEFT><FONT FACE=\"Times New Roman\" SIZE=-1 COLOR=#00AA00\">Hoosic Valley CSD</FONT></TD>","<TD NOWRAP ALIGN=RIGHT><FONT FACE=\"Times New Roman\" SIZE=-1>$0.00</FONT></TD>","<TD NOWRAP ALIGN=RIGHT><FONT FACE=\"Times New Roman\" SIZE=-1>$0.00</FONT></TD>","<TD NOWRAP ALIGN=RIGHT><FONT FACE=\"Times New Roman\" SIZE=-1><BR></FONT></TD>","<TD NOWRAP ALIGN=CENTER><FONT FACE=\"Times New Roman\" SIZE=-1>$0.00</FONT></TD>","<TD NOWRAP ALIGN=CENTER><FONT FACE=\"Times New Roman\" SIZE=-1>$0.00</FONT></TD>","<TD NOWRAP ALIGN=CENTER><FONT FACE=\"Times New Roman\" SIZE=-1>0.0000</FONT></TD>","<TD NOWRAP ALIGN=CENTER><FONT FACE=\"Times New Roman\" SIZE=-1>$0.00</FONT></TD>","</TR>"]
["Lansingburgh CSD",{"$f":"'2017 Base Data'!F135","v":0},{"$f":"'2017 Base Data'!G135","v":0},null,{"$f":"'2017 Base Data'!I135","v":0},null,null,{"$f":"'2017 Base Data'!J135","v":0},null,null,{"$f":"'2017 Base Data'!K135","v":0},{"$f":"'2017 Base Data'!R135","v":0},null,null,0,0,null,{"$f":"'2017 Base Data'!K135","v":0},{"$f":"'2017 Base Data'!L135","v":0},{"$f":"'2017 Base Data'!M135","v":0},null,null,null,null,"<TR VALIGN=BOTTOM>","<TD NOWRAP ALIGN=LEFT><FONT FACE=\"Times New Roman\" SIZE=-1 COLOR=#00AA00\">Lansingburgh CSD</FONT></TD>","<TD NOWRAP ALIGN=RIGHT><FONT FACE=\"Times New Roman\" SIZE=-1>$0.00</FONT></TD>","<TD NOWRAP ALIGN=RIGHT><FONT FACE=\"Times New Roman\" SIZE=-1>$0.00</FONT></TD>","<TD NOWRAP ALIGN=RIGHT><FONT FACE=\"Times New Roman\" SIZE=-1><BR></FONT></TD>","<TD NOWRAP ALIGN=CENTER><FONT FACE=\"Times New Roman\" SIZE=-1>$0.00</FONT></TD>","<TD NOWRAP ALIGN=CENTER><FONT FACE=\"Times New Roman\" SIZE=-1>$0.00</FONT></TD>","<TD NOWRAP ALIGN=CENTER><FONT FACE=\"Times New Roman\" SIZE=-1>0.0000</FONT></TD>","<TD NOWRAP ALIGN=CENTER><FONT FACE=\"Times New Roman\" SIZE=-1>$0.00</FONT></TD>","</TR>"]
["Mechanicville City SD",{"$f":"'2017 Base Data'!F136","v":0},{"$f":"'2017 Base Data'!G136","v":0},null,{"$f":"'2017 Base Data'!I136","v":0},null,null,{"$f":"'2017 Base Data'!J136","v":0},null,null,{"$f":"'2017 Base Data'!K136","v":0},{"$f":"'2017 Base Data'!R136","v":0},null,null,0,0,null,{"$f":"'2017 Base Data'!K136","v":0},{"$f":"'2017 Base Data'!L136","v":0},{"$f":"'2017 Base Data'!M136","v":0},null,null,null,null,"<TR VALIGN=BOTTOM>","<TD NOWRAP ALIGN=LEFT><FONT FACE=\"Times New Roman\" SIZE=-1 COLOR=#00AA00\">Mechanicville City SD</FONT></TD>","<TD NOWRAP ALIGN=RIGHT><FONT FACE=\"Times New Roman\" SIZE=-1>$0.00</FONT></TD>","<TD NOWRAP ALIGN=RIGHT><FONT FACE=\"Times New Roman\" SIZE=-1>$0.00</FONT></TD>","<TD NOWRAP ALIGN=RIGHT><FONT FACE=\"Times New Roman\" SIZE=-1><BR></FONT></TD>","<TD NOWRAP ALIGN=CENTER><FONT FACE=\"Times New Roman\" SIZE=-1>$0.00</FONT></TD>","<TD NOWRAP ALIGN=CENTER><FONT FACE=\"Times New Roman\" SIZE=-1>$0.00</FONT></TD>","<TD NOWRAP ALIGN=CENTER><FONT FACE=\"Times New Roman\" SIZE=-1>0.0000</FONT></TD>","<TD NOWRAP ALIGN=CENTER><FONT FACE=\"Times New Roman\" SIZE=-1>$0.00</FONT></TD>","</TR>"]
["Stillwater CSD",{"$f":"'2017 Base Data'!F137","v":0},{"$f":"'2017 Base Data'!G137","v":0},null,{"$f":"'2017 Base Data'!I137","v":0},null,null,{"$f":"'2017 Base Data'!J137","v":0},null,null,{"$f":"'2017 Base Data'!K137","v":0},{"$f":"'2017 Base Data'!R137","v":0},null,null,0,0,null,{"$f":"'2017 Base Data'!K137","v":0},{"$f":"'2017 Base Data'!L137","v":0},{"$f":"'2017 Base Data'!M137","v":0},null,null,null,null,"<TR VALIGN=BOTTOM>","<TD NOWRAP ALIGN=LEFT><FONT FACE=\"Times New Roman\" SIZE=-1 COLOR=#00AA00\">Stillwater CSD</FONT></TD>","<TD NOWRAP ALIGN=RIGHT><FONT FACE=\"Times New Roman\" SIZE=-1>$0.00</FONT></TD>","<TD NOWRAP ALIGN=RIGHT><FONT FACE=\"Times New Roman\" SIZE=-1>$0.00</FONT></TD>","<TD NOWRAP ALIGN=RIGHT><FONT FACE=\"Times New Roman\" SIZE=-1><BR></FONT></TD>","<TD NOWRAP ALIGN=CENTER><FONT FACE=\"Times New Roman\" SIZE=-1>$0.00</FONT></TD>","<TD NOWRAP ALIGN=CENTER><FONT FACE=\"Times New Roman\" SIZE=-1>$0.00</FONT></TD>","<TD NOWRAP ALIGN=CENTER><FONT FACE=\"Times New Roman\" SIZE=-1>0.0000</FONT></TD>","<TD NOWRAP ALIGN=CENTER><FONT FACE=\"Times New Roman\" SIZE=-1>$0.00</FONT></TD>","</TR>"]
["Village of Schaghticoke",{"$f":"B139","v":0},{"$f":"C139","v":0},{"$f":"D139","v":0},{"$f":"MIN(INDIRECT(U139))","v":0},{"$f":"IF(G138<>0,\"to\",\"\")","v":""},{"$f":"IF(U138<>V138,MAX(INDIRECT(U139)),0)","v":0},{"$f":"MIN(INDIRECT(V139))","v":0},{"$f":"IF(J138<>0,\"to\",\"\")","v":""},{"$f":"IF(U138<>V138,MAX(INDIRECT(V139)),0)","v":0},{"$f":"K139","v":0},{"$f":"MIN(INDIRECT(W139))","v":0},{"$f":"IF(N138<>0,\"to\",\"\")","v":""},{"$f":"IF(U138<>V138,MAX(INDIRECT(W139)),0)","v":0},null,null,null,null,null,null,{"$f":"CELL(\"row\",P139)","v":139},{"$f":"CELL(\"row\",P139)","v":139},null,null,"<TR VALIGN=BOTTOM BGCOLOR=\"#FFFFCC\">",{"$f":"\"<TH NOWRAP ALIGN=LEFT><FONT FACE=\"\"Times New Roman\"\" SIZE=-1 COLOR=\"\"#0000CC\"\">\"&A138&\"</FONT></TH>\"","v":"<TH NOWRAP ALIGN=LEFT><FONT FACE=\"Times New Roman\" SIZE=-1 COLOR=\"#0000CC\">Village of Schaghticoke</FONT></TH>"},"<TD NOWRAP ALIGN=RIGHT><FONT FACE=\"Times New Roman\" SIZE=-1>$0.00</FONT></TD>","<TD NOWRAP ALIGN=RIGHT><FONT FACE=\"Times New Roman\" SIZE=-1>$0.00</FONT></TD>","<TD NOWRAP ALIGN=RIGHT><FONT FACE=\"Times New Roman\" SIZE=-1>$0.00</FONT></TD>","<TD NOWRAP ALIGN=CENTER><FONT FACE=\"Times New Roman\" SIZE=-1>$0.00</FONT></TD>","<TD NOWRAP ALIGN=CENTER><FONT FACE=\"Times New Roman\" SIZE=-1>$0.00</FONT></TD>","<TD NOWRAP ALIGN=CENTER><FONT FACE=\"Times New Roman\" SIZE=-1>0.0000</FONT></TD>","<TD NOWRAP ALIGN=CENTER><FONT FACE=\"Times New Roman\" SIZE=-1>$0.00</FONT></TD>","</TR>"]
["Hoosic Valley CSD",{"$f":"'2017 Base Data'!F139","v":0},{"$f":"'2017 Base Data'!G139","v":0},{"$f":"'2017 Base Data'!H139","v":0},{"$f":"'2017 Base Data'!I139","v":0},null,null,{"$f":"'2017 Base Data'!J139","v":0},null,null,{"$f":"'2017 Base Data'!K139","v":0},{"$f":"'2017 Base Data'!R139","v":0},null,null,{"$f":"ROUND(IF(S139<>0,R139*D139+S139*SUM(B139:C139)+T139*E139,R139*SUM(B139:D139)+T139*E139),2)","v":0},{"$f":"L139-O139","v":0},null,{"$f":"'2017 Base Data'!K139","v":0},{"$f":"'2017 Base Data'!L139","v":0},{"$f":"'2017 Base Data'!M139","v":0},{"$f":"\"E\"&U138&\":\"&\"E\"&V138","v":"E139:E139"},{"$f":"\"H\"&U138&\":\"&\"H\"&V138","v":"H139:H139"},{"$f":"\"L\"&U138&\":\"&\"L\"&V138","v":"L139:L139"},null,"<TR VALIGN=BOTTOM>",{"$f":"\"<TD NOWRAP ALIGN=LEFT><FONT FACE=\"\"Times New Roman\"\" SIZE=-1 COLOR=#00AA00\"\">\"&A139&\"</FONT></TD>\"","v":"<TD NOWRAP ALIGN=LEFT><FONT FACE=\"Times New Roman\" SIZE=-1 COLOR=#00AA00\">Hoosic Valley CSD</FONT></TD>"},"<TD NOWRAP ALIGN=RIGHT><FONT FACE=\"Times New Roman\" SIZE=-1>$0.00</FONT></TD>","<TD NOWRAP ALIGN=RIGHT><FONT FACE=\"Times New Roman\" SIZE=-1>$0.00</FONT></TD>","<TD NOWRAP ALIGN=RIGHT><FONT FACE=\"Times New Roman\" SIZE=-1>$0.00</FONT></TD>","<TD NOWRAP ALIGN=CENTER><FONT FACE=\"Times New Roman\" SIZE=-1>$0.00</FONT></TD>","<TD NOWRAP ALIGN=CENTER><FONT FACE=\"Times New Roman\" SIZE=-1>$0.00</FONT></TD>","<TD NOWRAP ALIGN=CENTER><FONT FACE=\"Times New Roman\" SIZE=-1>0.0000</FONT></TD>","<TD NOWRAP ALIGN=CENTER><FONT FACE=\"Times New Roman\" SIZE=-1>$0.00</FONT></TD>","</TR>"]
["Village of Valley Falls (part)",{"$f":"B141","v":0},{"$f":"C141","v":0},{"$f":"D141","v":0},{"$f":"MIN(INDIRECT(U141))","v":0},{"$f":"IF(G140<>0,\"to\",\"\")","v":""},{"$f":"IF(U140<>V140,MAX(INDIRECT(U141)),0)","v":0},{"$f":"MIN(INDIRECT(V141))","v":0},{"$f":"IF(J140<>0,\"to\",\"\")","v":""},{"$f":"IF(U140<>V140,MAX(INDIRECT(V141)),0)","v":0},{"$f":"K141","v":0},{"$f":"MIN(INDIRECT(W141))","v":0},{"$f":"IF(N140<>0,\"to\",\"\")","v":""},{"$f":"IF(U140<>V140,MAX(INDIRECT(W141)),0)","v":0},null,null,null,null,null,null,{"$f":"CELL(\"row\",P141)","v":141},{"$f":"CELL(\"row\",P141)","v":141},null,null,"<TR VALIGN=BOTTOM BGCOLOR=\"#FFFFCC\">",{"$f":"\"<TH NOWRAP ALIGN=LEFT><FONT FACE=\"\"Times New Roman\"\" SIZE=-1 COLOR=\"\"#808000\"\">\"&A140&\"</FONT></TH>\"","v":"<TH NOWRAP ALIGN=LEFT><FONT FACE=\"Times New Roman\" SIZE=-1 COLOR=\"#808000\">Village of Valley Falls (part)</FONT></TH>"},"<TD NOWRAP ALIGN=RIGHT><FONT FACE=\"Times New Roman\" SIZE=-1>$0.00</FONT></TD>","<TD NOWRAP ALIGN=RIGHT><FONT FACE=\"Times New Roman\" SIZE=-1>$0.00</FONT></TD>","<TD NOWRAP ALIGN=RIGHT><FONT FACE=\"Times New Roman\" SIZE=-1>$0.00</FONT></TD>","<TD NOWRAP ALIGN=CENTER><FONT FACE=\"Times New Roman\" SIZE=-1>$0.00</FONT></TD>","<TD NOWRAP ALIGN=CENTER><FONT FACE=\"Times New Roman\" SIZE=-1>$0.00</FONT></TD>","<TD NOWRAP ALIGN=CENTER><FONT FACE=\"Times New Roman\" SIZE=-1>0.0000</FONT></TD>","<TD NOWRAP ALIGN=CENTER><FONT FACE=\"Times New Roman\" SIZE=-1>$0.00</FONT></TD>","</TR>"]
["Hoosic Valley CSD",{"$f":"'2017 Base Data'!F141","v":0},{"$f":"'2017 Base Data'!G141","v":0},{"$f":"'2017 Base Data'!H141","v":0},{"$f":"'2017 Base Data'!I141","v":0},null,null,{"$f":"'2017 Base Data'!J141","v":0},null,null,{"$f":"'2017 Base Data'!K141","v":0},{"$f":"'2017 Base Data'!R141","v":0},null,null,{"$f":"ROUND(IF(S141<>0,R141*D141+S141*SUM(B141:C141)+T141*E141,R141*SUM(B141:D141)+T141*E141),2)","v":0},{"$f":"L141-O141","v":0},null,{"$f":"'2017 Base Data'!K141","v":0},{"$f":"'2017 Base Data'!L141","v":0},{"$f":"'2017 Base Data'!M141","v":0},{"$f":"\"E\"&U140&\":\"&\"E\"&V140","v":"E141:E141"},{"$f":"\"H\"&U140&\":\"&\"H\"&V140","v":"H141:H141"},{"$f":"\"L\"&U140&\":\"&\"L\"&V140","v":"L141:L141"},null,"<TR VALIGN=BOTTOM>",{"$f":"\"<TD NOWRAP ALIGN=LEFT><FONT FACE=\"\"Times New Roman\"\" SIZE=-1 COLOR=#00AA00\"\">\"&A141&\"</FONT></TD>\"","v":"<TD NOWRAP ALIGN=LEFT><FONT FACE=\"Times New Roman\" SIZE=-1 COLOR=#00AA00\">Hoosic Valley CSD</FONT></TD>"},"<TD NOWRAP ALIGN=RIGHT><FONT FACE=\"Times New Roman\" SIZE=-1>$0.00</FONT></TD>","<TD NOWRAP ALIGN=RIGHT><FONT FACE=\"Times New Roman\" SIZE=-1>$0.00</FONT></TD>","<TD NOWRAP ALIGN=RIGHT><FONT FACE=\"Times New Roman\" SIZE=-1>$0.00</FONT></TD>","<TD NOWRAP ALIGN=CENTER><FONT FACE=\"Times New Roman\" SIZE=-1>$0.00</FONT></TD>","<TD NOWRAP ALIGN=CENTER><FONT FACE=\"Times New Roman\" SIZE=-1>$0.00</FONT></TD>","<TD NOWRAP ALIGN=CENTER><FONT FACE=\"Times New Roman\" SIZE=-1>0.0000</FONT></TD>","<TD NOWRAP ALIGN=CENTER><FONT FACE=\"Times New Roman\" SIZE=-1>$0.00</FONT></TD>","</TR>"]
["Town of Schodack",{"$f":"B143","v":0},{"$f":"C143","v":0},null,{"$f":"MIN(INDIRECT(U143))","v":0},{"$f":"IF(G142<>0,\"to\",\"\")","v":""},{"$f":"IF(U142<>V142,MAX(INDIRECT(U143)),0)","v":0},{"$f":"MIN(INDIRECT(V143))","v":0},{"$f":"IF(J142<>0,\"to\",\"\")","v":""},{"$f":"IF(U142<>V142,MAX(INDIRECT(V143)),0)","v":0},{"$f":"K143","v":0},{"$f":"MIN(INDIRECT(W143))","v":0},{"$f":"IF(N142<>0,\"to\",\"\")","v":""},{"$f":"IF(U142<>V142,MAX(INDIRECT(W143)),0)","v":0},null,null,null,null,null,null,{"$f":"CELL(\"row\",P143)","v":143},{"$f":"CELL(\"row\",P146)","v":146},null,null,"<TR VALIGN=BOTTOM BGCOLOR=\"#FFFFCC\">",{"$f":"\"<TH NOWRAP ALIGN=LEFT><FONT FACE=\"\"Times New Roman\"\" SIZE=-1>\"&A142&\"</FONT></TH>\"","v":"<TH NOWRAP ALIGN=LEFT><FONT FACE=\"Times New Roman\" SIZE=-1>Town of Schodack</FONT></TH>"},"<TD NOWRAP ALIGN=RIGHT><FONT FACE=\"Times New Roman\" SIZE=-1>$0.00</FONT></TD>","<TD NOWRAP ALIGN=RIGHT><FONT FACE=\"Times New Roman\" SIZE=-1>$0.00</FONT></TD>","<TD NOWRAP ALIGN=RIGHT><FONT FACE=\"Times New Roman\" SIZE=-1><BR></FONT></TD>","<TD NOWRAP ALIGN=CENTER><FONT FACE=\"Times New Roman\" SIZE=-1>$0.00</FONT></TD>","<TD NOWRAP ALIGN=CENTER><FONT FACE=\"Times New Roman\" SIZE=-1>$0.00</FONT></TD>","<TD NOWRAP ALIGN=CENTER><FONT FACE=\"Times New Roman\" SIZE=-1>0.0000</FONT></TD>","<TD NOWRAP ALIGN=CENTER><FONT FACE=\"Times New Roman\" SIZE=-1>$0.00</FONT></TD>","</TR>"]
["Averill Park CSD",{"$f":"'2017 Base Data'!F143","v":0},{"$f":"'2017 Base Data'!G143","v":0},null,{"$f":"'2017 Base Data'!I143","v":0},null,null,{"$f":"'2017 Base Data'!J143","v":0},null,null,{"$f":"'2017 Base Data'!K143","v":0},{"$f":"'2017 Base Data'!R143","v":0},null,null,{"$f":"ROUND(IF(S143<>0,R143*D143+S143*SUM(B143:C143)+T143*E143,R143*SUM(B143:D143)+T143*E143),2)","v":0},{"$f":"L143-O143","v":0},null,{"$f":"'2017 Base Data'!K143","v":0},{"$f":"'2017 Base Data'!L143","v":0},{"$f":"'2017 Base Data'!M143","v":0},{"$f":"\"E\"&U142&\":\"&\"E\"&V142","v":"E143:E146"},{"$f":"\"H\"&U142&\":\"&\"H\"&V142","v":"H143:H146"},{"$f":"\"L\"&U142&\":\"&\"L\"&V142","v":"L143:L146"},null,"<TR VALIGN=BOTTOM>",{"$f":"\"<TD NOWRAP ALIGN=LEFT><FONT FACE=\"\"Times New Roman\"\" SIZE=-1 COLOR=#00AA00\"\">\"&A143&\"</FONT></TD>\"","v":"<TD NOWRAP ALIGN=LEFT><FONT FACE=\"Times New Roman\" SIZE=-1 COLOR=#00AA00\">Averill Park CSD</FONT></TD>"},"<TD NOWRAP ALIGN=RIGHT><FONT FACE=\"Times New Roman\" SIZE=-1>$0.00</FONT></TD>","<TD NOWRAP ALIGN=RIGHT><FONT FACE=\"Times New Roman\" SIZE=-1>$0.00</FONT></TD>","<TD NOWRAP ALIGN=RIGHT><FONT FACE=\"Times New Roman\" SIZE=-1><BR></FONT></TD>","<TD NOWRAP ALIGN=CENTER><FONT FACE=\"Times New Roman\" SIZE=-1>$0.00</FONT></TD>","<TD NOWRAP ALIGN=CENTER><FONT FACE=\"Times New Roman\" SIZE=-1>$0.00</FONT></TD>","<TD NOWRAP ALIGN=CENTER><FONT FACE=\"Times New Roman\" SIZE=-1>0.0000</FONT></TD>","<TD NOWRAP ALIGN=CENTER><FONT FACE=\"Times New Roman\" SIZE=-1>$0.00</FONT></TD>","</TR>"]
["East Greenbush CSD",{"$f":"'2017 Base Data'!F144","v":0},{"$f":"'2017 Base Data'!G144","v":0},null,{"$f":"'2017 Base Data'!I144","v":0},null,null,{"$f":"'2017 Base Data'!J144","v":0},null,null,{"$f":"'2017 Base Data'!K144","v":0},{"$f":"'2017 Base Data'!R144","v":0},null,null,{"$f":"ROUND(IF(S144<>0,R144*D144+S144*SUM(B144:C144)+T144*E144,R144*SUM(B144:D144)+T144*E144),2)","v":0},{"$f":"L144-O144","v":0},null,{"$f":"'2017 Base Data'!K144","v":0},{"$f":"'2017 Base Data'!L144","v":0},{"$f":"'2017 Base Data'!M144","v":0},null,null,null,null,"<TR VALIGN=BOTTOM>",{"$f":"\"<TD NOWRAP ALIGN=LEFT><FONT FACE=\"\"Times New Roman\"\" SIZE=-1 COLOR=#00AA00\"\">\"&A144&\"</FONT></TD>\"","v":"<TD NOWRAP ALIGN=LEFT><FONT FACE=\"Times New Roman\" SIZE=-1 COLOR=#00AA00\">East Greenbush CSD</FONT></TD>"},"<TD NOWRAP ALIGN=RIGHT><FONT FACE=\"Times New Roman\" SIZE=-1>$0.00</FONT></TD>","<TD NOWRAP ALIGN=RIGHT><FONT FACE=\"Times New Roman\" SIZE=-1>$0.00</FONT></TD>","<TD NOWRAP ALIGN=RIGHT><FONT FACE=\"Times New Roman\" SIZE=-1><BR></FONT></TD>","<TD NOWRAP ALIGN=CENTER><FONT FACE=\"Times New Roman\" SIZE=-1>$0.00</FONT></TD>","<TD NOWRAP ALIGN=CENTER><FONT FACE=\"Times New Roman\" SIZE=-1>$0.00</FONT></TD>","<TD NOWRAP ALIGN=CENTER><FONT FACE=\"Times New Roman\" SIZE=-1>0.0000</FONT></TD>","<TD NOWRAP ALIGN=CENTER><FONT FACE=\"Times New Roman\" SIZE=-1>$0.00</FONT></TD>","</TR>"]
["Kinderhook CSD",{"$f":"'2017 Base Data'!F145","v":0},{"$f":"'2017 Base Data'!G145","v":0},null,{"$f":"'2017 Base Data'!I145","v":0},null,null,{"$f":"'2017 Base Data'!J145","v":0},null,null,{"$f":"'2017 Base Data'!K145","v":0},{"$f":"'2017 Base Data'!R145","v":0},null,null,{"$f":"ROUND(IF(S145<>0,R145*D145+S145*SUM(B145:C145)+T145*E145,R145*SUM(B145:D145)+T145*E145),2)","v":0},{"$f":"L145-O145","v":0},null,{"$f":"'2017 Base Data'!K145","v":0},{"$f":"'2017 Base Data'!L145","v":0},{"$f":"'2017 Base Data'!M145","v":0},null,null,null,null,"<TR VALIGN=BOTTOM>",{"$f":"\"<TD NOWRAP ALIGN=LEFT><FONT FACE=\"\"Times New Roman\"\" SIZE=-1 COLOR=#00AA00\"\">\"&A145&\"</FONT></TD>\"","v":"<TD NOWRAP ALIGN=LEFT><FONT FACE=\"Times New Roman\" SIZE=-1 COLOR=#00AA00\">Kinderhook CSD</FONT></TD>"},"<TD NOWRAP ALIGN=RIGHT><FONT FACE=\"Times New Roman\" SIZE=-1>$0.00</FONT></TD>","<TD NOWRAP ALIGN=RIGHT><FONT FACE=\"Times New Roman\" SIZE=-1>$0.00</FONT></TD>","<TD NOWRAP ALIGN=RIGHT><FONT FACE=\"Times New Roman\" SIZE=-1><BR></FONT></TD>","<TD NOWRAP ALIGN=CENTER><FONT FACE=\"Times New Roman\" SIZE=-1>$0.00</FONT></TD>","<TD NOWRAP ALIGN=CENTER><FONT FACE=\"Times New Roman\" SIZE=-1>$0.00</FONT></TD>","<TD NOWRAP ALIGN=CENTER><FONT FACE=\"Times New Roman\" SIZE=-1>0.0000</FONT></TD>","<TD NOWRAP ALIGN=CENTER><FONT FACE=\"Times New Roman\" SIZE=-1>$0.00</FONT></TD>","</TR>"]
["Schodack CSD",{"$f":"'2017 Base Data'!F146","v":0},{"$f":"'2017 Base Data'!G146","v":0},null,{"$f":"'2017 Base Data'!I146","v":0},null,null,{"$f":"'2017 Base Data'!J146","v":0},null,null,{"$f":"'2017 Base Data'!K146","v":0},{"$f":"'2017 Base Data'!R146","v":0},null,null,{"$f":"ROUND(IF(S146<>0,R146*D146+S146*SUM(B146:C146)+T146*E146,R146*SUM(B146:D146)+T146*E146),2)","v":0},{"$f":"L146-O146","v":0},null,{"$f":"'2017 Base Data'!K146","v":0},{"$f":"'2017 Base Data'!L146","v":0},{"$f":"'2017 Base Data'!M146","v":0},null,null,null,null,"<TR VALIGN=BOTTOM>",{"$f":"\"<TD NOWRAP ALIGN=LEFT><FONT FACE=\"\"Times New Roman\"\" SIZE=-1 COLOR=#00AA00\"\">\"&A146&\"</FONT></TD>\"","v":"<TD NOWRAP ALIGN=LEFT><FONT FACE=\"Times New Roman\" SIZE=-1 COLOR=#00AA00\">Schodack CSD</FONT></TD>"},"<TD NOWRAP ALIGN=RIGHT><FONT FACE=\"Times New Roman\" SIZE=-1>$0.00</FONT></TD>","<TD NOWRAP ALIGN=RIGHT><FONT FACE=\"Times New Roman\" SIZE=-1>$0.00</FONT></TD>","<TD NOWRAP ALIGN=RIGHT><FONT FACE=\"Times New Roman\" SIZE=-1><BR></FONT></TD>","<TD NOWRAP ALIGN=CENTER><FONT FACE=\"Times New Roman\" SIZE=-1>$0.00</FONT></TD>","<TD NOWRAP ALIGN=CENTER><FONT FACE=\"Times New Roman\" SIZE=-1>$0.00</FONT></TD>","<TD NOWRAP ALIGN=CENTER><FONT FACE=\"Times New Roman\" SIZE=-1>0.0000</FONT></TD>","<TD NOWRAP ALIGN=CENTER><FONT FACE=\"Times New Roman\" SIZE=-1>$0.00</FONT></TD>","</TR>"]
["Village of Castleton-on-Hudson",{"$f":"B148","v":0},{"$f":"C148","v":0},{"$f":"D148","v":0},{"$f":"MIN(INDIRECT(U148))","v":0},{"$f":"IF(G147<>0,\"to\",\"\")","v":""},{"$f":"IF(U147<>V147,MAX(INDIRECT(U148)),0)","v":0},{"$f":"MIN(INDIRECT(V148))","v":0},{"$f":"IF(J147<>0,\"to\",\"\")","v":""},{"$f":"IF(U147<>V147,MAX(INDIRECT(V148)),0)","v":0},{"$f":"K148","v":0},{"$f":"MIN(INDIRECT(W148))","v":0},{"$f":"IF(N147<>0,\"to\",\"\")","v":""},{"$f":"IF(U147<>V147,MAX(INDIRECT(W148)),0)","v":0},null,null,null,null,null,null,{"$f":"CELL(\"row\",P148)","v":148},{"$f":"CELL(\"row\",P148)","v":148},null,null,"<TR VALIGN=BOTTOM BGCOLOR=\"#FFFFCC\">",{"$f":"\"<TH NOWRAP ALIGN=LEFT><FONT FACE=\"\"Times New Roman\"\" SIZE=-1 COLOR=\"\"#0000CC\"\">\"&A147&\"</FONT></TH>\"","v":"<TH NOWRAP ALIGN=LEFT><FONT FACE=\"Times New Roman\" SIZE=-1 COLOR=\"#0000CC\">Village of Castleton-on-Hudson</FONT></TH>"},"<TD NOWRAP ALIGN=RIGHT><FONT FACE=\"Times New Roman\" SIZE=-1>$0.00</FONT></TD>","<TD NOWRAP ALIGN=RIGHT><FONT FACE=\"Times New Roman\" SIZE=-1>$0.00</FONT></TD>","<TD NOWRAP ALIGN=RIGHT><FONT FACE=\"Times New Roman\" SIZE=-1>$0.00</FONT></TD>","<TD NOWRAP ALIGN=CENTER><FONT FACE=\"Times New Roman\" SIZE=-1>$0.00</FONT></TD>","<TD NOWRAP ALIGN=CENTER><FONT FACE=\"Times New Roman\" SIZE=-1>$0.00</FONT></TD>","<TD NOWRAP ALIGN=CENTER><FONT FACE=\"Times New Roman\" SIZE=-1>0.0000</FONT></TD>","<TD NOWRAP ALIGN=CENTER><FONT FACE=\"Times New Roman\" SIZE=-1>$0.00</FONT></TD>","</TR>"]
["Schodack CSD",{"$f":"'2017 Base Data'!F148","v":0},{"$f":"'2017 Base Data'!G148","v":0},{"$f":"'2017 Base Data'!H148","v":0},{"$f":"'2017 Base Data'!I148","v":0},null,null,{"$f":"'2017 Base Data'!J148","v":0},null,null,{"$f":"'2017 Base Data'!K148","v":0},{"$f":"'2017 Base Data'!R148","v":0},null,null,{"$f":"ROUND(IF(S148<>0,R148*D148+S148*SUM(B148:C148)+T148*E148,R148*SUM(B148:D148)+T148*E148),2)","v":0},{"$f":"L148-O148","v":0},null,{"$f":"'2017 Base Data'!K148","v":0},{"$f":"'2017 Base Data'!L148","v":0},{"$f":"'2017 Base Data'!M148","v":0},{"$f":"\"E\"&U147&\":\"&\"E\"&V147","v":"E148:E148"},{"$f":"\"H\"&U147&\":\"&\"H\"&V147","v":"H148:H148"},{"$f":"\"L\"&U147&\":\"&\"L\"&V147","v":"L148:L148"},null,"<TR VALIGN=BOTTOM>",{"$f":"\"<TD NOWRAP ALIGN=LEFT><FONT FACE=\"\"Times New Roman\"\" SIZE=-1 COLOR=#00AA00\"\">\"&A148&\"</FONT></TD>\"","v":"<TD NOWRAP ALIGN=LEFT><FONT FACE=\"Times New Roman\" SIZE=-1 COLOR=#00AA00\">Schodack CSD</FONT></TD>"},"<TD NOWRAP ALIGN=RIGHT><FONT FACE=\"Times New Roman\" SIZE=-1>$0.00</FONT></TD>","<TD NOWRAP ALIGN=RIGHT><FONT FACE=\"Times New Roman\" SIZE=-1>$0.00</FONT></TD>","<TD NOWRAP ALIGN=RIGHT><FONT FACE=\"Times New Roman\" SIZE=-1>$0.00</FONT></TD>","<TD NOWRAP ALIGN=CENTER><FONT FACE=\"Times New Roman\" SIZE=-1>$0.00</FONT></TD>","<TD NOWRAP ALIGN=CENTER><FONT FACE=\"Times New Roman\" SIZE=-1>$0.00</FONT></TD>","<TD NOWRAP ALIGN=CENTER><FONT FACE=\"Times New Roman\" SIZE=-1>0.0000</FONT></TD>","<TD NOWRAP ALIGN=CENTER><FONT FACE=\"Times New Roman\" SIZE=-1>$0.00</FONT></TD>","</TR>"]
["Village of Nassau (part)",{"$f":"B150","v":0},{"$f":"C150","v":0},{"$f":"D150","v":0},{"$f":"MIN(INDIRECT(U150))","v":0},{"$f":"IF(G149<>0,\"to\",\"\")","v":""},{"$f":"IF(U149<>V149,MAX(INDIRECT(U150)),0)","v":0},{"$f":"MIN(INDIRECT(V150))","v":0},{"$f":"IF(J149<>0,\"to\",\"\")","v":""},{"$f":"IF(U149<>V149,MAX(INDIRECT(V150)),0)","v":0},{"$f":"K150","v":0},{"$f":"MIN(INDIRECT(W150))","v":0},{"$f":"IF(N149<>0,\"to\",\"\")","v":""},{"$f":"IF(U149<>V149,MAX(INDIRECT(W150)),0)","v":0},null,null,null,null,null,null,{"$f":"CELL(\"row\",P150)","v":150},{"$f":"CELL(\"row\",P150)","v":150},null,null,"<TR VALIGN=BOTTOM BGCOLOR=\"#FFFFCC\">",{"$f":"\"<TH NOWRAP ALIGN=LEFT><FONT FACE=\"\"Times New Roman\"\" SIZE=-1 COLOR=\"\"#808000\"\">\"&A149&\"</FONT></TH>\"","v":"<TH NOWRAP ALIGN=LEFT><FONT FACE=\"Times New Roman\" SIZE=-1 COLOR=\"#808000\">Village of Nassau (part)</FONT></TH>"},"<TD NOWRAP ALIGN=RIGHT><FONT FACE=\"Times New Roman\" SIZE=-1>$0.00</FONT></TD>","<TD NOWRAP ALIGN=RIGHT><FONT FACE=\"Times New Roman\" SIZE=-1>$0.00</FONT></TD>","<TD NOWRAP ALIGN=RIGHT><FONT FACE=\"Times New Roman\" SIZE=-1>$0.00</FONT></TD>","<TD NOWRAP ALIGN=CENTER><FONT FACE=\"Times New Roman\" SIZE=-1>$0.00</FONT></TD>","<TD NOWRAP ALIGN=CENTER><FONT FACE=\"Times New Roman\" SIZE=-1>$0.00</FONT></TD>","<TD NOWRAP ALIGN=CENTER><FONT FACE=\"Times New Roman\" SIZE=-1>0.0000</FONT></TD>","<TD NOWRAP ALIGN=CENTER><FONT FACE=\"Times New Roman\" SIZE=-1>$0.00</FONT></TD>","</TR>"]
["East Greenbush CSD",{"$f":"'2017 Base Data'!F150","v":0},{"$f":"'2017 Base Data'!G150","v":0},{"$f":"'2017 Base Data'!H150","v":0},{"$f":"'2017 Base Data'!I150","v":0},null,null,{"$f":"'2017 Base Data'!J150","v":0},null,null,{"$f":"'2017 Base Data'!K150","v":0},{"$f":"'2017 Base Data'!R150","v":0},null,null,{"$f":"ROUND(IF(S150<>0,R150*D150+S150*SUM(B150:C150)+T150*E150,R150*SUM(B150:D150)+T150*E150),2)","v":0},{"$f":"L150-O150","v":0},null,{"$f":"'2017 Base Data'!K150","v":0},{"$f":"'2017 Base Data'!L150","v":0},{"$f":"'2017 Base Data'!M150","v":0},{"$f":"\"E\"&U149&\":\"&\"E\"&V149","v":"E150:E150"},{"$f":"\"H\"&U149&\":\"&\"H\"&V149","v":"H150:H150"},{"$f":"\"L\"&U149&\":\"&\"L\"&V149","v":"L150:L150"},null,"<TR VALIGN=BOTTOM>",{"$f":"\"<TD NOWRAP ALIGN=LEFT><FONT FACE=\"\"Times New Roman\"\" SIZE=-1 COLOR=#00AA00\"\">\"&A150&\"</FONT></TD>\"","v":"<TD NOWRAP ALIGN=LEFT><FONT FACE=\"Times New Roman\" SIZE=-1 COLOR=#00AA00\">East Greenbush CSD</FONT></TD>"},"<TD NOWRAP ALIGN=RIGHT><FONT FACE=\"Times New Roman\" SIZE=-1>$0.00</FONT></TD>","<TD NOWRAP ALIGN=RIGHT><FONT FACE=\"Times New Roman\" SIZE=-1>$0.00</FONT></TD>","<TD NOWRAP ALIGN=RIGHT><FONT FACE=\"Times New Roman\" SIZE=-1>$0.00</FONT></TD>","<TD NOWRAP ALIGN=CENTER><FONT FACE=\"Times New Roman\" SIZE=-1>$0.00</FONT></TD>","<TD NOWRAP ALIGN=CENTER><FONT FACE=\"Times New Roman\" SIZE=-1>$0.00</FONT></TD>","<TD NOWRAP ALIGN=CENTER><FONT FACE=\"Times New Roman\" SIZE=-1>0.0000</FONT></TD>","<TD NOWRAP ALIGN=CENTER><FONT FACE=\"Times New Roman\" SIZE=-1>$0.00</FONT></TD>","</TR>"]
["Town of Stephentown",{"$f":"B152","v":0},{"$f":"C152","v":0},null,{"$f":"MIN(INDIRECT(U152))","v":0},{"$f":"IF(G151<>0,\"to\",\"\")","v":""},{"$f":"IF(U151<>V151,MAX(INDIRECT(U152)),0)","v":0},{"$f":"MIN(INDIRECT(V152))","v":0},{"$f":"IF(J151<>0,\"to\",\"\")","v":""},{"$f":"IF(U151<>V151,MAX(INDIRECT(V152)),0)","v":0},{"$f":"K152","v":0},{"$f":"MIN(INDIRECT(W152))","v":0},{"$f":"IF(N151<>0,\"to\",\"\")","v":""},{"$f":"IF(U151<>V151,MAX(INDIRECT(W152)),0)","v":0},null,null,null,null,null,null,{"$f":"CELL(\"row\",P152)","v":152},{"$f":"CELL(\"row\",P154)","v":154},null,null,"<TR VALIGN=BOTTOM BGCOLOR=\"#FFFFCC\">",{"$f":"\"<TH NOWRAP ALIGN=LEFT><FONT FACE=\"\"Times New Roman\"\" SIZE=-1>\"&A151&\"</FONT></TH>\"","v":"<TH NOWRAP ALIGN=LEFT><FONT FACE=\"Times New Roman\" SIZE=-1>Town of Stephentown</FONT></TH>"},"<TD NOWRAP ALIGN=RIGHT><FONT FACE=\"Times New Roman\" SIZE=-1>$0.00</FONT></TD>","<TD NOWRAP ALIGN=RIGHT><FONT FACE=\"Times New Roman\" SIZE=-1>$0.00</FONT></TD>","<TD NOWRAP ALIGN=RIGHT><FONT FACE=\"Times New Roman\" SIZE=-1><BR></FONT></TD>","<TD NOWRAP ALIGN=CENTER><FONT FACE=\"Times New Roman\" SIZE=-1>$0.00</FONT></TD>","<TD NOWRAP ALIGN=CENTER><FONT FACE=\"Times New Roman\" SIZE=-1>$0.00</FONT></TD>","<TD NOWRAP ALIGN=CENTER><FONT FACE=\"Times New Roman\" SIZE=-1>0.0000</FONT></TD>","<TD NOWRAP ALIGN=CENTER><FONT FACE=\"Times New Roman\" SIZE=-1>$0.00</FONT></TD>","</TR>"]
["Averill Park CSD",{"$f":"'2017 Base Data'!F152","v":0},{"$f":"'2017 Base Data'!G152","v":0},null,{"$f":"'2017 Base Data'!I152","v":0},null,null,{"$f":"'2017 Base Data'!J152","v":0},null,null,{"$f":"'2017 Base Data'!K152","v":0},{"$f":"'2017 Base Data'!R152","v":0},null,null,{"$f":"ROUND(IF(S152<>0,R152*D152+S152*SUM(B152:C152)+T152*E152,R152*SUM(B152:D152)+T152*E152),2)","v":0},{"$f":"L152-O152","v":0},null,{"$f":"'2017 Base Data'!K152","v":0},{"$f":"'2017 Base Data'!L152","v":0},{"$f":"'2017 Base Data'!M152","v":0},{"$f":"\"E\"&U151&\":\"&\"E\"&V151","v":"E152:E154"},{"$f":"\"H\"&U151&\":\"&\"H\"&V151","v":"H152:H154"},{"$f":"\"L\"&U151&\":\"&\"L\"&V151","v":"L152:L154"},null,"<TR VALIGN=BOTTOM>",{"$f":"\"<TD NOWRAP ALIGN=LEFT><FONT FACE=\"\"Times New Roman\"\" SIZE=-1 COLOR=#00AA00\"\">\"&A152&\"</FONT></TD>\"","v":"<TD NOWRAP ALIGN=LEFT><FONT FACE=\"Times New Roman\" SIZE=-1 COLOR=#00AA00\">Averill Park CSD</FONT></TD>"},"<TD NOWRAP ALIGN=RIGHT><FONT FACE=\"Times New Roman\" SIZE=-1>$0.00</FONT></TD>","<TD NOWRAP ALIGN=RIGHT><FONT FACE=\"Times New Roman\" SIZE=-1>$0.00</FONT></TD>","<TD NOWRAP ALIGN=RIGHT><FONT FACE=\"Times New Roman\" SIZE=-1><BR></FONT></TD>","<TD NOWRAP ALIGN=CENTER><FONT FACE=\"Times New Roman\" SIZE=-1>$0.00</FONT></TD>","<TD NOWRAP ALIGN=CENTER><FONT FACE=\"Times New Roman\" SIZE=-1>$0.00</FONT></TD>","<TD NOWRAP ALIGN=CENTER><FONT FACE=\"Times New Roman\" SIZE=-1>0.0000</FONT></TD>","<TD NOWRAP ALIGN=CENTER><FONT FACE=\"Times New Roman\" SIZE=-1>$0.00</FONT></TD>","</TR>"]
["Berlin CSD",{"$f":"'2017 Base Data'!F153","v":0},{"$f":"'2017 Base Data'!G153","v":0},null,{"$f":"'2017 Base Data'!I153","v":0},null,null,{"$f":"'2017 Base Data'!J153","v":0},null,null,{"$f":"'2017 Base Data'!K153","v":0},{"$f":"'2017 Base Data'!R153","v":0},null,null,{"$f":"ROUND(IF(S153<>0,R153*D153+S153*SUM(B153:C153)+T153*E153,R153*SUM(B153:D153)+T153*E153),2)","v":0},{"$f":"L153-O153","v":0},null,{"$f":"'2017 Base Data'!K153","v":0},{"$f":"'2017 Base Data'!L153","v":0},{"$f":"'2017 Base Data'!M153","v":0},null,null,null,null,"<TR VALIGN=BOTTOM>",{"$f":"\"<TD NOWRAP ALIGN=LEFT><FONT FACE=\"\"Times New Roman\"\" SIZE=-1 COLOR=#00AA00\"\">\"&A153&\"</FONT></TD>\"","v":"<TD NOWRAP ALIGN=LEFT><FONT FACE=\"Times New Roman\" SIZE=-1 COLOR=#00AA00\">Berlin CSD</FONT></TD>"},"<TD NOWRAP ALIGN=RIGHT><FONT FACE=\"Times New Roman\" SIZE=-1>$0.00</FONT></TD>","<TD NOWRAP ALIGN=RIGHT><FONT FACE=\"Times New Roman\" SIZE=-1>$0.00</FONT></TD>","<TD NOWRAP ALIGN=RIGHT><FONT FACE=\"Times New Roman\" SIZE=-1><BR></FONT></TD>","<TD NOWRAP ALIGN=CENTER><FONT FACE=\"Times New Roman\" SIZE=-1>$0.00</FONT></TD>","<TD NOWRAP ALIGN=CENTER><FONT FACE=\"Times New Roman\" SIZE=-1>$0.00</FONT></TD>","<TD NOWRAP ALIGN=CENTER><FONT FACE=\"Times New Roman\" SIZE=-1>0.0000</FONT></TD>","<TD NOWRAP ALIGN=CENTER><FONT FACE=\"Times New Roman\" SIZE=-1>$0.00</FONT></TD>","</TR>"]
["New Lebanon CSD",{"$f":"'2017 Base Data'!F154","v":0},{"$f":"'2017 Base Data'!G154","v":0},null,{"$f":"'2017 Base Data'!I154","v":0},null,null,{"$f":"'2017 Base Data'!J154","v":0},null,null,{"$f":"'2017 Base Data'!K154","v":0},{"$f":"'2017 Base Data'!R154","v":0},null,null,{"$f":"ROUND(IF(S154<>0,R154*D154+S154*SUM(B154:C154)+T154*E154,R154*SUM(B154:D154)+T154*E154),2)","v":0},{"$f":"L154-O154","v":0},null,{"$f":"'2017 Base Data'!K154","v":0},{"$f":"'2017 Base Data'!L154","v":0},{"$f":"'2017 Base Data'!M154","v":0},null,null,null,null,"<TR VALIGN=BOTTOM>",{"$f":"\"<TD NOWRAP ALIGN=LEFT><FONT FACE=\"\"Times New Roman\"\" SIZE=-1 COLOR=#00AA00\"\">\"&A154&\"</FONT></TD>\"","v":"<TD NOWRAP ALIGN=LEFT><FONT FACE=\"Times New Roman\" SIZE=-1 COLOR=#00AA00\">New Lebanon CSD</FONT></TD>"},"<TD NOWRAP ALIGN=RIGHT><FONT FACE=\"Times New Roman\" SIZE=-1>$0.00</FONT></TD>","<TD NOWRAP ALIGN=RIGHT><FONT FACE=\"Times New Roman\" SIZE=-1>$0.00</FONT></TD>","<TD NOWRAP ALIGN=RIGHT><FONT FACE=\"Times New Roman\" SIZE=-1><BR></FONT></TD>","<TD NOWRAP ALIGN=CENTER><FONT FACE=\"Times New Roman\" SIZE=-1>$0.00</FONT></TD>","<TD NOWRAP ALIGN=CENTER><FONT FACE=\"Times New Roman\" SIZE=-1>$0.00</FONT></TD>","<TD NOWRAP ALIGN=CENTER><FONT FACE=\"Times New Roman\" SIZE=-1>0.0000</FONT></TD>","<TD NOWRAP ALIGN=CENTER><FONT FACE=\"Times New Roman\" SIZE=-1>$0.00</FONT></TD>","</TR>"]
["City of Troy",{"$f":"B156","v":0},null,{"$f":"D156","v":0},{"$f":"MIN(INDIRECT(U156))","v":0},{"$f":"IF(G155<>0,\"to\",\"\")","v":""},{"$f":"IF(U155<>V155,MAX(INDIRECT(U156)),0)","v":0},{"$f":"MIN(INDIRECT(V156))","v":0},{"$f":"IF(J155<>0,\"to\",\"\")","v":""},{"$f":"IF(U155<>V155,MAX(INDIRECT(V156)),0)","v":0},{"$f":"K156","v":0},{"$f":"MIN(INDIRECT(W156))","v":0},{"$f":"IF(N155<>0,\"to\",\"\")","v":""},{"$f":"IF(U155<>V155,MAX(INDIRECT(W156)),0)","v":0},null,null,null,null,null,null,{"$f":"CELL(\"row\",P156)","v":156},{"$f":"CELL(\"row\",P157)","v":157},null,null,"<TR VALIGN=BOTTOM BGCOLOR=\"#FFFFCC\">",{"$f":"\"<TH NOWRAP ALIGN=LEFT><FONT FACE=\"\"Times New Roman\"\" SIZE=-1 COLOR=#800000\"\">\"&A155&\"</FONT></TH>\"","v":"<TH NOWRAP ALIGN=LEFT><FONT FACE=\"Times New Roman\" SIZE=-1 COLOR=#800000\">City of Troy</FONT></TH>"},"<TD NOWRAP ALIGN=RIGHT><FONT FACE=\"Times New Roman\" SIZE=-1>$0.00</FONT></TD>","<TD NOWRAP ALIGN=RIGHT><FONT FACE=\"Times New Roman\" SIZE=-1><BR></FONT></TD>","<TD NOWRAP ALIGN=RIGHT><FONT FACE=\"Times New Roman\" SIZE=-1>$0.00</FONT></TD>","<TD NOWRAP ALIGN=CENTER><FONT FACE=\"Times New Roman\" SIZE=-1>$0.00</FONT></TD>","<TD NOWRAP ALIGN=CENTER><FONT FACE=\"Times New Roman\" SIZE=-1>$0.00</FONT></TD>","<TD NOWRAP ALIGN=CENTER><FONT FACE=\"Times New Roman\" SIZE=-1>0.0000</FONT></TD>","<TD NOWRAP ALIGN=CENTER><FONT FACE=\"Times New Roman\" SIZE=-1>$0.00</FONT></TD>","</TR>"]
["Lansingburgh CSD",{"$f":"'2017 Base Data'!F156","v":0},null,{"$f":"'2017 Base Data'!H156","v":0},{"$f":"'2017 Base Data'!I156","v":0},null,null,{"$f":"'2017 Base Data'!J156","v":0},null,null,{"$f":"'2017 Base Data'!K156","v":0},{"$f":"'2017 Base Data'!R156","v":0},null,null,{"$f":"ROUND(IF(S156<>0,R156*D156+S156*SUM(B156:C156)+T156*E156,R156*SUM(B156:D156)+T156*E156),2)","v":0},{"$f":"L156-O156","v":0},null,{"$f":"'2017 Base Data'!K156","v":0},{"$f":"'2017 Base Data'!L156","v":0},{"$f":"'2017 Base Data'!M156","v":0},{"$f":"\"E\"&U155&\":\"&\"E\"&V155","v":"E156:E157"},{"$f":"\"H\"&U155&\":\"&\"H\"&V155","v":"H156:H157"},{"$f":"\"L\"&U155&\":\"&\"L\"&V155","v":"L156:L157"},null,"<TR VALIGN=BOTTOM>",{"$f":"\"<TD NOWRAP ALIGN=LEFT><FONT FACE=\"\"Times New Roman\"\" SIZE=-1 COLOR=#00AA00\"\">\"&A156&\"</FONT></TD>\"","v":"<TD NOWRAP ALIGN=LEFT><FONT FACE=\"Times New Roman\" SIZE=-1 COLOR=#00AA00\">Lansingburgh CSD</FONT></TD>"},"<TD NOWRAP ALIGN=RIGHT><FONT FACE=\"Times New Roman\" SIZE=-1>$0.00</FONT></TD>","<TD NOWRAP ALIGN=RIGHT><FONT FACE=\"Times New Roman\" SIZE=-1><BR></FONT></TD>","<TD NOWRAP ALIGN=RIGHT><FONT FACE=\"Times New Roman\" SIZE=-1>$0.00</FONT></TD>","<TD NOWRAP ALIGN=CENTER><FONT FACE=\"Times New Roman\" SIZE=-1>$0.00</FONT></TD>","<TD NOWRAP ALIGN=CENTER><FONT FACE=\"Times New Roman\" SIZE=-1>$0.00</FONT></TD>","<TD NOWRAP ALIGN=CENTER><FONT FACE=\"Times New Roman\" SIZE=-1>0.0000</FONT></TD>","<TD NOWRAP ALIGN=CENTER><FONT FACE=\"Times New Roman\" SIZE=-1>$0.00</FONT></TD>","</TR>"]
["Troy City SD",{"$f":"'2017 Base Data'!F157","v":0},null,{"$f":"'2017 Base Data'!H157","v":0},{"$f":"'2017 Base Data'!I157","v":0},null,null,{"$f":"'2017 Base Data'!J157","v":0},null,null,{"$f":"'2017 Base Data'!K157","v":0},{"$f":"'2017 Base Data'!R157","v":0},null,null,{"$f":"ROUND(IF(S157<>0,R157*D157+S157*SUM(B157:C157)+T157*E157,R157*SUM(B157:D157)+T157*E157),2)","v":0},{"$f":"L157-O157","v":0},null,{"$f":"'2017 Base Data'!K157","v":0},{"$f":"'2017 Base Data'!L157","v":0},{"$f":"'2017 Base Data'!M157","v":0},null,null,null,null,"<TR VALIGN=BOTTOM>",{"$f":"\"<TD NOWRAP ALIGN=LEFT><FONT FACE=\"\"Times New Roman\"\" SIZE=-1 COLOR=#00AA00\"\">\"&A157&\"</FONT></TD>\"","v":"<TD NOWRAP ALIGN=LEFT><FONT FACE=\"Times New Roman\" SIZE=-1 COLOR=#00AA00\">Troy City SD</FONT></TD>"},"<TD NOWRAP ALIGN=RIGHT><FONT FACE=\"Times New Roman\" SIZE=-1>$0.00</FONT></TD>","<TD NOWRAP ALIGN=RIGHT><FONT FACE=\"Times New Roman\" SIZE=-1><BR></FONT></TD>","<TD NOWRAP ALIGN=RIGHT><FONT FACE=\"Times New Roman\" SIZE=-1>$0.00</FONT></TD>","<TD NOWRAP ALIGN=CENTER><FONT FACE=\"Times New Roman\" SIZE=-1>$0.00</FONT></TD>","<TD NOWRAP ALIGN=CENTER><FONT FACE=\"Times New Roman\" SIZE=-1>$0.00</FONT></TD>","<TD NOWRAP ALIGN=CENTER><FONT FACE=\"Times New Roman\" SIZE=-1>0.0000</FONT></TD>","<TD NOWRAP ALIGN=CENTER><FONT FACE=\"Times New Roman\" SIZE=-1>$0.00</FONT></TD>","</TR>"]
["Saratoga County",null,null,null,{"$f":"MIN(E159:E250)","v":0},{"$f":"IF(G158<>0,\"to\",\"\")","v":""},{"$f":"MAX(E159:G250)","v":0},{"$f":"MIN(H159:H250)","v":0},{"$f":"IF(J158<>0,\"to\",\"\")","v":""},{"$f":"MAX(H159:J250)","v":0},null,{"$f":"MIN(L159:L250)","v":0},{"$f":"IF(N158<>0,\"to\",\"\")","v":""},{"$f":"MAX(L159:N250)","v":0},null,null,null,null,null,null,null,null,null,null,"<TR VALIGN=BOTTOM BGCOLOR=\"#CCCCFF\">",{"$f":"\"<TH NOWRAP ALIGN=LEFT><FONT FACE=\"\"Times New Roman\"\" COLOR=\"\"#AA00AA\"\">\"&A158&\"</FONT></TH>\"","v":"<TH NOWRAP ALIGN=LEFT><FONT FACE=\"Times New Roman\" COLOR=\"#AA00AA\">Saratoga County</FONT></TH>"},"<TD NOWRAP ALIGN=RIGHT><FONT FACE=\"Times New Roman\" SIZE=-1><BR></FONT></TD>","<TD NOWRAP ALIGN=RIGHT><FONT FACE=\"Times New Roman\" SIZE=-1><BR></FONT></TD>","<TD NOWRAP ALIGN=RIGHT><FONT FACE=\"Times New Roman\" SIZE=-1><BR></FONT></TD>","<TD NOWRAP ALIGN=CENTER><FONT FACE=\"Times New Roman\" SIZE=-1>$0.00</FONT></TD>","<TD NOWRAP ALIGN=CENTER><FONT FACE=\"Times New Roman\" SIZE=-1>$0.00</FONT></TD>","<TD NOWRAP ALIGN=CENTER><FONT FACE=\"Times New Roman\" SIZE=-1><BR></FONT></TD>","<TD NOWRAP ALIGN=CENTER><FONT FACE=\"Times New Roman\" SIZE=-1>$0.00</FONT></TD>","</TR>"]
["Town of Ballston",{"$f":"B160","v":0},null,null,{"$f":"MIN(INDIRECT(U160))","v":0},{"$f":"IF(G159<>0,\"to\",\"\")","v":""},{"$f":"IF(U159<>V159,MAX(INDIRECT(U160)),0)","v":0},{"$f":"MIN(INDIRECT(V160))","v":0},{"$f":"IF(J159<>0,\"to\",\"\")","v":""},{"$f":"IF(U159<>V159,MAX(INDIRECT(V160)),0)","v":0},{"$f":"K160","v":0},{"$f":"MIN(INDIRECT(W160))","v":0},{"$f":"IF(N159<>0,\"to\",\"\")","v":""},{"$f":"IF(U159<>V159,MAX(INDIRECT(W160)),0)","v":0},null,null,null,null,null,null,{"$f":"CELL(\"row\",P160)","v":160},{"$f":"CELL(\"row\",P162)","v":162},null,null,"<TR VALIGN=BOTTOM BGCOLOR=\"#FFFFCC\">",{"$f":"\"<TH NOWRAP ALIGN=LEFT><FONT FACE=\"\"Times New Roman\"\" SIZE=-1>\"&A159&\"</FONT></TH>\"","v":"<TH NOWRAP ALIGN=LEFT><FONT FACE=\"Times New Roman\" SIZE=-1>Town of Ballston</FONT></TH>"},"<TD NOWRAP ALIGN=RIGHT><FONT FACE=\"Times New Roman\" SIZE=-1>$0.00</FONT></TD>","<TD NOWRAP ALIGN=RIGHT><FONT FACE=\"Times New Roman\" SIZE=-1><BR></FONT></TD>","<TD NOWRAP ALIGN=RIGHT><FONT FACE=\"Times New Roman\" SIZE=-1><BR></FONT></TD>","<TD NOWRAP ALIGN=CENTER><FONT FACE=\"Times New Roman\" SIZE=-1>$0.00</FONT></TD>","<TD NOWRAP ALIGN=CENTER><FONT FACE=\"Times New Roman\" SIZE=-1>$0.00</FONT></TD>","<TD NOWRAP ALIGN=CENTER><FONT FACE=\"Times New Roman\" SIZE=-1>0.0000</FONT></TD>","<TD NOWRAP ALIGN=CENTER><FONT FACE=\"Times New Roman\" SIZE=-1>$0.00</FONT></TD>","</TR>"]
["Ballston Spa CSD",{"$f":"'2017 Base Data'!F160","v":0},null,null,{"$f":"'2017 Base Data'!I160","v":0},null,null,{"$f":"'2017 Base Data'!J160","v":0},null,null,{"$f":"'2017 Base Data'!K160","v":0},{"$f":"'2017 Base Data'!R160","v":0},null,null,{"$f":"ROUND(IF(S160<>0,R160*D160+S160*SUM(B160:C160)+T160*E160,R160*SUM(B160:D160)+T160*E160),2)","v":0},{"$f":"L160-O160","v":0},null,{"$f":"'2017 Base Data'!K160","v":0},{"$f":"'2017 Base Data'!L160","v":0},{"$f":"'2017 Base Data'!M160","v":0},{"$f":"\"E\"&U159&\":\"&\"E\"&V159","v":"E160:E162"},{"$f":"\"H\"&U159&\":\"&\"H\"&V159","v":"H160:H162"},{"$f":"\"L\"&U159&\":\"&\"L\"&V159","v":"L160:L162"},null,"<TR VALIGN=BOTTOM>",{"$f":"\"<TD NOWRAP ALIGN=LEFT><FONT FACE=\"\"Times New Roman\"\" SIZE=-1 COLOR=#00AA00\"\">\"&A160&\"</FONT></TD>\"","v":"<TD NOWRAP ALIGN=LEFT><FONT FACE=\"Times New Roman\" SIZE=-1 COLOR=#00AA00\">Ballston Spa CSD</FONT></TD>"},"<TD NOWRAP ALIGN=RIGHT><FONT FACE=\"Times New Roman\" SIZE=-1>$0.00</FONT></TD>","<TD NOWRAP ALIGN=RIGHT><FONT FACE=\"Times New Roman\" SIZE=-1><BR></FONT></TD>","<TD NOWRAP ALIGN=RIGHT><FONT FACE=\"Times New Roman\" SIZE=-1><BR></FONT></TD>","<TD NOWRAP ALIGN=CENTER><FONT FACE=\"Times New Roman\" SIZE=-1>$0.00</FONT></TD>","<TD NOWRAP ALIGN=CENTER><FONT FACE=\"Times New Roman\" SIZE=-1>$0.00</FONT></TD>","<TD NOWRAP ALIGN=CENTER><FONT FACE=\"Times New Roman\" SIZE=-1>0.0000</FONT></TD>","<TD NOWRAP ALIGN=CENTER><FONT FACE=\"Times New Roman\" SIZE=-1>$0.00</FONT></TD>","</TR>"]
["Burnt Hills-Ballston Lake CSD",{"$f":"'2017 Base Data'!F161","v":0},null,null,{"$f":"'2017 Base Data'!I161","v":0},null,null,{"$f":"'2017 Base Data'!J161","v":0},null,null,{"$f":"'2017 Base Data'!K161","v":0},{"$f":"'2017 Base Data'!R161","v":0},null,null,{"$f":"ROUND(IF(S161<>0,R161*D161+S161*SUM(B161:C161)+T161*E161,R161*SUM(B161:D161)+T161*E161),2)","v":0},{"$f":"L161-O161","v":0},null,{"$f":"'2017 Base Data'!K161","v":0},{"$f":"'2017 Base Data'!L161","v":0},{"$f":"'2017 Base Data'!M161","v":0},null,null,null,null,"<TR VALIGN=BOTTOM>",{"$f":"\"<TD NOWRAP ALIGN=LEFT><FONT FACE=\"\"Times New Roman\"\" SIZE=-1 COLOR=#00AA00\"\">\"&A161&\"</FONT></TD>\"","v":"<TD NOWRAP ALIGN=LEFT><FONT FACE=\"Times New Roman\" SIZE=-1 COLOR=#00AA00\">Burnt Hills-Ballston Lake CSD</FONT></TD>"},"<TD NOWRAP ALIGN=RIGHT><FONT FACE=\"Times New Roman\" SIZE=-1>$0.00</FONT></TD>","<TD NOWRAP ALIGN=RIGHT><FONT FACE=\"Times New Roman\" SIZE=-1><BR></FONT></TD>","<TD NOWRAP ALIGN=RIGHT><FONT FACE=\"Times New Roman\" SIZE=-1><BR></FONT></TD>","<TD NOWRAP ALIGN=CENTER><FONT FACE=\"Times New Roman\" SIZE=-1>$0.00</FONT></TD>","<TD NOWRAP ALIGN=CENTER><FONT FACE=\"Times New Roman\" SIZE=-1>$0.00</FONT></TD>","<TD NOWRAP ALIGN=CENTER><FONT FACE=\"Times New Roman\" SIZE=-1>0.0000</FONT></TD>","<TD NOWRAP ALIGN=CENTER><FONT FACE=\"Times New Roman\" SIZE=-1>$0.00</FONT></TD>","</TR>"]
["Shenendehowa CSD",{"$f":"'2017 Base Data'!F162","v":0},null,null,{"$f":"'2017 Base Data'!I162","v":0},null,null,{"$f":"'2017 Base Data'!J162","v":0},null,null,{"$f":"'2017 Base Data'!K162","v":0},{"$f":"'2017 Base Data'!R162","v":0},null,null,{"$f":"ROUND(IF(S162<>0,R162*D162+S162*SUM(B162:C162)+T162*E162,R162*SUM(B162:D162)+T162*E162),2)","v":0},{"$f":"L162-O162","v":0},null,{"$f":"'2017 Base Data'!K162","v":0},{"$f":"'2017 Base Data'!L162","v":0},{"$f":"'2017 Base Data'!M162","v":0},null,null,null,null,"<TR VALIGN=BOTTOM>",{"$f":"\"<TD NOWRAP ALIGN=LEFT><FONT FACE=\"\"Times New Roman\"\" SIZE=-1 COLOR=#00AA00\"\">\"&A162&\"</FONT></TD>\"","v":"<TD NOWRAP ALIGN=LEFT><FONT FACE=\"Times New Roman\" SIZE=-1 COLOR=#00AA00\">Shenendehowa CSD</FONT></TD>"},"<TD NOWRAP ALIGN=RIGHT><FONT FACE=\"Times New Roman\" SIZE=-1>$0.00</FONT></TD>","<TD NOWRAP ALIGN=RIGHT><FONT FACE=\"Times New Roman\" SIZE=-1><BR></FONT></TD>","<TD NOWRAP ALIGN=RIGHT><FONT FACE=\"Times New Roman\" SIZE=-1><BR></FONT></TD>","<TD NOWRAP ALIGN=CENTER><FONT FACE=\"Times New Roman\" SIZE=-1>$0.00</FONT></TD>","<TD NOWRAP ALIGN=CENTER><FONT FACE=\"Times New Roman\" SIZE=-1>$0.00</FONT></TD>","<TD NOWRAP ALIGN=CENTER><FONT FACE=\"Times New Roman\" SIZE=-1>0.0000</FONT></TD>","<TD NOWRAP ALIGN=CENTER><FONT FACE=\"Times New Roman\" SIZE=-1>$0.00</FONT></TD>","</TR>"]
["Village of Ballston Spa (part)",{"$f":"B164","v":0},null,{"$f":"D164","v":0},{"$f":"MIN(INDIRECT(U164))","v":0},{"$f":"IF(G163<>0,\"to\",\"\")","v":""},{"$f":"IF(U163<>V163,MAX(INDIRECT(U164)),0)","v":0},{"$f":"MIN(INDIRECT(V164))","v":0},{"$f":"IF(J163<>0,\"to\",\"\")","v":""},{"$f":"IF(U163<>V163,MAX(INDIRECT(V164)),0)","v":0},{"$f":"K164","v":0},{"$f":"MIN(INDIRECT(W164))","v":0},{"$f":"IF(N163<>0,\"to\",\"\")","v":""},{"$f":"IF(U163<>V163,MAX(INDIRECT(W164)),0)","v":0},null,null,null,null,null,null,{"$f":"CELL(\"row\",P164)","v":164},{"$f":"CELL(\"row\",P164)","v":164},null,null,"<TR VALIGN=BOTTOM BGCOLOR=\"#FFFFCC\">",{"$f":"\"<TH NOWRAP ALIGN=LEFT><FONT FACE=\"\"Times New Roman\"\" SIZE=-1 COLOR=\"\"#808000\"\">\"&A163&\"</FONT></TH>\"","v":"<TH NOWRAP ALIGN=LEFT><FONT FACE=\"Times New Roman\" SIZE=-1 COLOR=\"#808000\">Village of Ballston Spa (part)</FONT></TH>"},"<TD NOWRAP ALIGN=RIGHT><FONT FACE=\"Times New Roman\" SIZE=-1>$0.00</FONT></TD>","<TD NOWRAP ALIGN=RIGHT><FONT FACE=\"Times New Roman\" SIZE=-1><BR></FONT></TD>","<TD NOWRAP ALIGN=RIGHT><FONT FACE=\"Times New Roman\" SIZE=-1>$0.00</FONT></TD>","<TD NOWRAP ALIGN=CENTER><FONT FACE=\"Times New Roman\" SIZE=-1>$0.00</FONT></TD>","<TD NOWRAP ALIGN=CENTER><FONT FACE=\"Times New Roman\" SIZE=-1>$0.00</FONT></TD>","<TD NOWRAP ALIGN=CENTER><FONT FACE=\"Times New Roman\" SIZE=-1>0.0000</FONT></TD>","<TD NOWRAP ALIGN=CENTER><FONT FACE=\"Times New Roman\" SIZE=-1>$0.00</FONT></TD>","</TR>"]
["Ballston Spa CSD",{"$f":"'2017 Base Data'!F164","v":0},null,{"$f":"'2017 Base Data'!H164","v":0},{"$f":"'2017 Base Data'!I164","v":0},null,null,{"$f":"'2017 Base Data'!J164","v":0},null,null,{"$f":"'2017 Base Data'!K164","v":0},{"$f":"'2017 Base Data'!R164","v":0},null,null,{"$f":"ROUND(IF(S164<>0,R164*D164+S164*SUM(B164:C164)+T164*E164,R164*SUM(B164:D164)+T164*E164),2)","v":0},{"$f":"L164-O164","v":0},null,{"$f":"'2017 Base Data'!K164","v":0},{"$f":"'2017 Base Data'!L164","v":0},{"$f":"'2017 Base Data'!M164","v":0},{"$f":"\"E\"&U163&\":\"&\"E\"&V163","v":"E164:E164"},{"$f":"\"H\"&U163&\":\"&\"H\"&V163","v":"H164:H164"},{"$f":"\"L\"&U163&\":\"&\"L\"&V163","v":"L164:L164"},null,"<TR VALIGN=BOTTOM>",{"$f":"\"<TD NOWRAP ALIGN=LEFT><FONT FACE=\"\"Times New Roman\"\" SIZE=-1 COLOR=#00AA00\"\">\"&A164&\"</FONT></TD>\"","v":"<TD NOWRAP ALIGN=LEFT><FONT FACE=\"Times New Roman\" SIZE=-1 COLOR=#00AA00\">Ballston Spa CSD</FONT></TD>"},"<TD NOWRAP ALIGN=RIGHT><FONT FACE=\"Times New Roman\" SIZE=-1>$0.00</FONT></TD>","<TD NOWRAP ALIGN=RIGHT><FONT FACE=\"Times New Roman\" SIZE=-1><BR></FONT></TD>","<TD NOWRAP ALIGN=RIGHT><FONT FACE=\"Times New Roman\" SIZE=-1>$0.00</FONT></TD>","<TD NOWRAP ALIGN=CENTER><FONT FACE=\"Times New Roman\" SIZE=-1>$0.00</FONT></TD>","<TD NOWRAP ALIGN=CENTER><FONT FACE=\"Times New Roman\" SIZE=-1>$0.00</FONT></TD>","<TD NOWRAP ALIGN=CENTER><FONT FACE=\"Times New Roman\" SIZE=-1>0.0000</FONT></TD>","<TD NOWRAP ALIGN=CENTER><FONT FACE=\"Times New Roman\" SIZE=-1>$0.00</FONT></TD>","</TR>"]
["Town of Charlton",{"$f":"B166","v":0},null,null,{"$f":"MIN(INDIRECT(U166))","v":0},{"$f":"IF(G165<>0,\"to\",\"\")","v":""},{"$f":"IF(U165<>V165,MAX(INDIRECT(U166)),0)","v":0},{"$f":"MIN(INDIRECT(V166))","v":0},{"$f":"IF(J165<>0,\"to\",\"\")","v":""},{"$f":"IF(U165<>V165,MAX(INDIRECT(V166)),0)","v":0},{"$f":"K166","v":0},{"$f":"MIN(INDIRECT(W166))","v":0},{"$f":"IF(N165<>0,\"to\",\"\")","v":""},{"$f":"IF(U165<>V165,MAX(INDIRECT(W166)),0)","v":0},null,null,null,null,null,null,{"$f":"CELL(\"row\",P166)","v":166},{"$f":"CELL(\"row\",P170)","v":170},null,null,"<TR VALIGN=BOTTOM BGCOLOR=\"#FFFFCC\">",{"$f":"\"<TH NOWRAP ALIGN=LEFT><FONT FACE=\"\"Times New Roman\"\" SIZE=-1>\"&A165&\"</FONT></TH>\"","v":"<TH NOWRAP ALIGN=LEFT><FONT FACE=\"Times New Roman\" SIZE=-1>Town of Charlton</FONT></TH>"},"<TD NOWRAP ALIGN=RIGHT><FONT FACE=\"Times New Roman\" SIZE=-1>$0.00</FONT></TD>","<TD NOWRAP ALIGN=RIGHT><FONT FACE=\"Times New Roman\" SIZE=-1><BR></FONT></TD>","<TD NOWRAP ALIGN=RIGHT><FONT FACE=\"Times New Roman\" SIZE=-1><BR></FONT></TD>","<TD NOWRAP ALIGN=CENTER><FONT FACE=\"Times New Roman\" SIZE=-1>$0.00</FONT></TD>","<TD NOWRAP ALIGN=CENTER><FONT FACE=\"Times New Roman\" SIZE=-1>$0.00</FONT></TD>","<TD NOWRAP ALIGN=CENTER><FONT FACE=\"Times New Roman\" SIZE=-1>0.0000</FONT></TD>","<TD NOWRAP ALIGN=CENTER><FONT FACE=\"Times New Roman\" SIZE=-1>$0.00</FONT></TD>","</TR>"]
["Amsterdam City SD",{"$f":"'2017 Base Data'!F166","v":0},null,null,{"$f":"'2017 Base Data'!I166","v":0},null,null,{"$f":"'2017 Base Data'!J166","v":0},null,null,{"$f":"'2017 Base Data'!K166","v":0},{"$f":"'2017 Base Data'!R166","v":0},null,null,{"$f":"ROUND(IF(S166<>0,R166*D166+S166*SUM(B166:C166)+T166*E166,R166*SUM(B166:D166)+T166*E166),2)","v":0},{"$f":"L166-O166","v":0},null,{"$f":"'2017 Base Data'!K166","v":0},{"$f":"'2017 Base Data'!L166","v":0},{"$f":"'2017 Base Data'!M166","v":0},{"$f":"\"E\"&U165&\":\"&\"E\"&V165","v":"E166:E170"},{"$f":"\"H\"&U165&\":\"&\"H\"&V165","v":"H166:H170"},{"$f":"\"L\"&U165&\":\"&\"L\"&V165","v":"L166:L170"},null,"<TR VALIGN=BOTTOM>",{"$f":"\"<TD NOWRAP ALIGN=LEFT><FONT FACE=\"\"Times New Roman\"\" SIZE=-1 COLOR=#00AA00\"\">\"&A166&\"</FONT></TD>\"","v":"<TD NOWRAP ALIGN=LEFT><FONT FACE=\"Times New Roman\" SIZE=-1 COLOR=#00AA00\">Amsterdam City SD</FONT></TD>"},{"$f":"\"<TD NOWRAP ALIGN=RIGHT><FONT FACE=\"\"Times New Roman\"\" SIZE=-1>\"&IF(B166=\"\",\"<BR>\",TEXT(B166,\"$#,##0.00\"))&\"</FONT></TD>\"","v":"<TD NOWRAP ALIGN=RIGHT><FONT FACE=\"Times New Roman\" SIZE=-1>$0.00</FONT></TD>"},"<TD NOWRAP ALIGN=RIGHT><FONT FACE=\"Times New Roman\" SIZE=-1><BR></FONT></TD>","<TD NOWRAP ALIGN=RIGHT><FONT FACE=\"Times New Roman\" SIZE=-1><BR></FONT></TD>",{"$f":"\"<TD NOWRAP ALIGN=CENTER><FONT FACE=\"\"Times New Roman\"\" SIZE=-1>\"&TEXT(E166,\"$#,##0.00\")&IF(F166=\"\",\"\",\" to \")&IF(G166<=0,\"\",TEXT(G166,\"$#,##0.00\"))&\"</FONT></TD>\"","v":"<TD NOWRAP ALIGN=CENTER><FONT FACE=\"Times New Roman\" SIZE=-1>$0.00</FONT></TD>"},{"$f":"\"<TD NOWRAP ALIGN=CENTER><FONT FACE=\"\"Times New Roman\"\" SIZE=-1>\"&TEXT(H166,\"$#,##0.00\")&IF(I166=\"\",\"\",\" to \")&IF(J166<=0,\"\",TEXT(J166,\"$#,##0.00\"))&\"</FONT></TD>\"","v":"<TD NOWRAP ALIGN=CENTER><FONT FACE=\"Times New Roman\" SIZE=-1>$0.00</FONT></TD>"},{"$f":"\"<TD NOWRAP ALIGN=CENTER><FONT FACE=\"\"Times New Roman\"\" SIZE=-1>\"&IF(K166=\"\",\"<BR>\",TEXT(K166,\"0.0000\"))&\"</FONT></TD>\"","v":"<TD NOWRAP ALIGN=CENTER><FONT FACE=\"Times New Roman\" SIZE=-1>0.0000</FONT></TD>"},{"$f":"\"<TD NOWRAP ALIGN=CENTER><FONT FACE=\"\"Times New Roman\"\" SIZE=-1>\"&TEXT(L166,\"$#,##0.00\")&IF(M166=\"\",\"\",\" to \")&IF(N166<=0,\"\",TEXT(N166,\"$#,##0.00\"))&\"</FONT></TD>\"","v":"<TD NOWRAP ALIGN=CENTER><FONT FACE=\"Times New Roman\" SIZE=-1>$0.00</FONT></TD>"},"</TR>"]
["Ballston Spa CSD",{"$f":"'2017 Base Data'!F167","v":0},null,null,{"$f":"'2017 Base Data'!I167","v":0},null,null,{"$f":"'2017 Base Data'!J167","v":0},null,null,{"$f":"'2017 Base Data'!K167","v":0},{"$f":"'2017 Base Data'!R167","v":0},null,null,{"$f":"ROUND(IF(S167<>0,R167*D167+S167*SUM(B167:C167)+T167*E167,R167*SUM(B167:D167)+T167*E167),2)","v":0},{"$f":"L167-O167","v":0},null,{"$f":"'2017 Base Data'!K167","v":0},{"$f":"'2017 Base Data'!L167","v":0},{"$f":"'2017 Base Data'!M167","v":0},null,null,null,null,"<TR VALIGN=BOTTOM>",{"$f":"\"<TD NOWRAP ALIGN=LEFT><FONT FACE=\"\"Times New Roman\"\" SIZE=-1 COLOR=#00AA00\"\">\"&A167&\"</FONT></TD>\"","v":"<TD NOWRAP ALIGN=LEFT><FONT FACE=\"Times New Roman\" SIZE=-1 COLOR=#00AA00\">Ballston Spa CSD</FONT></TD>"},"<TD NOWRAP ALIGN=RIGHT><FONT FACE=\"Times New Roman\" SIZE=-1>$0.00</FONT></TD>","<TD NOWRAP ALIGN=RIGHT><FONT FACE=\"Times New Roman\" SIZE=-1><BR></FONT></TD>","<TD NOWRAP ALIGN=RIGHT><FONT FACE=\"Times New Roman\" SIZE=-1><BR></FONT></TD>","<TD NOWRAP ALIGN=CENTER><FONT FACE=\"Times New Roman\" SIZE=-1>$0.00</FONT></TD>","<TD NOWRAP ALIGN=CENTER><FONT FACE=\"Times New Roman\" SIZE=-1>$0.00</FONT></TD>","<TD NOWRAP ALIGN=CENTER><FONT FACE=\"Times New Roman\" SIZE=-1>0.0000</FONT></TD>","<TD NOWRAP ALIGN=CENTER><FONT FACE=\"Times New Roman\" SIZE=-1>$0.00</FONT></TD>","</TR>"]
["Burnt Hills-Ballston Lake CSD",{"$f":"'2017 Base Data'!F168","v":0},null,null,{"$f":"'2017 Base Data'!I168","v":0},null,null,{"$f":"'2017 Base Data'!J168","v":0},null,null,{"$f":"'2017 Base Data'!K168","v":0},{"$f":"'2017 Base Data'!R168","v":0},null,null,{"$f":"ROUND(IF(S168<>0,R168*D168+S168*SUM(B168:C168)+T168*E168,R168*SUM(B168:D168)+T168*E168),2)","v":0},{"$f":"L168-O168","v":0},null,{"$f":"'2017 Base Data'!K168","v":0},{"$f":"'2017 Base Data'!L168","v":0},{"$f":"'2017 Base Data'!M168","v":0},null,null,null,null,"<TR VALIGN=BOTTOM>",{"$f":"\"<TD NOWRAP ALIGN=LEFT><FONT FACE=\"\"Times New Roman\"\" SIZE=-1 COLOR=#00AA00\"\">\"&A168&\"</FONT></TD>\"","v":"<TD NOWRAP ALIGN=LEFT><FONT FACE=\"Times New Roman\" SIZE=-1 COLOR=#00AA00\">Burnt Hills-Ballston Lake CSD</FONT></TD>"},"<TD NOWRAP ALIGN=RIGHT><FONT FACE=\"Times New Roman\" SIZE=-1>$0.00</FONT></TD>","<TD NOWRAP ALIGN=RIGHT><FONT FACE=\"Times New Roman\" SIZE=-1><BR></FONT></TD>","<TD NOWRAP ALIGN=RIGHT><FONT FACE=\"Times New Roman\" SIZE=-1><BR></FONT></TD>","<TD NOWRAP ALIGN=CENTER><FONT FACE=\"Times New Roman\" SIZE=-1>$0.00</FONT></TD>","<TD NOWRAP ALIGN=CENTER><FONT FACE=\"Times New Roman\" SIZE=-1>$0.00</FONT></TD>","<TD NOWRAP ALIGN=CENTER><FONT FACE=\"Times New Roman\" SIZE=-1>0.0000</FONT></TD>","<TD NOWRAP ALIGN=CENTER><FONT FACE=\"Times New Roman\" SIZE=-1>$0.00</FONT></TD>","</TR>"]
["Galway CSD",{"$f":"'2017 Base Data'!F169","v":0},null,null,{"$f":"'2017 Base Data'!I169","v":0},null,null,{"$f":"'2017 Base Data'!J169","v":0},null,null,{"$f":"'2017 Base Data'!K169","v":0},{"$f":"'2017 Base Data'!R169","v":0},null,null,{"$f":"ROUND(IF(S169<>0,R169*D169+S169*SUM(B169:C169)+T169*E169,R169*SUM(B169:D169)+T169*E169),2)","v":0},{"$f":"L169-O169","v":0},null,{"$f":"'2017 Base Data'!K169","v":0},{"$f":"'2017 Base Data'!L169","v":0},{"$f":"'2017 Base Data'!M169","v":0},null,null,null,null,"<TR VALIGN=BOTTOM>",{"$f":"\"<TD NOWRAP ALIGN=LEFT><FONT FACE=\"\"Times New Roman\"\" SIZE=-1 COLOR=#00AA00\"\">\"&A169&\"</FONT></TD>\"","v":"<TD NOWRAP ALIGN=LEFT><FONT FACE=\"Times New Roman\" SIZE=-1 COLOR=#00AA00\">Galway CSD</FONT></TD>"},"<TD NOWRAP ALIGN=RIGHT><FONT FACE=\"Times New Roman\" SIZE=-1>$0.00</FONT></TD>","<TD NOWRAP ALIGN=RIGHT><FONT FACE=\"Times New Roman\" SIZE=-1><BR></FONT></TD>","<TD NOWRAP ALIGN=RIGHT><FONT FACE=\"Times New Roman\" SIZE=-1><BR></FONT></TD>","<TD NOWRAP ALIGN=CENTER><FONT FACE=\"Times New Roman\" SIZE=-1>$0.00</FONT></TD>","<TD NOWRAP ALIGN=CENTER><FONT FACE=\"Times New Roman\" SIZE=-1>$0.00</FONT></TD>","<TD NOWRAP ALIGN=CENTER><FONT FACE=\"Times New Roman\" SIZE=-1>0.0000</FONT></TD>","<TD NOWRAP ALIGN=CENTER><FONT FACE=\"Times New Roman\" SIZE=-1>$0.00</FONT></TD>","</TR>"]
["Scotia-Glenville CSD",{"$f":"'2017 Base Data'!F170","v":0},null,null,{"$f":"'2017 Base Data'!I170","v":0},null,null,{"$f":"'2017 Base Data'!J170","v":0},null,null,{"$f":"'2017 Base Data'!K170","v":0},{"$f":"'2017 Base Data'!R170","v":0},null,null,{"$f":"ROUND(IF(S170<>0,R170*D170+S170*SUM(B170:C170)+T170*E170,R170*SUM(B170:D170)+T170*E170),2)","v":0},{"$f":"L170-O170","v":0},null,{"$f":"'2017 Base Data'!K170","v":0},{"$f":"'2017 Base Data'!L170","v":0},{"$f":"'2017 Base Data'!M170","v":0},null,null,null,null,"<TR VALIGN=BOTTOM>",{"$f":"\"<TD NOWRAP ALIGN=LEFT><FONT FACE=\"\"Times New Roman\"\" SIZE=-1 COLOR=#00AA00\"\">\"&A170&\"</FONT></TD>\"","v":"<TD NOWRAP ALIGN=LEFT><FONT FACE=\"Times New Roman\" SIZE=-1 COLOR=#00AA00\">Scotia-Glenville CSD</FONT></TD>"},"<TD NOWRAP ALIGN=RIGHT><FONT FACE=\"Times New Roman\" SIZE=-1>$0.00</FONT></TD>","<TD NOWRAP ALIGN=RIGHT><FONT FACE=\"Times New Roman\" SIZE=-1><BR></FONT></TD>","<TD NOWRAP ALIGN=RIGHT><FONT FACE=\"Times New Roman\" SIZE=-1><BR></FONT></TD>","<TD NOWRAP ALIGN=CENTER><FONT FACE=\"Times New Roman\" SIZE=-1>$0.00</FONT></TD>","<TD NOWRAP ALIGN=CENTER><FONT FACE=\"Times New Roman\" SIZE=-1>$0.00</FONT></TD>","<TD NOWRAP ALIGN=CENTER><FONT FACE=\"Times New Roman\" SIZE=-1>0.0000</FONT></TD>","<TD NOWRAP ALIGN=CENTER><FONT FACE=\"Times New Roman\" SIZE=-1>$0.00</FONT></TD>","</TR>"]
["Town of Clifton Park",{"$f":"B172","v":0},{"$f":"C172","v":0},null,{"$f":"MIN(INDIRECT(U172))","v":0},{"$f":"IF(G171<>0,\"to\",\"\")","v":""},{"$f":"IF(U171<>V171,MAX(INDIRECT(U172)),0)","v":0},{"$f":"MIN(INDIRECT(V172))","v":0},{"$f":"IF(J171<>0,\"to\",\"\")","v":""},{"$f":"IF(U171<>V171,MAX(INDIRECT(V172)),0)","v":0},{"$f":"K172","v":0},{"$f":"MIN(INDIRECT(W172))","v":0},{"$f":"IF(N171<>0,\"to\",\"\")","v":""},{"$f":"IF(U171<>V171,MAX(INDIRECT(W172)),0)","v":0},null,null,null,null,null,null,{"$f":"CELL(\"row\",P172)","v":172},{"$f":"CELL(\"row\",P174)","v":174},null,null,"<TR VALIGN=BOTTOM BGCOLOR=\"#FFFFCC\">",{"$f":"\"<TH NOWRAP ALIGN=LEFT><FONT FACE=\"\"Times New Roman\"\" SIZE=-1>\"&A171&\"</FONT></TH>\"","v":"<TH NOWRAP ALIGN=LEFT><FONT FACE=\"Times New Roman\" SIZE=-1>Town of Clifton Park</FONT></TH>"},"<TD NOWRAP ALIGN=RIGHT><FONT FACE=\"Times New Roman\" SIZE=-1>$0.00</FONT></TD>","<TD NOWRAP ALIGN=RIGHT><FONT FACE=\"Times New Roman\" SIZE=-1>$0.00</FONT></TD>","<TD NOWRAP ALIGN=RIGHT><FONT FACE=\"Times New Roman\" SIZE=-1><BR></FONT></TD>","<TD NOWRAP ALIGN=CENTER><FONT FACE=\"Times New Roman\" SIZE=-1>$0.00</FONT></TD>","<TD NOWRAP ALIGN=CENTER><FONT FACE=\"Times New Roman\" SIZE=-1>$0.00</FONT></TD>","<TD NOWRAP ALIGN=CENTER><FONT FACE=\"Times New Roman\" SIZE=-1>0.0000</FONT></TD>","<TD NOWRAP ALIGN=CENTER><FONT FACE=\"Times New Roman\" SIZE=-1>$0.00</FONT></TD>","</TR>"]
["Burnt Hills-Ballston Lake CSD",{"$f":"'2017 Base Data'!F172","v":0},{"$f":"'2017 Base Data'!G172","v":0},null,{"$f":"'2017 Base Data'!I172","v":0},null,null,{"$f":"'2017 Base Data'!J172","v":0},null,null,{"$f":"'2017 Base Data'!K172","v":0},{"$f":"'2017 Base Data'!R172","v":0},null,null,{"$f":"ROUND(IF(S172<>0,R172*D172+S172*SUM(B172:C172)+T172*E172,R172*SUM(B172:D172)+T172*E172),2)","v":0},{"$f":"L172-O172","v":0},null,{"$f":"'2017 Base Data'!K172","v":0},{"$f":"'2017 Base Data'!L172","v":0},{"$f":"'2017 Base Data'!M172","v":0},{"$f":"\"E\"&U171&\":\"&\"E\"&V171","v":"E172:E174"},{"$f":"\"H\"&U171&\":\"&\"H\"&V171","v":"H172:H174"},{"$f":"\"L\"&U171&\":\"&\"L\"&V171","v":"L172:L174"},null,"<TR VALIGN=BOTTOM>",{"$f":"\"<TD NOWRAP ALIGN=LEFT><FONT FACE=\"\"Times New Roman\"\" SIZE=-1 COLOR=#00AA00\"\">\"&A172&\"</FONT></TD>\"","v":"<TD NOWRAP ALIGN=LEFT><FONT FACE=\"Times New Roman\" SIZE=-1 COLOR=#00AA00\">Burnt Hills-Ballston Lake CSD</FONT></TD>"},"<TD NOWRAP ALIGN=RIGHT><FONT FACE=\"Times New Roman\" SIZE=-1>$0.00</FONT></TD>","<TD NOWRAP ALIGN=RIGHT><FONT FACE=\"Times New Roman\" SIZE=-1>$0.00</FONT></TD>","<TD NOWRAP ALIGN=RIGHT><FONT FACE=\"Times New Roman\" SIZE=-1><BR></FONT></TD>","<TD NOWRAP ALIGN=CENTER><FONT FACE=\"Times New Roman\" SIZE=-1>$0.00</FONT></TD>","<TD NOWRAP ALIGN=CENTER><FONT FACE=\"Times New Roman\" SIZE=-1>$0.00</FONT></TD>","<TD NOWRAP ALIGN=CENTER><FONT FACE=\"Times New Roman\" SIZE=-1>0.0000</FONT></TD>","<TD NOWRAP ALIGN=CENTER><FONT FACE=\"Times New Roman\" SIZE=-1>$0.00</FONT></TD>","</TR>"]
["Niskayuna CSD",{"$f":"'2017 Base Data'!F173","v":0},{"$f":"'2017 Base Data'!G173","v":0},null,{"$f":"'2017 Base Data'!I173","v":0},null,null,{"$f":"'2017 Base Data'!J173","v":0},null,null,{"$f":"'2017 Base Data'!K173","v":0},{"$f":"'2017 Base Data'!R173","v":0},null,null,{"$f":"ROUND(IF(S173<>0,R173*D173+S173*SUM(B173:C173)+T173*E173,R173*SUM(B173:D173)+T173*E173),2)","v":0},{"$f":"L173-O173","v":0},null,{"$f":"'2017 Base Data'!K173","v":0},{"$f":"'2017 Base Data'!L173","v":0},{"$f":"'2017 Base Data'!M173","v":0},null,null,null,null,"<TR VALIGN=BOTTOM>",{"$f":"\"<TD NOWRAP ALIGN=LEFT><FONT FACE=\"\"Times New Roman\"\" SIZE=-1 COLOR=#00AA00\"\">\"&A173&\"</FONT></TD>\"","v":"<TD NOWRAP ALIGN=LEFT><FONT FACE=\"Times New Roman\" SIZE=-1 COLOR=#00AA00\">Niskayuna CSD</FONT></TD>"},"<TD NOWRAP ALIGN=RIGHT><FONT FACE=\"Times New Roman\" SIZE=-1>$0.00</FONT></TD>","<TD NOWRAP ALIGN=RIGHT><FONT FACE=\"Times New Roman\" SIZE=-1>$0.00</FONT></TD>","<TD NOWRAP ALIGN=RIGHT><FONT FACE=\"Times New Roman\" SIZE=-1><BR></FONT></TD>","<TD NOWRAP ALIGN=CENTER><FONT FACE=\"Times New Roman\" SIZE=-1>$0.00</FONT></TD>","<TD NOWRAP ALIGN=CENTER><FONT FACE=\"Times New Roman\" SIZE=-1>$0.00</FONT></TD>","<TD NOWRAP ALIGN=CENTER><FONT FACE=\"Times New Roman\" SIZE=-1>0.0000</FONT></TD>","<TD NOWRAP ALIGN=CENTER><FONT FACE=\"Times New Roman\" SIZE=-1>$0.00</FONT></TD>","</TR>"]
["Shenendehowa CSD",{"$f":"'2017 Base Data'!F174","v":0},{"$f":"'2017 Base Data'!G174","v":0},null,{"$f":"'2017 Base Data'!I174","v":0},null,null,{"$f":"'2017 Base Data'!J174","v":0},null,null,{"$f":"'2017 Base Data'!K174","v":0},{"$f":"'2017 Base Data'!R174","v":0},null,null,{"$f":"ROUND(IF(S174<>0,R174*D174+S174*SUM(B174:C174)+T174*E174,R174*SUM(B174:D174)+T174*E174),2)","v":0},{"$f":"L174-O174","v":0},null,{"$f":"'2017 Base Data'!K174","v":0},{"$f":"'2017 Base Data'!L174","v":0},{"$f":"'2017 Base Data'!M174","v":0},null,null,null,null,"<TR VALIGN=BOTTOM>",{"$f":"\"<TD NOWRAP ALIGN=LEFT><FONT FACE=\"\"Times New Roman\"\" SIZE=-1 COLOR=#00AA00\"\">\"&A174&\"</FONT></TD>\"","v":"<TD NOWRAP ALIGN=LEFT><FONT FACE=\"Times New Roman\" SIZE=-1 COLOR=#00AA00\">Shenendehowa CSD</FONT></TD>"},"<TD NOWRAP ALIGN=RIGHT><FONT FACE=\"Times New Roman\" SIZE=-1>$0.00</FONT></TD>","<TD NOWRAP ALIGN=RIGHT><FONT FACE=\"Times New Roman\" SIZE=-1>$0.00</FONT></TD>","<TD NOWRAP ALIGN=RIGHT><FONT FACE=\"Times New Roman\" SIZE=-1><BR></FONT></TD>","<TD NOWRAP ALIGN=CENTER><FONT FACE=\"Times New Roman\" SIZE=-1>$0.00</FONT></TD>","<TD NOWRAP ALIGN=CENTER><FONT FACE=\"Times New Roman\" SIZE=-1>$0.00</FONT></TD>","<TD NOWRAP ALIGN=CENTER><FONT FACE=\"Times New Roman\" SIZE=-1>0.0000</FONT></TD>","<TD NOWRAP ALIGN=CENTER><FONT FACE=\"Times New Roman\" SIZE=-1>$0.00</FONT></TD>","</TR>"]
["Town of Corinth",{"$f":"B176","v":0},{"$f":"C176","v":0},null,{"$f":"MIN(INDIRECT(U176))","v":0},{"$f":"IF(G175<>0,\"to\",\"\")","v":""},{"$f":"IF(U175<>V175,MAX(INDIRECT(U176)),0)","v":0},{"$f":"MIN(INDIRECT(V176))","v":0},{"$f":"IF(J175<>0,\"to\",\"\")","v":""},{"$f":"IF(U175<>V175,MAX(INDIRECT(V176)),0)","v":0},{"$f":"K176","v":0},{"$f":"MIN(INDIRECT(W176))","v":0},{"$f":"IF(N175<>0,\"to\",\"\")","v":""},{"$f":"IF(U175<>V175,MAX(INDIRECT(W176)),0)","v":0},null,null,null,null,null,null,{"$f":"CELL(\"row\",P176)","v":176},{"$f":"CELL(\"row\",P176)","v":176},null,null,"<TR VALIGN=BOTTOM BGCOLOR=\"#FFFFCC\">",{"$f":"\"<TH NOWRAP ALIGN=LEFT><FONT FACE=\"\"Times New Roman\"\" SIZE=-1>\"&A175&\"</FONT></TH>\"","v":"<TH NOWRAP ALIGN=LEFT><FONT FACE=\"Times New Roman\" SIZE=-1>Town of Corinth</FONT></TH>"},"<TD NOWRAP ALIGN=RIGHT><FONT FACE=\"Times New Roman\" SIZE=-1>$0.00</FONT></TD>","<TD NOWRAP ALIGN=RIGHT><FONT FACE=\"Times New Roman\" SIZE=-1>$0.00</FONT></TD>","<TD NOWRAP ALIGN=RIGHT><FONT FACE=\"Times New Roman\" SIZE=-1><BR></FONT></TD>","<TD NOWRAP ALIGN=CENTER><FONT FACE=\"Times New Roman\" SIZE=-1>$0.00</FONT></TD>","<TD NOWRAP ALIGN=CENTER><FONT FACE=\"Times New Roman\" SIZE=-1>$0.00</FONT></TD>","<TD NOWRAP ALIGN=CENTER><FONT FACE=\"Times New Roman\" SIZE=-1>0.0000</FONT></TD>","<TD NOWRAP ALIGN=CENTER><FONT FACE=\"Times New Roman\" SIZE=-1>$0.00</FONT></TD>","</TR>"]
["Corinth CSD",{"$f":"'2017 Base Data'!F176","v":0},{"$f":"'2017 Base Data'!G176","v":0},null,{"$f":"'2017 Base Data'!I176","v":0},null,null,{"$f":"'2017 Base Data'!J176","v":0},null,null,{"$f":"'2017 Base Data'!K176","v":0},{"$f":"'2017 Base Data'!R176","v":0},null,null,{"$f":"ROUND(IF(S176<>0,R176*D176+S176*SUM(B176:C176)+T176*E176,R176*SUM(B176:D176)+T176*E176),2)","v":0},{"$f":"L176-O176","v":0},null,{"$f":"'2017 Base Data'!K176","v":0},{"$f":"'2017 Base Data'!L176","v":0},{"$f":"'2017 Base Data'!M176","v":0},{"$f":"\"E\"&U175&\":\"&\"E\"&V175","v":"E176:E176"},{"$f":"\"H\"&U175&\":\"&\"H\"&V175","v":"H176:H176"},{"$f":"\"L\"&U175&\":\"&\"L\"&V175","v":"L176:L176"},null,"<TR VALIGN=BOTTOM>",{"$f":"\"<TD NOWRAP ALIGN=LEFT><FONT FACE=\"\"Times New Roman\"\" SIZE=-1 COLOR=#00AA00\"\">\"&A176&\"</FONT></TD>\"","v":"<TD NOWRAP ALIGN=LEFT><FONT FACE=\"Times New Roman\" SIZE=-1 COLOR=#00AA00\">Corinth CSD</FONT></TD>"},"<TD NOWRAP ALIGN=RIGHT><FONT FACE=\"Times New Roman\" SIZE=-1>$0.00</FONT></TD>","<TD NOWRAP ALIGN=RIGHT><FONT FACE=\"Times New Roman\" SIZE=-1>$0.00</FONT></TD>","<TD NOWRAP ALIGN=RIGHT><FONT FACE=\"Times New Roman\" SIZE=-1><BR></FONT></TD>","<TD NOWRAP ALIGN=CENTER><FONT FACE=\"Times New Roman\" SIZE=-1>$0.00</FONT></TD>","<TD NOWRAP ALIGN=CENTER><FONT FACE=\"Times New Roman\" SIZE=-1>$0.00</FONT></TD>","<TD NOWRAP ALIGN=CENTER><FONT FACE=\"Times New Roman\" SIZE=-1>0.0000</FONT></TD>","<TD NOWRAP ALIGN=CENTER><FONT FACE=\"Times New Roman\" SIZE=-1>$0.00</FONT></TD>","</TR>"]
["Village of Corinth",{"$f":"B178","v":0},{"$f":"C178","v":0},{"$f":"D178","v":0},{"$f":"MIN(INDIRECT(U178))","v":0},{"$f":"IF(G177<>0,\"to\",\"\")","v":""},{"$f":"IF(U177<>V177,MAX(INDIRECT(U178)),0)","v":0},{"$f":"MIN(INDIRECT(V178))","v":0},{"$f":"IF(J177<>0,\"to\",\"\")","v":""},{"$f":"IF(U177<>V177,MAX(INDIRECT(V178)),0)","v":0},{"$f":"K178","v":0},{"$f":"MIN(INDIRECT(W178))","v":0},{"$f":"IF(N177<>0,\"to\",\"\")","v":""},{"$f":"IF(U177<>V177,MAX(INDIRECT(W178)),0)","v":0},null,null,null,null,null,null,{"$f":"CELL(\"row\",P178)","v":178},{"$f":"CELL(\"row\",P178)","v":178},null,null,"<TR VALIGN=BOTTOM BGCOLOR=\"#FFFFCC\">",{"$f":"\"<TH NOWRAP ALIGN=LEFT><FONT FACE=\"\"Times New Roman\"\" SIZE=-1 COLOR=\"\"#0000CC\"\">\"&A177&\"</FONT></TH>\"","v":"<TH NOWRAP ALIGN=LEFT><FONT FACE=\"Times New Roman\" SIZE=-1 COLOR=\"#0000CC\">Village of Corinth</FONT></TH>"},"<TD NOWRAP ALIGN=RIGHT><FONT FACE=\"Times New Roman\" SIZE=-1>$0.00</FONT></TD>","<TD NOWRAP ALIGN=RIGHT><FONT FACE=\"Times New Roman\" SIZE=-1>$0.00</FONT></TD>","<TD NOWRAP ALIGN=RIGHT><FONT FACE=\"Times New Roman\" SIZE=-1>$0.00</FONT></TD>","<TD NOWRAP ALIGN=CENTER><FONT FACE=\"Times New Roman\" SIZE=-1>$0.00</FONT></TD>","<TD NOWRAP ALIGN=CENTER><FONT FACE=\"Times New Roman\" SIZE=-1>$0.00</FONT></TD>","<TD NOWRAP ALIGN=CENTER><FONT FACE=\"Times New Roman\" SIZE=-1>0.0000</FONT></TD>","<TD NOWRAP ALIGN=CENTER><FONT FACE=\"Times New Roman\" SIZE=-1>$0.00</FONT></TD>","</TR>"]
["Corinth CSD",{"$f":"'2017 Base Data'!F178","v":0},{"$f":"'2017 Base Data'!G178","v":0},{"$f":"'2017 Base Data'!H178","v":0},{"$f":"'2017 Base Data'!I178","v":0},null,null,{"$f":"'2017 Base Data'!J178","v":0},null,null,{"$f":"'2017 Base Data'!K178","v":0},{"$f":"'2017 Base Data'!R178","v":0},null,null,{"$f":"ROUND(IF(S178<>0,R178*D178+S178*SUM(B178:C178)+T178*E178,R178*SUM(B178:D178)+T178*E178),2)","v":0},{"$f":"L178-O178","v":0},null,{"$f":"'2017 Base Data'!K178","v":0},{"$f":"'2017 Base Data'!L178","v":0},{"$f":"'2017 Base Data'!M178","v":0},{"$f":"\"E\"&U177&\":\"&\"E\"&V177","v":"E178:E178"},{"$f":"\"H\"&U177&\":\"&\"H\"&V177","v":"H178:H178"},{"$f":"\"L\"&U177&\":\"&\"L\"&V177","v":"L178:L178"},null,"<TR VALIGN=BOTTOM>",{"$f":"\"<TD NOWRAP ALIGN=LEFT><FONT FACE=\"\"Times New Roman\"\" SIZE=-1 COLOR=#00AA00\"\">\"&A178&\"</FONT></TD>\"","v":"<TD NOWRAP ALIGN=LEFT><FONT FACE=\"Times New Roman\" SIZE=-1 COLOR=#00AA00\">Corinth CSD</FONT></TD>"},"<TD NOWRAP ALIGN=RIGHT><FONT FACE=\"Times New Roman\" SIZE=-1>$0.00</FONT></TD>","<TD NOWRAP ALIGN=RIGHT><FONT FACE=\"Times New Roman\" SIZE=-1>$0.00</FONT></TD>","<TD NOWRAP ALIGN=RIGHT><FONT FACE=\"Times New Roman\" SIZE=-1>$0.00</FONT></TD>","<TD NOWRAP ALIGN=CENTER><FONT FACE=\"Times New Roman\" SIZE=-1>$0.00</FONT></TD>","<TD NOWRAP ALIGN=CENTER><FONT FACE=\"Times New Roman\" SIZE=-1>$0.00</FONT></TD>","<TD NOWRAP ALIGN=CENTER><FONT FACE=\"Times New Roman\" SIZE=-1>0.0000</FONT></TD>","<TD NOWRAP ALIGN=CENTER><FONT FACE=\"Times New Roman\" SIZE=-1>$0.00</FONT></TD>","</TR>"]
["Town of Day",{"$f":"B180","v":0},{"$f":"C180","v":0},null,{"$f":"MIN(INDIRECT(U180))","v":0},{"$f":"IF(G179<>0,\"to\",\"\")","v":""},{"$f":"IF(U179<>V179,MAX(INDIRECT(U180)),0)","v":0},{"$f":"MIN(INDIRECT(V180))","v":0},{"$f":"IF(J179<>0,\"to\",\"\")","v":""},{"$f":"IF(U179<>V179,MAX(INDIRECT(V180)),0)","v":0},{"$f":"K180","v":0},{"$f":"MIN(INDIRECT(W180))","v":0},{"$f":"IF(N179<>0,\"to\",\"\")","v":""},{"$f":"IF(U179<>V179,MAX(INDIRECT(W180)),0)","v":0},null,null,null,null,null,null,{"$f":"CELL(\"row\",P180)","v":180},{"$f":"CELL(\"row\",P182)","v":182},null,null,"<TR VALIGN=BOTTOM BGCOLOR=\"#FFFFCC\">",{"$f":"\"<TH NOWRAP ALIGN=LEFT><FONT FACE=\"\"Times New Roman\"\" SIZE=-1>\"&A179&\"</FONT></TH>\"","v":"<TH NOWRAP ALIGN=LEFT><FONT FACE=\"Times New Roman\" SIZE=-1>Town of Day</FONT></TH>"},"<TD NOWRAP ALIGN=RIGHT><FONT FACE=\"Times New Roman\" SIZE=-1>$0.00</FONT></TD>","<TD NOWRAP ALIGN=RIGHT><FONT FACE=\"Times New Roman\" SIZE=-1>$0.00</FONT></TD>","<TD NOWRAP ALIGN=RIGHT><FONT FACE=\"Times New Roman\" SIZE=-1><BR></FONT></TD>","<TD NOWRAP ALIGN=CENTER><FONT FACE=\"Times New Roman\" SIZE=-1>$0.00</FONT></TD>","<TD NOWRAP ALIGN=CENTER><FONT FACE=\"Times New Roman\" SIZE=-1>$0.00</FONT></TD>","<TD NOWRAP ALIGN=CENTER><FONT FACE=\"Times New Roman\" SIZE=-1>0.0000</FONT></TD>","<TD NOWRAP ALIGN=CENTER><FONT FACE=\"Times New Roman\" SIZE=-1>$0.00</FONT></TD>","</TR>"]
["Corinth CSD",{"$f":"'2017 Base Data'!F180","v":0},{"$f":"'2017 Base Data'!G180","v":0},null,{"$f":"'2017 Base Data'!I180","v":0},null,null,{"$f":"'2017 Base Data'!J180","v":0},null,null,{"$f":"'2017 Base Data'!K180","v":0},{"$f":"'2017 Base Data'!R180","v":0},null,null,{"$f":"ROUND(IF(S180<>0,R180*D180+S180*SUM(B180:C180)+T180*E180,R180*SUM(B180:D180)+T180*E180),2)","v":0},{"$f":"L180-O180","v":0},null,{"$f":"'2017 Base Data'!K180","v":0},{"$f":"'2017 Base Data'!L180","v":0},{"$f":"'2017 Base Data'!M180","v":0},{"$f":"\"E\"&U179&\":\"&\"E\"&V179","v":"E180:E182"},{"$f":"\"H\"&U179&\":\"&\"H\"&V179","v":"H180:H182"},{"$f":"\"L\"&U179&\":\"&\"L\"&V179","v":"L180:L182"},null,"<TR VALIGN=BOTTOM>",{"$f":"\"<TD NOWRAP ALIGN=LEFT><FONT FACE=\"\"Times New Roman\"\" SIZE=-1 COLOR=#00AA00\"\">\"&A180&\"</FONT></TD>\"","v":"<TD NOWRAP ALIGN=LEFT><FONT FACE=\"Times New Roman\" SIZE=-1 COLOR=#00AA00\">Corinth CSD</FONT></TD>"},"<TD NOWRAP ALIGN=RIGHT><FONT FACE=\"Times New Roman\" SIZE=-1>$0.00</FONT></TD>","<TD NOWRAP ALIGN=RIGHT><FONT FACE=\"Times New Roman\" SIZE=-1>$0.00</FONT></TD>","<TD NOWRAP ALIGN=RIGHT><FONT FACE=\"Times New Roman\" SIZE=-1><BR></FONT></TD>","<TD NOWRAP ALIGN=CENTER><FONT FACE=\"Times New Roman\" SIZE=-1>$0.00</FONT></TD>","<TD NOWRAP ALIGN=CENTER><FONT FACE=\"Times New Roman\" SIZE=-1>$0.00</FONT></TD>","<TD NOWRAP ALIGN=CENTER><FONT FACE=\"Times New Roman\" SIZE=-1>0.0000</FONT></TD>","<TD NOWRAP ALIGN=CENTER><FONT FACE=\"Times New Roman\" SIZE=-1>$0.00</FONT></TD>","</TR>"]
["Edinburg Common SD",{"$f":"'2017 Base Data'!F181","v":0},{"$f":"'2017 Base Data'!G181","v":0},null,{"$f":"'2017 Base Data'!I181","v":0},null,null,{"$f":"'2017 Base Data'!J181","v":0},null,null,{"$f":"'2017 Base Data'!K181","v":0},{"$f":"'2017 Base Data'!R181","v":0},null,null,{"$f":"ROUND(IF(S181<>0,R181*D181+S181*SUM(B181:C181)+T181*E181,R181*SUM(B181:D181)+T181*E181),2)","v":0},{"$f":"L181-O181","v":0},null,{"$f":"'2017 Base Data'!K181","v":0},{"$f":"'2017 Base Data'!L181","v":0},{"$f":"'2017 Base Data'!M181","v":0},null,null,null,null,"<TR VALIGN=BOTTOM>",{"$f":"\"<TD NOWRAP ALIGN=LEFT><FONT FACE=\"\"Times New Roman\"\" SIZE=-1 COLOR=#00AA00\"\">\"&A181&\"</FONT></TD>\"","v":"<TD NOWRAP ALIGN=LEFT><FONT FACE=\"Times New Roman\" SIZE=-1 COLOR=#00AA00\">Edinburg Common SD</FONT></TD>"},"<TD NOWRAP ALIGN=RIGHT><FONT FACE=\"Times New Roman\" SIZE=-1>$0.00</FONT></TD>","<TD NOWRAP ALIGN=RIGHT><FONT FACE=\"Times New Roman\" SIZE=-1>$0.00</FONT></TD>","<TD NOWRAP ALIGN=RIGHT><FONT FACE=\"Times New Roman\" SIZE=-1><BR></FONT></TD>","<TD NOWRAP ALIGN=CENTER><FONT FACE=\"Times New Roman\" SIZE=-1>$0.00</FONT></TD>","<TD NOWRAP ALIGN=CENTER><FONT FACE=\"Times New Roman\" SIZE=-1>$0.00</FONT></TD>","<TD NOWRAP ALIGN=CENTER><FONT FACE=\"Times New Roman\" SIZE=-1>0.0000</FONT></TD>","<TD NOWRAP ALIGN=CENTER><FONT FACE=\"Times New Roman\" SIZE=-1>$0.00</FONT></TD>","</TR>"]
["Hadley-Luzerne CSD",{"$f":"'2017 Base Data'!F182","v":0},{"$f":"'2017 Base Data'!G182","v":0},null,{"$f":"'2017 Base Data'!I182","v":0},null,null,{"$f":"'2017 Base Data'!J182","v":0},null,null,{"$f":"'2017 Base Data'!K182","v":0},{"$f":"'2017 Base Data'!R182","v":0},null,null,{"$f":"ROUND(IF(S182<>0,R182*D182+S182*SUM(B182:C182)+T182*E182,R182*SUM(B182:D182)+T182*E182),2)","v":0},{"$f":"L182-O182","v":0},null,{"$f":"'2017 Base Data'!K182","v":0},{"$f":"'2017 Base Data'!L182","v":0},{"$f":"'2017 Base Data'!M182","v":0},null,null,null,null,"<TR VALIGN=BOTTOM>",{"$f":"\"<TD NOWRAP ALIGN=LEFT><FONT FACE=\"\"Times New Roman\"\" SIZE=-1 COLOR=#00AA00\"\">\"&A182&\"</FONT></TD>\"","v":"<TD NOWRAP ALIGN=LEFT><FONT FACE=\"Times New Roman\" SIZE=-1 COLOR=#00AA00\">Hadley-Luzerne CSD</FONT></TD>"},"<TD NOWRAP ALIGN=RIGHT><FONT FACE=\"Times New Roman\" SIZE=-1>$0.00</FONT></TD>","<TD NOWRAP ALIGN=RIGHT><FONT FACE=\"Times New Roman\" SIZE=-1>$0.00</FONT></TD>","<TD NOWRAP ALIGN=RIGHT><FONT FACE=\"Times New Roman\" SIZE=-1><BR></FONT></TD>","<TD NOWRAP ALIGN=CENTER><FONT FACE=\"Times New Roman\" SIZE=-1>$0.00</FONT></TD>","<TD NOWRAP ALIGN=CENTER><FONT FACE=\"Times New Roman\" SIZE=-1>$0.00</FONT></TD>","<TD NOWRAP ALIGN=CENTER><FONT FACE=\"Times New Roman\" SIZE=-1>0.0000</FONT></TD>","<TD NOWRAP ALIGN=CENTER><FONT FACE=\"Times New Roman\" SIZE=-1>$0.00</FONT></TD>","</TR>"]
["Town of Edinburg",{"$f":"B184","v":0},{"$f":"C184","v":0},null,{"$f":"MIN(INDIRECT(U184))","v":0},{"$f":"IF(G183<>0,\"to\",\"\")","v":""},{"$f":"IF(U183<>V183,MAX(INDIRECT(U184)),0)","v":0},{"$f":"MIN(INDIRECT(V184))","v":0},{"$f":"IF(J183<>0,\"to\",\"\")","v":""},{"$f":"IF(U183<>V183,MAX(INDIRECT(V184)),0)","v":0},{"$f":"K184","v":0},{"$f":"MIN(INDIRECT(W184))","v":0},{"$f":"IF(N183<>0,\"to\",\"\")","v":""},{"$f":"IF(U183<>V183,MAX(INDIRECT(W184)),0)","v":0},null,null,null,null,null,null,{"$f":"CELL(\"row\",P184)","v":184},{"$f":"CELL(\"row\",P187)","v":187},null,null,"<TR VALIGN=BOTTOM BGCOLOR=\"#FFFFCC\">",{"$f":"\"<TH NOWRAP ALIGN=LEFT><FONT FACE=\"\"Times New Roman\"\" SIZE=-1>\"&A183&\"</FONT></TH>\"","v":"<TH NOWRAP ALIGN=LEFT><FONT FACE=\"Times New Roman\" SIZE=-1>Town of Edinburg</FONT></TH>"},"<TD NOWRAP ALIGN=RIGHT><FONT FACE=\"Times New Roman\" SIZE=-1>$0.00</FONT></TD>","<TD NOWRAP ALIGN=RIGHT><FONT FACE=\"Times New Roman\" SIZE=-1>$0.00</FONT></TD>","<TD NOWRAP ALIGN=RIGHT><FONT FACE=\"Times New Roman\" SIZE=-1><BR></FONT></TD>","<TD NOWRAP ALIGN=CENTER><FONT FACE=\"Times New Roman\" SIZE=-1>$0.00</FONT></TD>","<TD NOWRAP ALIGN=CENTER><FONT FACE=\"Times New Roman\" SIZE=-1>$0.00</FONT></TD>","<TD NOWRAP ALIGN=CENTER><FONT FACE=\"Times New Roman\" SIZE=-1>0.0000</FONT></TD>","<TD NOWRAP ALIGN=CENTER><FONT FACE=\"Times New Roman\" SIZE=-1>$0.00</FONT></TD>","</TR>"]
["Broadalbin-Perth CSD",{"$f":"'2017 Base Data'!F184","v":0},{"$f":"'2017 Base Data'!G184","v":0},null,{"$f":"'2017 Base Data'!I184","v":0},null,null,{"$f":"'2017 Base Data'!J184","v":0},null,null,{"$f":"'2017 Base Data'!K184","v":0},{"$f":"'2017 Base Data'!R184","v":0},null,null,{"$f":"ROUND(IF(S184<>0,R184*D184+S184*SUM(B184:C184)+T184*E184,R184*SUM(B184:D184)+T184*E184),2)","v":0},{"$f":"L184-O184","v":0},null,{"$f":"'2017 Base Data'!K184","v":0},{"$f":"'2017 Base Data'!L184","v":0},{"$f":"'2017 Base Data'!M184","v":0},{"$f":"\"E\"&U183&\":\"&\"E\"&V183","v":"E184:E187"},{"$f":"\"H\"&U183&\":\"&\"H\"&V183","v":"H184:H187"},{"$f":"\"L\"&U183&\":\"&\"L\"&V183","v":"L184:L187"},null,"<TR VALIGN=BOTTOM>",{"$f":"\"<TD NOWRAP ALIGN=LEFT><FONT FACE=\"\"Times New Roman\"\" SIZE=-1 COLOR=#00AA00\"\">\"&A184&\"</FONT></TD>\"","v":"<TD NOWRAP ALIGN=LEFT><FONT FACE=\"Times New Roman\" SIZE=-1 COLOR=#00AA00\">Broadalbin-Perth CSD</FONT></TD>"},"<TD NOWRAP ALIGN=RIGHT><FONT FACE=\"Times New Roman\" SIZE=-1>$0.00</FONT></TD>","<TD NOWRAP ALIGN=RIGHT><FONT FACE=\"Times New Roman\" SIZE=-1>$0.00</FONT></TD>","<TD NOWRAP ALIGN=RIGHT><FONT FACE=\"Times New Roman\" SIZE=-1><BR></FONT></TD>","<TD NOWRAP ALIGN=CENTER><FONT FACE=\"Times New Roman\" SIZE=-1>$0.00</FONT></TD>","<TD NOWRAP ALIGN=CENTER><FONT FACE=\"Times New Roman\" SIZE=-1>$0.00</FONT></TD>","<TD NOWRAP ALIGN=CENTER><FONT FACE=\"Times New Roman\" SIZE=-1>0.0000</FONT></TD>","<TD NOWRAP ALIGN=CENTER><FONT FACE=\"Times New Roman\" SIZE=-1>$0.00</FONT></TD>","</TR>"]
["Edinburg Common SD",{"$f":"'2017 Base Data'!F185","v":0},{"$f":"'2017 Base Data'!G185","v":0},null,{"$f":"'2017 Base Data'!I185","v":0},null,null,{"$f":"'2017 Base Data'!J185","v":0},null,null,{"$f":"'2017 Base Data'!K185","v":0},{"$f":"'2017 Base Data'!R185","v":0},null,null,{"$f":"ROUND(IF(S185<>0,R185*D185+S185*SUM(B185:C185)+T185*E185,R185*SUM(B185:D185)+T185*E185),2)","v":0},{"$f":"L185-O185","v":0},null,{"$f":"'2017 Base Data'!K185","v":0},{"$f":"'2017 Base Data'!L185","v":0},{"$f":"'2017 Base Data'!M185","v":0},null,null,null,null,"<TR VALIGN=BOTTOM>",{"$f":"\"<TD NOWRAP ALIGN=LEFT><FONT FACE=\"\"Times New Roman\"\" SIZE=-1 COLOR=#00AA00\"\">\"&A185&\"</FONT></TD>\"","v":"<TD NOWRAP ALIGN=LEFT><FONT FACE=\"Times New Roman\" SIZE=-1 COLOR=#00AA00\">Edinburg Common SD</FONT></TD>"},"<TD NOWRAP ALIGN=RIGHT><FONT FACE=\"Times New Roman\" SIZE=-1>$0.00</FONT></TD>","<TD NOWRAP ALIGN=RIGHT><FONT FACE=\"Times New Roman\" SIZE=-1>$0.00</FONT></TD>","<TD NOWRAP ALIGN=RIGHT><FONT FACE=\"Times New Roman\" SIZE=-1><BR></FONT></TD>","<TD NOWRAP ALIGN=CENTER><FONT FACE=\"Times New Roman\" SIZE=-1>$0.00</FONT></TD>","<TD NOWRAP ALIGN=CENTER><FONT FACE=\"Times New Roman\" SIZE=-1>$0.00</FONT></TD>","<TD NOWRAP ALIGN=CENTER><FONT FACE=\"Times New Roman\" SIZE=-1>0.0000</FONT></TD>","<TD NOWRAP ALIGN=CENTER><FONT FACE=\"Times New Roman\" SIZE=-1>$0.00</FONT></TD>","</TR>"]
["Hadley-Luzerne CSD",{"$f":"'2017 Base Data'!F186","v":0},{"$f":"'2017 Base Data'!G186","v":0},null,{"$f":"'2017 Base Data'!I186","v":0},null,null,{"$f":"'2017 Base Data'!J186","v":0},null,null,{"$f":"'2017 Base Data'!K186","v":0},{"$f":"'2017 Base Data'!R186","v":0},null,null,{"$f":"ROUND(IF(S186<>0,R186*D186+S186*SUM(B186:C186)+T186*E186,R186*SUM(B186:D186)+T186*E186),2)","v":0},{"$f":"L186-O186","v":0},null,{"$f":"'2017 Base Data'!K186","v":0},{"$f":"'2017 Base Data'!L186","v":0},{"$f":"'2017 Base Data'!M186","v":0},null,null,null,null,"<TR VALIGN=BOTTOM>",{"$f":"\"<TD NOWRAP ALIGN=LEFT><FONT FACE=\"\"Times New Roman\"\" SIZE=-1 COLOR=#00AA00\"\">\"&A186&\"</FONT></TD>\"","v":"<TD NOWRAP ALIGN=LEFT><FONT FACE=\"Times New Roman\" SIZE=-1 COLOR=#00AA00\">Hadley-Luzerne CSD</FONT></TD>"},"<TD NOWRAP ALIGN=RIGHT><FONT FACE=\"Times New Roman\" SIZE=-1>$0.00</FONT></TD>","<TD NOWRAP ALIGN=RIGHT><FONT FACE=\"Times New Roman\" SIZE=-1>$0.00</FONT></TD>","<TD NOWRAP ALIGN=RIGHT><FONT FACE=\"Times New Roman\" SIZE=-1><BR></FONT></TD>","<TD NOWRAP ALIGN=CENTER><FONT FACE=\"Times New Roman\" SIZE=-1>$0.00</FONT></TD>","<TD NOWRAP ALIGN=CENTER><FONT FACE=\"Times New Roman\" SIZE=-1>$0.00</FONT></TD>","<TD NOWRAP ALIGN=CENTER><FONT FACE=\"Times New Roman\" SIZE=-1>0.0000</FONT></TD>","<TD NOWRAP ALIGN=CENTER><FONT FACE=\"Times New Roman\" SIZE=-1>$0.00</FONT></TD>","</TR>"]
["Northville CSD",{"$f":"'2017 Base Data'!F187","v":0},{"$f":"'2017 Base Data'!G187","v":0},null,{"$f":"'2017 Base Data'!I187","v":0},null,null,{"$f":"'2017 Base Data'!J187","v":0},null,null,{"$f":"'2017 Base Data'!K187","v":0},{"$f":"'2017 Base Data'!R187","v":0},null,null,{"$f":"ROUND(IF(S187<>0,R187*D187+S187*SUM(B187:C187)+T187*E187,R187*SUM(B187:D187)+T187*E187),2)","v":0},{"$f":"L187-O187","v":0},null,{"$f":"'2017 Base Data'!K187","v":0},{"$f":"'2017 Base Data'!L187","v":0},{"$f":"'2017 Base Data'!M187","v":0},null,null,null,null,"<TR VALIGN=BOTTOM>",{"$f":"\"<TD NOWRAP ALIGN=LEFT><FONT FACE=\"\"Times New Roman\"\" SIZE=-1 COLOR=#00AA00\"\">\"&A187&\"</FONT></TD>\"","v":"<TD NOWRAP ALIGN=LEFT><FONT FACE=\"Times New Roman\" SIZE=-1 COLOR=#00AA00\">Northville CSD</FONT></TD>"},"<TD NOWRAP ALIGN=RIGHT><FONT FACE=\"Times New Roman\" SIZE=-1>$0.00</FONT></TD>","<TD NOWRAP ALIGN=RIGHT><FONT FACE=\"Times New Roman\" SIZE=-1>$0.00</FONT></TD>","<TD NOWRAP ALIGN=RIGHT><FONT FACE=\"Times New Roman\" SIZE=-1><BR></FONT></TD>","<TD NOWRAP ALIGN=CENTER><FONT FACE=\"Times New Roman\" SIZE=-1>$0.00</FONT></TD>","<TD NOWRAP ALIGN=CENTER><FONT FACE=\"Times New Roman\" SIZE=-1>$0.00</FONT></TD>","<TD NOWRAP ALIGN=CENTER><FONT FACE=\"Times New Roman\" SIZE=-1>0.0000</FONT></TD>","<TD NOWRAP ALIGN=CENTER><FONT FACE=\"Times New Roman\" SIZE=-1>$0.00</FONT></TD>","</TR>"]
["Town of Galway",{"$f":"B189","v":0},{"$f":"C189","v":0},null,{"$f":"MIN(INDIRECT(U189))","v":0},{"$f":"IF(G188<>0,\"to\",\"\")","v":""},{"$f":"IF(U188<>V188,MAX(INDIRECT(U189)),0)","v":0},{"$f":"MIN(INDIRECT(V189))","v":0},{"$f":"IF(J188<>0,\"to\",\"\")","v":""},{"$f":"IF(U188<>V188,MAX(INDIRECT(V189)),0)","v":0},{"$f":"K189","v":0},{"$f":"MIN(INDIRECT(W189))","v":0},{"$f":"IF(N188<>0,\"to\",\"\")","v":""},{"$f":"IF(U188<>V188,MAX(INDIRECT(W189)),0)","v":0},null,null,null,null,null,null,{"$f":"CELL(\"row\",P189)","v":189},{"$f":"CELL(\"row\",P190)","v":190},null,null,"<TR VALIGN=BOTTOM BGCOLOR=\"#FFFFCC\">",{"$f":"\"<TH NOWRAP ALIGN=LEFT><FONT FACE=\"\"Times New Roman\"\" SIZE=-1>\"&A188&\"</FONT></TH>\"","v":"<TH NOWRAP ALIGN=LEFT><FONT FACE=\"Times New Roman\" SIZE=-1>Town of Galway</FONT></TH>"},"<TD NOWRAP ALIGN=RIGHT><FONT FACE=\"Times New Roman\" SIZE=-1>$0.00</FONT></TD>","<TD NOWRAP ALIGN=RIGHT><FONT FACE=\"Times New Roman\" SIZE=-1>$0.00</FONT></TD>","<TD NOWRAP ALIGN=RIGHT><FONT FACE=\"Times New Roman\" SIZE=-1><BR></FONT></TD>","<TD NOWRAP ALIGN=CENTER><FONT FACE=\"Times New Roman\" SIZE=-1>$0.00</FONT></TD>","<TD NOWRAP ALIGN=CENTER><FONT FACE=\"Times New Roman\" SIZE=-1>$0.00</FONT></TD>","<TD NOWRAP ALIGN=CENTER><FONT FACE=\"Times New Roman\" SIZE=-1>0.0000</FONT></TD>","<TD NOWRAP ALIGN=CENTER><FONT FACE=\"Times New Roman\" SIZE=-1>$0.00</FONT></TD>","</TR>"]
["Broadalbin-Perth CSD",{"$f":"'2017 Base Data'!F189","v":0},{"$f":"'2017 Base Data'!G189","v":0},null,{"$f":"'2017 Base Data'!I189","v":0},null,null,{"$f":"'2017 Base Data'!J189","v":0},null,null,{"$f":"'2017 Base Data'!K189","v":0},{"$f":"'2017 Base Data'!R189","v":0},null,null,{"$f":"ROUND(IF(S189<>0,R189*D189+S189*SUM(B189:C189)+T189*E189,R189*SUM(B189:D189)+T189*E189),2)","v":0},{"$f":"L189-O189","v":0},null,{"$f":"'2017 Base Data'!K189","v":0},{"$f":"'2017 Base Data'!L189","v":0},{"$f":"'2017 Base Data'!M189","v":0},{"$f":"\"E\"&U188&\":\"&\"E\"&V188","v":"E189:E190"},{"$f":"\"H\"&U188&\":\"&\"H\"&V188","v":"H189:H190"},{"$f":"\"L\"&U188&\":\"&\"L\"&V188","v":"L189:L190"},null,"<TR VALIGN=BOTTOM>",{"$f":"\"<TD NOWRAP ALIGN=LEFT><FONT FACE=\"\"Times New Roman\"\" SIZE=-1 COLOR=#00AA00\"\">\"&A189&\"</FONT></TD>\"","v":"<TD NOWRAP ALIGN=LEFT><FONT FACE=\"Times New Roman\" SIZE=-1 COLOR=#00AA00\">Broadalbin-Perth CSD</FONT></TD>"},"<TD NOWRAP ALIGN=RIGHT><FONT FACE=\"Times New Roman\" SIZE=-1>$0.00</FONT></TD>","<TD NOWRAP ALIGN=RIGHT><FONT FACE=\"Times New Roman\" SIZE=-1>$0.00</FONT></TD>","<TD NOWRAP ALIGN=RIGHT><FONT FACE=\"Times New Roman\" SIZE=-1><BR></FONT></TD>","<TD NOWRAP ALIGN=CENTER><FONT FACE=\"Times New Roman\" SIZE=-1>$0.00</FONT></TD>","<TD NOWRAP ALIGN=CENTER><FONT FACE=\"Times New Roman\" SIZE=-1>$0.00</FONT></TD>","<TD NOWRAP ALIGN=CENTER><FONT FACE=\"Times New Roman\" SIZE=-1>0.0000</FONT></TD>","<TD NOWRAP ALIGN=CENTER><FONT FACE=\"Times New Roman\" SIZE=-1>$0.00</FONT></TD>","</TR>"]
["Galway CSD",{"$f":"'2017 Base Data'!F190","v":0},{"$f":"'2017 Base Data'!G190","v":0},null,{"$f":"'2017 Base Data'!I190","v":0},null,null,{"$f":"'2017 Base Data'!J190","v":0},null,null,{"$f":"'2017 Base Data'!K190","v":0},{"$f":"'2017 Base Data'!R190","v":0},null,null,{"$f":"ROUND(IF(S190<>0,R190*D190+S190*SUM(B190:C190)+T190*E190,R190*SUM(B190:D190)+T190*E190),2)","v":0},{"$f":"L190-O190","v":0},null,{"$f":"'2017 Base Data'!K190","v":0},{"$f":"'2017 Base Data'!L190","v":0},{"$f":"'2017 Base Data'!M190","v":0},null,null,null,null,"<TR VALIGN=BOTTOM>",{"$f":"\"<TD NOWRAP ALIGN=LEFT><FONT FACE=\"\"Times New Roman\"\" SIZE=-1 COLOR=#00AA00\"\">\"&A190&\"</FONT></TD>\"","v":"<TD NOWRAP ALIGN=LEFT><FONT FACE=\"Times New Roman\" SIZE=-1 COLOR=#00AA00\">Galway CSD</FONT></TD>"},"<TD NOWRAP ALIGN=RIGHT><FONT FACE=\"Times New Roman\" SIZE=-1>$0.00</FONT></TD>","<TD NOWRAP ALIGN=RIGHT><FONT FACE=\"Times New Roman\" SIZE=-1>$0.00</FONT></TD>","<TD NOWRAP ALIGN=RIGHT><FONT FACE=\"Times New Roman\" SIZE=-1><BR></FONT></TD>","<TD NOWRAP ALIGN=CENTER><FONT FACE=\"Times New Roman\" SIZE=-1>$0.00</FONT></TD>","<TD NOWRAP ALIGN=CENTER><FONT FACE=\"Times New Roman\" SIZE=-1>$0.00</FONT></TD>","<TD NOWRAP ALIGN=CENTER><FONT FACE=\"Times New Roman\" SIZE=-1>0.0000</FONT></TD>","<TD NOWRAP ALIGN=CENTER><FONT FACE=\"Times New Roman\" SIZE=-1>$0.00</FONT></TD>","</TR>"]
["Village of Galway",{"$f":"B192","v":0},{"$f":"C192","v":0},{"$f":"D192","v":0},{"$f":"MIN(INDIRECT(U192))","v":0},{"$f":"IF(G191<>0,\"to\",\"\")","v":""},{"$f":"IF(U191<>V191,MAX(INDIRECT(U192)),0)","v":0},{"$f":"MIN(INDIRECT(V192))","v":0},{"$f":"IF(J191<>0,\"to\",\"\")","v":""},{"$f":"IF(U191<>V191,MAX(INDIRECT(V192)),0)","v":0},{"$f":"K192","v":0},{"$f":"MIN(INDIRECT(W192))","v":0},{"$f":"IF(N191<>0,\"to\",\"\")","v":""},{"$f":"IF(U191<>V191,MAX(INDIRECT(W192)),0)","v":0},null,null,null,null,null,null,{"$f":"CELL(\"row\",P192)","v":192},{"$f":"CELL(\"row\",P192)","v":192},null,null,"<TR VALIGN=BOTTOM BGCOLOR=\"#FFFFCC\">",{"$f":"\"<TH NOWRAP ALIGN=LEFT><FONT FACE=\"\"Times New Roman\"\" SIZE=-1 COLOR=\"\"#0000CC\"\">\"&A191&\"</FONT></TH>\"","v":"<TH NOWRAP ALIGN=LEFT><FONT FACE=\"Times New Roman\" SIZE=-1 COLOR=\"#0000CC\">Village of Galway</FONT></TH>"},"<TD NOWRAP ALIGN=RIGHT><FONT FACE=\"Times New Roman\" SIZE=-1>$0.00</FONT></TD>","<TD NOWRAP ALIGN=RIGHT><FONT FACE=\"Times New Roman\" SIZE=-1>$0.00</FONT></TD>","<TD NOWRAP ALIGN=RIGHT><FONT FACE=\"Times New Roman\" SIZE=-1>$0.00</FONT></TD>","<TD NOWRAP ALIGN=CENTER><FONT FACE=\"Times New Roman\" SIZE=-1>$0.00</FONT></TD>","<TD NOWRAP ALIGN=CENTER><FONT FACE=\"Times New Roman\" SIZE=-1>$0.00</FONT></TD>","<TD NOWRAP ALIGN=CENTER><FONT FACE=\"Times New Roman\" SIZE=-1>0.0000</FONT></TD>","<TD NOWRAP ALIGN=CENTER><FONT FACE=\"Times New Roman\" SIZE=-1>$0.00</FONT></TD>","</TR>"]
["Galway CSD",{"$f":"'2017 Base Data'!F192","v":0},{"$f":"'2017 Base Data'!G192","v":0},{"$f":"'2017 Base Data'!H192","v":0},{"$f":"'2017 Base Data'!I192","v":0},null,null,{"$f":"'2017 Base Data'!J192","v":0},null,null,{"$f":"'2017 Base Data'!K192","v":0},{"$f":"'2017 Base Data'!R192","v":0},null,null,{"$f":"ROUND(IF(S192<>0,R192*D192+S192*SUM(B192:C192)+T192*E192,R192*SUM(B192:D192)+T192*E192),2)","v":0},{"$f":"L192-O192","v":0},null,{"$f":"'2017 Base Data'!K192","v":0},{"$f":"'2017 Base Data'!L192","v":0},{"$f":"'2017 Base Data'!M192","v":0},{"$f":"\"E\"&U191&\":\"&\"E\"&V191","v":"E192:E192"},{"$f":"\"H\"&U191&\":\"&\"H\"&V191","v":"H192:H192"},{"$f":"\"L\"&U191&\":\"&\"L\"&V191","v":"L192:L192"},null,"<TR VALIGN=BOTTOM>",{"$f":"\"<TD NOWRAP ALIGN=LEFT><FONT FACE=\"\"Times New Roman\"\" SIZE=-1 COLOR=#00AA00\"\">\"&A192&\"</FONT></TD>\"","v":"<TD NOWRAP ALIGN=LEFT><FONT FACE=\"Times New Roman\" SIZE=-1 COLOR=#00AA00\">Galway CSD</FONT></TD>"},"<TD NOWRAP ALIGN=RIGHT><FONT FACE=\"Times New Roman\" SIZE=-1>$0.00</FONT></TD>","<TD NOWRAP ALIGN=RIGHT><FONT FACE=\"Times New Roman\" SIZE=-1>$0.00</FONT></TD>","<TD NOWRAP ALIGN=RIGHT><FONT FACE=\"Times New Roman\" SIZE=-1>$0.00</FONT></TD>","<TD NOWRAP ALIGN=CENTER><FONT FACE=\"Times New Roman\" SIZE=-1>$0.00</FONT></TD>","<TD NOWRAP ALIGN=CENTER><FONT FACE=\"Times New Roman\" SIZE=-1>$0.00</FONT></TD>","<TD NOWRAP ALIGN=CENTER><FONT FACE=\"Times New Roman\" SIZE=-1>0.0000</FONT></TD>","<TD NOWRAP ALIGN=CENTER><FONT FACE=\"Times New Roman\" SIZE=-1>$0.00</FONT></TD>","</TR>"]
["Town of Greenfield",{"$f":"B194","v":0},{"$f":"C194","v":0},null,{"$f":"MIN(INDIRECT(U194))","v":0},{"$f":"IF(G193<>0,\"to\",\"\")","v":""},{"$f":"IF(U193<>V193,MAX(INDIRECT(U194)),0)","v":0},{"$f":"MIN(INDIRECT(V194))","v":0},{"$f":"IF(J193<>0,\"to\",\"\")","v":""},{"$f":"IF(U193<>V193,MAX(INDIRECT(V194)),0)","v":0},{"$f":"K194","v":0},{"$f":"MIN(INDIRECT(W194))","v":0},{"$f":"IF(N193<>0,\"to\",\"\")","v":""},{"$f":"IF(U193<>V193,MAX(INDIRECT(W194)),0)","v":0},null,null,null,null,null,null,{"$f":"CELL(\"row\",P194)","v":194},{"$f":"CELL(\"row\",P195)","v":195},null,null,"<TR VALIGN=BOTTOM BGCOLOR=\"#FFFFCC\">",{"$f":"\"<TH NOWRAP ALIGN=LEFT><FONT FACE=\"\"Times New Roman\"\" SIZE=-1>\"&A193&\"</FONT></TH>\"","v":"<TH NOWRAP ALIGN=LEFT><FONT FACE=\"Times New Roman\" SIZE=-1>Town of Greenfield</FONT></TH>"},"<TD NOWRAP ALIGN=RIGHT><FONT FACE=\"Times New Roman\" SIZE=-1>$0.00</FONT></TD>","<TD NOWRAP ALIGN=RIGHT><FONT FACE=\"Times New Roman\" SIZE=-1>$0.00</FONT></TD>","<TD NOWRAP ALIGN=RIGHT><FONT FACE=\"Times New Roman\" SIZE=-1><BR></FONT></TD>","<TD NOWRAP ALIGN=CENTER><FONT FACE=\"Times New Roman\" SIZE=-1>$0.00</FONT></TD>","<TD NOWRAP ALIGN=CENTER><FONT FACE=\"Times New Roman\" SIZE=-1>$0.00</FONT></TD>","<TD NOWRAP ALIGN=CENTER><FONT FACE=\"Times New Roman\" SIZE=-1>0.0000</FONT></TD>","<TD NOWRAP ALIGN=CENTER><FONT FACE=\"Times New Roman\" SIZE=-1>$0.00</FONT></TD>","</TR>"]
["Corinth CSD",{"$f":"'2017 Base Data'!F194","v":0},{"$f":"'2017 Base Data'!G194","v":0},null,{"$f":"'2017 Base Data'!I194","v":0},null,null,{"$f":"'2017 Base Data'!J194","v":0},null,null,{"$f":"'2017 Base Data'!K194","v":0},{"$f":"'2017 Base Data'!R194","v":0},null,null,{"$f":"ROUND(IF(S194<>0,R194*D194+S194*SUM(B194:C194)+T194*E194,R194*SUM(B194:D194)+T194*E194),2)","v":0},{"$f":"L194-O194","v":0},null,{"$f":"'2017 Base Data'!K194","v":0},{"$f":"'2017 Base Data'!L194","v":0},{"$f":"'2017 Base Data'!M194","v":0},{"$f":"\"E\"&U193&\":\"&\"E\"&V193","v":"E194:E195"},{"$f":"\"H\"&U193&\":\"&\"H\"&V193","v":"H194:H195"},{"$f":"\"L\"&U193&\":\"&\"L\"&V193","v":"L194:L195"},null,"<TR VALIGN=BOTTOM>",{"$f":"\"<TD NOWRAP ALIGN=LEFT><FONT FACE=\"\"Times New Roman\"\" SIZE=-1 COLOR=#00AA00\"\">\"&A194&\"</FONT></TD>\"","v":"<TD NOWRAP ALIGN=LEFT><FONT FACE=\"Times New Roman\" SIZE=-1 COLOR=#00AA00\">Corinth CSD</FONT></TD>"},"<TD NOWRAP ALIGN=RIGHT><FONT FACE=\"Times New Roman\" SIZE=-1>$0.00</FONT></TD>","<TD NOWRAP ALIGN=RIGHT><FONT FACE=\"Times New Roman\" SIZE=-1>$0.00</FONT></TD>","<TD NOWRAP ALIGN=RIGHT><FONT FACE=\"Times New Roman\" SIZE=-1><BR></FONT></TD>","<TD NOWRAP ALIGN=CENTER><FONT FACE=\"Times New Roman\" SIZE=-1>$0.00</FONT></TD>","<TD NOWRAP ALIGN=CENTER><FONT FACE=\"Times New Roman\" SIZE=-1>$0.00</FONT></TD>","<TD NOWRAP ALIGN=CENTER><FONT FACE=\"Times New Roman\" SIZE=-1>0.0000</FONT></TD>","<TD NOWRAP ALIGN=CENTER><FONT FACE=\"Times New Roman\" SIZE=-1>$0.00</FONT></TD>","</TR>"]
["Saratoga Springs City SD",{"$f":"'2017 Base Data'!F195","v":0},{"$f":"'2017 Base Data'!G195","v":0},null,{"$f":"'2017 Base Data'!I195","v":0},null,null,{"$f":"'2017 Base Data'!J195","v":0},null,null,{"$f":"'2017 Base Data'!K195","v":0},{"$f":"'2017 Base Data'!R195","v":0},null,null,{"$f":"ROUND(IF(S195<>0,R195*D195+S195*SUM(B195:C195)+T195*E195,R195*SUM(B195:D195)+T195*E195),2)","v":0},{"$f":"L195-O195","v":0},null,{"$f":"'2017 Base Data'!K195","v":0},{"$f":"'2017 Base Data'!L195","v":0},{"$f":"'2017 Base Data'!M195","v":0},null,null,null,null,"<TR VALIGN=BOTTOM>",{"$f":"\"<TD NOWRAP ALIGN=LEFT><FONT FACE=\"\"Times New Roman\"\" SIZE=-1 COLOR=#00AA00\"\">\"&A195&\"</FONT></TD>\"","v":"<TD NOWRAP ALIGN=LEFT><FONT FACE=\"Times New Roman\" SIZE=-1 COLOR=#00AA00\">Saratoga Springs City SD</FONT></TD>"},"<TD NOWRAP ALIGN=RIGHT><FONT FACE=\"Times New Roman\" SIZE=-1>$0.00</FONT></TD>","<TD NOWRAP ALIGN=RIGHT><FONT FACE=\"Times New Roman\" SIZE=-1>$0.00</FONT></TD>","<TD NOWRAP ALIGN=RIGHT><FONT FACE=\"Times New Roman\" SIZE=-1><BR></FONT></TD>","<TD NOWRAP ALIGN=CENTER><FONT FACE=\"Times New Roman\" SIZE=-1>$0.00</FONT></TD>","<TD NOWRAP ALIGN=CENTER><FONT FACE=\"Times New Roman\" SIZE=-1>$0.00</FONT></TD>","<TD NOWRAP ALIGN=CENTER><FONT FACE=\"Times New Roman\" SIZE=-1>0.0000</FONT></TD>","<TD NOWRAP ALIGN=CENTER><FONT FACE=\"Times New Roman\" SIZE=-1>$0.00</FONT></TD>","</TR>"]
["Town of Hadley",{"$f":"B197","v":0},{"$f":"C197","v":0},null,{"$f":"MIN(INDIRECT(U197))","v":0},{"$f":"IF(G196<>0,\"to\",\"\")","v":""},{"$f":"IF(U196<>V196,MAX(INDIRECT(U197)),0)","v":0},{"$f":"MIN(INDIRECT(V197))","v":0},{"$f":"IF(J196<>0,\"to\",\"\")","v":""},{"$f":"IF(U196<>V196,MAX(INDIRECT(V197)),0)","v":0},{"$f":"K197","v":0},{"$f":"MIN(INDIRECT(W197))","v":0},{"$f":"IF(N196<>0,\"to\",\"\")","v":""},{"$f":"IF(U196<>V196,MAX(INDIRECT(W197)),0)","v":0},null,null,null,null,null,null,{"$f":"CELL(\"row\",P197)","v":197},{"$f":"CELL(\"row\",P198)","v":198},null,null,"<TR VALIGN=BOTTOM BGCOLOR=\"#FFFFCC\">",{"$f":"\"<TH NOWRAP ALIGN=LEFT><FONT FACE=\"\"Times New Roman\"\" SIZE=-1>\"&A196&\"</FONT></TH>\"","v":"<TH NOWRAP ALIGN=LEFT><FONT FACE=\"Times New Roman\" SIZE=-1>Town of Hadley</FONT></TH>"},"<TD NOWRAP ALIGN=RIGHT><FONT FACE=\"Times New Roman\" SIZE=-1>$0.00</FONT></TD>","<TD NOWRAP ALIGN=RIGHT><FONT FACE=\"Times New Roman\" SIZE=-1>$0.00</FONT></TD>","<TD NOWRAP ALIGN=RIGHT><FONT FACE=\"Times New Roman\" SIZE=-1><BR></FONT></TD>","<TD NOWRAP ALIGN=CENTER><FONT FACE=\"Times New Roman\" SIZE=-1>$0.00</FONT></TD>","<TD NOWRAP ALIGN=CENTER><FONT FACE=\"Times New Roman\" SIZE=-1>$0.00</FONT></TD>","<TD NOWRAP ALIGN=CENTER><FONT FACE=\"Times New Roman\" SIZE=-1>0.0000</FONT></TD>","<TD NOWRAP ALIGN=CENTER><FONT FACE=\"Times New Roman\" SIZE=-1>$0.00</FONT></TD>","</TR>"]
["Corinth CSD",{"$f":"'2017 Base Data'!F197","v":0},{"$f":"'2017 Base Data'!G197","v":0},null,{"$f":"'2017 Base Data'!I197","v":0},null,null,{"$f":"'2017 Base Data'!J197","v":0},null,null,{"$f":"'2017 Base Data'!K197","v":0},{"$f":"'2017 Base Data'!R197","v":0},null,null,{"$f":"ROUND(IF(S197<>0,R197*D197+S197*SUM(B197:C197)+T197*E197,R197*SUM(B197:D197)+T197*E197),2)","v":0},{"$f":"L197-O197","v":0},null,{"$f":"'2017 Base Data'!K197","v":0},{"$f":"'2017 Base Data'!L197","v":0},{"$f":"'2017 Base Data'!M197","v":0},{"$f":"\"E\"&U196&\":\"&\"E\"&V196","v":"E197:E198"},{"$f":"\"H\"&U196&\":\"&\"H\"&V196","v":"H197:H198"},{"$f":"\"L\"&U196&\":\"&\"L\"&V196","v":"L197:L198"},null,"<TR VALIGN=BOTTOM>",{"$f":"\"<TD NOWRAP ALIGN=LEFT><FONT FACE=\"\"Times New Roman\"\" SIZE=-1 COLOR=#00AA00\"\">\"&A197&\"</FONT></TD>\"","v":"<TD NOWRAP ALIGN=LEFT><FONT FACE=\"Times New Roman\" SIZE=-1 COLOR=#00AA00\">Corinth CSD</FONT></TD>"},"<TD NOWRAP ALIGN=RIGHT><FONT FACE=\"Times New Roman\" SIZE=-1>$0.00</FONT></TD>","<TD NOWRAP ALIGN=RIGHT><FONT FACE=\"Times New Roman\" SIZE=-1>$0.00</FONT></TD>","<TD NOWRAP ALIGN=RIGHT><FONT FACE=\"Times New Roman\" SIZE=-1><BR></FONT></TD>","<TD NOWRAP ALIGN=CENTER><FONT FACE=\"Times New Roman\" SIZE=-1>$0.00</FONT></TD>","<TD NOWRAP ALIGN=CENTER><FONT FACE=\"Times New Roman\" SIZE=-1>$0.00</FONT></TD>","<TD NOWRAP ALIGN=CENTER><FONT FACE=\"Times New Roman\" SIZE=-1>0.0000</FONT></TD>","<TD NOWRAP ALIGN=CENTER><FONT FACE=\"Times New Roman\" SIZE=-1>$0.00</FONT></TD>","</TR>"]
["Hadley-Luzerne CSD",{"$f":"'2017 Base Data'!F198","v":0},{"$f":"'2017 Base Data'!G198","v":0},null,{"$f":"'2017 Base Data'!I198","v":0},null,null,{"$f":"'2017 Base Data'!J198","v":0},null,null,{"$f":"'2017 Base Data'!K198","v":0},{"$f":"'2017 Base Data'!R198","v":0},null,null,{"$f":"ROUND(IF(S198<>0,R198*D198+S198*SUM(B198:C198)+T198*E198,R198*SUM(B198:D198)+T198*E198),2)","v":0},{"$f":"L198-O198","v":0},null,{"$f":"'2017 Base Data'!K198","v":0},{"$f":"'2017 Base Data'!L198","v":0},{"$f":"'2017 Base Data'!M198","v":0},null,null,null,null,"<TR VALIGN=BOTTOM>",{"$f":"\"<TD NOWRAP ALIGN=LEFT><FONT FACE=\"\"Times New Roman\"\" SIZE=-1 COLOR=#00AA00\"\">\"&A198&\"</FONT></TD>\"","v":"<TD NOWRAP ALIGN=LEFT><FONT FACE=\"Times New Roman\" SIZE=-1 COLOR=#00AA00\">Hadley-Luzerne CSD</FONT></TD>"},"<TD NOWRAP ALIGN=RIGHT><FONT FACE=\"Times New Roman\" SIZE=-1>$0.00</FONT></TD>","<TD NOWRAP ALIGN=RIGHT><FONT FACE=\"Times New Roman\" SIZE=-1>$0.00</FONT></TD>","<TD NOWRAP ALIGN=RIGHT><FONT FACE=\"Times New Roman\" SIZE=-1><BR></FONT></TD>","<TD NOWRAP ALIGN=CENTER><FONT FACE=\"Times New Roman\" SIZE=-1>$0.00</FONT></TD>","<TD NOWRAP ALIGN=CENTER><FONT FACE=\"Times New Roman\" SIZE=-1>$0.00</FONT></TD>","<TD NOWRAP ALIGN=CENTER><FONT FACE=\"Times New Roman\" SIZE=-1>0.0000</FONT></TD>","<TD NOWRAP ALIGN=CENTER><FONT FACE=\"Times New Roman\" SIZE=-1>$0.00</FONT></TD>","</TR>"]
["Town of Halfmoon",{"$f":"B200","v":0},null,null,{"$f":"MIN(INDIRECT(U200))","v":0},{"$f":"IF(G199<>0,\"to\",\"\")","v":""},{"$f":"IF(U199<>V199,MAX(INDIRECT(U200)),0)","v":0},{"$f":"MIN(INDIRECT(V200))","v":0},{"$f":"IF(J199<>0,\"to\",\"\")","v":""},{"$f":"IF(U199<>V199,MAX(INDIRECT(V200)),0)","v":0},{"$f":"K200","v":0},{"$f":"MIN(INDIRECT(W200))","v":0},{"$f":"IF(N199<>0,\"to\",\"\")","v":""},{"$f":"IF(U199<>V199,MAX(INDIRECT(W200)),0)","v":0},null,null,null,null,null,null,{"$f":"CELL(\"row\",P200)","v":200},{"$f":"CELL(\"row\",P202)","v":202},null,null,"<TR VALIGN=BOTTOM BGCOLOR=\"#FFFFCC\">",{"$f":"\"<TH NOWRAP ALIGN=LEFT><FONT FACE=\"\"Times New Roman\"\" SIZE=-1>\"&A199&\"</FONT></TH>\"","v":"<TH NOWRAP ALIGN=LEFT><FONT FACE=\"Times New Roman\" SIZE=-1>Town of Halfmoon</FONT></TH>"},"<TD NOWRAP ALIGN=RIGHT><FONT FACE=\"Times New Roman\" SIZE=-1>$0.00</FONT></TD>","<TD NOWRAP ALIGN=RIGHT><FONT FACE=\"Times New Roman\" SIZE=-1><BR></FONT></TD>","<TD NOWRAP ALIGN=RIGHT><FONT FACE=\"Times New Roman\" SIZE=-1><BR></FONT></TD>","<TD NOWRAP ALIGN=CENTER><FONT FACE=\"Times New Roman\" SIZE=-1>$0.00</FONT></TD>","<TD NOWRAP ALIGN=CENTER><FONT FACE=\"Times New Roman\" SIZE=-1>$0.00</FONT></TD>","<TD NOWRAP ALIGN=CENTER><FONT FACE=\"Times New Roman\" SIZE=-1>0.0000</FONT></TD>","<TD NOWRAP ALIGN=CENTER><FONT FACE=\"Times New Roman\" SIZE=-1>$0.00</FONT></TD>","</TR>"]
["Mechanicville City SD",{"$f":"'2017 Base Data'!F200","v":0},null,null,{"$f":"'2017 Base Data'!I200","v":0},null,null,{"$f":"'2017 Base Data'!J200","v":0},null,null,{"$f":"'2017 Base Data'!K200","v":0},{"$f":"'2017 Base Data'!R200","v":0},null,null,{"$f":"ROUND(IF(S200<>0,R200*D200+S200*SUM(B200:C200)+T200*E200,R200*SUM(B200:D200)+T200*E200),2)","v":0},{"$f":"L200-O200","v":0},null,{"$f":"'2017 Base Data'!K200","v":0},{"$f":"'2017 Base Data'!L200","v":0},{"$f":"'2017 Base Data'!M200","v":0},{"$f":"\"E\"&U199&\":\"&\"E\"&V199","v":"E200:E202"},{"$f":"\"H\"&U199&\":\"&\"H\"&V199","v":"H200:H202"},{"$f":"\"L\"&U199&\":\"&\"L\"&V199","v":"L200:L202"},null,"<TR VALIGN=BOTTOM>",{"$f":"\"<TD NOWRAP ALIGN=LEFT><FONT FACE=\"\"Times New Roman\"\" SIZE=-1 COLOR=#00AA00\"\">\"&A200&\"</FONT></TD>\"","v":"<TD NOWRAP ALIGN=LEFT><FONT FACE=\"Times New Roman\" SIZE=-1 COLOR=#00AA00\">Mechanicville City SD</FONT></TD>"},"<TD NOWRAP ALIGN=RIGHT><FONT FACE=\"Times New Roman\" SIZE=-1>$0.00</FONT></TD>","<TD NOWRAP ALIGN=RIGHT><FONT FACE=\"Times New Roman\" SIZE=-1><BR></FONT></TD>","<TD NOWRAP ALIGN=RIGHT><FONT FACE=\"Times New Roman\" SIZE=-1><BR></FONT></TD>","<TD NOWRAP ALIGN=CENTER><FONT FACE=\"Times New Roman\" SIZE=-1>$0.00</FONT></TD>","<TD NOWRAP ALIGN=CENTER><FONT FACE=\"Times New Roman\" SIZE=-1>$0.00</FONT></TD>","<TD NOWRAP ALIGN=CENTER><FONT FACE=\"Times New Roman\" SIZE=-1>0.0000</FONT></TD>","<TD NOWRAP ALIGN=CENTER><FONT FACE=\"Times New Roman\" SIZE=-1>$0.00</FONT></TD>","</TR>"]
["Shenendehowa CSD",{"$f":"'2017 Base Data'!F201","v":0},null,null,{"$f":"'2017 Base Data'!I201","v":0},null,null,{"$f":"'2017 Base Data'!J201","v":0},null,null,{"$f":"'2017 Base Data'!K201","v":0},{"$f":"'2017 Base Data'!R201","v":0},null,null,{"$f":"ROUND(IF(S201<>0,R201*D201+S201*SUM(B201:C201)+T201*E201,R201*SUM(B201:D201)+T201*E201),2)","v":0},{"$f":"L201-O201","v":0},null,{"$f":"'2017 Base Data'!K201","v":0},{"$f":"'2017 Base Data'!L201","v":0},{"$f":"'2017 Base Data'!M201","v":0},null,null,null,null,"<TR VALIGN=BOTTOM>",{"$f":"\"<TD NOWRAP ALIGN=LEFT><FONT FACE=\"\"Times New Roman\"\" SIZE=-1 COLOR=#00AA00\"\">\"&A201&\"</FONT></TD>\"","v":"<TD NOWRAP ALIGN=LEFT><FONT FACE=\"Times New Roman\" SIZE=-1 COLOR=#00AA00\">Shenendehowa CSD</FONT></TD>"},"<TD NOWRAP ALIGN=RIGHT><FONT FACE=\"Times New Roman\" SIZE=-1>$0.00</FONT></TD>","<TD NOWRAP ALIGN=RIGHT><FONT FACE=\"Times New Roman\" SIZE=-1><BR></FONT></TD>","<TD NOWRAP ALIGN=RIGHT><FONT FACE=\"Times New Roman\" SIZE=-1><BR></FONT></TD>","<TD NOWRAP ALIGN=CENTER><FONT FACE=\"Times New Roman\" SIZE=-1>$0.00</FONT></TD>","<TD NOWRAP ALIGN=CENTER><FONT FACE=\"Times New Roman\" SIZE=-1>$0.00</FONT></TD>","<TD NOWRAP ALIGN=CENTER><FONT FACE=\"Times New Roman\" SIZE=-1>0.0000</FONT></TD>","<TD NOWRAP ALIGN=CENTER><FONT FACE=\"Times New Roman\" SIZE=-1>$0.00</FONT></TD>","</TR>"]
["Waterford-Halfmoon UFSD",{"$f":"'2017 Base Data'!F202","v":0},null,null,{"$f":"'2017 Base Data'!I202","v":0},null,null,{"$f":"'2017 Base Data'!J202","v":0},null,null,{"$f":"'2017 Base Data'!K202","v":0},{"$f":"'2017 Base Data'!R202","v":0},null,null,{"$f":"ROUND(IF(S202<>0,R202*D202+S202*SUM(B202:C202)+T202*E202,R202*SUM(B202:D202)+T202*E202),2)","v":0},{"$f":"L202-O202","v":0},null,{"$f":"'2017 Base Data'!K202","v":0},{"$f":"'2017 Base Data'!L202","v":0},{"$f":"'2017 Base Data'!M202","v":0},null,null,null,null,"<TR VALIGN=BOTTOM>",{"$f":"\"<TD NOWRAP ALIGN=LEFT><FONT FACE=\"\"Times New Roman\"\" SIZE=-1 COLOR=#00AA00\"\">\"&A202&\"</FONT></TD>\"","v":"<TD NOWRAP ALIGN=LEFT><FONT FACE=\"Times New Roman\" SIZE=-1 COLOR=#00AA00\">Waterford-Halfmoon UFSD</FONT></TD>"},"<TD NOWRAP ALIGN=RIGHT><FONT FACE=\"Times New Roman\" SIZE=-1>$0.00</FONT></TD>","<TD NOWRAP ALIGN=RIGHT><FONT FACE=\"Times New Roman\" SIZE=-1><BR></FONT></TD>","<TD NOWRAP ALIGN=RIGHT><FONT FACE=\"Times New Roman\" SIZE=-1><BR></FONT></TD>","<TD NOWRAP ALIGN=CENTER><FONT FACE=\"Times New Roman\" SIZE=-1>$0.00</FONT></TD>","<TD NOWRAP ALIGN=CENTER><FONT FACE=\"Times New Roman\" SIZE=-1>$0.00</FONT></TD>","<TD NOWRAP ALIGN=CENTER><FONT FACE=\"Times New Roman\" SIZE=-1>0.0000</FONT></TD>","<TD NOWRAP ALIGN=CENTER><FONT FACE=\"Times New Roman\" SIZE=-1>$0.00</FONT></TD>","</TR>"]
["Town of Malta",{"$f":"B204","v":0},{"$f":"C204","v":0},null,{"$f":"MIN(INDIRECT(U204))","v":0},{"$f":"IF(G203<>0,\"to\",\"\")","v":""},{"$f":"IF(U203<>V203,MAX(INDIRECT(U204)),0)","v":0},{"$f":"MIN(INDIRECT(V204))","v":0},{"$f":"IF(J203<>0,\"to\",\"\")","v":""},{"$f":"IF(U203<>V203,MAX(INDIRECT(V204)),0)","v":0},{"$f":"K204","v":0},{"$f":"MIN(INDIRECT(W204))","v":0},{"$f":"IF(N203<>0,\"to\",\"\")","v":""},{"$f":"IF(U203<>V203,MAX(INDIRECT(W204)),0)","v":0},null,null,null,null,null,null,{"$f":"CELL(\"row\",P204)","v":204},{"$f":"CELL(\"row\",P206)","v":206},null,null,"<TR VALIGN=BOTTOM BGCOLOR=\"#FFFFCC\">",{"$f":"\"<TH NOWRAP ALIGN=LEFT><FONT FACE=\"\"Times New Roman\"\" SIZE=-1>\"&A203&\"</FONT></TH>\"","v":"<TH NOWRAP ALIGN=LEFT><FONT FACE=\"Times New Roman\" SIZE=-1>Town of Malta</FONT></TH>"},"<TD NOWRAP ALIGN=RIGHT><FONT FACE=\"Times New Roman\" SIZE=-1>$0.00</FONT></TD>","<TD NOWRAP ALIGN=RIGHT><FONT FACE=\"Times New Roman\" SIZE=-1>$0.00</FONT></TD>","<TD NOWRAP ALIGN=RIGHT><FONT FACE=\"Times New Roman\" SIZE=-1><BR></FONT></TD>","<TD NOWRAP ALIGN=CENTER><FONT FACE=\"Times New Roman\" SIZE=-1>$0.00</FONT></TD>","<TD NOWRAP ALIGN=CENTER><FONT FACE=\"Times New Roman\" SIZE=-1>$0.00</FONT></TD>","<TD NOWRAP ALIGN=CENTER><FONT FACE=\"Times New Roman\" SIZE=-1>0.0000</FONT></TD>","<TD NOWRAP ALIGN=CENTER><FONT FACE=\"Times New Roman\" SIZE=-1>$0.00</FONT></TD>","</TR>"]
["Ballston Spa CSD",{"$f":"'2017 Base Data'!F204","v":0},{"$f":"'2017 Base Data'!G204","v":0},null,{"$f":"'2017 Base Data'!I204","v":0},null,null,{"$f":"'2017 Base Data'!J204","v":0},null,null,{"$f":"'2017 Base Data'!K204","v":0},{"$f":"'2017 Base Data'!R204","v":0},null,null,{"$f":"ROUND(IF(S204<>0,R204*D204+S204*SUM(B204:C204)+T204*E204,R204*SUM(B204:D204)+T204*E204),2)","v":0},{"$f":"L204-O204","v":0},null,{"$f":"'2017 Base Data'!K204","v":0},{"$f":"'2017 Base Data'!L204","v":0},{"$f":"'2017 Base Data'!M204","v":0},{"$f":"\"E\"&U203&\":\"&\"E\"&V203","v":"E204:E206"},{"$f":"\"H\"&U203&\":\"&\"H\"&V203","v":"H204:H206"},{"$f":"\"L\"&U203&\":\"&\"L\"&V203","v":"L204:L206"},null,"<TR VALIGN=BOTTOM>",{"$f":"\"<TD NOWRAP ALIGN=LEFT><FONT FACE=\"\"Times New Roman\"\" SIZE=-1 COLOR=#00AA00\"\">\"&A204&\"</FONT></TD>\"","v":"<TD NOWRAP ALIGN=LEFT><FONT FACE=\"Times New Roman\" SIZE=-1 COLOR=#00AA00\">Ballston Spa CSD</FONT></TD>"},"<TD NOWRAP ALIGN=RIGHT><FONT FACE=\"Times New Roman\" SIZE=-1>$0.00</FONT></TD>","<TD NOWRAP ALIGN=RIGHT><FONT FACE=\"Times New Roman\" SIZE=-1>$0.00</FONT></TD>","<TD NOWRAP ALIGN=RIGHT><FONT FACE=\"Times New Roman\" SIZE=-1><BR></FONT></TD>","<TD NOWRAP ALIGN=CENTER><FONT FACE=\"Times New Roman\" SIZE=-1>$0.00</FONT></TD>","<TD NOWRAP ALIGN=CENTER><FONT FACE=\"Times New Roman\" SIZE=-1>$0.00</FONT></TD>","<TD NOWRAP ALIGN=CENTER><FONT FACE=\"Times New Roman\" SIZE=-1>0.0000</FONT></TD>","<TD NOWRAP ALIGN=CENTER><FONT FACE=\"Times New Roman\" SIZE=-1>$0.00</FONT></TD>","</TR>"]
["Saratoga Springs City SD",{"$f":"'2017 Base Data'!F205","v":0},{"$f":"'2017 Base Data'!G205","v":0},null,{"$f":"'2017 Base Data'!I205","v":0},null,null,{"$f":"'2017 Base Data'!J205","v":0},null,null,{"$f":"'2017 Base Data'!K205","v":0},{"$f":"'2017 Base Data'!R205","v":0},null,null,{"$f":"ROUND(IF(S205<>0,R205*D205+S205*SUM(B205:C205)+T205*E205,R205*SUM(B205:D205)+T205*E205),2)","v":0},{"$f":"L205-O205","v":0},null,{"$f":"'2017 Base Data'!K205","v":0},{"$f":"'2017 Base Data'!L205","v":0},{"$f":"'2017 Base Data'!M205","v":0},null,null,null,null,"<TR VALIGN=BOTTOM>",{"$f":"\"<TD NOWRAP ALIGN=LEFT><FONT FACE=\"\"Times New Roman\"\" SIZE=-1 COLOR=#00AA00\"\">\"&A205&\"</FONT></TD>\"","v":"<TD NOWRAP ALIGN=LEFT><FONT FACE=\"Times New Roman\" SIZE=-1 COLOR=#00AA00\">Saratoga Springs City SD</FONT></TD>"},"<TD NOWRAP ALIGN=RIGHT><FONT FACE=\"Times New Roman\" SIZE=-1>$0.00</FONT></TD>","<TD NOWRAP ALIGN=RIGHT><FONT FACE=\"Times New Roman\" SIZE=-1>$0.00</FONT></TD>","<TD NOWRAP ALIGN=RIGHT><FONT FACE=\"Times New Roman\" SIZE=-1><BR></FONT></TD>","<TD NOWRAP ALIGN=CENTER><FONT FACE=\"Times New Roman\" SIZE=-1>$0.00</FONT></TD>","<TD NOWRAP ALIGN=CENTER><FONT FACE=\"Times New Roman\" SIZE=-1>$0.00</FONT></TD>","<TD NOWRAP ALIGN=CENTER><FONT FACE=\"Times New Roman\" SIZE=-1>0.0000</FONT></TD>","<TD NOWRAP ALIGN=CENTER><FONT FACE=\"Times New Roman\" SIZE=-1>$0.00</FONT></TD>","</TR>"]
["Shenendehowa CSD",{"$f":"'2017 Base Data'!F206","v":0},{"$f":"'2017 Base Data'!G206","v":0},null,{"$f":"'2017 Base Data'!I206","v":0},null,null,{"$f":"'2017 Base Data'!J206","v":0},null,null,{"$f":"'2017 Base Data'!K206","v":0},{"$f":"'2017 Base Data'!R206","v":0},null,null,{"$f":"ROUND(IF(S206<>0,R206*D206+S206*SUM(B206:C206)+T206*E206,R206*SUM(B206:D206)+T206*E206),2)","v":0},{"$f":"L206-O206","v":0},null,{"$f":"'2017 Base Data'!K206","v":0},{"$f":"'2017 Base Data'!L206","v":0},{"$f":"'2017 Base Data'!M206","v":0},null,null,null,null,"<TR VALIGN=BOTTOM>",{"$f":"\"<TD NOWRAP ALIGN=LEFT><FONT FACE=\"\"Times New Roman\"\" SIZE=-1 COLOR=#00AA00\"\">\"&A206&\"</FONT></TD>\"","v":"<TD NOWRAP ALIGN=LEFT><FONT FACE=\"Times New Roman\" SIZE=-1 COLOR=#00AA00\">Shenendehowa CSD</FONT></TD>"},"<TD NOWRAP ALIGN=RIGHT><FONT FACE=\"Times New Roman\" SIZE=-1>$0.00</FONT></TD>","<TD NOWRAP ALIGN=RIGHT><FONT FACE=\"Times New Roman\" SIZE=-1>$0.00</FONT></TD>","<TD NOWRAP ALIGN=RIGHT><FONT FACE=\"Times New Roman\" SIZE=-1><BR></FONT></TD>","<TD NOWRAP ALIGN=CENTER><FONT FACE=\"Times New Roman\" SIZE=-1>$0.00</FONT></TD>","<TD NOWRAP ALIGN=CENTER><FONT FACE=\"Times New Roman\" SIZE=-1>$0.00</FONT></TD>","<TD NOWRAP ALIGN=CENTER><FONT FACE=\"Times New Roman\" SIZE=-1>0.0000</FONT></TD>","<TD NOWRAP ALIGN=CENTER><FONT FACE=\"Times New Roman\" SIZE=-1>$0.00</FONT></TD>","</TR>"]
["Village of Round Lake",{"$f":"B208","v":0},{"$f":"C208","v":0},{"$f":"D208","v":0},{"$f":"MIN(INDIRECT(U208))","v":0},{"$f":"IF(G207<>0,\"to\",\"\")","v":""},{"$f":"IF(U207<>V207,MAX(INDIRECT(U208)),0)","v":0},{"$f":"MIN(INDIRECT(V208))","v":0},{"$f":"IF(J207<>0,\"to\",\"\")","v":""},{"$f":"IF(U207<>V207,MAX(INDIRECT(V208)),0)","v":0},{"$f":"K208","v":0},{"$f":"MIN(INDIRECT(W208))","v":0},{"$f":"IF(N207<>0,\"to\",\"\")","v":""},{"$f":"IF(U207<>V207,MAX(INDIRECT(W208)),0)","v":0},null,null,null,null,null,null,{"$f":"CELL(\"row\",P208)","v":208},{"$f":"CELL(\"row\",P208)","v":208},null,null,"<TR VALIGN=BOTTOM BGCOLOR=\"#FFFFCC\">",{"$f":"\"<TH NOWRAP ALIGN=LEFT><FONT FACE=\"\"Times New Roman\"\" SIZE=-1 COLOR=\"\"#0000CC\"\">\"&A207&\"</FONT></TH>\"","v":"<TH NOWRAP ALIGN=LEFT><FONT FACE=\"Times New Roman\" SIZE=-1 COLOR=\"#0000CC\">Village of Round Lake</FONT></TH>"},"<TD NOWRAP ALIGN=RIGHT><FONT FACE=\"Times New Roman\" SIZE=-1>$0.00</FONT></TD>","<TD NOWRAP ALIGN=RIGHT><FONT FACE=\"Times New Roman\" SIZE=-1>$0.00</FONT></TD>","<TD NOWRAP ALIGN=RIGHT><FONT FACE=\"Times New Roman\" SIZE=-1>$0.00</FONT></TD>","<TD NOWRAP ALIGN=CENTER><FONT FACE=\"Times New Roman\" SIZE=-1>$0.00</FONT></TD>","<TD NOWRAP ALIGN=CENTER><FONT FACE=\"Times New Roman\" SIZE=-1>$0.00</FONT></TD>","<TD NOWRAP ALIGN=CENTER><FONT FACE=\"Times New Roman\" SIZE=-1>0.0000</FONT></TD>","<TD NOWRAP ALIGN=CENTER><FONT FACE=\"Times New Roman\" SIZE=-1>$0.00</FONT></TD>","</TR>"]
["Shenendehowa CSD",{"$f":"'2017 Base Data'!F208","v":0},{"$f":"'2017 Base Data'!G208","v":0},{"$f":"'2017 Base Data'!H208","v":0},{"$f":"'2017 Base Data'!I208","v":0},null,null,{"$f":"'2017 Base Data'!J208","v":0},null,null,{"$f":"'2017 Base Data'!K208","v":0},{"$f":"'2017 Base Data'!R208","v":0},null,null,{"$f":"ROUND(IF(S208<>0,R208*D208+S208*SUM(B208:C208)+T208*E208,R208*SUM(B208:D208)+T208*E208),2)","v":0},{"$f":"L208-O208","v":0},null,{"$f":"'2017 Base Data'!K208","v":0},{"$f":"'2017 Base Data'!L208","v":0},{"$f":"'2017 Base Data'!M208","v":0},{"$f":"\"E\"&U207&\":\"&\"E\"&V207","v":"E208:E208"},{"$f":"\"H\"&U207&\":\"&\"H\"&V207","v":"H208:H208"},{"$f":"\"L\"&U207&\":\"&\"L\"&V207","v":"L208:L208"},null,"<TR VALIGN=BOTTOM>",{"$f":"\"<TD NOWRAP ALIGN=LEFT><FONT FACE=\"\"Times New Roman\"\" SIZE=-1 COLOR=#00AA00\"\">\"&A208&\"</FONT></TD>\"","v":"<TD NOWRAP ALIGN=LEFT><FONT FACE=\"Times New Roman\" SIZE=-1 COLOR=#00AA00\">Shenendehowa CSD</FONT></TD>"},"<TD NOWRAP ALIGN=RIGHT><FONT FACE=\"Times New Roman\" SIZE=-1>$0.00</FONT></TD>","<TD NOWRAP ALIGN=RIGHT><FONT FACE=\"Times New Roman\" SIZE=-1>$0.00</FONT></TD>","<TD NOWRAP ALIGN=RIGHT><FONT FACE=\"Times New Roman\" SIZE=-1>$0.00</FONT></TD>","<TD NOWRAP ALIGN=CENTER><FONT FACE=\"Times New Roman\" SIZE=-1>$0.00</FONT></TD>","<TD NOWRAP ALIGN=CENTER><FONT FACE=\"Times New Roman\" SIZE=-1>$0.00</FONT></TD>","<TD NOWRAP ALIGN=CENTER><FONT FACE=\"Times New Roman\" SIZE=-1>0.0000</FONT></TD>","<TD NOWRAP ALIGN=CENTER><FONT FACE=\"Times New Roman\" SIZE=-1>$0.00</FONT></TD>","</TR>"]
["City of Mechanicville",{"$f":"B210","v":0},null,{"$f":"D210","v":0},{"$f":"MIN(INDIRECT(U210))","v":0},{"$f":"IF(G209<>0,\"to\",\"\")","v":""},{"$f":"IF(U209<>V209,MAX(INDIRECT(U210)),0)","v":0},{"$f":"MIN(INDIRECT(V210))","v":0},{"$f":"IF(J209<>0,\"to\",\"\")","v":""},{"$f":"IF(U209<>V209,MAX(INDIRECT(V210)),0)","v":0},{"$f":"K210","v":0},{"$f":"MIN(INDIRECT(W210))","v":0},{"$f":"IF(N209<>0,\"to\",\"\")","v":""},{"$f":"IF(U209<>V209,MAX(INDIRECT(W210)),0)","v":0},null,null,null,null,null,null,{"$f":"CELL(\"row\",P210)","v":210},{"$f":"CELL(\"row\",P210)","v":210},null,null,"<TR VALIGN=BOTTOM BGCOLOR=\"#FFFFCC\">",{"$f":"\"<TH NOWRAP ALIGN=LEFT><FONT FACE=\"\"Times New Roman\"\" SIZE=-1 COLOR=#800000\"\">\"&A209&\"</FONT></TH>\"","v":"<TH NOWRAP ALIGN=LEFT><FONT FACE=\"Times New Roman\" SIZE=-1 COLOR=#800000\">City of Mechanicville</FONT></TH>"},"<TD NOWRAP ALIGN=RIGHT><FONT FACE=\"Times New Roman\" SIZE=-1>$0.00</FONT></TD>","<TD NOWRAP ALIGN=RIGHT><FONT FACE=\"Times New Roman\" SIZE=-1><BR></FONT></TD>","<TD NOWRAP ALIGN=RIGHT><FONT FACE=\"Times New Roman\" SIZE=-1>$0.00</FONT></TD>","<TD NOWRAP ALIGN=CENTER><FONT FACE=\"Times New Roman\" SIZE=-1>$0.00</FONT></TD>","<TD NOWRAP ALIGN=CENTER><FONT FACE=\"Times New Roman\" SIZE=-1>$0.00</FONT></TD>","<TD NOWRAP ALIGN=CENTER><FONT FACE=\"Times New Roman\" SIZE=-1>0.0000</FONT></TD>","<TD NOWRAP ALIGN=CENTER><FONT FACE=\"Times New Roman\" SIZE=-1>$0.00</FONT></TD>","</TR>"]
["Mechanicville City SD",{"$f":"'2017 Base Data'!F210","v":0},null,{"$f":"'2017 Base Data'!H210","v":0},{"$f":"'2017 Base Data'!I210","v":0},null,null,{"$f":"'2017 Base Data'!J210","v":0},null,null,{"$f":"'2017 Base Data'!K210","v":0},{"$f":"'2017 Base Data'!R210","v":0},null,null,{"$f":"ROUND(IF(S210<>0,R210*D210+S210*SUM(B210:C210)+T210*E210,R210*SUM(B210:D210)+T210*E210),2)","v":0},{"$f":"L210-O210","v":0},null,{"$f":"'2017 Base Data'!K210","v":0},{"$f":"'2017 Base Data'!L210","v":0},{"$f":"'2017 Base Data'!M210","v":0},{"$f":"\"E\"&U209&\":\"&\"E\"&V209","v":"E210:E210"},{"$f":"\"H\"&U209&\":\"&\"H\"&V209","v":"H210:H210"},{"$f":"\"L\"&U209&\":\"&\"L\"&V209","v":"L210:L210"},null,"<TR VALIGN=BOTTOM>",{"$f":"\"<TD NOWRAP ALIGN=LEFT><FONT FACE=\"\"Times New Roman\"\" SIZE=-1 COLOR=#00AA00\"\">\"&A210&\"</FONT></TD>\"","v":"<TD NOWRAP ALIGN=LEFT><FONT FACE=\"Times New Roman\" SIZE=-1 COLOR=#00AA00\">Mechanicville City SD</FONT></TD>"},"<TD NOWRAP ALIGN=RIGHT><FONT FACE=\"Times New Roman\" SIZE=-1>$0.00</FONT></TD>","<TD NOWRAP ALIGN=RIGHT><FONT FACE=\"Times New Roman\" SIZE=-1><BR></FONT></TD>","<TD NOWRAP ALIGN=RIGHT><FONT FACE=\"Times New Roman\" SIZE=-1>$0.00</FONT></TD>","<TD NOWRAP ALIGN=CENTER><FONT FACE=\"Times New Roman\" SIZE=-1>$0.00</FONT></TD>","<TD NOWRAP ALIGN=CENTER><FONT FACE=\"Times New Roman\" SIZE=-1>$0.00</FONT></TD>","<TD NOWRAP ALIGN=CENTER><FONT FACE=\"Times New Roman\" SIZE=-1>0.0000</FONT></TD>","<TD NOWRAP ALIGN=CENTER><FONT FACE=\"Times New Roman\" SIZE=-1>$0.00</FONT></TD>","</TR>"]
["Town of Milton",{"$f":"B212","v":0},{"$f":"C212","v":0},null,{"$f":"MIN(INDIRECT(U212))","v":0},{"$f":"IF(G211<>0,\"to\",\"\")","v":""},{"$f":"IF(U211<>V211,MAX(INDIRECT(U212)),0)","v":0},{"$f":"MIN(INDIRECT(V212))","v":0},{"$f":"IF(J211<>0,\"to\",\"\")","v":""},{"$f":"IF(U211<>V211,MAX(INDIRECT(V212)),0)","v":0},{"$f":"K212","v":0},{"$f":"MIN(INDIRECT(W212))","v":0},{"$f":"IF(N211<>0,\"to\",\"\")","v":""},{"$f":"IF(U211<>V211,MAX(INDIRECT(W212)),0)","v":0},null,null,null,null,null,null,{"$f":"CELL(\"row\",P212)","v":212},{"$f":"CELL(\"row\",P214)","v":214},null,null,"<TR VALIGN=BOTTOM BGCOLOR=\"#FFFFCC\">",{"$f":"\"<TH NOWRAP ALIGN=LEFT><FONT FACE=\"\"Times New Roman\"\" SIZE=-1>\"&A211&\"</FONT></TH>\"","v":"<TH NOWRAP ALIGN=LEFT><FONT FACE=\"Times New Roman\" SIZE=-1>Town of Milton</FONT></TH>"},"<TD NOWRAP ALIGN=RIGHT><FONT FACE=\"Times New Roman\" SIZE=-1>$0.00</FONT></TD>","<TD NOWRAP ALIGN=RIGHT><FONT FACE=\"Times New Roman\" SIZE=-1>$0.00</FONT></TD>","<TD NOWRAP ALIGN=RIGHT><FONT FACE=\"Times New Roman\" SIZE=-1><BR></FONT></TD>","<TD NOWRAP ALIGN=CENTER><FONT FACE=\"Times New Roman\" SIZE=-1>$0.00</FONT></TD>","<TD NOWRAP ALIGN=CENTER><FONT FACE=\"Times New Roman\" SIZE=-1>$0.00</FONT></TD>","<TD NOWRAP ALIGN=CENTER><FONT FACE=\"Times New Roman\" SIZE=-1>0.0000</FONT></TD>","<TD NOWRAP ALIGN=CENTER><FONT FACE=\"Times New Roman\" SIZE=-1>$0.00</FONT></TD>","</TR>"]
["Ballston Spa CSD",{"$f":"'2017 Base Data'!F212","v":0},{"$f":"'2017 Base Data'!G212","v":0},null,{"$f":"'2017 Base Data'!I212","v":0},null,null,{"$f":"'2017 Base Data'!J212","v":0},null,null,{"$f":"'2017 Base Data'!K212","v":0},{"$f":"'2017 Base Data'!R212","v":0},null,null,{"$f":"ROUND(IF(S212<>0,R212*D212+S212*SUM(B212:C212)+T212*E212,R212*SUM(B212:D212)+T212*E212),2)","v":0},{"$f":"L212-O212","v":0},null,{"$f":"'2017 Base Data'!K212","v":0},{"$f":"'2017 Base Data'!L212","v":0},{"$f":"'2017 Base Data'!M212","v":0},{"$f":"\"E\"&U211&\":\"&\"E\"&V211","v":"E212:E214"},{"$f":"\"H\"&U211&\":\"&\"H\"&V211","v":"H212:H214"},{"$f":"\"L\"&U211&\":\"&\"L\"&V211","v":"L212:L214"},null,"<TR VALIGN=BOTTOM>",{"$f":"\"<TD NOWRAP ALIGN=LEFT><FONT FACE=\"\"Times New Roman\"\" SIZE=-1 COLOR=#00AA00\"\">\"&A212&\"</FONT></TD>\"","v":"<TD NOWRAP ALIGN=LEFT><FONT FACE=\"Times New Roman\" SIZE=-1 COLOR=#00AA00\">Ballston Spa CSD</FONT></TD>"},"<TD NOWRAP ALIGN=RIGHT><FONT FACE=\"Times New Roman\" SIZE=-1>$0.00</FONT></TD>","<TD NOWRAP ALIGN=RIGHT><FONT FACE=\"Times New Roman\" SIZE=-1>$0.00</FONT></TD>","<TD NOWRAP ALIGN=RIGHT><FONT FACE=\"Times New Roman\" SIZE=-1><BR></FONT></TD>","<TD NOWRAP ALIGN=CENTER><FONT FACE=\"Times New Roman\" SIZE=-1>$0.00</FONT></TD>","<TD NOWRAP ALIGN=CENTER><FONT FACE=\"Times New Roman\" SIZE=-1>$0.00</FONT></TD>","<TD NOWRAP ALIGN=CENTER><FONT FACE=\"Times New Roman\" SIZE=-1>0.0000</FONT></TD>","<TD NOWRAP ALIGN=CENTER><FONT FACE=\"Times New Roman\" SIZE=-1>$0.00</FONT></TD>","</TR>"]
["Galway CSD",{"$f":"'2017 Base Data'!F213","v":0},{"$f":"'2017 Base Data'!G213","v":0},null,{"$f":"'2017 Base Data'!I213","v":0},null,null,{"$f":"'2017 Base Data'!J213","v":0},null,null,{"$f":"'2017 Base Data'!K213","v":0},{"$f":"'2017 Base Data'!R213","v":0},null,null,{"$f":"ROUND(IF(S213<>0,R213*D213+S213*SUM(B213:C213)+T213*E213,R213*SUM(B213:D213)+T213*E213),2)","v":0},{"$f":"L213-O213","v":0},null,{"$f":"'2017 Base Data'!K213","v":0},{"$f":"'2017 Base Data'!L213","v":0},{"$f":"'2017 Base Data'!M213","v":0},null,null,null,null,"<TR VALIGN=BOTTOM>",{"$f":"\"<TD NOWRAP ALIGN=LEFT><FONT FACE=\"\"Times New Roman\"\" SIZE=-1 COLOR=#00AA00\"\">\"&A213&\"</FONT></TD>\"","v":"<TD NOWRAP ALIGN=LEFT><FONT FACE=\"Times New Roman\" SIZE=-1 COLOR=#00AA00\">Galway CSD</FONT></TD>"},"<TD NOWRAP ALIGN=RIGHT><FONT FACE=\"Times New Roman\" SIZE=-1>$0.00</FONT></TD>","<TD NOWRAP ALIGN=RIGHT><FONT FACE=\"Times New Roman\" SIZE=-1>$0.00</FONT></TD>","<TD NOWRAP ALIGN=RIGHT><FONT FACE=\"Times New Roman\" SIZE=-1><BR></FONT></TD>","<TD NOWRAP ALIGN=CENTER><FONT FACE=\"Times New Roman\" SIZE=-1>$0.00</FONT></TD>","<TD NOWRAP ALIGN=CENTER><FONT FACE=\"Times New Roman\" SIZE=-1>$0.00</FONT></TD>","<TD NOWRAP ALIGN=CENTER><FONT FACE=\"Times New Roman\" SIZE=-1>0.0000</FONT></TD>","<TD NOWRAP ALIGN=CENTER><FONT FACE=\"Times New Roman\" SIZE=-1>$0.00</FONT></TD>","</TR>"]
["Saratoga Springs City SD",{"$f":"'2017 Base Data'!F214","v":0},{"$f":"'2017 Base Data'!G214","v":0},null,{"$f":"'2017 Base Data'!I214","v":0},null,null,{"$f":"'2017 Base Data'!J214","v":0},null,null,{"$f":"'2017 Base Data'!K214","v":0},{"$f":"'2017 Base Data'!R214","v":0},null,null,{"$f":"ROUND(IF(S214<>0,R214*D214+S214*SUM(B214:C214)+T214*E214,R214*SUM(B214:D214)+T214*E214),2)","v":0},{"$f":"L214-O214","v":0},null,{"$f":"'2017 Base Data'!K214","v":0},{"$f":"'2017 Base Data'!L214","v":0},{"$f":"'2017 Base Data'!M214","v":0},null,null,null,null,"<TR VALIGN=BOTTOM>",{"$f":"\"<TD NOWRAP ALIGN=LEFT><FONT FACE=\"\"Times New Roman\"\" SIZE=-1 COLOR=#00AA00\"\">\"&A214&\"</FONT></TD>\"","v":"<TD NOWRAP ALIGN=LEFT><FONT FACE=\"Times New Roman\" SIZE=-1 COLOR=#00AA00\">Saratoga Springs City SD</FONT></TD>"},"<TD NOWRAP ALIGN=RIGHT><FONT FACE=\"Times New Roman\" SIZE=-1>$0.00</FONT></TD>","<TD NOWRAP ALIGN=RIGHT><FONT FACE=\"Times New Roman\" SIZE=-1>$0.00</FONT></TD>","<TD NOWRAP ALIGN=RIGHT><FONT FACE=\"Times New Roman\" SIZE=-1><BR></FONT></TD>","<TD NOWRAP ALIGN=CENTER><FONT FACE=\"Times New Roman\" SIZE=-1>$0.00</FONT></TD>","<TD NOWRAP ALIGN=CENTER><FONT FACE=\"Times New Roman\" SIZE=-1>$0.00</FONT></TD>","<TD NOWRAP ALIGN=CENTER><FONT FACE=\"Times New Roman\" SIZE=-1>0.0000</FONT></TD>","<TD NOWRAP ALIGN=CENTER><FONT FACE=\"Times New Roman\" SIZE=-1>$0.00</FONT></TD>","</TR>"]
["Village of Ballston Spa (part)",{"$f":"B216","v":0},{"$f":"C216","v":0},{"$f":"D216","v":0},{"$f":"MIN(INDIRECT(U216))","v":0},{"$f":"IF(G215<>0,\"to\",\"\")","v":""},{"$f":"IF(U215<>V215,MAX(INDIRECT(U216)),0)","v":0},{"$f":"MIN(INDIRECT(V216))","v":0},{"$f":"IF(J215<>0,\"to\",\"\")","v":""},{"$f":"IF(U215<>V215,MAX(INDIRECT(V216)),0)","v":0},{"$f":"K216","v":0},{"$f":"MIN(INDIRECT(W216))","v":0},{"$f":"IF(N215<>0,\"to\",\"\")","v":""},{"$f":"IF(U215<>V215,MAX(INDIRECT(W216)),0)","v":0},null,null,null,null,null,null,{"$f":"CELL(\"row\",P216)","v":216},{"$f":"CELL(\"row\",P216)","v":216},null,null,"<TR VALIGN=BOTTOM BGCOLOR=\"#FFFFCC\">",{"$f":"\"<TH NOWRAP ALIGN=LEFT><FONT FACE=\"\"Times New Roman\"\" SIZE=-1 COLOR=\"\"#808000\"\">\"&A215&\"</FONT></TH>\"","v":"<TH NOWRAP ALIGN=LEFT><FONT FACE=\"Times New Roman\" SIZE=-1 COLOR=\"#808000\">Village of Ballston Spa (part)</FONT></TH>"},"<TD NOWRAP ALIGN=RIGHT><FONT FACE=\"Times New Roman\" SIZE=-1>$0.00</FONT></TD>","<TD NOWRAP ALIGN=RIGHT><FONT FACE=\"Times New Roman\" SIZE=-1>$0.00</FONT></TD>","<TD NOWRAP ALIGN=RIGHT><FONT FACE=\"Times New Roman\" SIZE=-1>$0.00</FONT></TD>","<TD NOWRAP ALIGN=CENTER><FONT FACE=\"Times New Roman\" SIZE=-1>$0.00</FONT></TD>","<TD NOWRAP ALIGN=CENTER><FONT FACE=\"Times New Roman\" SIZE=-1>$0.00</FONT></TD>","<TD NOWRAP ALIGN=CENTER><FONT FACE=\"Times New Roman\" SIZE=-1>0.0000</FONT></TD>","<TD NOWRAP ALIGN=CENTER><FONT FACE=\"Times New Roman\" SIZE=-1>$0.00</FONT></TD>","</TR>"]
["Ballston Spa CSD",{"$f":"'2017 Base Data'!F216","v":0},{"$f":"'2017 Base Data'!G216","v":0},{"$f":"'2017 Base Data'!H216","v":0},{"$f":"'2017 Base Data'!I216","v":0},null,null,{"$f":"'2017 Base Data'!J216","v":0},null,null,{"$f":"'2017 Base Data'!K216","v":0},{"$f":"'2017 Base Data'!R216","v":0},null,null,{"$f":"ROUND(IF(S216<>0,R216*D216+S216*SUM(B216:C216)+T216*E216,R216*SUM(B216:D216)+T216*E216),2)","v":0},{"$f":"L216-O216","v":0},null,{"$f":"'2017 Base Data'!K216","v":0},{"$f":"'2017 Base Data'!L216","v":0},{"$f":"'2017 Base Data'!M216","v":0},{"$f":"\"E\"&U215&\":\"&\"E\"&V215","v":"E216:E216"},{"$f":"\"H\"&U215&\":\"&\"H\"&V215","v":"H216:H216"},{"$f":"\"L\"&U215&\":\"&\"L\"&V215","v":"L216:L216"},null,"<TR VALIGN=BOTTOM>",{"$f":"\"<TD NOWRAP ALIGN=LEFT><FONT FACE=\"\"Times New Roman\"\" SIZE=-1 COLOR=#00AA00\"\">\"&A216&\"</FONT></TD>\"","v":"<TD NOWRAP ALIGN=LEFT><FONT FACE=\"Times New Roman\" SIZE=-1 COLOR=#00AA00\">Ballston Spa CSD</FONT></TD>"},"<TD NOWRAP ALIGN=RIGHT><FONT FACE=\"Times New Roman\" SIZE=-1>$0.00</FONT></TD>","<TD NOWRAP ALIGN=RIGHT><FONT FACE=\"Times New Roman\" SIZE=-1>$0.00</FONT></TD>","<TD NOWRAP ALIGN=RIGHT><FONT FACE=\"Times New Roman\" SIZE=-1>$0.00</FONT></TD>","<TD NOWRAP ALIGN=CENTER><FONT FACE=\"Times New Roman\" SIZE=-1>$0.00</FONT></TD>","<TD NOWRAP ALIGN=CENTER><FONT FACE=\"Times New Roman\" SIZE=-1>$0.00</FONT></TD>","<TD NOWRAP ALIGN=CENTER><FONT FACE=\"Times New Roman\" SIZE=-1>0.0000</FONT></TD>","<TD NOWRAP ALIGN=CENTER><FONT FACE=\"Times New Roman\" SIZE=-1>$0.00</FONT></TD>","</TR>"]
["Town of Moreau",{"$f":"B218","v":0},{"$f":"C218","v":0},null,{"$f":"MIN(INDIRECT(U218))","v":0},{"$f":"IF(G217<>0,\"to\",\"\")","v":""},{"$f":"IF(U217<>V217,MAX(INDIRECT(U218)),0)","v":0},{"$f":"MIN(INDIRECT(V218))","v":0},{"$f":"IF(J217<>0,\"to\",\"\")","v":""},{"$f":"IF(U217<>V217,MAX(INDIRECT(V218)),0)","v":0},{"$f":"K218","v":0},{"$f":"MIN(INDIRECT(W218))","v":0},{"$f":"IF(N217<>0,\"to\",\"\")","v":""},{"$f":"IF(U217<>V217,MAX(INDIRECT(W218)),0)","v":0},null,null,null,null,null,null,{"$f":"CELL(\"row\",P218)","v":218},{"$f":"CELL(\"row\",P219)","v":219},null,null,"<TR VALIGN=BOTTOM BGCOLOR=\"#FFFFCC\">",{"$f":"\"<TH NOWRAP ALIGN=LEFT><FONT FACE=\"\"Times New Roman\"\" SIZE=-1>\"&A217&\"</FONT></TH>\"","v":"<TH NOWRAP ALIGN=LEFT><FONT FACE=\"Times New Roman\" SIZE=-1>Town of Moreau</FONT></TH>"},"<TD NOWRAP ALIGN=RIGHT><FONT FACE=\"Times New Roman\" SIZE=-1>$0.00</FONT></TD>","<TD NOWRAP ALIGN=RIGHT><FONT FACE=\"Times New Roman\" SIZE=-1>$0.00</FONT></TD>","<TD NOWRAP ALIGN=RIGHT><FONT FACE=\"Times New Roman\" SIZE=-1><BR></FONT></TD>","<TD NOWRAP ALIGN=CENTER><FONT FACE=\"Times New Roman\" SIZE=-1>$0.00</FONT></TD>","<TD NOWRAP ALIGN=CENTER><FONT FACE=\"Times New Roman\" SIZE=-1>$0.00</FONT></TD>","<TD NOWRAP ALIGN=CENTER><FONT FACE=\"Times New Roman\" SIZE=-1>0.0000</FONT></TD>","<TD NOWRAP ALIGN=CENTER><FONT FACE=\"Times New Roman\" SIZE=-1>$0.00</FONT></TD>","</TR>"]
["Hudson Falls CSD",{"$f":"'2017 Base Data'!F218","v":0},{"$f":"'2017 Base Data'!G218","v":0},null,{"$f":"'2017 Base Data'!I218","v":0},null,null,{"$f":"'2017 Base Data'!J218","v":0},null,null,{"$f":"'2017 Base Data'!K218","v":0},{"$f":"'2017 Base Data'!R218","v":0},null,null,{"$f":"ROUND(IF(S218<>0,R218*D218+S218*SUM(B218:C218)+T218*E218,R218*SUM(B218:D218)+T218*E218),2)","v":0},{"$f":"L218-O218","v":0},null,{"$f":"'2017 Base Data'!K218","v":0},{"$f":"'2017 Base Data'!L218","v":0},{"$f":"'2017 Base Data'!M218","v":0},{"$f":"\"E\"&U217&\":\"&\"E\"&V217","v":"E218:E219"},{"$f":"\"H\"&U217&\":\"&\"H\"&V217","v":"H218:H219"},{"$f":"\"L\"&U217&\":\"&\"L\"&V217","v":"L218:L219"},null,"<TR VALIGN=BOTTOM>",{"$f":"\"<TD NOWRAP ALIGN=LEFT><FONT FACE=\"\"Times New Roman\"\" SIZE=-1 COLOR=#00AA00\"\">\"&A218&\"</FONT></TD>\"","v":"<TD NOWRAP ALIGN=LEFT><FONT FACE=\"Times New Roman\" SIZE=-1 COLOR=#00AA00\">Hudson Falls CSD</FONT></TD>"},"<TD NOWRAP ALIGN=RIGHT><FONT FACE=\"Times New Roman\" SIZE=-1>$0.00</FONT></TD>","<TD NOWRAP ALIGN=RIGHT><FONT FACE=\"Times New Roman\" SIZE=-1>$0.00</FONT></TD>","<TD NOWRAP ALIGN=RIGHT><FONT FACE=\"Times New Roman\" SIZE=-1><BR></FONT></TD>","<TD NOWRAP ALIGN=CENTER><FONT FACE=\"Times New Roman\" SIZE=-1>$0.00</FONT></TD>","<TD NOWRAP ALIGN=CENTER><FONT FACE=\"Times New Roman\" SIZE=-1>$0.00</FONT></TD>","<TD NOWRAP ALIGN=CENTER><FONT FACE=\"Times New Roman\" SIZE=-1>0.0000</FONT></TD>","<TD NOWRAP ALIGN=CENTER><FONT FACE=\"Times New Roman\" SIZE=-1>$0.00</FONT></TD>","</TR>"]
["South Glens Falls CSD",{"$f":"'2017 Base Data'!F219","v":0},{"$f":"'2017 Base Data'!G219","v":0},null,{"$f":"'2017 Base Data'!I219","v":0},null,null,{"$f":"'2017 Base Data'!J219","v":0},null,null,{"$f":"'2017 Base Data'!K219","v":0},{"$f":"'2017 Base Data'!R219","v":0},null,null,{"$f":"ROUND(IF(S219<>0,R219*D219+S219*SUM(B219:C219)+T219*E219,R219*SUM(B219:D219)+T219*E219),2)","v":0},{"$f":"L219-O219","v":0},null,{"$f":"'2017 Base Data'!K219","v":0},{"$f":"'2017 Base Data'!L219","v":0},{"$f":"'2017 Base Data'!M219","v":0},null,null,null,null,"<TR VALIGN=BOTTOM>",{"$f":"\"<TD NOWRAP ALIGN=LEFT><FONT FACE=\"\"Times New Roman\"\" SIZE=-1 COLOR=#00AA00\"\">\"&A219&\"</FONT></TD>\"","v":"<TD NOWRAP ALIGN=LEFT><FONT FACE=\"Times New Roman\" SIZE=-1 COLOR=#00AA00\">South Glens Falls CSD</FONT></TD>"},"<TD NOWRAP ALIGN=RIGHT><FONT FACE=\"Times New Roman\" SIZE=-1>$0.00</FONT></TD>","<TD NOWRAP ALIGN=RIGHT><FONT FACE=\"Times New Roman\" SIZE=-1>$0.00</FONT></TD>","<TD NOWRAP ALIGN=RIGHT><FONT FACE=\"Times New Roman\" SIZE=-1><BR></FONT></TD>","<TD NOWRAP ALIGN=CENTER><FONT FACE=\"Times New Roman\" SIZE=-1>$0.00</FONT></TD>","<TD NOWRAP ALIGN=CENTER><FONT FACE=\"Times New Roman\" SIZE=-1>$0.00</FONT></TD>","<TD NOWRAP ALIGN=CENTER><FONT FACE=\"Times New Roman\" SIZE=-1>0.0000</FONT></TD>","<TD NOWRAP ALIGN=CENTER><FONT FACE=\"Times New Roman\" SIZE=-1>$0.00</FONT></TD>","</TR>"]
["Village of South Glens Falls",{"$f":"B221","v":0},{"$f":"C221","v":0},{"$f":"D221","v":0},{"$f":"MIN(INDIRECT(U221))","v":0},{"$f":"IF(G220<>0,\"to\",\"\")","v":""},{"$f":"IF(U220<>V220,MAX(INDIRECT(U221)),0)","v":0},{"$f":"MIN(INDIRECT(V221))","v":0},{"$f":"IF(J220<>0,\"to\",\"\")","v":""},{"$f":"IF(U220<>V220,MAX(INDIRECT(V221)),0)","v":0},{"$f":"K221","v":0},{"$f":"MIN(INDIRECT(W221))","v":0},{"$f":"IF(N220<>0,\"to\",\"\")","v":""},{"$f":"IF(U220<>V220,MAX(INDIRECT(W221)),0)","v":0},null,null,null,null,null,null,{"$f":"CELL(\"row\",P221)","v":221},{"$f":"CELL(\"row\",P221)","v":221},null,null,"<TR VALIGN=BOTTOM BGCOLOR=\"#FFFFCC\">",{"$f":"\"<TH NOWRAP ALIGN=LEFT><FONT FACE=\"\"Times New Roman\"\" SIZE=-1 COLOR=\"\"#0000CC\"\">\"&A220&\"</FONT></TH>\"","v":"<TH NOWRAP ALIGN=LEFT><FONT FACE=\"Times New Roman\" SIZE=-1 COLOR=\"#0000CC\">Village of South Glens Falls</FONT></TH>"},"<TD NOWRAP ALIGN=RIGHT><FONT FACE=\"Times New Roman\" SIZE=-1>$0.00</FONT></TD>","<TD NOWRAP ALIGN=RIGHT><FONT FACE=\"Times New Roman\" SIZE=-1>$0.00</FONT></TD>","<TD NOWRAP ALIGN=RIGHT><FONT FACE=\"Times New Roman\" SIZE=-1>$0.00</FONT></TD>","<TD NOWRAP ALIGN=CENTER><FONT FACE=\"Times New Roman\" SIZE=-1>$0.00</FONT></TD>","<TD NOWRAP ALIGN=CENTER><FONT FACE=\"Times New Roman\" SIZE=-1>$0.00</FONT></TD>","<TD NOWRAP ALIGN=CENTER><FONT FACE=\"Times New Roman\" SIZE=-1>0.0000</FONT></TD>","<TD NOWRAP ALIGN=CENTER><FONT FACE=\"Times New Roman\" SIZE=-1>$0.00</FONT></TD>","</TR>"]
["South Glens Falls CSD",{"$f":"'2017 Base Data'!F221","v":0},{"$f":"'2017 Base Data'!G221","v":0},{"$f":"'2017 Base Data'!H221","v":0},{"$f":"'2017 Base Data'!I221","v":0},null,null,{"$f":"'2017 Base Data'!J221","v":0},null,null,{"$f":"'2017 Base Data'!K221","v":0},{"$f":"'2017 Base Data'!R221","v":0},null,null,{"$f":"ROUND(IF(S221<>0,R221*D221+S221*SUM(B221:C221)+T221*E221,R221*SUM(B221:D221)+T221*E221),2)","v":0},{"$f":"L221-O221","v":0},null,{"$f":"'2017 Base Data'!K221","v":0},{"$f":"'2017 Base Data'!L221","v":0},{"$f":"'2017 Base Data'!M221","v":0},{"$f":"\"E\"&U220&\":\"&\"E\"&V220","v":"E221:E221"},{"$f":"\"H\"&U220&\":\"&\"H\"&V220","v":"H221:H221"},{"$f":"\"L\"&U220&\":\"&\"L\"&V220","v":"L221:L221"},null,"<TR VALIGN=BOTTOM>",{"$f":"\"<TD NOWRAP ALIGN=LEFT><FONT FACE=\"\"Times New Roman\"\" SIZE=-1 COLOR=#00AA00\"\">\"&A221&\"</FONT></TD>\"","v":"<TD NOWRAP ALIGN=LEFT><FONT FACE=\"Times New Roman\" SIZE=-1 COLOR=#00AA00\">South Glens Falls CSD</FONT></TD>"},"<TD NOWRAP ALIGN=RIGHT><FONT FACE=\"Times New Roman\" SIZE=-1>$0.00</FONT></TD>","<TD NOWRAP ALIGN=RIGHT><FONT FACE=\"Times New Roman\" SIZE=-1>$0.00</FONT></TD>","<TD NOWRAP ALIGN=RIGHT><FONT FACE=\"Times New Roman\" SIZE=-1>$0.00</FONT></TD>","<TD NOWRAP ALIGN=CENTER><FONT FACE=\"Times New Roman\" SIZE=-1>$0.00</FONT></TD>","<TD NOWRAP ALIGN=CENTER><FONT FACE=\"Times New Roman\" SIZE=-1>$0.00</FONT></TD>","<TD NOWRAP ALIGN=CENTER><FONT FACE=\"Times New Roman\" SIZE=-1>0.0000</FONT></TD>","<TD NOWRAP ALIGN=CENTER><FONT FACE=\"Times New Roman\" SIZE=-1>$0.00</FONT></TD>","</TR>"]
["Town of Northumberland",{"$f":"B223","v":0},{"$f":"C223","v":0},null,{"$f":"MIN(INDIRECT(U223))","v":0},{"$f":"IF(G222<>0,\"to\",\"\")","v":""},{"$f":"IF(U222<>V222,MAX(INDIRECT(U223)),0)","v":0},{"$f":"MIN(INDIRECT(V223))","v":0},{"$f":"IF(J222<>0,\"to\",\"\")","v":""},{"$f":"IF(U222<>V222,MAX(INDIRECT(V223)),0)","v":0},{"$f":"K223","v":0},{"$f":"MIN(INDIRECT(W223))","v":0},{"$f":"IF(N222<>0,\"to\",\"\")","v":""},{"$f":"IF(U222<>V222,MAX(INDIRECT(W223)),0)","v":0},null,null,null,null,null,null,{"$f":"CELL(\"row\",P223)","v":223},{"$f":"CELL(\"row\",P224)","v":224},null,null,"<TR VALIGN=BOTTOM BGCOLOR=\"#FFFFCC\">",{"$f":"\"<TH NOWRAP ALIGN=LEFT><FONT FACE=\"\"Times New Roman\"\" SIZE=-1>\"&A222&\"</FONT></TH>\"","v":"<TH NOWRAP ALIGN=LEFT><FONT FACE=\"Times New Roman\" SIZE=-1>Town of Northumberland</FONT></TH>"},"<TD NOWRAP ALIGN=RIGHT><FONT FACE=\"Times New Roman\" SIZE=-1>$0.00</FONT></TD>","<TD NOWRAP ALIGN=RIGHT><FONT FACE=\"Times New Roman\" SIZE=-1>$0.00</FONT></TD>","<TD NOWRAP ALIGN=RIGHT><FONT FACE=\"Times New Roman\" SIZE=-1><BR></FONT></TD>","<TD NOWRAP ALIGN=CENTER><FONT FACE=\"Times New Roman\" SIZE=-1>$0.00</FONT></TD>","<TD NOWRAP ALIGN=CENTER><FONT FACE=\"Times New Roman\" SIZE=-1>$0.00</FONT></TD>","<TD NOWRAP ALIGN=CENTER><FONT FACE=\"Times New Roman\" SIZE=-1>0.0000</FONT></TD>","<TD NOWRAP ALIGN=CENTER><FONT FACE=\"Times New Roman\" SIZE=-1>$0.00</FONT></TD>","</TR>"]
["Schuylerville CSD",{"$f":"'2017 Base Data'!F223","v":0},{"$f":"'2017 Base Data'!G223","v":0},null,{"$f":"'2017 Base Data'!I223","v":0},null,null,{"$f":"'2017 Base Data'!J223","v":0},null,null,{"$f":"'2017 Base Data'!K223","v":0},{"$f":"'2017 Base Data'!R223","v":0},null,null,{"$f":"ROUND(IF(S223<>0,R223*D223+S223*SUM(B223:C223)+T223*E223,R223*SUM(B223:D223)+T223*E223),2)","v":0},{"$f":"L223-O223","v":0},null,{"$f":"'2017 Base Data'!K223","v":0},{"$f":"'2017 Base Data'!L223","v":0},{"$f":"'2017 Base Data'!M223","v":0},{"$f":"\"E\"&U222&\":\"&\"E\"&V222","v":"E223:E224"},{"$f":"\"H\"&U222&\":\"&\"H\"&V222","v":"H223:H224"},{"$f":"\"L\"&U222&\":\"&\"L\"&V222","v":"L223:L224"},null,"<TR VALIGN=BOTTOM>",{"$f":"\"<TD NOWRAP ALIGN=LEFT><FONT FACE=\"\"Times New Roman\"\" SIZE=-1 COLOR=#00AA00\"\">\"&A223&\"</FONT></TD>\"","v":"<TD NOWRAP ALIGN=LEFT><FONT FACE=\"Times New Roman\" SIZE=-1 COLOR=#00AA00\">Schuylerville CSD</FONT></TD>"},"<TD NOWRAP ALIGN=RIGHT><FONT FACE=\"Times New Roman\" SIZE=-1>$0.00</FONT></TD>","<TD NOWRAP ALIGN=RIGHT><FONT FACE=\"Times New Roman\" SIZE=-1>$0.00</FONT></TD>","<TD NOWRAP ALIGN=RIGHT><FONT FACE=\"Times New Roman\" SIZE=-1><BR></FONT></TD>","<TD NOWRAP ALIGN=CENTER><FONT FACE=\"Times New Roman\" SIZE=-1>$0.00</FONT></TD>","<TD NOWRAP ALIGN=CENTER><FONT FACE=\"Times New Roman\" SIZE=-1>$0.00</FONT></TD>","<TD NOWRAP ALIGN=CENTER><FONT FACE=\"Times New Roman\" SIZE=-1>0.0000</FONT></TD>","<TD NOWRAP ALIGN=CENTER><FONT FACE=\"Times New Roman\" SIZE=-1>$0.00</FONT></TD>","</TR>"]
["South Glens Falls CSD",{"$f":"'2017 Base Data'!F224","v":0},{"$f":"'2017 Base Data'!G224","v":0},null,{"$f":"'2017 Base Data'!I224","v":0},null,null,{"$f":"'2017 Base Data'!J224","v":0},null,null,{"$f":"'2017 Base Data'!K224","v":0},{"$f":"'2017 Base Data'!R224","v":0},null,null,{"$f":"ROUND(IF(S224<>0,R224*D224+S224*SUM(B224:C224)+T224*E224,R224*SUM(B224:D224)+T224*E224),2)","v":0},{"$f":"L224-O224","v":0},null,{"$f":"'2017 Base Data'!K224","v":0},{"$f":"'2017 Base Data'!L224","v":0},{"$f":"'2017 Base Data'!M224","v":0},null,null,null,null,"<TR VALIGN=BOTTOM>",{"$f":"\"<TD NOWRAP ALIGN=LEFT><FONT FACE=\"\"Times New Roman\"\" SIZE=-1 COLOR=#00AA00\"\">\"&A224&\"</FONT></TD>\"","v":"<TD NOWRAP ALIGN=LEFT><FONT FACE=\"Times New Roman\" SIZE=-1 COLOR=#00AA00\">South Glens Falls CSD</FONT></TD>"},"<TD NOWRAP ALIGN=RIGHT><FONT FACE=\"Times New Roman\" SIZE=-1>$0.00</FONT></TD>","<TD NOWRAP ALIGN=RIGHT><FONT FACE=\"Times New Roman\" SIZE=-1>$0.00</FONT></TD>","<TD NOWRAP ALIGN=RIGHT><FONT FACE=\"Times New Roman\" SIZE=-1><BR></FONT></TD>","<TD NOWRAP ALIGN=CENTER><FONT FACE=\"Times New Roman\" SIZE=-1>$0.00</FONT></TD>","<TD NOWRAP ALIGN=CENTER><FONT FACE=\"Times New Roman\" SIZE=-1>$0.00</FONT></TD>","<TD NOWRAP ALIGN=CENTER><FONT FACE=\"Times New Roman\" SIZE=-1>0.0000</FONT></TD>","<TD NOWRAP ALIGN=CENTER><FONT FACE=\"Times New Roman\" SIZE=-1>$0.00</FONT></TD>","</TR>"]
["Town of Providence",{"$f":"B226","v":0},{"$f":"C226","v":0},null,{"$f":"MIN(INDIRECT(U226))","v":0},{"$f":"IF(G225<>0,\"to\",\"\")","v":""},{"$f":"IF(U225<>V225,MAX(INDIRECT(U226)),0)","v":0},{"$f":"MIN(INDIRECT(V226))","v":0},{"$f":"IF(J225<>0,\"to\",\"\")","v":""},{"$f":"IF(U225<>V225,MAX(INDIRECT(V226)),0)","v":0},{"$f":"K226","v":0},{"$f":"MIN(INDIRECT(W226))","v":0},{"$f":"IF(N225<>0,\"to\",\"\")","v":""},{"$f":"IF(U225<>V225,MAX(INDIRECT(W226)),0)","v":0},null,null,null,null,null,null,{"$f":"CELL(\"row\",P226)","v":226},{"$f":"CELL(\"row\",P227)","v":227},null,null,"<TR VALIGN=BOTTOM BGCOLOR=\"#FFFFCC\">",{"$f":"\"<TH NOWRAP ALIGN=LEFT><FONT FACE=\"\"Times New Roman\"\" SIZE=-1>\"&A225&\"</FONT></TH>\"","v":"<TH NOWRAP ALIGN=LEFT><FONT FACE=\"Times New Roman\" SIZE=-1>Town of Providence</FONT></TH>"},"<TD NOWRAP ALIGN=RIGHT><FONT FACE=\"Times New Roman\" SIZE=-1>$0.00</FONT></TD>","<TD NOWRAP ALIGN=RIGHT><FONT FACE=\"Times New Roman\" SIZE=-1>$0.00</FONT></TD>","<TD NOWRAP ALIGN=RIGHT><FONT FACE=\"Times New Roman\" SIZE=-1><BR></FONT></TD>","<TD NOWRAP ALIGN=CENTER><FONT FACE=\"Times New Roman\" SIZE=-1>$0.00</FONT></TD>","<TD NOWRAP ALIGN=CENTER><FONT FACE=\"Times New Roman\" SIZE=-1>$0.00</FONT></TD>","<TD NOWRAP ALIGN=CENTER><FONT FACE=\"Times New Roman\" SIZE=-1>0.0000</FONT></TD>","<TD NOWRAP ALIGN=CENTER><FONT FACE=\"Times New Roman\" SIZE=-1>$0.00</FONT></TD>","</TR>"]
["Broadalbin-Perth CSD",{"$f":"'2017 Base Data'!F226","v":0},{"$f":"'2017 Base Data'!G226","v":0},null,{"$f":"'2017 Base Data'!I226","v":0},null,null,{"$f":"'2017 Base Data'!J226","v":0},null,null,{"$f":"'2017 Base Data'!K226","v":0},{"$f":"'2017 Base Data'!R226","v":0},null,null,{"$f":"ROUND(IF(S226<>0,R226*D226+S226*SUM(B226:C226)+T226*E226,R226*SUM(B226:D226)+T226*E226),2)","v":0},{"$f":"L226-O226","v":0},null,{"$f":"'2017 Base Data'!K226","v":0},{"$f":"'2017 Base Data'!L226","v":0},{"$f":"'2017 Base Data'!M226","v":0},{"$f":"\"E\"&U225&\":\"&\"E\"&V225","v":"E226:E227"},{"$f":"\"H\"&U225&\":\"&\"H\"&V225","v":"H226:H227"},{"$f":"\"L\"&U225&\":\"&\"L\"&V225","v":"L226:L227"},null,"<TR VALIGN=BOTTOM>",{"$f":"\"<TD NOWRAP ALIGN=LEFT><FONT FACE=\"\"Times New Roman\"\" SIZE=-1 COLOR=#00AA00\"\">\"&A226&\"</FONT></TD>\"","v":"<TD NOWRAP ALIGN=LEFT><FONT FACE=\"Times New Roman\" SIZE=-1 COLOR=#00AA00\">Broadalbin-Perth CSD</FONT></TD>"},"<TD NOWRAP ALIGN=RIGHT><FONT FACE=\"Times New Roman\" SIZE=-1>$0.00</FONT></TD>","<TD NOWRAP ALIGN=RIGHT><FONT FACE=\"Times New Roman\" SIZE=-1>$0.00</FONT></TD>","<TD NOWRAP ALIGN=RIGHT><FONT FACE=\"Times New Roman\" SIZE=-1><BR></FONT></TD>","<TD NOWRAP ALIGN=CENTER><FONT FACE=\"Times New Roman\" SIZE=-1>$0.00</FONT></TD>","<TD NOWRAP ALIGN=CENTER><FONT FACE=\"Times New Roman\" SIZE=-1>$0.00</FONT></TD>","<TD NOWRAP ALIGN=CENTER><FONT FACE=\"Times New Roman\" SIZE=-1>0.0000</FONT></TD>","<TD NOWRAP ALIGN=CENTER><FONT FACE=\"Times New Roman\" SIZE=-1>$0.00</FONT></TD>","</TR>"]
["Galway CSD",{"$f":"'2017 Base Data'!F227","v":0},{"$f":"'2017 Base Data'!G227","v":0},null,{"$f":"'2017 Base Data'!I227","v":0},null,null,{"$f":"'2017 Base Data'!J227","v":0},null,null,{"$f":"'2017 Base Data'!K227","v":0},{"$f":"'2017 Base Data'!R227","v":0},null,null,{"$f":"ROUND(IF(S227<>0,R227*D227+S227*SUM(B227:C227)+T227*E227,R227*SUM(B227:D227)+T227*E227),2)","v":0},{"$f":"L227-O227","v":0},null,{"$f":"'2017 Base Data'!K227","v":0},{"$f":"'2017 Base Data'!L227","v":0},{"$f":"'2017 Base Data'!M227","v":0},null,null,null,null,"<TR VALIGN=BOTTOM>",{"$f":"\"<TD NOWRAP ALIGN=LEFT><FONT FACE=\"\"Times New Roman\"\" SIZE=-1 COLOR=#00AA00\"\">\"&A227&\"</FONT></TD>\"","v":"<TD NOWRAP ALIGN=LEFT><FONT FACE=\"Times New Roman\" SIZE=-1 COLOR=#00AA00\">Galway CSD</FONT></TD>"},"<TD NOWRAP ALIGN=RIGHT><FONT FACE=\"Times New Roman\" SIZE=-1>$0.00</FONT></TD>","<TD NOWRAP ALIGN=RIGHT><FONT FACE=\"Times New Roman\" SIZE=-1>$0.00</FONT></TD>","<TD NOWRAP ALIGN=RIGHT><FONT FACE=\"Times New Roman\" SIZE=-1><BR></FONT></TD>","<TD NOWRAP ALIGN=CENTER><FONT FACE=\"Times New Roman\" SIZE=-1>$0.00</FONT></TD>","<TD NOWRAP ALIGN=CENTER><FONT FACE=\"Times New Roman\" SIZE=-1>$0.00</FONT></TD>","<TD NOWRAP ALIGN=CENTER><FONT FACE=\"Times New Roman\" SIZE=-1>0.0000</FONT></TD>","<TD NOWRAP ALIGN=CENTER><FONT FACE=\"Times New Roman\" SIZE=-1>$0.00</FONT></TD>","</TR>"]
["Town of Saratoga",{"$f":"B229","v":0},{"$f":"C229","v":0},null,{"$f":"MIN(INDIRECT(U229))","v":0},{"$f":"IF(G228<>0,\"to\",\"\")","v":""},{"$f":"IF(U228<>V228,MAX(INDIRECT(U229)),0)","v":0},{"$f":"MIN(INDIRECT(V229))","v":0},{"$f":"IF(J228<>0,\"to\",\"\")","v":""},{"$f":"IF(U228<>V228,MAX(INDIRECT(V229)),0)","v":0},{"$f":"K229","v":0},{"$f":"MIN(INDIRECT(W229))","v":0},{"$f":"IF(N228<>0,\"to\",\"\")","v":""},{"$f":"IF(U228<>V228,MAX(INDIRECT(W229)),0)","v":0},null,null,null,null,null,null,{"$f":"CELL(\"row\",P229)","v":229},{"$f":"CELL(\"row\",P231)","v":231},null,null,"<TR VALIGN=BOTTOM BGCOLOR=\"#FFFFCC\">",{"$f":"\"<TH NOWRAP ALIGN=LEFT><FONT FACE=\"\"Times New Roman\"\" SIZE=-1>\"&A228&\"</FONT></TH>\"","v":"<TH NOWRAP ALIGN=LEFT><FONT FACE=\"Times New Roman\" SIZE=-1>Town of Saratoga</FONT></TH>"},"<TD NOWRAP ALIGN=RIGHT><FONT FACE=\"Times New Roman\" SIZE=-1>$0.00</FONT></TD>","<TD NOWRAP ALIGN=RIGHT><FONT FACE=\"Times New Roman\" SIZE=-1>$0.00</FONT></TD>","<TD NOWRAP ALIGN=RIGHT><FONT FACE=\"Times New Roman\" SIZE=-1><BR></FONT></TD>","<TD NOWRAP ALIGN=CENTER><FONT FACE=\"Times New Roman\" SIZE=-1>$0.00</FONT></TD>","<TD NOWRAP ALIGN=CENTER><FONT FACE=\"Times New Roman\" SIZE=-1>$0.00</FONT></TD>","<TD NOWRAP ALIGN=CENTER><FONT FACE=\"Times New Roman\" SIZE=-1>0.0000</FONT></TD>","<TD NOWRAP ALIGN=CENTER><FONT FACE=\"Times New Roman\" SIZE=-1>$0.00</FONT></TD>","</TR>"]
["Saratoga Springs City SD",{"$f":"'2017 Base Data'!F229","v":0},{"$f":"'2017 Base Data'!G229","v":0},null,{"$f":"'2017 Base Data'!I229","v":0},null,null,{"$f":"'2017 Base Data'!J229","v":0},null,null,{"$f":"'2017 Base Data'!K229","v":0},{"$f":"'2017 Base Data'!R229","v":0},null,null,{"$f":"ROUND(IF(S229<>0,R229*D229+S229*SUM(B229:C229)+T229*E229,R229*SUM(B229:D229)+T229*E229),2)","v":0},{"$f":"L229-O229","v":0},null,{"$f":"'2017 Base Data'!K229","v":0},{"$f":"'2017 Base Data'!L229","v":0},{"$f":"'2017 Base Data'!M229","v":0},{"$f":"\"E\"&U228&\":\"&\"E\"&V228","v":"E229:E231"},{"$f":"\"H\"&U228&\":\"&\"H\"&V228","v":"H229:H231"},{"$f":"\"L\"&U228&\":\"&\"L\"&V228","v":"L229:L231"},null,"<TR VALIGN=BOTTOM>",{"$f":"\"<TD NOWRAP ALIGN=LEFT><FONT FACE=\"\"Times New Roman\"\" SIZE=-1 COLOR=#00AA00\"\">\"&A229&\"</FONT></TD>\"","v":"<TD NOWRAP ALIGN=LEFT><FONT FACE=\"Times New Roman\" SIZE=-1 COLOR=#00AA00\">Saratoga Springs City SD</FONT></TD>"},"<TD NOWRAP ALIGN=RIGHT><FONT FACE=\"Times New Roman\" SIZE=-1>$0.00</FONT></TD>","<TD NOWRAP ALIGN=RIGHT><FONT FACE=\"Times New Roman\" SIZE=-1>$0.00</FONT></TD>","<TD NOWRAP ALIGN=RIGHT><FONT FACE=\"Times New Roman\" SIZE=-1><BR></FONT></TD>","<TD NOWRAP ALIGN=CENTER><FONT FACE=\"Times New Roman\" SIZE=-1>$0.00</FONT></TD>","<TD NOWRAP ALIGN=CENTER><FONT FACE=\"Times New Roman\" SIZE=-1>$0.00</FONT></TD>","<TD NOWRAP ALIGN=CENTER><FONT FACE=\"Times New Roman\" SIZE=-1>0.0000</FONT></TD>","<TD NOWRAP ALIGN=CENTER><FONT FACE=\"Times New Roman\" SIZE=-1>$0.00</FONT></TD>","</TR>"]
["Schuylerville CSD",{"$f":"'2017 Base Data'!F230","v":0},{"$f":"'2017 Base Data'!G230","v":0},null,{"$f":"'2017 Base Data'!I230","v":0},null,null,{"$f":"'2017 Base Data'!J230","v":0},null,null,{"$f":"'2017 Base Data'!K230","v":0},{"$f":"'2017 Base Data'!R230","v":0},null,null,{"$f":"ROUND(IF(S230<>0,R230*D230+S230*SUM(B230:C230)+T230*E230,R230*SUM(B230:D230)+T230*E230),2)","v":0},{"$f":"L230-O230","v":0},null,{"$f":"'2017 Base Data'!K230","v":0},{"$f":"'2017 Base Data'!L230","v":0},{"$f":"'2017 Base Data'!M230","v":0},null,null,null,null,"<TR VALIGN=BOTTOM>",{"$f":"\"<TD NOWRAP ALIGN=LEFT><FONT FACE=\"\"Times New Roman\"\" SIZE=-1 COLOR=#00AA00\"\">\"&A230&\"</FONT></TD>\"","v":"<TD NOWRAP ALIGN=LEFT><FONT FACE=\"Times New Roman\" SIZE=-1 COLOR=#00AA00\">Schuylerville CSD</FONT></TD>"},{"$f":"\"<TD NOWRAP ALIGN=RIGHT><FONT FACE=\"\"Times New Roman\"\" SIZE=-1>\"&IF(B230=\"\",\"<BR>\",TEXT(B230,\"$#,##0.00\"))&\"</FONT></TD>\"","v":"<TD NOWRAP ALIGN=RIGHT><FONT FACE=\"Times New Roman\" SIZE=-1>$0.00</FONT></TD>"},"<TD NOWRAP ALIGN=RIGHT><FONT FACE=\"Times New Roman\" SIZE=-1>$0.00</FONT></TD>","<TD NOWRAP ALIGN=RIGHT><FONT FACE=\"Times New Roman\" SIZE=-1><BR></FONT></TD>",{"$f":"\"<TD NOWRAP ALIGN=CENTER><FONT FACE=\"\"Times New Roman\"\" SIZE=-1>\"&TEXT(E230,\"$#,##0.00\")&IF(F230=\"\",\"\",\" to \")&IF(G230<=0,\"\",TEXT(G230,\"$#,##0.00\"))&\"</FONT></TD>\"","v":"<TD NOWRAP ALIGN=CENTER><FONT FACE=\"Times New Roman\" SIZE=-1>$0.00</FONT></TD>"},{"$f":"\"<TD NOWRAP ALIGN=CENTER><FONT FACE=\"\"Times New Roman\"\" SIZE=-1>\"&TEXT(H230,\"$#,##0.00\")&IF(I230=\"\",\"\",\" to \")&IF(J230<=0,\"\",TEXT(J230,\"$#,##0.00\"))&\"</FONT></TD>\"","v":"<TD NOWRAP ALIGN=CENTER><FONT FACE=\"Times New Roman\" SIZE=-1>$0.00</FONT></TD>"},{"$f":"\"<TD NOWRAP ALIGN=CENTER><FONT FACE=\"\"Times New Roman\"\" SIZE=-1>\"&IF(K230=\"\",\"<BR>\",TEXT(K230,\"0.0000\"))&\"</FONT></TD>\"","v":"<TD NOWRAP ALIGN=CENTER><FONT FACE=\"Times New Roman\" SIZE=-1>0.0000</FONT></TD>"},{"$f":"\"<TD NOWRAP ALIGN=CENTER><FONT FACE=\"\"Times New Roman\"\" SIZE=-1>\"&TEXT(L230,\"$#,##0.00\")&IF(M230=\"\",\"\",\" to \")&IF(N230<=0,\"\",TEXT(N230,\"$#,##0.00\"))&\"</FONT></TD>\"","v":"<TD NOWRAP ALIGN=CENTER><FONT FACE=\"Times New Roman\" SIZE=-1>$0.00</FONT></TD>"},"</TR>"]
["Stillwater CSD",{"$f":"'2017 Base Data'!F231","v":0},{"$f":"'2017 Base Data'!G231","v":0},null,{"$f":"'2017 Base Data'!I231","v":0},null,null,{"$f":"'2017 Base Data'!J231","v":0},null,null,{"$f":"'2017 Base Data'!K231","v":0},{"$f":"'2017 Base Data'!R231","v":0},null,null,{"$f":"ROUND(IF(S231<>0,R231*D231+S231*SUM(B231:C231)+T231*E231,R231*SUM(B231:D231)+T231*E231),2)","v":0},{"$f":"L231-O231","v":0},null,{"$f":"'2017 Base Data'!K231","v":0},{"$f":"'2017 Base Data'!L231","v":0},{"$f":"'2017 Base Data'!M231","v":0},null,null,null,null,"<TR VALIGN=BOTTOM>",{"$f":"\"<TD NOWRAP ALIGN=LEFT><FONT FACE=\"\"Times New Roman\"\" SIZE=-1 COLOR=#00AA00\"\">\"&A231&\"</FONT></TD>\"","v":"<TD NOWRAP ALIGN=LEFT><FONT FACE=\"Times New Roman\" SIZE=-1 COLOR=#00AA00\">Stillwater CSD</FONT></TD>"},"<TD NOWRAP ALIGN=RIGHT><FONT FACE=\"Times New Roman\" SIZE=-1>$0.00</FONT></TD>","<TD NOWRAP ALIGN=RIGHT><FONT FACE=\"Times New Roman\" SIZE=-1>$0.00</FONT></TD>","<TD NOWRAP ALIGN=RIGHT><FONT FACE=\"Times New Roman\" SIZE=-1><BR></FONT></TD>","<TD NOWRAP ALIGN=CENTER><FONT FACE=\"Times New Roman\" SIZE=-1>$0.00</FONT></TD>","<TD NOWRAP ALIGN=CENTER><FONT FACE=\"Times New Roman\" SIZE=-1>$0.00</FONT></TD>","<TD NOWRAP ALIGN=CENTER><FONT FACE=\"Times New Roman\" SIZE=-1>0.0000</FONT></TD>","<TD NOWRAP ALIGN=CENTER><FONT FACE=\"Times New Roman\" SIZE=-1>$0.00</FONT></TD>","</TR>"]
["Village of Schuylerville",{"$f":"B233","v":0},{"$f":"C233","v":0},{"$f":"D233","v":0},{"$f":"MIN(INDIRECT(U233))","v":0},{"$f":"IF(G232<>0,\"to\",\"\")","v":""},{"$f":"IF(U232<>V232,MAX(INDIRECT(U233)),0)","v":0},{"$f":"MIN(INDIRECT(V233))","v":0},{"$f":"IF(J232<>0,\"to\",\"\")","v":""},{"$f":"IF(U232<>V232,MAX(INDIRECT(V233)),0)","v":0},{"$f":"K233","v":0},{"$f":"MIN(INDIRECT(W233))","v":0},{"$f":"IF(N232<>0,\"to\",\"\")","v":""},{"$f":"IF(U232<>V232,MAX(INDIRECT(W233)),0)","v":0},null,null,null,null,null,null,{"$f":"CELL(\"row\",P233)","v":233},{"$f":"CELL(\"row\",P233)","v":233},null,null,"<TR VALIGN=BOTTOM BGCOLOR=\"#FFFFCC\">",{"$f":"\"<TH NOWRAP ALIGN=LEFT><FONT FACE=\"\"Times New Roman\"\" SIZE=-1 COLOR=\"\"#0000CC\"\">\"&A232&\"</FONT></TH>\"","v":"<TH NOWRAP ALIGN=LEFT><FONT FACE=\"Times New Roman\" SIZE=-1 COLOR=\"#0000CC\">Village of Schuylerville</FONT></TH>"},"<TD NOWRAP ALIGN=RIGHT><FONT FACE=\"Times New Roman\" SIZE=-1>$0.00</FONT></TD>","<TD NOWRAP ALIGN=RIGHT><FONT FACE=\"Times New Roman\" SIZE=-1>$0.00</FONT></TD>","<TD NOWRAP ALIGN=RIGHT><FONT FACE=\"Times New Roman\" SIZE=-1>$0.00</FONT></TD>","<TD NOWRAP ALIGN=CENTER><FONT FACE=\"Times New Roman\" SIZE=-1>$0.00</FONT></TD>","<TD NOWRAP ALIGN=CENTER><FONT FACE=\"Times New Roman\" SIZE=-1>$0.00</FONT></TD>","<TD NOWRAP ALIGN=CENTER><FONT FACE=\"Times New Roman\" SIZE=-1>0.0000</FONT></TD>","<TD NOWRAP ALIGN=CENTER><FONT FACE=\"Times New Roman\" SIZE=-1>$0.00</FONT></TD>","</TR>"]
["Schuylerville CSD",{"$f":"'2017 Base Data'!F233","v":0},{"$f":"'2017 Base Data'!G233","v":0},{"$f":"'2017 Base Data'!H233","v":0},{"$f":"'2017 Base Data'!I233","v":0},null,null,{"$f":"'2017 Base Data'!J233","v":0},null,null,{"$f":"'2017 Base Data'!K233","v":0},{"$f":"'2017 Base Data'!R233","v":0},null,null,{"$f":"ROUND(IF(S233<>0,R233*D233+S233*SUM(B233:C233)+T233*E233,R233*SUM(B233:D233)+T233*E233),2)","v":0},{"$f":"L233-O233","v":0},null,{"$f":"'2017 Base Data'!K233","v":0},{"$f":"'2017 Base Data'!L233","v":0},{"$f":"'2017 Base Data'!M233","v":0},{"$f":"\"E\"&U232&\":\"&\"E\"&V232","v":"E233:E233"},{"$f":"\"H\"&U232&\":\"&\"H\"&V232","v":"H233:H233"},{"$f":"\"L\"&U232&\":\"&\"L\"&V232","v":"L233:L233"},null,"<TR VALIGN=BOTTOM>",{"$f":"\"<TD NOWRAP ALIGN=LEFT><FONT FACE=\"\"Times New Roman\"\" SIZE=-1 COLOR=#00AA00\"\">\"&A233&\"</FONT></TD>\"","v":"<TD NOWRAP ALIGN=LEFT><FONT FACE=\"Times New Roman\" SIZE=-1 COLOR=#00AA00\">Schuylerville CSD</FONT></TD>"},"<TD NOWRAP ALIGN=RIGHT><FONT FACE=\"Times New Roman\" SIZE=-1>$0.00</FONT></TD>","<TD NOWRAP ALIGN=RIGHT><FONT FACE=\"Times New Roman\" SIZE=-1>$0.00</FONT></TD>","<TD NOWRAP ALIGN=RIGHT><FONT FACE=\"Times New Roman\" SIZE=-1>$0.00</FONT></TD>","<TD NOWRAP ALIGN=CENTER><FONT FACE=\"Times New Roman\" SIZE=-1>$0.00</FONT></TD>","<TD NOWRAP ALIGN=CENTER><FONT FACE=\"Times New Roman\" SIZE=-1>$0.00</FONT></TD>","<TD NOWRAP ALIGN=CENTER><FONT FACE=\"Times New Roman\" SIZE=-1>0.0000</FONT></TD>","<TD NOWRAP ALIGN=CENTER><FONT FACE=\"Times New Roman\" SIZE=-1>$0.00</FONT></TD>","</TR>"]
["Village of Victory",{"$f":"B235","v":0},{"$f":"C235","v":0},{"$f":"D235","v":0},{"$f":"MIN(INDIRECT(U235))","v":0},{"$f":"IF(G234<>0,\"to\",\"\")","v":""},{"$f":"IF(U234<>V234,MAX(INDIRECT(U235)),0)","v":0},{"$f":"MIN(INDIRECT(V235))","v":0},{"$f":"IF(J234<>0,\"to\",\"\")","v":""},{"$f":"IF(U234<>V234,MAX(INDIRECT(V235)),0)","v":0},{"$f":"K235","v":0},{"$f":"MIN(INDIRECT(W235))","v":0},{"$f":"IF(N234<>0,\"to\",\"\")","v":""},{"$f":"IF(U234<>V234,MAX(INDIRECT(W235)),0)","v":0},null,null,null,null,null,null,{"$f":"CELL(\"row\",P235)","v":235},{"$f":"CELL(\"row\",P235)","v":235},null,null,"<TR VALIGN=BOTTOM BGCOLOR=\"#FFFFCC\">",{"$f":"\"<TH NOWRAP ALIGN=LEFT><FONT FACE=\"\"Times New Roman\"\" SIZE=-1 COLOR=\"\"#0000CC\"\">\"&A234&\"</FONT></TH>\"","v":"<TH NOWRAP ALIGN=LEFT><FONT FACE=\"Times New Roman\" SIZE=-1 COLOR=\"#0000CC\">Village of Victory</FONT></TH>"},"<TD NOWRAP ALIGN=RIGHT><FONT FACE=\"Times New Roman\" SIZE=-1>$0.00</FONT></TD>","<TD NOWRAP ALIGN=RIGHT><FONT FACE=\"Times New Roman\" SIZE=-1>$0.00</FONT></TD>","<TD NOWRAP ALIGN=RIGHT><FONT FACE=\"Times New Roman\" SIZE=-1>$0.00</FONT></TD>","<TD NOWRAP ALIGN=CENTER><FONT FACE=\"Times New Roman\" SIZE=-1>$0.00</FONT></TD>","<TD NOWRAP ALIGN=CENTER><FONT FACE=\"Times New Roman\" SIZE=-1>$0.00</FONT></TD>","<TD NOWRAP ALIGN=CENTER><FONT FACE=\"Times New Roman\" SIZE=-1>0.0000</FONT></TD>","<TD NOWRAP ALIGN=CENTER><FONT FACE=\"Times New Roman\" SIZE=-1>$0.00</FONT></TD>","</TR>"]
["Schuylerville CSD",{"$f":"'2017 Base Data'!F235","v":0},{"$f":"'2017 Base Data'!G235","v":0},{"$f":"'2017 Base Data'!H235","v":0},{"$f":"'2017 Base Data'!I235","v":0},null,null,{"$f":"'2017 Base Data'!J235","v":0},null,null,{"$f":"'2017 Base Data'!K235","v":0},{"$f":"'2017 Base Data'!R235","v":0},null,null,{"$f":"ROUND(IF(S235<>0,R235*D235+S235*SUM(B235:C235)+T235*E235,R235*SUM(B235:D235)+T235*E235),2)","v":0},{"$f":"L235-O235","v":0},null,{"$f":"'2017 Base Data'!K235","v":0},{"$f":"'2017 Base Data'!L235","v":0},{"$f":"'2017 Base Data'!M235","v":0},{"$f":"\"E\"&U234&\":\"&\"E\"&V234","v":"E235:E235"},{"$f":"\"H\"&U234&\":\"&\"H\"&V234","v":"H235:H235"},{"$f":"\"L\"&U234&\":\"&\"L\"&V234","v":"L235:L235"},null,"<TR VALIGN=BOTTOM>",{"$f":"\"<TD NOWRAP ALIGN=LEFT><FONT FACE=\"\"Times New Roman\"\" SIZE=-1 COLOR=#00AA00\"\">\"&A235&\"</FONT></TD>\"","v":"<TD NOWRAP ALIGN=LEFT><FONT FACE=\"Times New Roman\" SIZE=-1 COLOR=#00AA00\">Schuylerville CSD</FONT></TD>"},"<TD NOWRAP ALIGN=RIGHT><FONT FACE=\"Times New Roman\" SIZE=-1>$0.00</FONT></TD>","<TD NOWRAP ALIGN=RIGHT><FONT FACE=\"Times New Roman\" SIZE=-1>$0.00</FONT></TD>","<TD NOWRAP ALIGN=RIGHT><FONT FACE=\"Times New Roman\" SIZE=-1>$0.00</FONT></TD>","<TD NOWRAP ALIGN=CENTER><FONT FACE=\"Times New Roman\" SIZE=-1>$0.00</FONT></TD>","<TD NOWRAP ALIGN=CENTER><FONT FACE=\"Times New Roman\" SIZE=-1>$0.00</FONT></TD>","<TD NOWRAP ALIGN=CENTER><FONT FACE=\"Times New Roman\" SIZE=-1>0.0000</FONT></TD>","<TD NOWRAP ALIGN=CENTER><FONT FACE=\"Times New Roman\" SIZE=-1>$0.00</FONT></TD>","</TR>"]
["City of Saratoga Springs",{"$f":"B237","v":0},null,{"$f":"D237","v":0},{"$f":"MIN(INDIRECT(U237))","v":0},{"$f":"IF(G236<>0,\"to\",\"\")","v":""},{"$f":"IF(U236<>V236,MAX(INDIRECT(U237)),0)","v":0},{"$f":"MIN(INDIRECT(V237))","v":0},{"$f":"IF(J236<>0,\"to\",\"\")","v":""},{"$f":"IF(U236<>V236,MAX(INDIRECT(V237)),0)","v":0},{"$f":"K237","v":0},{"$f":"MIN(INDIRECT(W237))","v":0},{"$f":"IF(N236<>0,\"to\",\"\")","v":""},{"$f":"IF(U236<>V236,MAX(INDIRECT(W237)),0)","v":0},null,null,null,null,null,null,{"$f":"CELL(\"row\",P237)","v":237},{"$f":"CELL(\"row\",P237)","v":237},null,null,"<TR VALIGN=BOTTOM BGCOLOR=\"#FFFFCC\">",{"$f":"\"<TH NOWRAP ALIGN=LEFT><FONT FACE=\"\"Times New Roman\"\" SIZE=-1 COLOR=#800000\"\">\"&A236&\"</FONT></TH>\"","v":"<TH NOWRAP ALIGN=LEFT><FONT FACE=\"Times New Roman\" SIZE=-1 COLOR=#800000\">City of Saratoga Springs</FONT></TH>"},"<TD NOWRAP ALIGN=RIGHT><FONT FACE=\"Times New Roman\" SIZE=-1>$0.00</FONT></TD>","<TD NOWRAP ALIGN=RIGHT><FONT FACE=\"Times New Roman\" SIZE=-1><BR></FONT></TD>","<TD NOWRAP ALIGN=RIGHT><FONT FACE=\"Times New Roman\" SIZE=-1>$0.00</FONT></TD>","<TD NOWRAP ALIGN=CENTER><FONT FACE=\"Times New Roman\" SIZE=-1>$0.00</FONT></TD>","<TD NOWRAP ALIGN=CENTER><FONT FACE=\"Times New Roman\" SIZE=-1>$0.00</FONT></TD>","<TD NOWRAP ALIGN=CENTER><FONT FACE=\"Times New Roman\" SIZE=-1>0.0000</FONT></TD>","<TD NOWRAP ALIGN=CENTER><FONT FACE=\"Times New Roman\" SIZE=-1>$0.00</FONT></TD>","</TR>"]
["Saratoga Springs City SD",{"$f":"'2017 Base Data'!F237","v":0},null,{"$f":"'2017 Base Data'!H237","v":0},{"$f":"'2017 Base Data'!I237","v":0},null,null,{"$f":"'2017 Base Data'!J237","v":0},null,null,{"$f":"'2017 Base Data'!K237","v":0},{"$f":"'2017 Base Data'!R237","v":0},null,null,{"$f":"ROUND(IF(S237<>0,R237*D237+S237*SUM(B237:C237)+T237*E237,R237*SUM(B237:D237)+T237*E237),2)","v":0},{"$f":"L237-O237","v":0},null,{"$f":"'2017 Base Data'!K237","v":0},{"$f":"'2017 Base Data'!L237","v":0},{"$f":"'2017 Base Data'!M237","v":0},{"$f":"\"E\"&U236&\":\"&\"E\"&V236","v":"E237:E237"},{"$f":"\"H\"&U236&\":\"&\"H\"&V236","v":"H237:H237"},{"$f":"\"L\"&U236&\":\"&\"L\"&V236","v":"L237:L237"},null,"<TR VALIGN=BOTTOM>",{"$f":"\"<TD NOWRAP ALIGN=LEFT><FONT FACE=\"\"Times New Roman\"\" SIZE=-1 COLOR=#00AA00\"\">\"&A237&\"</FONT></TD>\"","v":"<TD NOWRAP ALIGN=LEFT><FONT FACE=\"Times New Roman\" SIZE=-1 COLOR=#00AA00\">Saratoga Springs City SD</FONT></TD>"},"<TD NOWRAP ALIGN=RIGHT><FONT FACE=\"Times New Roman\" SIZE=-1>$0.00</FONT></TD>","<TD NOWRAP ALIGN=RIGHT><FONT FACE=\"Times New Roman\" SIZE=-1><BR></FONT></TD>","<TD NOWRAP ALIGN=RIGHT><FONT FACE=\"Times New Roman\" SIZE=-1>$0.00</FONT></TD>","<TD NOWRAP ALIGN=CENTER><FONT FACE=\"Times New Roman\" SIZE=-1>$0.00</FONT></TD>","<TD NOWRAP ALIGN=CENTER><FONT FACE=\"Times New Roman\" SIZE=-1>$0.00</FONT></TD>","<TD NOWRAP ALIGN=CENTER><FONT FACE=\"Times New Roman\" SIZE=-1>0.0000</FONT></TD>","<TD NOWRAP ALIGN=CENTER><FONT FACE=\"Times New Roman\" SIZE=-1>$0.00</FONT></TD>","</TR>"]
["Town of Stillwater",{"$f":"B239","v":0},{"$f":"C239","v":0},null,{"$f":"MIN(INDIRECT(U239))","v":0},{"$f":"IF(G238<>0,\"to\",\"\")","v":""},{"$f":"IF(U238<>V238,MAX(INDIRECT(U239)),0)","v":0},{"$f":"MIN(INDIRECT(V239))","v":0},{"$f":"IF(J238<>0,\"to\",\"\")","v":""},{"$f":"IF(U238<>V238,MAX(INDIRECT(V239)),0)","v":0},{"$f":"K239","v":0},{"$f":"MIN(INDIRECT(W239))","v":0},{"$f":"IF(N238<>0,\"to\",\"\")","v":""},{"$f":"IF(U238<>V238,MAX(INDIRECT(W239)),0)","v":0},null,null,null,null,null,null,{"$f":"CELL(\"row\",P239)","v":239},{"$f":"CELL(\"row\",P242)","v":242},null,null,"<TR VALIGN=BOTTOM BGCOLOR=\"#FFFFCC\">",{"$f":"\"<TH NOWRAP ALIGN=LEFT><FONT FACE=\"\"Times New Roman\"\" SIZE=-1>\"&A238&\"</FONT></TH>\"","v":"<TH NOWRAP ALIGN=LEFT><FONT FACE=\"Times New Roman\" SIZE=-1>Town of Stillwater</FONT></TH>"},"<TD NOWRAP ALIGN=RIGHT><FONT FACE=\"Times New Roman\" SIZE=-1>$0.00</FONT></TD>","<TD NOWRAP ALIGN=RIGHT><FONT FACE=\"Times New Roman\" SIZE=-1>$0.00</FONT></TD>","<TD NOWRAP ALIGN=RIGHT><FONT FACE=\"Times New Roman\" SIZE=-1><BR></FONT></TD>","<TD NOWRAP ALIGN=CENTER><FONT FACE=\"Times New Roman\" SIZE=-1>$0.00</FONT></TD>","<TD NOWRAP ALIGN=CENTER><FONT FACE=\"Times New Roman\" SIZE=-1>$0.00</FONT></TD>","<TD NOWRAP ALIGN=CENTER><FONT FACE=\"Times New Roman\" SIZE=-1>0.0000</FONT></TD>","<TD NOWRAP ALIGN=CENTER><FONT FACE=\"Times New Roman\" SIZE=-1>$0.00</FONT></TD>","</TR>"]
["Mechanicville City SD",{"$f":"'2017 Base Data'!F239","v":0},{"$f":"'2017 Base Data'!G239","v":0},null,{"$f":"'2017 Base Data'!I239","v":0},null,null,{"$f":"'2017 Base Data'!J239","v":0},null,null,{"$f":"'2017 Base Data'!K239","v":0},{"$f":"'2017 Base Data'!R239","v":0},null,null,{"$f":"ROUND(IF(S239<>0,R239*D239+S239*SUM(B239:C239)+T239*E239,R239*SUM(B239:D239)+T239*E239),2)","v":0},{"$f":"L239-O239","v":0},null,{"$f":"'2017 Base Data'!K239","v":0},{"$f":"'2017 Base Data'!L239","v":0},{"$f":"'2017 Base Data'!M239","v":0},{"$f":"\"E\"&U238&\":\"&\"E\"&V238","v":"E239:E242"},{"$f":"\"H\"&U238&\":\"&\"H\"&V238","v":"H239:H242"},{"$f":"\"L\"&U238&\":\"&\"L\"&V238","v":"L239:L242"},null,"<TR VALIGN=BOTTOM>",{"$f":"\"<TD NOWRAP ALIGN=LEFT><FONT FACE=\"\"Times New Roman\"\" SIZE=-1 COLOR=#00AA00\"\">\"&A239&\"</FONT></TD>\"","v":"<TD NOWRAP ALIGN=LEFT><FONT FACE=\"Times New Roman\" SIZE=-1 COLOR=#00AA00\">Mechanicville City SD</FONT></TD>"},"<TD NOWRAP ALIGN=RIGHT><FONT FACE=\"Times New Roman\" SIZE=-1>$0.00</FONT></TD>","<TD NOWRAP ALIGN=RIGHT><FONT FACE=\"Times New Roman\" SIZE=-1>$0.00</FONT></TD>","<TD NOWRAP ALIGN=RIGHT><FONT FACE=\"Times New Roman\" SIZE=-1><BR></FONT></TD>","<TD NOWRAP ALIGN=CENTER><FONT FACE=\"Times New Roman\" SIZE=-1>$0.00</FONT></TD>","<TD NOWRAP ALIGN=CENTER><FONT FACE=\"Times New Roman\" SIZE=-1>$0.00</FONT></TD>","<TD NOWRAP ALIGN=CENTER><FONT FACE=\"Times New Roman\" SIZE=-1>0.0000</FONT></TD>","<TD NOWRAP ALIGN=CENTER><FONT FACE=\"Times New Roman\" SIZE=-1>$0.00</FONT></TD>","</TR>"]
["Schuylerville CSD",{"$f":"'2017 Base Data'!F240","v":0},{"$f":"'2017 Base Data'!G240","v":0},null,{"$f":"'2017 Base Data'!I240","v":0},null,null,{"$f":"'2017 Base Data'!J240","v":0},null,null,{"$f":"'2017 Base Data'!K240","v":0},{"$f":"'2017 Base Data'!R240","v":0},null,null,{"$f":"ROUND(IF(S240<>0,R240*D240+S240*SUM(B240:C240)+T240*E240,R240*SUM(B240:D240)+T240*E240),2)","v":0},{"$f":"L240-O240","v":0},null,{"$f":"'2017 Base Data'!K240","v":0},{"$f":"'2017 Base Data'!L240","v":0},{"$f":"'2017 Base Data'!M240","v":0},null,null,null,null,"<TR VALIGN=BOTTOM>",{"$f":"\"<TD NOWRAP ALIGN=LEFT><FONT FACE=\"\"Times New Roman\"\" SIZE=-1 COLOR=#00AA00\"\">\"&A240&\"</FONT></TD>\"","v":"<TD NOWRAP ALIGN=LEFT><FONT FACE=\"Times New Roman\" SIZE=-1 COLOR=#00AA00\">Schuylerville CSD</FONT></TD>"},"<TD NOWRAP ALIGN=RIGHT><FONT FACE=\"Times New Roman\" SIZE=-1>$0.00</FONT></TD>","<TD NOWRAP ALIGN=RIGHT><FONT FACE=\"Times New Roman\" SIZE=-1>$0.00</FONT></TD>","<TD NOWRAP ALIGN=RIGHT><FONT FACE=\"Times New Roman\" SIZE=-1><BR></FONT></TD>","<TD NOWRAP ALIGN=CENTER><FONT FACE=\"Times New Roman\" SIZE=-1>$0.00</FONT></TD>","<TD NOWRAP ALIGN=CENTER><FONT FACE=\"Times New Roman\" SIZE=-1>$0.00</FONT></TD>","<TD NOWRAP ALIGN=CENTER><FONT FACE=\"Times New Roman\" SIZE=-1>0.0000</FONT></TD>","<TD NOWRAP ALIGN=CENTER><FONT FACE=\"Times New Roman\" SIZE=-1>$0.00</FONT></TD>","</TR>"]
["Shenendehowa CSD",{"$f":"'2017 Base Data'!F241","v":0},{"$f":"'2017 Base Data'!G241","v":0},null,{"$f":"'2017 Base Data'!I241","v":0},null,null,{"$f":"'2017 Base Data'!J241","v":0},null,null,{"$f":"'2017 Base Data'!K241","v":0},{"$f":"'2017 Base Data'!R241","v":0},null,null,{"$f":"ROUND(IF(S241<>0,R241*D241+S241*SUM(B241:C241)+T241*E241,R241*SUM(B241:D241)+T241*E241),2)","v":0},{"$f":"L241-O241","v":0},null,{"$f":"'2017 Base Data'!K241","v":0},{"$f":"'2017 Base Data'!L241","v":0},{"$f":"'2017 Base Data'!M241","v":0},null,null,null,null,"<TR VALIGN=BOTTOM>",{"$f":"\"<TD NOWRAP ALIGN=LEFT><FONT FACE=\"\"Times New Roman\"\" SIZE=-1 COLOR=#00AA00\"\">\"&A241&\"</FONT></TD>\"","v":"<TD NOWRAP ALIGN=LEFT><FONT FACE=\"Times New Roman\" SIZE=-1 COLOR=#00AA00\">Shenendehowa CSD</FONT></TD>"},"<TD NOWRAP ALIGN=RIGHT><FONT FACE=\"Times New Roman\" SIZE=-1>$0.00</FONT></TD>","<TD NOWRAP ALIGN=RIGHT><FONT FACE=\"Times New Roman\" SIZE=-1>$0.00</FONT></TD>","<TD NOWRAP ALIGN=RIGHT><FONT FACE=\"Times New Roman\" SIZE=-1><BR></FONT></TD>","<TD NOWRAP ALIGN=CENTER><FONT FACE=\"Times New Roman\" SIZE=-1>$0.00</FONT></TD>","<TD NOWRAP ALIGN=CENTER><FONT FACE=\"Times New Roman\" SIZE=-1>$0.00</FONT></TD>","<TD NOWRAP ALIGN=CENTER><FONT FACE=\"Times New Roman\" SIZE=-1>0.0000</FONT></TD>","<TD NOWRAP ALIGN=CENTER><FONT FACE=\"Times New Roman\" SIZE=-1>$0.00</FONT></TD>","</TR>"]
["Stillwater CSD",{"$f":"'2017 Base Data'!F242","v":0},{"$f":"'2017 Base Data'!G242","v":0},null,{"$f":"'2017 Base Data'!I242","v":0},null,null,{"$f":"'2017 Base Data'!J242","v":0},null,null,{"$f":"'2017 Base Data'!K242","v":0},{"$f":"'2017 Base Data'!R242","v":0},null,null,{"$f":"ROUND(IF(S242<>0,R242*D242+S242*SUM(B242:C242)+T242*E242,R242*SUM(B242:D242)+T242*E242),2)","v":0},{"$f":"L242-O242","v":0},null,{"$f":"'2017 Base Data'!K242","v":0},{"$f":"'2017 Base Data'!L242","v":0},{"$f":"'2017 Base Data'!M242","v":0},null,null,null,null,"<TR VALIGN=BOTTOM>",{"$f":"\"<TD NOWRAP ALIGN=LEFT><FONT FACE=\"\"Times New Roman\"\" SIZE=-1 COLOR=#00AA00\"\">\"&A242&\"</FONT></TD>\"","v":"<TD NOWRAP ALIGN=LEFT><FONT FACE=\"Times New Roman\" SIZE=-1 COLOR=#00AA00\">Stillwater CSD</FONT></TD>"},"<TD NOWRAP ALIGN=RIGHT><FONT FACE=\"Times New Roman\" SIZE=-1>$0.00</FONT></TD>","<TD NOWRAP ALIGN=RIGHT><FONT FACE=\"Times New Roman\" SIZE=-1>$0.00</FONT></TD>","<TD NOWRAP ALIGN=RIGHT><FONT FACE=\"Times New Roman\" SIZE=-1><BR></FONT></TD>","<TD NOWRAP ALIGN=CENTER><FONT FACE=\"Times New Roman\" SIZE=-1>$0.00</FONT></TD>","<TD NOWRAP ALIGN=CENTER><FONT FACE=\"Times New Roman\" SIZE=-1>$0.00</FONT></TD>","<TD NOWRAP ALIGN=CENTER><FONT FACE=\"Times New Roman\" SIZE=-1>0.0000</FONT></TD>","<TD NOWRAP ALIGN=CENTER><FONT FACE=\"Times New Roman\" SIZE=-1>$0.00</FONT></TD>","</TR>"]
["Village of Stillwater",{"$f":"B244","v":0},{"$f":"C244","v":0},{"$f":"D244","v":0},{"$f":"MIN(INDIRECT(U244))","v":0},{"$f":"IF(G243<>0,\"to\",\"\")","v":""},{"$f":"IF(U243<>V243,MAX(INDIRECT(U244)),0)","v":0},{"$f":"MIN(INDIRECT(V244))","v":0},{"$f":"IF(J243<>0,\"to\",\"\")","v":""},{"$f":"IF(U243<>V243,MAX(INDIRECT(V244)),0)","v":0},{"$f":"K244","v":0},{"$f":"MIN(INDIRECT(W244))","v":0},{"$f":"IF(N243<>0,\"to\",\"\")","v":""},{"$f":"IF(U243<>V243,MAX(INDIRECT(W244)),0)","v":0},null,null,null,null,null,null,{"$f":"CELL(\"row\",P244)","v":244},{"$f":"CELL(\"row\",P244)","v":244},null,null,"<TR VALIGN=BOTTOM BGCOLOR=\"#FFFFCC\">",{"$f":"\"<TH NOWRAP ALIGN=LEFT><FONT FACE=\"\"Times New Roman\"\" SIZE=-1 COLOR=\"\"#0000CC\"\">\"&A243&\"</FONT></TH>\"","v":"<TH NOWRAP ALIGN=LEFT><FONT FACE=\"Times New Roman\" SIZE=-1 COLOR=\"#0000CC\">Village of Stillwater</FONT></TH>"},"<TD NOWRAP ALIGN=RIGHT><FONT FACE=\"Times New Roman\" SIZE=-1>$0.00</FONT></TD>","<TD NOWRAP ALIGN=RIGHT><FONT FACE=\"Times New Roman\" SIZE=-1>$0.00</FONT></TD>","<TD NOWRAP ALIGN=RIGHT><FONT FACE=\"Times New Roman\" SIZE=-1>$0.00</FONT></TD>","<TD NOWRAP ALIGN=CENTER><FONT FACE=\"Times New Roman\" SIZE=-1>$0.00</FONT></TD>","<TD NOWRAP ALIGN=CENTER><FONT FACE=\"Times New Roman\" SIZE=-1>$0.00</FONT></TD>","<TD NOWRAP ALIGN=CENTER><FONT FACE=\"Times New Roman\" SIZE=-1>0.0000</FONT></TD>","<TD NOWRAP ALIGN=CENTER><FONT FACE=\"Times New Roman\" SIZE=-1>$0.00</FONT></TD>","</TR>"]
["Stillwater CSD",{"$f":"'2017 Base Data'!F244","v":0},{"$f":"'2017 Base Data'!G244","v":0},{"$f":"'2017 Base Data'!H244","v":0},{"$f":"'2017 Base Data'!I244","v":0},null,null,{"$f":"'2017 Base Data'!J244","v":0},null,null,{"$f":"'2017 Base Data'!K244","v":0},{"$f":"'2017 Base Data'!R244","v":0},null,null,{"$f":"ROUND(IF(S244<>0,R244*D244+S244*SUM(B244:C244)+T244*E244,R244*SUM(B244:D244)+T244*E244),2)","v":0},{"$f":"L244-O244","v":0},null,{"$f":"'2017 Base Data'!K244","v":0},{"$f":"'2017 Base Data'!L244","v":0},{"$f":"'2017 Base Data'!M244","v":0},{"$f":"\"E\"&U243&\":\"&\"E\"&V243","v":"E244:E244"},{"$f":"\"H\"&U243&\":\"&\"H\"&V243","v":"H244:H244"},{"$f":"\"L\"&U243&\":\"&\"L\"&V243","v":"L244:L244"},null,"<TR VALIGN=BOTTOM>",{"$f":"\"<TD NOWRAP ALIGN=LEFT><FONT FACE=\"\"Times New Roman\"\" SIZE=-1 COLOR=#00AA00\"\">\"&A244&\"</FONT></TD>\"","v":"<TD NOWRAP ALIGN=LEFT><FONT FACE=\"Times New Roman\" SIZE=-1 COLOR=#00AA00\">Stillwater CSD</FONT></TD>"},"<TD NOWRAP ALIGN=RIGHT><FONT FACE=\"Times New Roman\" SIZE=-1>$0.00</FONT></TD>","<TD NOWRAP ALIGN=RIGHT><FONT FACE=\"Times New Roman\" SIZE=-1>$0.00</FONT></TD>","<TD NOWRAP ALIGN=RIGHT><FONT FACE=\"Times New Roman\" SIZE=-1>$0.00</FONT></TD>","<TD NOWRAP ALIGN=CENTER><FONT FACE=\"Times New Roman\" SIZE=-1>$0.00</FONT></TD>","<TD NOWRAP ALIGN=CENTER><FONT FACE=\"Times New Roman\" SIZE=-1>$0.00</FONT></TD>","<TD NOWRAP ALIGN=CENTER><FONT FACE=\"Times New Roman\" SIZE=-1>0.0000</FONT></TD>","<TD NOWRAP ALIGN=CENTER><FONT FACE=\"Times New Roman\" SIZE=-1>$0.00</FONT></TD>","</TR>"]
["Town of Waterford",{"$f":"B246","v":0},{"$f":"C246","v":0},null,{"$f":"MIN(INDIRECT(U246))","v":0},{"$f":"IF(G245<>0,\"to\",\"\")","v":""},{"$f":"IF(U245<>V245,MAX(INDIRECT(U246)),0)","v":0},{"$f":"MIN(INDIRECT(V246))","v":0},{"$f":"IF(J245<>0,\"to\",\"\")","v":""},{"$f":"IF(U245<>V245,MAX(INDIRECT(V246)),0)","v":0},{"$f":"K246","v":0},{"$f":"MIN(INDIRECT(W246))","v":0},{"$f":"IF(N245<>0,\"to\",\"\")","v":""},{"$f":"IF(U245<>V245,MAX(INDIRECT(W246)),0)","v":0},null,null,null,null,null,null,{"$f":"CELL(\"row\",P246)","v":246},{"$f":"CELL(\"row\",P247)","v":247},null,null,"<TR VALIGN=BOTTOM BGCOLOR=\"#FFFFCC\">",{"$f":"\"<TH NOWRAP ALIGN=LEFT><FONT FACE=\"\"Times New Roman\"\" SIZE=-1>\"&A245&\"</FONT></TH>\"","v":"<TH NOWRAP ALIGN=LEFT><FONT FACE=\"Times New Roman\" SIZE=-1>Town of Waterford</FONT></TH>"},"<TD NOWRAP ALIGN=RIGHT><FONT FACE=\"Times New Roman\" SIZE=-1>$0.00</FONT></TD>","<TD NOWRAP ALIGN=RIGHT><FONT FACE=\"Times New Roman\" SIZE=-1>$0.00</FONT></TD>","<TD NOWRAP ALIGN=RIGHT><FONT FACE=\"Times New Roman\" SIZE=-1><BR></FONT></TD>","<TD NOWRAP ALIGN=CENTER><FONT FACE=\"Times New Roman\" SIZE=-1>$0.00</FONT></TD>","<TD NOWRAP ALIGN=CENTER><FONT FACE=\"Times New Roman\" SIZE=-1>$0.00</FONT></TD>","<TD NOWRAP ALIGN=CENTER><FONT FACE=\"Times New Roman\" SIZE=-1>0.0000</FONT></TD>","<TD NOWRAP ALIGN=CENTER><FONT FACE=\"Times New Roman\" SIZE=-1>$0.00</FONT></TD>","</TR>"]
["Shenendehowa CSD",{"$f":"'2017 Base Data'!F246","v":0},{"$f":"'2017 Base Data'!G246","v":0},null,{"$f":"'2017 Base Data'!I246","v":0},null,null,{"$f":"'2017 Base Data'!J246","v":0},null,null,{"$f":"'2017 Base Data'!K246","v":0},{"$f":"'2017 Base Data'!R246","v":0},null,null,{"$f":"ROUND(IF(S246<>0,R246*D246+S246*SUM(B246:C246)+T246*E246,R246*SUM(B246:D246)+T246*E246),2)","v":0},{"$f":"L246-O246","v":0},null,{"$f":"'2017 Base Data'!K246","v":0},{"$f":"'2017 Base Data'!L246","v":0},{"$f":"'2017 Base Data'!M246","v":0},{"$f":"\"E\"&U245&\":\"&\"E\"&V245","v":"E246:E247"},{"$f":"\"H\"&U245&\":\"&\"H\"&V245","v":"H246:H247"},{"$f":"\"L\"&U245&\":\"&\"L\"&V245","v":"L246:L247"},null,"<TR VALIGN=BOTTOM>",{"$f":"\"<TD NOWRAP ALIGN=LEFT><FONT FACE=\"\"Times New Roman\"\" SIZE=-1 COLOR=#00AA00\"\">\"&A246&\"</FONT></TD>\"","v":"<TD NOWRAP ALIGN=LEFT><FONT FACE=\"Times New Roman\" SIZE=-1 COLOR=#00AA00\">Shenendehowa CSD</FONT></TD>"},"<TD NOWRAP ALIGN=RIGHT><FONT FACE=\"Times New Roman\" SIZE=-1>$0.00</FONT></TD>","<TD NOWRAP ALIGN=RIGHT><FONT FACE=\"Times New Roman\" SIZE=-1>$0.00</FONT></TD>","<TD NOWRAP ALIGN=RIGHT><FONT FACE=\"Times New Roman\" SIZE=-1><BR></FONT></TD>","<TD NOWRAP ALIGN=CENTER><FONT FACE=\"Times New Roman\" SIZE=-1>$0.00</FONT></TD>","<TD NOWRAP ALIGN=CENTER><FONT FACE=\"Times New Roman\" SIZE=-1>$0.00</FONT></TD>","<TD NOWRAP ALIGN=CENTER><FONT FACE=\"Times New Roman\" SIZE=-1>0.0000</FONT></TD>","<TD NOWRAP ALIGN=CENTER><FONT FACE=\"Times New Roman\" SIZE=-1>$0.00</FONT></TD>","</TR>"]
["Waterford-Halfmoon UFSD",{"$f":"'2017 Base Data'!F247","v":0},{"$f":"'2017 Base Data'!G247","v":0},null,{"$f":"'2017 Base Data'!I247","v":0},null,null,{"$f":"'2017 Base Data'!J247","v":0},null,null,{"$f":"'2017 Base Data'!K247","v":0},{"$f":"'2017 Base Data'!R247","v":0},null,null,{"$f":"ROUND(IF(S247<>0,R247*D247+S247*SUM(B247:C247)+T247*E247,R247*SUM(B247:D247)+T247*E247),2)","v":0},{"$f":"L247-O247","v":0},null,{"$f":"'2017 Base Data'!K247","v":0},{"$f":"'2017 Base Data'!L247","v":0},{"$f":"'2017 Base Data'!M247","v":0},null,null,null,null,"<TR VALIGN=BOTTOM>",{"$f":"\"<TD NOWRAP ALIGN=LEFT><FONT FACE=\"\"Times New Roman\"\" SIZE=-1 COLOR=#00AA00\"\">\"&A247&\"</FONT></TD>\"","v":"<TD NOWRAP ALIGN=LEFT><FONT FACE=\"Times New Roman\" SIZE=-1 COLOR=#00AA00\">Waterford-Halfmoon UFSD</FONT></TD>"},"<TD NOWRAP ALIGN=RIGHT><FONT FACE=\"Times New Roman\" SIZE=-1>$0.00</FONT></TD>","<TD NOWRAP ALIGN=RIGHT><FONT FACE=\"Times New Roman\" SIZE=-1>$0.00</FONT></TD>","<TD NOWRAP ALIGN=RIGHT><FONT FACE=\"Times New Roman\" SIZE=-1><BR></FONT></TD>","<TD NOWRAP ALIGN=CENTER><FONT FACE=\"Times New Roman\" SIZE=-1>$0.00</FONT></TD>","<TD NOWRAP ALIGN=CENTER><FONT FACE=\"Times New Roman\" SIZE=-1>$0.00</FONT></TD>","<TD NOWRAP ALIGN=CENTER><FONT FACE=\"Times New Roman\" SIZE=-1>0.0000</FONT></TD>","<TD NOWRAP ALIGN=CENTER><FONT FACE=\"Times New Roman\" SIZE=-1>$0.00</FONT></TD>","</TR>"]
["Village of Waterford",{"$f":"B249","v":0},{"$f":"C249","v":0},{"$f":"D249","v":0},{"$f":"MIN(INDIRECT(U249))","v":0},{"$f":"IF(G248<>0,\"to\",\"\")","v":""},{"$f":"IF(U248<>V248,MAX(INDIRECT(U249)),0)","v":0},{"$f":"MIN(INDIRECT(V249))","v":0},{"$f":"IF(J248<>0,\"to\",\"\")","v":""},{"$f":"IF(U248<>V248,MAX(INDIRECT(V249)),0)","v":0},{"$f":"K249","v":0},{"$f":"MIN(INDIRECT(W249))","v":0},{"$f":"IF(N248<>0,\"to\",\"\")","v":""},{"$f":"IF(U248<>V248,MAX(INDIRECT(W249)),0)","v":0},null,null,null,null,null,null,{"$f":"CELL(\"row\",P249)","v":249},{"$f":"CELL(\"row\",P249)","v":249},null,null,"<TR VALIGN=BOTTOM BGCOLOR=\"#FFFFCC\">",{"$f":"\"<TH NOWRAP ALIGN=LEFT><FONT FACE=\"\"Times New Roman\"\" SIZE=-1 COLOR=\"\"#0000CC\"\">\"&A248&\"</FONT></TH>\"","v":"<TH NOWRAP ALIGN=LEFT><FONT FACE=\"Times New Roman\" SIZE=-1 COLOR=\"#0000CC\">Village of Waterford</FONT></TH>"},"<TD NOWRAP ALIGN=RIGHT><FONT FACE=\"Times New Roman\" SIZE=-1>$0.00</FONT></TD>","<TD NOWRAP ALIGN=RIGHT><FONT FACE=\"Times New Roman\" SIZE=-1>$0.00</FONT></TD>","<TD NOWRAP ALIGN=RIGHT><FONT FACE=\"Times New Roman\" SIZE=-1>$0.00</FONT></TD>","<TD NOWRAP ALIGN=CENTER><FONT FACE=\"Times New Roman\" SIZE=-1>$0.00</FONT></TD>","<TD NOWRAP ALIGN=CENTER><FONT FACE=\"Times New Roman\" SIZE=-1>$0.00</FONT></TD>","<TD NOWRAP ALIGN=CENTER><FONT FACE=\"Times New Roman\" SIZE=-1>0.0000</FONT></TD>","<TD NOWRAP ALIGN=CENTER><FONT FACE=\"Times New Roman\" SIZE=-1>$0.00</FONT></TD>","</TR>"]
["Waterford-Halfmoon UFSD",{"$f":"'2017 Base Data'!F249","v":0},{"$f":"'2017 Base Data'!G249","v":0},{"$f":"'2017 Base Data'!H249","v":0},{"$f":"'2017 Base Data'!I249","v":0},null,null,{"$f":"'2017 Base Data'!J249","v":0},null,null,{"$f":"'2017 Base Data'!K249","v":0},{"$f":"'2017 Base Data'!R249","v":0},null,null,{"$f":"ROUND(IF(S249<>0,R249*D249+S249*SUM(B249:C249)+T249*E249,R249*SUM(B249:D249)+T249*E249),2)","v":0},{"$f":"L249-O249","v":0},null,{"$f":"'2017 Base Data'!K249","v":0},{"$f":"'2017 Base Data'!L249","v":0},{"$f":"'2017 Base Data'!M249","v":0},{"$f":"\"E\"&U248&\":\"&\"E\"&V248","v":"E249:E249"},{"$f":"\"H\"&U248&\":\"&\"H\"&V248","v":"H249:H249"},{"$f":"\"L\"&U248&\":\"&\"L\"&V248","v":"L249:L249"},null,"<TR VALIGN=BOTTOM>",{"$f":"\"<TD NOWRAP ALIGN=LEFT><FONT FACE=\"\"Times New Roman\"\" SIZE=-1 COLOR=#00AA00\"\">\"&A249&\"</FONT></TD>\"","v":"<TD NOWRAP ALIGN=LEFT><FONT FACE=\"Times New Roman\" SIZE=-1 COLOR=#00AA00\">Waterford-Halfmoon UFSD</FONT></TD>"},"<TD NOWRAP ALIGN=RIGHT><FONT FACE=\"Times New Roman\" SIZE=-1>$0.00</FONT></TD>","<TD NOWRAP ALIGN=RIGHT><FONT FACE=\"Times New Roman\" SIZE=-1>$0.00</FONT></TD>","<TD NOWRAP ALIGN=RIGHT><FONT FACE=\"Times New Roman\" SIZE=-1>$0.00</FONT></TD>","<TD NOWRAP ALIGN=CENTER><FONT FACE=\"Times New Roman\" SIZE=-1>$0.00</FONT></TD>","<TD NOWRAP ALIGN=CENTER><FONT FACE=\"Times New Roman\" SIZE=-1>$0.00</FONT></TD>","<TD NOWRAP ALIGN=CENTER><FONT FACE=\"Times New Roman\" SIZE=-1>0.0000</FONT></TD>","<TD NOWRAP ALIGN=CENTER><FONT FACE=\"Times New Roman\" SIZE=-1>$0.00</FONT></TD>","</TR>"]
["Town of Wilton",{"$f":"B251","v":0},null,null,{"$f":"MIN(INDIRECT(U251))","v":0},{"$f":"IF(G250<>0,\"to\",\"\")","v":""},{"$f":"IF(U250<>V250,MAX(INDIRECT(U251)),0)","v":0},{"$f":"MIN(INDIRECT(V251))","v":0},{"$f":"IF(J250<>0,\"to\",\"\")","v":""},{"$f":"IF(U250<>V250,MAX(INDIRECT(V251)),0)","v":0},{"$f":"K251","v":0},{"$f":"MIN(INDIRECT(W251))","v":0},{"$f":"IF(N250<>0,\"to\",\"\")","v":""},{"$f":"IF(U250<>V250,MAX(INDIRECT(W251)),0)","v":0},null,null,null,null,null,null,{"$f":"CELL(\"row\",P251)","v":251},{"$f":"CELL(\"row\",P254)","v":254},null,null,"<TR VALIGN=BOTTOM BGCOLOR=\"#FFFFCC\">",{"$f":"\"<TH NOWRAP ALIGN=LEFT><FONT FACE=\"\"Times New Roman\"\" SIZE=-1>\"&A250&\"</FONT></TH>\"","v":"<TH NOWRAP ALIGN=LEFT><FONT FACE=\"Times New Roman\" SIZE=-1>Town of Wilton</FONT></TH>"},"<TD NOWRAP ALIGN=RIGHT><FONT FACE=\"Times New Roman\" SIZE=-1>$0.00</FONT></TD>","<TD NOWRAP ALIGN=RIGHT><FONT FACE=\"Times New Roman\" SIZE=-1><BR></FONT></TD>","<TD NOWRAP ALIGN=RIGHT><FONT FACE=\"Times New Roman\" SIZE=-1><BR></FONT></TD>","<TD NOWRAP ALIGN=CENTER><FONT FACE=\"Times New Roman\" SIZE=-1>$0.00</FONT></TD>","<TD NOWRAP ALIGN=CENTER><FONT FACE=\"Times New Roman\" SIZE=-1>$0.00</FONT></TD>","<TD NOWRAP ALIGN=CENTER><FONT FACE=\"Times New Roman\" SIZE=-1>0.0000</FONT></TD>","<TD NOWRAP ALIGN=CENTER><FONT FACE=\"Times New Roman\" SIZE=-1>$0.00</FONT></TD>","</TR>"]
["Corinth CSD",{"$f":"'2017 Base Data'!F251","v":0},null,null,{"$f":"'2017 Base Data'!I251","v":0},null,null,{"$f":"'2017 Base Data'!J251","v":0},null,null,{"$f":"'2017 Base Data'!K251","v":0},{"$f":"'2017 Base Data'!R251","v":0},null,null,{"$f":"ROUND(IF(S251<>0,R251*D251+S251*SUM(B251:C251)+T251*E251,R251*SUM(B251:D251)+T251*E251),2)","v":0},{"$f":"L251-O251","v":0},null,{"$f":"'2017 Base Data'!K251","v":0},{"$f":"'2017 Base Data'!L251","v":0},{"$f":"'2017 Base Data'!M251","v":0},{"$f":"\"E\"&U250&\":\"&\"E\"&V250","v":"E251:E254"},{"$f":"\"H\"&U250&\":\"&\"H\"&V250","v":"H251:H254"},{"$f":"\"L\"&U250&\":\"&\"L\"&V250","v":"L251:L254"},null,"<TR VALIGN=BOTTOM>",{"$f":"\"<TD NOWRAP ALIGN=LEFT><FONT FACE=\"\"Times New Roman\"\" SIZE=-1 COLOR=#00AA00\"\">\"&A251&\"</FONT></TD>\"","v":"<TD NOWRAP ALIGN=LEFT><FONT FACE=\"Times New Roman\" SIZE=-1 COLOR=#00AA00\">Corinth CSD</FONT></TD>"},"<TD NOWRAP ALIGN=RIGHT><FONT FACE=\"Times New Roman\" SIZE=-1>$0.00</FONT></TD>","<TD NOWRAP ALIGN=RIGHT><FONT FACE=\"Times New Roman\" SIZE=-1><BR></FONT></TD>","<TD NOWRAP ALIGN=RIGHT><FONT FACE=\"Times New Roman\" SIZE=-1><BR></FONT></TD>","<TD NOWRAP ALIGN=CENTER><FONT FACE=\"Times New Roman\" SIZE=-1>$0.00</FONT></TD>","<TD NOWRAP ALIGN=CENTER><FONT FACE=\"Times New Roman\" SIZE=-1>$0.00</FONT></TD>","<TD NOWRAP ALIGN=CENTER><FONT FACE=\"Times New Roman\" SIZE=-1>0.0000</FONT></TD>","<TD NOWRAP ALIGN=CENTER><FONT FACE=\"Times New Roman\" SIZE=-1>$0.00</FONT></TD>","</TR>"]
["Saratoga Springs City SD",{"$f":"'2017 Base Data'!F252","v":0},null,null,{"$f":"'2017 Base Data'!I252","v":0},null,null,{"$f":"'2017 Base Data'!J252","v":0},null,null,{"$f":"'2017 Base Data'!K252","v":0},{"$f":"'2017 Base Data'!R252","v":0},null,null,{"$f":"ROUND(IF(S252<>0,R252*D252+S252*SUM(B252:C252)+T252*E252,R252*SUM(B252:D252)+T252*E252),2)","v":0},{"$f":"L252-O252","v":0},null,{"$f":"'2017 Base Data'!K252","v":0},{"$f":"'2017 Base Data'!L252","v":0},{"$f":"'2017 Base Data'!M252","v":0},null,null,null,null,"<TR VALIGN=BOTTOM>",{"$f":"\"<TD NOWRAP ALIGN=LEFT><FONT FACE=\"\"Times New Roman\"\" SIZE=-1 COLOR=#00AA00\"\">\"&A252&\"</FONT></TD>\"","v":"<TD NOWRAP ALIGN=LEFT><FONT FACE=\"Times New Roman\" SIZE=-1 COLOR=#00AA00\">Saratoga Springs City SD</FONT></TD>"},"<TD NOWRAP ALIGN=RIGHT><FONT FACE=\"Times New Roman\" SIZE=-1>$0.00</FONT></TD>","<TD NOWRAP ALIGN=RIGHT><FONT FACE=\"Times New Roman\" SIZE=-1><BR></FONT></TD>","<TD NOWRAP ALIGN=RIGHT><FONT FACE=\"Times New Roman\" SIZE=-1><BR></FONT></TD>","<TD NOWRAP ALIGN=CENTER><FONT FACE=\"Times New Roman\" SIZE=-1>$0.00</FONT></TD>","<TD NOWRAP ALIGN=CENTER><FONT FACE=\"Times New Roman\" SIZE=-1>$0.00</FONT></TD>","<TD NOWRAP ALIGN=CENTER><FONT FACE=\"Times New Roman\" SIZE=-1>0.0000</FONT></TD>","<TD NOWRAP ALIGN=CENTER><FONT FACE=\"Times New Roman\" SIZE=-1>$0.00</FONT></TD>","</TR>"]
["Schuylerville CSD",{"$f":"'2017 Base Data'!F253","v":0},null,null,{"$f":"'2017 Base Data'!I253","v":0},null,null,{"$f":"'2017 Base Data'!J253","v":0},null,null,{"$f":"'2017 Base Data'!K253","v":0},{"$f":"'2017 Base Data'!R253","v":0},null,null,{"$f":"ROUND(IF(S253<>0,R253*D253+S253*SUM(B253:C253)+T253*E253,R253*SUM(B253:D253)+T253*E253),2)","v":0},{"$f":"L253-O253","v":0},null,{"$f":"'2017 Base Data'!K253","v":0},{"$f":"'2017 Base Data'!L253","v":0},{"$f":"'2017 Base Data'!M253","v":0},null,null,null,null,"<TR VALIGN=BOTTOM>",{"$f":"\"<TD NOWRAP ALIGN=LEFT><FONT FACE=\"\"Times New Roman\"\" SIZE=-1 COLOR=#00AA00\"\">\"&A253&\"</FONT></TD>\"","v":"<TD NOWRAP ALIGN=LEFT><FONT FACE=\"Times New Roman\" SIZE=-1 COLOR=#00AA00\">Schuylerville CSD</FONT></TD>"},"<TD NOWRAP ALIGN=RIGHT><FONT FACE=\"Times New Roman\" SIZE=-1>$0.00</FONT></TD>","<TD NOWRAP ALIGN=RIGHT><FONT FACE=\"Times New Roman\" SIZE=-1><BR></FONT></TD>","<TD NOWRAP ALIGN=RIGHT><FONT FACE=\"Times New Roman\" SIZE=-1><BR></FONT></TD>","<TD NOWRAP ALIGN=CENTER><FONT FACE=\"Times New Roman\" SIZE=-1>$0.00</FONT></TD>","<TD NOWRAP ALIGN=CENTER><FONT FACE=\"Times New Roman\" SIZE=-1>$0.00</FONT></TD>","<TD NOWRAP ALIGN=CENTER><FONT FACE=\"Times New Roman\" SIZE=-1>0.0000</FONT></TD>","<TD NOWRAP ALIGN=CENTER><FONT FACE=\"Times New Roman\" SIZE=-1>$0.00</FONT></TD>","</TR>"]
["South Glens Falls CSD",{"$f":"'2017 Base Data'!F254","v":0},null,null,{"$f":"'2017 Base Data'!I254","v":0},null,null,{"$f":"'2017 Base Data'!J254","v":0},null,null,{"$f":"'2017 Base Data'!K254","v":0},{"$f":"'2017 Base Data'!R254","v":0},null,null,{"$f":"ROUND(IF(S254<>0,R254*D254+S254*SUM(B254:C254)+T254*E254,R254*SUM(B254:D254)+T254*E254),2)","v":0},{"$f":"L254-O254","v":0},null,{"$f":"'2017 Base Data'!K254","v":0},{"$f":"'2017 Base Data'!L254","v":0},{"$f":"'2017 Base Data'!M254","v":0},null,null,null,null,"<TR VALIGN=BOTTOM>",{"$f":"\"<TD NOWRAP ALIGN=LEFT><FONT FACE=\"\"Times New Roman\"\" SIZE=-1 COLOR=#00AA00\"\">\"&A254&\"</FONT></TD>\"","v":"<TD NOWRAP ALIGN=LEFT><FONT FACE=\"Times New Roman\" SIZE=-1 COLOR=#00AA00\">South Glens Falls CSD</FONT></TD>"},"<TD NOWRAP ALIGN=RIGHT><FONT FACE=\"Times New Roman\" SIZE=-1>$0.00</FONT></TD>","<TD NOWRAP ALIGN=RIGHT><FONT FACE=\"Times New Roman\" SIZE=-1><BR></FONT></TD>","<TD NOWRAP ALIGN=RIGHT><FONT FACE=\"Times New Roman\" SIZE=-1><BR></FONT></TD>","<TD NOWRAP ALIGN=CENTER><FONT FACE=\"Times New Roman\" SIZE=-1>$0.00</FONT></TD>","<TD NOWRAP ALIGN=CENTER><FONT FACE=\"Times New Roman\" SIZE=-1>$0.00</FONT></TD>","<TD NOWRAP ALIGN=CENTER><FONT FACE=\"Times New Roman\" SIZE=-1>0.0000</FONT></TD>","<TD NOWRAP ALIGN=CENTER><FONT FACE=\"Times New Roman\" SIZE=-1>$0.00</FONT></TD>","</TR>"]
["Schenectady County",null,null,null,{"$f":"MIN(E256:E281)","v":0},{"$f":"IF(G255<>0,\"to\",\"\")","v":""},{"$f":"MAX(E256:G281)","v":0},{"$f":"MIN(H256:H281)","v":0},{"$f":"IF(J255<>0,\"to\",\"\")","v":""},{"$f":"MAX(H256:J281)","v":0},null,{"$f":"MIN(L256:L281)","v":0},{"$f":"IF(N255<>0,\"to\",\"\")","v":""},{"$f":"MAX(L256:N281)","v":0},null,null,null,null,null,null,null,null,null,null,"<TR VALIGN=BOTTOM BGCOLOR=\"#CCCCFF\">",{"$f":"\"<TH NOWRAP ALIGN=LEFT><FONT FACE=\"\"Times New Roman\"\" COLOR=\"\"#AA00AA\"\">\"&A255&\"</FONT></TH>\"","v":"<TH NOWRAP ALIGN=LEFT><FONT FACE=\"Times New Roman\" COLOR=\"#AA00AA\">Schenectady County</FONT></TH>"},"<TD NOWRAP ALIGN=RIGHT><FONT FACE=\"Times New Roman\" SIZE=-1><BR></FONT></TD>","<TD NOWRAP ALIGN=RIGHT><FONT FACE=\"Times New Roman\" SIZE=-1><BR></FONT></TD>","<TD NOWRAP ALIGN=RIGHT><FONT FACE=\"Times New Roman\" SIZE=-1><BR></FONT></TD>","<TD NOWRAP ALIGN=CENTER><FONT FACE=\"Times New Roman\" SIZE=-1>$0.00</FONT></TD>","<TD NOWRAP ALIGN=CENTER><FONT FACE=\"Times New Roman\" SIZE=-1>$0.00</FONT></TD>","<TD NOWRAP ALIGN=CENTER><FONT FACE=\"Times New Roman\" SIZE=-1><BR></FONT></TD>","<TD NOWRAP ALIGN=CENTER><FONT FACE=\"Times New Roman\" SIZE=-1>$0.00</FONT></TD>","</TR>"]
["Town of Duanesburg",{"$f":"B257","v":0},{"$f":"C257","v":0},null,{"$f":"MIN(INDIRECT(U257))","v":0},{"$f":"IF(G256<>0,\"to\",\"\")","v":""},{"$f":"IF(U256<>V256,MAX(INDIRECT(U257)),0)","v":0},{"$f":"MIN(INDIRECT(V257))","v":0},{"$f":"IF(J256<>0,\"to\",\"\")","v":""},{"$f":"IF(U256<>V256,MAX(INDIRECT(V257)),0)","v":0},{"$f":"K257","v":0},{"$f":"MIN(INDIRECT(W257))","v":0},{"$f":"IF(N256<>0,\"to\",\"\")","v":""},{"$f":"IF(U256<>V256,MAX(INDIRECT(W257)),0)","v":0},null,null,null,null,null,null,{"$f":"CELL(\"row\",P257)","v":257},{"$f":"CELL(\"row\",P260)","v":260},null,null,"<TR VALIGN=BOTTOM BGCOLOR=\"#FFFFCC\">",{"$f":"\"<TH NOWRAP ALIGN=LEFT><FONT FACE=\"\"Times New Roman\"\" SIZE=-1>\"&A256&\"</FONT></TH>\"","v":"<TH NOWRAP ALIGN=LEFT><FONT FACE=\"Times New Roman\" SIZE=-1>Town of Duanesburg</FONT></TH>"},"<TD NOWRAP ALIGN=RIGHT><FONT FACE=\"Times New Roman\" SIZE=-1>$0.00</FONT></TD>","<TD NOWRAP ALIGN=RIGHT><FONT FACE=\"Times New Roman\" SIZE=-1>$0.00</FONT></TD>","<TD NOWRAP ALIGN=RIGHT><FONT FACE=\"Times New Roman\" SIZE=-1><BR></FONT></TD>","<TD NOWRAP ALIGN=CENTER><FONT FACE=\"Times New Roman\" SIZE=-1>$0.00</FONT></TD>","<TD NOWRAP ALIGN=CENTER><FONT FACE=\"Times New Roman\" SIZE=-1>$0.00</FONT></TD>","<TD NOWRAP ALIGN=CENTER><FONT FACE=\"Times New Roman\" SIZE=-1>0.0000</FONT></TD>","<TD NOWRAP ALIGN=CENTER><FONT FACE=\"Times New Roman\" SIZE=-1>$0.00</FONT></TD>","</TR>"]
["Amsterdam City SD",{"$f":"'2017 Base Data'!F257","v":0},{"$f":"'2017 Base Data'!G257","v":0},null,{"$f":"'2017 Base Data'!I257","v":0},null,null,{"$f":"'2017 Base Data'!J257","v":0},null,null,{"$f":"'2017 Base Data'!K257","v":0},{"$f":"'2017 Base Data'!R257","v":0},null,null,{"$f":"ROUND(IF(S257<>0,R257*D257+S257*SUM(B257:C257)+T257*E257,R257*SUM(B257:D257)+T257*E257),2)","v":0},{"$f":"L257-O257","v":0},null,{"$f":"'2017 Base Data'!K257","v":0},{"$f":"'2017 Base Data'!L257","v":0},{"$f":"'2017 Base Data'!M257","v":0},{"$f":"\"E\"&U256&\":\"&\"E\"&V256","v":"E257:E260"},{"$f":"\"H\"&U256&\":\"&\"H\"&V256","v":"H257:H260"},{"$f":"\"L\"&U256&\":\"&\"L\"&V256","v":"L257:L260"},null,"<TR VALIGN=BOTTOM>",{"$f":"\"<TD NOWRAP ALIGN=LEFT><FONT FACE=\"\"Times New Roman\"\" SIZE=-1 COLOR=#00AA00\"\">\"&A257&\"</FONT></TD>\"","v":"<TD NOWRAP ALIGN=LEFT><FONT FACE=\"Times New Roman\" SIZE=-1 COLOR=#00AA00\">Amsterdam City SD</FONT></TD>"},"<TD NOWRAP ALIGN=RIGHT><FONT FACE=\"Times New Roman\" SIZE=-1>$0.00</FONT></TD>","<TD NOWRAP ALIGN=RIGHT><FONT FACE=\"Times New Roman\" SIZE=-1>$0.00</FONT></TD>","<TD NOWRAP ALIGN=RIGHT><FONT FACE=\"Times New Roman\" SIZE=-1><BR></FONT></TD>","<TD NOWRAP ALIGN=CENTER><FONT FACE=\"Times New Roman\" SIZE=-1>$0.00</FONT></TD>","<TD NOWRAP ALIGN=CENTER><FONT FACE=\"Times New Roman\" SIZE=-1>$0.00</FONT></TD>","<TD NOWRAP ALIGN=CENTER><FONT FACE=\"Times New Roman\" SIZE=-1>0.0000</FONT></TD>","<TD NOWRAP ALIGN=CENTER><FONT FACE=\"Times New Roman\" SIZE=-1>$0.00</FONT></TD>","</TR>"]
["Duanesburg CSD",{"$f":"'2017 Base Data'!F258","v":0},{"$f":"'2017 Base Data'!G258","v":0},null,{"$f":"'2017 Base Data'!I258","v":0},null,null,{"$f":"'2017 Base Data'!J258","v":0},null,null,{"$f":"'2017 Base Data'!K258","v":0},{"$f":"'2017 Base Data'!R258","v":0},null,null,{"$f":"ROUND(IF(S258<>0,R258*D258+S258*SUM(B258:C258)+T258*E258,R258*SUM(B258:D258)+T258*E258),2)","v":0},{"$f":"L258-O258","v":0},null,{"$f":"'2017 Base Data'!K258","v":0},{"$f":"'2017 Base Data'!L258","v":0},{"$f":"'2017 Base Data'!M258","v":0},null,null,null,null,"<TR VALIGN=BOTTOM>",{"$f":"\"<TD NOWRAP ALIGN=LEFT><FONT FACE=\"\"Times New Roman\"\" SIZE=-1 COLOR=#00AA00\"\">\"&A258&\"</FONT></TD>\"","v":"<TD NOWRAP ALIGN=LEFT><FONT FACE=\"Times New Roman\" SIZE=-1 COLOR=#00AA00\">Duanesburg CSD</FONT></TD>"},"<TD NOWRAP ALIGN=RIGHT><FONT FACE=\"Times New Roman\" SIZE=-1>$0.00</FONT></TD>","<TD NOWRAP ALIGN=RIGHT><FONT FACE=\"Times New Roman\" SIZE=-1>$0.00</FONT></TD>","<TD NOWRAP ALIGN=RIGHT><FONT FACE=\"Times New Roman\" SIZE=-1><BR></FONT></TD>","<TD NOWRAP ALIGN=CENTER><FONT FACE=\"Times New Roman\" SIZE=-1>$0.00</FONT></TD>","<TD NOWRAP ALIGN=CENTER><FONT FACE=\"Times New Roman\" SIZE=-1>$0.00</FONT></TD>","<TD NOWRAP ALIGN=CENTER><FONT FACE=\"Times New Roman\" SIZE=-1>0.0000</FONT></TD>","<TD NOWRAP ALIGN=CENTER><FONT FACE=\"Times New Roman\" SIZE=-1>$0.00</FONT></TD>","</TR>"]
["Schalmont CSD",{"$f":"'2017 Base Data'!F259","v":0},{"$f":"'2017 Base Data'!G259","v":0},null,{"$f":"'2017 Base Data'!I259","v":0},null,null,{"$f":"'2017 Base Data'!J259","v":0},null,null,{"$f":"'2017 Base Data'!K259","v":0},{"$f":"'2017 Base Data'!R259","v":0},null,null,{"$f":"ROUND(IF(S259<>0,R259*D259+S259*SUM(B259:C259)+T259*E259,R259*SUM(B259:D259)+T259*E259),2)","v":0},{"$f":"L259-O259","v":0},null,{"$f":"'2017 Base Data'!K259","v":0},{"$f":"'2017 Base Data'!L259","v":0},{"$f":"'2017 Base Data'!M259","v":0},null,null,null,null,"<TR VALIGN=BOTTOM>",{"$f":"\"<TD NOWRAP ALIGN=LEFT><FONT FACE=\"\"Times New Roman\"\" SIZE=-1 COLOR=#00AA00\"\">\"&A259&\"</FONT></TD>\"","v":"<TD NOWRAP ALIGN=LEFT><FONT FACE=\"Times New Roman\" SIZE=-1 COLOR=#00AA00\">Schalmont CSD</FONT></TD>"},"<TD NOWRAP ALIGN=RIGHT><FONT FACE=\"Times New Roman\" SIZE=-1>$0.00</FONT></TD>","<TD NOWRAP ALIGN=RIGHT><FONT FACE=\"Times New Roman\" SIZE=-1>$0.00</FONT></TD>","<TD NOWRAP ALIGN=RIGHT><FONT FACE=\"Times New Roman\" SIZE=-1><BR></FONT></TD>","<TD NOWRAP ALIGN=CENTER><FONT FACE=\"Times New Roman\" SIZE=-1>$0.00</FONT></TD>","<TD NOWRAP ALIGN=CENTER><FONT FACE=\"Times New Roman\" SIZE=-1>$0.00</FONT></TD>","<TD NOWRAP ALIGN=CENTER><FONT FACE=\"Times New Roman\" SIZE=-1>0.0000</FONT></TD>","<TD NOWRAP ALIGN=CENTER><FONT FACE=\"Times New Roman\" SIZE=-1>$0.00</FONT></TD>","</TR>"]
["Schoharie CSD",{"$f":"'2017 Base Data'!F260","v":0},{"$f":"'2017 Base Data'!G260","v":0},null,{"$f":"'2017 Base Data'!I260","v":0},null,null,{"$f":"'2017 Base Data'!J260","v":0},null,null,{"$f":"'2017 Base Data'!K260","v":0},{"$f":"'2017 Base Data'!R260","v":0},null,null,{"$f":"ROUND(IF(S260<>0,R260*D260+S260*SUM(B260:C260)+T260*E260,R260*SUM(B260:D260)+T260*E260),2)","v":0},{"$f":"L260-O260","v":0},null,{"$f":"'2017 Base Data'!K260","v":0},{"$f":"'2017 Base Data'!L260","v":0},{"$f":"'2017 Base Data'!M260","v":0},null,null,null,null,"<TR VALIGN=BOTTOM>",{"$f":"\"<TD NOWRAP ALIGN=LEFT><FONT FACE=\"\"Times New Roman\"\" SIZE=-1 COLOR=#00AA00\"\">\"&A260&\"</FONT></TD>\"","v":"<TD NOWRAP ALIGN=LEFT><FONT FACE=\"Times New Roman\" SIZE=-1 COLOR=#00AA00\">Schoharie CSD</FONT></TD>"},"<TD NOWRAP ALIGN=RIGHT><FONT FACE=\"Times New Roman\" SIZE=-1>$0.00</FONT></TD>","<TD NOWRAP ALIGN=RIGHT><FONT FACE=\"Times New Roman\" SIZE=-1>$0.00</FONT></TD>","<TD NOWRAP ALIGN=RIGHT><FONT FACE=\"Times New Roman\" SIZE=-1><BR></FONT></TD>","<TD NOWRAP ALIGN=CENTER><FONT FACE=\"Times New Roman\" SIZE=-1>$0.00</FONT></TD>","<TD NOWRAP ALIGN=CENTER><FONT FACE=\"Times New Roman\" SIZE=-1>$0.00</FONT></TD>","<TD NOWRAP ALIGN=CENTER><FONT FACE=\"Times New Roman\" SIZE=-1>0.0000</FONT></TD>","<TD NOWRAP ALIGN=CENTER><FONT FACE=\"Times New Roman\" SIZE=-1>$0.00</FONT></TD>","</TR>"]
["Village of Delanson",{"$f":"B262","v":0},{"$f":"C262","v":0},{"$f":"D262","v":0},{"$f":"MIN(INDIRECT(U262))","v":0},{"$f":"IF(G261<>0,\"to\",\"\")","v":""},{"$f":"IF(U261<>V261,MAX(INDIRECT(U262)),0)","v":0},{"$f":"MIN(INDIRECT(V262))","v":0},{"$f":"IF(J261<>0,\"to\",\"\")","v":""},{"$f":"IF(U261<>V261,MAX(INDIRECT(V262)),0)","v":0},{"$f":"K262","v":0},{"$f":"MIN(INDIRECT(W262))","v":0},{"$f":"IF(N261<>0,\"to\",\"\")","v":""},{"$f":"IF(U261<>V261,MAX(INDIRECT(W262)),0)","v":0},null,null,null,null,null,null,{"$f":"CELL(\"row\",P262)","v":262},{"$f":"CELL(\"row\",P262)","v":262},null,null,"<TR VALIGN=BOTTOM BGCOLOR=\"#FFFFCC\">",{"$f":"\"<TH NOWRAP ALIGN=LEFT><FONT FACE=\"\"Times New Roman\"\" SIZE=-1 COLOR=\"\"#0000CC\"\">\"&A261&\"</FONT></TH>\"","v":"<TH NOWRAP ALIGN=LEFT><FONT FACE=\"Times New Roman\" SIZE=-1 COLOR=\"#0000CC\">Village of Delanson</FONT></TH>"},"<TD NOWRAP ALIGN=RIGHT><FONT FACE=\"Times New Roman\" SIZE=-1>$0.00</FONT></TD>","<TD NOWRAP ALIGN=RIGHT><FONT FACE=\"Times New Roman\" SIZE=-1>$0.00</FONT></TD>","<TD NOWRAP ALIGN=RIGHT><FONT FACE=\"Times New Roman\" SIZE=-1>$0.00</FONT></TD>","<TD NOWRAP ALIGN=CENTER><FONT FACE=\"Times New Roman\" SIZE=-1>$0.00</FONT></TD>","<TD NOWRAP ALIGN=CENTER><FONT FACE=\"Times New Roman\" SIZE=-1>$0.00</FONT></TD>","<TD NOWRAP ALIGN=CENTER><FONT FACE=\"Times New Roman\" SIZE=-1>0.0000</FONT></TD>","<TD NOWRAP ALIGN=CENTER><FONT FACE=\"Times New Roman\" SIZE=-1>$0.00</FONT></TD>","</TR>"]
["Duanesburg CSD",{"$f":"'2017 Base Data'!F262","v":0},{"$f":"'2017 Base Data'!G262","v":0},{"$f":"'2017 Base Data'!H262","v":0},{"$f":"'2017 Base Data'!I262","v":0},null,null,{"$f":"'2017 Base Data'!J262","v":0},null,null,{"$f":"'2017 Base Data'!K262","v":0},{"$f":"'2017 Base Data'!R262","v":0},null,null,{"$f":"ROUND(IF(S262<>0,R262*D262+S262*SUM(B262:C262)+T262*E262,R262*SUM(B262:D262)+T262*E262),2)","v":0},{"$f":"L262-O262","v":0},null,{"$f":"'2017 Base Data'!K262","v":0},{"$f":"'2017 Base Data'!L262","v":0},{"$f":"'2017 Base Data'!M262","v":0},{"$f":"\"E\"&U261&\":\"&\"E\"&V261","v":"E262:E262"},{"$f":"\"H\"&U261&\":\"&\"H\"&V261","v":"H262:H262"},{"$f":"\"L\"&U261&\":\"&\"L\"&V261","v":"L262:L262"},null,"<TR VALIGN=BOTTOM>",{"$f":"\"<TD NOWRAP ALIGN=LEFT><FONT FACE=\"\"Times New Roman\"\" SIZE=-1 COLOR=#00AA00\"\">\"&A262&\"</FONT></TD>\"","v":"<TD NOWRAP ALIGN=LEFT><FONT FACE=\"Times New Roman\" SIZE=-1 COLOR=#00AA00\">Duanesburg CSD</FONT></TD>"},"<TD NOWRAP ALIGN=RIGHT><FONT FACE=\"Times New Roman\" SIZE=-1>$0.00</FONT></TD>","<TD NOWRAP ALIGN=RIGHT><FONT FACE=\"Times New Roman\" SIZE=-1>$0.00</FONT></TD>","<TD NOWRAP ALIGN=RIGHT><FONT FACE=\"Times New Roman\" SIZE=-1>$0.00</FONT></TD>","<TD NOWRAP ALIGN=CENTER><FONT FACE=\"Times New Roman\" SIZE=-1>$0.00</FONT></TD>","<TD NOWRAP ALIGN=CENTER><FONT FACE=\"Times New Roman\" SIZE=-1>$0.00</FONT></TD>","<TD NOWRAP ALIGN=CENTER><FONT FACE=\"Times New Roman\" SIZE=-1>0.0000</FONT></TD>","<TD NOWRAP ALIGN=CENTER><FONT FACE=\"Times New Roman\" SIZE=-1>$0.00</FONT></TD>","</TR>"]
["Town of Glenville",{"$f":"B264","v":0},{"$f":"C264","v":0},null,{"$f":"MIN(INDIRECT(U264))","v":0},{"$f":"IF(G263<>0,\"to\",\"\")","v":""},{"$f":"IF(U263<>V263,MAX(INDIRECT(U264)),0)","v":0},{"$f":"MIN(INDIRECT(V264))","v":0},{"$f":"IF(J263<>0,\"to\",\"\")","v":""},{"$f":"IF(U263<>V263,MAX(INDIRECT(V264)),0)","v":0},{"$f":"K264","v":0},{"$f":"MIN(INDIRECT(W264))","v":0},{"$f":"IF(N263<>0,\"to\",\"\")","v":""},{"$f":"IF(U263<>V263,MAX(INDIRECT(W264)),0)","v":0},null,null,null,null,null,null,{"$f":"CELL(\"row\",P264)","v":264},{"$f":"CELL(\"row\",P268)","v":268},null,null,"<TR VALIGN=BOTTOM BGCOLOR=\"#FFFFCC\">",{"$f":"\"<TH NOWRAP ALIGN=LEFT><FONT FACE=\"\"Times New Roman\"\" SIZE=-1>\"&A263&\"</FONT></TH>\"","v":"<TH NOWRAP ALIGN=LEFT><FONT FACE=\"Times New Roman\" SIZE=-1>Town of Glenville</FONT></TH>"},"<TD NOWRAP ALIGN=RIGHT><FONT FACE=\"Times New Roman\" SIZE=-1>$0.00</FONT></TD>","<TD NOWRAP ALIGN=RIGHT><FONT FACE=\"Times New Roman\" SIZE=-1>$0.00</FONT></TD>","<TD NOWRAP ALIGN=RIGHT><FONT FACE=\"Times New Roman\" SIZE=-1><BR></FONT></TD>","<TD NOWRAP ALIGN=CENTER><FONT FACE=\"Times New Roman\" SIZE=-1>$0.00</FONT></TD>","<TD NOWRAP ALIGN=CENTER><FONT FACE=\"Times New Roman\" SIZE=-1>$0.00</FONT></TD>","<TD NOWRAP ALIGN=CENTER><FONT FACE=\"Times New Roman\" SIZE=-1>0.0000</FONT></TD>","<TD NOWRAP ALIGN=CENTER><FONT FACE=\"Times New Roman\" SIZE=-1>$0.00</FONT></TD>","</TR>"]
["Amsterdam City SD",{"$f":"'2017 Base Data'!F264","v":0},{"$f":"'2017 Base Data'!G264","v":0},null,{"$f":"'2017 Base Data'!I264","v":0},null,null,{"$f":"'2017 Base Data'!J264","v":0},null,null,{"$f":"'2017 Base Data'!K264","v":0},{"$f":"'2017 Base Data'!R264","v":0},null,null,{"$f":"ROUND(IF(S264<>0,R264*D264+S264*SUM(B264:C264)+T264*E264,R264*SUM(B264:D264)+T264*E264),2)","v":0},{"$f":"L264-O264","v":0},null,{"$f":"'2017 Base Data'!K264","v":0},{"$f":"'2017 Base Data'!L264","v":0},{"$f":"'2017 Base Data'!M264","v":0},{"$f":"\"E\"&U263&\":\"&\"E\"&V263","v":"E264:E268"},{"$f":"\"H\"&U263&\":\"&\"H\"&V263","v":"H264:H268"},{"$f":"\"L\"&U263&\":\"&\"L\"&V263","v":"L264:L268"},null,"<TR VALIGN=BOTTOM>",{"$f":"\"<TD NOWRAP ALIGN=LEFT><FONT FACE=\"\"Times New Roman\"\" SIZE=-1 COLOR=#00AA00\"\">\"&A264&\"</FONT></TD>\"","v":"<TD NOWRAP ALIGN=LEFT><FONT FACE=\"Times New Roman\" SIZE=-1 COLOR=#00AA00\">Amsterdam City SD</FONT></TD>"},"<TD NOWRAP ALIGN=RIGHT><FONT FACE=\"Times New Roman\" SIZE=-1>$0.00</FONT></TD>","<TD NOWRAP ALIGN=RIGHT><FONT FACE=\"Times New Roman\" SIZE=-1>$0.00</FONT></TD>","<TD NOWRAP ALIGN=RIGHT><FONT FACE=\"Times New Roman\" SIZE=-1><BR></FONT></TD>","<TD NOWRAP ALIGN=CENTER><FONT FACE=\"Times New Roman\" SIZE=-1>$0.00</FONT></TD>","<TD NOWRAP ALIGN=CENTER><FONT FACE=\"Times New Roman\" SIZE=-1>$0.00</FONT></TD>","<TD NOWRAP ALIGN=CENTER><FONT FACE=\"Times New Roman\" SIZE=-1>0.0000</FONT></TD>","<TD NOWRAP ALIGN=CENTER><FONT FACE=\"Times New Roman\" SIZE=-1>$0.00</FONT></TD>","</TR>"]
["Burnt Hills-Ballston Lake CSD",{"$f":"'2017 Base Data'!F265","v":0},{"$f":"'2017 Base Data'!G265","v":0},null,{"$f":"'2017 Base Data'!I265","v":0},null,null,{"$f":"'2017 Base Data'!J265","v":0},null,null,{"$f":"'2017 Base Data'!K265","v":0},{"$f":"'2017 Base Data'!R265","v":0},null,null,{"$f":"ROUND(IF(S265<>0,R265*D265+S265*SUM(B265:C265)+T265*E265,R265*SUM(B265:D265)+T265*E265),2)","v":0},{"$f":"L265-O265","v":0},null,{"$f":"'2017 Base Data'!K265","v":0},{"$f":"'2017 Base Data'!L265","v":0},{"$f":"'2017 Base Data'!M265","v":0},null,null,null,null,"<TR VALIGN=BOTTOM>",{"$f":"\"<TD NOWRAP ALIGN=LEFT><FONT FACE=\"\"Times New Roman\"\" SIZE=-1 COLOR=#00AA00\"\">\"&A265&\"</FONT></TD>\"","v":"<TD NOWRAP ALIGN=LEFT><FONT FACE=\"Times New Roman\" SIZE=-1 COLOR=#00AA00\">Burnt Hills-Ballston Lake CSD</FONT></TD>"},"<TD NOWRAP ALIGN=RIGHT><FONT FACE=\"Times New Roman\" SIZE=-1>$0.00</FONT></TD>","<TD NOWRAP ALIGN=RIGHT><FONT FACE=\"Times New Roman\" SIZE=-1>$0.00</FONT></TD>","<TD NOWRAP ALIGN=RIGHT><FONT FACE=\"Times New Roman\" SIZE=-1><BR></FONT></TD>","<TD NOWRAP ALIGN=CENTER><FONT FACE=\"Times New Roman\" SIZE=-1>$0.00</FONT></TD>","<TD NOWRAP ALIGN=CENTER><FONT FACE=\"Times New Roman\" SIZE=-1>$0.00</FONT></TD>","<TD NOWRAP ALIGN=CENTER><FONT FACE=\"Times New Roman\" SIZE=-1>0.0000</FONT></TD>","<TD NOWRAP ALIGN=CENTER><FONT FACE=\"Times New Roman\" SIZE=-1>$0.00</FONT></TD>","</TR>"]
["Galway CSD",{"$f":"'2017 Base Data'!F266","v":0},{"$f":"'2017 Base Data'!G266","v":0},null,{"$f":"'2017 Base Data'!I266","v":0},null,null,{"$f":"'2017 Base Data'!J266","v":0},null,null,{"$f":"'2017 Base Data'!K266","v":0},{"$f":"'2017 Base Data'!R266","v":0},null,null,{"$f":"ROUND(IF(S266<>0,R266*D266+S266*SUM(B266:C266)+T266*E266,R266*SUM(B266:D266)+T266*E266),2)","v":0},{"$f":"L266-O266","v":0},null,{"$f":"'2017 Base Data'!K266","v":0},{"$f":"'2017 Base Data'!L266","v":0},{"$f":"'2017 Base Data'!M266","v":0},null,null,null,null,"<TR VALIGN=BOTTOM>",{"$f":"\"<TD NOWRAP ALIGN=LEFT><FONT FACE=\"\"Times New Roman\"\" SIZE=-1 COLOR=#00AA00\"\">\"&A266&\"</FONT></TD>\"","v":"<TD NOWRAP ALIGN=LEFT><FONT FACE=\"Times New Roman\" SIZE=-1 COLOR=#00AA00\">Galway CSD</FONT></TD>"},"<TD NOWRAP ALIGN=RIGHT><FONT FACE=\"Times New Roman\" SIZE=-1>$0.00</FONT></TD>","<TD NOWRAP ALIGN=RIGHT><FONT FACE=\"Times New Roman\" SIZE=-1>$0.00</FONT></TD>","<TD NOWRAP ALIGN=RIGHT><FONT FACE=\"Times New Roman\" SIZE=-1><BR></FONT></TD>","<TD NOWRAP ALIGN=CENTER><FONT FACE=\"Times New Roman\" SIZE=-1>$0.00</FONT></TD>","<TD NOWRAP ALIGN=CENTER><FONT FACE=\"Times New Roman\" SIZE=-1>$0.00</FONT></TD>","<TD NOWRAP ALIGN=CENTER><FONT FACE=\"Times New Roman\" SIZE=-1>0.0000</FONT></TD>","<TD NOWRAP ALIGN=CENTER><FONT FACE=\"Times New Roman\" SIZE=-1>$0.00</FONT></TD>","</TR>"]
["Niskayuna CSD",{"$f":"'2017 Base Data'!F267","v":0},{"$f":"'2017 Base Data'!G267","v":0},null,{"$f":"'2017 Base Data'!I267","v":0},null,null,{"$f":"'2017 Base Data'!J267","v":0},null,null,{"$f":"'2017 Base Data'!K267","v":0},{"$f":"'2017 Base Data'!R267","v":0},null,null,{"$f":"ROUND(IF(S267<>0,R267*D267+S267*SUM(B267:C267)+T267*E267,R267*SUM(B267:D267)+T267*E267),2)","v":0},{"$f":"L267-O267","v":0},null,{"$f":"'2017 Base Data'!K267","v":0},{"$f":"'2017 Base Data'!L267","v":0},{"$f":"'2017 Base Data'!M267","v":0},null,null,null,null,"<TR VALIGN=BOTTOM>",{"$f":"\"<TD NOWRAP ALIGN=LEFT><FONT FACE=\"\"Times New Roman\"\" SIZE=-1 COLOR=#00AA00\"\">\"&A267&\"</FONT></TD>\"","v":"<TD NOWRAP ALIGN=LEFT><FONT FACE=\"Times New Roman\" SIZE=-1 COLOR=#00AA00\">Niskayuna CSD</FONT></TD>"},"<TD NOWRAP ALIGN=RIGHT><FONT FACE=\"Times New Roman\" SIZE=-1>$0.00</FONT></TD>","<TD NOWRAP ALIGN=RIGHT><FONT FACE=\"Times New Roman\" SIZE=-1>$0.00</FONT></TD>","<TD NOWRAP ALIGN=RIGHT><FONT FACE=\"Times New Roman\" SIZE=-1><BR></FONT></TD>","<TD NOWRAP ALIGN=CENTER><FONT FACE=\"Times New Roman\" SIZE=-1>$0.00</FONT></TD>","<TD NOWRAP ALIGN=CENTER><FONT FACE=\"Times New Roman\" SIZE=-1>$0.00</FONT></TD>","<TD NOWRAP ALIGN=CENTER><FONT FACE=\"Times New Roman\" SIZE=-1>0.0000</FONT></TD>","<TD NOWRAP ALIGN=CENTER><FONT FACE=\"Times New Roman\" SIZE=-1>$0.00</FONT></TD>","</TR>"]
["Scotia-Glenville CSD",{"$f":"'2017 Base Data'!F268","v":0},{"$f":"'2017 Base Data'!G268","v":0},null,{"$f":"'2017 Base Data'!I268","v":0},null,null,{"$f":"'2017 Base Data'!J268","v":0},null,null,{"$f":"'2017 Base Data'!K268","v":0},{"$f":"'2017 Base Data'!R268","v":0},null,null,{"$f":"ROUND(IF(S268<>0,R268*D268+S268*SUM(B268:C268)+T268*E268,R268*SUM(B268:D268)+T268*E268),2)","v":0},{"$f":"L268-O268","v":0},null,{"$f":"'2017 Base Data'!K268","v":0},{"$f":"'2017 Base Data'!L268","v":0},{"$f":"'2017 Base Data'!M268","v":0},null,null,null,null,"<TR VALIGN=BOTTOM>",{"$f":"\"<TD NOWRAP ALIGN=LEFT><FONT FACE=\"\"Times New Roman\"\" SIZE=-1 COLOR=#00AA00\"\">\"&A268&\"</FONT></TD>\"","v":"<TD NOWRAP ALIGN=LEFT><FONT FACE=\"Times New Roman\" SIZE=-1 COLOR=#00AA00\">Scotia-Glenville CSD</FONT></TD>"},"<TD NOWRAP ALIGN=RIGHT><FONT FACE=\"Times New Roman\" SIZE=-1>$0.00</FONT></TD>","<TD NOWRAP ALIGN=RIGHT><FONT FACE=\"Times New Roman\" SIZE=-1>$0.00</FONT></TD>","<TD NOWRAP ALIGN=RIGHT><FONT FACE=\"Times New Roman\" SIZE=-1><BR></FONT></TD>","<TD NOWRAP ALIGN=CENTER><FONT FACE=\"Times New Roman\" SIZE=-1>$0.00</FONT></TD>","<TD NOWRAP ALIGN=CENTER><FONT FACE=\"Times New Roman\" SIZE=-1>$0.00</FONT></TD>","<TD NOWRAP ALIGN=CENTER><FONT FACE=\"Times New Roman\" SIZE=-1>0.0000</FONT></TD>","<TD NOWRAP ALIGN=CENTER><FONT FACE=\"Times New Roman\" SIZE=-1>$0.00</FONT></TD>","</TR>"]
["Village of Scotia",{"$f":"B270","v":0},{"$f":"C270","v":0},{"$f":"D270","v":0},{"$f":"MIN(INDIRECT(U270))","v":0},{"$f":"IF(G269<>0,\"to\",\"\")","v":""},{"$f":"IF(U269<>V269,MAX(INDIRECT(U270)),0)","v":0},{"$f":"MIN(INDIRECT(V270))","v":0},{"$f":"IF(J269<>0,\"to\",\"\")","v":""},{"$f":"IF(U269<>V269,MAX(INDIRECT(V270)),0)","v":0},{"$f":"K270","v":0},{"$f":"MIN(INDIRECT(W270))","v":0},{"$f":"IF(N269<>0,\"to\",\"\")","v":""},{"$f":"IF(U269<>V269,MAX(INDIRECT(W270)),0)","v":0},null,null,null,null,null,null,{"$f":"CELL(\"row\",P270)","v":270},{"$f":"CELL(\"row\",P270)","v":270},null,null,"<TR VALIGN=BOTTOM BGCOLOR=\"#FFFFCC\">",{"$f":"\"<TH NOWRAP ALIGN=LEFT><FONT FACE=\"\"Times New Roman\"\" SIZE=-1 COLOR=\"\"#0000CC\"\">\"&A269&\"</FONT></TH>\"","v":"<TH NOWRAP ALIGN=LEFT><FONT FACE=\"Times New Roman\" SIZE=-1 COLOR=\"#0000CC\">Village of Scotia</FONT></TH>"},"<TD NOWRAP ALIGN=RIGHT><FONT FACE=\"Times New Roman\" SIZE=-1>$0.00</FONT></TD>","<TD NOWRAP ALIGN=RIGHT><FONT FACE=\"Times New Roman\" SIZE=-1>$0.00</FONT></TD>","<TD NOWRAP ALIGN=RIGHT><FONT FACE=\"Times New Roman\" SIZE=-1>$0.00</FONT></TD>","<TD NOWRAP ALIGN=CENTER><FONT FACE=\"Times New Roman\" SIZE=-1>$0.00</FONT></TD>","<TD NOWRAP ALIGN=CENTER><FONT FACE=\"Times New Roman\" SIZE=-1>$0.00</FONT></TD>","<TD NOWRAP ALIGN=CENTER><FONT FACE=\"Times New Roman\" SIZE=-1>0.0000</FONT></TD>","<TD NOWRAP ALIGN=CENTER><FONT FACE=\"Times New Roman\" SIZE=-1>$0.00</FONT></TD>","</TR>"]
["Scotia-Glenville CSD",{"$f":"'2017 Base Data'!F270","v":0},{"$f":"'2017 Base Data'!G270","v":0},{"$f":"'2017 Base Data'!H270","v":0},{"$f":"'2017 Base Data'!I270","v":0},null,null,{"$f":"'2017 Base Data'!J270","v":0},null,null,{"$f":"'2017 Base Data'!K270","v":0},{"$f":"'2017 Base Data'!R270","v":0},null,null,{"$f":"ROUND(IF(S270<>0,R270*D270+S270*SUM(B270:C270)+T270*E270,R270*SUM(B270:D270)+T270*E270),2)","v":0},{"$f":"L270-O270","v":0},null,{"$f":"'2017 Base Data'!K270","v":0},{"$f":"'2017 Base Data'!L270","v":0},{"$f":"'2017 Base Data'!M270","v":0},{"$f":"\"E\"&U269&\":\"&\"E\"&V269","v":"E270:E270"},{"$f":"\"H\"&U269&\":\"&\"H\"&V269","v":"H270:H270"},{"$f":"\"L\"&U269&\":\"&\"L\"&V269","v":"L270:L270"},null,"<TR VALIGN=BOTTOM>",{"$f":"\"<TD NOWRAP ALIGN=LEFT><FONT FACE=\"\"Times New Roman\"\" SIZE=-1 COLOR=#00AA00\"\">\"&A270&\"</FONT></TD>\"","v":"<TD NOWRAP ALIGN=LEFT><FONT FACE=\"Times New Roman\" SIZE=-1 COLOR=#00AA00\">Scotia-Glenville CSD</FONT></TD>"},"<TD NOWRAP ALIGN=RIGHT><FONT FACE=\"Times New Roman\" SIZE=-1>$0.00</FONT></TD>","<TD NOWRAP ALIGN=RIGHT><FONT FACE=\"Times New Roman\" SIZE=-1>$0.00</FONT></TD>","<TD NOWRAP ALIGN=RIGHT><FONT FACE=\"Times New Roman\" SIZE=-1>$0.00</FONT></TD>","<TD NOWRAP ALIGN=CENTER><FONT FACE=\"Times New Roman\" SIZE=-1>$0.00</FONT></TD>","<TD NOWRAP ALIGN=CENTER><FONT FACE=\"Times New Roman\" SIZE=-1>$0.00</FONT></TD>","<TD NOWRAP ALIGN=CENTER><FONT FACE=\"Times New Roman\" SIZE=-1>0.0000</FONT></TD>","<TD NOWRAP ALIGN=CENTER><FONT FACE=\"Times New Roman\" SIZE=-1>$0.00</FONT></TD>","</TR>"]
["Town of Niskayuna",{"$f":"B272","v":0},{"$f":"C272","v":0},null,{"$f":"MIN(INDIRECT(U272))","v":0},{"$f":"IF(G271<>0,\"to\",\"\")","v":""},{"$f":"IF(U271<>V271,MAX(INDIRECT(U272)),0)","v":0},{"$f":"MIN(INDIRECT(V272))","v":0},{"$f":"IF(J271<>0,\"to\",\"\")","v":""},{"$f":"IF(U271<>V271,MAX(INDIRECT(V272)),0)","v":0},{"$f":"K272","v":0},{"$f":"MIN(INDIRECT(W272))","v":0},{"$f":"IF(N271<>0,\"to\",\"\")","v":""},{"$f":"IF(U271<>V271,MAX(INDIRECT(W272)),0)","v":0},null,null,null,null,null,null,{"$f":"CELL(\"row\",P272)","v":272},{"$f":"CELL(\"row\",P273)","v":273},null,null,"<TR VALIGN=BOTTOM BGCOLOR=\"#FFFFCC\">",{"$f":"\"<TH NOWRAP ALIGN=LEFT><FONT FACE=\"\"Times New Roman\"\" SIZE=-1>\"&A271&\"</FONT></TH>\"","v":"<TH NOWRAP ALIGN=LEFT><FONT FACE=\"Times New Roman\" SIZE=-1>Town of Niskayuna</FONT></TH>"},"<TD NOWRAP ALIGN=RIGHT><FONT FACE=\"Times New Roman\" SIZE=-1>$0.00</FONT></TD>","<TD NOWRAP ALIGN=RIGHT><FONT FACE=\"Times New Roman\" SIZE=-1>$0.00</FONT></TD>","<TD NOWRAP ALIGN=RIGHT><FONT FACE=\"Times New Roman\" SIZE=-1><BR></FONT></TD>","<TD NOWRAP ALIGN=CENTER><FONT FACE=\"Times New Roman\" SIZE=-1>$0.00</FONT></TD>","<TD NOWRAP ALIGN=CENTER><FONT FACE=\"Times New Roman\" SIZE=-1>$0.00</FONT></TD>","<TD NOWRAP ALIGN=CENTER><FONT FACE=\"Times New Roman\" SIZE=-1>0.0000</FONT></TD>","<TD NOWRAP ALIGN=CENTER><FONT FACE=\"Times New Roman\" SIZE=-1>$0.00</FONT></TD>","</TR>"]
["Niskayuna CSD",{"$f":"'2017 Base Data'!F272","v":0},{"$f":"'2017 Base Data'!G272","v":0},null,{"$f":"'2017 Base Data'!I272","v":0},null,null,{"$f":"'2017 Base Data'!J272","v":0},null,null,{"$f":"'2017 Base Data'!K272","v":0},{"$f":"'2017 Base Data'!R272","v":0},null,null,{"$f":"ROUND(IF(S272<>0,R272*D272+S272*SUM(B272:C272)+T272*E272,R272*SUM(B272:D272)+T272*E272),2)","v":0},{"$f":"L272-O272","v":0},null,{"$f":"'2017 Base Data'!K272","v":0},{"$f":"'2017 Base Data'!L272","v":0},{"$f":"'2017 Base Data'!M272","v":0},{"$f":"\"E\"&U271&\":\"&\"E\"&V271","v":"E272:E273"},{"$f":"\"H\"&U271&\":\"&\"H\"&V271","v":"H272:H273"},{"$f":"\"L\"&U271&\":\"&\"L\"&V271","v":"L272:L273"},null,"<TR VALIGN=BOTTOM>",{"$f":"\"<TD NOWRAP ALIGN=LEFT><FONT FACE=\"\"Times New Roman\"\" SIZE=-1 COLOR=#00AA00\"\">\"&A272&\"</FONT></TD>\"","v":"<TD NOWRAP ALIGN=LEFT><FONT FACE=\"Times New Roman\" SIZE=-1 COLOR=#00AA00\">Niskayuna CSD</FONT></TD>"},"<TD NOWRAP ALIGN=RIGHT><FONT FACE=\"Times New Roman\" SIZE=-1>$0.00</FONT></TD>","<TD NOWRAP ALIGN=RIGHT><FONT FACE=\"Times New Roman\" SIZE=-1>$0.00</FONT></TD>","<TD NOWRAP ALIGN=RIGHT><FONT FACE=\"Times New Roman\" SIZE=-1><BR></FONT></TD>","<TD NOWRAP ALIGN=CENTER><FONT FACE=\"Times New Roman\" SIZE=-1>$0.00</FONT></TD>","<TD NOWRAP ALIGN=CENTER><FONT FACE=\"Times New Roman\" SIZE=-1>$0.00</FONT></TD>","<TD NOWRAP ALIGN=CENTER><FONT FACE=\"Times New Roman\" SIZE=-1>0.0000</FONT></TD>","<TD NOWRAP ALIGN=CENTER><FONT FACE=\"Times New Roman\" SIZE=-1>$0.00</FONT></TD>","</TR>"]
["South Colonie CSD",{"$f":"'2017 Base Data'!F273","v":0},{"$f":"'2017 Base Data'!G273","v":0},null,{"$f":"'2017 Base Data'!I273","v":0},null,null,{"$f":"'2017 Base Data'!J273","v":0},null,null,{"$f":"'2017 Base Data'!K273","v":0},{"$f":"'2017 Base Data'!R273","v":0},null,null,{"$f":"ROUND(IF(S273<>0,R273*D273+S273*SUM(B273:C273)+T273*E273,R273*SUM(B273:D273)+T273*E273),2)","v":0},{"$f":"L273-O273","v":0},null,{"$f":"'2017 Base Data'!K273","v":0},{"$f":"'2017 Base Data'!L273","v":0},{"$f":"'2017 Base Data'!M273","v":0},null,null,null,null,"<TR VALIGN=BOTTOM>",{"$f":"\"<TD NOWRAP ALIGN=LEFT><FONT FACE=\"\"Times New Roman\"\" SIZE=-1 COLOR=#00AA00\"\">\"&A273&\"</FONT></TD>\"","v":"<TD NOWRAP ALIGN=LEFT><FONT FACE=\"Times New Roman\" SIZE=-1 COLOR=#00AA00\">South Colonie CSD</FONT></TD>"},"<TD NOWRAP ALIGN=RIGHT><FONT FACE=\"Times New Roman\" SIZE=-1>$0.00</FONT></TD>","<TD NOWRAP ALIGN=RIGHT><FONT FACE=\"Times New Roman\" SIZE=-1>$0.00</FONT></TD>","<TD NOWRAP ALIGN=RIGHT><FONT FACE=\"Times New Roman\" SIZE=-1><BR></FONT></TD>","<TD NOWRAP ALIGN=CENTER><FONT FACE=\"Times New Roman\" SIZE=-1>$0.00</FONT></TD>","<TD NOWRAP ALIGN=CENTER><FONT FACE=\"Times New Roman\" SIZE=-1>$0.00</FONT></TD>","<TD NOWRAP ALIGN=CENTER><FONT FACE=\"Times New Roman\" SIZE=-1>0.0000</FONT></TD>","<TD NOWRAP ALIGN=CENTER><FONT FACE=\"Times New Roman\" SIZE=-1>$0.00</FONT></TD>","</TR>"]
["Town of Princetown",{"$f":"B275","v":0},{"$f":"C275","v":0},null,{"$f":"MIN(INDIRECT(U275))","v":0},{"$f":"IF(G274<>0,\"to\",\"\")","v":""},{"$f":"IF(U274<>V274,MAX(INDIRECT(U275)),0)","v":0},{"$f":"MIN(INDIRECT(V275))","v":0},{"$f":"IF(J274<>0,\"to\",\"\")","v":""},{"$f":"IF(U274<>V274,MAX(INDIRECT(V275)),0)","v":0},{"$f":"K275","v":0},{"$f":"MIN(INDIRECT(W275))","v":0},{"$f":"IF(N274<>0,\"to\",\"\")","v":""},{"$f":"IF(U274<>V274,MAX(INDIRECT(W275)),0)","v":0},null,null,null,null,null,null,{"$f":"CELL(\"row\",P275)","v":275},{"$f":"CELL(\"row\",P276)","v":276},null,null,"<TR VALIGN=BOTTOM BGCOLOR=\"#FFFFCC\">",{"$f":"\"<TH NOWRAP ALIGN=LEFT><FONT FACE=\"\"Times New Roman\"\" SIZE=-1>\"&A274&\"</FONT></TH>\"","v":"<TH NOWRAP ALIGN=LEFT><FONT FACE=\"Times New Roman\" SIZE=-1>Town of Princetown</FONT></TH>"},"<TD NOWRAP ALIGN=RIGHT><FONT FACE=\"Times New Roman\" SIZE=-1>$0.00</FONT></TD>","<TD NOWRAP ALIGN=RIGHT><FONT FACE=\"Times New Roman\" SIZE=-1>$0.00</FONT></TD>","<TD NOWRAP ALIGN=RIGHT><FONT FACE=\"Times New Roman\" SIZE=-1><BR></FONT></TD>","<TD NOWRAP ALIGN=CENTER><FONT FACE=\"Times New Roman\" SIZE=-1>$0.00</FONT></TD>","<TD NOWRAP ALIGN=CENTER><FONT FACE=\"Times New Roman\" SIZE=-1>$0.00</FONT></TD>","<TD NOWRAP ALIGN=CENTER><FONT FACE=\"Times New Roman\" SIZE=-1>0.0000</FONT></TD>","<TD NOWRAP ALIGN=CENTER><FONT FACE=\"Times New Roman\" SIZE=-1>$0.00</FONT></TD>","</TR>"]
["Duanesburg CSD",{"$f":"'2017 Base Data'!F275","v":0},{"$f":"'2017 Base Data'!G275","v":0},null,{"$f":"'2017 Base Data'!I275","v":0},null,null,{"$f":"'2017 Base Data'!J275","v":0},null,null,{"$f":"'2017 Base Data'!K275","v":0},{"$f":"'2017 Base Data'!R275","v":0},null,null,{"$f":"ROUND(IF(S275<>0,R275*D275+S275*SUM(B275:C275)+T275*E275,R275*SUM(B275:D275)+T275*E275),2)","v":0},{"$f":"L275-O275","v":0},null,{"$f":"'2017 Base Data'!K275","v":0},{"$f":"'2017 Base Data'!L275","v":0},{"$f":"'2017 Base Data'!M275","v":0},{"$f":"\"E\"&U274&\":\"&\"E\"&V274","v":"E275:E276"},{"$f":"\"H\"&U274&\":\"&\"H\"&V274","v":"H275:H276"},{"$f":"\"L\"&U274&\":\"&\"L\"&V274","v":"L275:L276"},null,"<TR VALIGN=BOTTOM>",{"$f":"\"<TD NOWRAP ALIGN=LEFT><FONT FACE=\"\"Times New Roman\"\" SIZE=-1 COLOR=#00AA00\"\">\"&A275&\"</FONT></TD>\"","v":"<TD NOWRAP ALIGN=LEFT><FONT FACE=\"Times New Roman\" SIZE=-1 COLOR=#00AA00\">Duanesburg CSD</FONT></TD>"},"<TD NOWRAP ALIGN=RIGHT><FONT FACE=\"Times New Roman\" SIZE=-1>$0.00</FONT></TD>","<TD NOWRAP ALIGN=RIGHT><FONT FACE=\"Times New Roman\" SIZE=-1>$0.00</FONT></TD>","<TD NOWRAP ALIGN=RIGHT><FONT FACE=\"Times New Roman\" SIZE=-1><BR></FONT></TD>","<TD NOWRAP ALIGN=CENTER><FONT FACE=\"Times New Roman\" SIZE=-1>$0.00</FONT></TD>","<TD NOWRAP ALIGN=CENTER><FONT FACE=\"Times New Roman\" SIZE=-1>$0.00</FONT></TD>","<TD NOWRAP ALIGN=CENTER><FONT FACE=\"Times New Roman\" SIZE=-1>0.0000</FONT></TD>","<TD NOWRAP ALIGN=CENTER><FONT FACE=\"Times New Roman\" SIZE=-1>$0.00</FONT></TD>","</TR>"]
["Schalmont CSD",{"$f":"'2017 Base Data'!F276","v":0},{"$f":"'2017 Base Data'!G276","v":0},null,{"$f":"'2017 Base Data'!I276","v":0},null,null,{"$f":"'2017 Base Data'!J276","v":0},null,null,{"$f":"'2017 Base Data'!K276","v":0},{"$f":"'2017 Base Data'!R276","v":0},null,null,{"$f":"ROUND(IF(S276<>0,R276*D276+S276*SUM(B276:C276)+T276*E276,R276*SUM(B276:D276)+T276*E276),2)","v":0},{"$f":"L276-O276","v":0},null,{"$f":"'2017 Base Data'!K276","v":0},{"$f":"'2017 Base Data'!L276","v":0},{"$f":"'2017 Base Data'!M276","v":0},null,null,null,null,"<TR VALIGN=BOTTOM>",{"$f":"\"<TD NOWRAP ALIGN=LEFT><FONT FACE=\"\"Times New Roman\"\" SIZE=-1 COLOR=#00AA00\"\">\"&A276&\"</FONT></TD>\"","v":"<TD NOWRAP ALIGN=LEFT><FONT FACE=\"Times New Roman\" SIZE=-1 COLOR=#00AA00\">Schalmont CSD</FONT></TD>"},"<TD NOWRAP ALIGN=RIGHT><FONT FACE=\"Times New Roman\" SIZE=-1>$0.00</FONT></TD>","<TD NOWRAP ALIGN=RIGHT><FONT FACE=\"Times New Roman\" SIZE=-1>$0.00</FONT></TD>","<TD NOWRAP ALIGN=RIGHT><FONT FACE=\"Times New Roman\" SIZE=-1><BR></FONT></TD>","<TD NOWRAP ALIGN=CENTER><FONT FACE=\"Times New Roman\" SIZE=-1>$0.00</FONT></TD>","<TD NOWRAP ALIGN=CENTER><FONT FACE=\"Times New Roman\" SIZE=-1>$0.00</FONT></TD>","<TD NOWRAP ALIGN=CENTER><FONT FACE=\"Times New Roman\" SIZE=-1>0.0000</FONT></TD>","<TD NOWRAP ALIGN=CENTER><FONT FACE=\"Times New Roman\" SIZE=-1>$0.00</FONT></TD>","</TR>"]
["Town of Rotterdam",{"$f":"B278","v":0},{"$f":"C278","v":0},null,{"$f":"MIN(INDIRECT(U278))","v":0},{"$f":"IF(G277<>0,\"to\",\"\")","v":""},{"$f":"IF(U277<>V277,MAX(INDIRECT(U278)),0)","v":0},{"$f":"MIN(INDIRECT(V278))","v":0},{"$f":"IF(J277<>0,\"to\",\"\")","v":""},{"$f":"IF(U277<>V277,MAX(INDIRECT(V278)),0)","v":0},{"$f":"K278","v":0},{"$f":"MIN(INDIRECT(W278))","v":0},{"$f":"IF(N277<>0,\"to\",\"\")","v":""},{"$f":"IF(U277<>V277,MAX(INDIRECT(W278)),0)","v":0},null,null,null,null,null,null,{"$f":"CELL(\"row\",P278)","v":278},{"$f":"CELL(\"row\",P280)","v":280},null,null,"<TR VALIGN=BOTTOM BGCOLOR=\"#FFFFCC\">",{"$f":"\"<TH NOWRAP ALIGN=LEFT><FONT FACE=\"\"Times New Roman\"\" SIZE=-1>\"&A277&\"</FONT></TH>\"","v":"<TH NOWRAP ALIGN=LEFT><FONT FACE=\"Times New Roman\" SIZE=-1>Town of Rotterdam</FONT></TH>"},"<TD NOWRAP ALIGN=RIGHT><FONT FACE=\"Times New Roman\" SIZE=-1>$0.00</FONT></TD>","<TD NOWRAP ALIGN=RIGHT><FONT FACE=\"Times New Roman\" SIZE=-1>$0.00</FONT></TD>","<TD NOWRAP ALIGN=RIGHT><FONT FACE=\"Times New Roman\" SIZE=-1><BR></FONT></TD>","<TD NOWRAP ALIGN=CENTER><FONT FACE=\"Times New Roman\" SIZE=-1>$0.00</FONT></TD>","<TD NOWRAP ALIGN=CENTER><FONT FACE=\"Times New Roman\" SIZE=-1>$0.00</FONT></TD>","<TD NOWRAP ALIGN=CENTER><FONT FACE=\"Times New Roman\" SIZE=-1>0.0000</FONT></TD>","<TD NOWRAP ALIGN=CENTER><FONT FACE=\"Times New Roman\" SIZE=-1>$0.00</FONT></TD>","</TR>"]
["Rotterdam-Mohonasen CSD",{"$f":"'2017 Base Data'!F278","v":0},{"$f":"'2017 Base Data'!G278","v":0},null,{"$f":"'2017 Base Data'!I278","v":0},null,null,{"$f":"'2017 Base Data'!J278","v":0},null,null,{"$f":"'2017 Base Data'!K278","v":0},{"$f":"'2017 Base Data'!R278","v":0},null,null,{"$f":"ROUND(IF(S278<>0,R278*D278+S278*SUM(B278:C278)+T278*E278,R278*SUM(B278:D278)+T278*E278),2)","v":0},{"$f":"L278-O278","v":0},null,{"$f":"'2017 Base Data'!K278","v":0},{"$f":"'2017 Base Data'!L278","v":0},{"$f":"'2017 Base Data'!M278","v":0},{"$f":"\"E\"&U277&\":\"&\"E\"&V277","v":"E278:E280"},{"$f":"\"H\"&U277&\":\"&\"H\"&V277","v":"H278:H280"},{"$f":"\"L\"&U277&\":\"&\"L\"&V277","v":"L278:L280"},null,"<TR VALIGN=BOTTOM>",{"$f":"\"<TD NOWRAP ALIGN=LEFT><FONT FACE=\"\"Times New Roman\"\" SIZE=-1 COLOR=#00AA00\"\">\"&A278&\"</FONT></TD>\"","v":"<TD NOWRAP ALIGN=LEFT><FONT FACE=\"Times New Roman\" SIZE=-1 COLOR=#00AA00\">Rotterdam-Mohonasen CSD</FONT></TD>"},"<TD NOWRAP ALIGN=RIGHT><FONT FACE=\"Times New Roman\" SIZE=-1>$0.00</FONT></TD>","<TD NOWRAP ALIGN=RIGHT><FONT FACE=\"Times New Roman\" SIZE=-1>$0.00</FONT></TD>","<TD NOWRAP ALIGN=RIGHT><FONT FACE=\"Times New Roman\" SIZE=-1><BR></FONT></TD>","<TD NOWRAP ALIGN=CENTER><FONT FACE=\"Times New Roman\" SIZE=-1>$0.00</FONT></TD>","<TD NOWRAP ALIGN=CENTER><FONT FACE=\"Times New Roman\" SIZE=-1>$0.00</FONT></TD>","<TD NOWRAP ALIGN=CENTER><FONT FACE=\"Times New Roman\" SIZE=-1>0.0000</FONT></TD>","<TD NOWRAP ALIGN=CENTER><FONT FACE=\"Times New Roman\" SIZE=-1>$0.00</FONT></TD>","</TR>"]
["Schalmont CSD",{"$f":"'2017 Base Data'!F279","v":0},{"$f":"'2017 Base Data'!G279","v":0},null,{"$f":"'2017 Base Data'!I279","v":0},null,null,{"$f":"'2017 Base Data'!J279","v":0},null,null,{"$f":"'2017 Base Data'!K279","v":0},{"$f":"'2017 Base Data'!R279","v":0},null,null,{"$f":"ROUND(IF(S279<>0,R279*D279+S279*SUM(B279:C279)+T279*E279,R279*SUM(B279:D279)+T279*E279),2)","v":0},{"$f":"L279-O279","v":0},null,{"$f":"'2017 Base Data'!K279","v":0},{"$f":"'2017 Base Data'!L279","v":0},{"$f":"'2017 Base Data'!M279","v":0},null,null,null,null,"<TR VALIGN=BOTTOM>",{"$f":"\"<TD NOWRAP ALIGN=LEFT><FONT FACE=\"\"Times New Roman\"\" SIZE=-1 COLOR=#00AA00\"\">\"&A279&\"</FONT></TD>\"","v":"<TD NOWRAP ALIGN=LEFT><FONT FACE=\"Times New Roman\" SIZE=-1 COLOR=#00AA00\">Schalmont CSD</FONT></TD>"},"<TD NOWRAP ALIGN=RIGHT><FONT FACE=\"Times New Roman\" SIZE=-1>$0.00</FONT></TD>","<TD NOWRAP ALIGN=RIGHT><FONT FACE=\"Times New Roman\" SIZE=-1>$0.00</FONT></TD>","<TD NOWRAP ALIGN=RIGHT><FONT FACE=\"Times New Roman\" SIZE=-1><BR></FONT></TD>","<TD NOWRAP ALIGN=CENTER><FONT FACE=\"Times New Roman\" SIZE=-1>$0.00</FONT></TD>","<TD NOWRAP ALIGN=CENTER><FONT FACE=\"Times New Roman\" SIZE=-1>$0.00</FONT></TD>","<TD NOWRAP ALIGN=CENTER><FONT FACE=\"Times New Roman\" SIZE=-1>0.0000</FONT></TD>","<TD NOWRAP ALIGN=CENTER><FONT FACE=\"Times New Roman\" SIZE=-1>$0.00</FONT></TD>","</TR>"]
["Schenectady City SD",{"$f":"'2017 Base Data'!F280","v":0},{"$f":"'2017 Base Data'!G280","v":0},null,{"$f":"'2017 Base Data'!I280","v":0},null,null,{"$f":"'2017 Base Data'!J280","v":0},null,null,{"$f":"'2017 Base Data'!K280","v":0},{"$f":"'2017 Base Data'!R280","v":0},null,null,{"$f":"ROUND(IF(S280<>0,R280*D280+S280*SUM(B280:C280)+T280*E280,R280*SUM(B280:D280)+T280*E280),2)","v":0},{"$f":"L280-O280","v":0},null,{"$f":"'2017 Base Data'!K280","v":0},{"$f":"'2017 Base Data'!L280","v":0},{"$f":"'2017 Base Data'!M280","v":0},null,null,null,null,"<TR VALIGN=BOTTOM>",{"$f":"\"<TD NOWRAP ALIGN=LEFT><FONT FACE=\"\"Times New Roman\"\" SIZE=-1 COLOR=#00AA00\"\">\"&A280&\"</FONT></TD>\"","v":"<TD NOWRAP ALIGN=LEFT><FONT FACE=\"Times New Roman\" SIZE=-1 COLOR=#00AA00\">Schenectady City SD</FONT></TD>"},"<TD NOWRAP ALIGN=RIGHT><FONT FACE=\"Times New Roman\" SIZE=-1>$0.00</FONT></TD>","<TD NOWRAP ALIGN=RIGHT><FONT FACE=\"Times New Roman\" SIZE=-1>$0.00</FONT></TD>","<TD NOWRAP ALIGN=RIGHT><FONT FACE=\"Times New Roman\" SIZE=-1><BR></FONT></TD>","<TD NOWRAP ALIGN=CENTER><FONT FACE=\"Times New Roman\" SIZE=-1>$0.00</FONT></TD>","<TD NOWRAP ALIGN=CENTER><FONT FACE=\"Times New Roman\" SIZE=-1>$0.00</FONT></TD>","<TD NOWRAP ALIGN=CENTER><FONT FACE=\"Times New Roman\" SIZE=-1>0.0000</FONT></TD>","<TD NOWRAP ALIGN=CENTER><FONT FACE=\"Times New Roman\" SIZE=-1>$0.00</FONT></TD>","</TR>"]
["City of Schenectady",{"$f":"B282","v":0},null,{"$f":"D282","v":0},{"$f":"MIN(INDIRECT(U282))","v":0},{"$f":"IF(G281<>0,\"to\",\"\")","v":""},{"$f":"IF(U281<>V281,MAX(INDIRECT(U282)),0)","v":0},{"$f":"MIN(INDIRECT(V282))","v":0},{"$f":"IF(J281<>0,\"to\",\"\")","v":""},{"$f":"IF(U281<>V281,MAX(INDIRECT(V282)),0)","v":0},{"$f":"K282","v":0},{"$f":"MIN(INDIRECT(W282))","v":0},{"$f":"IF(N281<>0,\"to\",\"\")","v":""},{"$f":"IF(U281<>V281,MAX(INDIRECT(W282)),0)","v":0},null,null,null,null,null,null,{"$f":"CELL(\"row\",P282)","v":282},{"$f":"CELL(\"row\",P282)","v":282},null,null,"<TR VALIGN=BOTTOM BGCOLOR=\"#FFFFCC\">",{"$f":"\"<TH NOWRAP ALIGN=LEFT><FONT FACE=\"\"Times New Roman\"\" SIZE=-1 COLOR=#800000\"\">\"&A281&\"</FONT></TH>\"","v":"<TH NOWRAP ALIGN=LEFT><FONT FACE=\"Times New Roman\" SIZE=-1 COLOR=#800000\">City of Schenectady</FONT></TH>"},"<TD NOWRAP ALIGN=RIGHT><FONT FACE=\"Times New Roman\" SIZE=-1>$0.00</FONT></TD>","<TD NOWRAP ALIGN=RIGHT><FONT FACE=\"Times New Roman\" SIZE=-1><BR></FONT></TD>","<TD NOWRAP ALIGN=RIGHT><FONT FACE=\"Times New Roman\" SIZE=-1>$0.00</FONT></TD>","<TD NOWRAP ALIGN=CENTER><FONT FACE=\"Times New Roman\" SIZE=-1>$0.00</FONT></TD>","<TD NOWRAP ALIGN=CENTER><FONT FACE=\"Times New Roman\" SIZE=-1>$0.00</FONT></TD>","<TD NOWRAP ALIGN=CENTER><FONT FACE=\"Times New Roman\" SIZE=-1>0.0000</FONT></TD>","<TD NOWRAP ALIGN=CENTER><FONT FACE=\"Times New Roman\" SIZE=-1>$0.00</FONT></TD>","</TR>"]
["Schenectady City SD",{"$f":"'2017 Base Data'!F282","v":0},null,{"$f":"'2017 Base Data'!H282","v":0},{"$f":"'2017 Base Data'!I282","v":0},null,null,{"$f":"'2017 Base Data'!J282","v":0},null,null,{"$f":"'2017 Base Data'!K282","v":0},{"$f":"'2017 Base Data'!R282","v":0},null,null,{"$f":"ROUND(IF(S282<>0,R282*D282+S282*SUM(B282:C282)+T282*E282,R282*SUM(B282:D282)+T282*E282),2)","v":0},{"$f":"L282-O282","v":0},null,{"$f":"'2017 Base Data'!K282","v":0},{"$f":"'2017 Base Data'!L282","v":0},{"$f":"'2017 Base Data'!M282","v":0},{"$f":"\"E\"&U281&\":\"&\"E\"&V281","v":"E282:E282"},{"$f":"\"H\"&U281&\":\"&\"H\"&V281","v":"H282:H282"},{"$f":"\"L\"&U281&\":\"&\"L\"&V281","v":"L282:L282"},null,"<TR VALIGN=BOTTOM>",{"$f":"\"<TD NOWRAP ALIGN=LEFT><FONT FACE=\"\"Times New Roman\"\" SIZE=-1 COLOR=#00AA00\"\">\"&A282&\"</FONT></TD>\"","v":"<TD NOWRAP ALIGN=LEFT><FONT FACE=\"Times New Roman\" SIZE=-1 COLOR=#00AA00\">Schenectady City SD</FONT></TD>"},"<TD NOWRAP ALIGN=RIGHT><FONT FACE=\"Times New Roman\" SIZE=-1>$0.00</FONT></TD>","<TD NOWRAP ALIGN=RIGHT><FONT FACE=\"Times New Roman\" SIZE=-1><BR></FONT></TD>","<TD NOWRAP ALIGN=RIGHT><FONT FACE=\"Times New Roman\" SIZE=-1>$0.00</FONT></TD>","<TD NOWRAP ALIGN=CENTER><FONT FACE=\"Times New Roman\" SIZE=-1>$0.00</FONT></TD>","<TD NOWRAP ALIGN=CENTER><FONT FACE=\"Times New Roman\" SIZE=-1>$0.00</FONT></TD>","<TD NOWRAP ALIGN=CENTER><FONT FACE=\"Times New Roman\" SIZE=-1>0.0000</FONT></TD>","<TD NOWRAP ALIGN=CENTER><FONT FACE=\"Times New Roman\" SIZE=-1>$0.00</FONT></TD>","</TR>"]
["Capital District",null,null,null,{"$f":"MIN(E7:E281)","v":0},{"$f":"IF(G283<>0,\"to\",\"\")","v":""},{"$f":"MAX(E7:G281)","v":0},{"$f":"MIN(H7:H281)","v":0},{"$f":"IF(J283<>0,\"to\",\"\")","v":""},{"$f":"MAX(H7:J281)","v":0},null,{"$f":"MIN(L7:L281)","v":0},{"$f":"IF(N283<>0,\"to\",\"\")","v":"to"},{"$f":"MAX(L7:N281)","v":40.700000000000003},null,null,null,null,null,null,null,null,null,null,"<TR VALIGN=BOTTOM BGCOLOR=\"#CCCCFF\">",{"$f":"\"<TH NOWRAP ALIGN=LEFT><FONT FACE=\"\"Times New Roman\"\" COLOR=##AA00AA\"\">\"&A283&\"</FONT></TH>\"","v":"<TH NOWRAP ALIGN=LEFT><FONT FACE=\"Times New Roman\" COLOR=##AA00AA\">Capital District</FONT></TH>"},"<TD NOWRAP ALIGN=RIGHT><FONT FACE=\"Times New Roman\" SIZE=-1><BR></FONT></TD>","<TD NOWRAP ALIGN=RIGHT><FONT FACE=\"Times New Roman\" SIZE=-1><BR></FONT></TD>","<TD NOWRAP ALIGN=RIGHT><FONT FACE=\"Times New Roman\" SIZE=-1><BR></FONT></TD>","<TD NOWRAP ALIGN=CENTER><FONT FACE=\"Times New Roman\" SIZE=-1>$0.00</FONT></TD>","<TD NOWRAP ALIGN=CENTER><FONT FACE=\"Times New Roman\" SIZE=-1>$0.00</FONT></TD>","<TD NOWRAP ALIGN=CENTER><FONT FACE=\"Times New Roman\" SIZE=-1><BR></FONT></TD>","<TD NOWRAP ALIGN=CENTER><FONT FACE=\"Times New Roman\" SIZE=-1>$0.00 to $40.70</FONT></TD>","</TR>"]

{"sheet":"2017","index":5,"n_rows":90,"n_cols":25,"rows_kept":90,"cut":false,"hidden":false,"merged":[]}
[null,{"$f":"'2017 Base Data'!A1&\" Tax Rates per $1,000 in Assessed Valuation\"","v":"2017 Tax Rates per $1,000 in Assessed Valuation"},null,null,null,null,null,null,null,null,null,"Total Overall"]
[null,null,null,"City or",null,null,null,null,null,null,"Equal.","Full Value Range:",null,null,null,"HTML Code"]
["City, Town, or Village","County","Town","Village","School District Range",null,null,"Total Overall Range",null,null,"Rate","Rate per $1,000"]
["Albany County",null,null,null,{"$f":"MIN(E5:E23)","v":0},{"$f":"IF(G4<>0,\"to\",\"\")","v":""},{"$f":"MAX(E5:G23)","v":0},{"$f":"MIN(H5:H23)","v":0},{"$f":"IF(J4<>0,\"to\",\"\")","v":""},{"$f":"MAX(H5:J23)","v":0},null,{"$f":"MIN(L5:L23)","v":0},{"$f":"IF(N4<>0,\"to\",\"\")","v":"to"},{"$f":"MAX(L5:N23)","v":40.700000000000003},null,"<TR VALIGN=BOTTOM BGCOLOR=\"#CCCCFF\">",{"$f":"\"<TH NOWRAP ALIGN=LEFT><FONT FACE=\"\"Times New Roman\"\" COLOR=\"\"#AA00AA\"\">\"&A4&\"</FONT></TH>\"","v":"<TH NOWRAP ALIGN=LEFT><FONT FACE=\"Times New Roman\" COLOR=\"#AA00AA\">Albany County</FONT></TH>"},{"$f":"\"<TD NOWRAP ALIGN=RIGHT><FONT FACE=\"\"Times New Roman\"\" SIZE=-1>\"&IF(B4=\"\",\"<BR>\",TEXT(B4,\"$#,##0.00\"))&\"</FONT></TD>\"","v":"<TD NOWRAP ALIGN=RIGHT><FONT FACE=\"Times New Roman\" SIZE=-1><BR></FONT></TD>"},"<TD NOWRAP ALIGN=RIGHT><FONT FACE=\"Times New Roman\" SIZE=-1><BR></FONT></TD>","<TD NOWRAP ALIGN=RIGHT><FONT FACE=\"Times New Roman\" SIZE=-1><BR></FONT></TD>",{"$f":"\"<TD NOWRAP ALIGN=CENTER><FONT FACE=\"\"Times New Roman\"\" SIZE=-1>\"&TEXT(E4,\"$#,##0.00\")&IF(F4=\"\",\"\",\" to \")&IF(G4=\"\",\"\",TEXT(G4,\"$#,##0.00\"))&\"</FONT></TD>\"","v":"<TD NOWRAP ALIGN=CENTER><FONT FACE=\"Times New Roman\" SIZE=-1>$0.00$0.00</FONT></TD>"},{"$f":"\"<TD NOWRAP ALIGN=CENTER><FONT FACE=\"\"Times New Roman\"\" SIZE=-1>\"&TEXT(H4,\"$#,##0.00\")&IF(I4=\"\",\"\",\" to \")&IF(J4=\"\",\"\",TEXT(J4,\"$#,##0.00\"))&\"</FONT></TD>\"","v":"<TD NOWRAP ALIGN=CENTER><FONT FACE=\"Times New Roman\" SIZE=-1>$0.00$0.00</FONT></TD>"},{"$f":"\"<TD NOWRAP ALIGN=CENTER><FONT FACE=\"\"Times New Roman\"\" SIZE=-1>\"&IF(K4=\"\",\"<BR>\",TEXT(K4,\"0.0000\"))&\"</FONT></TD>\"","v":"<TD NOWRAP ALIGN=CENTER><FONT FACE=\"Times New Roman\" SIZE=-1><BR></FONT></TD>"},{"$f":"\"<TD NOWRAP ALIGN=CENTER><FONT FACE=\"\"Times New Roman\"\" SIZE=-1>\"&TEXT(L4,\"$#,##0.00\")&IF(M4=\"\",\"\",\" to \")&IF(N4=\"\",\"\",TEXT(N4,\"$#,##0.00\"))&\"</FONT></TD>\"","v":"<TD NOWRAP ALIGN=CENTER><FONT FACE=\"Times New Roman\" SIZE=-1>$0.00 to $40.70</FONT></TD>"},"</TR>"]
[{"$f":"'2017 SD'!A8","v":"City of Albany"},{"$f":"'2017 SD'!B8","v":3.72},null,{"$f":"'2017 SD'!D8","v":11.99},{"$f":"'2017 SD'!E8","v":0},null,null,{"$f":"'2017 SD'!H8","v":0},null,null,{"$f":"'2017 SD'!K8","v":0},{"$f":"'2017 SD'!L8","v":40.700000000000003},null,null,null,"<TR VALIGN=BOTTOM>",{"$f":"\"<TD NOWRAP ALIGN=LEFT><FONT FACE=\"\"Times New Roman\"\" SIZE=-1 COLOR=#800000\"\">\"&A5&\"</FONT></TD>\"","v":"<TD NOWRAP ALIGN=LEFT><FONT FACE=\"Times New Roman\" SIZE=-1 COLOR=#800000\">City of Albany</FONT></TD>"},"<TD NOWRAP ALIGN=RIGHT><FONT FACE=\"Times New Roman\" SIZE=-1>$3.72</FONT></TD>","<TD NOWRAP ALIGN=RIGHT><FONT FACE=\"Times New Roman\" SIZE=-1><BR></FONT></TD>","<TD NOWRAP ALIGN=RIGHT><FONT FACE=\"Times New Roman\" SIZE=-1>$11.99</FONT></TD>","<TD NOWRAP ALIGN=CENTER><FONT FACE=\"Times New Roman\" SIZE=-1>$0.00</FONT></TD>","<TD NOWRAP ALIGN=CENTER><FONT FACE=\"Times New Roman\" SIZE=-1>$0.00</FONT></TD>","<TD NOWRAP ALIGN=CENTER><FONT FACE=\"Times New Roman\" SIZE=-1>0.0000</FONT></TD>","<TD NOWRAP ALIGN=CENTER><FONT FACE=\"Times New Roman\" SIZE=-1>$40.70</FONT></TD>","</TR>"]
["Town of Berne",{"$f":"'2017 SD'!B10","v":3.72},{"$f":"'2017 SD'!C10","v":3.09},null,{"$f":"'2017 SD'!E10","v":0},{"$f":"'2017 SD'!F10","v":""},{"$f":"'2017 SD'!G10","v":0},{"$f":"'2017 SD'!H10","v":0},{"$f":"'2017 SD'!I10","v":""},{"$f":"'2017 SD'!J10","v":0},{"$f":"'2017 SD'!K10","v":0},{"$f":"'2017 SD'!L10","v":26.57},{"$f":"'2017 SD'!M10","v":"to"},{"$f":"'2017 SD'!N10","v":28.509999999999998},null,"<TR VALIGN=BOTTOM>",{"$f":"\"<TD NOWRAP ALIGN=LEFT><FONT FACE=\"\"Times New Roman\"\" SIZE=-1>\"&A6&\"</FONT></TD>\"","v":"<TD NOWRAP ALIGN=LEFT><FONT FACE=\"Times New Roman\" SIZE=-1>Town of Berne</FONT></TD>"},"<TD NOWRAP ALIGN=RIGHT><FONT FACE=\"Times New Roman\" SIZE=-1>$3.72</FONT></TD>","<TD NOWRAP ALIGN=RIGHT><FONT FACE=\"Times New Roman\" SIZE=-1>$3.09</FONT></TD>","<TD NOWRAP ALIGN=RIGHT><FONT FACE=\"Times New Roman\" SIZE=-1><BR></FONT></TD>","<TD NOWRAP ALIGN=CENTER><FONT FACE=\"Times New Roman\" SIZE=-1>$0.00$0.00</FONT></TD>","<TD NOWRAP ALIGN=CENTER><FONT FACE=\"Times New Roman\" SIZE=-1>$0.00$0.00</FONT></TD>","<TD NOWRAP ALIGN=CENTER><FONT FACE=\"Times New Roman\" SIZE=-1>0.0000</FONT></TD>","<TD NOWRAP ALIGN=CENTER><FONT FACE=\"Times New Roman\" SIZE=-1>$26.57 to $28.51</FONT></TD>","</TR>"]
["Town of Bethlehem",{"$f":"'2017 SD'!B15","v":0},{"$f":"'2017 SD'!C15","v":0},null,{"$f":"'2017 SD'!E15","v":0},{"$f":"'2017 SD'!F15","v":""},{"$f":"'2017 SD'!G15","v":0},{"$f":"'2017 SD'!H15","v":0},{"$f":"'2017 SD'!I15","v":""},{"$f":"'2017 SD'!J15","v":0},{"$f":"'2017 SD'!K15","v":0},{"$f":"'2017 SD'!L15","v":0},{"$f":"'2017 SD'!M15","v":""},{"$f":"'2017 SD'!N15","v":0},null,"<TR VALIGN=BOTTOM>",{"$f":"\"<TD NOWRAP ALIGN=LEFT><FONT FACE=\"\"Times New Roman\"\" SIZE=-1>\"&A7&\"</FONT></TD>\"","v":"<TD NOWRAP ALIGN=LEFT><FONT FACE=\"Times New Roman\" SIZE=-1>Town of Bethlehem</FONT></TD>"},"<TD NOWRAP ALIGN=RIGHT><FONT FACE=\"Times New Roman\" SIZE=-1>$0.00</FONT></TD>","<TD NOWRAP ALIGN=RIGHT><FONT FACE=\"Times New Roman\" SIZE=-1>$0.00</FONT></TD>","<TD NOWRAP ALIGN=RIGHT><FONT FACE=\"Times New Roman\" SIZE=-1><BR></FONT></TD>","<TD NOWRAP ALIGN=CENTER><FONT FACE=\"Times New Roman\" SIZE=-1>$0.00$0.00</FONT></TD>","<TD NOWRAP ALIGN=CENTER><FONT FACE=\"Times New Roman\" SIZE=-1>$0.00$0.00</FONT></TD>","<TD NOWRAP ALIGN=CENTER><FONT FACE=\"Times New Roman\" SIZE=-1>0.0000</FONT></TD>","<TD NOWRAP ALIGN=CENTER><FONT FACE=\"Times New Roman\" SIZE=-1>$0.00$0.00</FONT></TD>","</TR>"]
["Town of Coeymans",{"$f":"'2017 SD'!B19","v":0},{"$f":"'2017 SD'!C19","v":0},null,{"$f":"'2017 SD'!E19","v":0},{"$f":"'2017 SD'!F19","v":""},{"$f":"'2017 SD'!G19","v":0},{"$f":"'2017 SD'!H19","v":0},{"$f":"'2017 SD'!I19","v":""},{"$f":"'2017 SD'!J19","v":0},{"$f":"'2017 SD'!K19","v":0},{"$f":"'2017 SD'!L19","v":0},{"$f":"'2017 SD'!M19","v":""},{"$f":"'2017 SD'!N19","v":0},null,"<TR VALIGN=BOTTOM>",{"$f":"\"<TD NOWRAP ALIGN=LEFT><FONT FACE=\"\"Times New Roman\"\" SIZE=-1>\"&A8&\"</FONT></TD>\"","v":"<TD NOWRAP ALIGN=LEFT><FONT FACE=\"Times New Roman\" SIZE=-1>Town of Coeymans</FONT></TD>"},"<TD NOWRAP ALIGN=RIGHT><FONT FACE=\"Times New Roman\" SIZE=-1>$0.00</FONT></TD>","<TD NOWRAP ALIGN=RIGHT><FONT FACE=\"Times New Roman\" SIZE=-1>$0.00</FONT></TD>","<TD NOWRAP ALIGN=RIGHT><FONT FACE=\"Times New Roman\" SIZE=-1><BR></FONT></TD>","<TD NOWRAP ALIGN=CENTER><FONT FACE=\"Times New Roman\" SIZE=-1>$0.00$0.00</FONT></TD>","<TD NOWRAP ALIGN=CENTER><FONT FACE=\"Times New Roman\" SIZE=-1>$0.00$0.00</FONT></TD>","<TD NOWRAP ALIGN=CENTER><FONT FACE=\"Times New Roman\" SIZE=-1>0.0000</FONT></TD>","<TD NOWRAP ALIGN=CENTER><FONT FACE=\"Times New Roman\" SIZE=-1>$0.00$0.00</FONT></TD>","</TR>"]
["Village of Ravena",{"$f":"'2017 SD'!B22","v":0},{"$f":"'2017 SD'!C22","v":0},{"$f":"'2017 SD'!D22","v":0},{"$f":"'2017 SD'!E22","v":0},null,null,{"$f":"'2017 SD'!H22","v":0},null,null,{"$f":"'2017 SD'!K22","v":0},{"$f":"'2017 SD'!L22","v":0},null,null,null,"<TR VALIGN=BOTTOM>",{"$f":"\"<TD NOWRAP ALIGN=LEFT><FONT FACE=\"\"Times New Roman\"\" SIZE=-1 COLOR=\"\"#008000\"\">\"&A9&\"</FONT></TD>\"","v":"<TD NOWRAP ALIGN=LEFT><FONT FACE=\"Times New Roman\" SIZE=-1 COLOR=\"#008000\">Village of Ravena</FONT></TD>"},"<TD NOWRAP ALIGN=RIGHT><FONT FACE=\"Times New Roman\" SIZE=-1>$0.00</FONT></TD>","<TD NOWRAP ALIGN=RIGHT><FONT FACE=\"Times New Roman\" SIZE=-1>$0.00</FONT></TD>","<TD NOWRAP ALIGN=RIGHT><FONT FACE=\"Times New Roman\" SIZE=-1>$0.00</FONT></TD>","<TD NOWRAP ALIGN=CENTER><FONT FACE=\"Times New Roman\" SIZE=-1>$0.00</FONT></TD>","<TD NOWRAP ALIGN=CENTER><FONT FACE=\"Times New Roman\" SIZE=-1>$0.00</FONT></TD>","<TD NOWRAP ALIGN=CENTER><FONT FACE=\"Times New Roman\" SIZE=-1>0.0000</FONT></TD>","<TD NOWRAP ALIGN=CENTER><FONT FACE=\"Times New Roman\" SIZE=-1>$0.00</FONT></TD>","</TR>"]
["City of Cohoes",{"$f":"'2017 SD'!B24","v":0},null,{"$f":"'2017 SD'!D24","v":0},{"$f":"'2017 SD'!E24","v":0},null,null,{"$f":"'2017 SD'!H24","v":0},null,null,{"$f":"'2017 SD'!K24","v":0},{"$f":"'2017 SD'!L24","v":0},null,null,null,"<TR VALIGN=BOTTOM>",{"$f":"\"<TD NOWRAP ALIGN=LEFT><FONT FACE=\"\"Times New Roman\"\" SIZE=-1 COLOR=#800000\"\">\"&A10&\"</FONT></TD>\"","v":"<TD NOWRAP ALIGN=LEFT><FONT FACE=\"Times New Roman\" SIZE=-1 COLOR=#800000\">City of Cohoes</FONT></TD>"},"<TD NOWRAP ALIGN=RIGHT><FONT FACE=\"Times New Roman\" SIZE=-1>$0.00</FONT></TD>","<TD NOWRAP ALIGN=RIGHT><FONT FACE=\"Times New Roman\" SIZE=-1><BR></FONT></TD>","<TD NOWRAP ALIGN=RIGHT><FONT FACE=\"Times New Roman\" SIZE=-1>$0.00</FONT></TD>","<TD NOWRAP ALIGN=CENTER><FONT FACE=\"Times New Roman\" SIZE=-1>$0.00</FONT></TD>","<TD NOWRAP ALIGN=CENTER><FONT FACE=\"Times New Roman\" SIZE=-1>$0.00</FONT></TD>","<TD NOWRAP ALIGN=CENTER><FONT FACE=\"Times New Roman\" SIZE=-1>0.0000</FONT></TD>","<TD NOWRAP ALIGN=CENTER><FONT FACE=\"Times New Roman\" SIZE=-1>$0.00</FONT></TD>","</TR>"]
["Town of Colonie",{"$f":"'2017 SD'!B26","v":0},{"$f":"'2017 SD'!C26","v":0},null,{"$f":"'2017 SD'!E26","v":0},{"$f":"'2017 SD'!F26","v":""},{"$f":"'2017 SD'!G26","v":0},{"$f":"'2017 SD'!H26","v":0},{"$f":"'2017 SD'!I26","v":""},{"$f":"'2017 SD'!J26","v":0},{"$f":"'2017 SD'!K26","v":0},{"$f":"'2017 SD'!L26","v":0},{"$f":"'2017 SD'!M26","v":""},{"$f":"'2017 SD'!N26","v":0},null,"<TR VALIGN=BOTTOM>",{"$f":"\"<TD NOWRAP ALIGN=LEFT><FONT FACE=\"\"Times New Roman\"\" SIZE=-1>\"&A11&\"</FONT></TD>\"","v":"<TD NOWRAP ALIGN=LEFT><FONT FACE=\"Times New Roman\" SIZE=-1>Town of Colonie</FONT></TD>"},"<TD NOWRAP ALIGN=RIGHT><FONT FACE=\"Times New Roman\" SIZE=-1>$0.00</FONT></TD>","<TD NOWRAP ALIGN=RIGHT><FONT FACE=\"Times New Roman\" SIZE=-1>$0.00</FONT></TD>","<TD NOWRAP ALIGN=RIGHT><FONT FACE=\"Times New Roman\" SIZE=-1><BR></FONT></TD>","<TD NOWRAP ALIGN=CENTER><FONT FACE=\"Times New Roman\" SIZE=-1>$0.00$0.00</FONT></TD>","<TD NOWRAP ALIGN=CENTER><FONT FACE=\"Times New Roman\" SIZE=-1>$0.00$0.00</FONT></TD>","<TD NOWRAP ALIGN=CENTER><FONT FACE=\"Times New Roman\" SIZE=-1>0.0000</FONT></TD>","<TD NOWRAP ALIGN=CENTER><FONT FACE=\"Times New Roman\" SIZE=-1>$0.00$0.00</FONT></TD>","</TR>"]
["Village of Colonie",{"$f":"'2017 SD'!B33","v":0},{"$f":"'2017 SD'!C33","v":0},{"$f":"'2017 SD'!D33","v":0},{"$f":"'2017 SD'!E33","v":0},null,null,{"$f":"'2017 SD'!H33","v":0},null,null,{"$f":"'2017 SD'!K33","v":0},{"$f":"'2017 SD'!L33","v":0},null,null,null,"<TR VALIGN=BOTTOM>",{"$f":"\"<TD NOWRAP ALIGN=LEFT><FONT FACE=\"\"Times New Roman\"\" SIZE=-1 COLOR=\"\"#008000\"\">\"&A12&\"</FONT></TD>\"","v":"<TD NOWRAP ALIGN=LEFT><FONT FACE=\"Times New Roman\" SIZE=-1 COLOR=\"#008000\">Village of Colonie</FONT></TD>"},"<TD NOWRAP ALIGN=RIGHT><FONT FACE=\"Times New Roman\" SIZE=-1>$0.00</FONT></TD>","<TD NOWRAP ALIGN=RIGHT><FONT FACE=\"Times New Roman\" SIZE=-1>$0.00</FONT></TD>","<TD NOWRAP ALIGN=RIGHT><FONT FACE=\"Times New Roman\" SIZE=-1>$0.00</FONT></TD>","<TD NOWRAP ALIGN=CENTER><FONT FACE=\"Times New Roman\" SIZE=-1>$0.00</FONT></TD>","<TD NOWRAP ALIGN=CENTER><FONT FACE=\"Times New Roman\" SIZE=-1>$0.00</FONT></TD>","<TD NOWRAP ALIGN=CENTER><FONT FACE=\"Times New Roman\" SIZE=-1>0.0000</FONT></TD>","<TD NOWRAP ALIGN=CENTER><FONT FACE=\"Times New Roman\" SIZE=-1>$0.00</FONT></TD>","</TR>"]
["Village of Menands",{"$f":"'2017 SD'!B35","v":0},{"$f":"'2017 SD'!C35","v":0},{"$f":"'2017 SD'!D35","v":0},{"$f":"'2017 SD'!E35","v":0},null,null,{"$f":"'2017 SD'!H35","v":0},null,null,{"$f":"'2017 SD'!K35","v":0},{"$f":"'2017 SD'!L35","v":0},null,null,null,"<TR VALIGN=BOTTOM>",{"$f":"\"<TD NOWRAP ALIGN=LEFT><FONT FACE=\"\"Times New Roman\"\" SIZE=-1 COLOR=\"\"#008000\"\">\"&A13&\"</FONT></TD>\"","v":"<TD NOWRAP ALIGN=LEFT><FONT FACE=\"Times New Roman\" SIZE=-1 COLOR=\"#008000\">Village of Menands</FONT></TD>"},"<TD NOWRAP ALIGN=RIGHT><FONT FACE=\"Times New Roman\" SIZE=-1>$0.00</FONT></TD>","<TD NOWRAP ALIGN=RIGHT><FONT FACE=\"Times New Roman\" SIZE=-1>$0.00</FONT></TD>","<TD NOWRAP ALIGN=RIGHT><FONT FACE=\"Times New Roman\" SIZE=-1>$0.00</FONT></TD>","<TD NOWRAP ALIGN=CENTER><FONT FACE=\"Times New Roman\" SIZE=-1>$0.00</FONT></TD>","<TD NOWRAP ALIGN=CENTER><FONT FACE=\"Times New Roman\" SIZE=-1>$0.00</FONT></TD>","<TD NOWRAP ALIGN=CENTER><FONT FACE=\"Times New Roman\" SIZE=-1>0.0000</FONT></TD>","<TD NOWRAP ALIGN=CENTER><FONT FACE=\"Times New Roman\" SIZE=-1>$0.00</FONT></TD>","</TR>"]
["Town of Green Island","COTERMINUS TOWN/VILLAGE – SEE LINE BELOW",null,null,null,null,null,null,null,null,null,null,null,null,null,"<TR VALIGN=BOTTOM>","<TD NOWRAP><FONT FACE=\"Times New Roman\" SIZE=-1>Town of Green Island</FONT></TD>","<TH NOWRAP COLSPAN=7><FONT FACE=\"Times New Roman\" SIZE=-1>Coterminous Town/Village - Taxes Are Levied by the Village Only - see Village below</FONT></TH>","</TR>"]
["Village of Green Island",{"$f":"'2017 SD'!B38","v":0},null,{"$f":"'2017 SD'!D38","v":0},{"$f":"'2017 SD'!E38","v":0},null,null,{"$f":"'2017 SD'!H38","v":0},null,null,{"$f":"'2017 SD'!K38","v":0},{"$f":"'2017 SD'!L38","v":0},null,null,null,"<TR VALIGN=BOTTOM>",{"$f":"\"<TD NOWRAP ALIGN=LEFT><FONT FACE=\"\"Times New Roman\"\" SIZE=-1 COLOR=\"\"#008000\"\">\"&A15&\"</FONT></TD>\"","v":"<TD NOWRAP ALIGN=LEFT><FONT FACE=\"Times New Roman\" SIZE=-1 COLOR=\"#008000\">Village of Green Island</FONT></TD>"},{"$f":"\"<TD NOWRAP ALIGN=RIGHT><FONT FACE=\"\"Times New Roman\"\" SIZE=-1>\"&IF(B15=\"\",\"<BR>\",TEXT(B15,\"$#,##0.00\"))&\"</FONT></TD>\"","v":"<TD NOWRAP ALIGN=RIGHT><FONT FACE=\"Times New Roman\" SIZE=-1>$0.00</FONT></TD>"},"<TD NOWRAP ALIGN=RIGHT><FONT FACE=\"Times New Roman\" SIZE=-1><BR></FONT></TD>","<TD NOWRAP ALIGN=RIGHT><FONT FACE=\"Times New Roman\" SIZE=-1>$0.00</FONT></TD>",{"$f":"\"<TD NOWRAP ALIGN=CENTER><FONT FACE=\"\"Times New Roman\"\" SIZE=-1>\"&TEXT(E15,\"$#,##0.00\")&IF(F15=\"\",\"\",\" to \")&IF(G15=\"\",\"\",TEXT(G15,\"$#,##0.00\"))&\"</FONT></TD>\"","v":"<TD NOWRAP ALIGN=CENTER><FONT FACE=\"Times New Roman\" SIZE=-1>$0.00</FONT></TD>"},{"$f":"\"<TD NOWRAP ALIGN=CENTER><FONT FACE=\"\"Times New Roman\"\" SIZE=-1>\"&TEXT(H15,\"$#,##0.00\")&IF(I15=\"\",\"\",\" to \")&IF(J15=\"\",\"\",TEXT(J15,\"$#,##0.00\"))&\"</FONT></TD>\"","v":"<TD NOWRAP ALIGN=CENTER><FONT FACE=\"Times New Roman\" SIZE=-1>$0.00</FONT></TD>"},{"$f":"\"<TD NOWRAP ALIGN=CENTER><FONT FACE=\"\"Times New Roman\"\" SIZE=-1>\"&IF(K15=\"\",\"<BR>\",TEXT(K15,\"0.0000\"))&\"</FONT></TD>\"","v":"<TD NOWRAP ALIGN=CENTER><FONT FACE=\"Times New Roman\" SIZE=-1>0.0000</FONT></TD>"},{"$f":"\"<TD NOWRAP ALIGN=CENTER><FONT FACE=\"\"Times New Roman\"\" SIZE=-1>\"&TEXT(L15,\"$#,##0.00\")&IF(M15=\"\",\"\",\" to \")&IF(N15=\"\",\"\",TEXT(N15,\"$#,##0.00\"))&\"</FONT></TD>\"","v":"<TD NOWRAP ALIGN=CENTER><FONT FACE=\"Times New Roman\" SIZE=-1>$0.00</FONT></TD>"},"</TR>"]
["Town of Guilderland",{"$f":"'2017 SD'!B40","v":0},{"$f":"'2017 SD'!C40","v":0},null,{"$f":"'2017 SD'!E40","v":0},{"$f":"'2017 SD'!F40","v":""},{"$f":"'2017 SD'!G40","v":0},{"$f":"'2017 SD'!H40","v":0},{"$f":"'2017 SD'!I40","v":""},{"$f":"'2017 SD'!J40","v":0},{"$f":"'2017 SD'!K40","v":0},{"$f":"'2017 SD'!L40","v":0},{"$f":"'2017 SD'!M40","v":""},{"$f":"'2017 SD'!N40","v":0},null,"<TR VALIGN=BOTTOM>",{"$f":"\"<TD NOWRAP ALIGN=LEFT><FONT FACE=\"\"Times New Roman\"\" SIZE=-1>\"&A16&\"</FONT></TD>\"","v":"<TD NOWRAP ALIGN=LEFT><FONT FACE=\"Times New Roman\" SIZE=-1>Town of Guilderland</FONT></TD>"},"<TD NOWRAP ALIGN=RIGHT><FONT FACE=\"Times New Roman\" SIZE=-1>$0.00</FONT></TD>","<TD NOWRAP ALIGN=RIGHT><FONT FACE=\"Times New Roman\" SIZE=-1>$0.00</FONT></TD>","<TD NOWRAP ALIGN=RIGHT><FONT FACE=\"Times New Roman\" SIZE=-1><BR></FONT></TD>","<TD NOWRAP ALIGN=CENTER><FONT FACE=\"Times New Roman\" SIZE=-1>$0.00$0.00</FONT></TD>","<TD NOWRAP ALIGN=CENTER><FONT FACE=\"Times New Roman\" SIZE=-1>$0.00$0.00</FONT></TD>","<TD NOWRAP ALIGN=CENTER><FONT FACE=\"Times New Roman\" SIZE=-1>0.0000</FONT></TD>","<TD NOWRAP ALIGN=CENTER><FONT FACE=\"Times New Roman\" SIZE=-1>$0.00$0.00</FONT></TD>","</TR>"]
["Village of Altamont",{"$f":"'2017 SD'!B46","v":0},{"$f":"'2017 SD'!C46","v":0},{"$f":"'2017 SD'!D46","v":0},{"$f":"'2017 SD'!E46","v":0},null,null,{"$f":"'2017 SD'!H46","v":0},null,null,{"$f":"'2017 SD'!K46","v":0},{"$f":"'2017 SD'!L46","v":0},null,null,null,"<TR VALIGN=BOTTOM>",{"$f":"\"<TD NOWRAP ALIGN=LEFT><FONT FACE=\"\"Times New Roman\"\" SIZE=-1 COLOR=\"\"#008000\"\">\"&A17&\"</FONT></TD>\"","v":"<TD NOWRAP ALIGN=LEFT><FONT FACE=\"Times New Roman\" SIZE=-1 COLOR=\"#008000\">Village of Altamont</FONT></TD>"},"<TD NOWRAP ALIGN=RIGHT><FONT FACE=\"Times New Roman\" SIZE=-1>$0.00</FONT></TD>","<TD NOWRAP ALIGN=RIGHT><FONT FACE=\"Times New Roman\" SIZE=-1>$0.00</FONT></TD>","<TD NOWRAP ALIGN=RIGHT><FONT FACE=\"Times New Roman\" SIZE=-1>$0.00</FONT></TD>","<TD NOWRAP ALIGN=CENTER><FONT FACE=\"Times New Roman\" SIZE=-1>$0.00</FONT></TD>","<TD NOWRAP ALIGN=CENTER><FONT FACE=\"Times New Roman\" SIZE=-1>$0.00</FONT></TD>","<TD NOWRAP ALIGN=CENTER><FONT FACE=\"Times New Roman\" SIZE=-1>0.0000</FONT></TD>","<TD NOWRAP ALIGN=CENTER><FONT FACE=\"Times New Roman\" SIZE=-1>$0.00</FONT></TD>","</TR>"]
["Town of Knox",{"$f":"'2017 SD'!B48","v":0},{"$f":"'2017 SD'!C48","v":0},null,{"$f":"'2017 SD'!E48","v":0},{"$f":"'2017 SD'!F48","v":""},{"$f":"'2017 SD'!G48","v":0},{"$f":"'2017 SD'!H48","v":0},{"$f":"'2017 SD'!I48","v":""},{"$f":"'2017 SD'!J48","v":0},{"$f":"'2017 SD'!K48","v":0},{"$f":"'2017 SD'!L48","v":0},{"$f":"'2017 SD'!M48","v":""},{"$f":"'2017 SD'!N48","v":0},null,"<TR VALIGN=BOTTOM>",{"$f":"\"<TD NOWRAP ALIGN=LEFT><FONT FACE=\"\"Times New Roman\"\" SIZE=-1>\"&A18&\"</FONT></TD>\"","v":"<TD NOWRAP ALIGN=LEFT><FONT FACE=\"Times New Roman\" SIZE=-1>Town of Knox</FONT></TD>"},"<TD NOWRAP ALIGN=RIGHT><FONT FACE=\"Times New Roman\" SIZE=-1>$0.00</FONT></TD>","<TD NOWRAP ALIGN=RIGHT><FONT FACE=\"Times New Roman\" SIZE=-1>$0.00</FONT></TD>","<TD NOWRAP ALIGN=RIGHT><FONT FACE=\"Times New Roman\" SIZE=-1><BR></FONT></TD>","<TD NOWRAP ALIGN=CENTER><FONT FACE=\"Times New Roman\" SIZE=-1>$0.00$0.00</FONT></TD>","<TD NOWRAP ALIGN=CENTER><FONT FACE=\"Times New Roman\" SIZE=-1>$0.00$0.00</FONT></TD>","<TD NOWRAP ALIGN=CENTER><FONT FACE=\"Times New Roman\" SIZE=-1>0.0000</FONT></TD>","<TD NOWRAP ALIGN=CENTER><FONT FACE=\"Times New Roman\" SIZE=-1>$0.00$0.00</FONT></TD>","</TR>"]
["Town of New Scotland",{"$f":"'2017 SD'!B53","v":0},{"$f":"'2017 SD'!C53","v":0},null,{"$f":"'2017 SD'!E53","v":0},{"$f":"'2017 SD'!F53","v":""},{"$f":"'2017 SD'!G53","v":0},{"$f":"'2017 SD'!H53","v":0},{"$f":"'2017 SD'!I53","v":""},{"$f":"'2017 SD'!J53","v":0},{"$f":"'2017 SD'!K53","v":0},{"$f":"'2017 SD'!L53","v":0},{"$f":"'2017 SD'!M53","v":""},{"$f":"'2017 SD'!N53","v":0},null,"<TR VALIGN=BOTTOM>",{"$f":"\"<TD NOWRAP ALIGN=LEFT><FONT FACE=\"\"Times New Roman\"\" SIZE=-1>\"&A19&\"</FONT></TD>\"","v":"<TD NOWRAP ALIGN=LEFT><FONT FACE=\"Times New Roman\" SIZE=-1>Town of New Scotland</FONT></TD>"},"<TD NOWRAP ALIGN=RIGHT><FONT FACE=\"Times New Roman\" SIZE=-1>$0.00</FONT></TD>","<TD NOWRAP ALIGN=RIGHT><FONT FACE=\"Times New Roman\" SIZE=-1>$0.00</FONT></TD>","<TD NOWRAP ALIGN=RIGHT><FONT FACE=\"Times New Roman\" SIZE=-1><BR></FONT></TD>","<TD NOWRAP ALIGN=CENTER><FONT FACE=\"Times New Roman\" SIZE=-1>$0.00$0.00</FONT></TD>","<TD NOWRAP ALIGN=CENTER><FONT FACE=\"Times New Roman\" SIZE=-1>$0.00$0.00</FONT></TD>","<TD NOWRAP ALIGN=CENTER><FONT FACE=\"Times New Roman\" SIZE=-1>0.0000</FONT></TD>","<TD NOWRAP ALIGN=CENTER><FONT FACE=\"Times New Roman\" SIZE=-1>$0.00$0.00</FONT></TD>","</TR>"]
["Village of Voorheesville",{"$f":"'2017 SD'!B60","v":0},{"$f":"'2017 SD'!C60","v":0},{"$f":"'2017 SD'!D60","v":0},{"$f":"'2017 SD'!E60","v":0},null,null,{"$f":"'2017 SD'!H60","v":0},null,null,{"$f":"'2017 SD'!K60","v":0},{"$f":"'2017 SD'!L60","v":0},null,null,null,"<TR VALIGN=BOTTOM>",{"$f":"\"<TD NOWRAP ALIGN=LEFT><FONT FACE=\"\"Times New Roman\"\" SIZE=-1 COLOR=\"\"#008000\"\">\"&A20&\"</FONT></TD>\"","v":"<TD NOWRAP ALIGN=LEFT><FONT FACE=\"Times New Roman\" SIZE=-1 COLOR=\"#008000\">Village of Voorheesville</FONT></TD>"},"<TD NOWRAP ALIGN=RIGHT><FONT FACE=\"Times New Roman\" SIZE=-1>$0.00</FONT></TD>","<TD NOWRAP ALIGN=RIGHT><FONT FACE=\"Times New Roman\" SIZE=-1>$0.00</FONT></TD>","<TD NOWRAP ALIGN=RIGHT><FONT FACE=\"Times New Roman\" SIZE=-1>$0.00</FONT></TD>","<TD NOWRAP ALIGN=CENTER><FONT FACE=\"Times New Roman\" SIZE=-1>$0.00</FONT></TD>","<TD NOWRAP ALIGN=CENTER><FONT FACE=\"Times New Roman\" SIZE=-1>$0.00</FONT></TD>","<TD NOWRAP ALIGN=CENTER><FONT FACE=\"Times New Roman\" SIZE=-1>0.0000</FONT></TD>","<TD NOWRAP ALIGN=CENTER><FONT FACE=\"Times New Roman\" SIZE=-1>$0.00</FONT></TD>","</TR>"]
["Town of Rensselaerville",{"$f":"'2017 SD'!B62","v":0},{"$f":"'2017 SD'!C62","v":0},null,{"$f":"'2017 SD'!E62","v":0},{"$f":"'2017 SD'!F62","v":""},{"$f":"'2017 SD'!G62","v":0},{"$f":"'2017 SD'!H62","v":0},{"$f":"'2017 SD'!I62","v":""},{"$f":"'2017 SD'!J62","v":0},{"$f":"'2017 SD'!K62","v":0},{"$f":"'2017 SD'!L62","v":0},{"$f":"'2017 SD'!M62","v":""},{"$f":"'2017 SD'!N62","v":0},null,"<TR VALIGN=BOTTOM>",{"$f":"\"<TD NOWRAP ALIGN=LEFT><FONT FACE=\"\"Times New Roman\"\" SIZE=-1>\"&A21&\"</FONT></TD>\"","v":"<TD NOWRAP ALIGN=LEFT><FONT FACE=\"Times New Roman\" SIZE=-1>Town of Rensselaerville</FONT></TD>"},"<TD NOWRAP ALIGN=RIGHT><FONT FACE=\"Times New Roman\" SIZE=-1>$0.00</FONT></TD>","<TD NOWRAP ALIGN=RIGHT><FONT FACE=\"Times New Roman\" SIZE=-1>$0.00</FONT></TD>","<TD NOWRAP ALIGN=RIGHT><FONT FACE=\"Times New Roman\" SIZE=-1><BR></FONT></TD>","<TD NOWRAP ALIGN=CENTER><FONT FACE=\"Times New Roman\" SIZE=-1>$0.00$0.00</FONT></TD>","<TD NOWRAP ALIGN=CENTER><FONT FACE=\"Times New Roman\" SIZE=-1>$0.00$0.00</FONT></TD>","<TD NOWRAP ALIGN=CENTER><FONT FACE=\"Times New Roman\" SIZE=-1>0.0000</FONT></TD>","<TD NOWRAP ALIGN=CENTER><FONT FACE=\"Times New Roman\" SIZE=-1>$0.00$0.00</FONT></TD>","</TR>"]
["City of Watervliet",{"$f":"'2017 SD'!B67","v":0},null,{"$f":"'2017 SD'!D67","v":0},{"$f":"'2017 SD'!E67","v":0},null,null,{"$f":"'2017 SD'!H67","v":0},null,null,{"$f":"'2017 SD'!K67","v":0},{"$f":"'2017 SD'!L67","v":0},null,null,null,"<TR VALIGN=BOTTOM>",{"$f":"\"<TD NOWRAP ALIGN=LEFT><FONT FACE=\"\"Times New Roman\"\" SIZE=-1 COLOR=#800000\"\">\"&A22&\"</FONT></TD>\"","v":"<TD NOWRAP ALIGN=LEFT><FONT FACE=\"Times New Roman\" SIZE=-1 COLOR=#800000\">City of Watervliet</FONT></TD>"},"<TD NOWRAP ALIGN=RIGHT><FONT FACE=\"Times New Roman\" SIZE=-1>$0.00</FONT></TD>","<TD NOWRAP ALIGN=RIGHT><FONT FACE=\"Times New Roman\" SIZE=-1><BR></FONT></TD>","<TD NOWRAP ALIGN=RIGHT><FONT FACE=\"Times New Roman\" SIZE=-1>$0.00</FONT></TD>","<TD NOWRAP ALIGN=CENTER><FONT FACE=\"Times New Roman\" SIZE=-1>$0.00</FONT></TD>","<TD NOWRAP ALIGN=CENTER><FONT FACE=\"Times New Roman\" SIZE=-1>$0.00</FONT></TD>","<TD NOWRAP ALIGN=CENTER><FONT FACE=\"Times New Roman\" SIZE=-1>0.0000</FONT></TD>","<TD NOWRAP ALIGN=CENTER><FONT FACE=\"Times New Roman\" SIZE=-1>$0.00</FONT></TD>","</TR>"]
["Town of Westerlo",{"$f":"'2017 SD'!B69","v":0},{"$f":"'2017 SD'!C69","v":0},null,{"$f":"'2017 SD'!E69","v":0},{"$f":"'2017 SD'!F69","v":""},{"$f":"'2017 SD'!G69","v":0},{"$f":"'2017 SD'!H69","v":0},{"$f":"'2017 SD'!I69","v":""},{"$f":"'2017 SD'!J69","v":0},{"$f":"'2017 SD'!K69","v":0},{"$f":"'2017 SD'!L69","v":0},{"$f":"'2017 SD'!M69","v":""},{"$f":"'2017 SD'!N69","v":0},null,"<TR VALIGN=BOTTOM>",{"$f":"\"<TD NOWRAP ALIGN=LEFT><FONT FACE=\"\"Times New Roman\"\" SIZE=-1>\"&A23&\"</FONT></TD>\"","v":"<TD NOWRAP ALIGN=LEFT><FONT FACE=\"Times New Roman\" SIZE=-1>Town of Westerlo</FONT></TD>"},"<TD NOWRAP ALIGN=RIGHT><FONT FACE=\"Times New Roman\" SIZE=-1>$0.00</FONT></TD>","<TD NOWRAP ALIGN=RIGHT><FONT FACE=\"Times New Roman\" SIZE=-1>$0.00</FONT></TD>","<TD NOWRAP ALIGN=RIGHT><FONT FACE=\"Times New Roman\" SIZE=-1><BR></FONT></TD>","<TD NOWRAP ALIGN=CENTER><FONT FACE=\"Times New Roman\" SIZE=-1>$0.00$0.00</FONT></TD>","<TD NOWRAP ALIGN=CENTER><FONT FACE=\"Times New Roman\" SIZE=-1>$0.00$0.00</FONT></TD>","<TD NOWRAP ALIGN=CENTER><FONT FACE=\"Times New Roman\" SIZE=-1>0.0000</FONT></TD>","<TD NOWRAP ALIGN=CENTER><FONT FACE=\"Times New Roman\" SIZE=-1>$0.00$0.00</FONT></TD>","</TR>"]
["Rensselaer County",null,null,null,{"$f":"MIN(E25:E48)","v":0},{"$f":"IF(G24<>0,\"to\",\"\")","v":""},{"$f":"MAX(E25:G48)","v":0},{"$f":"MIN(H25:H48)","v":0},{"$f":"IF(J24<>0,\"to\",\"\")","v":""},{"$f":"MAX(H25:J48)","v":0},null,{"$f":"MIN(L25:L48)","v":0},{"$f":"IF(N24<>0,\"to\",\"\")","v":""},{"$f":"MAX(L25:N48)","v":0},null,"<TR VALIGN=BOTTOM BGCOLOR=\"#CCCCFF\">",{"$f":"\"<TH NOWRAP ALIGN=LEFT><FONT FACE=\"\"Times New Roman\"\" COLOR=\"\"#AA00AA\"\">\"&A24&\"</FONT></TH>\"","v":"<TH NOWRAP ALIGN=LEFT><FONT FACE=\"Times New Roman\" COLOR=\"#AA00AA\">Rensselaer County</FONT></TH>"},"<TD NOWRAP ALIGN=RIGHT><FONT FACE=\"Times New Roman\" SIZE=-1><BR></FONT></TD>","<TD NOWRAP ALIGN=RIGHT><FONT FACE=\"Times New Roman\" SIZE=-1><BR></FONT></TD>","<TD NOWRAP ALIGN=RIGHT><FONT FACE=\"Times New Roman\" SIZE=-1><BR></FONT></TD>","<TD NOWRAP ALIGN=CENTER><FONT FACE=\"Times New Roman\" SIZE=-1>$0.00$0.00</FONT></TD>","<TD NOWRAP ALIGN=CENTER><FONT FACE=\"Times New Roman\" SIZE=-1>$0.00$0.00</FONT></TD>","<TD NOWRAP ALIGN=CENTER><FONT FACE=\"Times New Roman\" SIZE=-1><BR></FONT></TD>","<TD NOWRAP ALIGN=CENTER><FONT FACE=\"Times New Roman\" SIZE=-1>$0.00$0.00</FONT></TD>","</TR>"]
["Town of Berlin",{"$f":"'2017 SD'!B73","v":0},{"$f":"'2017 SD'!C73","v":0},null,{"$f":"'2017 SD'!E73","v":0},{"$f":"'2017 SD'!F73","v":""},{"$f":"'2017 SD'!G73","v":0},{"$f":"'2017 SD'!H73","v":0},{"$f":"'2017 SD'!I73","v":""},{"$f":"'2017 SD'!J73","v":0},{"$f":"'2017 SD'!K73","v":0},{"$f":"'2017 SD'!L73","v":0},{"$f":"'2017 SD'!M73","v":""},{"$f":"'2017 SD'!N73","v":0},null,"<TR VALIGN=BOTTOM>",{"$f":"\"<TD NOWRAP ALIGN=LEFT><FONT FACE=\"\"Times New Roman\"\" SIZE=-1>\"&A25&\"</FONT></TD>\"","v":"<TD NOWRAP ALIGN=LEFT><FONT FACE=\"Times New Roman\" SIZE=-1>Town of Berlin</FONT></TD>"},"<TD NOWRAP ALIGN=RIGHT><FONT FACE=\"Times New Roman\" SIZE=-1>$0.00</FONT></TD>","<TD NOWRAP ALIGN=RIGHT><FONT FACE=\"Times New Roman\" SIZE=-1>$0.00</FONT></TD>","<TD NOWRAP ALIGN=RIGHT><FONT FACE=\"Times New Roman\" SIZE=-1><BR></FONT></TD>","<TD NOWRAP ALIGN=CENTER><FONT FACE=\"Times New Roman\" SIZE=-1>$0.00$0.00</FONT></TD>","<TD NOWRAP ALIGN=CENTER><FONT FACE=\"Times New Roman\" SIZE=-1>$0.00$0.00</FONT></TD>","<TD NOWRAP ALIGN=CENTER><FONT FACE=\"Times New Roman\" SIZE=-1>0.0000</FONT></TD>","<TD NOWRAP ALIGN=CENTER><FONT FACE=\"Times New Roman\" SIZE=-1>$0.00$0.00</FONT></TD>","</TR>"]
["Town of Brunswick",{"$f":"'2017 SD'!B76","v":0},{"$f":"'2017 SD'!C76","v":0},null,{"$f":"'2017 SD'!E76","v":0},{"$f":"'2017 SD'!F76","v":""},{"$f":"'2017 SD'!G76","v":0},{"$f":"'2017 SD'!H76","v":0},{"$f":"'2017 SD'!I76","v":""},{"$f":"'2017 SD'!J76","v":0},{"$f":"'2017 SD'!K76","v":0},{"$f":"'2017 SD'!L76","v":0},{"$f":"'2017 SD'!M76","v":""},{"$f":"'2017 SD'!N76","v":0},null,"<TR VALIGN=BOTTOM>",{"$f":"\"<TD NOWRAP ALIGN=LEFT><FONT FACE=\"\"Times New Roman\"\" SIZE=-1>\"&A26&\"</FONT></TD>\"","v":"<TD NOWRAP ALIGN=LEFT><FONT FACE=\"Times New Roman\" SIZE=-1>Town of Brunswick</FONT></TD>"},"<TD NOWRAP ALIGN=RIGHT><FONT FACE=\"Times New Roman\" SIZE=-1>$0.00</FONT></TD>","<TD NOWRAP ALIGN=RIGHT><FONT FACE=\"Times New Roman\" SIZE=-1>$0.00</FONT></TD>","<TD NOWRAP ALIGN=RIGHT><FONT FACE=\"Times New Roman\" SIZE=-1><BR></FONT></TD>","<TD NOWRAP ALIGN=CENTER><FONT FACE=\"Times New Roman\" SIZE=-1>$0.00$0.00</FONT></TD>","<TD NOWRAP ALIGN=CENTER><FONT FACE=\"Times New Roman\" SIZE=-1>$0.00$0.00</FONT></TD>","<TD NOWRAP ALIGN=CENTER><FONT FACE=\"Times New Roman\" SIZE=-1>0.0000</FONT></TD>","<TD NOWRAP ALIGN=CENTER><FONT FACE=\"Times New Roman\" SIZE=-1>$0.00$0.00</FONT></TD>","</TR>"]
["Town of East Greenbush",{"$f":"'2017 SD'!B82","v":0},{"$f":"'2017 SD'!C82","v":0},null,{"$f":"'2017 SD'!E82","v":0},{"$f":"'2017 SD'!F82","v":""},{"$f":"'2017 SD'!G82","v":0},{"$f":"'2017 SD'!H82","v":0},{"$f":"'2017 SD'!I82","v":""},{"$f":"'2017 SD'!J82","v":0},{"$f":"'2017 SD'!K82","v":0},{"$f":"'2017 SD'!L82","v":0},{"$f":"'2017 SD'!M82","v":""},{"$f":"'2017 SD'!N82","v":0},null,"<TR VALIGN=BOTTOM>",{"$f":"\"<TD NOWRAP ALIGN=LEFT><FONT FACE=\"\"Times New Roman\"\" SIZE=-1>\"&A27&\"</FONT></TD>\"","v":"<TD NOWRAP ALIGN=LEFT><FONT FACE=\"Times New Roman\" SIZE=-1>Town of East Greenbush</FONT></TD>"},"<TD NOWRAP ALIGN=RIGHT><FONT FACE=\"Times New Roman\" SIZE=-1>$0.00</FONT></TD>","<TD NOWRAP ALIGN=RIGHT><FONT FACE=\"Times New Roman\" SIZE=-1>$0.00</FONT></TD>","<TD NOWRAP ALIGN=RIGHT><FONT FACE=\"Times New Roman\" SIZE=-1><BR></FONT></TD>","<TD NOWRAP ALIGN=CENTER><FONT FACE=\"Times New Roman\" SIZE=-1>$0.00$0.00</FONT></TD>","<TD NOWRAP ALIGN=CENTER><FONT FACE=\"Times New Roman\" SIZE=-1>$0.00$0.00</FONT></TD>","<TD NOWRAP ALIGN=CENTER><FONT FACE=\"Times New Roman\" SIZE=-1>0.0000</FONT></TD>","<TD NOWRAP ALIGN=CENTER><FONT FACE=\"Times New Roman\" SIZE=-1>$0.00$0.00</FONT></TD>","</TR>"]
["Town of Grafton",{"$f":"'2017 SD'!B85","v":0},{"$f":"'2017 SD'!C85","v":0},null,{"$f":"'2017 SD'!E85","v":0},{"$f":"'2017 SD'!F85","v":""},{"$f":"'2017 SD'!G85","v":0},{"$f":"'2017 SD'!H85","v":0},{"$f":"'2017 SD'!I85","v":""},{"$f":"'2017 SD'!J85","v":0},{"$f":"'2017 SD'!K85","v":0},{"$f":"'2017 SD'!L85","v":0},{"$f":"'2017 SD'!M85","v":""},{"$f":"'2017 SD'!N85","v":0},null,"<TR VALIGN=BOTTOM>",{"$f":"\"<TD NOWRAP ALIGN=LEFT><FONT FACE=\"\"Times New Roman\"\" SIZE=-1>\"&A28&\"</FONT></TD>\"","v":"<TD NOWRAP ALIGN=LEFT><FONT FACE=\"Times New Roman\" SIZE=-1>Town of Grafton</FONT></TD>"},"<TD NOWRAP ALIGN=RIGHT><FONT FACE=\"Times New Roman\" SIZE=-1>$0.00</FONT></TD>","<TD NOWRAP ALIGN=RIGHT><FONT FACE=\"Times New Roman\" SIZE=-1>$0.00</FONT></TD>","<TD NOWRAP ALIGN=RIGHT><FONT FACE=\"Times New Roman\" SIZE=-1><BR></FONT></TD>","<TD NOWRAP ALIGN=CENTER><FONT FACE=\"Times New Roman\" SIZE=-1>$0.00$0.00</FONT></TD>","<TD NOWRAP ALIGN=CENTER><FONT FACE=\"Times New Roman\" SIZE=-1>$0.00$0.00</FONT></TD>","<TD NOWRAP ALIGN=CENTER><FONT FACE=\"Times New Roman\" SIZE=-1>0.0000</FONT></TD>","<TD NOWRAP ALIGN=CENTER><FONT FACE=\"Times New Roman\" SIZE=-1>$0.00$0.00</FONT></TD>","</TR>"]
["Town of Hoosick",{"$f":"'2017 SD'!B89","v":0},{"$f":"'2017 SD'!C89","v":0},null,{"$f":"'2017 SD'!E89","v":0},{"$f":"'2017 SD'!F89","v":""},{"$f":"'2017 SD'!G89","v":0},{"$f":"'2017 SD'!H89","v":0},{"$f":"'2017 SD'!I89","v":""},{"$f":"'2017 SD'!J89","v":0},{"$f":"'2017 SD'!K89","v":0},{"$f":"'2017 SD'!L89","v":0},{"$f":"'2017 SD'!M89","v":""},{"$f":"'2017 SD'!N89","v":0},null,"<TR VALIGN=BOTTOM>",{"$f":"\"<TD NOWRAP ALIGN=LEFT><FONT FACE=\"\"Times New Roman\"\" SIZE=-1>\"&A29&\"</FONT></TD>\"","v":"<TD NOWRAP ALIGN=LEFT><FONT FACE=\"Times New Roman\" SIZE=-1>Town of Hoosick</FONT></TD>"},"<TD NOWRAP ALIGN=RIGHT><FONT FACE=\"Times New Roman\" SIZE=-1>$0.00</FONT></TD>","<TD NOWRAP ALIGN=RIGHT><FONT FACE=\"Times New Roman\" SIZE=-1>$0.00</FONT></TD>","<TD NOWRAP ALIGN=RIGHT><FONT FACE=\"Times New Roman\" SIZE=-1><BR></FONT></TD>","<TD NOWRAP ALIGN=CENTER><FONT FACE=\"Times New Roman\" SIZE=-1>$0.00$0.00</FONT></TD>","<TD NOWRAP ALIGN=CENTER><FONT FACE=\"Times New Roman\" SIZE=-1>$0.00$0.00</FONT></TD>","<TD NOWRAP ALIGN=CENTER><FONT FACE=\"Times New Roman\" SIZE=-1>0.0000</FONT></TD>","<TD NOWRAP ALIGN=CENTER><FONT FACE=\"Times New Roman\" SIZE=-1>$0.00$0.00</FONT></TD>","</TR>"]
["Village of Hoosick Falls",{"$f":"'2017 SD'!B92","v":0},{"$f":"'2017 SD'!C92","v":0},{"$f":"'2017 SD'!D92","v":0},{"$f":"'2017 SD'!E92","v":0},null,null,{"$f":"'2017 SD'!H92","v":0},null,null,{"$f":"'2017 SD'!K92","v":0},{"$f":"'2017 SD'!L92","v":0},null,null,null,"<TR VALIGN=BOTTOM>",{"$f":"\"<TD NOWRAP ALIGN=LEFT><FONT FACE=\"\"Times New Roman\"\" SIZE=-1 COLOR=\"\"#008000\"\">\"&A30&\"</FONT></TD>\"","v":"<TD NOWRAP ALIGN=LEFT><FONT FACE=\"Times New Roman\" SIZE=-1 COLOR=\"#008000\">Village of Hoosick Falls</FONT></TD>"},"<TD NOWRAP ALIGN=RIGHT><FONT FACE=\"Times New Roman\" SIZE=-1>$0.00</FONT></TD>","<TD NOWRAP ALIGN=RIGHT><FONT FACE=\"Times New Roman\" SIZE=-1>$0.00</FONT></TD>","<TD NOWRAP ALIGN=RIGHT><FONT FACE=\"Times New Roman\" SIZE=-1>$0.00</FONT></TD>","<TD NOWRAP ALIGN=CENTER><FONT FACE=\"Times New Roman\" SIZE=-1>$0.00</FONT></TD>","<TD NOWRAP ALIGN=CENTER><FONT FACE=\"Times New Roman\" SIZE=-1>$0.00</FONT></TD>","<TD NOWRAP ALIGN=CENTER><FONT FACE=\"Times New Roman\" SIZE=-1>0.0000</FONT></TD>","<TD NOWRAP ALIGN=CENTER><FONT FACE=\"Times New Roman\" SIZE=-1>$0.00</FONT></TD>","</TR>"]
["Town of Nassau",{"$f":"'2017 SD'!B94","v":0},{"$f":"'2017 SD'!C94","v":0},null,{"$f":"'2017 SD'!E94","v":0},{"$f":"'2017 SD'!F94","v":""},{"$f":"'2017 SD'!G94","v":0},{"$f":"'2017 SD'!H94","v":0},{"$f":"'2017 SD'!I94","v":""},{"$f":"'2017 SD'!J94","v":0},{"$f":"'2017 SD'!K94","v":0},{"$f":"'2017 SD'!L94","v":0},{"$f":"'2017 SD'!M94","v":""},{"$f":"'2017 SD'!N94","v":0},null,"<TR VALIGN=BOTTOM>",{"$f":"\"<TD NOWRAP ALIGN=LEFT><FONT FACE=\"\"Times New Roman\"\" SIZE=-1>\"&A31&\"</FONT></TD>\"","v":"<TD NOWRAP ALIGN=LEFT><FONT FACE=\"Times New Roman\" SIZE=-1>Town of Nassau</FONT></TD>"},"<TD NOWRAP ALIGN=RIGHT><FONT FACE=\"Times New Roman\" SIZE=-1>$0.00</FONT></TD>","<TD NOWRAP ALIGN=RIGHT><FONT FACE=\"Times New Roman\" SIZE=-1>$0.00</FONT></TD>","<TD NOWRAP ALIGN=RIGHT><FONT FACE=\"Times New Roman\" SIZE=-1><BR></FONT></TD>","<TD NOWRAP ALIGN=CENTER><FONT FACE=\"Times New Roman\" SIZE=-1>$0.00$0.00</FONT></TD>","<TD NOWRAP ALIGN=CENTER><FONT FACE=\"Times New Roman\" SIZE=-1>$0.00$0.00</FONT></TD>","<TD NOWRAP ALIGN=CENTER><FONT FACE=\"Times New Roman\" SIZE=-1>0.0000</FONT></TD>","<TD NOWRAP ALIGN=CENTER><FONT FACE=\"Times New Roman\" SIZE=-1>$0.00$0.00</FONT></TD>","</TR>"]
["Village of East Nassau",{"$f":"'2017 SD'!B99","v":0},{"$f":"'2017 SD'!C99","v":0},{"$f":"'2017 SD'!D99","v":0},{"$f":"'2017 SD'!E99","v":0},{"$f":"'2017 SD'!F99","v":""},{"$f":"'2017 SD'!G99","v":0},{"$f":"'2017 SD'!H99","v":0},{"$f":"'2017 SD'!I99","v":""},{"$f":"'2017 SD'!J99","v":0},{"$f":"'2017 SD'!K99","v":0},{"$f":"'2017 SD'!L99","v":0},{"$f":"'2017 SD'!M99","v":""},{"$f":"'2017 SD'!N99","v":0},null,"<TR VALIGN=BOTTOM>",{"$f":"\"<TD NOWRAP ALIGN=LEFT><FONT FACE=\"\"Times New Roman\"\" SIZE=-1 COLOR=\"\"#008000\"\">\"&A32&\"</FONT></TD>\"","v":"<TD NOWRAP ALIGN=LEFT><FONT FACE=\"Times New Roman\" SIZE=-1 COLOR=\"#008000\">Village of East Nassau</FONT></TD>"},"<TD NOWRAP ALIGN=RIGHT><FONT FACE=\"Times New Roman\" SIZE=-1>$0.00</FONT></TD>","<TD NOWRAP ALIGN=RIGHT><FONT FACE=\"Times New Roman\" SIZE=-1>$0.00</FONT></TD>","<TD NOWRAP ALIGN=RIGHT><FONT FACE=\"Times New Roman\" SIZE=-1>$0.00</FONT></TD>","<TD NOWRAP ALIGN=CENTER><FONT FACE=\"Times New Roman\" SIZE=-1>$0.00$0.00</FONT></TD>","<TD NOWRAP ALIGN=CENTER><FONT FACE=\"Times New Roman\" SIZE=-1>$0.00$0.00</FONT></TD>","<TD NOWRAP ALIGN=CENTER><FONT FACE=\"Times New Roman\" SIZE=-1>0.0000</FONT></TD>","<TD NOWRAP ALIGN=CENTER><FONT FACE=\"Times New Roman\" SIZE=-1>$0.00$0.00</FONT></TD>","</TR>"]
["Village of Nassau (part)",{"$f":"'2017 SD'!B103","v":0},{"$f":"'2017 SD'!C103","v":0},{"$f":"'2017 SD'!D103","v":0},{"$f":"'2017 SD'!E103","v":0},null,null,{"$f":"'2017 SD'!H103","v":0},null,null,{"$f":"'2017 SD'!K103","v":0},{"$f":"'2017 SD'!L103","v":0},null,null,null,"<TR VALIGN=BOTTOM>",{"$f":"\"<TD NOWRAP ALIGN=LEFT><FONT FACE=\"\"Times New Roman\"\" SIZE=-1 COLOR=\"\"#808000\"\">\"&A33&\"</FONT></TD>\"","v":"<TD NOWRAP ALIGN=LEFT><FONT FACE=\"Times New Roman\" SIZE=-1 COLOR=\"#808000\">Village of Nassau (part)</FONT></TD>"},"<TD NOWRAP ALIGN=RIGHT><FONT FACE=\"Times New Roman\" SIZE=-1>$0.00</FONT></TD>","<TD NOWRAP ALIGN=RIGHT><FONT FACE=\"Times New Roman\" SIZE=-1>$0.00</FONT></TD>","<TD NOWRAP ALIGN=RIGHT><FONT FACE=\"Times New Roman\" SIZE=-1>$0.00</FONT></TD>","<TD NOWRAP ALIGN=CENTER><FONT FACE=\"Times New Roman\" SIZE=-1>$0.00</FONT></TD>","<TD NOWRAP ALIGN=CENTER><FONT FACE=\"Times New Roman\" SIZE=-1>$0.00</FONT></TD>","<TD NOWRAP ALIGN=CENTER><FONT FACE=\"Times New Roman\" SIZE=-1>0.0000</FONT></TD>","<TD NOWRAP ALIGN=CENTER><FONT FACE=\"Times New Roman\" SIZE=-1>$0.00</FONT></TD>","</TR>"]
["Town of North Greenbush",{"$f":"'2017 SD'!B105","v":0},{"$f":"'2017 SD'!C105","v":0},null,{"$f":"'2017 SD'!E105","v":0},{"$f":"'2017 SD'!F105","v":""},{"$f":"'2017 SD'!G105","v":0},{"$f":"'2017 SD'!H105","v":0},{"$f":"'2017 SD'!I105","v":""},{"$f":"'2017 SD'!J105","v":0},{"$f":"'2017 SD'!K105","v":0},{"$f":"'2017 SD'!L105","v":0},{"$f":"'2017 SD'!M105","v":""},{"$f":"'2017 SD'!N105","v":0},null,"<TR VALIGN=BOTTOM>",{"$f":"\"<TD NOWRAP ALIGN=LEFT><FONT FACE=\"\"Times New Roman\"\" SIZE=-1>\"&A34&\"</FONT></TD>\"","v":"<TD NOWRAP ALIGN=LEFT><FONT FACE=\"Times New Roman\" SIZE=-1>Town of North Greenbush</FONT></TD>"},"<TD NOWRAP ALIGN=RIGHT><FONT FACE=\"Times New Roman\" SIZE=-1>$0.00</FONT></TD>","<TD NOWRAP ALIGN=RIGHT><FONT FACE=\"Times New Roman\" SIZE=-1>$0.00</FONT></TD>","<TD NOWRAP ALIGN=RIGHT><FONT FACE=\"Times New Roman\" SIZE=-1><BR></FONT></TD>","<TD NOWRAP ALIGN=CENTER><FONT FACE=\"Times New Roman\" SIZE=-1>$0.00$0.00</FONT></TD>","<TD NOWRAP ALIGN=CENTER><FONT FACE=\"Times New Roman\" SIZE=-1>$0.00$0.00</FONT></TD>","<TD NOWRAP ALIGN=CENTER><FONT FACE=\"Times New Roman\" SIZE=-1>0.0000</FONT></TD>","<TD NOWRAP ALIGN=CENTER><FONT FACE=\"Times New Roman\" SIZE=-1>$0.00$0.00</FONT></TD>","</TR>"]
["Town of Petersburgh",{"$f":"'2017 SD'!B110","v":0},{"$f":"'2017 SD'!C110","v":0},null,{"$f":"'2017 SD'!E110","v":0},{"$f":"'2017 SD'!F110","v":""},{"$f":"'2017 SD'!G110","v":0},{"$f":"'2017 SD'!H110","v":0},{"$f":"'2017 SD'!I110","v":""},{"$f":"'2017 SD'!J110","v":0},{"$f":"'2017 SD'!K110","v":0},{"$f":"'2017 SD'!L110","v":0},{"$f":"'2017 SD'!M110","v":""},{"$f":"'2017 SD'!N110","v":0},null,"<TR VALIGN=BOTTOM>",{"$f":"\"<TD NOWRAP ALIGN=LEFT><FONT FACE=\"\"Times New Roman\"\" SIZE=-1>\"&A35&\"</FONT></TD>\"","v":"<TD NOWRAP ALIGN=LEFT><FONT FACE=\"Times New Roman\" SIZE=-1>Town of Petersburgh</FONT></TD>"},"<TD NOWRAP ALIGN=RIGHT><FONT FACE=\"Times New Roman\" SIZE=-1>$0.00</FONT></TD>","<TD NOWRAP ALIGN=RIGHT><FONT FACE=\"Times New Roman\" SIZE=-1>$0.00</FONT></TD>","<TD NOWRAP ALIGN=RIGHT><FONT FACE=\"Times New Roman\" SIZE=-1><BR></FONT></TD>","<TD NOWRAP ALIGN=CENTER><FONT FACE=\"Times New Roman\" SIZE=-1>$0.00$0.00</FONT></TD>","<TD NOWRAP ALIGN=CENTER><FONT FACE=\"Times New Roman\" SIZE=-1>$0.00$0.00</FONT></TD>","<TD NOWRAP ALIGN=CENTER><FONT FACE=\"Times New Roman\" SIZE=-1>0.0000</FONT></TD>","<TD NOWRAP ALIGN=CENTER><FONT FACE=\"Times New Roman\" SIZE=-1>$0.00$0.00</FONT></TD>","</TR>"]
["Town of Pittstown",{"$f":"'2017 SD'!B113","v":0},{"$f":"'2017 SD'!C113","v":0},null,{"$f":"'2017 SD'!E113","v":0},{"$f":"'2017 SD'!F113","v":""},{"$f":"'2017 SD'!G113","v":0},{"$f":"'2017 SD'!H113","v":0},{"$f":"'2017 SD'!I113","v":""},{"$f":"'2017 SD'!J113","v":0},{"$f":"'2017 SD'!K113","v":0},{"$f":"'2017 SD'!L113","v":0},{"$f":"'2017 SD'!M113","v":""},{"$f":"'2017 SD'!N113","v":0},null,"<TR VALIGN=BOTTOM>",{"$f":"\"<TD NOWRAP ALIGN=LEFT><FONT FACE=\"\"Times New Roman\"\" SIZE=-1>\"&A36&\"</FONT></TD>\"","v":"<TD NOWRAP ALIGN=LEFT><FONT FACE=\"Times New Roman\" SIZE=-1>Town of Pittstown</FONT></TD>"},"<TD NOWRAP ALIGN=RIGHT><FONT FACE=\"Times New Roman\" SIZE=-1>$0.00</FONT></TD>","<TD NOWRAP ALIGN=RIGHT><FONT FACE=\"Times New Roman\" SIZE=-1>$0.00</FONT></TD>","<TD NOWRAP ALIGN=RIGHT><FONT FACE=\"Times New Roman\" SIZE=-1><BR></FONT></TD>","<TD NOWRAP ALIGN=CENTER><FONT FACE=\"Times New Roman\" SIZE=-1>$0.00$0.00</FONT></TD>","<TD NOWRAP ALIGN=CENTER><FONT FACE=\"Times New Roman\" SIZE=-1>$0.00$0.00</FONT></TD>","<TD NOWRAP ALIGN=CENTER><FONT FACE=\"Times New Roman\" SIZE=-1>0.0000</FONT></TD>","<TD NOWRAP ALIGN=CENTER><FONT FACE=\"Times New Roman\" SIZE=-1>$0.00$0.00</FONT></TD>","</TR>"]
["Village of Valley Falls (part)",{"$f":"'2017 SD'!B119","v":0},{"$f":"'2017 SD'!C119","v":0},{"$f":"'2017 SD'!D119","v":0},{"$f":"'2017 SD'!E119","v":0},null,null,{"$f":"'2017 SD'!H119","v":0},null,null,{"$f":"'2017 SD'!K119","v":0},{"$f":"'2017 SD'!L119","v":0},null,null,null,"<TR VALIGN=BOTTOM>",{"$f":"\"<TD NOWRAP ALIGN=LEFT><FONT FACE=\"\"Times New Roman\"\" SIZE=-1 COLOR=\"\"#808000\"\">\"&A37&\"</FONT></TD>\"","v":"<TD NOWRAP ALIGN=LEFT><FONT FACE=\"Times New Roman\" SIZE=-1 COLOR=\"#808000\">Village of Valley Falls (part)</FONT></TD>"},"<TD NOWRAP ALIGN=RIGHT><FONT FACE=\"Times New Roman\" SIZE=-1>$0.00</FONT></TD>","<TD NOWRAP ALIGN=RIGHT><FONT FACE=\"Times New Roman\" SIZE=-1>$0.00</FONT></TD>","<TD NOWRAP ALIGN=RIGHT><FONT FACE=\"Times New Roman\" SIZE=-1>$0.00</FONT></TD>","<TD NOWRAP ALIGN=CENTER><FONT FACE=\"Times New Roman\" SIZE=-1>$0.00</FONT></TD>","<TD NOWRAP ALIGN=CENTER><FONT FACE=\"Times New Roman\" SIZE=-1>$0.00</FONT></TD>","<TD NOWRAP ALIGN=CENTER><FONT FACE=\"Times New Roman\" SIZE=-1>0.0000</FONT></TD>","<TD NOWRAP ALIGN=CENTER><FONT FACE=\"Times New Roman\" SIZE=-1>$0.00</FONT></TD>","</TR>"]
["Town of Poestenkill",{"$f":"'2017 SD'!B121","v":0},{"$f":"'2017 SD'!C121","v":0},null,{"$f":"'2017 SD'!E121","v":0},{"$f":"'2017 SD'!F121","v":""},{"$f":"'2017 SD'!G121","v":0},{"$f":"'2017 SD'!H121","v":0},{"$f":"'2017 SD'!I121","v":""},{"$f":"'2017 SD'!J121","v":0},{"$f":"'2017 SD'!K121","v":0},{"$f":"'2017 SD'!L121","v":0},{"$f":"'2017 SD'!M121","v":""},{"$f":"'2017 SD'!N121","v":0},null,"<TR VALIGN=BOTTOM>",{"$f":"\"<TD NOWRAP ALIGN=LEFT><FONT FACE=\"\"Times New Roman\"\" SIZE=-1>\"&A38&\"</FONT></TD>\"","v":"<TD NOWRAP ALIGN=LEFT><FONT FACE=\"Times New Roman\" SIZE=-1>Town of Poestenkill</FONT></TD>"},"<TD NOWRAP ALIGN=RIGHT><FONT FACE=\"Times New Roman\" SIZE=-1>$0.00</FONT></TD>","<TD NOWRAP ALIGN=RIGHT><FONT FACE=\"Times New Roman\" SIZE=-1>$0.00</FONT></TD>","<TD NOWRAP ALIGN=RIGHT><FONT FACE=\"Times New Roman\" SIZE=-1><BR></FONT></TD>","<TD NOWRAP ALIGN=CENTER><FONT FACE=\"Times New Roman\" SIZE=-1>$0.00$0.00</FONT></TD>","<TD NOWRAP ALIGN=CENTER><FONT FACE=\"Times New Roman\" SIZE=-1>$0.00$0.00</FONT></TD>","<TD NOWRAP ALIGN=CENTER><FONT FACE=\"Times New Roman\" SIZE=-1>0.0000</FONT></TD>","<TD NOWRAP ALIGN=CENTER><FONT FACE=\"Times New Roman\" SIZE=-1>$0.00$0.00</FONT></TD>","</TR>"]
["City of Rensselaer",{"$f":"'2017 SD'!B126","v":0},null,{"$f":"'2017 SD'!D126","v":0},{"$f":"'2017 SD'!E126","v":0},null,null,{"$f":"'2017 SD'!H126","v":0},null,null,{"$f":"'2017 SD'!K126","v":0},{"$f":"'2017 SD'!L126","v":0},null,null,null,"<TR VALIGN=BOTTOM>",{"$f":"\"<TD NOWRAP ALIGN=LEFT><FONT FACE=\"\"Times New Roman\"\" SIZE=-1 COLOR=#800000\"\">\"&A39&\"</FONT></TD>\"","v":"<TD NOWRAP ALIGN=LEFT><FONT FACE=\"Times New Roman\" SIZE=-1 COLOR=#800000\">City of Rensselaer</FONT></TD>"},"<TD NOWRAP ALIGN=RIGHT><FONT FACE=\"Times New Roman\" SIZE=-1>$0.00</FONT></TD>","<TD NOWRAP ALIGN=RIGHT><FONT FACE=\"Times New Roman\" SIZE=-1><BR></FONT></TD>","<TD NOWRAP ALIGN=RIGHT><FONT FACE=\"Times New Roman\" SIZE=-1>$0.00</FONT></TD>","<TD NOWRAP ALIGN=CENTER><FONT FACE=\"Times New Roman\" SIZE=-1>$0.00</FONT></TD>","<TD NOWRAP ALIGN=CENTER><FONT FACE=\"Times New Roman\" SIZE=-1>$0.00</FONT></TD>","<TD NOWRAP ALIGN=CENTER><FONT FACE=\"Times New Roman\" SIZE=-1>0.0000</FONT></TD>","<TD NOWRAP ALIGN=CENTER><FONT FACE=\"Times New Roman\" SIZE=-1>$0.00</FONT></TD>","</TR>"]
["Town of Sand Lake",{"$f":"'2017 SD'!B128","v":0},{"$f":"'2017 SD'!C128","v":0},null,{"$f":"'2017 SD'!E128","v":0},{"$f":"'2017 SD'!F128","v":""},{"$f":"'2017 SD'!G128","v":0},{"$f":"'2017 SD'!H128","v":0},{"$f":"'2017 SD'!I128","v":""},{"$f":"'2017 SD'!J128","v":0},{"$f":"'2017 SD'!K128","v":0},{"$f":"'2017 SD'!L128","v":0},{"$f":"'2017 SD'!M128","v":""},{"$f":"'2017 SD'!N128","v":0},null,"<TR VALIGN=BOTTOM>",{"$f":"\"<TD NOWRAP ALIGN=LEFT><FONT FACE=\"\"Times New Roman\"\" SIZE=-1>\"&A40&\"</FONT></TD>\"","v":"<TD NOWRAP ALIGN=LEFT><FONT FACE=\"Times New Roman\" SIZE=-1>Town of Sand Lake</FONT></TD>"},"<TD NOWRAP ALIGN=RIGHT><FONT FACE=\"Times New Roman\" SIZE=-1>$0.00</FONT></TD>","<TD NOWRAP ALIGN=RIGHT><FONT FACE=\"Times New Roman\" SIZE=-1>$0.00</FONT></TD>","<TD NOWRAP ALIGN=RIGHT><FONT FACE=\"Times New Roman\" SIZE=-1><BR></FONT></TD>","<TD NOWRAP ALIGN=CENTER><FONT FACE=\"Times New Roman\" SIZE=-1>$0.00$0.00</FONT></TD>","<TD NOWRAP ALIGN=CENTER><FONT FACE=\"Times New Roman\" SIZE=-1>$0.00$0.00</FONT></TD>","<TD NOWRAP ALIGN=CENTER><FONT FACE=\"Times New Roman\" SIZE=-1>0.0000</FONT></TD>","<TD NOWRAP ALIGN=CENTER><FONT FACE=\"Times New Roman\" SIZE=-1>$0.00$0.00</FONT></TD>","</TR>"]
["Town of Schaghticoke",{"$f":"'2017 SD'!B131","v":0},{"$f":"'2017 SD'!C131","v":0},null,{"$f":"'2017 SD'!E131","v":0},{"$f":"'2017 SD'!F131","v":""},{"$f":"'2017 SD'!G131","v":0},{"$f":"'2017 SD'!H131","v":0},{"$f":"'2017 SD'!I131","v":""},{"$f":"'2017 SD'!J131","v":0},{"$f":"'2017 SD'!K131","v":0},{"$f":"'2017 SD'!L131","v":0},{"$f":"'2017 SD'!M131","v":""},{"$f":"'2017 SD'!N131","v":0},null,"<TR VALIGN=BOTTOM>",{"$f":"\"<TD NOWRAP ALIGN=LEFT><FONT FACE=\"\"Times New Roman\"\" SIZE=-1>\"&A41&\"</FONT></TD>\"","v":"<TD NOWRAP ALIGN=LEFT><FONT FACE=\"Times New Roman\" SIZE=-1>Town of Schaghticoke</FONT></TD>"},"<TD NOWRAP ALIGN=RIGHT><FONT FACE=\"Times New Roman\" SIZE=-1>$0.00</FONT></TD>","<TD NOWRAP ALIGN=RIGHT><FONT FACE=\"Times New Roman\" SIZE=-1>$0.00</FONT></TD>","<TD NOWRAP ALIGN=RIGHT><FONT FACE=\"Times New Roman\" SIZE=-1><BR></FONT></TD>","<TD NOWRAP ALIGN=CENTER><FONT FACE=\"Times New Roman\" SIZE=-1>$0.00$0.00</FONT></TD>","<TD NOWRAP ALIGN=CENTER><FONT FACE=\"Times New Roman\" SIZE=-1>$0.00$0.00</FONT></TD>","<TD NOWRAP ALIGN=CENTER><FONT FACE=\"Times New Roman\" SIZE=-1>0.0000</FONT></TD>","<TD NOWRAP ALIGN=CENTER><FONT FACE=\"Times New Roman\" SIZE=-1>$0.00$0.00</FONT></TD>","</TR>"]
["Village of Schaghticoke",{"$f":"'2017 SD'!B138","v":0},{"$f":"'2017 SD'!C138","v":0},{"$f":"'2017 SD'!D138","v":0},{"$f":"'2017 SD'!E138","v":0},null,null,{"$f":"'2017 SD'!H138","v":0},null,null,{"$f":"'2017 SD'!K138","v":0},{"$f":"'2017 SD'!L138","v":0},null,null,null,"<TR VALIGN=BOTTOM>",{"$f":"\"<TD NOWRAP ALIGN=LEFT><FONT FACE=\"\"Times New Roman\"\" SIZE=-1 COLOR=\"\"#008000\"\">\"&A42&\"</FONT></TD>\"","v":"<TD NOWRAP ALIGN=LEFT><FONT FACE=\"Times New Roman\" SIZE=-1 COLOR=\"#008000\">Village of Schaghticoke</FONT></TD>"},"<TD NOWRAP ALIGN=RIGHT><FONT FACE=\"Times New Roman\" SIZE=-1>$0.00</FONT></TD>","<TD NOWRAP ALIGN=RIGHT><FONT FACE=\"Times New Roman\" SIZE=-1>$0.00</FONT></TD>","<TD NOWRAP ALIGN=RIGHT><FONT FACE=\"Times New Roman\" SIZE=-1>$0.00</FONT></TD>","<TD NOWRAP ALIGN=CENTER><FONT FACE=\"Times New Roman\" SIZE=-1>$0.00</FONT></TD>","<TD NOWRAP ALIGN=CENTER><FONT FACE=\"Times New Roman\" SIZE=-1>$0.00</FONT></TD>","<TD NOWRAP ALIGN=CENTER><FONT FACE=\"Times New Roman\" SIZE=-1>0.0000</FONT></TD>","<TD NOWRAP ALIGN=CENTER><FONT FACE=\"Times New Roman\" SIZE=-1>$0.00</FONT></TD>","</TR>"]
["Village of Valley Falls (part)",{"$f":"'2017 SD'!B140","v":0},{"$f":"'2017 SD'!C140","v":0},{"$f":"'2017 SD'!D140","v":0},{"$f":"'2017 SD'!E140","v":0},null,null,{"$f":"'2017 SD'!H140","v":0},null,null,{"$f":"'2017 SD'!K140","v":0},{"$f":"'2017 SD'!L140","v":0},null,null,null,"<TR VALIGN=BOTTOM>",{"$f":"\"<TD NOWRAP ALIGN=LEFT><FONT FACE=\"\"Times New Roman\"\" SIZE=-1 COLOR=\"\"#808000\"\">\"&A43&\"</FONT></TD>\"","v":"<TD NOWRAP ALIGN=LEFT><FONT FACE=\"Times New Roman\" SIZE=-1 COLOR=\"#808000\">Village of Valley Falls (part)</FONT></TD>"},"<TD NOWRAP ALIGN=RIGHT><FONT FACE=\"Times New Roman\" SIZE=-1>$0.00</FONT></TD>","<TD NOWRAP ALIGN=RIGHT><FONT FACE=\"Times New Roman\" SIZE=-1>$0.00</FONT></TD>","<TD NOWRAP ALIGN=RIGHT><FONT FACE=\"Times New Roman\" SIZE=-1>$0.00</FONT></TD>","<TD NOWRAP ALIGN=CENTER><FONT FACE=\"Times New Roman\" SIZE=-1>$0.00</FONT></TD>","<TD NOWRAP ALIGN=CENTER><FONT FACE=\"Times New Roman\" SIZE=-1>$0.00</FONT></TD>","<TD NOWRAP ALIGN=CENTER><FONT FACE=\"Times New Roman\" SIZE=-1>0.0000</FONT></TD>","<TD NOWRAP ALIGN=CENTER><FONT FACE=\"Times New Roman\" SIZE=-1>$0.00</FONT></TD>","</TR>"]
["Town of Schodack",{"$f":"'2017 SD'!B142","v":0},{"$f":"'2017 SD'!C142","v":0},null,{"$f":"'2017 SD'!E142","v":0},{"$f":"'2017 SD'!F142","v":""},{"$f":"'2017 SD'!G142","v":0},{"$f":"'2017 SD'!H142","v":0},{"$f":"'2017 SD'!I142","v":""},{"$f":"'2017 SD'!J142","v":0},{"$f":"'2017 SD'!K142","v":0},{"$f":"'2017 SD'!L142","v":0},{"$f":"'2017 SD'!M142","v":""},{"$f":"'2017 SD'!N142","v":0},null,"<TR VALIGN=BOTTOM>",{"$f":"\"<TD NOWRAP ALIGN=LEFT><FONT FACE=\"\"Times New Roman\"\" SIZE=-1>\"&A44&\"</FONT></TD>\"","v":"<TD NOWRAP ALIGN=LEFT><FONT FACE=\"Times New Roman\" SIZE=-1>Town of Schodack</FONT></TD>"},"<TD NOWRAP ALIGN=RIGHT><FONT FACE=\"Times New Roman\" SIZE=-1>$0.00</FONT></TD>","<TD NOWRAP ALIGN=RIGHT><FONT FACE=\"Times New Roman\" SIZE=-1>$0.00</FONT></TD>","<TD NOWRAP ALIGN=RIGHT><FONT FACE=\"Times New Roman\" SIZE=-1><BR></FONT></TD>","<TD NOWRAP ALIGN=CENTER><FONT FACE=\"Times New Roman\" SIZE=-1>$0.00$0.00</FONT></TD>","<TD NOWRAP ALIGN=CENTER><FONT FACE=\"Times New Roman\" SIZE=-1>$0.00$0.00</FONT></TD>","<TD NOWRAP ALIGN=CENTER><FONT FACE=\"Times New Roman\" SIZE=-1>0.0000</FONT></TD>","<TD NOWRAP ALIGN=CENTER><FONT FACE=\"Times New Roman\" SIZE=-1>$0.00$0.00</FONT></TD>","</TR>"]
["Village of Castleton-on-Hudson",{"$f":"'2017 SD'!B147","v":0},{"$f":"'2017 SD'!C147","v":0},{"$f":"'2017 SD'!D148","v":0},{"$f":"'2017 SD'!E147","v":0},null,null,{"$f":"'2017 SD'!H147","v":0},null,null,{"$f":"'2017 SD'!K147","v":0},{"$f":"'2017 SD'!L147","v":0},null,null,null,"<TR VALIGN=BOTTOM>",{"$f":"\"<TD NOWRAP ALIGN=LEFT><FONT FACE=\"\"Times New Roman\"\" SIZE=-1 COLOR=\"\"#008000\"\">\"&A45&\"</FONT></TD>\"","v":"<TD NOWRAP ALIGN=LEFT><FONT FACE=\"Times New Roman\" SIZE=-1 COLOR=\"#008000\">Village of Castleton-on-Hudson</FONT></TD>"},"<TD NOWRAP ALIGN=RIGHT><FONT FACE=\"Times New Roman\" SIZE=-1>$0.00</FONT></TD>","<TD NOWRAP ALIGN=RIGHT><FONT FACE=\"Times New Roman\" SIZE=-1>$0.00</FONT></TD>","<TD NOWRAP ALIGN=RIGHT><FONT FACE=\"Times New Roman\" SIZE=-1>$0.00</FONT></TD>","<TD NOWRAP ALIGN=CENTER><FONT FACE=\"Times New Roman\" SIZE=-1>$0.00</FONT></TD>","<TD NOWRAP ALIGN=CENTER><FONT FACE=\"Times New Roman\" SIZE=-1>$0.00</FONT></TD>","<TD NOWRAP ALIGN=CENTER><FONT FACE=\"Times New Roman\" SIZE=-1>0.0000</FONT></TD>","<TD NOWRAP ALIGN=CENTER><FONT FACE=\"Times New Roman\" SIZE=-1>$0.00</FONT></TD>","</TR>"]
["Village of Nassau (part)",{"$f":"'2017 SD'!B149","v":0},{"$f":"'2017 SD'!C149","v":0},{"$f":"'2017 SD'!D149","v":0},{"$f":"'2017 SD'!E149","v":0},null,null,{"$f":"'2017 SD'!H149","v":0},null,null,{"$f":"'2017 SD'!K149","v":0},{"$f":"'2017 SD'!L149","v":0},null,null,null,"<TR VALIGN=BOTTOM>",{"$f":"\"<TD NOWRAP ALIGN=LEFT><FONT FACE=\"\"Times New Roman\"\" SIZE=-1 COLOR=\"\"#808000\"\">\"&A46&\"</FONT></TD>\"","v":"<TD NOWRAP ALIGN=LEFT><FONT FACE=\"Times New Roman\" SIZE=-1 COLOR=\"#808000\">Village of Nassau (part)</FONT></TD>"},"<TD NOWRAP ALIGN=RIGHT><FONT FACE=\"Times New Roman\" SIZE=-1>$0.00</FONT></TD>","<TD NOWRAP ALIGN=RIGHT><FONT FACE=\"Times New Roman\" SIZE=-1>$0.00</FONT></TD>","<TD NOWRAP ALIGN=RIGHT><FONT FACE=\"Times New Roman\" SIZE=-1>$0.00</FONT></TD>","<TD NOWRAP ALIGN=CENTER><FONT FACE=\"Times New Roman\" SIZE=-1>$0.00</FONT></TD>","<TD NOWRAP ALIGN=CENTER><FONT FACE=\"Times New Roman\" SIZE=-1>$0.00</FONT></TD>","<TD NOWRAP ALIGN=CENTER><FONT FACE=\"Times New Roman\" SIZE=-1>0.0000</FONT></TD>","<TD NOWRAP ALIGN=CENTER><FONT FACE=\"Times New Roman\" SIZE=-1>$0.00</FONT></TD>","</TR>"]
["Town of Stephentown",{"$f":"'2017 SD'!B151","v":0},{"$f":"'2017 SD'!C151","v":0},null,{"$f":"'2017 SD'!E151","v":0},{"$f":"'2017 SD'!F151","v":""},{"$f":"'2017 SD'!G151","v":0},{"$f":"'2017 SD'!H151","v":0},{"$f":"'2017 SD'!I151","v":""},{"$f":"'2017 SD'!J151","v":0},{"$f":"'2017 SD'!K151","v":0},{"$f":"'2017 SD'!L151","v":0},{"$f":"'2017 SD'!M151","v":""},{"$f":"'2017 SD'!N151","v":0},null,"<TR VALIGN=BOTTOM>",{"$f":"\"<TD NOWRAP ALIGN=LEFT><FONT FACE=\"\"Times New Roman\"\" SIZE=-1>\"&A47&\"</FONT></TD>\"","v":"<TD NOWRAP ALIGN=LEFT><FONT FACE=\"Times New Roman\" SIZE=-1>Town of Stephentown</FONT></TD>"},{"$f":"\"<TD NOWRAP ALIGN=RIGHT><FONT FACE=\"\"Times New Roman\"\" SIZE=-1>\"&IF(B47=\"\",\"<BR>\",TEXT(B47,\"$#,##0.00\"))&\"</FONT></TD>\"","v":"<TD NOWRAP ALIGN=RIGHT><FONT FACE=\"Times New Roman\" SIZE=-1>$0.00</FONT></TD>"},"<TD NOWRAP ALIGN=RIGHT><FONT FACE=\"Times New Roman\" SIZE=-1>$0.00</FONT></TD>","<TD NOWRAP ALIGN=RIGHT><FONT FACE=\"Times New Roman\" SIZE=-1><BR></FONT></TD>","<TD NOWRAP ALIGN=CENTER><FONT FACE=\"Times New Roman\" SIZE=-1>$0.00$0.00</FONT></TD>","<TD NOWRAP ALIGN=CENTER><FONT FACE=\"Times New Roman\" SIZE=-1>$0.00$0.00</FONT></TD>","<TD NOWRAP ALIGN=CENTER><FONT FACE=\"Times New Roman\" SIZE=-1>0.0000</FONT></TD>","<TD NOWRAP ALIGN=CENTER><FONT FACE=\"Times New Roman\" SIZE=-1>$0.00$0.00</FONT></TD>","</TR>"]
["City of Troy",{"$f":"'2017 SD'!B155","v":0},null,{"$f":"'2017 SD'!D155","v":0},{"$f":"'2017 SD'!E155","v":0},{"$f":"'2017 SD'!F155","v":""},{"$f":"'2017 SD'!G155","v":0},{"$f":"'2017 SD'!H155","v":0},{"$f":"'2017 SD'!I155","v":""},{"$f":"'2017 SD'!J155","v":0},{"$f":"'2017 SD'!K155","v":0},{"$f":"'2017 SD'!L155","v":0},{"$f":"'2017 SD'!M155","v":""},{"$f":"'2017 SD'!N155","v":0},null,"<TR VALIGN=BOTTOM>",{"$f":"\"<TD NOWRAP ALIGN=LEFT><FONT FACE=\"\"Times New Roman\"\" SIZE=-1 COLOR=#800000\"\">\"&A48&\"</FONT></TD>\"","v":"<TD NOWRAP ALIGN=LEFT><FONT FACE=\"Times New Roman\" SIZE=-1 COLOR=#800000\">City of Troy</FONT></TD>"},"<TD NOWRAP ALIGN=RIGHT><FONT FACE=\"Times New Roman\" SIZE=-1>$0.00</FONT></TD>","<TD NOWRAP ALIGN=RIGHT><FONT FACE=\"Times New Roman\" SIZE=-1><BR></FONT></TD>","<TD NOWRAP ALIGN=RIGHT><FONT FACE=\"Times New Roman\" SIZE=-1>$0.00</FONT></TD>","<TD NOWRAP ALIGN=CENTER><FONT FACE=\"Times New Roman\" SIZE=-1>$0.00$0.00</FONT></TD>","<TD NOWRAP ALIGN=CENTER><FONT FACE=\"Times New Roman\" SIZE=-1>$0.00$0.00</FONT></TD>","<TD NOWRAP ALIGN=CENTER><FONT FACE=\"Times New Roman\" SIZE=-1>0.0000</FONT></TD>","<TD NOWRAP ALIGN=CENTER><FONT FACE=\"Times New Roman\" SIZE=-1>$0.00$0.00</FONT></TD>","</TR>"]
["Saratoga County",null,null,null,{"$f":"MIN(E50:E80)","v":0},{"$f":"IF(G49<>0,\"to\",\"\")","v":""},{"$f":"MAX(E50:G80)","v":0},{"$f":"MIN(H50:H80)","v":0},{"$f":"IF(J49<>0,\"to\",\"\")","v":""},{"$f":"MAX(H50:J80)","v":0},null,{"$f":"MIN(L50:L80)","v":0},{"$f":"IF(N49<>0,\"to\",\"\")","v":""},{"$f":"MAX(L50:N80)","v":0},null,"<TR VALIGN=BOTTOM BGCOLOR=\"#CCCCFF\">",{"$f":"\"<TH NOWRAP ALIGN=LEFT><FONT FACE=\"\"Times New Roman\"\" COLOR=\"\"#AA00AA\"\">\"&A49&\"</FONT></TH>\"","v":"<TH NOWRAP ALIGN=LEFT><FONT FACE=\"Times New Roman\" COLOR=\"#AA00AA\">Saratoga County</FONT></TH>"},"<TD NOWRAP ALIGN=RIGHT><FONT FACE=\"Times New Roman\" SIZE=-1><BR></FONT></TD>","<TD NOWRAP ALIGN=RIGHT><FONT FACE=\"Times New Roman\" SIZE=-1><BR></FONT></TD>","<TD NOWRAP ALIGN=RIGHT><FONT FACE=\"Times New Roman\" SIZE=-1><BR></FONT></TD>","<TD NOWRAP ALIGN=CENTER><FONT FACE=\"Times New Roman\" SIZE=-1>$0.00$0.00</FONT></TD>","<TD NOWRAP ALIGN=CENTER><FONT FACE=\"Times New Roman\" SIZE=-1>$0.00$0.00</FONT></TD>","<TD NOWRAP ALIGN=CENTER><FONT FACE=\"Times New Roman\" SIZE=-1><BR></FONT></TD>","<TD NOWRAP ALIGN=CENTER><FONT FACE=\"Times New Roman\" SIZE=-1>$0.00$0.00</FONT></TD>","</TR>"]
["Town of Ballston",{"$f":"'2017 SD'!B159","v":0},null,null,{"$f":"'2017 SD'!E159","v":0},{"$f":"'2017 SD'!F159","v":""},{"$f":"'2017 SD'!G159","v":0},{"$f":"'2017 SD'!H159","v":0},{"$f":"'2017 SD'!I159","v":""},{"$f":"'2017 SD'!J159","v":0},{"$f":"'2017 SD'!K159","v":0},{"$f":"'2017 SD'!L159","v":0},{"$f":"'2017 SD'!M159","v":""},{"$f":"'2017 SD'!N159","v":0},null,"<TR VALIGN=BOTTOM>",{"$f":"\"<TD NOWRAP ALIGN=LEFT><FONT FACE=\"\"Times New Roman\"\" SIZE=-1>\"&A50&\"</FONT></TD>\"","v":"<TD NOWRAP ALIGN=LEFT><FONT FACE=\"Times New Roman\" SIZE=-1>Town of Ballston</FONT></TD>"},"<TD NOWRAP ALIGN=RIGHT><FONT FACE=\"Times New Roman\" SIZE=-1>$0.00</FONT></TD>","<TD NOWRAP ALIGN=RIGHT><FONT FACE=\"Times New Roman\" SIZE=-1><BR></FONT></TD>","<TD NOWRAP ALIGN=RIGHT><FONT FACE=\"Times New Roman\" SIZE=-1><BR></FONT></TD>","<TD NOWRAP ALIGN=CENTER><FONT FACE=\"Times New Roman\" SIZE=-1>$0.00$0.00</FONT></TD>","<TD NOWRAP ALIGN=CENTER><FONT FACE=\"Times New Roman\" SIZE=-1>$0.00$0.00</FONT></TD>","<TD NOWRAP ALIGN=CENTER><FONT FACE=\"Times New Roman\" SIZE=-1>0.0000</FONT></TD>","<TD NOWRAP ALIGN=CENTER><FONT FACE=\"Times New Roman\" SIZE=-1>$0.00$0.00</FONT></TD>","</TR>"]
["Village of Ballston Spa (part)",{"$f":"'2017 SD'!B163","v":0},null,{"$f":"'2017 SD'!D163","v":0},{"$f":"'2017 SD'!E163","v":0},null,null,{"$f":"'2017 SD'!H163","v":0},null,null,{"$f":"'2017 SD'!K163","v":0},{"$f":"'2017 SD'!L163","v":0},null,null,null,"<TR VALIGN=BOTTOM>",{"$f":"\"<TD NOWRAP ALIGN=LEFT><FONT FACE=\"\"Times New Roman\"\" SIZE=-1 COLOR=\"\"#808000\"\">\"&A51&\"</FONT></TD>\"","v":"<TD NOWRAP ALIGN=LEFT><FONT FACE=\"Times New Roman\" SIZE=-1 COLOR=\"#808000\">Village of Ballston Spa (part)</FONT></TD>"},"<TD NOWRAP ALIGN=RIGHT><FONT FACE=\"Times New Roman\" SIZE=-1>$0.00</FONT></TD>","<TD NOWRAP ALIGN=RIGHT><FONT FACE=\"Times New Roman\" SIZE=-1><BR></FONT></TD>","<TD NOWRAP ALIGN=RIGHT><FONT FACE=\"Times New Roman\" SIZE=-1>$0.00</FONT></TD>","<TD NOWRAP ALIGN=CENTER><FONT FACE=\"Times New Roman\" SIZE=-1>$0.00</FONT></TD>","<TD NOWRAP ALIGN=CENTER><FONT FACE=\"Times New Roman\" SIZE=-1>$0.00</FONT></TD>","<TD NOWRAP ALIGN=CENTER><FONT FACE=\"Times New Roman\" SIZE=-1>0.0000</FONT></TD>","<TD NOWRAP ALIGN=CENTER><FONT FACE=\"Times New Roman\" SIZE=-1>$0.00</FONT></TD>","</TR>"]
["Town of Charlton",{"$f":"'2017 SD'!B165","v":0},null,null,{"$f":"'2017 SD'!E165","v":0},{"$f":"'2017 SD'!F165","v":""},{"$f":"'2017 SD'!G165","v":0},{"$f":"'2017 SD'!H165","v":0},{"$f":"'2017 SD'!I165","v":""},{"$f":"'2017 SD'!J165","v":0},{"$f":"'2017 SD'!K165","v":0},{"$f":"'2017 SD'!L165","v":0},{"$f":"'2017 SD'!M165","v":""},{"$f":"'2017 SD'!N165","v":0},null,"<TR VALIGN=BOTTOM>",{"$f":"\"<TD NOWRAP ALIGN=LEFT><FONT FACE=\"\"Times New Roman\"\" SIZE=-1>\"&A52&\"</FONT></TD>\"","v":"<TD NOWRAP ALIGN=LEFT><FONT FACE=\"Times New Roman\" SIZE=-1>Town of Charlton</FONT></TD>"},"<TD NOWRAP ALIGN=RIGHT><FONT FACE=\"Times New Roman\" SIZE=-1>$0.00</FONT></TD>","<TD NOWRAP ALIGN=RIGHT><FONT FACE=\"Times New Roman\" SIZE=-1><BR></FONT></TD>","<TD NOWRAP ALIGN=RIGHT><FONT FACE=\"Times New Roman\" SIZE=-1><BR></FONT></TD>","<TD NOWRAP ALIGN=CENTER><FONT FACE=\"Times New Roman\" SIZE=-1>$0.00$0.00</FONT></TD>","<TD NOWRAP ALIGN=CENTER><FONT FACE=\"Times New Roman\" SIZE=-1>$0.00$0.00</FONT></TD>","<TD NOWRAP ALIGN=CENTER><FONT FACE=\"Times New Roman\" SIZE=-1>0.0000</FONT></TD>","<TD NOWRAP ALIGN=CENTER><FONT FACE=\"Times New Roman\" SIZE=-1>$0.00$0.00</FONT></TD>","</TR>"]
["Town of Clifton Park",{"$f":"'2017 SD'!B171","v":0},{"$f":"'2017 SD'!C171","v":0},null,{"$f":"'2017 SD'!E171","v":0},{"$f":"'2017 SD'!F171","v":""},{"$f":"'2017 SD'!G171","v":0},{"$f":"'2017 SD'!H171","v":0},{"$f":"'2017 SD'!I171","v":""},{"$f":"'2017 SD'!J171","v":0},{"$f":"'2017 SD'!K171","v":0},{"$f":"'2017 SD'!L171","v":0},{"$f":"'2017 SD'!M171","v":""},{"$f":"'2017 SD'!N171","v":0},null,"<TR VALIGN=BOTTOM>",{"$f":"\"<TD NOWRAP ALIGN=LEFT><FONT FACE=\"\"Times New Roman\"\" SIZE=-1>\"&A53&\"</FONT></TD>\"","v":"<TD NOWRAP ALIGN=LEFT><FONT FACE=\"Times New Roman\" SIZE=-1>Town of Clifton Park</FONT></TD>"},"<TD NOWRAP ALIGN=RIGHT><FONT FACE=\"Times New Roman\" SIZE=-1>$0.00</FONT></TD>","<TD NOWRAP ALIGN=RIGHT><FONT FACE=\"Times New Roman\" SIZE=-1>$0.00</FONT></TD>","<TD NOWRAP ALIGN=RIGHT><FONT FACE=\"Times New Roman\" SIZE=-1><BR></FONT></TD>","<TD NOWRAP ALIGN=CENTER><FONT FACE=\"Times New Roman\" SIZE=-1>$0.00$0.00</FONT></TD>","<TD NOWRAP ALIGN=CENTER><FONT FACE=\"Times New Roman\" SIZE=-1>$0.00$0.00</FONT></TD>","<TD NOWRAP ALIGN=CENTER><FONT FACE=\"Times New Roman\" SIZE=-1>0.0000</FONT></TD>","<TD NOWRAP ALIGN=CENTER><FONT FACE=\"Times New Roman\" SIZE=-1>$0.00$0.00</FONT></TD>","</TR>"]
["Town of Corinth",{"$f":"'2017 SD'!B175","v":0},{"$f":"'2017 SD'!C175","v":0},null,{"$f":"'2017 SD'!E175","v":0},null,null,{"$f":"'2017 SD'!H175","v":0},null,null,{"$f":"'2017 SD'!K175","v":0},{"$f":"'2017 SD'!L175","v":0},null,null,null,"<TR VALIGN=BOTTOM>",{"$f":"\"<TD NOWRAP ALIGN=LEFT><FONT FACE=\"\"Times New Roman\"\" SIZE=-1>\"&A54&\"</FONT></TD>\"","v":"<TD NOWRAP ALIGN=LEFT><FONT FACE=\"Times New Roman\" SIZE=-1>Town of Corinth</FONT></TD>"},"<TD NOWRAP ALIGN=RIGHT><FONT FACE=\"Times New Roman\" SIZE=-1>$0.00</FONT></TD>","<TD NOWRAP ALIGN=RIGHT><FONT FACE=\"Times New Roman\" SIZE=-1>$0.00</FONT></TD>","<TD NOWRAP ALIGN=RIGHT><FONT FACE=\"Times New Roman\" SIZE=-1><BR></FONT></TD>","<TD NOWRAP ALIGN=CENTER><FONT FACE=\"Times New Roman\" SIZE=-1>$0.00</FONT></TD>","<TD NOWRAP ALIGN=CENTER><FONT FACE=\"Times New Roman\" SIZE=-1>$0.00</FONT></TD>","<TD NOWRAP ALIGN=CENTER><FONT FACE=\"Times New Roman\" SIZE=-1>0.0000</FONT></TD>","<TD NOWRAP ALIGN=CENTER><FONT FACE=\"Times New Roman\" SIZE=-1>$0.00</FONT></TD>","</TR>"]
["Village of Corinth",{"$f":"'2017 SD'!B177","v":0},{"$f":"'2017 SD'!C177","v":0},{"$f":"'2017 SD'!D177","v":0},{"$f":"'2017 SD'!E177","v":0},null,null,{"$f":"'2017 SD'!H177","v":0},null,null,{"$f":"'2017 SD'!K177","v":0},{"$f":"'2017 SD'!L177","v":0},null,null,null,"<TR VALIGN=BOTTOM>",{"$f":"\"<TD NOWRAP ALIGN=LEFT><FONT FACE=\"\"Times New Roman\"\" SIZE=-1 COLOR=\"\"#008000\"\">\"&A55&\"</FONT></TD>\"","v":"<TD NOWRAP ALIGN=LEFT><FONT FACE=\"Times New Roman\" SIZE=-1 COLOR=\"#008000\">Village of Corinth</FONT></TD>"},"<TD NOWRAP ALIGN=RIGHT><FONT FACE=\"Times New Roman\" SIZE=-1>$0.00</FONT></TD>","<TD NOWRAP ALIGN=RIGHT><FONT FACE=\"Times New Roman\" SIZE=-1>$0.00</FONT></TD>","<TD NOWRAP ALIGN=RIGHT><FONT FACE=\"Times New Roman\" SIZE=-1>$0.00</FONT></TD>","<TD NOWRAP ALIGN=CENTER><FONT FACE=\"Times New Roman\" SIZE=-1>$0.00</FONT></TD>","<TD NOWRAP ALIGN=CENTER><FONT FACE=\"Times New Roman\" SIZE=-1>$0.00</FONT></TD>","<TD NOWRAP ALIGN=CENTER><FONT FACE=\"Times New Roman\" SIZE=-1>0.0000</FONT></TD>","<TD NOWRAP ALIGN=CENTER><FONT FACE=\"Times New Roman\" SIZE=-1>$0.00</FONT></TD>","</TR>"]
["Town of Day",{"$f":"'2017 SD'!B179","v":0},{"$f":"'2017 SD'!C179","v":0},null,{"$f":"'2017 SD'!E179","v":0},{"$f":"'2017 SD'!F179","v":""},{"$f":"'2017 SD'!G179","v":0},{"$f":"'2017 SD'!H179","v":0},{"$f":"'2017 SD'!I179","v":""},{"$f":"'2017 SD'!J179","v":0},{"$f":"'2017 SD'!K179","v":0},{"$f":"'2017 SD'!L179","v":0},{"$f":"'2017 SD'!M179","v":""},{"$f":"'2017 SD'!N179","v":0},null,"<TR VALIGN=BOTTOM>",{"$f":"\"<TD NOWRAP ALIGN=LEFT><FONT FACE=\"\"Times New Roman\"\" SIZE=-1>\"&A56&\"</FONT></TD>\"","v":"<TD NOWRAP ALIGN=LEFT><FONT FACE=\"Times New Roman\" SIZE=-1>Town of Day</FONT></TD>"},"<TD NOWRAP ALIGN=RIGHT><FONT FACE=\"Times New Roman\" SIZE=-1>$0.00</FONT></TD>","<TD NOWRAP ALIGN=RIGHT><FONT FACE=\"Times New Roman\" SIZE=-1>$0.00</FONT></TD>","<TD NOWRAP ALIGN=RIGHT><FONT FACE=\"Times New Roman\" SIZE=-1><BR></FONT></TD>","<TD NOWRAP ALIGN=CENTER><FONT FACE=\"Times New Roman\" SIZE=-1>$0.00$0.00</FONT></TD>","<TD NOWRAP ALIGN=CENTER><FONT FACE=\"Times New Roman\" SIZE=-1>$0.00$0.00</FONT></TD>","<TD NOWRAP ALIGN=CENTER><FONT FACE=\"Times New Roman\" SIZE=-1>0.0000</FONT></TD>","<TD NOWRAP ALIGN=CENTER><FONT FACE=\"Times New Roman\" SIZE=-1>$0.00$0.00</FONT></TD>","</TR>"]
["Town of Edinburg",{"$f":"'2017 SD'!B183","v":0},{"$f":"'2017 SD'!C183","v":0},null,{"$f":"'2017 SD'!E183","v":0},{"$f":"'2017 SD'!F183","v":""},{"$f":"'2017 SD'!G183","v":0},{"$f":"'2017 SD'!H183","v":0},{"$f":"'2017 SD'!I183","v":""},{"$f":"'2017 SD'!J183","v":0},{"$f":"'2017 SD'!K183","v":0},{"$f":"'2017 SD'!L183","v":0},{"$f":"'2017 SD'!M183","v":""},{"$f":"'2017 SD'!N183","v":0},null,"<TR VALIGN=BOTTOM>",{"$f":"\"<TD NOWRAP ALIGN=LEFT><FONT FACE=\"\"Times New Roman\"\" SIZE=-1>\"&A57&\"</FONT></TD>\"","v":"<TD NOWRAP ALIGN=LEFT><FONT FACE=\"Times New Roman\" SIZE=-1>Town of Edinburg</FONT></TD>"},"<TD NOWRAP ALIGN=RIGHT><FONT FACE=\"Times New Roman\" SIZE=-1>$0.00</FONT></TD>","<TD NOWRAP ALIGN=RIGHT><FONT FACE=\"Times New Roman\" SIZE=-1>$0.00</FONT></TD>","<TD NOWRAP ALIGN=RIGHT><FONT FACE=\"Times New Roman\" SIZE=-1><BR></FONT></TD>","<TD NOWRAP ALIGN=CENTER><FONT FACE=\"Times New Roman\" SIZE=-1>$0.00$0.00</FONT></TD>","<TD NOWRAP ALIGN=CENTER><FONT FACE=\"Times New Roman\" SIZE=-1>$0.00$0.00</FONT></TD>","<TD NOWRAP ALIGN=CENTER><FONT FACE=\"Times New Roman\" SIZE=-1>0.0000</FONT></TD>","<TD NOWRAP ALIGN=CENTER><FONT FACE=\"Times New Roman\" SIZE=-1>$0.00$0.00</FONT></TD>","</TR>"]
["Town of Galway",{"$f":"'2017 SD'!B188","v":0},{"$f":"'2017 SD'!C188","v":0},null,{"$f":"'2017 SD'!E188","v":0},{"$f":"'2017 SD'!F188","v":""},{"$f":"'2017 SD'!G188","v":0},{"$f":"'2017 SD'!H188","v":0},{"$f":"'2017 SD'!I188","v":""},{"$f":"'2017 SD'!J188","v":0},{"$f":"'2017 SD'!K188","v":0},{"$f":"'2017 SD'!L188","v":0},{"$f":"'2017 SD'!M188","v":""},{"$f":"'2017 SD'!N188","v":0},null,"<TR VALIGN=BOTTOM>",{"$f":"\"<TD NOWRAP ALIGN=LEFT><FONT FACE=\"\"Times New Roman\"\" SIZE=-1>\"&A58&\"</FONT></TD>\"","v":"<TD NOWRAP ALIGN=LEFT><FONT FACE=\"Times New Roman\" SIZE=-1>Town of Galway</FONT></TD>"},"<TD NOWRAP ALIGN=RIGHT><FONT FACE=\"Times New Roman\" SIZE=-1>$0.00</FONT></TD>","<TD NOWRAP ALIGN=RIGHT><FONT FACE=\"Times New Roman\" SIZE=-1>$0.00</FONT></TD>","<TD NOWRAP ALIGN=RIGHT><FONT FACE=\"Times New Roman\" SIZE=-1><BR></FONT></TD>","<TD NOWRAP ALIGN=CENTER><FONT FACE=\"Times New Roman\" SIZE=-1>$0.00$0.00</FONT></TD>","<TD NOWRAP ALIGN=CENTER><FONT FACE=\"Times New Roman\" SIZE=-1>$0.00$0.00</FONT></TD>","<TD NOWRAP ALIGN=CENTER><FONT FACE=\"Times New Roman\" SIZE=-1>0.0000</FONT></TD>","<TD NOWRAP ALIGN=CENTER><FONT FACE=\"Times New Roman\" SIZE=-1>$0.00$0.00</FONT></TD>","</TR>"]
["Village of Galway",{"$f":"'2017 SD'!B191","v":0},{"$f":"'2017 SD'!C191","v":0},{"$f":"'2017 SD'!D191","v":0},{"$f":"'2017 SD'!E191","v":0},null,null,{"$f":"'2017 SD'!H191","v":0},null,null,{"$f":"'2017 SD'!K191","v":0},{"$f":"'2017 SD'!L191","v":0},null,null,null,"<TR VALIGN=BOTTOM>",{"$f":"\"<TD NOWRAP ALIGN=LEFT><FONT FACE=\"\"Times New Roman\"\" SIZE=-1 COLOR=\"\"#008000\"\">\"&A59&\"</FONT></TD>\"","v":"<TD NOWRAP ALIGN=LEFT><FONT FACE=\"Times New Roman\" SIZE=-1 COLOR=\"#008000\">Village of Galway</FONT></TD>"},"<TD NOWRAP ALIGN=RIGHT><FONT FACE=\"Times New Roman\" SIZE=-1>$0.00</FONT></TD>","<TD NOWRAP ALIGN=RIGHT><FONT FACE=\"Times New Roman\" SIZE=-1>$0.00</FONT></TD>","<TD NOWRAP ALIGN=RIGHT><FONT FACE=\"Times New Roman\" SIZE=-1>$0.00</FONT></TD>","<TD NOWRAP ALIGN=CENTER><FONT FACE=\"Times New Roman\" SIZE=-1>$0.00</FONT></TD>","<TD NOWRAP ALIGN=CENTER><FONT FACE=\"Times New Roman\" SIZE=-1>$0.00</FONT></TD>","<TD NOWRAP ALIGN=CENTER><FONT FACE=\"Times New Roman\" SIZE=-1>0.0000</FONT></TD>","<TD NOWRAP ALIGN=CENTER><FONT FACE=\"Times New Roman\" SIZE=-1>$0.00</FONT></TD>","</TR>"]
["Town of Greenfield",{"$f":"'2017 SD'!B193","v":0},{"$f":"'2017 SD'!C193","v":0},null,{"$f":"'2017 SD'!E193","v":0},{"$f":"'2017 SD'!F193","v":""},{"$f":"'2017 SD'!G193","v":0},{"$f":"'2017 SD'!H193","v":0},{"$f":"'2017 SD'!I193","v":""},{"$f":"'2017 SD'!J193","v":0},{"$f":"'2017 SD'!K193","v":0},{"$f":"'2017 SD'!L193","v":0},{"$f":"'2017 SD'!M193","v":""},{"$f":"'2017 SD'!N193","v":0},null,"<TR VALIGN=BOTTOM>",{"$f":"\"<TD NOWRAP ALIGN=LEFT><FONT FACE=\"\"Times New Roman\"\" SIZE=-1>\"&A60&\"</FONT></TD>\"","v":"<TD NOWRAP ALIGN=LEFT><FONT FACE=\"Times New Roman\" SIZE=-1>Town of Greenfield</FONT></TD>"},"<TD NOWRAP ALIGN=RIGHT><FONT FACE=\"Times New Roman\" SIZE=-1>$0.00</FONT></TD>","<TD NOWRAP ALIGN=RIGHT><FONT FACE=\"Times New Roman\" SIZE=-1>$0.00</FONT></TD>","<TD NOWRAP ALIGN=RIGHT><FONT FACE=\"Times New Roman\" SIZE=-1><BR></FONT></TD>","<TD NOWRAP ALIGN=CENTER><FONT FACE=\"Times New Roman\" SIZE=-1>$0.00$0.00</FONT></TD>","<TD NOWRAP ALIGN=CENTER><FONT FACE=\"Times New Roman\" SIZE=-1>$0.00$0.00</FONT></TD>","<TD NOWRAP ALIGN=CENTER><FONT FACE=\"Times New Roman\" SIZE=-1>0.0000</FONT></TD>","<TD NOWRAP ALIGN=CENTER><FONT FACE=\"Times New Roman\" SIZE=-1>$0.00$0.00</FONT></TD>","</TR>"]
["Town of Hadley",{"$f":"'2017 SD'!B196","v":0},{"$f":"'2017 SD'!C196","v":0},null,{"$f":"'2017 SD'!E196","v":0},{"$f":"'2017 SD'!F196","v":""},{"$f":"'2017 SD'!G196","v":0},{"$f":"'2017 SD'!H196","v":0},{"$f":"'2017 SD'!I196","v":""},{"$f":"'2017 SD'!J196","v":0},{"$f":"'2017 SD'!K196","v":0},{"$f":"'2017 SD'!L196","v":0},{"$f":"'2017 SD'!M196","v":""},{"$f":"'2017 SD'!N196","v":0},null,"<TR VALIGN=BOTTOM>",{"$f":"\"<TD NOWRAP ALIGN=LEFT><FONT FACE=\"\"Times New Roman\"\" SIZE=-1>\"&A61&\"</FONT></TD>\"","v":"<TD NOWRAP ALIGN=LEFT><FONT FACE=\"Times New Roman\" SIZE=-1>Town of Hadley</FONT></TD>"},"<TD NOWRAP ALIGN=RIGHT><FONT FACE=\"Times New Roman\" SIZE=-1>$0.00</FONT></TD>","<TD NOWRAP ALIGN=RIGHT><FONT FACE=\"Times New Roman\" SIZE=-1>$0.00</FONT></TD>","<TD NOWRAP ALIGN=RIGHT><FONT FACE=\"Times New Roman\" SIZE=-1><BR></FONT></TD>","<TD NOWRAP ALIGN=CENTER><FONT FACE=\"Times New Roman\" SIZE=-1>$0.00$0.00</FONT></TD>","<TD NOWRAP ALIGN=CENTER><FONT FACE=\"Times New Roman\" SIZE=-1>$0.00$0.00</FONT></TD>","<TD NOWRAP ALIGN=CENTER><FONT FACE=\"Times New Roman\" SIZE=-1>0.0000</FONT></TD>","<TD NOWRAP ALIGN=CENTER><FONT FACE=\"Times New Roman\" SIZE=-1>$0.00$0.00</FONT></TD>","</TR>"]
["Town of Halfmoon",{"$f":"'2017 SD'!B199","v":0},null,null,{"$f":"'2017 SD'!E199","v":0},{"$f":"'2017 SD'!F199","v":""},{"$f":"'2017 SD'!G199","v":0},{"$f":"'2017 SD'!H199","v":0},{"$f":"'2017 SD'!I199","v":""},{"$f":"'2017 SD'!J199","v":0},{"$f":"'2017 SD'!K199","v":0},{"$f":"'2017 SD'!L199","v":0},{"$f":"'2017 SD'!M199","v":""},{"$f":"'2017 SD'!N199","v":0},null,"<TR VALIGN=BOTTOM>",{"$f":"\"<TD NOWRAP ALIGN=LEFT><FONT FACE=\"\"Times New Roman\"\" SIZE=-1>\"&A62&\"</FONT></TD>\"","v":"<TD NOWRAP ALIGN=LEFT><FONT FACE=\"Times New Roman\" SIZE=-1>Town of Halfmoon</FONT></TD>"},"<TD NOWRAP ALIGN=RIGHT><FONT FACE=\"Times New Roman\" SIZE=-1>$0.00</FONT></TD>","<TD NOWRAP ALIGN=RIGHT><FONT FACE=\"Times New Roman\" SIZE=-1><BR></FONT></TD>","<TD NOWRAP ALIGN=RIGHT><FONT FACE=\"Times New Roman\" SIZE=-1><BR></FONT></TD>","<TD NOWRAP ALIGN=CENTER><FONT FACE=\"Times New Roman\" SIZE=-1>$0.00$0.00</FONT></TD>","<TD NOWRAP ALIGN=CENTER><FONT FACE=\"Times New Roman\" SIZE=-1>$0.00$0.00</FONT></TD>","<TD NOWRAP ALIGN=CENTER><FONT FACE=\"Times New Roman\" SIZE=-1>0.0000</FONT></TD>","<TD NOWRAP ALIGN=CENTER><FONT FACE=\"Times New Roman\" SIZE=-1>$0.00$0.00</FONT></TD>","</TR>"]
["Town of Malta",{"$f":"'2017 SD'!B203","v":0},{"$f":"'2017 SD'!C203","v":0},null,{"$f":"'2017 SD'!E203","v":0},{"$f":"'2017 SD'!F203","v":""},{"$f":"'2017 SD'!G203","v":0},{"$f":"'2017 SD'!H203","v":0},{"$f":"'2017 SD'!I203","v":""},{"$f":"'2017 SD'!J203","v":0},{"$f":"'2017 SD'!K203","v":0},{"$f":"'2017 SD'!L203","v":0},{"$f":"'2017 SD'!M203","v":""},{"$f":"'2017 SD'!N203","v":0},null,"<TR VALIGN=BOTTOM>",{"$f":"\"<TD NOWRAP ALIGN=LEFT><FONT FACE=\"\"Times New Roman\"\" SIZE=-1>\"&A63&\"</FONT></TD>\"","v":"<TD NOWRAP ALIGN=LEFT><FONT FACE=\"Times New Roman\" SIZE=-1>Town of Malta</FONT></TD>"},"<TD NOWRAP ALIGN=RIGHT><FONT FACE=\"Times New Roman\" SIZE=-1>$0.00</FONT></TD>","<TD NOWRAP ALIGN=RIGHT><FONT FACE=\"Times New Roman\" SIZE=-1>$0.00</FONT></TD>","<TD NOWRAP ALIGN=RIGHT><FONT FACE=\"Times New Roman\" SIZE=-1><BR></FONT></TD>","<TD NOWRAP ALIGN=CENTER><FONT FACE=\"Times New Roman\" SIZE=-1>$0.00$0.00</FONT></TD>","<TD NOWRAP ALIGN=CENTER><FONT FACE=\"Times New Roman\" SIZE=-1>$0.00$0.00</FONT></TD>","<TD NOWRAP ALIGN=CENTER><FONT FACE=\"Times New Roman\" SIZE=-1>0.0000</FONT></TD>","<TD NOWRAP ALIGN=CENTER><FONT FACE=\"Times New Roman\" SIZE=-1>$0.00$0.00</FONT></TD>","</TR>"]
["Village of Round Lake",{"$f":"'2017 SD'!B207","v":0},{"$f":"'2017 SD'!C207","v":0},{"$f":"'2017 SD'!D207","v":0},{"$f":"'2017 SD'!E207","v":0},null,null,{"$f":"'2017 SD'!H207","v":0},null,null,{"$f":"'2017 SD'!K207","v":0},{"$f":"'2017 SD'!L207","v":0},null,null,null,"<TR VALIGN=BOTTOM>",{"$f":"\"<TD NOWRAP ALIGN=LEFT><FONT FACE=\"\"Times New Roman\"\" SIZE=-1 COLOR=\"\"#008000\"\">\"&A64&\"</FONT></TD>\"","v":"<TD NOWRAP ALIGN=LEFT><FONT FACE=\"Times New Roman\" SIZE=-1 COLOR=\"#008000\">Village of Round Lake</FONT></TD>"},"<TD NOWRAP ALIGN=RIGHT><FONT FACE=\"Times New Roman\" SIZE=-1>$0.00</FONT></TD>","<TD NOWRAP ALIGN=RIGHT><FONT FACE=\"Times New Roman\" SIZE=-1>$0.00</FONT></TD>","<TD NOWRAP ALIGN=RIGHT><FONT FACE=\"Times New Roman\" SIZE=-1>$0.00</FONT></TD>","<TD NOWRAP ALIGN=CENTER><FONT FACE=\"Times New Roman\" SIZE=-1>$0.00</FONT></TD>","<TD NOWRAP ALIGN=CENTER><FONT FACE=\"Times New Roman\" SIZE=-1>$0.00</FONT></TD>","<TD NOWRAP ALIGN=CENTER><FONT FACE=\"Times New Roman\" SIZE=-1>0.0000</FONT></TD>","<TD NOWRAP ALIGN=CENTER><FONT FACE=\"Times New Roman\" SIZE=-1>$0.00</FONT></TD>","</TR>"]
["City of Mechanicville",{"$f":"'2017 SD'!B209","v":0},null,{"$f":"'2017 SD'!D209","v":0},{"$f":"'2017 SD'!E209","v":0},null,null,{"$f":"'2017 SD'!H209","v":0},null,null,{"$f":"'2017 SD'!K209","v":0},{"$f":"'2017 SD'!L209","v":0},null,null,null,"<TR VALIGN=BOTTOM>",{"$f":"\"<TD NOWRAP ALIGN=LEFT><FONT FACE=\"\"Times New Roman\"\" SIZE=-1 COLOR=#800000\"\">\"&A65&\"</FONT></TD>\"","v":"<TD NOWRAP ALIGN=LEFT><FONT FACE=\"Times New Roman\" SIZE=-1 COLOR=#800000\">City of Mechanicville</FONT></TD>"},"<TD NOWRAP ALIGN=RIGHT><FONT FACE=\"Times New Roman\" SIZE=-1>$0.00</FONT></TD>","<TD NOWRAP ALIGN=RIGHT><FONT FACE=\"Times New Roman\" SIZE=-1><BR></FONT></TD>","<TD NOWRAP ALIGN=RIGHT><FONT FACE=\"Times New Roman\" SIZE=-1>$0.00</FONT></TD>","<TD NOWRAP ALIGN=CENTER><FONT FACE=\"Times New Roman\" SIZE=-1>$0.00</FONT></TD>","<TD NOWRAP ALIGN=CENTER><FONT FACE=\"Times New Roman\" SIZE=-1>$0.00</FONT></TD>","<TD NOWRAP ALIGN=CENTER><FONT FACE=\"Times New Roman\" SIZE=-1>0.0000</FONT></TD>","<TD NOWRAP ALIGN=CENTER><FONT FACE=\"Times New Roman\" SIZE=-1>$0.00</FONT></TD>","</TR>"]
["Town of Milton",{"$f":"'2017 SD'!B211","v":0},{"$f":"'2017 SD'!C211","v":0},null,{"$f":"'2017 SD'!E211","v":0},{"$f":"'2017 SD'!F211","v":""},{"$f":"'2017 SD'!G211","v":0},{"$f":"'2017 SD'!H211","v":0},{"$f":"'2017 SD'!I211","v":""},{"$f":"'2017 SD'!J211","v":0},{"$f":"'2017 SD'!K211","v":0},{"$f":"'2017 SD'!L211","v":0},{"$f":"'2017 SD'!M211","v":""},{"$f":"'2017 SD'!N211","v":0},null,"<TR VALIGN=BOTTOM>",{"$f":"\"<TD NOWRAP ALIGN=LEFT><FONT FACE=\"\"Times New Roman\"\" SIZE=-1>\"&A66&\"</FONT></TD>\"","v":"<TD NOWRAP ALIGN=LEFT><FONT FACE=\"Times New Roman\" SIZE=-1>Town of Milton</FONT></TD>"},"<TD NOWRAP ALIGN=RIGHT><FONT FACE=\"Times New Roman\" SIZE=-1>$0.00</FONT></TD>","<TD NOWRAP ALIGN=RIGHT><FONT FACE=\"Times New Roman\" SIZE=-1>$0.00</FONT></TD>","<TD NOWRAP ALIGN=RIGHT><FONT FACE=\"Times New Roman\" SIZE=-1><BR></FONT></TD>","<TD NOWRAP ALIGN=CENTER><FONT FACE=\"Times New Roman\" SIZE=-1>$0.00$0.00</FONT></TD>","<TD NOWRAP ALIGN=CENTER><FONT FACE=\"Times New Roman\" SIZE=-1>$0.00$0.00</FONT></TD>","<TD NOWRAP ALIGN=CENTER><FONT FACE=\"Times New Roman\" SIZE=-1>0.0000</FONT></TD>","<TD NOWRAP ALIGN=CENTER><FONT FACE=\"Times New Roman\" SIZE=-1>$0.00$0.00</FONT></TD>","</TR>"]
["Village of Ballston Spa (part)",{"$f":"'2017 SD'!B215","v":0},{"$f":"'2017 SD'!C215","v":0},{"$f":"'2017 SD'!D215","v":0},{"$f":"'2017 SD'!E215","v":0},null,null,{"$f":"'2017 SD'!H215","v":0},null,null,{"$f":"'2017 SD'!K215","v":0},{"$f":"'2017 SD'!L215","v":0},null,null,null,"<TR VALIGN=BOTTOM>",{"$f":"\"<TD NOWRAP ALIGN=LEFT><FONT FACE=\"\"Times New Roman\"\" SIZE=-1 COLOR=\"\"#808000\"\">\"&A67&\"</FONT></TD>\"","v":"<TD NOWRAP ALIGN=LEFT><FONT FACE=\"Times New Roman\" SIZE=-1 COLOR=\"#808000\">Village of Ballston Spa (part)</FONT></TD>"},"<TD NOWRAP ALIGN=RIGHT><FONT FACE=\"Times New Roman\" SIZE=-1>$0.00</FONT></TD>","<TD NOWRAP ALIGN=RIGHT><FONT FACE=\"Times New Roman\" SIZE=-1>$0.00</FONT></TD>","<TD NOWRAP ALIGN=RIGHT><FONT FACE=\"Times New Roman\" SIZE=-1>$0.00</FONT></TD>","<TD NOWRAP ALIGN=CENTER><FONT FACE=\"Times New Roman\" SIZE=-1>$0.00</FONT></TD>","<TD NOWRAP ALIGN=CENTER><FONT FACE=\"Times New Roman\" SIZE=-1>$0.00</FONT></TD>","<TD NOWRAP ALIGN=CENTER><FONT FACE=\"Times New Roman\" SIZE=-1>0.0000</FONT></TD>","<TD NOWRAP ALIGN=CENTER><FONT FACE=\"Times New Roman\" SIZE=-1>$0.00</FONT></TD>","</TR>"]
["Town of Moreau",{"$f":"'2017 SD'!B217","v":0},{"$f":"'2017 SD'!C217","v":0},null,{"$f":"'2017 SD'!E217","v":0},{"$f":"'2017 SD'!F217","v":""},{"$f":"'2017 SD'!G217","v":0},{"$f":"'2017 SD'!H217","v":0},{"$f":"'2017 SD'!I217","v":""},{"$f":"'2017 SD'!J217","v":0},{"$f":"'2017 SD'!K217","v":0},{"$f":"'2017 SD'!L217","v":0},{"$f":"'2017 SD'!M217","v":""},{"$f":"'2017 SD'!N217","v":0},null,"<TR VALIGN=BOTTOM>",{"$f":"\"<TD NOWRAP ALIGN=LEFT><FONT FACE=\"\"Times New Roman\"\" SIZE=-1>\"&A68&\"</FONT></TD>\"","v":"<TD NOWRAP ALIGN=LEFT><FONT FACE=\"Times New Roman\" SIZE=-1>Town of Moreau</FONT></TD>"},"<TD NOWRAP ALIGN=RIGHT><FONT FACE=\"Times New Roman\" SIZE=-1>$0.00</FONT></TD>","<TD NOWRAP ALIGN=RIGHT><FONT FACE=\"Times New Roman\" SIZE=-1>$0.00</FONT></TD>","<TD NOWRAP ALIGN=RIGHT><FONT FACE=\"Times New Roman\" SIZE=-1><BR></FONT></TD>","<TD NOWRAP ALIGN=CENTER><FONT FACE=\"Times New Roman\" SIZE=-1>$0.00$0.00</FONT></TD>","<TD NOWRAP ALIGN=CENTER><FONT FACE=\"Times New Roman\" SIZE=-1>$0.00$0.00</FONT></TD>","<TD NOWRAP ALIGN=CENTER><FONT FACE=\"Times New Roman\" SIZE=-1>0.0000</FONT></TD>","<TD NOWRAP ALIGN=CENTER><FONT FACE=\"Times New Roman\" SIZE=-1>$0.00$0.00</FONT></TD>","</TR>"]
["Village of South Glens Falls",{"$f":"'2017 SD'!B220","v":0},{"$f":"'2017 SD'!C220","v":0},{"$f":"'2017 SD'!D220","v":0},{"$f":"'2017 SD'!E220","v":0},null,null,{"$f":"'2017 SD'!H220","v":0},null,null,{"$f":"'2017 SD'!K220","v":0},{"$f":"'2017 SD'!L220","v":0},null,null,null,"<TR VALIGN=BOTTOM>",{"$f":"\"<TD NOWRAP ALIGN=LEFT><FONT FACE=\"\"Times New Roman\"\" SIZE=-1 COLOR=\"\"#008000\"\">\"&A69&\"</FONT></TD>\"","v":"<TD NOWRAP ALIGN=LEFT><FONT FACE=\"Times New Roman\" SIZE=-1 COLOR=\"#008000\">Village of South Glens Falls</FONT></TD>"},"<TD NOWRAP ALIGN=RIGHT><FONT FACE=\"Times New Roman\" SIZE=-1>$0.00</FONT></TD>","<TD NOWRAP ALIGN=RIGHT><FONT FACE=\"Times New Roman\" SIZE=-1>$0.00</FONT></TD>","<TD NOWRAP ALIGN=RIGHT><FONT FACE=\"Times New Roman\" SIZE=-1>$0.00</FONT></TD>","<TD NOWRAP ALIGN=CENTER><FONT FACE=\"Times New Roman\" SIZE=-1>$0.00</FONT></TD>","<TD NOWRAP ALIGN=CENTER><FONT FACE=\"Times New Roman\" SIZE=-1>$0.00</FONT></TD>","<TD NOWRAP ALIGN=CENTER><FONT FACE=\"Times New Roman\" SIZE=-1>0.0000</FONT></TD>","<TD NOWRAP ALIGN=CENTER><FONT FACE=\"Times New Roman\" SIZE=-1>$0.00</FONT></TD>","</TR>"]
["Town of Northumberland",{"$f":"'2017 SD'!B222","v":0},{"$f":"'2017 SD'!C222","v":0},null,{"$f":"'2017 SD'!E222","v":0},{"$f":"'2017 SD'!F222","v":""},{"$f":"'2017 SD'!G222","v":0},{"$f":"'2017 SD'!H222","v":0},{"$f":"'2017 SD'!I222","v":""},{"$f":"'2017 SD'!J222","v":0},{"$f":"'2017 SD'!K222","v":0},{"$f":"'2017 SD'!L222","v":0},{"$f":"'2017 SD'!M222","v":""},{"$f":"'2017 SD'!N222","v":0},null,"<TR VALIGN=BOTTOM>",{"$f":"\"<TD NOWRAP ALIGN=LEFT><FONT FACE=\"\"Times New Roman\"\" SIZE=-1>\"&A70&\"</FONT></TD>\"","v":"<TD NOWRAP ALIGN=LEFT><FONT FACE=\"Times New Roman\" SIZE=-1>Town of Northumberland</FONT></TD>"},"<TD NOWRAP ALIGN=RIGHT><FONT FACE=\"Times New Roman\" SIZE=-1>$0.00</FONT></TD>","<TD NOWRAP ALIGN=RIGHT><FONT FACE=\"Times New Roman\" SIZE=-1>$0.00</FONT></TD>","<TD NOWRAP ALIGN=RIGHT><FONT FACE=\"Times New Roman\" SIZE=-1><BR></FONT></TD>","<TD NOWRAP ALIGN=CENTER><FONT FACE=\"Times New Roman\" SIZE=-1>$0.00$0.00</FONT></TD>","<TD NOWRAP ALIGN=CENTER><FONT FACE=\"Times New Roman\" SIZE=-1>$0.00$0.00</FONT></TD>","<TD NOWRAP ALIGN=CENTER><FONT FACE=\"Times New Roman\" SIZE=-1>0.0000</FONT></TD>","<TD NOWRAP ALIGN=CENTER><FONT FACE=\"Times New Roman\" SIZE=-1>$0.00$0.00</FONT></TD>","</TR>"]
["Town of Providence",{"$f":"'2017 SD'!B225","v":0},{"$f":"'2017 SD'!C225","v":0},null,{"$f":"'2017 SD'!E225","v":0},{"$f":"'2017 SD'!F225","v":""},{"$f":"'2017 SD'!G225","v":0},{"$f":"'2017 SD'!H225","v":0},{"$f":"'2017 SD'!I225","v":""},{"$f":"'2017 SD'!J225","v":0},{"$f":"'2017 SD'!K225","v":0},{"$f":"'2017 SD'!L225","v":0},{"$f":"'2017 SD'!M225","v":""},{"$f":"'2017 SD'!N225","v":0},null,"<TR VALIGN=BOTTOM>",{"$f":"\"<TD NOWRAP ALIGN=LEFT><FONT FACE=\"\"Times New Roman\"\" SIZE=-1>\"&A71&\"</FONT></TD>\"","v":"<TD NOWRAP ALIGN=LEFT><FONT FACE=\"Times New Roman\" SIZE=-1>Town of Providence</FONT></TD>"},"<TD NOWRAP ALIGN=RIGHT><FONT FACE=\"Times New Roman\" SIZE=-1>$0.00</FONT></TD>","<TD NOWRAP ALIGN=RIGHT><FONT FACE=\"Times New Roman\" SIZE=-1>$0.00</FONT></TD>","<TD NOWRAP ALIGN=RIGHT><FONT FACE=\"Times New Roman\" SIZE=-1><BR></FONT></TD>","<TD NOWRAP ALIGN=CENTER><FONT FACE=\"Times New Roman\" SIZE=-1>$0.00$0.00</FONT></TD>","<TD NOWRAP ALIGN=CENTER><FONT FACE=\"Times New Roman\" SIZE=-1>$0.00$0.00</FONT></TD>","<TD NOWRAP ALIGN=CENTER><FONT FACE=\"Times New Roman\" SIZE=-1>0.0000</FONT></TD>","<TD NOWRAP ALIGN=CENTER><FONT FACE=\"Times New Roman\" SIZE=-1>$0.00$0.00</FONT></TD>","</TR>"]
["Town of Saratoga",{"$f":"'2017 SD'!B228","v":0},{"$f":"'2017 SD'!C228","v":0},null,{"$f":"'2017 SD'!E228","v":0},{"$f":"'2017 SD'!F228","v":""},{"$f":"'2017 SD'!G228","v":0},{"$f":"'2017 SD'!H228","v":0},{"$f":"'2017 SD'!I228","v":""},{"$f":"'2017 SD'!J228","v":0},{"$f":"'2017 SD'!K228","v":0},{"$f":"'2017 SD'!L228","v":0},{"$f":"'2017 SD'!M228","v":""},{"$f":"'2017 SD'!N228","v":0},null,"<TR VALIGN=BOTTOM>",{"$f":"\"<TD NOWRAP ALIGN=LEFT><FONT FACE=\"\"Times New Roman\"\" SIZE=-1>\"&A72&\"</FONT></TD>\"","v":"<TD NOWRAP ALIGN=LEFT><FONT FACE=\"Times New Roman\" SIZE=-1>Town of Saratoga</FONT></TD>"},"<TD NOWRAP ALIGN=RIGHT><FONT FACE=\"Times New Roman\" SIZE=-1>$0.00</FONT></TD>","<TD NOWRAP ALIGN=RIGHT><FONT FACE=\"Times New Roman\" SIZE=-1>$0.00</FONT></TD>","<TD NOWRAP ALIGN=RIGHT><FONT FACE=\"Times New Roman\" SIZE=-1><BR></FONT></TD>","<TD NOWRAP ALIGN=CENTER><FONT FACE=\"Times New Roman\" SIZE=-1>$0.00$0.00</FONT></TD>","<TD NOWRAP ALIGN=CENTER><FONT FACE=\"Times New Roman\" SIZE=-1>$0.00$0.00</FONT></TD>","<TD NOWRAP ALIGN=CENTER><FONT FACE=\"Times New Roman\" SIZE=-1>0.0000</FONT></TD>","<TD NOWRAP ALIGN=CENTER><FONT FACE=\"Times New Roman\" SIZE=-1>$0.00$0.00</FONT></TD>","</TR>"]
["Village of Schuylerville",{"$f":"'2017 SD'!B232","v":0},{"$f":"'2017 SD'!C232","v":0},{"$f":"'2017 SD'!D232","v":0},{"$f":"'2017 SD'!E232","v":0},null,null,{"$f":"'2017 SD'!H232","v":0},null,null,{"$f":"'2017 SD'!K232","v":0},{"$f":"'2017 SD'!L232","v":0},null,null,null,"<TR VALIGN=BOTTOM>",{"$f":"\"<TD NOWRAP ALIGN=LEFT><FONT FACE=\"\"Times New Roman\"\" SIZE=-1 COLOR=\"\"#008000\"\">\"&A73&\"</FONT></TD>\"","v":"<TD NOWRAP ALIGN=LEFT><FONT FACE=\"Times New Roman\" SIZE=-1 COLOR=\"#008000\">Village of Schuylerville</FONT></TD>"},"<TD NOWRAP ALIGN=RIGHT><FONT FACE=\"Times New Roman\" SIZE=-1>$0.00</FONT></TD>","<TD NOWRAP ALIGN=RIGHT><FONT FACE=\"Times New Roman\" SIZE=-1>$0.00</FONT></TD>","<TD NOWRAP ALIGN=RIGHT><FONT FACE=\"Times New Roman\" SIZE=-1>$0.00</FONT></TD>","<TD NOWRAP ALIGN=CENTER><FONT FACE=\"Times New Roman\" SIZE=-1>$0.00</FONT></TD>","<TD NOWRAP ALIGN=CENTER><FONT FACE=\"Times New Roman\" SIZE=-1>$0.00</FONT></TD>","<TD NOWRAP ALIGN=CENTER><FONT FACE=\"Times New Roman\" SIZE=-1>0.0000</FONT></TD>","<TD NOWRAP ALIGN=CENTER><FONT FACE=\"Times New Roman\" SIZE=-1>$0.00</FONT></TD>","</TR>"]
["Village of Victory",{"$f":"'2017 SD'!B234","v":0},{"$f":"'2017 SD'!C234","v":0},{"$f":"'2017 SD'!D234","v":0},{"$f":"'2017 SD'!E234","v":0},null,null,{"$f":"'2017 SD'!H234","v":0},null,null,{"$f":"'2017 SD'!K234","v":0},{"$f":"'2017 SD'!L234","v":0},null,null,null,"<TR VALIGN=BOTTOM>",{"$f":"\"<TD NOWRAP ALIGN=LEFT><FONT FACE=\"\"Times New Roman\"\" SIZE=-1 COLOR=\"\"#008000\"\">\"&A74&\"</FONT></TD>\"","v":"<TD NOWRAP ALIGN=LEFT><FONT FACE=\"Times New Roman\" SIZE=-1 COLOR=\"#008000\">Village of Victory</FONT></TD>"},"<TD NOWRAP ALIGN=RIGHT><FONT FACE=\"Times New Roman\" SIZE=-1>$0.00</FONT></TD>","<TD NOWRAP ALIGN=RIGHT><FONT FACE=\"Times New Roman\" SIZE=-1>$0.00</FONT></TD>","<TD NOWRAP ALIGN=RIGHT><FONT FACE=\"Times New Roman\" SIZE=-1>$0.00</FONT></TD>","<TD NOWRAP ALIGN=CENTER><FONT FACE=\"Times New Roman\" SIZE=-1>$0.00</FONT></TD>","<TD NOWRAP ALIGN=CENTER><FONT FACE=\"Times New Roman\" SIZE=-1>$0.00</FONT></TD>","<TD NOWRAP ALIGN=CENTER><FONT FACE=\"Times New Roman\" SIZE=-1>0.0000</FONT></TD>","<TD NOWRAP ALIGN=CENTER><FONT FACE=\"Times New Roman\" SIZE=-1>$0.00</FONT></TD>","</TR>"]
["City of Saratoga Springs",{"$f":"'2017 SD'!B236","v":0},null,{"$f":"'2017 SD'!D236","v":0},{"$f":"'2017 SD'!E236","v":0},null,null,{"$f":"'2017 SD'!H236","v":0},null,null,{"$f":"'2017 SD'!K236","v":0},{"$f":"'2017 SD'!L236","v":0},null,null,null,"<TR VALIGN=BOTTOM>",{"$f":"\"<TD NOWRAP ALIGN=LEFT><FONT FACE=\"\"Times New Roman\"\" SIZE=-1 COLOR=#800000\"\">\"&A75&\"</FONT></TD>\"","v":"<TD NOWRAP ALIGN=LEFT><FONT FACE=\"Times New Roman\" SIZE=-1 COLOR=#800000\">City of Saratoga Springs</FONT></TD>"},"<TD NOWRAP ALIGN=RIGHT><FONT FACE=\"Times New Roman\" SIZE=-1>$0.00</FONT></TD>","<TD NOWRAP ALIGN=RIGHT><FONT FACE=\"Times New Roman\" SIZE=-1><BR></FONT></TD>","<TD NOWRAP ALIGN=RIGHT><FONT FACE=\"Times New Roman\" SIZE=-1>$0.00</FONT></TD>","<TD NOWRAP ALIGN=CENTER><FONT FACE=\"Times New Roman\" SIZE=-1>$0.00</FONT></TD>","<TD NOWRAP ALIGN=CENTER><FONT FACE=\"Times New Roman\" SIZE=-1>$0.00</FONT></TD>","<TD NOWRAP ALIGN=CENTER><FONT FACE=\"Times New Roman\" SIZE=-1>0.0000</FONT></TD>","<TD NOWRAP ALIGN=CENTER><FONT FACE=\"Times New Roman\" SIZE=-1>$0.00</FONT></TD>","</TR>"]
["Town of Stillwater",{"$f":"'2017 SD'!B238","v":0},{"$f":"'2017 SD'!C238","v":0},null,{"$f":"'2017 SD'!E238","v":0},{"$f":"'2017 SD'!F238","v":""},{"$f":"'2017 SD'!G238","v":0},{"$f":"'2017 SD'!H238","v":0},{"$f":"'2017 SD'!I238","v":""},{"$f":"'2017 SD'!J238","v":0},{"$f":"'2017 SD'!K238","v":0},{"$f":"'2017 SD'!L238","v":0},{"$f":"'2017 SD'!M238","v":""},{"$f":"'2017 SD'!N238","v":0},null,"<TR VALIGN=BOTTOM>",{"$f":"\"<TD NOWRAP ALIGN=LEFT><FONT FACE=\"\"Times New Roman\"\" SIZE=-1>\"&A76&\"</FONT></TD>\"","v":"<TD NOWRAP ALIGN=LEFT><FONT FACE=\"Times New Roman\" SIZE=-1>Town of Stillwater</FONT></TD>"},"<TD NOWRAP ALIGN=RIGHT><FONT FACE=\"Times New Roman\" SIZE=-1>$0.00</FONT></TD>","<TD NOWRAP ALIGN=RIGHT><FONT FACE=\"Times New Roman\" SIZE=-1>$0.00</FONT></TD>","<TD NOWRAP ALIGN=RIGHT><FONT FACE=\"Times New Roman\" SIZE=-1><BR></FONT></TD>","<TD NOWRAP ALIGN=CENTER><FONT FACE=\"Times New Roman\" SIZE=-1>$0.00$0.00</FONT></TD>","<TD NOWRAP ALIGN=CENTER><FONT FACE=\"Times New Roman\" SIZE=-1>$0.00$0.00</FONT></TD>","<TD NOWRAP ALIGN=CENTER><FONT FACE=\"Times New Roman\" SIZE=-1>0.0000</FONT></TD>","<TD NOWRAP ALIGN=CENTER><FONT FACE=\"Times New Roman\" SIZE=-1>$0.00$0.00</FONT></TD>","</TR>"]
["Village of Stillwater",{"$f":"'2017 SD'!B243","v":0},{"$f":"'2017 SD'!C243","v":0},{"$f":"'2017 SD'!D243","v":0},{"$f":"'2017 SD'!E243","v":0},null,null,{"$f":"'2017 SD'!H243","v":0},null,null,{"$f":"'2017 SD'!K243","v":0},{"$f":"'2017 SD'!L243","v":0},null,null,null,"<TR VALIGN=BOTTOM>",{"$f":"\"<TD NOWRAP ALIGN=LEFT><FONT FACE=\"\"Times New Roman\"\" SIZE=-1 COLOR=\"\"#008000\"\">\"&A77&\"</FONT></TD>\"","v":"<TD NOWRAP ALIGN=LEFT><FONT FACE=\"Times New Roman\" SIZE=-1 COLOR=\"#008000\">Village of Stillwater</FONT></TD>"},"<TD NOWRAP ALIGN=RIGHT><FONT FACE=\"Times New Roman\" SIZE=-1>$0.00</FONT></TD>","<TD NOWRAP ALIGN=RIGHT><FONT FACE=\"Times New Roman\" SIZE=-1>$0.00</FONT></TD>","<TD NOWRAP ALIGN=RIGHT><FONT FACE=\"Times New Roman\" SIZE=-1>$0.00</FONT></TD>","<TD NOWRAP ALIGN=CENTER><FONT FACE=\"Times New Roman\" SIZE=-1>$0.00</FONT></TD>","<TD NOWRAP ALIGN=CENTER><FONT FACE=\"Times New Roman\" SIZE=-1>$0.00</FONT></TD>","<TD NOWRAP ALIGN=CENTER><FONT FACE=\"Times New Roman\" SIZE=-1>0.0000</FONT></TD>","<TD NOWRAP ALIGN=CENTER><FONT FACE=\"Times New Roman\" SIZE=-1>$0.00</FONT></TD>","</TR>"]
["Town of Waterford",{"$f":"'2017 SD'!B245","v":0},{"$f":"'2017 SD'!C245","v":0},null,{"$f":"'2017 SD'!E245","v":0},{"$f":"'2017 SD'!F245","v":""},{"$f":"'2017 SD'!G245","v":0},{"$f":"'2017 SD'!H245","v":0},{"$f":"'2017 SD'!I245","v":""},{"$f":"'2017 SD'!J245","v":0},{"$f":"'2017 SD'!K245","v":0},{"$f":"'2017 SD'!L245","v":0},{"$f":"'2017 SD'!M245","v":""},{"$f":"'2017 SD'!N245","v":0},null,"<TR VALIGN=BOTTOM>",{"$f":"\"<TD NOWRAP ALIGN=LEFT><FONT FACE=\"\"Times New Roman\"\" SIZE=-1>\"&A78&\"</FONT></TD>\"","v":"<TD NOWRAP ALIGN=LEFT><FONT FACE=\"Times New Roman\" SIZE=-1>Town of Waterford</FONT></TD>"},"<TD NOWRAP ALIGN=RIGHT><FONT FACE=\"Times New Roman\" SIZE=-1>$0.00</FONT></TD>","<TD NOWRAP ALIGN=RIGHT><FONT FACE=\"Times New Roman\" SIZE=-1>$0.00</FONT></TD>","<TD NOWRAP ALIGN=RIGHT><FONT FACE=\"Times New Roman\" SIZE=-1><BR></FONT></TD>","<TD NOWRAP ALIGN=CENTER><FONT FACE=\"Times New Roman\" SIZE=-1>$0.00$0.00</FONT></TD>","<TD NOWRAP ALIGN=CENTER><FONT FACE=\"Times New Roman\" SIZE=-1>$0.00$0.00</FONT></TD>","<TD NOWRAP ALIGN=CENTER><FONT FACE=\"Times New Roman\" SIZE=-1>0.0000</FONT></TD>","<TD NOWRAP ALIGN=CENTER><FONT FACE=\"Times New Roman\" SIZE=-1>$0.00$0.00</FONT></TD>","</TR>"]
["Village of Waterford",{"$f":"'2017 SD'!B248","v":0},{"$f":"'2017 SD'!C248","v":0},{"$f":"'2017 SD'!D248","v":0},{"$f":"'2017 SD'!E248","v":0},null,null,{"$f":"'2017 SD'!H248","v":0},null,null,{"$f":"'2017 SD'!K248","v":0},{"$f":"'2017 SD'!L248","v":0},null,null,null,"<TR VALIGN=BOTTOM>",{"$f":"\"<TD NOWRAP ALIGN=LEFT><FONT FACE=\"\"Times New Roman\"\" SIZE=-1 COLOR=\"\"#008000\"\">\"&A79&\"</FONT></TD>\"","v":"<TD NOWRAP ALIGN=LEFT><FONT FACE=\"Times New Roman\" SIZE=-1 COLOR=\"#008000\">Village of Waterford</FONT></TD>"},{"$f":"\"<TD NOWRAP ALIGN=RIGHT><FONT FACE=\"\"Times New Roman\"\" SIZE=-1>\"&IF(B79=\"\",\"<BR>\",TEXT(B79,\"$#,##0.00\"))&\"</FONT></TD>\"","v":"<TD NOWRAP ALIGN=RIGHT><FONT FACE=\"Times New Roman\" SIZE=-1>$0.00</FONT></TD>"},"<TD NOWRAP ALIGN=RIGHT><FONT FACE=\"Times New Roman\" SIZE=-1>$0.00</FONT></TD>","<TD NOWRAP ALIGN=RIGHT><FONT FACE=\"Times New Roman\" SIZE=-1>$0.00</FONT></TD>",{"$f":"\"<TD NOWRAP ALIGN=CENTER><FONT FACE=\"\"Times New Roman\"\" SIZE=-1>\"&TEXT(E79,\"$#,##0.00\")&IF(F79=\"\",\"\",\" to \")&IF(G79=\"\",\"\",TEXT(G79,\"$#,##0.00\"))&\"</FONT></TD>\"","v":"<TD NOWRAP ALIGN=CENTER><FONT FACE=\"Times New Roman\" SIZE=-1>$0.00</FONT></TD>"},{"$f":"\"<TD NOWRAP ALIGN=CENTER><FONT FACE=\"\"Times New Roman\"\" SIZE=-1>\"&TEXT(H79,\"$#,##0.00\")&IF(I79=\"\",\"\",\" to \")&IF(J79=\"\",\"\",TEXT(J79,\"$#,##0.00\"))&\"</FONT></TD>\"","v":"<TD NOWRAP ALIGN=CENTER><FONT FACE=\"Times New Roman\" SIZE=-1>$0.00</FONT></TD>"},{"$f":"\"<TD NOWRAP ALIGN=CENTER><FONT FACE=\"\"Times New Roman\"\" SIZE=-1>\"&IF(K79=\"\",\"<BR>\",TEXT(K79,\"0.0000\"))&\"</FONT></TD>\"","v":"<TD NOWRAP ALIGN=CENTER><FONT FACE=\"Times New Roman\" SIZE=-1>0.0000</FONT></TD>"},{"$f":"\"<TD NOWRAP ALIGN=CENTER><FONT FACE=\"\"Times New Roman\"\" SIZE=-1>\"&TEXT(L79,\"$#,##0.00\")&IF(M79=\"\",\"\",\" to \")&IF(N79=\"\",\"\",TEXT(N79,\"$#,##0.00\"))&\"</FONT></TD>\"","v":"<TD NOWRAP ALIGN=CENTER><FONT FACE=\"Times New Roman\" SIZE=-1>$0.00</FONT></TD>"},"</TR>"]
["Town of Wilton",{"$f":"'2017 SD'!B250","v":0},null,null,{"$f":"'2017 SD'!E250","v":0},{"$f":"'2017 SD'!F250","v":""},{"$f":"'2017 SD'!G250","v":0},{"$f":"'2017 SD'!H250","v":0},{"$f":"'2017 SD'!I250","v":""},{"$f":"'2017 SD'!J250","v":0},{"$f":"'2017 SD'!K250","v":0},{"$f":"'2017 SD'!L250","v":0},{"$f":"'2017 SD'!M250","v":""},{"$f":"'2017 SD'!N250","v":0},null,"<TR VALIGN=BOTTOM>",{"$f":"\"<TD NOWRAP ALIGN=LEFT><FONT FACE=\"\"Times New Roman\"\" SIZE=-1>\"&A80&\"</FONT></TD>\"","v":"<TD NOWRAP ALIGN=LEFT><FONT FACE=\"Times New Roman\" SIZE=-1>Town of Wilton</FONT></TD>"},"<TD NOWRAP ALIGN=RIGHT><FONT FACE=\"Times New Roman\" SIZE=-1>$0.00</FONT></TD>","<TD NOWRAP ALIGN=RIGHT><FONT FACE=\"Times New Roman\" SIZE=-1><BR></FONT></TD>","<TD NOWRAP ALIGN=RIGHT><FONT FACE=\"Times New Roman\" SIZE=-1><BR></FONT></TD>","<TD NOWRAP ALIGN=CENTER><FONT FACE=\"Times New Roman\" SIZE=-1>$0.00$0.00</FONT></TD>","<TD NOWRAP ALIGN=CENTER><FONT FACE=\"Times New Roman\" SIZE=-1>$0.00$0.00</FONT></TD>","<TD NOWRAP ALIGN=CENTER><FONT FACE=\"Times New Roman\" SIZE=-1>0.0000</FONT></TD>","<TD NOWRAP ALIGN=CENTER><FONT FACE=\"Times New Roman\" SIZE=-1>$0.00$0.00</FONT></TD>","</TR>"]
["Schenectady County",null,null,null,{"$f":"MIN(E82:E89)","v":0},{"$f":"IF(G81<>0,\"to\",\"\")","v":""},{"$f":"MAX(E82:G89)","v":0},{"$f":"MIN(H82:H89)","v":0},{"$f":"IF(J81<>0,\"to\",\"\")","v":""},{"$f":"MAX(H82:J89)","v":0},null,{"$f":"MIN(L82:L89)","v":0},{"$f":"IF(N81<>0,\"to\",\"\")","v":""},{"$f":"MAX(L82:N89)","v":0},null,"<TR VALIGN=BOTTOM BGCOLOR=\"#CCCCFF\">",{"$f":"\"<TH NOWRAP ALIGN=LEFT><FONT FACE=\"\"Times New Roman\"\" COLOR=\"\"#AA00AA\"\">\"&A81&\"</FONT></TH>\"","v":"<TH NOWRAP ALIGN=LEFT><FONT FACE=\"Times New Roman\" COLOR=\"#AA00AA\">Schenectady County</FONT></TH>"},"<TD NOWRAP ALIGN=RIGHT><FONT FACE=\"Times New Roman\" SIZE=-1><BR></FONT></TD>","<TD NOWRAP ALIGN=RIGHT><FONT FACE=\"Times New Roman\" SIZE=-1><BR></FONT></TD>","<TD NOWRAP ALIGN=RIGHT><FONT FACE=\"Times New Roman\" SIZE=-1><BR></FONT></TD>","<TD NOWRAP ALIGN=CENTER><FONT FACE=\"Times New Roman\" SIZE=-1>$0.00$0.00</FONT></TD>","<TD NOWRAP ALIGN=CENTER><FONT FACE=\"Times New Roman\" SIZE=-1>$0.00$0.00</FONT></TD>","<TD NOWRAP ALIGN=CENTER><FONT FACE=\"Times New Roman\" SIZE=-1><BR></FONT></TD>","<TD NOWRAP ALIGN=CENTER><FONT FACE=\"Times New Roman\" SIZE=-1>$0.00$0.00</FONT></TD>","</TR>"]
["Town of Duanesburg",{"$f":"'2017 SD'!B256","v":0},{"$f":"'2017 SD'!C256","v":0},null,{"$f":"'2017 SD'!E256","v":0},{"$f":"'2017 SD'!F256","v":""},{"$f":"'2017 SD'!G256","v":0},{"$f":"'2017 SD'!H256","v":0},{"$f":"'2017 SD'!I256","v":""},{"$f":"'2017 SD'!J256","v":0},{"$f":"'2017 SD'!K256","v":0},{"$f":"'2017 SD'!L256","v":0},{"$f":"'2017 SD'!M256","v":""},{"$f":"'2017 SD'!N256","v":0},null,"<TR VALIGN=BOTTOM>",{"$f":"\"<TD NOWRAP ALIGN=LEFT><FONT FACE=\"\"Times New Roman\"\" SIZE=-1>\"&A82&\"</FONT></TD>\"","v":"<TD NOWRAP ALIGN=LEFT><FONT FACE=\"Times New Roman\" SIZE=-1>Town of Duanesburg</FONT></TD>"},"<TD NOWRAP ALIGN=RIGHT><FONT FACE=\"Times New Roman\" SIZE=-1>$0.00</FONT></TD>","<TD NOWRAP ALIGN=RIGHT><FONT FACE=\"Times New Roman\" SIZE=-1>$0.00</FONT></TD>","<TD NOWRAP ALIGN=RIGHT><FONT FACE=\"Times New Roman\" SIZE=-1><BR></FONT></TD>","<TD NOWRAP ALIGN=CENTER><FONT FACE=\"Times New Roman\" SIZE=-1>$0.00$0.00</FONT></TD>","<TD NOWRAP ALIGN=CENTER><FONT FACE=\"Times New Roman\" SIZE=-1>$0.00$0.00</FONT></TD>","<TD NOWRAP ALIGN=CENTER><FONT FACE=\"Times New Roman\" SIZE=-1>0.0000</FONT></TD>","<TD NOWRAP ALIGN=CENTER><FONT FACE=\"Times New Roman\" SIZE=-1>$0.00$0.00</FONT></TD>","</TR>"]
["Village of Delanson",{"$f":"'2017 SD'!B261","v":0},{"$f":"'2017 SD'!C261","v":0},{"$f":"'2017 SD'!D261","v":0},{"$f":"'2017 SD'!E261","v":0},null,null,{"$f":"'2017 SD'!H261","v":0},null,null,{"$f":"'2017 SD'!K261","v":0},{"$f":"'2017 SD'!L261","v":0},null,null,null,"<TR VALIGN=BOTTOM>",{"$f":"\"<TD NOWRAP ALIGN=LEFT><FONT FACE=\"\"Times New Roman\"\" SIZE=-1 COLOR=\"\"#008000\"\">\"&A83&\"</FONT></TD>\"","v":"<TD NOWRAP ALIGN=LEFT><FONT FACE=\"Times New Roman\" SIZE=-1 COLOR=\"#008000\">Village of Delanson</FONT></TD>"},"<TD NOWRAP ALIGN=RIGHT><FONT FACE=\"Times New Roman\" SIZE=-1>$0.00</FONT></TD>","<TD NOWRAP ALIGN=RIGHT><FONT FACE=\"Times New Roman\" SIZE=-1>$0.00</FONT></TD>","<TD NOWRAP ALIGN=RIGHT><FONT FACE=\"Times New Roman\" SIZE=-1>$0.00</FONT></TD>","<TD NOWRAP ALIGN=CENTER><FONT FACE=\"Times New Roman\" SIZE=-1>$0.00</FONT></TD>","<TD NOWRAP ALIGN=CENTER><FONT FACE=\"Times New Roman\" SIZE=-1>$0.00</FONT></TD>","<TD NOWRAP ALIGN=CENTER><FONT FACE=\"Times New Roman\" SIZE=-1>0.0000</FONT></TD>","<TD NOWRAP ALIGN=CENTER><FONT FACE=\"Times New Roman\" SIZE=-1>$0.00</FONT></TD>","</TR>"]
["Town of Glenville",{"$f":"'2017 SD'!B263","v":0},{"$f":"'2017 SD'!C263","v":0},null,{"$f":"'2017 SD'!E263","v":0},{"$f":"'2017 SD'!F263","v":""},{"$f":"'2017 SD'!G263","v":0},{"$f":"'2017 SD'!H263","v":0},{"$f":"'2017 SD'!I263","v":""},{"$f":"'2017 SD'!J263","v":0},{"$f":"'2017 SD'!K263","v":0},{"$f":"'2017 SD'!L263","v":0},{"$f":"'2017 SD'!M263","v":""},{"$f":"'2017 SD'!N263","v":0},null,"<TR VALIGN=BOTTOM>",{"$f":"\"<TD NOWRAP ALIGN=LEFT><FONT FACE=\"\"Times New Roman\"\" SIZE=-1>\"&A84&\"</FONT></TD>\"","v":"<TD NOWRAP ALIGN=LEFT><FONT FACE=\"Times New Roman\" SIZE=-1>Town of Glenville</FONT></TD>"},"<TD NOWRAP ALIGN=RIGHT><FONT FACE=\"Times New Roman\" SIZE=-1>$0.00</FONT></TD>","<TD NOWRAP ALIGN=RIGHT><FONT FACE=\"Times New Roman\" SIZE=-1>$0.00</FONT></TD>","<TD NOWRAP ALIGN=RIGHT><FONT FACE=\"Times New Roman\" SIZE=-1><BR></FONT></TD>","<TD NOWRAP ALIGN=CENTER><FONT FACE=\"Times New Roman\" SIZE=-1>$0.00$0.00</FONT></TD>","<TD NOWRAP ALIGN=CENTER><FONT FACE=\"Times New Roman\" SIZE=-1>$0.00$0.00</FONT></TD>","<TD NOWRAP ALIGN=CENTER><FONT FACE=\"Times New Roman\" SIZE=-1>0.0000</FONT></TD>","<TD NOWRAP ALIGN=CENTER><FONT FACE=\"Times New Roman\" SIZE=-1>$0.00$0.00</FONT></TD>","</TR>"]
["Village of Scotia",{"$f":"'2017 SD'!B269","v":0},{"$f":"'2017 SD'!C269","v":0},{"$f":"'2017 SD'!D269","v":0},{"$f":"'2017 SD'!E269","v":0},null,null,{"$f":"'2017 SD'!H269","v":0},null,null,{"$f":"'2017 SD'!K269","v":0},{"$f":"'2017 SD'!L269","v":0},null,null,null,"<TR VALIGN=BOTTOM>",{"$f":"\"<TD NOWRAP ALIGN=LEFT><FONT FACE=\"\"Times New Roman\"\" SIZE=-1 COLOR=\"\"#008000\"\">\"&A85&\"</FONT></TD>\"","v":"<TD NOWRAP ALIGN=LEFT><FONT FACE=\"Times New Roman\" SIZE=-1 COLOR=\"#008000\">Village of Scotia</FONT></TD>"},"<TD NOWRAP ALIGN=RIGHT><FONT FACE=\"Times New Roman\" SIZE=-1>$0.00</FONT></TD>","<TD NOWRAP ALIGN=RIGHT><FONT FACE=\"Times New Roman\" SIZE=-1>$0.00</FONT></TD>","<TD NOWRAP ALIGN=RIGHT><FONT FACE=\"Times New Roman\" SIZE=-1>$0.00</FONT></TD>","<TD NOWRAP ALIGN=CENTER><FONT FACE=\"Times New Roman\" SIZE=-1>$0.00</FONT></TD>","<TD NOWRAP ALIGN=CENTER><FONT FACE=\"Times New Roman\" SIZE=-1>$0.00</FONT></TD>","<TD NOWRAP ALIGN=CENTER><FONT FACE=\"Times New Roman\" SIZE=-1>0.0000</FONT></TD>","<TD NOWRAP ALIGN=CENTER><FONT FACE=\"Times New Roman\" SIZE=-1>$0.00</FONT></TD>","</TR>"]
["Town of Niskayuna",{"$f":"'2017 SD'!B271","v":0},{"$f":"'2017 SD'!C271","v":0},null,{"$f":"'2017 SD'!E271","v":0},{"$f":"'2017 SD'!F271","v":""},{"$f":"'2017 SD'!G271","v":0},{"$f":"'2017 SD'!H271","v":0},{"$f":"'2017 SD'!I271","v":""},{"$f":"'2017 SD'!J271","v":0},{"$f":"'2017 SD'!K271","v":0},{"$f":"'2017 SD'!L271","v":0},{"$f":"'2017 SD'!M271","v":""},{"$f":"'2017 SD'!N271","v":0},null,"<TR VALIGN=BOTTOM>",{"$f":"\"<TD NOWRAP ALIGN=LEFT><FONT FACE=\"\"Times New Roman\"\" SIZE=-1>\"&A86&\"</FONT></TD>\"","v":"<TD NOWRAP ALIGN=LEFT><FONT FACE=\"Times New Roman\" SIZE=-1>Town of Niskayuna</FONT></TD>"},"<TD NOWRAP ALIGN=RIGHT><FONT FACE=\"Times New Roman\" SIZE=-1>$0.00</FONT></TD>","<TD NOWRAP ALIGN=RIGHT><FONT FACE=\"Times New Roman\" SIZE=-1>$0.00</FONT></TD>","<TD NOWRAP ALIGN=RIGHT><FONT FACE=\"Times New Roman\" SIZE=-1><BR></FONT></TD>","<TD NOWRAP ALIGN=CENTER><FONT FACE=\"Times New Roman\" SIZE=-1>$0.00$0.00</FONT></TD>","<TD NOWRAP ALIGN=CENTER><FONT FACE=\"Times New Roman\" SIZE=-1>$0.00$0.00</FONT></TD>","<TD NOWRAP ALIGN=CENTER><FONT FACE=\"Times New Roman\" SIZE=-1>0.0000</FONT></TD>","<TD NOWRAP ALIGN=CENTER><FONT FACE=\"Times New Roman\" SIZE=-1>$0.00$0.00</FONT></TD>","</TR>"]
["Town of Princetown",{"$f":"'2017 SD'!B274","v":0},{"$f":"'2017 SD'!C274","v":0},null,{"$f":"'2017 SD'!E274","v":0},{"$f":"'2017 SD'!F274","v":""},{"$f":"'2017 SD'!G274","v":0},{"$f":"'2017 SD'!H274","v":0},{"$f":"'2017 SD'!I274","v":""},{"$f":"'2017 SD'!J274","v":0},{"$f":"'2017 SD'!K274","v":0},{"$f":"'2017 SD'!L274","v":0},{"$f":"'2017 SD'!M274","v":""},{"$f":"'2017 SD'!N274","v":0},null,"<TR VALIGN=BOTTOM>",{"$f":"\"<TD NOWRAP ALIGN=LEFT><FONT FACE=\"\"Times New Roman\"\" SIZE=-1>\"&A87&\"</FONT></TD>\"","v":"<TD NOWRAP ALIGN=LEFT><FONT FACE=\"Times New Roman\" SIZE=-1>Town of Princetown</FONT></TD>"},"<TD NOWRAP ALIGN=RIGHT><FONT FACE=\"Times New Roman\" SIZE=-1>$0.00</FONT></TD>","<TD NOWRAP ALIGN=RIGHT><FONT FACE=\"Times New Roman\" SIZE=-1>$0.00</FONT></TD>","<TD NOWRAP ALIGN=RIGHT><FONT FACE=\"Times New Roman\" SIZE=-1><BR></FONT></TD>","<TD NOWRAP ALIGN=CENTER><FONT FACE=\"Times New Roman\" SIZE=-1>$0.00$0.00</FONT></TD>","<TD NOWRAP ALIGN=CENTER><FONT FACE=\"Times New Roman\" SIZE=-1>$0.00$0.00</FONT></TD>","<TD NOWRAP ALIGN=CENTER><FONT FACE=\"Times New Roman\" SIZE=-1>0.0000</FONT></TD>","<TD NOWRAP ALIGN=CENTER><FONT FACE=\"Times New Roman\" SIZE=-1>$0.00$0.00</FONT></TD>","</TR>"]
["Town of Rotterdam",{"$f":"'2017 SD'!B277","v":0},{"$f":"'2017 SD'!C277","v":0},null,{"$f":"'2017 SD'!E277","v":0},{"$f":"'2017 SD'!F277","v":""},{"$f":"'2017 SD'!G277","v":0},{"$f":"'2017 SD'!H277","v":0},{"$f":"'2017 SD'!I277","v":""},{"$f":"'2017 SD'!J277","v":0},{"$f":"'2017 SD'!K277","v":0},{"$f":"'2017 SD'!L277","v":0},{"$f":"'2017 SD'!M277","v":""},{"$f":"'2017 SD'!N277","v":0},null,"<TR VALIGN=BOTTOM>",{"$f":"\"<TD NOWRAP ALIGN=LEFT><FONT FACE=\"\"Times New Roman\"\" SIZE=-1>\"&A88&\"</FONT></TD>\"","v":"<TD NOWRAP ALIGN=LEFT><FONT FACE=\"Times New Roman\" SIZE=-1>Town of Rotterdam</FONT></TD>"},"<TD NOWRAP ALIGN=RIGHT><FONT FACE=\"Times New Roman\" SIZE=-1>$0.00</FONT></TD>","<TD NOWRAP ALIGN=RIGHT><FONT FACE=\"Times New Roman\" SIZE=-1>$0.00</FONT></TD>","<TD NOWRAP ALIGN=RIGHT><FONT FACE=\"Times New Roman\" SIZE=-1><BR></FONT></TD>","<TD NOWRAP ALIGN=CENTER><FONT FACE=\"Times New Roman\" SIZE=-1>$0.00$0.00</FONT></TD>","<TD NOWRAP ALIGN=CENTER><FONT FACE=\"Times New Roman\" SIZE=-1>$0.00$0.00</FONT></TD>","<TD NOWRAP ALIGN=CENTER><FONT FACE=\"Times New Roman\" SIZE=-1>0.0000</FONT></TD>","<TD NOWRAP ALIGN=CENTER><FONT FACE=\"Times New Roman\" SIZE=-1>$0.00$0.00</FONT></TD>","</TR>"]
["City of Schenectady",{"$f":"'2017 SD'!B281","v":0},null,{"$f":"'2017 SD'!D281","v":0},{"$f":"'2017 SD'!E281","v":0},null,null,{"$f":"'2017 SD'!H281","v":0},null,null,{"$f":"'2017 SD'!K281","v":0},{"$f":"'2017 SD'!L281","v":0},null,null,null,"<TR VALIGN=BOTTOM>",{"$f":"\"<TD NOWRAP ALIGN=LEFT><FONT FACE=\"\"Times New Roman\"\" SIZE=-1 COLOR=#800000\"\">\"&A89&\"</FONT></TD>\"","v":"<TD NOWRAP ALIGN=LEFT><FONT FACE=\"Times New Roman\" SIZE=-1 COLOR=#800000\">City of Schenectady</FONT></TD>"},"<TD NOWRAP ALIGN=RIGHT><FONT FACE=\"Times New Roman\" SIZE=-1>$0.00</FONT></TD>","<TD NOWRAP ALIGN=RIGHT><FONT FACE=\"Times New Roman\" SIZE=-1><BR></FONT></TD>","<TD NOWRAP ALIGN=RIGHT><FONT FACE=\"Times New Roman\" SIZE=-1>$0.00</FONT></TD>","<TD NOWRAP ALIGN=CENTER><FONT FACE=\"Times New Roman\" SIZE=-1>$0.00</FONT></TD>","<TD NOWRAP ALIGN=CENTER><FONT FACE=\"Times New Roman\" SIZE=-1>$0.00</FONT></TD>","<TD NOWRAP ALIGN=CENTER><FONT FACE=\"Times New Roman\" SIZE=-1>0.0000</FONT></TD>","<TD NOWRAP ALIGN=CENTER><FONT FACE=\"Times New Roman\" SIZE=-1>$0.00</FONT></TD>","</TR>"]
["Capital District",null,null,null,{"$f":"MIN(E4:E89)","v":0},{"$f":"IF(G90<>0,\"to\",\"\")","v":""},{"$f":"MAX(E4:G89)","v":0},{"$f":"MIN(H4:H89)","v":0},{"$f":"IF(J90<>0,\"to\",\"\")","v":""},{"$f":"MAX(H4:J89)","v":0},null,{"$f":"MIN(L4:L89)","v":0},{"$f":"IF(N90<>0,\"to\",\"\")","v":"to"},{"$f":"MAX(L4:N89)","v":40.700000000000003},null,"<TR VALIGN=BOTTOM BGCOLOR=\"#CCCCFF\">",{"$f":"\"<TH NOWRAP ALIGN=LEFT><FONT FACE=\"\"Times New Roman\"\" COLOR=##AA00AA\"\">\"&A90&\"</FONT></TH>\"","v":"<TH NOWRAP ALIGN=LEFT><FONT FACE=\"Times New Roman\" COLOR=##AA00AA\">Capital District</FONT></TH>"},"<TD NOWRAP ALIGN=RIGHT><FONT FACE=\"Times New Roman\" SIZE=-1><BR></FONT></TD>","<TD NOWRAP ALIGN=RIGHT><FONT FACE=\"Times New Roman\" SIZE=-1><BR></FONT></TD>","<TD NOWRAP ALIGN=RIGHT><FONT FACE=\"Times New Roman\" SIZE=-1><BR></FONT></TD>","<TD NOWRAP ALIGN=CENTER><FONT FACE=\"Times New Roman\" SIZE=-1>$0.00$0.00</FONT></TD>","<TD NOWRAP ALIGN=CENTER><FONT FACE=\"Times New Roman\" SIZE=-1>$0.00$0.00</FONT></TD>","<TD NOWRAP ALIGN=CENTER><FONT FACE=\"Times New Roman\" SIZE=-1><BR></FONT></TD>","<TD NOWRAP ALIGN=CENTER><FONT FACE=\"Times New Roman\" SIZE=-1>$0.00 to $40.70</FONT></TD>","</TR>"]

{"sheet":"DN_Table12","index":6,"n_rows":86,"n_cols":30,"rows_kept":86,"cut":false,"hidden":false,"merged":[]}
[{"$f":"\"Capital District \"&LEFT(TEXT(C2,\"0000\"),4)&\" Real Property Tax Rates\"","v":"Capital District 2017 Real Property Tax Rates"},null,null,null,null,null,null,null,null,null,null,null,null,null,null,null,"CHECK"]
[null,null,{"$f":"'2017'!B1","v":"2017 Tax Rates per $1,000 in Assessed Valuation"},null,null,null,null,null,null,null,null,null,"Total Overall",null,null,null,null,"2010 Tax Rates per $1,000 in Assessed Valuation",null,null,null,null,null,null,null,null,null,"Total Overall"]
[null,null,null,null,"City or",null,null,null,null,null,null,"Equalization","Full Value Range:",null,null,null,null,null,null,"City or",null,null,null,null,null,null,"Equalization","Full Value Range:"]
[null,"City, Town, or Village","County","Town","Village","School District Range",null,null,"Total Overall Range",null,null,"Rate","Rate per $1,000",null,null,null,"City, Town, or Village","County","Town","Village","School District Range",null,null,"Total Overall Range",null,null,"Rate","Rate per $1,000"]
[null,"City of Albany ",{"$f":"'2017'!B5","v":3.72},{"$f":"'2017'!C5","v":0},{"$f":"'2017'!D5","v":11.99},{"$f":"'2017'!E5","v":0},{"$f":"'2017'!F5","v":0},{"$f":"'2017'!G5","v":0},{"$f":"'2017'!H5","v":0},{"$f":"'2017'!I5","v":0},{"$f":"'2017'!J5","v":0},{"$f":"'2017'!K5","v":0},{"$f":"'2017'!L5","v":40.700000000000003},{"$f":"'2017'!M5","v":0},{"$f":"'2017'!N5","v":0},null,{"$f":"B5","v":"City of Albany "},{"$f":"IF(C5<>'2017'!B5,1,0)","v":0},{"$f":"IF(D5<>'2017'!C5,1,0)","v":0},{"$f":"IF(E5<>'2017'!D5,1,0)","v":0},{"$f":"IF(F5<>'2017'!E5,1,0)","v":0},{"$f":"IF(G5<>'2017'!F5,1,0)","v":0},{"$f":"IF(H5<>'2017'!G5,1,0)","v":0},{"$f":"IF(I5<>'2017'!H5,1,0)","v":0},{"$f":"IF(J5<>'2017'!I5,1,0)","v":0},{"$f":"IF(K5<>'2017'!J5,1,0)","v":0},{"$f":"IF(L5<>'2017'!K5,1,0)","v":0},{"$f":"IF(M5<>'2017'!L5,1,0)","v":0},{"$f":"IF(N5<>'2017'!M5,1,0)","v":0},{"$f":"IF(O5<>'2017'!N5,1,0)","v":0}]
[null,"Town of Berne ",{"$f":"'2017'!B6","v":3.72},{"$f":"'2017'!C6","v":3.09},{"$f":"'2017'!D6","v":0},{"$f":"'2017'!E6","v":0},{"$f":"'2017'!F6","v":""},{"$f":"'2017'!G6","v":0},{"$f":"'2017'!H6","v":0},{"$f":"'2017'!I6","v":""},{"$f":"'2017'!J6","v":0},{"$f":"'2017'!K6","v":0},{"$f":"'2017'!L6","v":26.57},{"$f":"'2017'!M6","v":"to"},{"$f":"'2017'!N6","v":28.509999999999998},null,"Town of Berne ",{"$f":"IF(C6<>'2017'!B6,1,0)","v":0},{"$f":"IF(D6<>'2017'!C6,1,0)","v":0},{"$f":"IF(E6<>'2017'!D6,1,0)","v":0},{"$f":"IF(F6<>'2017'!E6,1,0)","v":0},{"$f":"IF(G6<>'2017'!F6,1,0)","v":0},{"$f":"IF(H6<>'2017'!G6,1,0)","v":0},{"$f":"IF(I6<>'2017'!H6,1,0)","v":0},{"$f":"IF(J6<>'2017'!I6,1,0)","v":0},{"$f":"IF(K6<>'2017'!J6,1,0)","v":0},{"$f":"IF(L6<>'2017'!K6,1,0)","v":0},{"$f":"IF(M6<>'2017'!L6,1,0)","v":0},{"$f":"IF(N6<>'2017'!M6,1,0)","v":0},{"$f":"IF(O6<>'2017'!N6,1,0)","v":0}]
[null,"Town of Bethlehem ",{"$f":"'2017'!B7","v":0},{"$f":"'2017'!C7","v":0},{"$f":"'2017'!D7","v":0},{"$f":"'2017'!E7","v":0},{"$f":"'2017'!F7","v":""},{"$f":"'2017'!G7","v":0},{"$f":"'2017'!H7","v":0},{"$f":"'2017'!I7","v":""},{"$f":"'2017'!J7","v":0},{"$f":"'2017'!K7","v":0},{"$f":"'2017'!L7","v":0},{"$f":"'2017'!M7","v":""},{"$f":"'2017'!N7","v":0},null,"Town of Bethlehem ",{"$f":"IF(C7<>'2017'!B7,1,0)","v":0},{"$f":"IF(D7<>'2017'!C7,1,0)","v":0},{"$f":"IF(E7<>'2017'!D7,1,0)","v":0},{"$f":"IF(F7<>'2017'!E7,1,0)","v":0},{"$f":"IF(G7<>'2017'!F7,1,0)","v":0},{"$f":"IF(H7<>'2017'!G7,1,0)","v":0},{"$f":"IF(I7<>'2017'!H7,1,0)","v":0},{"$f":"IF(J7<>'2017'!I7,1,0)","v":0},{"$f":"IF(K7<>'2017'!J7,1,0)","v":0},{"$f":"IF(L7<>'2017'!K7,1,0)","v":0},{"$f":"IF(M7<>'2017'!L7,1,0)","v":0},{"$f":"IF(N7<>'2017'!M7,1,0)","v":0},{"$f":"IF(O7<>'2017'!N7,1,0)","v":0}]
[null,"Town of Coeymans ",{"$f":"'2017'!B8","v":0},{"$f":"'2017'!C8","v":0},{"$f":"'2017'!D8","v":0},{"$f":"'2017'!E8","v":0},{"$f":"'2017'!F8","v":""},{"$f":"'2017'!G8","v":0},{"$f":"'2017'!H8","v":0},{"$f":"'2017'!I8","v":""},{"$f":"'2017'!J8","v":0},{"$f":"'2017'!K8","v":0},{"$f":"'2017'!L8","v":0},{"$f":"'2017'!M8","v":""},{"$f":"'2017'!N8","v":0},null,"Town of Coeymans ",{"$f":"IF(C8<>'2017'!B8,1,0)","v":0},{"$f":"IF(D8<>'2017'!C8,1,0)","v":0},{"$f":"IF(E8<>'2017'!D8,1,0)","v":0},{"$f":"IF(F8<>'2017'!E8,1,0)","v":0},{"$f":"IF(G8<>'2017'!F8,1,0)","v":0},{"$f":"IF(H8<>'2017'!G8,1,0)","v":0},{"$f":"IF(I8<>'2017'!H8,1,0)","v":0},{"$f":"IF(J8<>'2017'!I8,1,0)","v":0},{"$f":"IF(K8<>'2017'!J8,1,0)","v":0},{"$f":"IF(L8<>'2017'!K8,1,0)","v":0},{"$f":"IF(M8<>'2017'!L8,1,0)","v":0},{"$f":"IF(N8<>'2017'!M8,1,0)","v":0},{"$f":"IF(O8<>'2017'!N8,1,0)","v":0}]
[null,"Village of Ravena ",{"$f":"'2017'!B9","v":0},{"$f":"'2017'!C9","v":0},{"$f":"'2017'!D9","v":0},{"$f":"'2017'!E9","v":0},{"$f":"'2017'!F9","v":0},{"$f":"'2017'!G9","v":0},{"$f":"'2017'!H9","v":0},{"$f":"'2017'!I9","v":0},{"$f":"'2017'!J9","v":0},{"$f":"'2017'!K9","v":0},{"$f":"'2017'!L9","v":0},{"$f":"'2017'!M9","v":0},{"$f":"'2017'!N9","v":0},null,"Village of Ravena ",{"$f":"IF(C9<>'2017'!B9,1,0)","v":0},{"$f":"IF(D9<>'2017'!C9,1,0)","v":0},{"$f":"IF(E9<>'2017'!D9,1,0)","v":0},{"$f":"IF(F9<>'2017'!E9,1,0)","v":0},{"$f":"IF(G9<>'2017'!F9,1,0)","v":0},{"$f":"IF(H9<>'2017'!G9,1,0)","v":0},{"$f":"IF(I9<>'2017'!H9,1,0)","v":0},{"$f":"IF(J9<>'2017'!I9,1,0)","v":0},{"$f":"IF(K9<>'2017'!J9,1,0)","v":0},{"$f":"IF(L9<>'2017'!K9,1,0)","v":0},{"$f":"IF(M9<>'2017'!L9,1,0)","v":0},{"$f":"IF(N9<>'2017'!M9,1,0)","v":0},{"$f":"IF(O9<>'2017'!N9,1,0)","v":0}]
[null,"City of Cohoes ",{"$f":"'2017'!B10","v":0},{"$f":"'2017'!C10","v":0},{"$f":"'2017'!D10","v":0},{"$f":"'2017'!E10","v":0},{"$f":"'2017'!F10","v":0},{"$f":"'2017'!G10","v":0},{"$f":"'2017'!H10","v":0},{"$f":"'2017'!I10","v":0},{"$f":"'2017'!J10","v":0},{"$f":"'2017'!K10","v":0},{"$f":"'2017'!L10","v":0},{"$f":"'2017'!M10","v":0},{"$f":"'2017'!N10","v":0},null,"City of Cohoes ",{"$f":"IF(C10<>'2017'!B10,1,0)","v":0},{"$f":"IF(D10<>'2017'!C10,1,0)","v":0},{"$f":"IF(E10<>'2017'!D10,1,0)","v":0},{"$f":"IF(F10<>'2017'!E10,1,0)","v":0},{"$f":"IF(G10<>'2017'!F10,1,0)","v":0},{"$f":"IF(H10<>'2017'!G10,1,0)","v":0},{"$f":"IF(I10<>'2017'!H10,1,0)","v":0},{"$f":"IF(J10<>'2017'!I10,1,0)","v":0},{"$f":"IF(K10<>'2017'!J10,1,0)","v":0},{"$f":"IF(L10<>'2017'!K10,1,0)","v":0},{"$f":"IF(M10<>'2017'!L10,1,0)","v":0},{"$f":"IF(N10<>'2017'!M10,1,0)","v":0},{"$f":"IF(O10<>'2017'!N10,1,0)","v":0}]
[null,"Town of Colonie ",{"$f":"'2017'!B11","v":0},{"$f":"'2017'!C11","v":0},{"$f":"'2017'!D11","v":0},{"$f":"'2017'!E11","v":0},{"$f":"'2017'!F11","v":""},{"$f":"'2017'!G11","v":0},{"$f":"'2017'!H11","v":0},{"$f":"'2017'!I11","v":""},{"$f":"'2017'!J11","v":0},{"$f":"'2017'!K11","v":0},{"$f":"'2017'!L11","v":0},{"$f":"'2017'!M11","v":""},{"$f":"'2017'!N11","v":0},null,"Town of Colonie ",{"$f":"IF(C11<>'2017'!B11,1,0)","v":0},{"$f":"IF(D11<>'2017'!C11,1,0)","v":0},{"$f":"IF(E11<>'2017'!D11,1,0)","v":0},{"$f":"IF(F11<>'2017'!E11,1,0)","v":0},{"$f":"IF(G11<>'2017'!F11,1,0)","v":0},{"$f":"IF(H11<>'2017'!G11,1,0)","v":0},{"$f":"IF(I11<>'2017'!H11,1,0)","v":0},{"$f":"IF(J11<>'2017'!I11,1,0)","v":0},{"$f":"IF(K11<>'2017'!J11,1,0)","v":0},{"$f":"IF(L11<>'2017'!K11,1,0)","v":0},{"$f":"IF(M11<>'2017'!L11,1,0)","v":0},{"$f":"IF(N11<>'2017'!M11,1,0)","v":0},{"$f":"IF(O11<>'2017'!N11,1,0)","v":0}]
[null,"Village of Colonie ",{"$f":"'2017'!B12","v":0},{"$f":"'2017'!C12","v":0},{"$f":"'2017'!D12","v":0},{"$f":"'2017'!E12","v":0},{"$f":"'2017'!F12","v":0},{"$f":"'2017'!G12","v":0},{"$f":"'2017'!H12","v":0},{"$f":"'2017'!I12","v":0},{"$f":"'2017'!J12","v":0},{"$f":"'2017'!K12","v":0},{"$f":"'2017'!L12","v":0},{"$f":"'2017'!M12","v":0},{"$f":"'2017'!N12","v":0},null,"Village of Colonie ",{"$f":"IF(C12<>'2017'!B12,1,0)","v":0},{"$f":"IF(D12<>'2017'!C12,1,0)","v":0},{"$f":"IF(E12<>'2017'!D12,1,0)","v":0},{"$f":"IF(F12<>'2017'!E12,1,0)","v":0},{"$f":"IF(G12<>'2017'!F12,1,0)","v":0},{"$f":"IF(H12<>'2017'!G12,1,0)","v":0},{"$f":"IF(I12<>'2017'!H12,1,0)","v":0},{"$f":"IF(J12<>'2017'!I12,1,0)","v":0},{"$f":"IF(K12<>'2017'!J12,1,0)","v":0},{"$f":"IF(L12<>'2017'!K12,1,0)","v":0},{"$f":"IF(M12<>'2017'!L12,1,0)","v":0},{"$f":"IF(N12<>'2017'!M12,1,0)","v":0},{"$f":"IF(O12<>'2017'!N12,1,0)","v":0}]
[null,"Village of Menands ",{"$f":"'2017'!B13","v":0},{"$f":"'2017'!C13","v":0},{"$f":"'2017'!D13","v":0},{"$f":"'2017'!E13","v":0},{"$f":"'2017'!F13","v":0},{"$f":"'2017'!G13","v":0},{"$f":"'2017'!H13","v":0},{"$f":"'2017'!I13","v":0},{"$f":"'2017'!J13","v":0},{"$f":"'2017'!K13","v":0},{"$f":"'2017'!L13","v":0},{"$f":"'2017'!M13","v":0},{"$f":"'2017'!N13","v":0},null,"Village of Menands ",{"$f":"IF(C13<>'2017'!B13,1,0)","v":0},{"$f":"IF(D13<>'2017'!C13,1,0)","v":0},{"$f":"IF(E13<>'2017'!D13,1,0)","v":0},{"$f":"IF(F13<>'2017'!E13,1,0)","v":0},{"$f":"IF(G13<>'2017'!F13,1,0)","v":0},{"$f":"IF(H13<>'2017'!G13,1,0)","v":0},{"$f":"IF(I13<>'2017'!H13,1,0)","v":0},{"$f":"IF(J13<>'2017'!I13,1,0)","v":0},{"$f":"IF(K13<>'2017'!J13,1,0)","v":0},{"$f":"IF(L13<>'2017'!K13,1,0)","v":0},{"$f":"IF(M13<>'2017'!L13,1,0)","v":0},{"$f":"IF(N13<>'2017'!M13,1,0)","v":0},{"$f":"IF(O13<>'2017'!N13,1,0)","v":0}]
[null,"Town/Village of Green Island ",{"$f":"'2017'!B15","v":0},{"$f":"'2017'!C15","v":0},{"$f":"'2017'!D15","v":0},{"$f":"'2017'!E15","v":0},{"$f":"'2017'!F15","v":0},{"$f":"'2017'!G15","v":0},{"$f":"'2017'!H15","v":0},{"$f":"'2017'!I15","v":0},{"$f":"'2017'!J15","v":0},{"$f":"'2017'!K15","v":0},{"$f":"'2017'!L15","v":0},{"$f":"'2017'!M15","v":0},{"$f":"'2017'!N15","v":0},null,"Town/Village of Green Island ",{"$f":"IF(C14<>'2017'!B15,1,0)","v":0},{"$f":"IF(D14<>'2017'!C15,1,0)","v":0},{"$f":"IF(E14<>'2017'!D15,1,0)","v":0},{"$f":"IF(F14<>'2017'!E15,1,0)","v":0},{"$f":"IF(G14<>'2017'!F15,1,0)","v":0},{"$f":"IF(H14<>'2017'!G15,1,0)","v":0},{"$f":"IF(I14<>'2017'!H15,1,0)","v":0},{"$f":"IF(J14<>'2017'!I15,1,0)","v":0},{"$f":"IF(K14<>'2017'!J15,1,0)","v":0},{"$f":"IF(L14<>'2017'!K15,1,0)","v":0},{"$f":"IF(M14<>'2017'!L15,1,0)","v":0},{"$f":"IF(N14<>'2017'!M15,1,0)","v":0},{"$f":"IF(O14<>'2017'!N15,1,0)","v":0}]
[null,"Town of Guilderland ",{"$f":"'2017'!B16","v":0},{"$f":"'2017'!C16","v":0},{"$f":"'2017'!D16","v":0},{"$f":"'2017'!E16","v":0},{"$f":"'2017'!F16","v":""},{"$f":"'2017'!G16","v":0},{"$f":"'2017'!H16","v":0},{"$f":"'2017'!I16","v":""},{"$f":"'2017'!J16","v":0},{"$f":"'2017'!K16","v":0},{"$f":"'2017'!L16","v":0},{"$f":"'2017'!M16","v":""},{"$f":"'2017'!N16","v":0},null,"Town of Guilderland ",{"$f":"IF(C15<>'2017'!B16,1,0)","v":0},{"$f":"IF(D15<>'2017'!C16,1,0)","v":0},{"$f":"IF(E15<>'2017'!D16,1,0)","v":0},{"$f":"IF(F15<>'2017'!E16,1,0)","v":0},{"$f":"IF(G15<>'2017'!F16,1,0)","v":0},{"$f":"IF(H15<>'2017'!G16,1,0)","v":0},{"$f":"IF(I15<>'2017'!H16,1,0)","v":0},{"$f":"IF(J15<>'2017'!I16,1,0)","v":0},{"$f":"IF(K15<>'2017'!J16,1,0)","v":0},{"$f":"IF(L15<>'2017'!K16,1,0)","v":0},{"$f":"IF(M15<>'2017'!L16,1,0)","v":0},{"$f":"IF(N15<>'2017'!M16,1,0)","v":0},{"$f":"IF(O15<>'2017'!N16,1,0)","v":0}]
[null,"Village of Altamont ",{"$f":"'2017'!B17","v":0},{"$f":"'2017'!C17","v":0},{"$f":"'2017'!D17","v":0},{"$f":"'2017'!E17","v":0},{"$f":"'2017'!F17","v":0},{"$f":"'2017'!G17","v":0},{"$f":"'2017'!H17","v":0},{"$f":"'2017'!I17","v":0},{"$f":"'2017'!J17","v":0},{"$f":"'2017'!K17","v":0},{"$f":"'2017'!L17","v":0},{"$f":"'2017'!M17","v":0},{"$f":"'2017'!N17","v":0},null,"Village of Altamont ",{"$f":"IF(C16<>'2017'!B17,1,0)","v":0},{"$f":"IF(D16<>'2017'!C17,1,0)","v":0},{"$f":"IF(E16<>'2017'!D17,1,0)","v":0},{"$f":"IF(F16<>'2017'!E17,1,0)","v":0},{"$f":"IF(G16<>'2017'!F17,1,0)","v":0},{"$f":"IF(H16<>'2017'!G17,1,0)","v":0},{"$f":"IF(I16<>'2017'!H17,1,0)","v":0},{"$f":"IF(J16<>'2017'!I17,1,0)","v":0},{"$f":"IF(K16<>'2017'!J17,1,0)","v":0},{"$f":"IF(L16<>'2017'!K17,1,0)","v":0},{"$f":"IF(M16<>'2017'!L17,1,0)","v":0},{"$f":"IF(N16<>'2017'!M17,1,0)","v":0},{"$f":"IF(O16<>'2017'!N17,1,0)","v":0}]
[null,"Town of Knox ",{"$f":"'2017'!B18","v":0},{"$f":"'2017'!C18","v":0},{"$f":"'2017'!D18","v":0},{"$f":"'2017'!E18","v":0},{"$f":"'2017'!F18","v":""},{"$f":"'2017'!G18","v":0},{"$f":"'2017'!H18","v":0},{"$f":"'2017'!I18","v":""},{"$f":"'2017'!J18","v":0},{"$f":"'2017'!K18","v":0},{"$f":"'2017'!L18","v":0},{"$f":"'2017'!M18","v":""},{"$f":"'2017'!N18","v":0},null,"Town of Knox ",{"$f":"IF(C17<>'2017'!B18,1,0)","v":0},{"$f":"IF(D17<>'2017'!C18,1,0)","v":0},{"$f":"IF(E17<>'2017'!D18,1,0)","v":0},{"$f":"IF(F17<>'2017'!E18,1,0)","v":0},{"$f":"IF(G17<>'2017'!F18,1,0)","v":0},{"$f":"IF(H17<>'2017'!G18,1,0)","v":0},{"$f":"IF(I17<>'2017'!H18,1,0)","v":0},{"$f":"IF(J17<>'2017'!I18,1,0)","v":0},{"$f":"IF(K17<>'2017'!J18,1,0)","v":0},{"$f":"IF(L17<>'2017'!K18,1,0)","v":0},{"$f":"IF(M17<>'2017'!L18,1,0)","v":0},{"$f":"IF(N17<>'2017'!M18,1,0)","v":0},{"$f":"IF(O17<>'2017'!N18,1,0)","v":0}]
[null,"Town of New Scotland ",{"$f":"'2017'!B19","v":0},{"$f":"'2017'!C19","v":0},{"$f":"'2017'!D19","v":0},{"$f":"'2017'!E19","v":0},{"$f":"'2017'!F19","v":""},{"$f":"'2017'!G19","v":0},{"$f":"'2017'!H19","v":0},{"$f":"'2017'!I19","v":""},{"$f":"'2017'!J19","v":0},{"$f":"'2017'!K19","v":0},{"$f":"'2017'!L19","v":0},{"$f":"'2017'!M19","v":""},{"$f":"'2017'!N19","v":0},null,"Town of New Scotland ",{"$f":"IF(C18<>'2017'!B19,1,0)","v":0},{"$f":"IF(D18<>'2017'!C19,1,0)","v":0},{"$f":"IF(E18<>'2017'!D19,1,0)","v":0},{"$f":"IF(F18<>'2017'!E19,1,0)","v":0},{"$f":"IF(G18<>'2017'!F19,1,0)","v":0},{"$f":"IF(H18<>'2017'!G19,1,0)","v":0},{"$f":"IF(I18<>'2017'!H19,1,0)","v":0},{"$f":"IF(J18<>'2017'!I19,1,0)","v":0},{"$f":"IF(K18<>'2017'!J19,1,0)","v":0},{"$f":"IF(L18<>'2017'!K19,1,0)","v":0},{"$f":"IF(M18<>'2017'!L19,1,0)","v":0},{"$f":"IF(N18<>'2017'!M19,1,0)","v":0},{"$f":"IF(O18<>'2017'!N19,1,0)","v":0}]
[null,"Village of Voorheesville ",{"$f":"'2017'!B20","v":0},{"$f":"'2017'!C20","v":0},{"$f":"'2017'!D20","v":0},{"$f":"'2017'!E20","v":0},{"$f":"'2017'!F20","v":0},{"$f":"'2017'!G20","v":0},{"$f":"'2017'!H20","v":0},{"$f":"'2017'!I20","v":0},{"$f":"'2017'!J20","v":0},{"$f":"'2017'!K20","v":0},{"$f":"'2017'!L20","v":0},{"$f":"'2017'!M20","v":0},{"$f":"'2017'!N20","v":0},null,"Village of Voorheesville ",{"$f":"IF(C19<>'2017'!B20,1,0)","v":0},{"$f":"IF(D19<>'2017'!C20,1,0)","v":0},{"$f":"IF(E19<>'2017'!D20,1,0)","v":0},{"$f":"IF(F19<>'2017'!E20,1,0)","v":0},{"$f":"IF(G19<>'2017'!F20,1,0)","v":0},{"$f":"IF(H19<>'2017'!G20,1,0)","v":0},{"$f":"IF(I19<>'2017'!H20,1,0)","v":0},{"$f":"IF(J19<>'2017'!I20,1,0)","v":0},{"$f":"IF(K19<>'2017'!J20,1,0)","v":0},{"$f":"IF(L19<>'2017'!K20,1,0)","v":0},{"$f":"IF(M19<>'2017'!L20,1,0)","v":0},{"$f":"IF(N19<>'2017'!M20,1,0)","v":0},{"$f":"IF(O19<>'2017'!N20,1,0)","v":0}]
[null,"Town of Rensselaerville ",{"$f":"'2017'!B21","v":0},{"$f":"'2017'!C21","v":0},{"$f":"'2017'!D21","v":0},{"$f":"'2017'!E21","v":0},{"$f":"'2017'!F21","v":""},{"$f":"'2017'!G21","v":0},{"$f":"'2017'!H21","v":0},{"$f":"'2017'!I21","v":""},{"$f":"'2017'!J21","v":0},{"$f":"'2017'!K21","v":0},{"$f":"'2017'!L21","v":0},{"$f":"'2017'!M21","v":""},{"$f":"'2017'!N21","v":0},null,"Town of Rensselaerville ",{"$f":"IF(C20<>'2017'!B21,1,0)","v":0},{"$f":"IF(D20<>'2017'!C21,1,0)","v":0},{"$f":"IF(E20<>'2017'!D21,1,0)","v":0},{"$f":"IF(F20<>'2017'!E21,1,0)","v":0},{"$f":"IF(G20<>'2017'!F21,1,0)","v":0},{"$f":"IF(H20<>'2017'!G21,1,0)","v":0},{"$f":"IF(I20<>'2017'!H21,1,0)","v":0},{"$f":"IF(J20<>'2017'!I21,1,0)","v":0},{"$f":"IF(K20<>'2017'!J21,1,0)","v":0},{"$f":"IF(L20<>'2017'!K21,1,0)","v":0},{"$f":"IF(M20<>'2017'!L21,1,0)","v":0},{"$f":"IF(N20<>'2017'!M21,1,0)","v":0},{"$f":"IF(O20<>'2017'!N21,1,0)","v":0}]
[null,"City of Watervliet ",{"$f":"'2017'!B22","v":0},{"$f":"'2017'!C22","v":0},{"$f":"'2017'!D22","v":0},{"$f":"'2017'!E22","v":0},{"$f":"'2017'!F22","v":0},{"$f":"'2017'!G22","v":0},{"$f":"'2017'!H22","v":0},{"$f":"'2017'!I22","v":0},{"$f":"'2017'!J22","v":0},{"$f":"'2017'!K22","v":0},{"$f":"'2017'!L22","v":0},{"$f":"'2017'!M22","v":0},{"$f":"'2017'!N22","v":0},null,"City of Watervliet ",{"$f":"IF(C21<>'2017'!B22,1,0)","v":0},{"$f":"IF(D21<>'2017'!C22,1,0)","v":0},{"$f":"IF(E21<>'2017'!D22,1,0)","v":0},{"$f":"IF(F21<>'2017'!E22,1,0)","v":0},{"$f":"IF(G21<>'2017'!F22,1,0)","v":0},{"$f":"IF(H21<>'2017'!G22,1,0)","v":0},{"$f":"IF(I21<>'2017'!H22,1,0)","v":0},{"$f":"IF(J21<>'2017'!I22,1,0)","v":0},{"$f":"IF(K21<>'2017'!J22,1,0)","v":0},{"$f":"IF(L21<>'2017'!K22,1,0)","v":0},{"$f":"IF(M21<>'2017'!L22,1,0)","v":0},{"$f":"IF(N21<>'2017'!M22,1,0)","v":0},{"$f":"IF(O21<>'2017'!N22,1,0)","v":0}]
[null,"Town of Westerlo ",{"$f":"'2017'!B23","v":0},{"$f":"'2017'!C23","v":0},{"$f":"'2017'!D23","v":0},{"$f":"'2017'!E23","v":0},{"$f":"'2017'!F23","v":""},{"$f":"'2017'!G23","v":0},{"$f":"'2017'!H23","v":0},{"$f":"'2017'!I23","v":""},{"$f":"'2017'!J23","v":0},{"$f":"'2017'!K23","v":0},{"$f":"'2017'!L23","v":0},{"$f":"'2017'!M23","v":""},{"$f":"'2017'!N23","v":0},null,"Town of Westerlo ",{"$f":"IF(C22<>'2017'!B23,1,0)","v":0},{"$f":"IF(D22<>'2017'!C23,1,0)","v":0},{"$f":"IF(E22<>'2017'!D23,1,0)","v":0},{"$f":"IF(F22<>'2017'!E23,1,0)","v":0},{"$f":"IF(G22<>'2017'!F23,1,0)","v":0},{"$f":"IF(H22<>'2017'!G23,1,0)","v":0},{"$f":"IF(I22<>'2017'!H23,1,0)","v":0},{"$f":"IF(J22<>'2017'!I23,1,0)","v":0},{"$f":"IF(K22<>'2017'!J23,1,0)","v":0},{"$f":"IF(L22<>'2017'!K23,1,0)","v":0},{"$f":"IF(M22<>'2017'!L23,1,0)","v":0},{"$f":"IF(N22<>'2017'!M23,1,0)","v":0},{"$f":"IF(O22<>'2017'!N23,1,0)","v":0}]
[null,"Town of Berlin ",{"$f":"'2017'!B25","v":0},{"$f":"'2017'!C25","v":0},{"$f":"'2017'!D25","v":0},{"$f":"'2017'!E25","v":0},{"$f":"'2017'!F25","v":""},{"$f":"'2017'!G25","v":0},{"$f":"'2017'!H25","v":0},{"$f":"'2017'!I25","v":""},{"$f":"'2017'!J25","v":0},{"$f":"'2017'!K25","v":0},{"$f":"'2017'!L25","v":0},{"$f":"'2017'!M25","v":""},{"$f":"'2017'!N25","v":0},null,"Town of Berlin ",{"$f":"IF(C23<>'2017'!B25,1,0)","v":0},{"$f":"IF(D23<>'2017'!C25,1,0)","v":0},{"$f":"IF(E23<>'2017'!D25,1,0)","v":0},{"$f":"IF(F23<>'2017'!E25,1,0)","v":0},{"$f":"IF(G23<>'2017'!F25,1,0)","v":0},{"$f":"IF(H23<>'2017'!G25,1,0)","v":0},{"$f":"IF(I23<>'2017'!H25,1,0)","v":0},{"$f":"IF(J23<>'2017'!I25,1,0)","v":0},{"$f":"IF(K23<>'2017'!J25,1,0)","v":0},{"$f":"IF(L23<>'2017'!K25,1,0)","v":0},{"$f":"IF(M23<>'2017'!L25,1,0)","v":0},{"$f":"IF(N23<>'2017'!M25,1,0)","v":0},{"$f":"IF(O23<>'2017'!N25,1,0)","v":0}]
[null,"Town of Brunswick ",{"$f":"'2017'!B26","v":0},{"$f":"'2017'!C26","v":0},{"$f":"'2017'!D26","v":0},{"$f":"'2017'!E26","v":0},{"$f":"'2017'!F26","v":""},{"$f":"'2017'!G26","v":0},{"$f":"'2017'!H26","v":0},{"$f":"'2017'!I26","v":""},{"$f":"'2017'!J26","v":0},{"$f":"'2017'!K26","v":0},{"$f":"'2017'!L26","v":0},{"$f":"'2017'!M26","v":""},{"$f":"'2017'!N26","v":0},null,"Town of Brunswick ",{"$f":"IF(C24<>'2017'!B26,1,0)","v":0},{"$f":"IF(D24<>'2017'!C26,1,0)","v":0},{"$f":"IF(E24<>'2017'!D26,1,0)","v":0},{"$f":"IF(F24<>'2017'!E26,1,0)","v":0},{"$f":"IF(G24<>'2017'!F26,1,0)","v":0},{"$f":"IF(H24<>'2017'!G26,1,0)","v":0},{"$f":"IF(I24<>'2017'!H26,1,0)","v":0},{"$f":"IF(J24<>'2017'!I26,1,0)","v":0},{"$f":"IF(K24<>'2017'!J26,1,0)","v":0},{"$f":"IF(L24<>'2017'!K26,1,0)","v":0},{"$f":"IF(M24<>'2017'!L26,1,0)","v":0},{"$f":"IF(N24<>'2017'!M26,1,0)","v":0},{"$f":"IF(O24<>'2017'!N26,1,0)","v":0}]
[null,"Town of East Greenbush ",{"$f":"'2017'!B27","v":0},{"$f":"'2017'!C27","v":0},{"$f":"'2017'!D27","v":0},{"$f":"'2017'!E27","v":0},{"$f":"'2017'!F27","v":""},{"$f":"'2017'!G27","v":0},{"$f":"'2017'!H27","v":0},{"$f":"'2017'!I27","v":""},{"$f":"'2017'!J27","v":0},{"$f":"'2017'!K27","v":0},{"$f":"'2017'!L27","v":0},{"$f":"'2017'!M27","v":""},{"$f":"'2017'!N27","v":0},null,"Town of East Greenbush ",{"$f":"IF(C25<>'2017'!B27,1,0)","v":0},{"$f":"IF(D25<>'2017'!C27,1,0)","v":0},{"$f":"IF(E25<>'2017'!D27,1,0)","v":0},{"$f":"IF(F25<>'2017'!E27,1,0)","v":0},{"$f":"IF(G25<>'2017'!F27,1,0)","v":0},{"$f":"IF(H25<>'2017'!G27,1,0)","v":0},{"$f":"IF(I25<>'2017'!H27,1,0)","v":0},{"$f":"IF(J25<>'2017'!I27,1,0)","v":0},{"$f":"IF(K25<>'2017'!J27,1,0)","v":0},{"$f":"IF(L25<>'2017'!K27,1,0)","v":0},{"$f":"IF(M25<>'2017'!L27,1,0)","v":0},{"$f":"IF(N25<>'2017'!M27,1,0)","v":0},{"$f":"IF(O25<>'2017'!N27,1,0)","v":0}]
[null,"Town of Grafton ",{"$f":"'2017'!B28","v":0},{"$f":"'2017'!C28","v":0},{"$f":"'2017'!D28","v":0},{"$f":"'2017'!E28","v":0},{"$f":"'2017'!F28","v":""},{"$f":"'2017'!G28","v":0},{"$f":"'2017'!H28","v":0},{"$f":"'2017'!I28","v":""},{"$f":"'2017'!J28","v":0},{"$f":"'2017'!K28","v":0},{"$f":"'2017'!L28","v":0},{"$f":"'2017'!M28","v":""},{"$f":"'2017'!N28","v":0},null,"Town of Grafton ",{"$f":"IF(C26<>'2017'!B28,1,0)","v":0},{"$f":"IF(D26<>'2017'!C28,1,0)","v":0},{"$f":"IF(E26<>'2017'!D28,1,0)","v":0},{"$f":"IF(F26<>'2017'!E28,1,0)","v":0},{"$f":"IF(G26<>'2017'!F28,1,0)","v":0},{"$f":"IF(H26<>'2017'!G28,1,0)","v":0},{"$f":"IF(I26<>'2017'!H28,1,0)","v":0},{"$f":"IF(J26<>'2017'!I28,1,0)","v":0},{"$f":"IF(K26<>'2017'!J28,1,0)","v":0},{"$f":"IF(L26<>'2017'!K28,1,0)","v":0},{"$f":"IF(M26<>'2017'!L28,1,0)","v":0},{"$f":"IF(N26<>'2017'!M28,1,0)","v":0},{"$f":"IF(O26<>'2017'!N28,1,0)","v":0}]
[null,"Town of Hoosick ",{"$f":"'2017'!B29","v":0},{"$f":"'2017'!C29","v":0},{"$f":"'2017'!D29","v":0},{"$f":"'2017'!E29","v":0},{"$f":"'2017'!F29","v":""},{"$f":"'2017'!G29","v":0},{"$f":"'2017'!H29","v":0},{"$f":"'2017'!I29","v":""},{"$f":"'2017'!J29","v":0},{"$f":"'2017'!K29","v":0},{"$f":"'2017'!L29","v":0},{"$f":"'2017'!M29","v":""},{"$f":"'2017'!N29","v":0},null,"Town of Hoosick ",{"$f":"IF(C27<>'2017'!B29,1,0)","v":0},{"$f":"IF(D27<>'2017'!C29,1,0)","v":0},{"$f":"IF(E27<>'2017'!D29,1,0)","v":0},{"$f":"IF(F27<>'2017'!E29,1,0)","v":0},{"$f":"IF(G27<>'2017'!F29,1,0)","v":0},{"$f":"IF(H27<>'2017'!G29,1,0)","v":0},{"$f":"IF(I27<>'2017'!H29,1,0)","v":0},{"$f":"IF(J27<>'2017'!I29,1,0)","v":0},{"$f":"IF(K27<>'2017'!J29,1,0)","v":0},{"$f":"IF(L27<>'2017'!K29,1,0)","v":0},{"$f":"IF(M27<>'2017'!L29,1,0)","v":0},{"$f":"IF(N27<>'2017'!M29,1,0)","v":0},{"$f":"IF(O27<>'2017'!N29,1,0)","v":0}]
[null,"Village of Hoosick Falls ",{"$f":"'2017'!B30","v":0},{"$f":"'2017'!C30","v":0},{"$f":"'2017'!D30","v":0},{"$f":"'2017'!E30","v":0},{"$f":"'2017'!F30","v":0},{"$f":"'2017'!G30","v":0},{"$f":"'2017'!H30","v":0},{"$f":"'2017'!I30","v":0},{"$f":"'2017'!J30","v":0},{"$f":"'2017'!K30","v":0},{"$f":"'2017'!L30","v":0},{"$f":"'2017'!M30","v":0},{"$f":"'2017'!N30","v":0},null,"Village of Hoosick Falls ",{"$f":"IF(C28<>'2017'!B30,1,0)","v":0},{"$f":"IF(D28<>'2017'!C30,1,0)","v":0},{"$f":"IF(E28<>'2017'!D30,1,0)","v":0},{"$f":"IF(F28<>'2017'!E30,1,0)","v":0},{"$f":"IF(G28<>'2017'!F30,1,0)","v":0},{"$f":"IF(H28<>'2017'!G30,1,0)","v":0},{"$f":"IF(I28<>'2017'!H30,1,0)","v":0},{"$f":"IF(J28<>'2017'!I30,1,0)","v":0},{"$f":"IF(K28<>'2017'!J30,1,0)","v":0},{"$f":"IF(L28<>'2017'!K30,1,0)","v":0},{"$f":"IF(M28<>'2017'!L30,1,0)","v":0},{"$f":"IF(N28<>'2017'!M30,1,0)","v":0},{"$f":"IF(O28<>'2017'!N30,1,0)","v":0}]
[null,"Town of Nassau ",{"$f":"'2017'!B31","v":0},{"$f":"'2017'!C31","v":0},{"$f":"'2017'!D31","v":0},{"$f":"'2017'!E31","v":0},{"$f":"'2017'!F31","v":""},{"$f":"'2017'!G31","v":0},{"$f":"'2017'!H31","v":0},{"$f":"'2017'!I31","v":""},{"$f":"'2017'!J31","v":0},{"$f":"'2017'!K31","v":0},{"$f":"'2017'!L31","v":0},{"$f":"'2017'!M31","v":""},{"$f":"'2017'!N31","v":0},null,"Town of Nassau ",{"$f":"IF(C29<>'2017'!B31,1,0)","v":0},{"$f":"IF(D29<>'2017'!C31,1,0)","v":0},{"$f":"IF(E29<>'2017'!D31,1,0)","v":0},{"$f":"IF(F29<>'2017'!E31,1,0)","v":0},{"$f":"IF(G29<>'2017'!F31,1,0)","v":0},{"$f":"IF(H29<>'2017'!G31,1,0)","v":0},{"$f":"IF(I29<>'2017'!H31,1,0)","v":0},{"$f":"IF(J29<>'2017'!I31,1,0)","v":0},{"$f":"IF(K29<>'2017'!J31,1,0)","v":0},{"$f":"IF(L29<>'2017'!K31,1,0)","v":0},{"$f":"IF(M29<>'2017'!L31,1,0)","v":0},{"$f":"IF(N29<>'2017'!M31,1,0)","v":0},{"$f":"IF(O29<>'2017'!N31,1,0)","v":0}]
[null,{"$f":"'2017'!A32&\" \"","v":"Village of East Nassau "},{"$f":"'2017'!B32","v":0},{"$f":"'2017'!C32","v":0},{"$f":"'2017'!D32","v":0},{"$f":"'2017'!E32","v":0},{"$f":"'2017'!F32","v":""},{"$f":"'2017'!G32","v":0},{"$f":"'2017'!H32","v":0},{"$f":"'2017'!I32","v":""},{"$f":"'2017'!J32","v":0},{"$f":"'2017'!K32","v":0},{"$f":"'2017'!L32","v":0},{"$f":"'2017'!M32","v":""},{"$f":"'2017'!N32","v":0},null,"Village of East Nassau ",{"$f":"IF(C30<>'2017'!B32,1,0)","v":0},{"$f":"IF(D30<>'2017'!C32,1,0)","v":0},{"$f":"IF(E30<>'2017'!D32,1,0)","v":0},{"$f":"IF(F30<>'2017'!E32,1,0)","v":0},{"$f":"IF(G30<>'2017'!F32,1,0)","v":0},{"$f":"IF(H30<>'2017'!G32,1,0)","v":0},{"$f":"IF(I30<>'2017'!H32,1,0)","v":0},{"$f":"IF(J30<>'2017'!I32,1,0)","v":0},{"$f":"IF(K30<>'2017'!J32,1,0)","v":0},{"$f":"IF(L30<>'2017'!K32,1,0)","v":0},{"$f":"IF(M30<>'2017'!L32,1,0)","v":0},{"$f":"IF(N30<>'2017'!M32,1,0)","v":0},{"$f":"IF(O30<>'2017'!N32,1,0)","v":0}]
[null,"Village of Nassau (part) ",{"$f":"'2017'!B33","v":0},{"$f":"'2017'!C33","v":0},{"$f":"'2017'!D33","v":0},{"$f":"'2017'!E33","v":0},{"$f":"'2017'!F33","v":0},{"$f":"'2017'!G33","v":0},{"$f":"'2017'!H33","v":0},{"$f":"'2017'!I33","v":0},{"$f":"'2017'!J33","v":0},{"$f":"'2017'!K33","v":0},{"$f":"'2017'!L33","v":0},{"$f":"'2017'!M33","v":0},{"$f":"'2017'!N33","v":0},null,"Village of Nassau (part) ",{"$f":"IF(C31<>'2017'!B33,1,0)","v":0},{"$f":"IF(D31<>'2017'!C33,1,0)","v":0},{"$f":"IF(E31<>'2017'!D33,1,0)","v":0},{"$f":"IF(F31<>'2017'!E33,1,0)","v":0},{"$f":"IF(G31<>'2017'!F33,1,0)","v":0},{"$f":"IF(H31<>'2017'!G33,1,0)","v":0},{"$f":"IF(I31<>'2017'!H33,1,0)","v":0},{"$f":"IF(J31<>'2017'!I33,1,0)","v":0},{"$f":"IF(K31<>'2017'!J33,1,0)","v":0},{"$f":"IF(L31<>'2017'!K33,1,0)","v":0},{"$f":"IF(M31<>'2017'!L33,1,0)","v":0},{"$f":"IF(N31<>'2017'!M33,1,0)","v":0},{"$f":"IF(O31<>'2017'!N33,1,0)","v":0}]
[null,"Town of North Greenbush ",{"$f":"'2017'!B34","v":0},{"$f":"'2017'!C34","v":0},{"$f":"'2017'!D34","v":0},{"$f":"'2017'!E34","v":0},{"$f":"'2017'!F34","v":""},{"$f":"'2017'!G34","v":0},{"$f":"'2017'!H34","v":0},{"$f":"'2017'!I34","v":""},{"$f":"'2017'!J34","v":0},{"$f":"'2017'!K34","v":0},{"$f":"'2017'!L34","v":0},{"$f":"'2017'!M34","v":""},{"$f":"'2017'!N34","v":0},null,"Town of North Greenbush ",{"$f":"IF(C32<>'2017'!B34,1,0)","v":0},{"$f":"IF(D32<>'2017'!C34,1,0)","v":0},{"$f":"IF(E32<>'2017'!D34,1,0)","v":0},{"$f":"IF(F32<>'2017'!E34,1,0)","v":0},{"$f":"IF(G32<>'2017'!F34,1,0)","v":0},{"$f":"IF(H32<>'2017'!G34,1,0)","v":0},{"$f":"IF(I32<>'2017'!H34,1,0)","v":0},{"$f":"IF(J32<>'2017'!I34,1,0)","v":0},{"$f":"IF(K32<>'2017'!J34,1,0)","v":0},{"$f":"IF(L32<>'2017'!K34,1,0)","v":0},{"$f":"IF(M32<>'2017'!L34,1,0)","v":0},{"$f":"IF(N32<>'2017'!M34,1,0)","v":0},{"$f":"IF(O32<>'2017'!N34,1,0)","v":0}]
[null,"Town of Petersburgh ",{"$f":"'2017'!B35","v":0},{"$f":"'2017'!C35","v":0},{"$f":"'2017'!D35","v":0},{"$f":"'2017'!E35","v":0},{"$f":"'2017'!F35","v":""},{"$f":"'2017'!G35","v":0},{"$f":"'2017'!H35","v":0},{"$f":"'2017'!I35","v":""},{"$f":"'2017'!J35","v":0},{"$f":"'2017'!K35","v":0},{"$f":"'2017'!L35","v":0},{"$f":"'2017'!M35","v":""},{"$f":"'2017'!N35","v":0},null,"Town of Petersburgh ",{"$f":"IF(C33<>'2017'!B35,1,0)","v":0},{"$f":"IF(D33<>'2017'!C35,1,0)","v":0},{"$f":"IF(E33<>'2017'!D35,1,0)","v":0},{"$f":"IF(F33<>'2017'!E35,1,0)","v":0},{"$f":"IF(G33<>'2017'!F35,1,0)","v":0},{"$f":"IF(H33<>'2017'!G35,1,0)","v":0},{"$f":"IF(I33<>'2017'!H35,1,0)","v":0},{"$f":"IF(J33<>'2017'!I35,1,0)","v":0},{"$f":"IF(K33<>'2017'!J35,1,0)","v":0},{"$f":"IF(L33<>'2017'!K35,1,0)","v":0},{"$f":"IF(M33<>'2017'!L35,1,0)","v":0},{"$f":"IF(N33<>'2017'!M35,1,0)","v":0},{"$f":"IF(O33<>'2017'!N35,1,0)","v":0}]
[null,"Town of Pittstown ",{"$f":"'2017'!B36","v":0},{"$f":"'2017'!C36","v":0},{"$f":"'2017'!D36","v":0},{"$f":"'2017'!E36","v":0},{"$f":"'2017'!F36","v":""},{"$f":"'2017'!G36","v":0},{"$f":"'2017'!H36","v":0},{"$f":"'2017'!I36","v":""},{"$f":"'2017'!J36","v":0},{"$f":"'2017'!K36","v":0},{"$f":"'2017'!L36","v":0},{"$f":"'2017'!M36","v":""},{"$f":"'2017'!N36","v":0},null,"Town of Pittstown ",{"$f":"IF(C34<>'2017'!B36,1,0)","v":0},{"$f":"IF(D34<>'2017'!C36,1,0)","v":0},{"$f":"IF(E34<>'2017'!D36,1,0)","v":0},{"$f":"IF(F34<>'2017'!E36,1,0)","v":0},{"$f":"IF(G34<>'2017'!F36,1,0)","v":0},{"$f":"IF(H34<>'2017'!G36,1,0)","v":0},{"$f":"IF(I34<>'2017'!H36,1,0)","v":0},{"$f":"IF(J34<>'2017'!I36,1,0)","v":0},{"$f":"IF(K34<>'2017'!J36,1,0)","v":0},{"$f":"IF(L34<>'2017'!K36,1,0)","v":0},{"$f":"IF(M34<>'2017'!L36,1,0)","v":0},{"$f":"IF(N34<>'2017'!M36,1,0)","v":0},{"$f":"IF(O34<>'2017'!N36,1,0)","v":0}]
[null,"Village of Valley Falls (part) ",{"$f":"'2017'!B37","v":0},{"$f":"'2017'!C37","v":0},{"$f":"'2017'!D37","v":0},{"$f":"'2017'!E37","v":0},{"$f":"'2017'!F37","v":0},{"$f":"'2017'!G37","v":0},{"$f":"'2017'!H37","v":0},{"$f":"'2017'!I37","v":0},{"$f":"'2017'!J37","v":0},{"$f":"'2017'!K37","v":0},{"$f":"'2017'!L37","v":0},{"$f":"'2017'!M37","v":0},{"$f":"'2017'!N37","v":0},null,"Village of Valley Falls (part) ",{"$f":"IF(C35<>'2017'!B37,1,0)","v":0},{"$f":"IF(D35<>'2017'!C37,1,0)","v":0},{"$f":"IF(E35<>'2017'!D37,1,0)","v":0},{"$f":"IF(F35<>'2017'!E37,1,0)","v":0},{"$f":"IF(G35<>'2017'!F37,1,0)","v":0},{"$f":"IF(H35<>'2017'!G37,1,0)","v":0},{"$f":"IF(I35<>'2017'!H37,1,0)","v":0},{"$f":"IF(J35<>'2017'!I37,1,0)","v":0},{"$f":"IF(K35<>'2017'!J37,1,0)","v":0},{"$f":"IF(L35<>'2017'!K37,1,0)","v":0},{"$f":"IF(M35<>'2017'!L37,1,0)","v":0},{"$f":"IF(N35<>'2017'!M37,1,0)","v":0},{"$f":"IF(O35<>'2017'!N37,1,0)","v":0}]
[null,"Town of Poestenkill ",{"$f":"'2017'!B38","v":0},{"$f":"'2017'!C38","v":0},{"$f":"'2017'!D38","v":0},{"$f":"'2017'!E38","v":0},{"$f":"'2017'!F38","v":""},{"$f":"'2017'!G38","v":0},{"$f":"'2017'!H38","v":0},{"$f":"'2017'!I38","v":""},{"$f":"'2017'!J38","v":0},{"$f":"'2017'!K38","v":0},{"$f":"'2017'!L38","v":0},{"$f":"'2017'!M38","v":""},{"$f":"'2017'!N38","v":0},null,"Town of Poestenkill ",{"$f":"IF(C36<>'2017'!B38,1,0)","v":0},{"$f":"IF(D36<>'2017'!C38,1,0)","v":0},{"$f":"IF(E36<>'2017'!D38,1,0)","v":0},{"$f":"IF(F36<>'2017'!E38,1,0)","v":0},{"$f":"IF(G36<>'2017'!F38,1,0)","v":0},{"$f":"IF(H36<>'2017'!G38,1,0)","v":0},{"$f":"IF(I36<>'2017'!H38,1,0)","v":0},{"$f":"IF(J36<>'2017'!I38,1,0)","v":0},{"$f":"IF(K36<>'2017'!J38,1,0)","v":0},{"$f":"IF(L36<>'2017'!K38,1,0)","v":0},{"$f":"IF(M36<>'2017'!L38,1,0)","v":0},{"$f":"IF(N36<>'2017'!M38,1,0)","v":0},{"$f":"IF(O36<>'2017'!N38,1,0)","v":0}]
[null,"City of Rensselaer ",{"$f":"'2017'!B39","v":0},{"$f":"'2017'!C39","v":0},{"$f":"'2017'!D39","v":0},{"$f":"'2017'!E39","v":0},{"$f":"'2017'!F39","v":0},{"$f":"'2017'!G39","v":0},{"$f":"'2017'!H39","v":0},{"$f":"'2017'!I39","v":0},{"$f":"'2017'!J39","v":0},{"$f":"'2017'!K39","v":0},{"$f":"'2017'!L39","v":0},{"$f":"'2017'!M39","v":0},{"$f":"'2017'!N39","v":0},null,"City of Rensselaer ",{"$f":"IF(C37<>'2017'!B39,1,0)","v":0},{"$f":"IF(D37<>'2017'!C39,1,0)","v":0},{"$f":"IF(E37<>'2017'!D39,1,0)","v":0},{"$f":"IF(F37<>'2017'!E39,1,0)","v":0},{"$f":"IF(G37<>'2017'!F39,1,0)","v":0},{"$f":"IF(H37<>'2017'!G39,1,0)","v":0},{"$f":"IF(I37<>'2017'!H39,1,0)","v":0},{"$f":"IF(J37<>'2017'!I39,1,0)","v":0},{"$f":"IF(K37<>'2017'!J39,1,0)","v":0},{"$f":"IF(L37<>'2017'!K39,1,0)","v":0},{"$f":"IF(M37<>'2017'!L39,1,0)","v":0},{"$f":"IF(N37<>'2017'!M39,1,0)","v":0},{"$f":"IF(O37<>'2017'!N39,1,0)","v":0}]
[null,"Town of Sand Lake ",{"$f":"'2017'!B40","v":0},{"$f":"'2017'!C40","v":0},{"$f":"'2017'!D40","v":0},{"$f":"'2017'!E40","v":0},{"$f":"'2017'!F40","v":""},{"$f":"'2017'!G40","v":0},{"$f":"'2017'!H40","v":0},{"$f":"'2017'!I40","v":""},{"$f":"'2017'!J40","v":0},{"$f":"'2017'!K40","v":0},{"$f":"'2017'!L40","v":0},{"$f":"'2017'!M40","v":""},{"$f":"'2017'!N40","v":0},null,"Town of Sand Lake ",{"$f":"IF(C38<>'2017'!B40,1,0)","v":0},{"$f":"IF(D38<>'2017'!C40,1,0)","v":0},{"$f":"IF(E38<>'2017'!D40,1,0)","v":0},{"$f":"IF(F38<>'2017'!E40,1,0)","v":0},{"$f":"IF(G38<>'2017'!F40,1,0)","v":0},{"$f":"IF(H38<>'2017'!G40,1,0)","v":0},{"$f":"IF(I38<>'2017'!H40,1,0)","v":0},{"$f":"IF(J38<>'2017'!I40,1,0)","v":0},{"$f":"IF(K38<>'2017'!J40,1,0)","v":0},{"$f":"IF(L38<>'2017'!K40,1,0)","v":0},{"$f":"IF(M38<>'2017'!L40,1,0)","v":0},{"$f":"IF(N38<>'2017'!M40,1,0)","v":0},{"$f":"IF(O38<>'2017'!N40,1,0)","v":0}]
[null,"Town of Schaghticoke ",{"$f":"'2017'!B41","v":0},{"$f":"'2017'!C41","v":0},{"$f":"'2017'!D41","v":0},{"$f":"'2017'!E41","v":0},{"$f":"'2017'!F41","v":""},{"$f":"'2017'!G41","v":0},{"$f":"'2017'!H41","v":0},{"$f":"'2017'!I41","v":""},{"$f":"'2017'!J41","v":0},{"$f":"'2017'!K41","v":0},{"$f":"'2017'!L41","v":0},{"$f":"'2017'!M41","v":""},{"$f":"'2017'!N41","v":0},null,"Town of Schaghticoke ",{"$f":"IF(C39<>'2017'!B41,1,0)","v":0},{"$f":"IF(D39<>'2017'!C41,1,0)","v":0},{"$f":"IF(E39<>'2017'!D41,1,0)","v":0},{"$f":"IF(F39<>'2017'!E41,1,0)","v":0},{"$f":"IF(G39<>'2017'!F41,1,0)","v":0},{"$f":"IF(H39<>'2017'!G41,1,0)","v":0},{"$f":"IF(I39<>'2017'!H41,1,0)","v":0},{"$f":"IF(J39<>'2017'!I41,1,0)","v":0},{"$f":"IF(K39<>'2017'!J41,1,0)","v":0},{"$f":"IF(L39<>'2017'!K41,1,0)","v":0},{"$f":"IF(M39<>'2017'!L41,1,0)","v":0},{"$f":"IF(N39<>'2017'!M41,1,0)","v":0},{"$f":"IF(O39<>'2017'!N41,1,0)","v":0}]
[null,"Village of Schaghticoke ",{"$f":"'2017'!B42","v":0},{"$f":"'2017'!C42","v":0},{"$f":"'2017'!D42","v":0},{"$f":"'2017'!E42","v":0},{"$f":"'2017'!F42","v":0},{"$f":"'2017'!G42","v":0},{"$f":"'2017'!H42","v":0},{"$f":"'2017'!I42","v":0},{"$f":"'2017'!J42","v":0},{"$f":"'2017'!K42","v":0},{"$f":"'2017'!L42","v":0},{"$f":"'2017'!M42","v":0},{"$f":"'2017'!N42","v":0},null,"Village of Schaghticoke ",{"$f":"IF(C40<>'2017'!B42,1,0)","v":0},{"$f":"IF(D40<>'2017'!C42,1,0)","v":0},{"$f":"IF(E40<>'2017'!D42,1,0)","v":0},{"$f":"IF(F40<>'2017'!E42,1,0)","v":0},{"$f":"IF(G40<>'2017'!F42,1,0)","v":0},{"$f":"IF(H40<>'2017'!G42,1,0)","v":0},{"$f":"IF(I40<>'2017'!H42,1,0)","v":0},{"$f":"IF(J40<>'2017'!I42,1,0)","v":0},{"$f":"IF(K40<>'2017'!J42,1,0)","v":0},{"$f":"IF(L40<>'2017'!K42,1,0)","v":0},{"$f":"IF(M40<>'2017'!L42,1,0)","v":0},{"$f":"IF(N40<>'2017'!M42,1,0)","v":0},{"$f":"IF(O40<>'2017'!N42,1,0)","v":0}]
[null,"Village of Valley Falls (part) ",{"$f":"'2017'!B43","v":0},{"$f":"'2017'!C43","v":0},{"$f":"'2017'!D43","v":0},{"$f":"'2017'!E43","v":0},{"$f":"'2017'!F43","v":0},{"$f":"'2017'!G43","v":0},{"$f":"'2017'!H43","v":0},{"$f":"'2017'!I43","v":0},{"$f":"'2017'!J43","v":0},{"$f":"'2017'!K43","v":0},{"$f":"'2017'!L43","v":0},{"$f":"'2017'!M43","v":0},{"$f":"'2017'!N43","v":0},null,"Village of Valley Falls (part) ",{"$f":"IF(C41<>'2017'!B43,1,0)","v":0},{"$f":"IF(D41<>'2017'!C43,1,0)","v":0},{"$f":"IF(E41<>'2017'!D43,1,0)","v":0},{"$f":"IF(F41<>'2017'!E43,1,0)","v":0},{"$f":"IF(G41<>'2017'!F43,1,0)","v":0},{"$f":"IF(H41<>'2017'!G43,1,0)","v":0},{"$f":"IF(I41<>'2017'!H43,1,0)","v":0},{"$f":"IF(J41<>'2017'!I43,1,0)","v":0},{"$f":"IF(K41<>'2017'!J43,1,0)","v":0},{"$f":"IF(L41<>'2017'!K43,1,0)","v":0},{"$f":"IF(M41<>'2017'!L43,1,0)","v":0},{"$f":"IF(N41<>'2017'!M43,1,0)","v":0},{"$f":"IF(O41<>'2017'!N43,1,0)","v":0}]
[null,"Town of Schodack ",{"$f":"'2017'!B44","v":0},{"$f":"'2017'!C44","v":0},{"$f":"'2017'!D44","v":0},{"$f":"'2017'!E44","v":0},{"$f":"'2017'!F44","v":""},{"$f":"'2017'!G44","v":0},{"$f":"'2017'!H44","v":0},{"$f":"'2017'!I44","v":""},{"$f":"'2017'!J44","v":0},{"$f":"'2017'!K44","v":0},{"$f":"'2017'!L44","v":0},{"$f":"'2017'!M44","v":""},{"$f":"'2017'!N44","v":0},null,"Town of Schodack ",{"$f":"IF(C42<>'2017'!B44,1,0)","v":0},{"$f":"IF(D42<>'2017'!C44,1,0)","v":0},{"$f":"IF(E42<>'2017'!D44,1,0)","v":0},{"$f":"IF(F42<>'2017'!E44,1,0)","v":0},{"$f":"IF(G42<>'2017'!F44,1,0)","v":0},{"$f":"IF(H42<>'2017'!G44,1,0)","v":0},{"$f":"IF(I42<>'2017'!H44,1,0)","v":0},{"$f":"IF(J42<>'2017'!I44,1,0)","v":0},{"$f":"IF(K42<>'2017'!J44,1,0)","v":0},{"$f":"IF(L42<>'2017'!K44,1,0)","v":0},{"$f":"IF(M42<>'2017'!L44,1,0)","v":0},{"$f":"IF(N42<>'2017'!M44,1,0)","v":0},{"$f":"IF(O42<>'2017'!N44,1,0)","v":0}]
[null,"Village of Castleton-on-Hudson",{"$f":"'2017'!B45","v":0},{"$f":"'2017'!C45","v":0},{"$f":"'2017'!D45","v":0},{"$f":"'2017'!E45","v":0},{"$f":"'2017'!F45","v":0},{"$f":"'2017'!G45","v":0},{"$f":"'2017'!H45","v":0},{"$f":"'2017'!I45","v":0},{"$f":"'2017'!J45","v":0},{"$f":"'2017'!K45","v":0},{"$f":"'2017'!L45","v":0},{"$f":"'2017'!M45","v":0},{"$f":"'2017'!N45","v":0},null,"Village of Castleton-on-Hudson",{"$f":"IF(C43<>'2017'!B45,1,0)","v":0},{"$f":"IF(D43<>'2017'!C45,1,0)","v":0},{"$f":"IF(E43<>'2017'!D45,1,0)","v":0},{"$f":"IF(F43<>'2017'!E45,1,0)","v":0},{"$f":"IF(G43<>'2017'!F45,1,0)","v":0},{"$f":"IF(H43<>'2017'!G45,1,0)","v":0},{"$f":"IF(I43<>'2017'!H45,1,0)","v":0},{"$f":"IF(J43<>'2017'!I45,1,0)","v":0},{"$f":"IF(K43<>'2017'!J45,1,0)","v":0},{"$f":"IF(L43<>'2017'!K45,1,0)","v":0},{"$f":"IF(M43<>'2017'!L45,1,0)","v":0},{"$f":"IF(N43<>'2017'!M45,1,0)","v":0},{"$f":"IF(O43<>'2017'!N45,1,0)","v":0}]
[null,"Village of Nassau (part) ",{"$f":"'2017'!B46","v":0},{"$f":"'2017'!C46","v":0},{"$f":"'2017'!D46","v":0},{"$f":"'2017'!E46","v":0},{"$f":"'2017'!F46","v":0},{"$f":"'2017'!G46","v":0},{"$f":"'2017'!H46","v":0},{"$f":"'2017'!I46","v":0},{"$f":"'2017'!J46","v":0},{"$f":"'2017'!K46","v":0},{"$f":"'2017'!L46","v":0},{"$f":"'2017'!M46","v":0},{"$f":"'2017'!N46","v":0},null,"Village of Nassau (part) ",{"$f":"IF(C44<>'2017'!B46,1,0)","v":0},{"$f":"IF(D44<>'2017'!C46,1,0)","v":0},{"$f":"IF(E44<>'2017'!D46,1,0)","v":0},{"$f":"IF(F44<>'2017'!E46,1,0)","v":0},{"$f":"IF(G44<>'2017'!F46,1,0)","v":0},{"$f":"IF(H44<>'2017'!G46,1,0)","v":0},{"$f":"IF(I44<>'2017'!H46,1,0)","v":0},{"$f":"IF(J44<>'2017'!I46,1,0)","v":0},{"$f":"IF(K44<>'2017'!J46,1,0)","v":0},{"$f":"IF(L44<>'2017'!K46,1,0)","v":0},{"$f":"IF(M44<>'2017'!L46,1,0)","v":0},{"$f":"IF(N44<>'2017'!M46,1,0)","v":0},{"$f":"IF(O44<>'2017'!N46,1,0)","v":0}]
[null,"Town of Stephentown ",{"$f":"'2017'!B47","v":0},{"$f":"'2017'!C47","v":0},{"$f":"'2017'!D47","v":0},{"$f":"'2017'!E47","v":0},{"$f":"'2017'!F47","v":""},{"$f":"'2017'!G47","v":0},{"$f":"'2017'!H47","v":0},{"$f":"'2017'!I47","v":""},{"$f":"'2017'!J47","v":0},{"$f":"'2017'!K47","v":0},{"$f":"'2017'!L47","v":0},{"$f":"'2017'!M47","v":""},{"$f":"'2017'!N47","v":0},null,"Town of Stephentown ",{"$f":"IF(C45<>'2017'!B47,1,0)","v":0},{"$f":"IF(D45<>'2017'!C47,1,0)","v":0},{"$f":"IF(E45<>'2017'!D47,1,0)","v":0},{"$f":"IF(F45<>'2017'!E47,1,0)","v":0},{"$f":"IF(G45<>'2017'!F47,1,0)","v":0},{"$f":"IF(H45<>'2017'!G47,1,0)","v":0},{"$f":"IF(I45<>'2017'!H47,1,0)","v":0},{"$f":"IF(J45<>'2017'!I47,1,0)","v":0},{"$f":"IF(K45<>'2017'!J47,1,0)","v":0},{"$f":"IF(L45<>'2017'!K47,1,0)","v":0},{"$f":"IF(M45<>'2017'!L47,1,0)","v":0},{"$f":"IF(N45<>'2017'!M47,1,0)","v":0},{"$f":"IF(O45<>'2017'!N47,1,0)","v":0}]
[null,"City of Troy ",{"$f":"'2017'!B48","v":0},{"$f":"'2017'!C48","v":0},{"$f":"'2017'!D48","v":0},{"$f":"'2017'!E48","v":0},{"$f":"'2017'!F48","v":""},{"$f":"'2017'!G48","v":0},{"$f":"'2017'!H48","v":0},{"$f":"'2017'!I48","v":""},{"$f":"'2017'!J48","v":0},{"$f":"'2017'!K48","v":0},{"$f":"'2017'!L48","v":0},{"$f":"'2017'!M48","v":""},{"$f":"'2017'!N48","v":0},null,"City of Troy ",{"$f":"IF(C46<>'2017'!B48,1,0)","v":0},{"$f":"IF(D46<>'2017'!C48,1,0)","v":0},{"$f":"IF(E46<>'2017'!D48,1,0)","v":0},{"$f":"IF(F46<>'2017'!E48,1,0)","v":0},{"$f":"IF(G46<>'2017'!F48,1,0)","v":0},{"$f":"IF(H46<>'2017'!G48,1,0)","v":0},{"$f":"IF(I46<>'2017'!H48,1,0)","v":0},{"$f":"IF(J46<>'2017'!I48,1,0)","v":0},{"$f":"IF(K46<>'2017'!J48,1,0)","v":0},{"$f":"IF(L46<>'2017'!K48,1,0)","v":0},{"$f":"IF(M46<>'2017'!L48,1,0)","v":0},{"$f":"IF(N46<>'2017'!M48,1,0)","v":0},{"$f":"IF(O46<>'2017'!N48,1,0)","v":0}]
[null,"Town of Ballston ",{"$f":"'2017'!B50","v":0},{"$f":"'2017'!C50","v":0},{"$f":"'2017'!D50","v":0},{"$f":"'2017'!E50","v":0},{"$f":"'2017'!F50","v":""},{"$f":"'2017'!G50","v":0},{"$f":"'2017'!H50","v":0},{"$f":"'2017'!I50","v":""},{"$f":"'2017'!J50","v":0},{"$f":"'2017'!K50","v":0},{"$f":"'2017'!L50","v":0},{"$f":"'2017'!M50","v":""},{"$f":"'2017'!N50","v":0},null,"Town of Ballston ",{"$f":"IF(C47<>'2017'!B50,1,0)","v":0},{"$f":"IF(D47<>'2017'!C50,1,0)","v":0},{"$f":"IF(E47<>'2017'!D50,1,0)","v":0},{"$f":"IF(F47<>'2017'!E50,1,0)","v":0},{"$f":"IF(G47<>'2017'!F50,1,0)","v":0},{"$f":"IF(H47<>'2017'!G50,1,0)","v":0},{"$f":"IF(I47<>'2017'!H50,1,0)","v":0},{"$f":"IF(J47<>'2017'!I50,1,0)","v":0},{"$f":"IF(K47<>'2017'!J50,1,0)","v":0},{"$f":"IF(L47<>'2017'!K50,1,0)","v":0},{"$f":"IF(M47<>'2017'!L50,1,0)","v":0},{"$f":"IF(N47<>'2017'!M50,1,0)","v":0},{"$f":"IF(O47<>'2017'!N50,1,0)","v":0}]
[null,"Village of Ballston Spa (part)",{"$f":"'2017'!B51","v":0},{"$f":"'2017'!C51","v":0},{"$f":"'2017'!D51","v":0},{"$f":"'2017'!E51","v":0},{"$f":"'2017'!F51","v":0},{"$f":"'2017'!G51","v":0},{"$f":"'2017'!H51","v":0},{"$f":"'2017'!I51","v":0},{"$f":"'2017'!J51","v":0},{"$f":"'2017'!K51","v":0},{"$f":"'2017'!L51","v":0},{"$f":"'2017'!M51","v":0},{"$f":"'2017'!N51","v":0},null,"Village of Ballston Spa (part)",{"$f":"IF(C48<>'2017'!B51,1,0)","v":0},{"$f":"IF(D48<>'2017'!C51,1,0)","v":0},{"$f":"IF(E48<>'2017'!D51,1,0)","v":0},{"$f":"IF(F48<>'2017'!E51,1,0)","v":0},{"$f":"IF(G48<>'2017'!F51,1,0)","v":0},{"$f":"IF(H48<>'2017'!G51,1,0)","v":0},{"$f":"IF(I48<>'2017'!H51,1,0)","v":0},{"$f":"IF(J48<>'2017'!I51,1,0)","v":0},{"$f":"IF(K48<>'2017'!J51,1,0)","v":0},{"$f":"IF(L48<>'2017'!K51,1,0)","v":0},{"$f":"IF(M48<>'2017'!L51,1,0)","v":0},{"$f":"IF(N48<>'2017'!M51,1,0)","v":0},{"$f":"IF(O48<>'2017'!N51,1,0)","v":0}]
[null,"Town of Charlton ",{"$f":"'2017'!B52","v":0},{"$f":"'2017'!C52","v":0},{"$f":"'2017'!D52","v":0},{"$f":"'2017'!E52","v":0},{"$f":"'2017'!F52","v":""},{"$f":"'2017'!G52","v":0},{"$f":"'2017'!H52","v":0},{"$f":"'2017'!I52","v":""},{"$f":"'2017'!J52","v":0},{"$f":"'2017'!K52","v":0},{"$f":"'2017'!L52","v":0},{"$f":"'2017'!M52","v":""},{"$f":"'2017'!N52","v":0},null,"Town of Charlton ",{"$f":"IF(C49<>'2017'!B52,1,0)","v":0},{"$f":"IF(D49<>'2017'!C52,1,0)","v":0},{"$f":"IF(E49<>'2017'!D52,1,0)","v":0},{"$f":"IF(F49<>'2017'!E52,1,0)","v":0},{"$f":"IF(G49<>'2017'!F52,1,0)","v":0},{"$f":"IF(H49<>'2017'!G52,1,0)","v":0},{"$f":"IF(I49<>'2017'!H52,1,0)","v":0},{"$f":"IF(J49<>'2017'!I52,1,0)","v":0},{"$f":"IF(K49<>'2017'!J52,1,0)","v":0},{"$f":"IF(L49<>'2017'!K52,1,0)","v":0},{"$f":"IF(M49<>'2017'!L52,1,0)","v":0},{"$f":"IF(N49<>'2017'!M52,1,0)","v":0},{"$f":"IF(O49<>'2017'!N52,1,0)","v":0}]
[null,"Town of Clifton Park ",{"$f":"'2017'!B53","v":0},{"$f":"'2017'!C53","v":0},{"$f":"'2017'!D53","v":0},{"$f":"'2017'!E53","v":0},{"$f":"'2017'!F53","v":""},{"$f":"'2017'!G53","v":0},{"$f":"'2017'!H53","v":0},{"$f":"'2017'!I53","v":""},{"$f":"'2017'!J53","v":0},{"$f":"'2017'!K53","v":0},{"$f":"'2017'!L53","v":0},{"$f":"'2017'!M53","v":""},{"$f":"'2017'!N53","v":0},null,"Town of Clifton Park ",{"$f":"IF(C50<>'2017'!B53,1,0)","v":0},{"$f":"IF(D50<>'2017'!C53,1,0)","v":0},{"$f":"IF(E50<>'2017'!D53,1,0)","v":0},{"$f":"IF(F50<>'2017'!E53,1,0)","v":0},{"$f":"IF(G50<>'2017'!F53,1,0)","v":0},{"$f":"IF(H50<>'2017'!G53,1,0)","v":0},{"$f":"IF(I50<>'2017'!H53,1,0)","v":0},{"$f":"IF(J50<>'2017'!I53,1,0)","v":0},{"$f":"IF(K50<>'2017'!J53,1,0)","v":0},{"$f":"IF(L50<>'2017'!K53,1,0)","v":0},{"$f":"IF(M50<>'2017'!L53,1,0)","v":0},{"$f":"IF(N50<>'2017'!M53,1,0)","v":0},{"$f":"IF(O50<>'2017'!N53,1,0)","v":0}]
[null,"Town of Corinth ",{"$f":"'2017'!B54","v":0},{"$f":"'2017'!C54","v":0},{"$f":"'2017'!D54","v":0},{"$f":"'2017'!E54","v":0},{"$f":"'2017'!F54","v":0},{"$f":"'2017'!G54","v":0},{"$f":"'2017'!H54","v":0},{"$f":"'2017'!I54","v":0},{"$f":"'2017'!J54","v":0},{"$f":"'2017'!K54","v":0},{"$f":"'2017'!L54","v":0},{"$f":"'2017'!M54","v":0},{"$f":"'2017'!N54","v":0},null,"Town of Corinth ",{"$f":"IF(C51<>'2017'!B54,1,0)","v":0},{"$f":"IF(D51<>'2017'!C54,1,0)","v":0},{"$f":"IF(E51<>'2017'!D54,1,0)","v":0},{"$f":"IF(F51<>'2017'!E54,1,0)","v":0},{"$f":"IF(G51<>'2017'!F54,1,0)","v":0},{"$f":"IF(H51<>'2017'!G54,1,0)","v":0},{"$f":"IF(I51<>'2017'!H54,1,0)","v":0},{"$f":"IF(J51<>'2017'!I54,1,0)","v":0},{"$f":"IF(K51<>'2017'!J54,1,0)","v":0},{"$f":"IF(L51<>'2017'!K54,1,0)","v":0},{"$f":"IF(M51<>'2017'!L54,1,0)","v":0},{"$f":"IF(N51<>'2017'!M54,1,0)","v":0},{"$f":"IF(O51<>'2017'!N54,1,0)","v":0}]
[null,"Village of Corinth ",{"$f":"'2017'!B55","v":0},{"$f":"'2017'!C55","v":0},{"$f":"'2017'!D55","v":0},{"$f":"'2017'!E55","v":0},{"$f":"'2017'!F55","v":0},{"$f":"'2017'!G55","v":0},{"$f":"'2017'!H55","v":0},{"$f":"'2017'!I55","v":0},{"$f":"'2017'!J55","v":0},{"$f":"'2017'!K55","v":0},{"$f":"'2017'!L55","v":0},{"$f":"'2017'!M55","v":0},{"$f":"'2017'!N55","v":0},null,"Village of Corinth ",{"$f":"IF(C52<>'2017'!B55,1,0)","v":0},{"$f":"IF(D52<>'2017'!C55,1,0)","v":0},{"$f":"IF(E52<>'2017'!D55,1,0)","v":0},{"$f":"IF(F52<>'2017'!E55,1,0)","v":0},{"$f":"IF(G52<>'2017'!F55,1,0)","v":0},{"$f":"IF(H52<>'2017'!G55,1,0)","v":0},{"$f":"IF(I52<>'2017'!H55,1,0)","v":0},{"$f":"IF(J52<>'2017'!I55,1,0)","v":0},{"$f":"IF(K52<>'2017'!J55,1,0)","v":0},{"$f":"IF(L52<>'2017'!K55,1,0)","v":0},{"$f":"IF(M52<>'2017'!L55,1,0)","v":0},{"$f":"IF(N52<>'2017'!M55,1,0)","v":0},{"$f":"IF(O52<>'2017'!N55,1,0)","v":0}]
[null,"Town of Day ",{"$f":"'2017'!B56","v":0},{"$f":"'2017'!C56","v":0},{"$f":"'2017'!D56","v":0},{"$f":"'2017'!E56","v":0},{"$f":"'2017'!F56","v":""},{"$f":"'2017'!G56","v":0},{"$f":"'2017'!H56","v":0},{"$f":"'2017'!I56","v":""},{"$f":"'2017'!J56","v":0},{"$f":"'2017'!K56","v":0},{"$f":"'2017'!L56","v":0},{"$f":"'2017'!M56","v":""},{"$f":"'2017'!N56","v":0},null,"Town of Day ",{"$f":"IF(C53<>'2017'!B56,1,0)","v":0},{"$f":"IF(D53<>'2017'!C56,1,0)","v":0},{"$f":"IF(E53<>'2017'!D56,1,0)","v":0},{"$f":"IF(F53<>'2017'!E56,1,0)","v":0},{"$f":"IF(G53<>'2017'!F56,1,0)","v":0},{"$f":"IF(H53<>'2017'!G56,1,0)","v":0},{"$f":"IF(I53<>'2017'!H56,1,0)","v":0},{"$f":"IF(J53<>'2017'!I56,1,0)","v":0},{"$f":"IF(K53<>'2017'!J56,1,0)","v":0},{"$f":"IF(L53<>'2017'!K56,1,0)","v":0},{"$f":"IF(M53<>'2017'!L56,1,0)","v":0},{"$f":"IF(N53<>'2017'!M56,1,0)","v":0},{"$f":"IF(O53<>'2017'!N56,1,0)","v":0}]
[null,"Town of Edinburg ",{"$f":"'2017'!B57","v":0},{"$f":"'2017'!C57","v":0},{"$f":"'2017'!D57","v":0},{"$f":"'2017'!E57","v":0},{"$f":"'2017'!F57","v":""},{"$f":"'2017'!G57","v":0},{"$f":"'2017'!H57","v":0},{"$f":"'2017'!I57","v":""},{"$f":"'2017'!J57","v":0},{"$f":"'2017'!K57","v":0},{"$f":"'2017'!L57","v":0},{"$f":"'2017'!M57","v":""},{"$f":"'2017'!N57","v":0},null,"Town of Edinburg ",{"$f":"IF(C54<>'2017'!B57,1,0)","v":0},{"$f":"IF(D54<>'2017'!C57,1,0)","v":0},{"$f":"IF(E54<>'2017'!D57,1,0)","v":0},{"$f":"IF(F54<>'2017'!E57,1,0)","v":0},{"$f":"IF(G54<>'2017'!F57,1,0)","v":0},{"$f":"IF(H54<>'2017'!G57,1,0)","v":0},{"$f":"IF(I54<>'2017'!H57,1,0)","v":0},{"$f":"IF(J54<>'2017'!I57,1,0)","v":0},{"$f":"IF(K54<>'2017'!J57,1,0)","v":0},{"$f":"IF(L54<>'2017'!K57,1,0)","v":0},{"$f":"IF(M54<>'2017'!L57,1,0)","v":0},{"$f":"IF(N54<>'2017'!M57,1,0)","v":0},{"$f":"IF(O54<>'2017'!N57,1,0)","v":0}]
[null,"Town of Galway ",{"$f":"'2017'!B58","v":0},{"$f":"'2017'!C58","v":0},{"$f":"'2017'!D58","v":0},{"$f":"'2017'!E58","v":0},{"$f":"'2017'!F58","v":""},{"$f":"'2017'!G58","v":0},{"$f":"'2017'!H58","v":0},{"$f":"'2017'!I58","v":""},{"$f":"'2017'!J58","v":0},{"$f":"'2017'!K58","v":0},{"$f":"'2017'!L58","v":0},{"$f":"'2017'!M58","v":""},{"$f":"'2017'!N58","v":0},null,"Town of Galway ",{"$f":"IF(C55<>'2017'!B58,1,0)","v":0},{"$f":"IF(D55<>'2017'!C58,1,0)","v":0},{"$f":"IF(E55<>'2017'!D58,1,0)","v":0},{"$f":"IF(F55<>'2017'!E58,1,0)","v":0},{"$f":"IF(G55<>'2017'!F58,1,0)","v":0},{"$f":"IF(H55<>'2017'!G58,1,0)","v":0},{"$f":"IF(I55<>'2017'!H58,1,0)","v":0},{"$f":"IF(J55<>'2017'!I58,1,0)","v":0},{"$f":"IF(K55<>'2017'!J58,1,0)","v":0},{"$f":"IF(L55<>'2017'!K58,1,0)","v":0},{"$f":"IF(M55<>'2017'!L58,1,0)","v":0},{"$f":"IF(N55<>'2017'!M58,1,0)","v":0},{"$f":"IF(O55<>'2017'!N58,1,0)","v":0}]
[null,"Village of Galway ",{"$f":"'2017'!B59","v":0},{"$f":"'2017'!C59","v":0},{"$f":"'2017'!D59","v":0},{"$f":"'2017'!E59","v":0},{"$f":"'2017'!F59","v":0},{"$f":"'2017'!G59","v":0},{"$f":"'2017'!H59","v":0},{"$f":"'2017'!I59","v":0},{"$f":"'2017'!J59","v":0},{"$f":"'2017'!K59","v":0},{"$f":"'2017'!L59","v":0},{"$f":"'2017'!M59","v":0},{"$f":"'2017'!N59","v":0},null,"Village of Galway ",{"$f":"IF(C56<>'2017'!B59,1,0)","v":0},{"$f":"IF(D56<>'2017'!C59,1,0)","v":0},{"$f":"IF(E56<>'2017'!D59,1,0)","v":0},{"$f":"IF(F56<>'2017'!E59,1,0)","v":0},{"$f":"IF(G56<>'2017'!F59,1,0)","v":0},{"$f":"IF(H56<>'2017'!G59,1,0)","v":0},{"$f":"IF(I56<>'2017'!H59,1,0)","v":0},{"$f":"IF(J56<>'2017'!I59,1,0)","v":0},{"$f":"IF(K56<>'2017'!J59,1,0)","v":0},{"$f":"IF(L56<>'2017'!K59,1,0)","v":0},{"$f":"IF(M56<>'2017'!L59,1,0)","v":0},{"$f":"IF(N56<>'2017'!M59,1,0)","v":0},{"$f":"IF(O56<>'2017'!N59,1,0)","v":0}]
[null,"Town of Greenfield ",{"$f":"'2017'!B60","v":0},{"$f":"'2017'!C60","v":0},{"$f":"'2017'!D60","v":0},{"$f":"'2017'!E60","v":0},{"$f":"'2017'!F60","v":""},{"$f":"'2017'!G60","v":0},{"$f":"'2017'!H60","v":0},{"$f":"'2017'!I60","v":""},{"$f":"'2017'!J60","v":0},{"$f":"'2017'!K60","v":0},{"$f":"'2017'!L60","v":0},{"$f":"'2017'!M60","v":""},{"$f":"'2017'!N60","v":0},null,"Town of Greenfield ",{"$f":"IF(C57<>'2017'!B60,1,0)","v":0},{"$f":"IF(D57<>'2017'!C60,1,0)","v":0},{"$f":"IF(E57<>'2017'!D60,1,0)","v":0},{"$f":"IF(F57<>'2017'!E60,1,0)","v":0},{"$f":"IF(G57<>'2017'!F60,1,0)","v":0},{"$f":"IF(H57<>'2017'!G60,1,0)","v":0},{"$f":"IF(I57<>'2017'!H60,1,0)","v":0},{"$f":"IF(J57<>'2017'!I60,1,0)","v":0},{"$f":"IF(K57<>'2017'!J60,1,0)","v":0},{"$f":"IF(L57<>'2017'!K60,1,0)","v":0},{"$f":"IF(M57<>'2017'!L60,1,0)","v":0},{"$f":"IF(N57<>'2017'!M60,1,0)","v":0},{"$f":"IF(O57<>'2017'!N60,1,0)","v":0}]
[null,"Town of Hadley ",{"$f":"'2017'!B61","v":0},{"$f":"'2017'!C61","v":0},{"$f":"'2017'!D61","v":0},{"$f":"'2017'!E61","v":0},{"$f":"'2017'!F61","v":""},{"$f":"'2017'!G61","v":0},{"$f":"'2017'!H61","v":0},{"$f":"'2017'!I61","v":""},{"$f":"'2017'!J61","v":0},{"$f":"'2017'!K61","v":0},{"$f":"'2017'!L61","v":0},{"$f":"'2017'!M61","v":""},{"$f":"'2017'!N61","v":0},null,"Town of Hadley ",{"$f":"IF(C58<>'2017'!B61,1,0)","v":0},{"$f":"IF(D58<>'2017'!C61,1,0)","v":0},{"$f":"IF(E58<>'2017'!D61,1,0)","v":0},{"$f":"IF(F58<>'2017'!E61,1,0)","v":0},{"$f":"IF(G58<>'2017'!F61,1,0)","v":0},{"$f":"IF(H58<>'2017'!G61,1,0)","v":0},{"$f":"IF(I58<>'2017'!H61,1,0)","v":0},{"$f":"IF(J58<>'2017'!I61,1,0)","v":0},{"$f":"IF(K58<>'2017'!J61,1,0)","v":0},{"$f":"IF(L58<>'2017'!K61,1,0)","v":0},{"$f":"IF(M58<>'2017'!L61,1,0)","v":0},{"$f":"IF(N58<>'2017'!M61,1,0)","v":0},{"$f":"IF(O58<>'2017'!N61,1,0)","v":0}]
[null,"Town of Halfmoon ",{"$f":"'2017'!B62","v":0},{"$f":"'2017'!C62","v":0},{"$f":"'2017'!D62","v":0},{"$f":"'2017'!E62","v":0},{"$f":"'2017'!F62","v":""},{"$f":"'2017'!G62","v":0},{"$f":"'2017'!H62","v":0},{"$f":"'2017'!I62","v":""},{"$f":"'2017'!J62","v":0},{"$f":"'2017'!K62","v":0},{"$f":"'2017'!L62","v":0},{"$f":"'2017'!M62","v":""},{"$f":"'2017'!N62","v":0},null,"Town of Halfmoon ",{"$f":"IF(C59<>'2017'!B62,1,0)","v":0},{"$f":"IF(D59<>'2017'!C62,1,0)","v":0},{"$f":"IF(E59<>'2017'!D62,1,0)","v":0},{"$f":"IF(F59<>'2017'!E62,1,0)","v":0},{"$f":"IF(G59<>'2017'!F62,1,0)","v":0},{"$f":"IF(H59<>'2017'!G62,1,0)","v":0},{"$f":"IF(I59<>'2017'!H62,1,0)","v":0},{"$f":"IF(J59<>'2017'!I62,1,0)","v":0},{"$f":"IF(K59<>'2017'!J62,1,0)","v":0},{"$f":"IF(L59<>'2017'!K62,1,0)","v":0},{"$f":"IF(M59<>'2017'!L62,1,0)","v":0},{"$f":"IF(N59<>'2017'!M62,1,0)","v":0},{"$f":"IF(O59<>'2017'!N62,1,0)","v":0}]
[null,"Town of Malta ",{"$f":"'2017'!B63","v":0},{"$f":"'2017'!C63","v":0},{"$f":"'2017'!D63","v":0},{"$f":"'2017'!E63","v":0},{"$f":"'2017'!F63","v":""},{"$f":"'2017'!G63","v":0},{"$f":"'2017'!H63","v":0},{"$f":"'2017'!I63","v":""},{"$f":"'2017'!J63","v":0},{"$f":"'2017'!K63","v":0},{"$f":"'2017'!L63","v":0},{"$f":"'2017'!M63","v":""},{"$f":"'2017'!N63","v":0},null,"Town of Malta ",{"$f":"IF(C60<>'2017'!B63,1,0)","v":0},{"$f":"IF(D60<>'2017'!C63,1,0)","v":0},{"$f":"IF(E60<>'2017'!D63,1,0)","v":0},{"$f":"IF(F60<>'2017'!E63,1,0)","v":0},{"$f":"IF(G60<>'2017'!F63,1,0)","v":0},{"$f":"IF(H60<>'2017'!G63,1,0)","v":0},{"$f":"IF(I60<>'2017'!H63,1,0)","v":0},{"$f":"IF(J60<>'2017'!I63,1,0)","v":0},{"$f":"IF(K60<>'2017'!J63,1,0)","v":0},{"$f":"IF(L60<>'2017'!K63,1,0)","v":0},{"$f":"IF(M60<>'2017'!L63,1,0)","v":0},{"$f":"IF(N60<>'2017'!M63,1,0)","v":0},{"$f":"IF(O60<>'2017'!N63,1,0)","v":0}]
[null,"Village of Round Lake ",{"$f":"'2017'!B64","v":0},{"$f":"'2017'!C64","v":0},{"$f":"'2017'!D64","v":0},{"$f":"'2017'!E64","v":0},{"$f":"'2017'!F64","v":0},{"$f":"'2017'!G64","v":0},{"$f":"'2017'!H64","v":0},{"$f":"'2017'!I64","v":0},{"$f":"'2017'!J64","v":0},{"$f":"'2017'!K64","v":0},{"$f":"'2017'!L64","v":0},{"$f":"'2017'!M64","v":0},{"$f":"'2017'!N64","v":0},null,"Village of Round Lake ",{"$f":"IF(C61<>'2017'!B64,1,0)","v":0},{"$f":"IF(D61<>'2017'!C64,1,0)","v":0},{"$f":"IF(E61<>'2017'!D64,1,0)","v":0},{"$f":"IF(F61<>'2017'!E64,1,0)","v":0},{"$f":"IF(G61<>'2017'!F64,1,0)","v":0},{"$f":"IF(H61<>'2017'!G64,1,0)","v":0},{"$f":"IF(I61<>'2017'!H64,1,0)","v":0},{"$f":"IF(J61<>'2017'!I64,1,0)","v":0},{"$f":"IF(K61<>'2017'!J64,1,0)","v":0},{"$f":"IF(L61<>'2017'!K64,1,0)","v":0},{"$f":"IF(M61<>'2017'!L64,1,0)","v":0},{"$f":"IF(N61<>'2017'!M64,1,0)","v":0},{"$f":"IF(O61<>'2017'!N64,1,0)","v":0}]
[null,"City of Mechanicville ",{"$f":"'2017'!B65","v":0},{"$f":"'2017'!C65","v":0},{"$f":"'2017'!D65","v":0},{"$f":"'2017'!E65","v":0},{"$f":"'2017'!F65","v":0},{"$f":"'2017'!G65","v":0},{"$f":"'2017'!H65","v":0},{"$f":"'2017'!I65","v":0},{"$f":"'2017'!J65","v":0},{"$f":"'2017'!K65","v":0},{"$f":"'2017'!L65","v":0},{"$f":"'2017'!M65","v":0},{"$f":"'2017'!N65","v":0},null,"City of Mechanicville ",{"$f":"IF(C62<>'2017'!B65,1,0)","v":0},{"$f":"IF(D62<>'2017'!C65,1,0)","v":0},{"$f":"IF(E62<>'2017'!D65,1,0)","v":0},{"$f":"IF(F62<>'2017'!E65,1,0)","v":0},{"$f":"IF(G62<>'2017'!F65,1,0)","v":0},{"$f":"IF(H62<>'2017'!G65,1,0)","v":0},{"$f":"IF(I62<>'2017'!H65,1,0)","v":0},{"$f":"IF(J62<>'2017'!I65,1,0)","v":0},{"$f":"IF(K62<>'2017'!J65,1,0)","v":0},{"$f":"IF(L62<>'2017'!K65,1,0)","v":0},{"$f":"IF(M62<>'2017'!L65,1,0)","v":0},{"$f":"IF(N62<>'2017'!M65,1,0)","v":0},{"$f":"IF(O62<>'2017'!N65,1,0)","v":0}]
[null,"Town of Milton ",{"$f":"'2017'!B66","v":0},{"$f":"'2017'!C66","v":0},{"$f":"'2017'!D66","v":0},{"$f":"'2017'!E66","v":0},{"$f":"'2017'!F66","v":""},{"$f":"'2017'!G66","v":0},{"$f":"'2017'!H66","v":0},{"$f":"'2017'!I66","v":""},{"$f":"'2017'!J66","v":0},{"$f":"'2017'!K66","v":0},{"$f":"'2017'!L66","v":0},{"$f":"'2017'!M66","v":""},{"$f":"'2017'!N66","v":0},null,"Town of Milton ",{"$f":"IF(C63<>'2017'!B66,1,0)","v":0},{"$f":"IF(D63<>'2017'!C66,1,0)","v":0},{"$f":"IF(E63<>'2017'!D66,1,0)","v":0},{"$f":"IF(F63<>'2017'!E66,1,0)","v":0},{"$f":"IF(G63<>'2017'!F66,1,0)","v":0},{"$f":"IF(H63<>'2017'!G66,1,0)","v":0},{"$f":"IF(I63<>'2017'!H66,1,0)","v":0},{"$f":"IF(J63<>'2017'!I66,1,0)","v":0},{"$f":"IF(K63<>'2017'!J66,1,0)","v":0},{"$f":"IF(L63<>'2017'!K66,1,0)","v":0},{"$f":"IF(M63<>'2017'!L66,1,0)","v":0},{"$f":"IF(N63<>'2017'!M66,1,0)","v":0},{"$f":"IF(O63<>'2017'!N66,1,0)","v":0}]
[null,"Village of Ballston Spa (part)",{"$f":"'2017'!B67","v":0},{"$f":"'2017'!C67","v":0},{"$f":"'2017'!D67","v":0},{"$f":"'2017'!E67","v":0},{"$f":"'2017'!F67","v":0},{"$f":"'2017'!G67","v":0},{"$f":"'2017'!H67","v":0},{"$f":"'2017'!I67","v":0},{"$f":"'2017'!J67","v":0},{"$f":"'2017'!K67","v":0},{"$f":"'2017'!L67","v":0},{"$f":"'2017'!M67","v":0},{"$f":"'2017'!N67","v":0},null,"Village of Ballston Spa (part)",{"$f":"IF(C64<>'2017'!B67,1,0)","v":0},{"$f":"IF(D64<>'2017'!C67,1,0)","v":0},{"$f":"IF(E64<>'2017'!D67,1,0)","v":0},{"$f":"IF(F64<>'2017'!E67,1,0)","v":0},{"$f":"IF(G64<>'2017'!F67,1,0)","v":0},{"$f":"IF(H64<>'2017'!G67,1,0)","v":0},{"$f":"IF(I64<>'2017'!H67,1,0)","v":0},{"$f":"IF(J64<>'2017'!I67,1,0)","v":0},{"$f":"IF(K64<>'2017'!J67,1,0)","v":0},{"$f":"IF(L64<>'2017'!K67,1,0)","v":0},{"$f":"IF(M64<>'2017'!L67,1,0)","v":0},{"$f":"IF(N64<>'2017'!M67,1,0)","v":0},{"$f":"IF(O64<>'2017'!N67,1,0)","v":0}]
[null,"Town of Moreau ",{"$f":"'2017'!B68","v":0},{"$f":"'2017'!C68","v":0},{"$f":"'2017'!D68","v":0},{"$f":"'2017'!E68","v":0},{"$f":"'2017'!F68","v":""},{"$f":"'2017'!G68","v":0},{"$f":"'2017'!H68","v":0},{"$f":"'2017'!I68","v":""},{"$f":"'2017'!J68","v":0},{"$f":"'2017'!K68","v":0},{"$f":"'2017'!L68","v":0},{"$f":"'2017'!M68","v":""},{"$f":"'2017'!N68","v":0},null,"Town of Moreau ",{"$f":"IF(C65<>'2017'!B68,1,0)","v":0},{"$f":"IF(D65<>'2017'!C68,1,0)","v":0},{"$f":"IF(E65<>'2017'!D68,1,0)","v":0},{"$f":"IF(F65<>'2017'!E68,1,0)","v":0},{"$f":"IF(G65<>'2017'!F68,1,0)","v":0},{"$f":"IF(H65<>'2017'!G68,1,0)","v":0},{"$f":"IF(I65<>'2017'!H68,1,0)","v":0},{"$f":"IF(J65<>'2017'!I68,1,0)","v":0},{"$f":"IF(K65<>'2017'!J68,1,0)","v":0},{"$f":"IF(L65<>'2017'!K68,1,0)","v":0},{"$f":"IF(M65<>'2017'!L68,1,0)","v":0},{"$f":"IF(N65<>'2017'!M68,1,0)","v":0},{"$f":"IF(O65<>'2017'!N68,1,0)","v":0}]
[null,"Village of South Glens Falls ",{"$f":"'2017'!B69","v":0},{"$f":"'2017'!C69","v":0},{"$f":"'2017'!D69","v":0},{"$f":"'2017'!E69","v":0},{"$f":"'2017'!F69","v":0},{"$f":"'2017'!G69","v":0},{"$f":"'2017'!H69","v":0},{"$f":"'2017'!I69","v":0},{"$f":"'2017'!J69","v":0},{"$f":"'2017'!K69","v":0},{"$f":"'2017'!L69","v":0},{"$f":"'2017'!M69","v":0},{"$f":"'2017'!N69","v":0},null,"Village of South Glens Falls ",{"$f":"IF(C66<>'2017'!B69,1,0)","v":0},{"$f":"IF(D66<>'2017'!C69,1,0)","v":0},{"$f":"IF(E66<>'2017'!D69,1,0)","v":0},{"$f":"IF(F66<>'2017'!E69,1,0)","v":0},{"$f":"IF(G66<>'2017'!F69,1,0)","v":0},{"$f":"IF(H66<>'2017'!G69,1,0)","v":0},{"$f":"IF(I66<>'2017'!H69,1,0)","v":0},{"$f":"IF(J66<>'2017'!I69,1,0)","v":0},{"$f":"IF(K66<>'2017'!J69,1,0)","v":0},{"$f":"IF(L66<>'2017'!K69,1,0)","v":0},{"$f":"IF(M66<>'2017'!L69,1,0)","v":0},{"$f":"IF(N66<>'2017'!M69,1,0)","v":0},{"$f":"IF(O66<>'2017'!N69,1,0)","v":0}]
[null,"Town of Northumberland ",{"$f":"'2017'!B70","v":0},{"$f":"'2017'!C70","v":0},{"$f":"'2017'!D70","v":0},{"$f":"'2017'!E70","v":0},{"$f":"'2017'!F70","v":""},{"$f":"'2017'!G70","v":0},{"$f":"'2017'!H70","v":0},{"$f":"'2017'!I70","v":""},{"$f":"'2017'!J70","v":0},{"$f":"'2017'!K70","v":0},{"$f":"'2017'!L70","v":0},{"$f":"'2017'!M70","v":""},{"$f":"'2017'!N70","v":0},null,"Town of Northumberland ",{"$f":"IF(C67<>'2017'!B70,1,0)","v":0},{"$f":"IF(D67<>'2017'!C70,1,0)","v":0},{"$f":"IF(E67<>'2017'!D70,1,0)","v":0},{"$f":"IF(F67<>'2017'!E70,1,0)","v":0},{"$f":"IF(G67<>'2017'!F70,1,0)","v":0},{"$f":"IF(H67<>'2017'!G70,1,0)","v":0},{"$f":"IF(I67<>'2017'!H70,1,0)","v":0},{"$f":"IF(J67<>'2017'!I70,1,0)","v":0},{"$f":"IF(K67<>'2017'!J70,1,0)","v":0},{"$f":"IF(L67<>'2017'!K70,1,0)","v":0},{"$f":"IF(M67<>'2017'!L70,1,0)","v":0},{"$f":"IF(N67<>'2017'!M70,1,0)","v":0},{"$f":"IF(O67<>'2017'!N70,1,0)","v":0}]
[null,"Town of Providence ",{"$f":"'2017'!B71","v":0},{"$f":"'2017'!C71","v":0},{"$f":"'2017'!D71","v":0},{"$f":"'2017'!E71","v":0},{"$f":"'2017'!F71","v":""},{"$f":"'2017'!G71","v":0},{"$f":"'2017'!H71","v":0},{"$f":"'2017'!I71","v":""},{"$f":"'2017'!J71","v":0},{"$f":"'2017'!K71","v":0},{"$f":"'2017'!L71","v":0},{"$f":"'2017'!M71","v":""},{"$f":"'2017'!N71","v":0},null,"Town of Providence ",{"$f":"IF(C68<>'2017'!B71,1,0)","v":0},{"$f":"IF(D68<>'2017'!C71,1,0)","v":0},{"$f":"IF(E68<>'2017'!D71,1,0)","v":0},{"$f":"IF(F68<>'2017'!E71,1,0)","v":0},{"$f":"IF(G68<>'2017'!F71,1,0)","v":0},{"$f":"IF(H68<>'2017'!G71,1,0)","v":0},{"$f":"IF(I68<>'2017'!H71,1,0)","v":0},{"$f":"IF(J68<>'2017'!I71,1,0)","v":0},{"$f":"IF(K68<>'2017'!J71,1,0)","v":0},{"$f":"IF(L68<>'2017'!K71,1,0)","v":0},{"$f":"IF(M68<>'2017'!L71,1,0)","v":0},{"$f":"IF(N68<>'2017'!M71,1,0)","v":0},{"$f":"IF(O68<>'2017'!N71,1,0)","v":0}]
[null,"Town of Saratoga ",{"$f":"'2017'!B72","v":0},{"$f":"'2017'!C72","v":0},{"$f":"'2017'!D72","v":0},{"$f":"'2017'!E72","v":0},{"$f":"'2017'!F72","v":""},{"$f":"'2017'!G72","v":0},{"$f":"'2017'!H72","v":0},{"$f":"'2017'!I72","v":""},{"$f":"'2017'!J72","v":0},{"$f":"'2017'!K72","v":0},{"$f":"'2017'!L72","v":0},{"$f":"'2017'!M72","v":""},{"$f":"'2017'!N72","v":0},null,{"$f":"B69","v":"Town of Saratoga "},{"$f":"IF(C69<>'2017'!B72,1,0)","v":0},{"$f":"IF(D69<>'2017'!C72,1,0)","v":0},{"$f":"IF(E69<>'2017'!D72,1,0)","v":0},{"$f":"IF(F69<>'2017'!E72,1,0)","v":0},{"$f":"IF(G69<>'2017'!F72,1,0)","v":0},{"$f":"IF(H69<>'2017'!G72,1,0)","v":0},{"$f":"IF(I69<>'2017'!H72,1,0)","v":0},{"$f":"IF(J69<>'2017'!I72,1,0)","v":0},{"$f":"IF(K69<>'2017'!J72,1,0)","v":0},{"$f":"IF(L69<>'2017'!K72,1,0)","v":0},{"$f":"IF(M69<>'2017'!L72,1,0)","v":0},{"$f":"IF(N69<>'2017'!M72,1,0)","v":0},{"$f":"IF(O69<>'2017'!N72,1,0)","v":0}]
[null,"Village of Schuylerville",{"$f":"'2017'!B73","v":0},{"$f":"'2017'!C73","v":0},{"$f":"'2017'!D73","v":0},{"$f":"'2017'!E73","v":0},{"$f":"'2017'!F73","v":0},{"$f":"'2017'!G73","v":0},{"$f":"'2017'!H73","v":0},{"$f":"'2017'!I73","v":0},{"$f":"'2017'!J73","v":0},{"$f":"'2017'!K73","v":0},{"$f":"'2017'!L73","v":0},{"$f":"'2017'!M73","v":0},{"$f":"'2017'!N73","v":0},null,"Village of Schuylerville",{"$f":"IF(C70<>'2017'!B73,1,0)","v":0},{"$f":"IF(D70<>'2017'!C73,1,0)","v":0},{"$f":"IF(E70<>'2017'!D73,1,0)","v":0},{"$f":"IF(F70<>'2017'!E73,1,0)","v":0},{"$f":"IF(G70<>'2017'!F73,1,0)","v":0},{"$f":"IF(H70<>'2017'!G73,1,0)","v":0},{"$f":"IF(I70<>'2017'!H73,1,0)","v":0},{"$f":"IF(J70<>'2017'!I73,1,0)","v":0},{"$f":"IF(K70<>'2017'!J73,1,0)","v":0},{"$f":"IF(L70<>'2017'!K73,1,0)","v":0},{"$f":"IF(M70<>'2017'!L73,1,0)","v":0},{"$f":"IF(N70<>'2017'!M73,1,0)","v":0},{"$f":"IF(O70<>'2017'!N73,1,0)","v":0}]
[null,"Village of Victory• ",{"$f":"'2017'!B74","v":0},{"$f":"'2017'!C74","v":0},"•",{"$f":"'2017'!E74","v":0},{"$f":"'2017'!F74","v":0},{"$f":"'2017'!G74","v":0},{"$f":"'2017'!H74","v":0},{"$f":"'2017'!I74","v":0},{"$f":"'2017'!J74","v":0},{"$f":"'2017'!K74","v":0},{"$f":"'2017'!L74","v":0},{"$f":"'2017'!M74","v":0},{"$f":"'2017'!N74","v":0},null,"Village of Victory• ",{"$f":"IF(C71<>'2017'!B74,1,0)","v":0},{"$f":"IF(D71<>'2017'!C74,1,0)","v":0},{"$f":"IF(E71<>'2017'!D74,1,0)","v":1},{"$f":"IF(F71<>'2017'!E74,1,0)","v":0},{"$f":"IF(G71<>'2017'!F74,1,0)","v":0},{"$f":"IF(H71<>'2017'!G74,1,0)","v":0},{"$f":"IF(I71<>'2017'!H74,1,0)","v":0},{"$f":"IF(J71<>'2017'!I74,1,0)","v":0},{"$f":"IF(K71<>'2017'!J74,1,0)","v":0},{"$f":"IF(L71<>'2017'!K74,1,0)","v":0},{"$f":"IF(M71<>'2017'!L74,1,0)","v":0},{"$f":"IF(N71<>'2017'!M74,1,0)","v":0},{"$f":"IF(O71<>'2017'!N74,1,0)","v":0}]
[null,"City of Saratoga Springs ",{"$f":"'2017'!B75","v":0},{"$f":"'2017'!C75","v":0},{"$f":"'2017'!D75","v":0},{"$f":"'2017'!E75","v":0},{"$f":"'2017'!F75","v":0},{"$f":"'2017'!G75","v":0},{"$f":"'2017'!H75","v":0},{"$f":"'2017'!I75","v":0},{"$f":"'2017'!J75","v":0},{"$f":"'2017'!K75","v":0},{"$f":"'2017'!L75","v":0},{"$f":"'2017'!M75","v":0},{"$f":"'2017'!N75","v":0},null,"City of Saratoga Springs ",{"$f":"IF(C72<>'2017'!B75,1,0)","v":0},{"$f":"IF(D72<>'2017'!C75,1,0)","v":0},{"$f":"IF(E72<>'2017'!D75,1,0)","v":0},{"$f":"IF(F72<>'2017'!E75,1,0)","v":0},{"$f":"IF(G72<>'2017'!F75,1,0)","v":0},{"$f":"IF(H72<>'2017'!G75,1,0)","v":0},{"$f":"IF(I72<>'2017'!H75,1,0)","v":0},{"$f":"IF(J72<>'2017'!I75,1,0)","v":0},{"$f":"IF(K72<>'2017'!J75,1,0)","v":0},{"$f":"IF(L72<>'2017'!K75,1,0)","v":0},{"$f":"IF(M72<>'2017'!L75,1,0)","v":0},{"$f":"IF(N72<>'2017'!M75,1,0)","v":0},{"$f":"IF(O72<>'2017'!N75,1,0)","v":0}]
[null,"Town of Stillwater ",{"$f":"'2017'!B76","v":0},{"$f":"'2017'!C76","v":0},{"$f":"'2017'!D76","v":0},{"$f":"'2017'!E76","v":0},{"$f":"'2017'!F76","v":""},{"$f":"'2017'!G76","v":0},{"$f":"'2017'!H76","v":0},{"$f":"'2017'!I76","v":""},{"$f":"'2017'!J76","v":0},{"$f":"'2017'!K76","v":0},{"$f":"'2017'!L76","v":0},{"$f":"'2017'!M76","v":""},{"$f":"'2017'!N76","v":0},null,"Town of Stillwater ",{"$f":"IF(C73<>'2017'!B76,1,0)","v":0},{"$f":"IF(D73<>'2017'!C76,1,0)","v":0},{"$f":"IF(E73<>'2017'!D76,1,0)","v":0},{"$f":"IF(F73<>'2017'!E76,1,0)","v":0},{"$f":"IF(G73<>'2017'!F76,1,0)","v":0},{"$f":"IF(H73<>'2017'!G76,1,0)","v":0},{"$f":"IF(I73<>'2017'!H76,1,0)","v":0},{"$f":"IF(J73<>'2017'!I76,1,0)","v":0},{"$f":"IF(K73<>'2017'!J76,1,0)","v":0},{"$f":"IF(L73<>'2017'!K76,1,0)","v":0},{"$f":"IF(M73<>'2017'!L76,1,0)","v":0},{"$f":"IF(N73<>'2017'!M76,1,0)","v":0},{"$f":"IF(O73<>'2017'!N76,1,0)","v":0}]
[null,"Village of Stillwater ",{"$f":"'2017'!B77","v":0},{"$f":"'2017'!C77","v":0},{"$f":"'2017'!D77","v":0},{"$f":"'2017'!E77","v":0},{"$f":"'2017'!F77","v":0},{"$f":"'2017'!G77","v":0},{"$f":"'2017'!H77","v":0},{"$f":"'2017'!I77","v":0},{"$f":"'2017'!J77","v":0},{"$f":"'2017'!K77","v":0},{"$f":"'2017'!L77","v":0},{"$f":"'2017'!M77","v":0},{"$f":"'2017'!N77","v":0},null,"Village of Stillwater ",{"$f":"IF(C74<>'2017'!B77,1,0)","v":0},{"$f":"IF(D74<>'2017'!C77,1,0)","v":0},{"$f":"IF(E74<>'2017'!D77,1,0)","v":0},{"$f":"IF(F74<>'2017'!E77,1,0)","v":0},{"$f":"IF(G74<>'2017'!F77,1,0)","v":0},{"$f":"IF(H74<>'2017'!G77,1,0)","v":0},{"$f":"IF(I74<>'2017'!H77,1,0)","v":0},{"$f":"IF(J74<>'2017'!I77,1,0)","v":0},{"$f":"IF(K74<>'2017'!J77,1,0)","v":0},{"$f":"IF(L74<>'2017'!K77,1,0)","v":0},{"$f":"IF(M74<>'2017'!L77,1,0)","v":0},{"$f":"IF(N74<>'2017'!M77,1,0)","v":0},{"$f":"IF(O74<>'2017'!N77,1,0)","v":0}]
[null,"Town of Waterford ",{"$f":"'2017'!B78","v":0},{"$f":"'2017'!C78","v":0},{"$f":"'2017'!D78","v":0},{"$f":"'2017'!E78","v":0},{"$f":"'2017'!F78","v":""},{"$f":"'2017'!G78","v":0},{"$f":"'2017'!H78","v":0},{"$f":"'2017'!I78","v":""},{"$f":"'2017'!J78","v":0},{"$f":"'2017'!K78","v":0},{"$f":"'2017'!L78","v":0},{"$f":"'2017'!M78","v":""},{"$f":"'2017'!N78","v":0},null,"Town of Waterford ",{"$f":"IF(C75<>'2017'!B78,1,0)","v":0},{"$f":"IF(D75<>'2017'!C78,1,0)","v":0},{"$f":"IF(E75<>'2017'!D78,1,0)","v":0},{"$f":"IF(F75<>'2017'!E78,1,0)","v":0},{"$f":"IF(G75<>'2017'!F78,1,0)","v":0},{"$f":"IF(H75<>'2017'!G78,1,0)","v":0},{"$f":"IF(I75<>'2017'!H78,1,0)","v":0},{"$f":"IF(J75<>'2017'!I78,1,0)","v":0},{"$f":"IF(K75<>'2017'!J78,1,0)","v":0},{"$f":"IF(L75<>'2017'!K78,1,0)","v":0},{"$f":"IF(M75<>'2017'!L78,1,0)","v":0},{"$f":"IF(N75<>'2017'!M78,1,0)","v":0},{"$f":"IF(O75<>'2017'!N78,1,0)","v":0}]
[null,"Village of Waterford ",{"$f":"'2017'!B79","v":0},{"$f":"'2017'!C79","v":0},{"$f":"'2017'!D79","v":0},{"$f":"'2017'!E79","v":0},{"$f":"'2017'!F79","v":0},{"$f":"'2017'!G79","v":0},{"$f":"'2017'!H79","v":0},{"$f":"'2017'!I79","v":0},{"$f":"'2017'!J79","v":0},{"$f":"'2017'!K79","v":0},{"$f":"'2017'!L79","v":0},{"$f":"'2017'!M79","v":0},{"$f":"'2017'!N79","v":0},null,"Village of Waterford ",{"$f":"IF(C76<>'2017'!B79,1,0)","v":0},{"$f":"IF(D76<>'2017'!C79,1,0)","v":0},{"$f":"IF(E76<>'2017'!D79,1,0)","v":0},{"$f":"IF(F76<>'2017'!E79,1,0)","v":0},{"$f":"IF(G76<>'2017'!F79,1,0)","v":0},{"$f":"IF(H76<>'2017'!G79,1,0)","v":0},{"$f":"IF(I76<>'2017'!H79,1,0)","v":0},{"$f":"IF(J76<>'2017'!I79,1,0)","v":0},{"$f":"IF(K76<>'2017'!J79,1,0)","v":0},{"$f":"IF(L76<>'2017'!K79,1,0)","v":0},{"$f":"IF(M76<>'2017'!L79,1,0)","v":0},{"$f":"IF(N76<>'2017'!M79,1,0)","v":0},{"$f":"IF(O76<>'2017'!N79,1,0)","v":0}]
[null,"Town of Wilton ",{"$f":"'2017'!B80","v":0},{"$f":"'2017'!C80","v":0},{"$f":"'2017'!D80","v":0},{"$f":"'2017'!E80","v":0},{"$f":"'2017'!F80","v":""},{"$f":"'2017'!G80","v":0},{"$f":"'2017'!H80","v":0},{"$f":"'2017'!I80","v":""},{"$f":"'2017'!J80","v":0},{"$f":"'2017'!K80","v":0},{"$f":"'2017'!L80","v":0},{"$f":"'2017'!M80","v":""},{"$f":"'2017'!N80","v":0},null,"Town of Wilton ",{"$f":"IF(C77<>'2017'!B80,1,0)","v":0},{"$f":"IF(D77<>'2017'!C80,1,0)","v":0},{"$f":"IF(E77<>'2017'!D80,1,0)","v":0},{"$f":"IF(F77<>'2017'!E80,1,0)","v":0},{"$f":"IF(G77<>'2017'!F80,1,0)","v":0},{"$f":"IF(H77<>'2017'!G80,1,0)","v":0},{"$f":"IF(I77<>'2017'!H80,1,0)","v":0},{"$f":"IF(J77<>'2017'!I80,1,0)","v":0},{"$f":"IF(K77<>'2017'!J80,1,0)","v":0},{"$f":"IF(L77<>'2017'!K80,1,0)","v":0},{"$f":"IF(M77<>'2017'!L80,1,0)","v":0},{"$f":"IF(N77<>'2017'!M80,1,0)","v":0},{"$f":"IF(O77<>'2017'!N80,1,0)","v":0}]
[null,"Town of Duanesburg ",{"$f":"'2017'!B82","v":0},{"$f":"'2017'!C82","v":0},{"$f":"'2017'!D82","v":0},{"$f":"'2017'!E82","v":0},{"$f":"'2017'!F82","v":""},{"$f":"'2017'!G82","v":0},{"$f":"'2017'!H82","v":0},{"$f":"'2017'!I82","v":""},{"$f":"'2017'!J82","v":0},{"$f":"'2017'!K82","v":0},{"$f":"'2017'!L82","v":0},{"$f":"'2017'!M82","v":""},{"$f":"'2017'!N82","v":0},null,"Town of Duanesburg ",{"$f":"IF(C78<>'2017'!B82,1,0)","v":0},{"$f":"IF(D78<>'2017'!C82,1,0)","v":0},{"$f":"IF(E78<>'2017'!D82,1,0)","v":0},{"$f":"IF(F78<>'2017'!E82,1,0)","v":0},{"$f":"IF(G78<>'2017'!F82,1,0)","v":0},{"$f":"IF(H78<>'2017'!G82,1,0)","v":0},{"$f":"IF(I78<>'2017'!H82,1,0)","v":0},{"$f":"IF(J78<>'2017'!I82,1,0)","v":0},{"$f":"IF(K78<>'2017'!J82,1,0)","v":0},{"$f":"IF(L78<>'2017'!K82,1,0)","v":0},{"$f":"IF(M78<>'2017'!L82,1,0)","v":0},{"$f":"IF(N78<>'2017'!M82,1,0)","v":0},{"$f":"IF(O78<>'2017'!N82,1,0)","v":0}]
[null,"Village of Delanson ",{"$f":"'2017'!B83","v":0},{"$f":"'2017'!C83","v":0},{"$f":"'2017'!D83","v":0},{"$f":"'2017'!E83","v":0},{"$f":"'2017'!F83","v":0},{"$f":"'2017'!G83","v":0},{"$f":"'2017'!H83","v":0},{"$f":"'2017'!I83","v":0},{"$f":"'2017'!J83","v":0},{"$f":"'2017'!K83","v":0},{"$f":"'2017'!L83","v":0},{"$f":"'2017'!M83","v":0},{"$f":"'2017'!N83","v":0},null,"Village of Delanson ",{"$f":"IF(C79<>'2017'!B83,1,0)","v":0},{"$f":"IF(D79<>'2017'!C83,1,0)","v":0},{"$f":"IF(E79<>'2017'!D83,1,0)","v":0},{"$f":"IF(F79<>'2017'!E83,1,0)","v":0},{"$f":"IF(G79<>'2017'!F83,1,0)","v":0},{"$f":"IF(H79<>'2017'!G83,1,0)","v":0},{"$f":"IF(I79<>'2017'!H83,1,0)","v":0},{"$f":"IF(J79<>'2017'!I83,1,0)","v":0},{"$f":"IF(K79<>'2017'!J83,1,0)","v":0},{"$f":"IF(L79<>'2017'!K83,1,0)","v":0},{"$f":"IF(M79<>'2017'!L83,1,0)","v":0},{"$f":"IF(N79<>'2017'!M83,1,0)","v":0},{"$f":"IF(O79<>'2017'!N83,1,0)","v":0}]
[null,"Town of Glenville ",{"$f":"'2017'!B84","v":0},{"$f":"'2017'!C84","v":0},{"$f":"'2017'!D84","v":0},{"$f":"'2017'!E84","v":0},{"$f":"'2017'!F84","v":""},{"$f":"'2017'!G84","v":0},{"$f":"'2017'!H84","v":0},{"$f":"'2017'!I84","v":""},{"$f":"'2017'!J84","v":0},{"$f":"'2017'!K84","v":0},{"$f":"'2017'!L84","v":0},{"$f":"'2017'!M84","v":""},{"$f":"'2017'!N84","v":0},null,"Town of Glenville ",{"$f":"IF(C80<>'2017'!B84,1,0)","v":0},{"$f":"IF(D80<>'2017'!C84,1,0)","v":0},{"$f":"IF(E80<>'2017'!D84,1,0)","v":0},{"$f":"IF(F80<>'2017'!E84,1,0)","v":0},{"$f":"IF(G80<>'2017'!F84,1,0)","v":0},{"$f":"IF(H80<>'2017'!G84,1,0)","v":0},{"$f":"IF(I80<>'2017'!H84,1,0)","v":0},{"$f":"IF(J80<>'2017'!I84,1,0)","v":0},{"$f":"IF(K80<>'2017'!J84,1,0)","v":0},{"$f":"IF(L80<>'2017'!K84,1,0)","v":0},{"$f":"IF(M80<>'2017'!L84,1,0)","v":0},{"$f":"IF(N80<>'2017'!M84,1,0)","v":0},{"$f":"IF(O80<>'2017'!N84,1,0)","v":0}]
[null,"Village of Scotia ",{"$f":"'2017'!B85","v":0},{"$f":"'2017'!C85","v":0},{"$f":"'2017'!D85","v":0},{"$f":"'2017'!E85","v":0},{"$f":"'2017'!F85","v":0},{"$f":"'2017'!G85","v":0},{"$f":"'2017'!H85","v":0},{"$f":"'2017'!I85","v":0},{"$f":"'2017'!J85","v":0},{"$f":"'2017'!K85","v":0},{"$f":"'2017'!L85","v":0},{"$f":"'2017'!M85","v":0},{"$f":"'2017'!N85","v":0},null,"Village of Scotia ",{"$f":"IF(C81<>'2017'!B85,1,0)","v":0},{"$f":"IF(D81<>'2017'!C85,1,0)","v":0},{"$f":"IF(E81<>'2017'!D85,1,0)","v":0},{"$f":"IF(F81<>'2017'!E85,1,0)","v":0},{"$f":"IF(G81<>'2017'!F85,1,0)","v":0},{"$f":"IF(H81<>'2017'!G85,1,0)","v":0},{"$f":"IF(I81<>'2017'!H85,1,0)","v":0},{"$f":"IF(J81<>'2017'!I85,1,0)","v":0},{"$f":"IF(K81<>'2017'!J85,1,0)","v":0},{"$f":"IF(L81<>'2017'!K85,1,0)","v":0},{"$f":"IF(M81<>'2017'!L85,1,0)","v":0},{"$f":"IF(N81<>'2017'!M85,1,0)","v":0},{"$f":"IF(O81<>'2017'!N85,1,0)","v":0}]
[null,"Town of Niskayuna ",{"$f":"'2017'!B86","v":0},{"$f":"'2017'!C86","v":0},{"$f":"'2017'!D86","v":0},{"$f":"'2017'!E86","v":0},{"$f":"'2017'!F86","v":""},{"$f":"'2017'!G86","v":0},{"$f":"'2017'!H86","v":0},{"$f":"'2017'!I86","v":""},{"$f":"'2017'!J86","v":0},{"$f":"'2017'!K86","v":0},{"$f":"'2017'!L86","v":0},{"$f":"'2017'!M86","v":""},{"$f":"'2017'!N86","v":0},null,"Town of Niskayuna ",{"$f":"IF(C82<>'2017'!B86,1,0)","v":0},{"$f":"IF(D82<>'2017'!C86,1,0)","v":0},{"$f":"IF(E82<>'2017'!D86,1,0)","v":0},{"$f":"IF(F82<>'2017'!E86,1,0)","v":0},{"$f":"IF(G82<>'2017'!F86,1,0)","v":0},{"$f":"IF(H82<>'2017'!G86,1,0)","v":0},{"$f":"IF(I82<>'2017'!H86,1,0)","v":0},{"$f":"IF(J82<>'2017'!I86,1,0)","v":0},{"$f":"IF(K82<>'2017'!J86,1,0)","v":0},{"$f":"IF(L82<>'2017'!K86,1,0)","v":0},{"$f":"IF(M82<>'2017'!L86,1,0)","v":0},{"$f":"IF(N82<>'2017'!M86,1,0)","v":0},{"$f":"IF(O82<>'2017'!N86,1,0)","v":0}]
[null,"Town of Princetown ",{"$f":"'2017'!B87","v":0},{"$f":"'2017'!C87","v":0},{"$f":"'2017'!D87","v":0},{"$f":"'2017'!E87","v":0},{"$f":"'2017'!F87","v":""},{"$f":"'2017'!G87","v":0},{"$f":"'2017'!H87","v":0},{"$f":"'2017'!I87","v":""},{"$f":"'2017'!J87","v":0},{"$f":"'2017'!K87","v":0},{"$f":"'2017'!L87","v":0},{"$f":"'2017'!M87","v":""},{"$f":"'2017'!N87","v":0},null,"Town of Princetown ",{"$f":"IF(C83<>'2017'!B87,1,0)","v":0},{"$f":"IF(D83<>'2017'!C87,1,0)","v":0},{"$f":"IF(E83<>'2017'!D87,1,0)","v":0},{"$f":"IF(F83<>'2017'!E87,1,0)","v":0},{"$f":"IF(G83<>'2017'!F87,1,0)","v":0},{"$f":"IF(H83<>'2017'!G87,1,0)","v":0},{"$f":"IF(I83<>'2017'!H87,1,0)","v":0},{"$f":"IF(J83<>'2017'!I87,1,0)","v":0},{"$f":"IF(K83<>'2017'!J87,1,0)","v":0},{"$f":"IF(L83<>'2017'!K87,1,0)","v":0},{"$f":"IF(M83<>'2017'!L87,1,0)","v":0},{"$f":"IF(N83<>'2017'!M87,1,0)","v":0},{"$f":"IF(O83<>'2017'!N87,1,0)","v":0}]
[null,"Town of Rotterdam ",{"$f":"'2017'!B88","v":0},{"$f":"'2017'!C88","v":0},{"$f":"'2017'!D88","v":0},{"$f":"'2017'!E88","v":0},{"$f":"'2017'!F88","v":""},{"$f":"'2017'!G88","v":0},{"$f":"'2017'!H88","v":0},{"$f":"'2017'!I88","v":""},{"$f":"'2017'!J88","v":0},{"$f":"'2017'!K88","v":0},{"$f":"'2017'!L88","v":0},{"$f":"'2017'!M88","v":""},{"$f":"'2017'!N88","v":0},null,"Town of Rotterdam ",{"$f":"IF(C84<>'2017'!B88,1,0)","v":0},{"$f":"IF(D84<>'2017'!C88,1,0)","v":0},{"$f":"IF(E84<>'2017'!D88,1,0)","v":0},{"$f":"IF(F84<>'2017'!E88,1,0)","v":0},{"$f":"IF(G84<>'2017'!F88,1,0)","v":0},{"$f":"IF(H84<>'2017'!G88,1,0)","v":0},{"$f":"IF(I84<>'2017'!H88,1,0)","v":0},{"$f":"IF(J84<>'2017'!I88,1,0)","v":0},{"$f":"IF(K84<>'2017'!J88,1,0)","v":0},{"$f":"IF(L84<>'2017'!K88,1,0)","v":0},{"$f":"IF(M84<>'2017'!L88,1,0)","v":0},{"$f":"IF(N84<>'2017'!M88,1,0)","v":0},{"$f":"IF(O84<>'2017'!N88,1,0)","v":0}]
[null,"City of Schenectady ",{"$f":"'2017'!B89","v":0},{"$f":"'2017'!C89","v":0},{"$f":"'2017'!D89","v":0},{"$f":"'2017'!E89","v":0},{"$f":"'2017'!F89","v":0},{"$f":"'2017'!G89","v":0},{"$f":"'2017'!H89","v":0},{"$f":"'2017'!I89","v":0},{"$f":"'2017'!J89","v":0},{"$f":"'2017'!K89","v":0},{"$f":"'2017'!L89","v":0},{"$f":"'2017'!M89","v":0},{"$f":"'2017'!N89","v":0},null,"City of Schenectady ",{"$f":"IF(C85<>'2017'!B89,1,0)","v":0},{"$f":"IF(D85<>'2017'!C89,1,0)","v":0},{"$f":"IF(E85<>'2017'!D89,1,0)","v":0},{"$f":"IF(F85<>'2017'!E89,1,0)","v":0},{"$f":"IF(G85<>'2017'!F89,1,0)","v":0},{"$f":"IF(H85<>'2017'!G89,1,0)","v":0},{"$f":"IF(I85<>'2017'!H89,1,0)","v":0},{"$f":"IF(J85<>'2017'!I89,1,0)","v":0},{"$f":"IF(K85<>'2017'!J89,1,0)","v":0},{"$f":"IF(L85<>'2017'!K89,1,0)","v":0},{"$f":"IF(M85<>'2017'!L89,1,0)","v":0},{"$f":"IF(N85<>'2017'!M89,1,0)","v":0},{"$f":"IF(O85<>'2017'!N89,1,0)","v":0}]
[" •","Village did not submit the village property tax rate in time for inclusion in the Comptroller's Report.                "]

{"sheet":"DN_Chart_Data12","index":7,"n_rows":86,"n_cols":4,"rows_kept":86,"cut":false,"hidden":false,"merged":[]}
[null,{"$f":"LEFT(DN_Table12!C2,4)&\" \"&DN_Table12!M2","v":"2017 Total Overall"}]
[null,"Full Value Range:"]
["City, Town, or Village","Rate per $1,000"]
["City of Albany",{"$f":"DN_Table12!M5","v":40.700000000000003},{"$f":"IF(OR(D4=0,(D4-B4)<0.3),0.3,D4-B4)","v":0.3},{"$f":"DN_Table12!O5","v":0}]
["Town of Berne",{"$f":"DN_Table12!M6","v":26.57},1.9399999999999977,{"$f":"DN_Table12!O6","v":28.509999999999998}]
["Town of Bethlehem",{"$f":"DN_Table12!M7","v":0},0.3,{"$f":"DN_Table12!O7","v":0}]
["Town of Coeymans",{"$f":"DN_Table12!M8","v":0},0.3,{"$f":"DN_Table12!O8","v":0}]
["Village of Ravena",{"$f":"DN_Table12!M9","v":0},0.3,{"$f":"DN_Table12!O9","v":0}]
["City of Cohoes",{"$f":"DN_Table12!M10","v":0},0.3,{"$f":"DN_Table12!O10","v":0}]
["Town of Colonie",{"$f":"DN_Table12!M11","v":0},0.3,{"$f":"DN_Table12!O11","v":0}]
["Village of Colonie",{"$f":"DN_Table12!M12","v":0},0.3,{"$f":"DN_Table12!O12","v":0}]
["Village of Menands",{"$f":"DN_Table12!M13","v":0},0.3,{"$f":"DN_Table12!O13","v":0}]
["Town/Village of Green Island",{"$f":"DN_Table12!M14","v":0},0.3,{"$f":"DN_Table12!O14","v":0}]
["Town of Guilderland",{"$f":"DN_Table12!M15","v":0},0.3,{"$f":"DN_Table12!O15","v":0}]
["Village of Altamont",{"$f":"DN_Table12!M16","v":0},0.3,{"$f":"DN_Table12!O16","v":0}]
["Town of Knox",{"$f":"DN_Table12!M17","v":0},0.3,{"$f":"DN_Table12!O17","v":0}]
["Town of New Scotland",{"$f":"DN_Table12!M18","v":0},0.3,{"$f":"DN_Table12!O18","v":0}]
["Village of Voorheesville",{"$f":"DN_Table12!M19","v":0},0.3,{"$f":"DN_Table12!O19","v":0}]
["Town of Rensselaerville",{"$f":"DN_Table12!M20","v":0},0.3,{"$f":"DN_Table12!O20","v":0}]
["City of Watervliet",{"$f":"DN_Table12!M21","v":0},0.3,{"$f":"DN_Table12!O21","v":0}]
["Town of Westerlo",{"$f":"DN_Table12!M22","v":0},0.3,{"$f":"DN_Table12!O22","v":0}]
["Town of Berlin",{"$f":"DN_Table12!M23","v":0},0.3,{"$f":"DN_Table12!O23","v":0}]
["Town of Brunswick",{"$f":"DN_Table12!M24","v":0},0.3,{"$f":"DN_Table12!O24","v":0}]
["Town of East Greenbush",{"$f":"DN_Table12!M25","v":0},0.3,{"$f":"DN_Table12!O25","v":0}]
["Town of Grafton",{"$f":"DN_Table12!M26","v":0},0.3,{"$f":"DN_Table12!O26","v":0}]
["Town of Hoosick",{"$f":"DN_Table12!M27","v":0},0.3,{"$f":"DN_Table12!O27","v":0}]
["Village of Hoosick Falls",{"$f":"DN_Table12!M28","v":0},0.3,{"$f":"DN_Table12!O28","v":0}]
["Town of Nassau",{"$f":"DN_Table12!M29","v":0},0.3,{"$f":"DN_Table12!O29","v":0}]
["Village of East Nassau",{"$f":"DN_Table12!M30","v":0},0.3,{"$f":"DN_Table12!O30","v":0}]
["Village of Nassau (part)",{"$f":"DN_Table12!M31","v":0},0.3,{"$f":"DN_Table12!O31","v":0}]
["Town of North Greenbush",{"$f":"DN_Table12!M32","v":0},0.3,{"$f":"DN_Table12!O32","v":0}]
["Town of Petersburgh",{"$f":"DN_Table12!M33","v":0},0.3,{"$f":"DN_Table12!O33","v":0}]
["Town of Pittstown",{"$f":"DN_Table12!M34","v":0},0.3,{"$f":"DN_Table12!O34","v":0}]
["Village of Valley Falls (part)",{"$f":"DN_Table12!M35","v":0},0.3,{"$f":"DN_Table12!O35","v":0}]
["Town of Poestenkill",{"$f":"DN_Table12!M36","v":0},0.3,{"$f":"DN_Table12!O36","v":0}]
["City of Rensselaer",{"$f":"DN_Table12!M37","v":0},0.3,{"$f":"DN_Table12!O37","v":0}]
["Town of Sand Lake",{"$f":"DN_Table12!M38","v":0},0.3,{"$f":"DN_Table12!O38","v":0}]
["Town of Schaghticoke",{"$f":"DN_Table12!M39","v":0},0.3,{"$f":"DN_Table12!O39","v":0}]
["Village of Schaghticoke",{"$f":"DN_Table12!M40","v":0},0.3,{"$f":"DN_Table12!O40","v":0}]
["Village of Valley Falls (part)",{"$f":"DN_Table12!M41","v":0},0.3,{"$f":"DN_Table12!O41","v":0}]
["Town of Schodack",{"$f":"DN_Table12!M42","v":0},0.3,{"$f":"DN_Table12!O42","v":0}]
["Village of Castleton-on-Hudson",{"$f":"DN_Table12!M43","v":0},0.3,{"$f":"DN_Table12!O43","v":0}]
["Village of Nassau (part)",{"$f":"DN_Table12!M44","v":0},0.3,{"$f":"DN_Table12!O44","v":0}]
["Town of Stephentown",{"$f":"DN_Table12!M45","v":0},0.3,{"$f":"DN_Table12!O45","v":0}]
["City of Troy",{"$f":"DN_Table12!M46","v":0},0.3,{"$f":"DN_Table12!O46","v":0}]
["Town of Ballston",{"$f":"DN_Table12!M47","v":0},0.3,{"$f":"DN_Table12!O47","v":0}]
["Village of Ballston Spa (part)",{"$f":"DN_Table12!M48","v":0},0.3,{"$f":"DN_Table12!O48","v":0}]
["Town of Charlton",{"$f":"DN_Table12!M49","v":0},0.3,{"$f":"DN_Table12!O49","v":0}]
["Town of Clifton Park",{"$f":"DN_Table12!M50","v":0},0.3,{"$f":"DN_Table12!O50","v":0}]
["Town of Corinth",{"$f":"DN_Table12!M51","v":0},0.3,{"$f":"DN_Table12!O51","v":0}]
["Village of Corinth",{"$f":"DN_Table12!M52","v":0},0.3,{"$f":"DN_Table12!O52","v":0}]
["Town of Day",{"$f":"DN_Table12!M53","v":0},0.3,{"$f":"DN_Table12!O53","v":0}]
["Town of Edinburg",{"$f":"DN_Table12!M54","v":0},0.3,{"$f":"DN_Table12!O54","v":0}]
["Town of Galway",{"$f":"DN_Table12!M55","v":0},0.3,{"$f":"DN_Table12!O55","v":0}]
["Village of Galway",{"$f":"DN_Table12!M56","v":0},0.3,{"$f":"DN_Table12!O56","v":0}]
["Town of Greenfield",{"$f":"DN_Table12!M57","v":0},0.3,{"$f":"DN_Table12!O57","v":0}]
["Town of Hadley",{"$f":"DN_Table12!M58","v":0},0.3,{"$f":"DN_Table12!O58","v":0}]
["Town of Halfmoon",{"$f":"DN_Table12!M59","v":0},0.3,{"$f":"DN_Table12!O59","v":0}]
["Town of Malta",{"$f":"DN_Table12!M60","v":0},0.3,{"$f":"DN_Table12!O60","v":0}]
["Village of Round Lake",{"$f":"DN_Table12!M61","v":0},0.3,{"$f":"DN_Table12!O61","v":0}]
["City of Mechanicville",{"$f":"DN_Table12!M62","v":0},0.3,{"$f":"DN_Table12!O62","v":0}]
["Town of Milton",{"$f":"DN_Table12!M63","v":0},0.3,{"$f":"DN_Table12!O63","v":0}]
["Village of Ballston Spa (part)",{"$f":"DN_Table12!M64","v":0},0.3,{"$f":"DN_Table12!O64","v":0}]
["Town of Moreau",{"$f":"DN_Table12!M65","v":0},0.3,{"$f":"DN_Table12!O65","v":0}]
["Village of South Glens Falls",{"$f":"DN_Table12!M66","v":0},0.3,{"$f":"DN_Table12!O66","v":0}]
["Town of Northumberland",{"$f":"DN_Table12!M67","v":0},0.3,{"$f":"DN_Table12!O67","v":0}]
["Town of Providence",{"$f":"DN_Table12!M68","v":0},0.3,{"$f":"DN_Table12!O68","v":0}]
["Town of Saratoga",{"$f":"DN_Table12!M69","v":0},{"$f":"IF(OR(D68=0,(D68-B68)<0.3),0.3,D68-B68)","v":0.3},{"$f":"DN_Table12!O69","v":0}]
["Village of Schuylerville",{"$f":"DN_Table12!M70","v":0},0.3,{"$f":"DN_Table12!O70","v":0}]
["Village of Victory",{"$f":"DN_Table12!M71","v":0},0.3,{"$f":"DN_Table12!O71","v":0}]
["City of Saratoga Springs",{"$f":"DN_Table12!M72","v":0},0.3,{"$f":"DN_Table12!O72","v":0}]
["Town of Stillwater",{"$f":"DN_Table12!M73","v":0},0.3,{"$f":"DN_Table12!O73","v":0}]
["Village of Stillwater",{"$f":"DN_Table12!M74","v":0},0.3,{"$f":"DN_Table12!O74","v":0}]
["Town of Waterford",{"$f":"DN_Table12!M75","v":0},0.3,{"$f":"DN_Table12!O75","v":0}]
["Village of Waterford",{"$f":"DN_Table12!M76","v":0},0.3,{"$f":"DN_Table12!O76","v":0}]
["Town of Wilton",{"$f":"DN_Table12!M77","v":0},0.3,{"$f":"DN_Table12!O77","v":0}]
["Town of Duanesburg",{"$f":"DN_Table12!M78","v":0},0.3,{"$f":"DN_Table12!O78","v":0}]
["Village of Delanson",{"$f":"DN_Table12!M79","v":0},0.3,{"$f":"DN_Table12!O79","v":0}]
["Town of Glenville",{"$f":"DN_Table12!M80","v":0},0.3,{"$f":"DN_Table12!O80","v":0}]
["Village of Scotia",{"$f":"DN_Table12!M81","v":0},0.3,{"$f":"DN_Table12!O81","v":0}]
["Town of Niskayuna",{"$f":"DN_Table12!M82","v":0},0.3,{"$f":"DN_Table12!O82","v":0}]
["Town of Princetown",{"$f":"DN_Table12!M83","v":0},0.3,{"$f":"DN_Table12!O83","v":0}]
["Town of Rotterdam",{"$f":"DN_Table12!M84","v":0},0.3,{"$f":"DN_Table12!O84","v":0}]
["City of Schenectady",{"$f":"DN_Table12!M85","v":0},0.3,{"$f":"DN_Table12!O85","v":0}]
["Minimum",{"$f":"MIN(B4:B84)","v":0},null,{"$f":"MIN(D4:D84)","v":0}]
["Maximum",{"$f":"MAX(B4:B84)","v":40.700000000000003},null,{"$f":"MAX(D4:D84)","v":28.509999999999998}]

{"sheet":"CFS 12","index":10,"n_rows":85,"n_cols":10,"rows_kept":85,"cut":false,"hidden":false,"merged":[]}
[{"$f":"LEFT('2017'!B1,4)&\" Real Property Tax Rates\"","v":"2017 Real Property Tax Rates"},"Total Overall Range",null,null,"Full Value Range",null,null,"Total Overall Range","Full Value Range:","Equal."]
[{"$f":"LEFT('2017'!B1,4)&\" Tax Rates per $1,000\"","v":"2017 Tax Rates per $1,000"},"Rate per $1,000",null,null,"Rate per $1,000",null,null,"Rate per $1,000","Rate per $1,000","Rate"]
["Albany County",{"$f":"'2017'!H4","v":0},{"$f":"'2017'!I4","v":""},{"$f":"'2017'!J4","v":0},{"$f":"'2017'!L4","v":0},{"$f":"'2017'!M4","v":"to"},{"$f":"'2017'!N4","v":40.700000000000003},{"$f":"CLEAN(TEXT(B3,\"$#,##0.00\")&\" \"&C3&\" \"&IF(D3<>\"\",TEXT(D3,\"$#,##0.00\"),\"\"))","v":"$0.00  $0.00"},{"$f":"CLEAN(TEXT(E3,\"$#,##0.00\")&\" \"&F3&\" \"&IF(G3<>\"\",TEXT(G3,\"$#,##0.00\"),\"\"))","v":"$0.00 to $40.70"},"Not Applicable"]
["City of Albany",{"$f":"'2017'!H5","v":0},"",null,{"$f":"'2017'!L5","v":40.700000000000003},"",null,"$0.00  ","$40.70  ",{"$f":"'2017'!K5","v":0}]
["Town of Berne",{"$f":"'2017'!H6","v":0},{"$f":"'2017'!I6","v":""},{"$f":"'2017'!J6","v":0},{"$f":"'2017'!L6","v":26.57},{"$f":"'2017'!M6","v":"to"},{"$f":"'2017'!N6","v":28.509999999999998},"$0.00  $0.00","$26.57 to $28.51",{"$f":"'2017'!K6","v":0}]
["Town of Bethlehem",{"$f":"'2017'!H7","v":0},{"$f":"'2017'!I7","v":""},{"$f":"'2017'!J7","v":0},{"$f":"'2017'!L7","v":0},{"$f":"'2017'!M7","v":""},{"$f":"'2017'!N7","v":0},"$0.00  $0.00","$0.00  $0.00",{"$f":"'2017'!K7","v":0}]
["Town of Coeymans",{"$f":"'2017'!H8","v":0},{"$f":"'2017'!I8","v":""},{"$f":"'2017'!J8","v":0},{"$f":"'2017'!L8","v":0},{"$f":"'2017'!M8","v":""},{"$f":"'2017'!N8","v":0},"$0.00  $0.00","$0.00  $0.00",{"$f":"'2017'!K8","v":0}]
["Village of Ravena",{"$f":"'2017'!H9","v":0},"",null,{"$f":"'2017'!L9","v":0},"",null,"$0.00  ","$0.00  ",{"$f":"'2017'!K9","v":0}]
["City of Cohoes",{"$f":"'2017'!H10","v":0},"",null,{"$f":"'2017'!L10","v":0},"",null,"$0.00  ","$0.00  ",{"$f":"'2017'!K10","v":0}]
["Town of Colonie",{"$f":"'2017'!H11","v":0},{"$f":"'2017'!I11","v":""},{"$f":"'2017'!J11","v":0},{"$f":"'2017'!L11","v":0},{"$f":"'2017'!M11","v":""},{"$f":"'2017'!N11","v":0},"$0.00  $0.00","$0.00  $0.00",{"$f":"'2017'!K11","v":0}]
["Village of Colonie",{"$f":"'2017'!H12","v":0},"",null,{"$f":"'2017'!L12","v":0},"",null,"$0.00  ","$0.00  ",{"$f":"'2017'!K12","v":0}]
["Village of Menands",{"$f":"'2017'!H13","v":0},{"$f":"'2017'!I13","v":0},{"$f":"'2017'!J13","v":0},{"$f":"'2017'!L13","v":0},{"$f":"'2017'!M13","v":0},{"$f":"'2017'!N13","v":0},"$0.00 0 $0.00","$0.00 0 $0.00",{"$f":"'2017'!K13","v":0}]
["Town/Village of Green Island",{"$f":"'2017'!H15","v":0},null,null,{"$f":"'2017'!L15","v":0},null,null,"$0.00  ","$0.00  ",{"$f":"'2017'!K15","v":0}]
["Town of Guilderland",{"$f":"'2017'!H16","v":0},{"$f":"'2017'!I16","v":""},{"$f":"'2017'!J16","v":0},{"$f":"'2017'!L16","v":0},{"$f":"'2017'!M16","v":""},{"$f":"'2017'!N16","v":0},"$0.00  $0.00","$0.00  $0.00",{"$f":"'2017'!K16","v":0}]
["Village of Altamont",{"$f":"'2017'!H17","v":0},"",null,{"$f":"'2017'!L17","v":0},"",null,"$0.00  ","$0.00  ",{"$f":"'2017'!K17","v":0}]
["Town of Knox",{"$f":"'2017'!H18","v":0},{"$f":"'2017'!I18","v":""},{"$f":"'2017'!J18","v":0},{"$f":"'2017'!L18","v":0},{"$f":"'2017'!M18","v":""},{"$f":"'2017'!N18","v":0},"$0.00  $0.00","$0.00  $0.00",{"$f":"'2017'!K18","v":0}]
["Town of New Scotland",{"$f":"'2017'!H19","v":0},{"$f":"'2017'!I19","v":""},{"$f":"'2017'!J19","v":0},{"$f":"'2017'!L19","v":0},{"$f":"'2017'!M19","v":""},{"$f":"'2017'!N19","v":0},"$0.00  $0.00","$0.00  $0.00",{"$f":"'2017'!K19","v":0}]
["Village of Voorheesville",{"$f":"'2017'!H20","v":0},"",null,{"$f":"'2017'!L20","v":0},"",null,"$0.00  ","$0.00  ",{"$f":"'2017'!K20","v":0}]
["Town of Rensselaerville",{"$f":"'2017'!H21","v":0},{"$f":"'2017'!I21","v":""},{"$f":"'2017'!J21","v":0},{"$f":"'2017'!L21","v":0},{"$f":"'2017'!M21","v":""},{"$f":"'2017'!N21","v":0},"$0.00  $0.00","$0.00  $0.00",{"$f":"'2017'!K21","v":0}]
["City of Watervliet",{"$f":"'2017'!H22","v":0},"",null,{"$f":"'2017'!L22","v":0},"",null,"$0.00  ","$0.00  ",{"$f":"'2017'!K22","v":0}]
["Town of Westerlo",{"$f":"'2017'!H23","v":0},{"$f":"'2017'!I23","v":""},{"$f":"'2017'!J23","v":0},{"$f":"'2017'!L23","v":0},{"$f":"'2017'!M23","v":""},{"$f":"'2017'!N23","v":0},"$0.00  $0.00","$0.00  $0.00",{"$f":"'2017'!K23","v":0}]
["Rensselaer County",{"$f":"'2017'!H24","v":0},{"$f":"'2017'!I24","v":""},{"$f":"'2017'!J24","v":0},{"$f":"'2017'!L24","v":0},{"$f":"'2017'!M24","v":""},{"$f":"'2017'!N24","v":0},"$0.00  $0.00","$0.00  $0.00","Not Applicable"]
["Village of Nassau",{"$f":"'2017'!H33","v":0},"to",{"$f":"'2017'!H46","v":0},{"$f":"'2017'!L33","v":0},"to",{"$f":"'2017'!L46","v":0},"$0.00 to $0.00","$0.00 to $0.00",{"$f":"'2017'!K33","v":0}]
["Village of Valley Falls",{"$f":"'2017'!H37","v":0},"to",{"$f":"'2017'!H43","v":0},{"$f":"'2017'!L43","v":0},"to",{"$f":"'2017'!L37","v":0},"$0.00 to $0.00","$0.00 to $0.00",{"$f":"'2017'!K37","v":0}]
["Town of Berlin",{"$f":"'2017'!H25","v":0},{"$f":"'2017'!I25","v":""},{"$f":"'2017'!J25","v":0},{"$f":"'2017'!L25","v":0},{"$f":"'2017'!M25","v":""},{"$f":"'2017'!N25","v":0},"$0.00  $0.00","$0.00  $0.00",{"$f":"'2017'!K25","v":0}]
["Town of Brunswick",{"$f":"'2017'!H26","v":0},{"$f":"'2017'!I26","v":""},{"$f":"'2017'!J26","v":0},{"$f":"'2017'!L26","v":0},{"$f":"'2017'!M26","v":""},{"$f":"'2017'!N26","v":0},"$0.00  $0.00","$0.00  $0.00",{"$f":"'2017'!K26","v":0}]
["Town of East Greenbush",{"$f":"'2017'!H27","v":0},{"$f":"'2017'!I27","v":""},{"$f":"'2017'!J27","v":0},{"$f":"'2017'!L27","v":0},{"$f":"'2017'!M27","v":""},{"$f":"'2017'!N27","v":0},"$0.00  $0.00","$0.00  $0.00",{"$f":"'2017'!K27","v":0}]
["Town of Grafton",{"$f":"'2017'!H28","v":0},{"$f":"'2017'!I28","v":""},{"$f":"'2017'!J28","v":0},{"$f":"'2017'!L28","v":0},{"$f":"'2017'!M28","v":""},{"$f":"'2017'!N28","v":0},"$0.00  $0.00","$0.00  $0.00",{"$f":"'2017'!K28","v":0}]
["Town of Hoosick",{"$f":"'2017'!H29","v":0},{"$f":"'2017'!I29","v":""},{"$f":"'2017'!J29","v":0},{"$f":"'2017'!L29","v":0},{"$f":"'2017'!M29","v":""},{"$f":"'2017'!N29","v":0},"$0.00  $0.00","$0.00  $0.00",{"$f":"'2017'!K29","v":0}]
["Village of Hoosick Falls",{"$f":"'2017'!H30","v":0},"",null,{"$f":"'2017'!L30","v":0},"",null,"$0.00  ","$0.00  ",{"$f":"'2017'!K30","v":0}]
["Town of Nassau",{"$f":"'2017'!H31","v":0},{"$f":"'2017'!I31","v":""},{"$f":"'2017'!J31","v":0},{"$f":"'2017'!L31","v":0},{"$f":"'2017'!M31","v":""},{"$f":"'2017'!N31","v":0},"$0.00  $0.00","$0.00  $0.00",{"$f":"'2017'!K31","v":0}]
["Village of East Nassau",{"$f":"'2017'!H32","v":0},{"$f":"'2017'!I32","v":""},{"$f":"'2017'!J32","v":0},{"$f":"'2017'!L32","v":0},{"$f":"'2017'!M32","v":""},{"$f":"'2017'!N32","v":0},"$0.00  $0.00","$0.00  $0.00",{"$f":"'2017'!K32","v":0}]
["Town of North Greenbush",{"$f":"'2017'!H34","v":0},{"$f":"'2017'!I34","v":""},{"$f":"'2017'!J34","v":0},{"$f":"'2017'!L34","v":0},{"$f":"'2017'!M34","v":""},{"$f":"'2017'!N34","v":0},"$0.00  $0.00","$0.00  $0.00",{"$f":"'2017'!K34","v":0}]
["Town of Petersburgh",{"$f":"'2017'!H35","v":0},{"$f":"'2017'!I35","v":""},{"$f":"'2017'!J35","v":0},{"$f":"'2017'!L35","v":0},{"$f":"'2017'!M35","v":""},{"$f":"'2017'!N35","v":0},"$0.00  $0.00","$0.00  $0.00",{"$f":"'2017'!K35","v":0}]
["Town of Pittstown",{"$f":"'2017'!H36","v":0},{"$f":"'2017'!I36","v":""},{"$f":"'2017'!J36","v":0},{"$f":"'2017'!L36","v":0},{"$f":"'2017'!M36","v":""},{"$f":"'2017'!N36","v":0},"$0.00  $0.00","$0.00  $0.00",{"$f":"'2017'!K36","v":0}]
["Town of Poestenkill",{"$f":"'2017'!H38","v":0},{"$f":"'2017'!I38","v":""},{"$f":"'2017'!J38","v":0},{"$f":"'2017'!L38","v":0},{"$f":"'2017'!M38","v":""},{"$f":"'2017'!N38","v":0},"$0.00  $0.00","$0.00  $0.00",{"$f":"'2017'!K38","v":0}]
["City of Rensselaer",{"$f":"'2017'!H39","v":0},"",null,{"$f":"'2017'!L39","v":0},"",null,"$0.00  ","$0.00  ",{"$f":"'2017'!K39","v":0}]
["Town of Sand Lake",{"$f":"'2017'!H40","v":0},{"$f":"'2017'!I40","v":""},{"$f":"'2017'!J40","v":0},{"$f":"'2017'!L40","v":0},{"$f":"'2017'!M40","v":""},{"$f":"'2017'!N40","v":0},"$0.00  $0.00","$0.00  $0.00",{"$f":"'2017'!K40","v":0}]
["Town of Schaghticoke",{"$f":"'2017'!H41","v":0},{"$f":"'2017'!I41","v":""},{"$f":"'2017'!J41","v":0},{"$f":"'2017'!L41","v":0},{"$f":"'2017'!M41","v":""},{"$f":"'2017'!N41","v":0},"$0.00  $0.00","$0.00  $0.00",{"$f":"'2017'!K41","v":0}]
["Village of Schaghticoke",{"$f":"'2017'!H42","v":0},"",null,{"$f":"'2017'!L42","v":0},"",null,"$0.00  ","$0.00  ",{"$f":"'2017'!K42","v":0}]
["Town of Schodack",{"$f":"'2017'!H44","v":0},{"$f":"'2017'!I44","v":""},{"$f":"'2017'!J44","v":0},{"$f":"'2017'!L44","v":0},{"$f":"'2017'!M44","v":""},{"$f":"'2017'!N44","v":0},"$0.00  $0.00","$0.00  $0.00",{"$f":"'2017'!K44","v":0}]
["Village of Castleton-on-Hudson",{"$f":"'2017'!H45","v":0},"",null,{"$f":"'2017'!L45","v":0},"",null,"$0.00  ","$0.00  ",{"$f":"'2017'!K45","v":0}]
["Town of Stephentown",{"$f":"'2017'!H47","v":0},{"$f":"'2017'!I47","v":""},{"$f":"'2017'!J47","v":0},{"$f":"'2017'!L47","v":0},{"$f":"'2017'!M47","v":""},{"$f":"'2017'!N47","v":0},"$0.00  $0.00","$0.00  $0.00",{"$f":"'2017'!K47","v":0}]
["City of Troy",{"$f":"'2017'!H48","v":0},{"$f":"'2017'!I48","v":""},{"$f":"'2017'!J48","v":0},{"$f":"'2017'!L48","v":0},{"$f":"'2017'!M48","v":""},{"$f":"'2017'!N48","v":0},"$0.00  $0.00","$0.00  $0.00",{"$f":"'2017'!K48","v":0}]
["Saratoga County",{"$f":"'2017'!H49","v":0},{"$f":"'2017'!I49","v":""},{"$f":"'2017'!J49","v":0},{"$f":"'2017'!L49","v":0},{"$f":"'2017'!M49","v":""},{"$f":"'2017'!N49","v":0},"$0.00  $0.00","$0.00  $0.00","Not Applicable"]
["Village of Ballston Spa",{"$f":"'2017'!H51","v":0},"to",{"$f":"'2017'!H67","v":0},{"$f":"'2017'!L51","v":0},"to",{"$f":"'2017'!L67","v":0},"$0.00 to $0.00","$0.00 to $0.00",{"$f":"'2017'!K51","v":0}]
["Town of Ballston",{"$f":"'2017'!H50","v":0},{"$f":"'2017'!I50","v":""},{"$f":"'2017'!J50","v":0},{"$f":"'2017'!L50","v":0},{"$f":"'2017'!M50","v":""},{"$f":"'2017'!N50","v":0},"$0.00  $0.00","$0.00  $0.00",{"$f":"'2017'!K50","v":0}]
["Town of Charlton",{"$f":"'2017'!H52","v":0},{"$f":"'2017'!I52","v":""},{"$f":"'2017'!J52","v":0},{"$f":"'2017'!L52","v":0},{"$f":"'2017'!M52","v":""},{"$f":"'2017'!N52","v":0},"$0.00  $0.00","$0.00  $0.00",{"$f":"'2017'!K52","v":0}]
["Town of Clifton Park",{"$f":"'2017'!H53","v":0},{"$f":"'2017'!I53","v":""},{"$f":"'2017'!J53","v":0},{"$f":"'2017'!L53","v":0},{"$f":"'2017'!M53","v":""},{"$f":"'2017'!N53","v":0},"$0.00  $0.00","$0.00  $0.00",{"$f":"'2017'!K53","v":0}]
["Town of Corinth",{"$f":"'2017'!H54","v":0},"",null,{"$f":"'2017'!L54","v":0},"",null,"$0.00  ","$0.00  ",{"$f":"'2017'!K54","v":0}]
["Village of Corinth",{"$f":"'2017'!H55","v":0},"",null,{"$f":"'2017'!L55","v":0},"",null,"$0.00  ","$0.00  ",{"$f":"'2017'!K55","v":0}]
["Town of Day",{"$f":"'2017'!H56","v":0},{"$f":"'2017'!I56","v":""},{"$f":"'2017'!J56","v":0},{"$f":"'2017'!L56","v":0},{"$f":"'2017'!M56","v":""},{"$f":"'2017'!N56","v":0},"$0.00  $0.00","$0.00  $0.00",{"$f":"'2017'!K56","v":0}]
["Town of Edinburg",{"$f":"'2017'!H57","v":0},{"$f":"'2017'!I57","v":""},{"$f":"'2017'!J57","v":0},{"$f":"'2017'!L57","v":0},{"$f":"'2017'!M57","v":""},{"$f":"'2017'!N57","v":0},"$0.00  $0.00","$0.00  $0.00",{"$f":"'2017'!K57","v":0}]
["Town of Galway",{"$f":"'2017'!H58","v":0},{"$f":"'2017'!I58","v":""},{"$f":"'2017'!J58","v":0},{"$f":"'2017'!L58","v":0},{"$f":"'2017'!M58","v":""},{"$f":"'2017'!N58","v":0},"$0.00  $0.00","$0.00  $0.00",{"$f":"'2017'!K58","v":0}]
["Village of Galway",{"$f":"'2017'!H59","v":0},"",null,{"$f":"'2017'!L59","v":0},"",null,"$0.00  ","$0.00  ",{"$f":"'2017'!K59","v":0}]
["Town of Greenfield",{"$f":"'2017'!H60","v":0},{"$f":"'2017'!I60","v":""},{"$f":"'2017'!J60","v":0},{"$f":"'2017'!L60","v":0},{"$f":"'2017'!M60","v":""},{"$f":"'2017'!N60","v":0},"$0.00  $0.00","$0.00  $0.00",{"$f":"'2017'!K60","v":0}]
["Town of Hadley",{"$f":"'2017'!H61","v":0},{"$f":"'2017'!I61","v":""},{"$f":"'2017'!J61","v":0},{"$f":"'2017'!L61","v":0},{"$f":"'2017'!M61","v":""},{"$f":"'2017'!N61","v":0},"$0.00  $0.00","$0.00  $0.00",{"$f":"'2017'!K61","v":0}]
["Town of Halfmoon",{"$f":"'2017'!H62","v":0},{"$f":"'2017'!I62","v":""},{"$f":"'2017'!J62","v":0},{"$f":"'2017'!L62","v":0},{"$f":"'2017'!M62","v":""},{"$f":"'2017'!N62","v":0},"$0.00  $0.00","$0.00  $0.00",{"$f":"'2017'!K62","v":0}]
["Town of Malta",{"$f":"'2017'!H63","v":0},{"$f":"'2017'!I63","v":""},{"$f":"'2017'!J63","v":0},{"$f":"'2017'!L63","v":0},{"$f":"'2017'!M63","v":""},{"$f":"'2017'!N63","v":0},"$0.00  $0.00","$0.00  $0.00",{"$f":"'2017'!K63","v":0}]
["Village of Round Lake",{"$f":"'2017'!H64","v":0},"",null,{"$f":"'2017'!L64","v":0},"",null,"$0.00  ","$0.00  ",{"$f":"'2017'!K64","v":0}]
["City of Mechanicville",{"$f":"'2017'!H65","v":0},"",null,{"$f":"'2017'!L65","v":0},"",null,"$0.00  ","$0.00  ",{"$f":"'2017'!K65","v":0}]
["Town of Milton",{"$f":"'2017'!H66","v":0},{"$f":"'2017'!I66","v":""},{"$f":"'2017'!J66","v":0},{"$f":"'2017'!L66","v":0},{"$f":"'2017'!M66","v":""},{"$f":"'2017'!N66","v":0},"$0.00  $0.00","$0.00  $0.00",{"$f":"'2017'!K66","v":0}]
["Town of Moreau",{"$f":"'2017'!H68","v":0},{"$f":"'2017'!I68","v":""},{"$f":"'2017'!J68","v":0},{"$f":"'2017'!L68","v":0},{"$f":"'2017'!M68","v":""},{"$f":"'2017'!N68","v":0},"$0.00  $0.00","$0.00  $0.00",{"$f":"'2017'!K68","v":0}]
["Village of South Glens Falls",{"$f":"'2017'!H69","v":0},"",null,{"$f":"'2017'!L69","v":0},"",null,"$0.00  ","$0.00  ",{"$f":"'2017'!K69","v":0}]
["Town of Northumberland",{"$f":"'2017'!H70","v":0},{"$f":"'2017'!I70","v":""},{"$f":"'2017'!J70","v":0},{"$f":"'2017'!L70","v":0},{"$f":"'2017'!M70","v":""},{"$f":"'2017'!N70","v":0},"$0.00  $0.00","$0.00  $0.00",{"$f":"'2017'!K70","v":0}]
["Town of Providence",{"$f":"'2017'!H71","v":0},{"$f":"'2017'!I71","v":""},{"$f":"'2017'!J71","v":0},{"$f":"'2017'!L71","v":0},{"$f":"'2017'!M71","v":""},{"$f":"'2017'!N71","v":0},"$0.00  $0.00","$0.00  $0.00",{"$f":"'2017'!K71","v":0}]
["Town of Saratoga",{"$f":"'2017'!H72","v":0},{"$f":"'2017'!I72","v":""},{"$f":"'2017'!J72","v":0},{"$f":"'2017'!L72","v":0},{"$f":"'2017'!M72","v":""},{"$f":"'2017'!N72","v":0},{"$f":"CLEAN(TEXT(B67,\"$#,##0.00\")&\" \"&C67&\" \"&IF(D67<>\"\",TEXT(D67,\"$#,##0.00\"),\"\"))","v":"$0.00  $0.00"},{"$f":"CLEAN(TEXT(E67,\"$#,##0.00\")&\" \"&F67&\" \"&IF(G67<>\"\",TEXT(G67,\"$#,##0.00\"),\"\"))","v":"$0.00  $0.00"},{"$f":"'2017'!K72","v":0}]
["Village of Schuylerville",{"$f":"'2017'!H73","v":0},"",null,{"$f":"'2017'!L73","v":0},"",null,"$0.00  ","$0.00  ",{"$f":"'2017'!K73","v":0}]
["Village of Victory",{"$f":"'2017'!H74","v":0},"",null,{"$f":"'2017'!L74","v":0},"",null,"$0.00  ","$0.00  ",{"$f":"'2017'!K74","v":0}]
["City of Saratoga Springs",{"$f":"'2017'!H75","v":0},"",null,{"$f":"'2017'!L75","v":0},"",null,"$0.00  ","$0.00  ",{"$f":"'2017'!K75","v":0}]
["Town of Stillwater",{"$f":"'2017'!H76","v":0},{"$f":"'2017'!I76","v":""},{"$f":"'2017'!J76","v":0},{"$f":"'2017'!L76","v":0},{"$f":"'2017'!M76","v":""},{"$f":"'2017'!N76","v":0},"$0.00  $0.00","$0.00  $0.00",{"$f":"'2017'!K76","v":0}]
["Village of Stillwater",{"$f":"'2017'!H77","v":0},"",null,{"$f":"'2017'!L77","v":0},"",null,"$0.00  ","$0.00  ",{"$f":"'2017'!K77","v":0}]
["Town of Waterford",{"$f":"'2017'!H78","v":0},{"$f":"'2017'!I78","v":""},{"$f":"'2017'!J78","v":0},{"$f":"'2017'!L78","v":0},{"$f":"'2017'!M78","v":""},{"$f":"'2017'!N78","v":0},"$0.00  $0.00","$0.00  $0.00",{"$f":"'2017'!K78","v":0}]
["Village of Waterford",{"$f":"'2017'!H79","v":0},"",null,{"$f":"'2017'!L79","v":0},"",null,"$0.00  ","$0.00  ",{"$f":"'2017'!K79","v":0}]
["Town of Wilton",{"$f":"'2017'!H80","v":0},{"$f":"'2017'!I80","v":""},{"$f":"'2017'!J80","v":0},{"$f":"'2017'!L80","v":0},{"$f":"'2017'!M80","v":""},{"$f":"'2017'!N80","v":0},"$0.00  $0.00","$0.00  $0.00",{"$f":"'2017'!K80","v":0}]
["Schenectady County",{"$f":"'2017'!H81","v":0},{"$f":"'2017'!I81","v":""},{"$f":"'2017'!J81","v":0},{"$f":"'2017'!L81","v":0},{"$f":"'2017'!M81","v":""},{"$f":"'2017'!N81","v":0},"$0.00  $0.00","$0.00  $0.00","Not Applicable"]
["Town of Duanesburg",{"$f":"'2017'!H82","v":0},{"$f":"'2017'!I82","v":""},{"$f":"'2017'!J82","v":0},{"$f":"'2017'!L82","v":0},{"$f":"'2017'!M82","v":""},{"$f":"'2017'!N82","v":0},"$0.00  $0.00","$0.00  $0.00",{"$f":"'2017'!K82","v":0}]
["Village of Delanson",{"$f":"'2017'!H83","v":0},"",null,{"$f":"'2017'!L83","v":0},"",null,"$0.00  ","$0.00  ",{"$f":"'2017'!K83","v":0}]
["Town of Glenville",{"$f":"'2017'!H84","v":0},{"$f":"'2017'!I84","v":""},{"$f":"'2017'!J84","v":0},{"$f":"'2017'!L84","v":0},{"$f":"'2017'!M84","v":""},{"$f":"'2017'!N84","v":0},"$0.00  $0.00","$0.00  $0.00",{"$f":"'2017'!K84","v":0}]
["Village of Scotia",{"$f":"'2017'!H85","v":0},"",null,{"$f":"'2017'!L85","v":0},"",null,"$0.00  ","$0.00  ",{"$f":"'2017'!K85","v":0}]
["Town of Niskayuna",{"$f":"'2017'!H86","v":0},{"$f":"'2017'!I86","v":""},{"$f":"'2017'!J86","v":0},{"$f":"'2017'!L86","v":0},{"$f":"'2017'!M86","v":""},{"$f":"'2017'!N86","v":0},"$0.00  $0.00","$0.00  $0.00",{"$f":"'2017'!K86","v":0}]
["Town of Princetown",{"$f":"'2017'!H87","v":0},{"$f":"'2017'!I87","v":""},{"$f":"'2017'!J87","v":0},{"$f":"'2017'!L87","v":0},{"$f":"'2017'!M87","v":""},{"$f":"'2017'!N87","v":0},"$0.00  $0.00","$0.00  $0.00",{"$f":"'2017'!K87","v":0}]
["Town of Rotterdam",{"$f":"'2017'!H88","v":0},{"$f":"'2017'!I88","v":""},{"$f":"'2017'!J88","v":0},{"$f":"'2017'!L88","v":0},{"$f":"'2017'!M88","v":""},{"$f":"'2017'!N88","v":0},"$0.00  $0.00","$0.00  $0.00",{"$f":"'2017'!K88","v":0}]
["City of Schenectady",{"$f":"'2017'!H89","v":0},"",null,{"$f":"'2017'!L89","v":0},"",null,"$0.00  ","$0.00  ",{"$f":"'2017'!K89","v":0}]
["Capital District",{"$f":"'2017'!H90","v":0},{"$f":"'2017'!I90","v":""},{"$f":"'2017'!J90","v":0},{"$f":"'2017'!L90","v":0},{"$f":"'2017'!M90","v":"to"},{"$f":"'2017'!N90","v":40.700000000000003},"$0.00  $0.00","$0.00 to $40.70","Not Applicable"]

{"sheet":"2012 SD_Chart_Data","index":11,"n_rows":281,"n_cols":4,"rows_kept":281,"cut":false,"hidden":false,"merged":[]}
[null,{"$f":"LEFT(DN_Table12!C2,4)&\" \"&DN_Table12!M2","v":"2017 Total Overall"}]
[null,"Full Value Range:"]
["City, Town, or Village","Rate per $1,000"]
[{"$f":"'2017 SD'!A7","v":"Albany County"},{"$f":"'2017 SD'!L7","v":0},{"$f":"IF(OR(D4=0,(D4-B4)<0.2),0.2,D4-B4)","v":40.700000000000003},{"$f":"'2017 SD'!N7","v":40.700000000000003}]
[{"$f":"'2017 SD'!A8","v":"City of Albany"},{"$f":"'2017 SD'!L8","v":40.700000000000003},{"$f":"IF(OR(D5=0,(D5-B5)<0.2),0.2,D5-B5)","v":0.2},{"$f":"'2017 SD'!N8","v":0}]
[{"$f":"'2017 SD'!A9","v":"Albany City SD"},{"$f":"'2017 SD'!L9","v":40.700000000000003},0.2,{"$f":"'2017 SD'!N9","v":0}]
[{"$f":"'2017 SD'!A10","v":"Town of Berne"},{"$f":"'2017 SD'!L10","v":26.57},1.9399999999999977,{"$f":"'2017 SD'!N10","v":28.509999999999998}]
[{"$f":"'2017 SD'!A11","v":"Berne-Knox-Westerlo CSD"},{"$f":"'2017 SD'!L11","v":26.57},0.2,{"$f":"'2017 SD'!N11","v":0}]
[{"$f":"'2017 SD'!A12","v":"Greenville CSD"},{"$f":"'2017 SD'!L12","v":28.509999999999998},0.2,{"$f":"'2017 SD'!N12","v":0}]
[{"$f":"'2017 SD'!A13","v":"Middleburgh CSD"},{"$f":"'2017 SD'!L13","v":28.47},0.2,{"$f":"'2017 SD'!N13","v":0}]
[{"$f":"'2017 SD'!A14","v":"Voorheesville CSD"},{"$f":"'2017 SD'!L14","v":27.46},0.2,{"$f":"'2017 SD'!N14","v":0}]
[{"$f":"'2017 SD'!A15","v":"Town of Bethlehem"},{"$f":"'2017 SD'!L15","v":0},0.2,{"$f":"'2017 SD'!N15","v":0}]
[{"$f":"'2017 SD'!A16","v":"Bethlehem CSD"},{"$f":"'2017 SD'!L16","v":0},0.2,{"$f":"'2017 SD'!N16","v":0}]
[{"$f":"'2017 SD'!A17","v":"Guilderland CSD"},{"$f":"'2017 SD'!L17","v":0},0.2,{"$f":"'2017 SD'!N17","v":0}]
[{"$f":"'2017 SD'!A18","v":"Ravena-Coeymans-Selkirk CSD"},{"$f":"'2017 SD'!L18","v":0},0.2,{"$f":"'2017 SD'!N18","v":0}]
[{"$f":"'2017 SD'!A19","v":"Town of Coeymans"},{"$f":"'2017 SD'!L19","v":0},0.2,{"$f":"'2017 SD'!N19","v":0}]
[{"$f":"'2017 SD'!A20","v":"Greenville CSD"},{"$f":"'2017 SD'!L20","v":0},0.2,{"$f":"'2017 SD'!N20","v":0}]
[{"$f":"'2017 SD'!A21","v":"Ravena-Coeymans-Selkirk CSD"},{"$f":"'2017 SD'!L21","v":0},0.2,{"$f":"'2017 SD'!N21","v":0}]
[{"$f":"'2017 SD'!A22","v":"Village of Ravena"},{"$f":"'2017 SD'!L22","v":0},0.2,{"$f":"'2017 SD'!N22","v":0}]
[{"$f":"'2017 SD'!A23","v":"Ravena-Coeymans-Selkirk CSD"},{"$f":"'2017 SD'!L23","v":0},0.2,{"$f":"'2017 SD'!N23","v":0}]
[{"$f":"'2017 SD'!A24","v":"City of Cohoes"},{"$f":"'2017 SD'!L24","v":0},0.2,{"$f":"'2017 SD'!N24","v":0}]
[{"$f":"'2017 SD'!A25","v":"Cohoes City SD"},{"$f":"'2017 SD'!L25","v":0},0.2,{"$f":"'2017 SD'!N25","v":0}]
[{"$f":"'2017 SD'!A26","v":"Town of Colonie"},{"$f":"'2017 SD'!L26","v":0},0.2,{"$f":"'2017 SD'!N26","v":0}]
[{"$f":"'2017 SD'!A27","v":"Menands UFSD"},{"$f":"'2017 SD'!L27","v":0},0.2,{"$f":"'2017 SD'!N27","v":0}]
[{"$f":"'2017 SD'!A28","v":"Niskayuna CSD"},{"$f":"'2017 SD'!L28","v":0},0.2,{"$f":"'2017 SD'!N28","v":0}]
[{"$f":"'2017 SD'!A29","v":"North Colonie CSD"},{"$f":"'2017 SD'!L29","v":0},0.2,{"$f":"'2017 SD'!N29","v":0}]
[{"$f":"'2017 SD'!A30","v":"Rotterdam-Mohonasen CSD"},{"$f":"'2017 SD'!L30","v":0},0.2,{"$f":"'2017 SD'!N30","v":0}]
[{"$f":"'2017 SD'!A31","v":"South Colonie CSD"},{"$f":"'2017 SD'!L31","v":0},0.2,{"$f":"'2017 SD'!N31","v":0}]
[{"$f":"'2017 SD'!A32","v":"Watervliet City SD"},{"$f":"'2017 SD'!L32","v":0},0.2,{"$f":"'2017 SD'!N32","v":0}]
[{"$f":"'2017 SD'!A33","v":"Village of Colonie"},{"$f":"'2017 SD'!L33","v":0},0.2,{"$f":"'2017 SD'!N33","v":0}]
[{"$f":"'2017 SD'!A34","v":"South Colonie CSD"},{"$f":"'2017 SD'!L34","v":0},0.2,{"$f":"'2017 SD'!N34","v":0}]
[{"$f":"'2017 SD'!A35","v":"Village of Menands"},{"$f":"'2017 SD'!L35","v":0},0.2,{"$f":"'2017 SD'!N35","v":0}]
[{"$f":"'2017 SD'!A36","v":"Menands UFSD"},{"$f":"'2017 SD'!L36","v":0},0.2,{"$f":"'2017 SD'!N36","v":0}]
[{"$f":"'2017 SD'!A38","v":"Village of Green Island"},{"$f":"'2017 SD'!L38","v":0},0.2,{"$f":"'2017 SD'!N38","v":0}]
[{"$f":"'2017 SD'!A39","v":"Green Island UFSD"},{"$f":"'2017 SD'!L39","v":0},0.2,{"$f":"'2017 SD'!N39","v":0}]
[{"$f":"'2017 SD'!A40","v":"Town of Guilderland"},{"$f":"'2017 SD'!L40","v":0},0.2,{"$f":"'2017 SD'!N40","v":0}]
[{"$f":"'2017 SD'!A41","v":"Guilderland CSD"},{"$f":"'2017 SD'!L41","v":0},0.2,{"$f":"'2017 SD'!N41","v":0}]
[{"$f":"'2017 SD'!A42","v":"Rotterdam-Mohonasen CSD"},{"$f":"'2017 SD'!L42","v":0},0.2,{"$f":"'2017 SD'!N42","v":0}]
[{"$f":"'2017 SD'!A43","v":"Schalmont CSD"},{"$f":"'2017 SD'!L43","v":0},0.2,{"$f":"'2017 SD'!N43","v":0}]
[{"$f":"'2017 SD'!A44","v":"South Colonie CSD"},{"$f":"'2017 SD'!L44","v":0},0.2,{"$f":"'2017 SD'!N44","v":0}]
[{"$f":"'2017 SD'!A45","v":"Voorheesville CSD"},{"$f":"'2017 SD'!L45","v":0},0.2,{"$f":"'2017 SD'!N45","v":0}]
[{"$f":"'2017 SD'!A46","v":"Village of Altamont"},{"$f":"'2017 SD'!L46","v":0},0.2,{"$f":"'2017 SD'!N46","v":0}]
[{"$f":"'2017 SD'!A47","v":"Guilderland CSD"},{"$f":"'2017 SD'!L47","v":0},0.2,{"$f":"'2017 SD'!N47","v":0}]
[{"$f":"'2017 SD'!A48","v":"Town of Knox"},{"$f":"'2017 SD'!L48","v":0},0.2,{"$f":"'2017 SD'!N48","v":0}]
[{"$f":"'2017 SD'!A49","v":"Berne-Knox-Westerlo CSD"},{"$f":"'2017 SD'!L49","v":0},0.2,{"$f":"'2017 SD'!N49","v":0}]
[{"$f":"'2017 SD'!A50","v":"Duanesburg CSD"},{"$f":"'2017 SD'!L50","v":0},0.2,{"$f":"'2017 SD'!N50","v":0}]
[{"$f":"'2017 SD'!A51","v":"Guilderland CSD"},{"$f":"'2017 SD'!L51","v":0},0.2,{"$f":"'2017 SD'!N51","v":0}]
[{"$f":"'2017 SD'!A52","v":"Schoharie CSD"},{"$f":"'2017 SD'!L52","v":0},0.2,{"$f":"'2017 SD'!N52","v":0}]
[{"$f":"'2017 SD'!A53","v":"Town of New Scotland"},{"$f":"'2017 SD'!L53","v":0},0.2,{"$f":"'2017 SD'!N53","v":0}]
[{"$f":"'2017 SD'!A54","v":"Berne-Knox-Westerlo CSD"},{"$f":"'2017 SD'!L54","v":0},0.2,{"$f":"'2017 SD'!N54","v":0}]
[{"$f":"'2017 SD'!A55","v":"Bethlehem CSD"},{"$f":"'2017 SD'!L55","v":0},0.2,{"$f":"'2017 SD'!N55","v":0}]
[{"$f":"'2017 SD'!A56","v":"Greenville CSD"},{"$f":"'2017 SD'!L56","v":0},0.2,{"$f":"'2017 SD'!N56","v":0}]
[{"$f":"'2017 SD'!A57","v":"Guilderland CSD"},{"$f":"'2017 SD'!L57","v":0},0.2,{"$f":"'2017 SD'!N57","v":0}]
[{"$f":"'2017 SD'!A58","v":"Ravena-Coeymans-Selkirk CSD"},{"$f":"'2017 SD'!L58","v":0},0.2,{"$f":"'2017 SD'!N58","v":0}]
[{"$f":"'2017 SD'!A59","v":"Voorheesville CSD"},{"$f":"'2017 SD'!L59","v":0},0.2,{"$f":"'2017 SD'!N59","v":0}]
[{"$f":"'2017 SD'!A60","v":"Village of Voorheesville"},{"$f":"'2017 SD'!L60","v":0},0.2,{"$f":"'2017 SD'!N60","v":0}]
[{"$f":"'2017 SD'!A61","v":"Voorheesville CSD"},{"$f":"'2017 SD'!L61","v":0},0.2,{"$f":"'2017 SD'!N61","v":0}]
[{"$f":"'2017 SD'!A62","v":"Town of Rensselaerville"},{"$f":"'2017 SD'!L62","v":0},0.2,{"$f":"'2017 SD'!N62","v":0}]
[{"$f":"'2017 SD'!A63","v":"Berne-Knox-Westerlo CSD"},{"$f":"'2017 SD'!L63","v":0},0.2,{"$f":"'2017 SD'!N63","v":0}]
[{"$f":"'2017 SD'!A64","v":"Cairo-Durham CSD"},{"$f":"'2017 SD'!L64","v":0},0.2,{"$f":"'2017 SD'!N64","v":0}]
[{"$f":"'2017 SD'!A65","v":"Greenville CSD"},{"$f":"'2017 SD'!L65","v":0},0.2,{"$f":"'2017 SD'!N65","v":0}]
[{"$f":"'2017 SD'!A66","v":"Middleburgh CSD"},{"$f":"'2017 SD'!L66","v":0},0.2,{"$f":"'2017 SD'!N66","v":0}]
[{"$f":"'2017 SD'!A67","v":"City of Watervliet"},{"$f":"'2017 SD'!L67","v":0},0.2,{"$f":"'2017 SD'!N67","v":0}]
[{"$f":"'2017 SD'!A68","v":"Watervliet City SD"},{"$f":"'2017 SD'!L68","v":0},0.2,{"$f":"'2017 SD'!N68","v":0}]
[{"$f":"'2017 SD'!A69","v":"Town of Westerlo"},{"$f":"'2017 SD'!L69","v":0},0.2,{"$f":"'2017 SD'!N69","v":0}]
[{"$f":"'2017 SD'!A70","v":"Berne-Knox-Westerlo CSD"},{"$f":"'2017 SD'!L70","v":0},0.2,{"$f":"'2017 SD'!N70","v":0}]
[{"$f":"'2017 SD'!A71","v":"Greenville CSD"},{"$f":"'2017 SD'!L71","v":0},0.2,{"$f":"'2017 SD'!N71","v":0}]
[{"$f":"'2017 SD'!A72","v":"Rensselaer County"},{"$f":"'2017 SD'!L72","v":0},0.2,{"$f":"'2017 SD'!N72","v":0}]
[{"$f":"'2017 SD'!A73","v":"Town of Berlin"},{"$f":"'2017 SD'!L73","v":0},{"$f":"IF(OR(D69=0,(D69-B69)<0.2),0.2,D69-B69)","v":0.2},{"$f":"'2017 SD'!N73","v":0}]
[{"$f":"'2017 SD'!A74","v":"Averill Park CSD"},{"$f":"'2017 SD'!L74","v":0},0.2,{"$f":"'2017 SD'!N74","v":0}]
[{"$f":"'2017 SD'!A75","v":"Berlin CSD"},{"$f":"'2017 SD'!L75","v":0},0.2,{"$f":"'2017 SD'!N75","v":0}]
[{"$f":"'2017 SD'!A76","v":"Town of Brunswick"},{"$f":"'2017 SD'!L76","v":0},0.2,{"$f":"'2017 SD'!N76","v":0}]
[{"$f":"'2017 SD'!A77","v":"Averill Park CSD"},{"$f":"'2017 SD'!L77","v":0},0.2,{"$f":"'2017 SD'!N77","v":0}]
[{"$f":"'2017 SD'!A78","v":"Brunswick CSD"},{"$f":"'2017 SD'!L78","v":0},0.2,{"$f":"'2017 SD'!N78","v":0}]
[{"$f":"'2017 SD'!A79","v":"Lansingburgh CSD"},{"$f":"'2017 SD'!L79","v":0},0.2,{"$f":"'2017 SD'!N79","v":0}]
[{"$f":"'2017 SD'!A80","v":"Troy City SD"},{"$f":"'2017 SD'!L80","v":0},0.2,{"$f":"'2017 SD'!N80","v":0}]
[{"$f":"'2017 SD'!A81","v":"Wynantskill UFSD"},{"$f":"'2017 SD'!L81","v":0},0.2,{"$f":"'2017 SD'!N81","v":0}]
[{"$f":"'2017 SD'!A82","v":"Town of East Greenbush"},{"$f":"'2017 SD'!L82","v":0},0.2,{"$f":"'2017 SD'!N82","v":0}]
[{"$f":"'2017 SD'!A83","v":"Averill Park CSD"},{"$f":"'2017 SD'!L83","v":0},0.2,{"$f":"'2017 SD'!N83","v":0}]
[{"$f":"'2017 SD'!A84","v":"East Greenbush CSD"},{"$f":"'2017 SD'!L84","v":0},0.2,{"$f":"'2017 SD'!N84","v":0}]
[{"$f":"'2017 SD'!A85","v":"Town of Grafton"},{"$f":"'2017 SD'!L85","v":0},0.2,{"$f":"'2017 SD'!N85","v":0}]
[{"$f":"'2017 SD'!A86","v":"Berlin CSD"},{"$f":"'2017 SD'!L86","v":0},0.2,{"$f":"'2017 SD'!N86","v":0}]
[{"$f":"'2017 SD'!A87","v":"Brunswick CSD"},{"$f":"'2017 SD'!L87","v":0},0.2,{"$f":"'2017 SD'!N87","v":0}]
[{"$f":"'2017 SD'!A88","v":"Hoosick Falls CSD"},{"$f":"'2017 SD'!L88","v":0},0.2,{"$f":"'2017 SD'!N88","v":0}]
[{"$f":"'2017 SD'!A89","v":"Town of Hoosick"},{"$f":"'2017 SD'!L89","v":0},0.2,{"$f":"'2017 SD'!N89","v":0}]
[{"$f":"'2017 SD'!A90","v":"Cambridge CSD"},{"$f":"'2017 SD'!L90","v":0},0.2,{"$f":"'2017 SD'!N90","v":0}]
[{"$f":"'2017 SD'!A91","v":"Hoosick Falls CSD"},{"$f":"'2017 SD'!L91","v":0},0.2,{"$f":"'2017 SD'!N91","v":0}]
[{"$f":"'2017 SD'!A92","v":"Village of Hoosick Falls"},{"$f":"'2017 SD'!L92","v":0},0.2,{"$f":"'2017 SD'!N92","v":0}]
[{"$f":"'2017 SD'!A93","v":"Hoosick Falls CSD"},{"$f":"'2017 SD'!L93","v":0},0.2,{"$f":"'2017 SD'!N93","v":0}]
[{"$f":"'2017 SD'!A94","v":"Town of Nassau"},{"$f":"'2017 SD'!L94","v":0},0.2,{"$f":"'2017 SD'!N94","v":0}]
[{"$f":"'2017 SD'!A95","v":"Averill Park CSD"},{"$f":"'2017 SD'!L95","v":0},0.2,{"$f":"'2017 SD'!N95","v":0}]
[{"$f":"'2017 SD'!A96","v":"East Greenbush CSD"},{"$f":"'2017 SD'!L96","v":0},0.2,{"$f":"'2017 SD'!N96","v":0}]
[{"$f":"'2017 SD'!A97","v":"Kinderhook CSD"},{"$f":"'2017 SD'!L97","v":0},0.2,{"$f":"'2017 SD'!N97","v":0}]
[{"$f":"'2017 SD'!A98","v":"New Lebanon CSD"},{"$f":"'2017 SD'!L98","v":0},0.2,{"$f":"'2017 SD'!N98","v":0}]
[{"$f":"'2017 SD'!A99","v":"Village of East Nassau"},{"$f":"'2017 SD'!L99","v":0},0.2,{"$f":"'2017 SD'!N99","v":0}]
[{"$f":"'2017 SD'!A100","v":"Averill Park CSD"},{"$f":"'2017 SD'!L100","v":0},0.2,{"$f":"'2017 SD'!N100","v":0}]
[{"$f":"'2017 SD'!A101","v":"East Greenbush CSD"},{"$f":"'2017 SD'!L101","v":0},0.2,{"$f":"'2017 SD'!N101","v":0}]
[{"$f":"'2017 SD'!A102","v":"New Lebanon CSD"},{"$f":"'2017 SD'!L102","v":0},0.2,{"$f":"'2017 SD'!N102","v":0}]
[{"$f":"'2017 SD'!A103","v":"Village of Nassau (part)"},{"$f":"'2017 SD'!L103","v":0},0.2,{"$f":"'2017 SD'!N103","v":0}]
[{"$f":"'2017 SD'!A104","v":"East Greenbush CSD"},{"$f":"'2017 SD'!L104","v":0},0.2,{"$f":"'2017 SD'!N104","v":0}]
[{"$f":"'2017 SD'!A105","v":"Town of North Greenbush"},{"$f":"'2017 SD'!L105","v":0},0.2,{"$f":"'2017 SD'!N105","v":0}]
[{"$f":"'2017 SD'!A106","v":"Averill Park CSD"},{"$f":"'2017 SD'!L106","v":0},0.2,{"$f":"'2017 SD'!N106","v":0}]
[{"$f":"'2017 SD'!A107","v":"East Greenbush CSD"},{"$f":"'2017 SD'!L107","v":0},0.2,{"$f":"'2017 SD'!N107","v":0}]
[{"$f":"'2017 SD'!A108","v":"North Greenbush Common SD"},{"$f":"'2017 SD'!L108","v":0},0.2,{"$f":"'2017 SD'!N108","v":0}]
[{"$f":"'2017 SD'!A109","v":"Wynantskill UFSD"},{"$f":"'2017 SD'!L109","v":0},0.2,{"$f":"'2017 SD'!N109","v":0}]
[{"$f":"'2017 SD'!A110","v":"Town of Petersburgh"},{"$f":"'2017 SD'!L110","v":0},0.2,{"$f":"'2017 SD'!N110","v":0}]
[{"$f":"'2017 SD'!A111","v":"Berlin CSD"},{"$f":"'2017 SD'!L111","v":0},0.2,{"$f":"'2017 SD'!N111","v":0}]
[{"$f":"'2017 SD'!A112","v":"Hoosick Falls CSD"},{"$f":"'2017 SD'!L112","v":0},0.2,{"$f":"'2017 SD'!N112","v":0}]
[{"$f":"'2017 SD'!A113","v":"Town of Pittstown"},{"$f":"'2017 SD'!L113","v":0},0.2,{"$f":"'2017 SD'!N113","v":0}]
[{"$f":"'2017 SD'!A114","v":"Brunswick CSD"},{"$f":"'2017 SD'!L114","v":0},0.2,{"$f":"'2017 SD'!N114","v":0}]
[{"$f":"'2017 SD'!A115","v":"Cambridge CSD"},{"$f":"'2017 SD'!L115","v":0},0.2,{"$f":"'2017 SD'!N115","v":0}]
[{"$f":"'2017 SD'!A116","v":"Hoosic Valley CSD"},{"$f":"'2017 SD'!L116","v":0},0.2,{"$f":"'2017 SD'!N116","v":0}]
[{"$f":"'2017 SD'!A117","v":"Hoosick Falls CSD"},{"$f":"'2017 SD'!L117","v":0},0.2,{"$f":"'2017 SD'!N117","v":0}]
[{"$f":"'2017 SD'!A118","v":"Lansingburgh CSD"},{"$f":"'2017 SD'!L118","v":0},0.2,{"$f":"'2017 SD'!N118","v":0}]
[{"$f":"'2017 SD'!A119","v":"Village of Valley Falls (part)"},{"$f":"'2017 SD'!L119","v":0},0.2,{"$f":"'2017 SD'!N119","v":0}]
[{"$f":"'2017 SD'!A120","v":"Hoosic Valley CSD"},{"$f":"'2017 SD'!L120","v":0},0.2,{"$f":"'2017 SD'!N120","v":0}]
[{"$f":"'2017 SD'!A121","v":"Town of Poestenkill"},{"$f":"'2017 SD'!L121","v":0},0.2,{"$f":"'2017 SD'!N121","v":0}]
[{"$f":"'2017 SD'!A122","v":"Averill Park CSD"},{"$f":"'2017 SD'!L122","v":0},0.2,{"$f":"'2017 SD'!N122","v":0}]
[{"$f":"'2017 SD'!A123","v":"Berlin CSD"},{"$f":"'2017 SD'!L123","v":0},0.2,{"$f":"'2017 SD'!N123","v":0}]
[{"$f":"'2017 SD'!A124","v":"Brunswick CSD"},{"$f":"'2017 SD'!L124","v":0},0.2,{"$f":"'2017 SD'!N124","v":0}]
[{"$f":"'2017 SD'!A125","v":"Wynantskill UFSD"},{"$f":"'2017 SD'!L125","v":0},0.2,{"$f":"'2017 SD'!N125","v":0}]
[{"$f":"'2017 SD'!A126","v":"City of Rensselaer"},{"$f":"'2017 SD'!L126","v":0},0.2,{"$f":"'2017 SD'!N126","v":0}]
[{"$f":"'2017 SD'!A127","v":"Rensselaer City SD"},{"$f":"'2017 SD'!L127","v":0},0.2,{"$f":"'2017 SD'!N127","v":0}]
[{"$f":"'2017 SD'!A128","v":"Town of Sand Lake"},{"$f":"'2017 SD'!L128","v":0},0.2,{"$f":"'2017 SD'!N128","v":0}]
[{"$f":"'2017 SD'!A129","v":"Averill Park CSD"},{"$f":"'2017 SD'!L129","v":0},0.2,{"$f":"'2017 SD'!N129","v":0}]
[{"$f":"'2017 SD'!A130","v":"East Greenbush CSD"},{"$f":"'2017 SD'!L130","v":0},0.2,{"$f":"'2017 SD'!N130","v":0}]
[{"$f":"'2017 SD'!A131","v":"Town of Schaghticoke"},{"$f":"'2017 SD'!L131","v":0},0.2,{"$f":"'2017 SD'!N131","v":0}]
[{"$f":"'2017 SD'!A132","v":"Brunswick CSD"},{"$f":"'2017 SD'!L132","v":0},0.2,{"$f":"'2017 SD'!N132","v":0}]
[{"$f":"'2017 SD'!A133","v":"Cambridge CSD"},{"$f":"'2017 SD'!L133","v":0},0.2,{"$f":"'2017 SD'!N133","v":0}]
[{"$f":"'2017 SD'!A134","v":"Hoosic Valley CSD"},{"$f":"'2017 SD'!L134","v":0},0.2,{"$f":"'2017 SD'!N134","v":0}]
[{"$f":"'2017 SD'!A135","v":"Lansingburgh CSD"},{"$f":"'2017 SD'!L135","v":0},0.2,{"$f":"'2017 SD'!N135","v":0}]
[{"$f":"'2017 SD'!A136","v":"Mechanicville City SD"},{"$f":"'2017 SD'!L136","v":0},0.2,{"$f":"'2017 SD'!N136","v":0}]
[{"$f":"'2017 SD'!A137","v":"Stillwater CSD"},{"$f":"'2017 SD'!L137","v":0},{"$f":"IF(OR(D133=0,(D133-B133)<0.2),0.2,D133-B133)","v":0.2},{"$f":"'2017 SD'!N137","v":0}]
[{"$f":"'2017 SD'!A138","v":"Village of Schaghticoke"},{"$f":"'2017 SD'!L138","v":0},0.2,{"$f":"'2017 SD'!N138","v":0}]
[{"$f":"'2017 SD'!A139","v":"Hoosic Valley CSD"},{"$f":"'2017 SD'!L139","v":0},0.2,{"$f":"'2017 SD'!N139","v":0}]
[{"$f":"'2017 SD'!A140","v":"Village of Valley Falls (part)"},{"$f":"'2017 SD'!L140","v":0},0.2,{"$f":"'2017 SD'!N140","v":0}]
[{"$f":"'2017 SD'!A141","v":"Hoosic Valley CSD"},{"$f":"'2017 SD'!L141","v":0},0.2,{"$f":"'2017 SD'!N141","v":0}]
[{"$f":"'2017 SD'!A142","v":"Town of Schodack"},{"$f":"'2017 SD'!L142","v":0},0.2,{"$f":"'2017 SD'!N142","v":0}]
[{"$f":"'2017 SD'!A143","v":"Averill Park CSD"},{"$f":"'2017 SD'!L143","v":0},0.2,{"$f":"'2017 SD'!N143","v":0}]
[{"$f":"'2017 SD'!A144","v":"East Greenbush CSD"},{"$f":"'2017 SD'!L144","v":0},0.2,{"$f":"'2017 SD'!N144","v":0}]
[{"$f":"'2017 SD'!A145","v":"Kinderhook CSD"},{"$f":"'2017 SD'!L145","v":0},0.2,{"$f":"'2017 SD'!N145","v":0}]
[{"$f":"'2017 SD'!A146","v":"Schodack CSD"},{"$f":"'2017 SD'!L146","v":0},0.2,{"$f":"'2017 SD'!N146","v":0}]
[{"$f":"'2017 SD'!A147","v":"Village of Castleton-on-Hudson"},{"$f":"'2017 SD'!L147","v":0},0.2,{"$f":"'2017 SD'!N147","v":0}]
[{"$f":"'2017 SD'!A148","v":"Schodack CSD"},{"$f":"'2017 SD'!L148","v":0},0.2,{"$f":"'2017 SD'!N148","v":0}]
[{"$f":"'2017 SD'!A149","v":"Village of Nassau (part)"},{"$f":"'2017 SD'!L149","v":0},0.2,{"$f":"'2017 SD'!N149","v":0}]
[{"$f":"'2017 SD'!A150","v":"East Greenbush CSD"},{"$f":"'2017 SD'!L150","v":0},0.2,{"$f":"'2017 SD'!N150","v":0}]
[{"$f":"'2017 SD'!A151","v":"Town of Stephentown"},{"$f":"'2017 SD'!L151","v":0},0.2,{"$f":"'2017 SD'!N151","v":0}]
[{"$f":"'2017 SD'!A152","v":"Averill Park CSD"},{"$f":"'2017 SD'!L152","v":0},0.2,{"$f":"'2017 SD'!N152","v":0}]
[{"$f":"'2017 SD'!A153","v":"Berlin CSD"},{"$f":"'2017 SD'!L153","v":0},0.2,{"$f":"'2017 SD'!N153","v":0}]
[{"$f":"'2017 SD'!A154","v":"New Lebanon CSD"},{"$f":"'2017 SD'!L154","v":0},0.2,{"$f":"'2017 SD'!N154","v":0}]
[{"$f":"'2017 SD'!A155","v":"City of Troy"},{"$f":"'2017 SD'!L155","v":0},0.2,{"$f":"'2017 SD'!N155","v":0}]
[{"$f":"'2017 SD'!A156","v":"Lansingburgh CSD"},{"$f":"'2017 SD'!L156","v":0},0.2,{"$f":"'2017 SD'!N156","v":0}]
[{"$f":"'2017 SD'!A157","v":"Troy City SD"},{"$f":"'2017 SD'!L157","v":0},0.2,{"$f":"'2017 SD'!N157","v":0}]
[{"$f":"'2017 SD'!A158","v":"Saratoga County"},{"$f":"'2017 SD'!L158","v":0},0.2,{"$f":"'2017 SD'!N158","v":0}]
[{"$f":"'2017 SD'!A159","v":"Town of Ballston"},{"$f":"'2017 SD'!L159","v":0},0.2,{"$f":"'2017 SD'!N159","v":0}]
[{"$f":"'2017 SD'!A160","v":"Ballston Spa CSD"},{"$f":"'2017 SD'!L160","v":0},0.2,{"$f":"'2017 SD'!N160","v":0}]
[{"$f":"'2017 SD'!A161","v":"Burnt Hills-Ballston Lake CSD"},{"$f":"'2017 SD'!L161","v":0},0.2,{"$f":"'2017 SD'!N161","v":0}]
[{"$f":"'2017 SD'!A162","v":"Shenendehowa CSD"},{"$f":"'2017 SD'!L162","v":0},0.2,{"$f":"'2017 SD'!N162","v":0}]
[{"$f":"'2017 SD'!A163","v":"Village of Ballston Spa (part)"},{"$f":"'2017 SD'!L163","v":0},0.2,{"$f":"'2017 SD'!N163","v":0}]
[{"$f":"'2017 SD'!A164","v":"Ballston Spa CSD"},{"$f":"'2017 SD'!L164","v":0},0.2,{"$f":"'2017 SD'!N164","v":0}]
[{"$f":"'2017 SD'!A165","v":"Town of Charlton"},{"$f":"'2017 SD'!L165","v":0},0.2,{"$f":"'2017 SD'!N165","v":0}]
[{"$f":"'2017 SD'!A166","v":"Amsterdam City SD"},{"$f":"'2017 SD'!L166","v":0},0.2,{"$f":"'2017 SD'!N166","v":0}]
[{"$f":"'2017 SD'!A167","v":"Ballston Spa CSD"},{"$f":"'2017 SD'!L167","v":0},0.2,{"$f":"'2017 SD'!N167","v":0}]
[{"$f":"'2017 SD'!A168","v":"Burnt Hills-Ballston Lake CSD"},{"$f":"'2017 SD'!L168","v":0},0.2,{"$f":"'2017 SD'!N168","v":0}]
[{"$f":"'2017 SD'!A169","v":"Galway CSD"},{"$f":"'2017 SD'!L169","v":0},0.2,{"$f":"'2017 SD'!N169","v":0}]
[{"$f":"'2017 SD'!A170","v":"Scotia-Glenville CSD"},{"$f":"'2017 SD'!L170","v":0},0.2,{"$f":"'2017 SD'!N170","v":0}]
[{"$f":"'2017 SD'!A171","v":"Town of Clifton Park"},{"$f":"'2017 SD'!L171","v":0},0.2,{"$f":"'2017 SD'!N171","v":0}]
[{"$f":"'2017 SD'!A172","v":"Burnt Hills-Ballston Lake CSD"},{"$f":"'2017 SD'!L172","v":0},0.2,{"$f":"'2017 SD'!N172","v":0}]
[{"$f":"'2017 SD'!A173","v":"Niskayuna CSD"},{"$f":"'2017 SD'!L173","v":0},0.2,{"$f":"'2017 SD'!N173","v":0}]
[{"$f":"'2017 SD'!A174","v":"Shenendehowa CSD"},{"$f":"'2017 SD'!L174","v":0},0.2,{"$f":"'2017 SD'!N174","v":0}]
[{"$f":"'2017 SD'!A175","v":"Town of Corinth"},{"$f":"'2017 SD'!L175","v":0},0.2,{"$f":"'2017 SD'!N175","v":0}]
[{"$f":"'2017 SD'!A176","v":"Corinth CSD"},{"$f":"'2017 SD'!L176","v":0},0.2,{"$f":"'2017 SD'!N176","v":0}]
[{"$f":"'2017 SD'!A177","v":"Village of Corinth"},{"$f":"'2017 SD'!L177","v":0},0.2,{"$f":"'2017 SD'!N177","v":0}]
[{"$f":"'2017 SD'!A178","v":"Corinth CSD"},{"$f":"'2017 SD'!L178","v":0},0.2,{"$f":"'2017 SD'!N178","v":0}]
[{"$f":"'2017 SD'!A179","v":"Town of Day"},{"$f":"'2017 SD'!L179","v":0},0.2,{"$f":"'2017 SD'!N179","v":0}]
[{"$f":"'2017 SD'!A180","v":"Corinth CSD"},{"$f":"'2017 SD'!L180","v":0},0.2,{"$f":"'2017 SD'!N180","v":0}]
[{"$f":"'2017 SD'!A181","v":"Edinburg Common SD"},{"$f":"'2017 SD'!L181","v":0},0.2,{"$f":"'2017 SD'!N181","v":0}]
[{"$f":"'2017 SD'!A182","v":"Hadley-Luzerne CSD"},{"$f":"'2017 SD'!L182","v":0},0.2,{"$f":"'2017 SD'!N182","v":0}]
[{"$f":"'2017 SD'!A183","v":"Town of Edinburg"},{"$f":"'2017 SD'!L183","v":0},0.2,{"$f":"'2017 SD'!N183","v":0}]
[{"$f":"'2017 SD'!A184","v":"Broadalbin-Perth CSD"},{"$f":"'2017 SD'!L184","v":0},0.2,{"$f":"'2017 SD'!N184","v":0}]
[{"$f":"'2017 SD'!A185","v":"Edinburg Common SD"},{"$f":"'2017 SD'!L185","v":0},0.2,{"$f":"'2017 SD'!N185","v":0}]
[{"$f":"'2017 SD'!A186","v":"Hadley-Luzerne CSD"},{"$f":"'2017 SD'!L186","v":0},0.2,{"$f":"'2017 SD'!N186","v":0}]
[{"$f":"'2017 SD'!A187","v":"Northville CSD"},{"$f":"'2017 SD'!L187","v":0},0.2,{"$f":"'2017 SD'!N187","v":0}]
[{"$f":"'2017 SD'!A188","v":"Town of Galway"},{"$f":"'2017 SD'!L188","v":0},0.2,{"$f":"'2017 SD'!N188","v":0}]
[{"$f":"'2017 SD'!A189","v":"Broadalbin-Perth CSD"},{"$f":"'2017 SD'!L189","v":0},0.2,{"$f":"'2017 SD'!N189","v":0}]
[{"$f":"'2017 SD'!A190","v":"Galway CSD"},{"$f":"'2017 SD'!L190","v":0},0.2,{"$f":"'2017 SD'!N190","v":0}]
[{"$f":"'2017 SD'!A191","v":"Village of Galway"},{"$f":"'2017 SD'!L191","v":0},0.2,{"$f":"'2017 SD'!N191","v":0}]
[{"$f":"'2017 SD'!A192","v":"Galway CSD"},{"$f":"'2017 SD'!L192","v":0},0.2,{"$f":"'2017 SD'!N192","v":0}]
[{"$f":"'2017 SD'!A193","v":"Town of Greenfield"},{"$f":"'2017 SD'!L193","v":0},0.2,{"$f":"'2017 SD'!N193","v":0}]
[{"$f":"'2017 SD'!A194","v":"Corinth CSD"},{"$f":"'2017 SD'!L194","v":0},0.2,{"$f":"'2017 SD'!N194","v":0}]
[{"$f":"'2017 SD'!A195","v":"Saratoga Springs City SD"},{"$f":"'2017 SD'!L195","v":0},0.2,{"$f":"'2017 SD'!N195","v":0}]
[{"$f":"'2017 SD'!A196","v":"Town of Hadley"},{"$f":"'2017 SD'!L196","v":0},0.2,{"$f":"'2017 SD'!N196","v":0}]
[{"$f":"'2017 SD'!A197","v":"Corinth CSD"},{"$f":"'2017 SD'!L197","v":0},0.2,{"$f":"'2017 SD'!N197","v":0}]
[{"$f":"'2017 SD'!A198","v":"Hadley-Luzerne CSD"},{"$f":"'2017 SD'!L198","v":0},0.2,{"$f":"'2017 SD'!N198","v":0}]
[{"$f":"'2017 SD'!A199","v":"Town of Halfmoon"},{"$f":"'2017 SD'!L199","v":0},0.2,{"$f":"'2017 SD'!N199","v":0}]
[{"$f":"'2017 SD'!A200","v":"Mechanicville City SD"},{"$f":"'2017 SD'!L200","v":0},0.2,{"$f":"'2017 SD'!N200","v":0}]
[{"$f":"'2017 SD'!A201","v":"Shenendehowa CSD"},{"$f":"'2017 SD'!L201","v":0},{"$f":"IF(OR(D197=0,(D197-B197)<0.2),0.2,D197-B197)","v":0.2},{"$f":"'2017 SD'!N201","v":0}]
[{"$f":"'2017 SD'!A202","v":"Waterford-Halfmoon UFSD"},{"$f":"'2017 SD'!L202","v":0},0.2,{"$f":"'2017 SD'!N202","v":0}]
[{"$f":"'2017 SD'!A203","v":"Town of Malta"},{"$f":"'2017 SD'!L203","v":0},0.2,{"$f":"'2017 SD'!N203","v":0}]
[{"$f":"'2017 SD'!A204","v":"Ballston Spa CSD"},{"$f":"'2017 SD'!L204","v":0},0.2,{"$f":"'2017 SD'!N204","v":0}]
[{"$f":"'2017 SD'!A205","v":"Saratoga Springs City SD"},{"$f":"'2017 SD'!L205","v":0},0.2,{"$f":"'2017 SD'!N205","v":0}]
[{"$f":"'2017 SD'!A206","v":"Shenendehowa CSD"},{"$f":"'2017 SD'!L206","v":0},0.2,{"$f":"'2017 SD'!N206","v":0}]
[{"$f":"'2017 SD'!A207","v":"Village of Round Lake"},{"$f":"'2017 SD'!L207","v":0},0.2,{"$f":"'2017 SD'!N207","v":0}]
[{"$f":"'2017 SD'!A208","v":"Shenendehowa CSD"},{"$f":"'2017 SD'!L208","v":0},0.2,{"$f":"'2017 SD'!N208","v":0}]
[{"$f":"'2017 SD'!A209","v":"City of Mechanicville"},{"$f":"'2017 SD'!L209","v":0},0.2,{"$f":"'2017 SD'!N209","v":0}]
[{"$f":"'2017 SD'!A210","v":"Mechanicville City SD"},{"$f":"'2017 SD'!L210","v":0},0.2,{"$f":"'2017 SD'!N210","v":0}]
[{"$f":"'2017 SD'!A211","v":"Town of Milton"},{"$f":"'2017 SD'!L211","v":0},0.2,{"$f":"'2017 SD'!N211","v":0}]
[{"$f":"'2017 SD'!A212","v":"Ballston Spa CSD"},{"$f":"'2017 SD'!L212","v":0},0.2,{"$f":"'2017 SD'!N212","v":0}]
[{"$f":"'2017 SD'!A213","v":"Galway CSD"},{"$f":"'2017 SD'!L213","v":0},0.2,{"$f":"'2017 SD'!N213","v":0}]
[{"$f":"'2017 SD'!A214","v":"Saratoga Springs City SD"},{"$f":"'2017 SD'!L214","v":0},0.2,{"$f":"'2017 SD'!N214","v":0}]
[{"$f":"'2017 SD'!A215","v":"Village of Ballston Spa (part)"},{"$f":"'2017 SD'!L215","v":0},0.2,{"$f":"'2017 SD'!N215","v":0}]
[{"$f":"'2017 SD'!A216","v":"Ballston Spa CSD"},{"$f":"'2017 SD'!L216","v":0},0.2,{"$f":"'2017 SD'!N216","v":0}]
[{"$f":"'2017 SD'!A217","v":"Town of Moreau"},{"$f":"'2017 SD'!L217","v":0},0.2,{"$f":"'2017 SD'!N217","v":0}]
[{"$f":"'2017 SD'!A218","v":"Hudson Falls CSD"},{"$f":"'2017 SD'!L218","v":0},0.2,{"$f":"'2017 SD'!N218","v":0}]
[{"$f":"'2017 SD'!A219","v":"South Glens Falls CSD"},{"$f":"'2017 SD'!L219","v":0},0.2,{"$f":"'2017 SD'!N219","v":0}]
[{"$f":"'2017 SD'!A220","v":"Village of South Glens Falls"},{"$f":"'2017 SD'!L220","v":0},0.2,{"$f":"'2017 SD'!N220","v":0}]
[{"$f":"'2017 SD'!A221","v":"South Glens Falls CSD"},{"$f":"'2017 SD'!L221","v":0},0.2,{"$f":"'2017 SD'!N221","v":0}]
[{"$f":"'2017 SD'!A222","v":"Town of Northumberland"},{"$f":"'2017 SD'!L222","v":0},0.2,{"$f":"'2017 SD'!N222","v":0}]
[{"$f":"'2017 SD'!A223","v":"Schuylerville CSD"},{"$f":"'2017 SD'!L223","v":0},0.2,{"$f":"'2017 SD'!N223","v":0}]
[{"$f":"'2017 SD'!A224","v":"South Glens Falls CSD"},{"$f":"'2017 SD'!L224","v":0},0.2,{"$f":"'2017 SD'!N224","v":0}]
[{"$f":"'2017 SD'!A225","v":"Town of Providence"},{"$f":"'2017 SD'!L225","v":0},0.2,{"$f":"'2017 SD'!N225","v":0}]
[{"$f":"'2017 SD'!A226","v":"Broadalbin-Perth CSD"},{"$f":"'2017 SD'!L226","v":0},0.2,{"$f":"'2017 SD'!N226","v":0}]
[{"$f":"'2017 SD'!A227","v":"Galway CSD"},{"$f":"'2017 SD'!L227","v":0},0.2,{"$f":"'2017 SD'!N227","v":0}]
[{"$f":"'2017 SD'!A228","v":"Town of Saratoga"},{"$f":"'2017 SD'!L228","v":0},0.2,{"$f":"'2017 SD'!N228","v":0}]
[{"$f":"'2017 SD'!A229","v":"Saratoga Springs City SD"},{"$f":"'2017 SD'!L229","v":0},0.2,{"$f":"'2017 SD'!N229","v":0}]
[{"$f":"'2017 SD'!A230","v":"Schuylerville CSD"},{"$f":"'2017 SD'!L230","v":0},0.2,{"$f":"'2017 SD'!N230","v":0}]
[{"$f":"'2017 SD'!A231","v":"Stillwater CSD"},{"$f":"'2017 SD'!L231","v":0},0.2,{"$f":"'2017 SD'!N231","v":0}]
[{"$f":"'2017 SD'!A232","v":"Village of Schuylerville"},{"$f":"'2017 SD'!L232","v":0},0.2,{"$f":"'2017 SD'!N232","v":0}]
[{"$f":"'2017 SD'!A233","v":"Schuylerville CSD"},{"$f":"'2017 SD'!L233","v":0},0.2,{"$f":"'2017 SD'!N233","v":0}]
[{"$f":"'2017 SD'!A234","v":"Village of Victory"},{"$f":"'2017 SD'!L234","v":0},0.2,{"$f":"'2017 SD'!N234","v":0}]
[{"$f":"'2017 SD'!A235","v":"Schuylerville CSD"},{"$f":"'2017 SD'!L235","v":0},0.2,{"$f":"'2017 SD'!N235","v":0}]
[{"$f":"'2017 SD'!A236","v":"City of Saratoga Springs"},{"$f":"'2017 SD'!L236","v":0},0.2,{"$f":"'2017 SD'!N236","v":0}]
[{"$f":"'2017 SD'!A237","v":"Saratoga Springs City SD"},{"$f":"'2017 SD'!L237","v":0},0.2,{"$f":"'2017 SD'!N237","v":0}]
[{"$f":"'2017 SD'!A238","v":"Town of Stillwater"},{"$f":"'2017 SD'!L238","v":0},0.2,{"$f":"'2017 SD'!N238","v":0}]
[{"$f":"'2017 SD'!A239","v":"Mechanicville City SD"},{"$f":"'2017 SD'!L239","v":0},0.2,{"$f":"'2017 SD'!N239","v":0}]
[{"$f":"'2017 SD'!A240","v":"Schuylerville CSD"},{"$f":"'2017 SD'!L240","v":0},0.2,{"$f":"'2017 SD'!N240","v":0}]
[{"$f":"'2017 SD'!A241","v":"Shenendehowa CSD"},{"$f":"'2017 SD'!L241","v":0},0.2,{"$f":"'2017 SD'!N241","v":0}]
[{"$f":"'2017 SD'!A242","v":"Stillwater CSD"},{"$f":"'2017 SD'!L242","v":0},0.2,{"$f":"'2017 SD'!N242","v":0}]
[{"$f":"'2017 SD'!A243","v":"Village of Stillwater"},{"$f":"'2017 SD'!L243","v":0},0.2,{"$f":"'2017 SD'!N243","v":0}]
[{"$f":"'2017 SD'!A244","v":"Stillwater CSD"},{"$f":"'2017 SD'!L244","v":0},0.2,{"$f":"'2017 SD'!N244","v":0}]
[{"$f":"'2017 SD'!A245","v":"Town of Waterford"},{"$f":"'2017 SD'!L245","v":0},0.2,{"$f":"'2017 SD'!N245","v":0}]
[{"$f":"'2017 SD'!A246","v":"Shenendehowa CSD"},{"$f":"'2017 SD'!L246","v":0},0.2,{"$f":"'2017 SD'!N246","v":0}]
[{"$f":"'2017 SD'!A247","v":"Waterford-Halfmoon UFSD"},{"$f":"'2017 SD'!L247","v":0},0.2,{"$f":"'2017 SD'!N247","v":0}]
[{"$f":"'2017 SD'!A248","v":"Village of Waterford"},{"$f":"'2017 SD'!L248","v":0},0.2,{"$f":"'2017 SD'!N248","v":0}]
[{"$f":"'2017 SD'!A249","v":"Waterford-Halfmoon UFSD"},{"$f":"'2017 SD'!L249","v":0},0.2,{"$f":"'2017 SD'!N249","v":0}]
[{"$f":"'2017 SD'!A250","v":"Town of Wilton"},{"$f":"'2017 SD'!L250","v":0},0.2,{"$f":"'2017 SD'!N250","v":0}]
[{"$f":"'2017 SD'!A251","v":"Corinth CSD"},{"$f":"'2017 SD'!L251","v":0},0.2,{"$f":"'2017 SD'!N251","v":0}]
[{"$f":"'2017 SD'!A252","v":"Saratoga Springs City SD"},{"$f":"'2017 SD'!L252","v":0},0.2,{"$f":"'2017 SD'!N252","v":0}]
[{"$f":"'2017 SD'!A253","v":"Schuylerville CSD"},{"$f":"'2017 SD'!L253","v":0},0.2,{"$f":"'2017 SD'!N253","v":0}]
[{"$f":"'2017 SD'!A254","v":"South Glens Falls CSD"},{"$f":"'2017 SD'!L254","v":0},0.2,{"$f":"'2017 SD'!N254","v":0}]
[{"$f":"'2017 SD'!A255","v":"Schenectady County"},{"$f":"'2017 SD'!L255","v":0},0.2,{"$f":"'2017 SD'!N255","v":0}]
[{"$f":"'2017 SD'!A256","v":"Town of Duanesburg"},{"$f":"'2017 SD'!L256","v":0},0.2,{"$f":"'2017 SD'!N256","v":0}]
[{"$f":"'2017 SD'!A257","v":"Amsterdam City SD"},{"$f":"'2017 SD'!L257","v":0},0.2,{"$f":"'2017 SD'!N257","v":0}]
[{"$f":"'2017 SD'!A258","v":"Duanesburg CSD"},{"$f":"'2017 SD'!L258","v":0},0.2,{"$f":"'2017 SD'!N258","v":0}]
[{"$f":"'2017 SD'!A259","v":"Schalmont CSD"},{"$f":"'2017 SD'!L259","v":0},0.2,{"$f":"'2017 SD'!N259","v":0}]
[{"$f":"'2017 SD'!A260","v":"Schoharie CSD"},{"$f":"'2017 SD'!L260","v":0},0.2,{"$f":"'2017 SD'!N260","v":0}]
[{"$f":"'2017 SD'!A261","v":"Village of Delanson"},{"$f":"'2017 SD'!L261","v":0},0.2,{"$f":"'2017 SD'!N261","v":0}]
[{"$f":"'2017 SD'!A262","v":"Duanesburg CSD"},{"$f":"'2017 SD'!L262","v":0},0.2,{"$f":"'2017 SD'!N262","v":0}]
[{"$f":"'2017 SD'!A263","v":"Town of Glenville"},{"$f":"'2017 SD'!L263","v":0},0.2,{"$f":"'2017 SD'!N263","v":0}]
[{"$f":"'2017 SD'!A264","v":"Amsterdam City SD"},{"$f":"'2017 SD'!L264","v":0},0.2,{"$f":"'2017 SD'!N264","v":0}]
[{"$f":"'2017 SD'!A265","v":"Burnt Hills-Ballston Lake CSD"},{"$f":"'2017 SD'!L265","v":0},{"$f":"IF(OR(D261=0,(D261-B261)<0.2),0.2,D261-B261)","v":0.2},{"$f":"'2017 SD'!N265","v":0}]
[{"$f":"'2017 SD'!A266","v":"Galway CSD"},{"$f":"'2017 SD'!L266","v":0},0.2,{"$f":"'2017 SD'!N266","v":0}]
[{"$f":"'2017 SD'!A267","v":"Niskayuna CSD"},{"$f":"'2017 SD'!L267","v":0},0.2,{"$f":"'2017 SD'!N267","v":0}]
[{"$f":"'2017 SD'!A268","v":"Scotia-Glenville CSD"},{"$f":"'2017 SD'!L268","v":0},0.2,{"$f":"'2017 SD'!N268","v":0}]
[{"$f":"'2017 SD'!A269","v":"Village of Scotia"},{"$f":"'2017 SD'!L269","v":0},0.2,{"$f":"'2017 SD'!N269","v":0}]
[{"$f":"'2017 SD'!A270","v":"Scotia-Glenville CSD"},{"$f":"'2017 SD'!L270","v":0},0.2,{"$f":"'2017 SD'!N270","v":0}]
[{"$f":"'2017 SD'!A271","v":"Town of Niskayuna"},{"$f":"'2017 SD'!L271","v":0},0.2,{"$f":"'2017 SD'!N271","v":0}]
[{"$f":"'2017 SD'!A272","v":"Niskayuna CSD"},{"$f":"'2017 SD'!L272","v":0},0.2,{"$f":"'2017 SD'!N272","v":0}]
[{"$f":"'2017 SD'!A273","v":"South Colonie CSD"},{"$f":"'2017 SD'!L273","v":0},0.2,{"$f":"'2017 SD'!N273","v":0}]
[{"$f":"'2017 SD'!A274","v":"Town of Princetown"},{"$f":"'2017 SD'!L274","v":0},0.2,{"$f":"'2017 SD'!N274","v":0}]
[{"$f":"'2017 SD'!A275","v":"Duanesburg CSD"},{"$f":"'2017 SD'!L275","v":0},0.2,{"$f":"'2017 SD'!N275","v":0}]
[{"$f":"'2017 SD'!A276","v":"Schalmont CSD"},{"$f":"'2017 SD'!L276","v":0},0.2,{"$f":"'2017 SD'!N276","v":0}]
[{"$f":"'2017 SD'!A277","v":"Town of Rotterdam"},{"$f":"'2017 SD'!L277","v":0},0.2,{"$f":"'2017 SD'!N277","v":0}]
[{"$f":"'2017 SD'!A278","v":"Rotterdam-Mohonasen CSD"},{"$f":"'2017 SD'!L278","v":0},0.2,{"$f":"'2017 SD'!N278","v":0}]
[{"$f":"'2017 SD'!A279","v":"Schalmont CSD"},{"$f":"'2017 SD'!L279","v":0},0.2,{"$f":"'2017 SD'!N279","v":0}]
[{"$f":"'2017 SD'!A280","v":"Schenectady City SD"},{"$f":"'2017 SD'!L280","v":0},0.2,{"$f":"'2017 SD'!N280","v":0}]
[{"$f":"'2017 SD'!A281","v":"City of Schenectady"},{"$f":"'2017 SD'!L281","v":0},0.2,{"$f":"'2017 SD'!N281","v":0}]
[{"$f":"'2017 SD'!A282","v":"Schenectady City SD"},{"$f":"'2017 SD'!L282","v":0},0.2,{"$f":"'2017 SD'!N282","v":0}]
[{"$f":"'2017 SD'!A283","v":"Capital District"},{"$f":"'2017 SD'!L283","v":0},40.700000000000003,{"$f":"'2017 SD'!N283","v":40.700000000000003}]
[null,{"$f":"MIN(B4:B279)","v":0},null,{"$f":"MIN(D4:D279)","v":0}]
[null,{"$f":"MAX(B4:B279)","v":40.700000000000003},null,{"$f":"MAX(D4:D279)","v":40.700000000000003}]

{"sheet":"2011Homestead&Village NonFilers","index":16,"n_rows":26,"n_cols":4,"rows_kept":26,"cut":false,"hidden":false,"merged":[]}
[2011]
["LOCALITIES THAT IMPOSE HOMESTEAD AND NON-HOMESTEAD RATES"]
["Localities are listed by county. School districts (S.D.) may impose homestead/non-homestead rates in all or"]
["some of the towns and/or cities in which the district is located."]
[]
["Albany County"]
["Albany City"]
["Albany S.D."]
["Niskayuna S.D."]
[]
["Rensselaer County"]
["East Greenbush Town"]
["East Greenbush Central S.D."]
[]
["Schenectady County"]
["Niskayuna Town"]
["Rotterdam Town"]
["Niskayuna Central S.D."]
["Schalmont Central S.D."]
[]
[]
[]
[]
["Municipal Code","Village Name","County Location","Town Location"]
["410474704490","Village of Schuylerville","Saratoga","Town of Saratoga"]
["410474705070","Village of Victory","Saratoga","Town of Saratoga"]

{"sheet":"2011Table2","index":17,"n_rows":200,"n_cols":24,"rows_kept":200,"cut":false,"hidden":false,"merged":[]}
[null,"NOTE: Villages that reflect a zero village tax rate probably have not filed their information with this office;  see the 2011 Village Non-Filers tab.",null,null,"TABLE 2 - 2011 OVERALL PROPERTY TAX RATES"]
["2009-03-30",null,null,null,null,"Percent","Percent","ASSESSED VALUE TAX RATES (per $1,000 assessed valuation)",null,null,null,null,null,null,"EQUALIZATION RATES",null,null,"FULL VALUE TAX RATES (per $1,000 full valuation)"]
[null,null,null,"TOWN",null,"Of","Of City/",null,null,null,null,null,"Town",null,null,"Town","City /",null,null,null,null,null,"Town"]
[null,null,null,"IN WHICH",null,"School","Town",null,null,null,null,null,"Special",null,"City /","(applied to ","Town",null,null,null,null,null,"Special"]
["COUNTY","MUNICIPAL NAME","CLASS","VILLAGE IS","SCHOOL DISTRICT NAME","in","in",null,null,"City /",null,"Sub","District",null,"Town/","Village's Co. "," (applied to",null,null,"City/",null,"Sub","District"]
["NAME",null,null,"LOCATED",null,"City/Town","School","County","Town","Village","School","Total","(computed)","Total","Village","& Town AV rate)","School) ","County","Town","Village","School","Total","(computed)","Total"]
["ALBANY","ALBANY","CITY",null,"ALBANY",100,100,3.26,null,10.96,22.4,36.619999999999997,null,36.619999999999997,0.99399999999999999,null,0.99399999999999999,3.24,null,10.89,22.27,36.4,null,36.4]
["ALBANY","ALTAMONT","VILLAGE","GUILDERLAND","GUILDERLAND",null,null,3.68,0.28999999999999998,2.68,21.1,27.75,null,27.75,0.79090000000000005,0.85050000000000003,0.85050000000000003,3.13,0.25,2.12,17.95,23.45,null,23.45]
["ALBANY","BERNE","TOWN",null,"BERNE-KNOX-WESTERLO",40.71,89.98,5.13,4.74,null,28.09,37.96,2.5,40.46,0.62,null,0.62,3.18,2.94,null,17.420000000000002,23.54,1.55,25.09]
["ALBANY","BERNE","TOWN",null,"GREENVILLE",0.04,0.14000000000000001,5.13,4.74,null,28.04,37.909999999999997,2.5,40.409999999999997,0.62,null,0.62,3.18,2.94,null,17.38,23.5,1.55,25.05]
["ALBANY","BERNE","TOWN",null,"MIDDLEBURGH",3.11,5.37,5.13,4.74,null,29.49,39.36,2.5,41.86,0.62,null,0.62,3.18,2.94,null,18.28,24.4,1.55,25.95]
["ALBANY","BERNE","TOWN",null,"VOORHEESVILLE",1.35,4.49,5.13,4.74,null,28.67,38.54,2.5,41.04,0.62,null,0.62,3.18,2.94,null,17.78,23.9,1.55,25.45]
["ALBANY","BETHLEHEM","TOWN",null,"BETHLEHEM",91.93,79.89,3.25,1.9,null,20.87,26.02,2.61,28.63,0.97,null,0.97,3.15,1.84,null,20.239999999999998,25.23,2.5299999999999998,27.76]
["ALBANY","BETHLEHEM","TOWN",null,"GUILDERLAND",6,6.23,3.25,1.9,null,18.5,23.65,2.61,26.26,0.97,null,0.97,3.15,1.84,null,17.95,22.94,2.5299999999999998,25.47]
["ALBANY","BETHLEHEM","TOWN",null,"RAVENA-COEYMANS-SELKIRK",38.11,13.87,3.25,1.9,null,19.3,24.45,2.61,27.06,0.97,null,0.97,3.15,1.84,null,18.72,23.71,2.5299999999999998,26.24]
["ALBANY","COEYMANS","TOWN",null,"GREENVILLE",1.79,2.4,3.17,2.96,null,17.38,23.51,1.36,24.87,1,null,1,3.17,2.96,null,17.38,23.51,1.36,24.87]
["ALBANY","COEYMANS","TOWN",null,"RAVENA-COEYMANS-SELKIRK",48.92,97.59,3.17,2.96,null,18.72,24.85,1.36,26.21,1,null,1,3.17,2.96,null,18.72,24.85,1.36,26.21]
["ALBANY","COHOES","CITY",null,"COHOES",100,100,5.9,null,16.989999999999998,32.72,55.61,null,55.61,0.54,null,0.54,3.19,null,9.17,17.670000000000002,30.03,null,30.03]
["ALBANY","COLONIE","TOWN",null,"MENANDS",100,4.3499999999999996,4.7,3.07,null,23.92,31.69,3.72,35.409999999999997,0.67,null,0.67,3.15,2.06,null,16.03,21.24,2.4900000000000002,23.73]
["ALBANY","COLONIE","TOWN",null,"NISKAYUNA",7.16,2.23,4.7,3.07,null,30.15,37.92,3.72,41.64,0.67,null,0.67,3.15,2.06,null,20.2,25.41,2.4900000000000002,27.9]
["ALBANY","COLONIE","TOWN",null,"NORTH COLONIE CENTRAL",100,52.18,4.7,3.07,null,21.81,29.58,3.72,33.299999999999997,0.67,null,0.67,3.15,2.06,null,14.61,19.82,2.4900000000000002,22.31]
["ALBANY","COLONIE","TOWN",null,"ROTTERDAM-MOHONASEN",3.9,0.65,4.7,3.07,null,22.67,30.44,3.72,34.159999999999997,0.67,null,0.67,3.15,2.06,null,15.19,20.399999999999999,2.4900000000000002,22.89]
["ALBANY","COLONIE","TOWN",null,"SOUTH COLONIE",90.31,39.86,4.7,3.07,null,24.05,31.82,3.72,35.54,0.67,null,0.67,3.15,2.06,null,16.11,21.32,2.4900000000000002,23.81]
["ALBANY","COLONIE","VILLAGE","COLONIE","SOUTH COLONIE",null,null,4.7,3.07,38,24.05,69.819999999999993,null,69.819999999999993,3.5299999999999998E-2,0.67,0.67,3.15,2.06,1.34,16.11,22.66,null,22.66]
["ALBANY","COLONIE","TOWN",null,"WATERVLIET",12.71,0.69,4.7,3.07,null,18.5,26.27,3.72,29.99,0.67,null,0.67,3.15,2.06,null,12.4,17.61,2.4900000000000002,20.100000000000001]
["ALBANY","GREEN ISLAND","TOWN",null,"GREEN ISLAND",100,100,54.3,0,null,336.63,390.93,0,390.93,5.3800000000000001E-2,null,5.3800000000000001E-2,2.92,0,null,18.11,21.03,0,21.03]
["ALBANY","GREEN ISLAND","VILLAGE","GREEN ISLAND","GREEN ISLAND",null,null,54.3,0,208.85,336.63,599.78,null,599.78,5.3800000000000001E-2,5.3800000000000001E-2,5.3800000000000001E-2,2.92,0,11.24,18.11,32.270000000000003,null,32.270000000000003]
["ALBANY","GUILDERLAND","TOWN",null,"GUILDERLAND",92.82,91.13,3.68,1.28,null,21.1,26.06,3.83,29.89,0.85050000000000003,null,0.85050000000000003,3.13,1.0900000000000001,null,17.95,22.17,3.26,25.43]
["ALBANY","GUILDERLAND","TOWN",null,"ROTTERDAM-MOHONASEN",4.5599999999999996,1.84,3.68,1.28,null,17.86,22.82,3.83,26.65,0.85050000000000003,null,0.85050000000000003,3.13,1.0900000000000001,null,15.19,19.41,3.26,22.67]
["ALBANY","GUILDERLAND","TOWN",null,"SCHALMONT",2.85,1.19,3.68,1.28,null,21.11,26.07,3.83,29.9,0.85050000000000003,null,0.85050000000000003,3.13,1.0900000000000001,null,17.95,22.17,3.26,25.43]
["ALBANY","GUILDERLAND","TOWN",null,"SOUTH COLONIE",7.0000000000000007E-2,0.08,3.68,1.28,null,18.940000000000001,23.9,3.83,27.73,0.85050000000000003,null,0.85050000000000003,3.13,1.0900000000000001,null,16.11,20.329999999999998,3.26,23.59]
["ALBANY","GUILDERLAND","TOWN",null,"VOORHEESVILLE",22.86,5.74,3.68,1.28,null,20.9,25.86,3.83,29.69,0.85050000000000003,null,0.85050000000000003,3.13,1.0900000000000001,null,17.78,22,3.26,25.26]
["ALBANY","KNOX","TOWN",null,"BERNE-KNOX-WESTERLO",33.979999999999997,86.44,5.55,1.85,null,30.55,37.950000000000003,2.06,40.01,0.56999999999999995,null,0.56999999999999995,3.16,1.05,null,17.41,21.62,1.17,22.79]
["ALBANY","KNOX","TOWN",null,"DUANESBURG",1.28,2.27,5.55,1.85,null,29.79,37.19,2.06,39.25,0.56999999999999995,null,0.56999999999999995,3.16,1.05,null,16.98,21.19,1.17,22.36]
["ALBANY","KNOX","TOWN",null,"GUILDERLAND",0.69,10.43,5.55,1.85,null,31.48,38.880000000000003,2.06,40.94,0.56999999999999995,null,0.56999999999999995,3.16,1.05,null,17.940000000000001,22.15,1.17,23.32]
["ALBANY","KNOX","TOWN",null,"SCHOHARIE",0.45,0.85,5.55,1.85,null,33.68,41.08,2.06,43.14,0.56999999999999995,null,0.56999999999999995,3.16,1.05,null,19.2,23.41,1.17,24.58]
["ALBANY","MENANDS","VILLAGE","COLONIE","MENANDS",null,null,4.7,3.07,6.26,23.92,37.950000000000003,null,37.950000000000003,0.65749999999999997,0.67,0.67,3.15,2.06,4.12,16.03,25.36,null,25.36]
["ALBANY","NEW SCOTLAND","TOWN",null,"BERNE-KNOX-WESTERLO",1.1100000000000001,0.66,3.36,1.71,null,18.53,23.6,1.47,25.07,0.94,null,0.94,3.16,1.61,null,17.420000000000002,22.19,1.38,23.57]
["ALBANY","NEW SCOTLAND","TOWN",null,"BETHLEHEM",8.06,23.62,3.36,1.71,null,21.53,26.6,1.47,28.07,0.94,null,0.94,3.16,1.61,null,20.239999999999998,25.01,1.38,26.39]
["ALBANY","NEW SCOTLAND","TOWN",null,"GREENVILLE",0.12,0.09,3.36,1.71,null,18.489999999999998,23.56,1.47,25.03,0.94,null,0.94,3.16,1.61,null,17.38,22.15,1.38,23.53]
["ALBANY","NEW SCOTLAND","TOWN",null,"GUILDERLAND",0.47,1.65,3.36,1.71,null,19.149999999999999,24.22,1.47,25.69,0.94,null,0.94,3.16,1.61,null,18,22.77,1.38,24.15]
["ALBANY","NEW SCOTLAND","TOWN",null,"RAVENA-COEYMANS-SELKIRK",4.9800000000000004,6.12,3.36,1.71,null,19.91,24.98,1.47,26.45,0.94,null,0.94,3.16,1.61,null,18.72,23.49,1.38,24.87]
["ALBANY","NEW SCOTLAND","TOWN",null,"VOORHEESVILLE",75.78,67.83,3.36,1.71,null,18.91,23.98,1.47,25.45,0.94,null,0.94,3.16,1.61,null,17.78,22.55,1.38,23.93]
["ALBANY","RAVENA","VILLAGE","COEYMANS","RAVENA-COEYMANS-SELKIRK",null,null,3.17,2.96,4.49,18.72,29.34,null,29.34,0.99250000000000005,1,1,3.17,2.96,4.46,18.72,29.31,null,29.31]
["ALBANY","RENSSELAERVILLE","TOWN",null,"BERNE-KNOX-WESTERLO",0.06,0.15,5.79,7.76,null,32.130000000000003,45.68,1.38,47.06,0.54200000000000004,null,0.54200000000000004,3.14,4.21,null,17.41,24.76,0.75,25.51]
["ALBANY","RENSSELAERVILLE","TOWN",null,"CAIRO-DURHAM",1.21,4.6900000000000004,5.79,7.76,null,22.01,35.56,1.38,36.94,0.54200000000000004,null,0.54200000000000004,3.14,4.21,null,11.93,19.28,0.75,20.03]
["ALBANY","RENSSELAERVILLE","TOWN",null,"GREENVILLE",18.23,61.55,5.79,7.76,null,32.07,45.62,1.38,47,0.54200000000000004,null,0.54200000000000004,3.14,4.21,null,17.38,24.73,0.75,25.48]
["ALBANY","RENSSELAERVILLE","TOWN",null,"MIDDLEBURGH",17.64,33.590000000000003,5.79,7.76,null,33.74,47.29,1.38,48.67,0.54200000000000004,null,0.54200000000000004,3.14,4.21,null,18.29,25.64,0.75,26.39]
["ALBANY","VOORHEESVILLE","VILLAGE","NEW SCOTLAND","VOORHEESVILLE",null,null,3.36,1.25,1.1000000000000001,18.91,24.62,null,24.62,0.94,0.94,0.94,3.16,1.18,1.03,17.78,23.15,null,23.15]
["ALBANY","WATERVLIET","CITY",null,"WATERVLIET",87.28,100,5.1100000000000003,null,15.54,19.91,40.56,null,40.56,0.62250000000000005,null,0.62250000000000005,3.18,null,9.67,12.39,25.24,null,25.24]
["ALBANY","WESTERLO","TOWN",null,"BERNE-KNOX-WESTERLO",24.04,43.09,379.91,260.60000000000002,null,2048.92,2689.43,104.54,2793.97,8.5000000000000006E-3,null,8.5000000000000006E-3,3.23,2.2200000000000002,null,17.420000000000002,22.87,0.89,23.76]
["ALBANY","WESTERLO","TOWN",null,"GREENVILLE",22.95,56.9,379.91,260.60000000000002,null,2045.22,2685.73,104.54,2790.27,8.5000000000000006E-3,null,8.5000000000000006E-3,3.23,2.2200000000000002,null,17.38,22.83,0.89,23.72]
[]
["RENSSELAER","BERLIN","TOWN",null,"AVERILL PARK",1.05,10.06,22.16,9.43,null,64.34,95.93,5.74,101.67,0.246,null,0.246,5.45,2.3199999999999998,null,15.83,23.6,1.41,25.01]
["RENSSELAER","BERLIN","TOWN",null,"BERLIN",24.76,89.93,22.16,9.43,null,57.6,89.19,5.74,94.93,0.246,null,0.246,5.45,2.3199999999999998,null,14.17,21.94,1.41,23.35]
["RENSSELAER","BRUNSWICK","TOWN",null,"AVERILL PARK",9.9499999999999993,15.39,21.58,7.91,null,62.56,92.05,8.84,100.89,0.253,null,0.253,5.46,2,null,15.83,23.29,2.2400000000000002,25.53]
["RENSSELAER","BRUNSWICK","TOWN",null,"BRUNSWICK",65.58,41.1,21.58,7.91,null,66.89,96.38,8.84,105.22,0.253,null,0.253,5.46,2,null,16.920000000000002,24.38,2.2400000000000002,26.62]
["RENSSELAER","BRUNSWICK","TOWN",null,"LANSINGBURGH",14.47,12.24,21.58,7.91,null,62.22,91.71,8.84,100.55,0.253,null,0.253,5.46,2,null,15.74,23.2,2.2400000000000002,25.44]
["RENSSELAER","BRUNSWICK","TOWN",null,"TROY",18.079999999999998,31.25,21.58,7.91,null,72.459999999999994,101.95,8.84,110.79,0.253,null,0.253,5.46,2,null,18.329999999999998,25.79,2.2400000000000002,28.03]
["RENSSELAER","BRUNSWICK","TOWN",null,"WYNANTSKILL",0,0,21.58,7.91,null,75.510000000000005,105,8.84,113.84,0.253,null,0.253,5.46,2,null,19.100000000000001,26.56,2.2400000000000002,28.8]
["RENSSELAER","CASTLETON-ON-HUDSON","VILLAGE","SCHODACK","SCHODACK",null,null,5.49,2.96,6.63,18.829999999999998,33.909999999999997,null,33.909999999999997,0.61170000000000002,1,1,5.49,2.96,4.0599999999999996,18.829999999999998,31.34,null,31.34]
["RENSSELAER","EAST GREENBUSH","TOWN",null,"AVERILL PARK",0.56000000000000005,0.54,5.4,4.01,null,15.82,25.23,3.23,28.46,1,null,1,5.4,4.01,null,15.82,25.23,3.23,28.46]
["RENSSELAER","EAST GREENBUSH","TOWN",null,"EAST GREENBUSH",57.43,99.45,5.4,4.01,null,17.68,27.09,3.23,30.32,1,null,1,5.4,4.01,null,17.68,27.09,3.23,30.32]
["RENSSELAER","EAST NASSAU","VILLAGE","NASSAU","AVERILL PARK",null,null,7.77,1.01,1.78,22.61,33.17,null,33.17,0.69499999999999995,0.7,0.7,5.44,0.71,1.24,15.83,23.22,null,23.22]
["RENSSELAER","EAST NASSAU","VILLAGE","NASSAU","EAST GREENBUSH",null,null,7.77,1.01,1.78,24.76,35.32,null,35.32,0.69499999999999995,0.7,0.7,5.44,0.71,1.24,17.329999999999998,24.72,null,24.72]
["RENSSELAER","EAST NASSAU","VILLAGE","NASSAU","NEW LEBANON",null,null,7.77,1.01,1.78,16.96,27.52,null,27.52,0.69499999999999995,0.7,0.7,5.44,0.71,1.24,11.87,19.260000000000002,null,19.260000000000002]
["RENSSELAER","GRAFTON","TOWN",null,"BERLIN",25.82,75.599999999999994,65.05,40.98,null,169.7,275.73,5.34,281.07,8.3500000000000005E-2,null,8.3500000000000005E-2,5.43,3.42,null,14.17,23.02,0.45,23.47]
["RENSSELAER","GRAFTON","TOWN",null,"BRUNSWICK",5.15,16.14,65.05,40.98,null,202.68,308.70999999999998,5.34,314.05,8.3500000000000005E-2,null,8.3500000000000005E-2,5.43,3.42,null,16.920000000000002,25.77,0.45,26.22]
["RENSSELAER","GRAFTON","TOWN",null,"HOOSICK FALLS",3.33,8.25,65.05,40.98,null,205.6,311.63,5.34,316.97000000000003,8.3500000000000005E-2,null,8.3500000000000005E-2,5.43,3.42,null,17.170000000000002,26.02,0.45,26.47]
["RENSSELAER","HOOSICK","TOWN",null,"CAMBRIDGE",4.1100000000000003,5.85,20.69,11.56,null,46.18,78.430000000000007,10.029999999999999,88.46,0.27500000000000002,null,0.27500000000000002,5.69,3.18,null,12.7,21.57,2.76,24.33]
["RENSSELAER","HOOSICK","TOWN",null,"HOOSICK FALLS",76.89,94.14,20.69,11.56,null,62.36,94.61,10.029999999999999,104.64,0.27500000000000002,null,0.27500000000000002,5.69,3.18,null,17.149999999999999,26.02,2.76,28.78]
["RENSSELAER","HOOSICK FALLS","VILLAGE","HOOSICK","HOOSICK FALLS",null,null,20.69,8.41,56.92,62.36,148.38,null,148.38,0.12970000000000001,0.27500000000000002,0.27500000000000002,5.69,2.31,7.38,17.149999999999999,32.53,null,32.53]
["RENSSELAER","NASSAU","TOWN",null,"AVERILL PARK",9.35,38.96,7.77,4.07,null,22.61,34.450000000000003,2.92,37.369999999999997,0.7,null,0.7,5.44,2.85,null,15.83,24.12,2.04,26.16]
["RENSSELAER","NASSAU","TOWN",null,"EAST GREENBUSH",6.24,46.27,7.77,4.07,null,24.76,36.6,2.92,39.520000000000003,0.7,null,0.7,5.44,2.85,null,17.329999999999998,25.62,2.04,27.66]
["RENSSELAER","NASSAU","VILLAGE","NASSAU","EAST GREENBUSH",null,null,7.77,1.01,9.6199999999999992,24.76,43.16,null,43.16,0.50019999999999998,0.7,0.7,5.44,0.71,4.8099999999999996,17.329999999999998,28.29,null,28.29]
["RENSSELAER","NASSAU","VILLAGE","SCHODACK","EAST GREENBUSH",null,null,5.49,2.96,9.6199999999999992,17.239999999999998,35.31,null,35.31,0.50019999999999998,1,1,5.49,2.96,4.8099999999999996,17.239999999999998,30.5,null,30.5]
["RENSSELAER","NASSAU","TOWN",null,"KINDERHOOK",0.69,2.66,7.77,4.07,null,19.5,31.34,2.92,34.26,0.7,null,0.7,5.44,2.85,null,13.65,21.94,2.04,23.98]
["RENSSELAER","NASSAU","TOWN",null,"NEW LEBANON",6.26,12.1,7.77,4.07,null,16.96,28.8,2.92,31.72,0.7,null,0.7,5.44,2.85,null,11.87,20.16,2.04,22.2]
["RENSSELAER","NORTH GREENBUSH","TOWN",null,"AVERILL PARK",9.35,14.97,20.78,10.85,null,60.29,91.92,13.25,105.17,0.26250000000000001,null,0.26250000000000001,5.45,2.85,null,15.83,24.13,3.48,27.61]
["RENSSELAER","NORTH GREENBUSH","TOWN",null,"EAST GREENBUSH",15.31,43.62,20.78,10.85,null,66.72,98.35,13.25,111.6,0.26250000000000001,null,0.26250000000000001,5.45,2.85,null,17.510000000000002,25.81,3.48,29.29]
["RENSSELAER","NORTH GREENBUSH","TOWN",null,"NORTH GREENBUSH",100,16.45,20.78,10.85,null,24,55.63,13.25,68.88,0.26250000000000001,null,0.26250000000000001,5.45,2.85,null,6.3,14.6,3.48,18.079999999999998]
["RENSSELAER","NORTH GREENBUSH","TOWN",null,"WYNANTSKILL",99.9,24.94,20.78,10.85,null,72.930000000000007,104.56,13.25,117.81,0.26250000000000001,null,0.26250000000000001,5.45,2.85,null,19.14,27.44,3.48,30.92]
["RENSSELAER","PETERSBURGH","TOWN",null,"BERLIN",16.57,78.67,10.039999999999999,7.6,null,25.07,42.71,1.69,44.4,0.56499999999999995,null,0.56499999999999995,5.67,4.29,null,14.16,24.12,0.95,25.07]
["RENSSELAER","PETERSBURGH","TOWN",null,"HOOSICK FALLS",5.3,21.32,10.039999999999999,7.6,null,30.35,47.99,1.69,49.68,0.56499999999999995,null,0.56499999999999995,5.67,4.29,null,17.149999999999999,27.11,0.95,28.06]
["RENSSELAER","PITTSTOWN","TOWN",null,"BRUNSWICK",27.77,44.99,9.2200000000000006,6.09,null,27.52,42.83,5.39,48.22,0.61499999999999999,null,0.61499999999999999,5.67,3.75,null,16.920000000000002,26.34,3.31,29.65]
["RENSSELAER","PITTSTOWN","TOWN",null,"CAMBRIDGE",0.06,0.09,9.2200000000000006,6.09,null,20.65,35.96,5.39,41.35,0.61499999999999999,null,0.61499999999999999,5.67,3.75,null,12.7,22.12,3.31,25.43]
["RENSSELAER","PITTSTOWN","TOWN",null,"HOOSIC VALLEY",36.1,47.36,9.2200000000000006,6.09,null,26.39,41.7,5.39,47.09,0.61499999999999999,null,0.61499999999999999,5.67,3.75,null,16.23,25.65,3.31,28.96]
["RENSSELAER","PITTSTOWN","TOWN",null,"HOOSICK FALLS",5.87,7.54,9.2200000000000006,6.09,null,27.88,43.19,5.39,48.58,0.61499999999999999,null,0.61499999999999999,5.67,3.75,null,17.149999999999999,26.57,3.31,29.88]
["RENSSELAER","PITTSTOWN","TOWN",null,"LANSINGBURGH",0,0,9.2200000000000006,6.09,null,25.59,40.9,5.39,46.29,0.61499999999999999,null,0.61499999999999999,5.67,3.75,null,15.74,25.16,3.31,28.47]
["RENSSELAER","POESTENKILL","TOWN",null,"AVERILL PARK",20.16,92.46,21.85,10.64,null,63.95,96.44,6.37,102.81,0.2475,null,0.2475,5.41,2.63,null,15.83,23.87,1.58,25.45]
["RENSSELAER","POESTENKILL","TOWN",null,"BERLIN",3.08,5.36,21.85,10.64,null,57.25,89.74,6.37,96.11,0.2475,null,0.2475,5.41,2.63,null,14.17,22.21,1.58,23.79]
["RENSSELAER","POESTENKILL","TOWN",null,"BRUNSWICK",1.1299999999999999,2.1,21.85,10.64,null,68.38,100.87,6.37,107.24,0.2475,null,0.2475,5.41,2.63,null,16.920000000000002,24.96,1.58,26.54]
["RENSSELAER","POESTENKILL","TOWN",null,"WYNANTSKILL",0.09,0.06,21.85,10.64,null,77.349999999999994,109.84,6.37,116.21,0.2475,null,0.2475,5.41,2.63,null,19.14,27.18,1.58,28.76]
["RENSSELAER","RENSSELAER","CITY",null,"RENSSELAER",100,100,18.11,null,48.12,54.75,120.98,null,120.98,0.29399999999999998,null,0.29399999999999998,5.32,null,14.15,16.100000000000001,35.57,null,35.57]
["RENSSELAER","SAND LAKE","TOWN",null,"AVERILL PARK",46.16,94.74,5.38,1.8,null,15.82,23,2.1,25.1,1,null,1,5.38,1.8,null,15.82,23,2.1,25.1]
["RENSSELAER","SAND LAKE","TOWN",null,"EAST GREENBUSH",1.43,5.25,5.38,1.8,null,16.510000000000002,23.69,2.1,25.79,1,null,1,5.38,1.8,null,16.510000000000002,23.69,2.1,25.79]
["RENSSELAER","SCHAGHTICOKE","TOWN",null,"BRUNSWICK",0.35,0.38,24.02,7.51,null,72.02,103.55,17.809999999999999,121.36,0.23499999999999999,null,0.23499999999999999,5.64,1.76,null,16.920000000000002,24.32,4.1900000000000004,28.51]
["RENSSELAER","SCHAGHTICOKE","TOWN",null,"CAMBRIDGE",0.31,0.3,24.02,7.51,null,54.04,85.57,17.809999999999999,103.38,0.23499999999999999,null,0.23499999999999999,5.64,1.76,null,12.7,20.100000000000001,4.1900000000000004,24.29]
["RENSSELAER","SCHAGHTICOKE","TOWN",null,"HOOSIC VALLEY",63.07,54.71,24.02,7.51,null,69.06,100.59,17.809999999999999,118.4,0.23499999999999999,null,0.23499999999999999,5.64,1.76,null,16.23,23.63,4.1900000000000004,27.82]
["RENSSELAER","SCHAGHTICOKE","VILLAGE","SCHAGHTICOKE","HOOSIC VALLEY",null,null,24.02,5.86,14.68,69.06,113.62,null,113.62,0.23,0.23499999999999999,0.23499999999999999,5.64,1.38,3.38,16.23,26.63,null,26.63]
["RENSSELAER","SCHAGHTICOKE","TOWN",null,"LANSINGBURGH",21.27,30.75,24.02,7.51,null,66.98,98.51,17.809999999999999,116.32,0.23499999999999999,null,0.23499999999999999,5.64,1.76,null,15.74,23.14,4.1900000000000004,27.33]
["RENSSELAER","SCHAGHTICOKE","TOWN",null,"MECHANICVILLE",12.11,13.77,24.02,7.51,null,66.97,98.5,17.809999999999999,116.31,0.23499999999999999,null,0.23499999999999999,5.64,1.76,null,15.74,23.14,4.1900000000000004,27.33]
["RENSSELAER","SCHAGHTICOKE","TOWN",null,"STILLWATER",0.05,0.06,24.02,7.51,null,51.8,83.33,17.809999999999999,101.14,0.23499999999999999,null,0.23499999999999999,5.64,1.76,null,12.17,19.57,4.1900000000000004,23.76]
["RENSSELAER","SCHODACK","TOWN",null,"AVERILL PARK",1.49,2,5.49,4.2300000000000004,null,15.82,25.54,1.58,27.12,1,null,1,5.49,4.2300000000000004,null,15.82,25.54,1.58,27.12]
["RENSSELAER","SCHODACK","TOWN",null,"EAST GREENBUSH",19.52,46.75,5.49,4.2300000000000004,null,17.239999999999998,26.96,1.58,28.54,1,null,1,5.49,4.2300000000000004,null,17.239999999999998,26.96,1.58,28.54]
["RENSSELAER","SCHODACK","TOWN",null,"KINDERHOOK",2.69,3.33,5.49,4.2300000000000004,null,13.65,23.37,1.58,24.95,1,null,1,5.49,4.2300000000000004,null,13.65,23.37,1.58,24.95]
["RENSSELAER","SCHODACK","TOWN",null,"SCHODACK",99.08,47.9,5.49,4.2300000000000004,null,18.829999999999998,28.55,1.58,30.13,1,null,1,5.49,4.2300000000000004,null,18.829999999999998,28.55,1.58,30.13]
["RENSSELAER","STEPHENTOWN","TOWN",null,"AVERILL PARK",1.9,11.17,17.97,8.27,null,52.75,78.989999999999995,1.75,80.739999999999995,0.3,null,0.3,5.39,2.48,null,15.83,23.7,0.53,24.23]
["RENSSELAER","STEPHENTOWN","TOWN",null,"BERLIN",29.74,66.209999999999994,17.97,8.27,null,47.23,73.47,1.75,75.22,0.3,null,0.3,5.39,2.48,null,14.17,22.04,0.53,22.57]
["RENSSELAER","STEPHENTOWN","TOWN",null,"NEW LEBANON",8.3000000000000007,22.6,17.97,8.27,null,39.57,65.81,1.75,67.56,0.3,null,0.3,5.39,2.48,null,11.87,19.739999999999998,0.53,20.27]
["RENSSELAER","TROY","CITY",null,"LANSINGBURGH",64.239999999999995,27.73,42.28,null,76.08,118.74,237.1,null,237.1,0.13250000000000001,null,0.13250000000000001,5.6,null,10.08,15.73,31.41,null,31.41]
["RENSSELAER","TROY","CITY",null,"TROY",81.91,72.260000000000005,42.28,null,76.08,136.29,254.65,null,254.65,0.13250000000000001,null,0.13250000000000001,5.6,null,10.08,18.059999999999999,33.74,null,33.74]
["RENSSELAER","VALLEY FALLS","VILLAGE","PITTSTOWN","HOOSIC VALLEY",null,null,9.2200000000000006,4.0199999999999996,3.27,26.39,42.9,null,42.9,0.54320000000000002,0.61499999999999999,0.61499999999999999,5.67,2.4700000000000002,1.78,16.23,26.15,null,26.15]
["RENSSELAER","VALLEY FALLS","VILLAGE","SCHAGHTICOKE","HOOSIC VALLEY",null,null,24.02,5.86,3.27,69.06,102.21,null,102.21,0.54320000000000002,0.23499999999999999,0.23499999999999999,5.64,1.38,1.78,16.23,25.03,null,25.03]
[]
["SARATOGA","BALLSTON","TOWN",null,"BALLSTON SPA",10.31,25.19,2.48,0,null,19.64,22.12,2.04,24.16,0.92,null,0.92,2.2799999999999998,0,null,18.07,20.350000000000001,1.88,22.23]
["SARATOGA","BALLSTON","TOWN",null,"BURNT HILLS-BALLSTON LAKE",37.380000000000003,71.05,2.48,0,null,20.100000000000001,22.58,2.04,24.62,0.92,null,0.92,2.2799999999999998,0,null,18.489999999999998,20.77,1.88,22.65]
["SARATOGA","BALLSTON","TOWN",null,"SHENENDEHOWA",0.57999999999999996,3.75,2.48,0,null,17.97,20.45,2.04,22.49,0.92,null,0.92,2.2799999999999998,0,null,16.53,18.809999999999999,1.88,20.69]
["SARATOGA","BALLSTON SPA","VILLAGE","BALLSTON","BALLSTON SPA",null,null,2.48,0,73.040000000000006,19.64,95.16,null,95.16,4.7300000000000002E-2,0.92,0.92,2.2799999999999998,0,3.45,18.07,23.8,null,23.8]
["SARATOGA","BALLSTON SPA","VILLAGE","MILTON","BALLSTON SPA",null,null,2.4900000000000002,0.19,73.040000000000006,19.43,95.15,null,95.15,4.7300000000000002E-2,0.93,0.93,2.3199999999999998,0.18,3.45,18.07,24.02,null,24.02]
["SARATOGA","CHARLTON","TOWN",null,"AMSTERDAM",0.04,0.1,3.5,0,null,25.18,28.68,2.04,30.72,0.7,null,0.67,2.4500000000000002,0,null,16.87,19.32,1.43,20.75]
["SARATOGA","CHARLTON","TOWN",null,"BALLSTON SPA",0.05,0.27,3.5,0,null,25.81,29.31,2.04,31.35,0.7,null,0.7,2.4500000000000002,0,null,18.07,20.52,1.43,21.95]
["SARATOGA","CHARLTON","TOWN",null,"BURNT HILLS-BALLSTON LAKE",19.23,79.52,3.5,0,null,26.42,29.92,2.04,31.96,0.7,null,0.7,2.4500000000000002,0,null,18.489999999999998,20.94,1.43,22.37]
["SARATOGA","CHARLTON","TOWN",null,"GALWAY",12.17,19.55,3.5,0,null,17.32,20.82,2.04,22.86,0.7,null,0.7,2.4500000000000002,0,null,12.12,14.57,1.43,16]
["SARATOGA","CHARLTON","TOWN",null,"SCOTIA-GLENVILLE",0.17,0.54,3.5,0,null,26.01,29.51,2.04,31.55,0.7,null,0.7,2.4500000000000002,0,null,18.21,20.66,1.43,22.09]
["SARATOGA","CLIFTON PARK","TOWN",null,"BURNT HILLS-BALLSTON LAKE",6,2.72,3.9,0.19,null,31.88,35.97,3.54,39.51,0.57999999999999996,null,0.57999999999999996,2.2599999999999998,0.11,null,18.489999999999998,20.86,2.0499999999999998,22.91]
["SARATOGA","CLIFTON PARK","TOWN",null,"NISKAYUNA",5.71,3.84,3.9,0.19,null,30.35,34.44,3.54,37.979999999999997,0.57999999999999996,null,0.57999999999999996,2.2599999999999998,0.11,null,17.600000000000001,19.97,2.0499999999999998,22.02]
["SARATOGA","CLIFTON PARK","TOWN",null,"SHENENDEHOWA",60.97,93.43,3.9,0.19,null,28.5,32.590000000000003,3.54,36.130000000000003,0.57999999999999996,null,0.57999999999999996,2.2599999999999998,0.11,null,16.53,18.899999999999999,2.0499999999999998,20.95]
["SARATOGA","CORINTH","TOWN",null,"CORINTH",83.42,100,2.33,3.63,null,11.02,16.98,1,17.98,1,null,1,2.33,3.63,null,11.02,16.98,1,17.98]
["SARATOGA","CORINTH","VILLAGE","CORINTH","CORINTH",null,null,2.33,1.54,6.03,11.02,20.92,null,20.92,0.97,1,1,2.33,1.54,5.85,11.02,20.74,null,20.74]
["SARATOGA","DAY","TOWN",null,"CORINTH",0.65,1.49,3.33,2.0299999999999998,null,16.399999999999999,21.76,0.21,21.97,0.68049999999999999,null,0.68049999999999999,2.27,1.38,null,11.16,14.81,0.14000000000000001,14.95]
["SARATOGA","DAY","TOWN",null,"EDINBURG",11.13,14.36,3.33,2.0299999999999998,null,6.91,12.27,0.21,12.48,0.68049999999999999,null,0.68049999999999999,2.27,1.38,null,4.7,8.35,0.14000000000000001,8.49]
["SARATOGA","DAY","TOWN",null,"HADLEY-LUZERNE",24.43,84.13,3.33,2.0299999999999998,null,13.78,19.14,0.21,19.350000000000001,0.68049999999999999,null,0.68049999999999999,2.27,1.38,null,9.3800000000000008,13.03,0.14000000000000001,13.17]
["SARATOGA","EDINBURG","TOWN",null,"BROADALBIN-PERTH",3.15,6.53,4.1900000000000004,1.01,null,28.91,34.11,0.43,34.54,0.53,null,0.53,2.2200000000000002,0.54,null,15.32,18.079999999999998,0.23,18.309999999999999]
["SARATOGA","EDINBURG","TOWN",null,"EDINBURG",88.62,93.03,4.1900000000000004,1.01,null,8.8800000000000008,14.08,0.43,14.51,0.53,null,0.53,2.2200000000000002,0.54,null,4.71,7.47,0.23,7.7]
["SARATOGA","EDINBURG","TOWN",null,"HADLEY-LUZERNE",0.11,0.33,4.1900000000000004,1.01,null,17.7,22.9,0.43,23.33,0.53,null,0.53,2.2200000000000002,0.54,null,9.3800000000000008,12.14,0.23,12.37]
["SARATOGA","EDINBURG","TOWN",null,"NORTHVILLE",7.0000000000000007E-2,0.09,4.1900000000000004,1.01,null,17.8,23,0.43,23.43,0.53,null,0.53,2.2200000000000002,0.54,null,9.43,12.19,0.23,12.42]
["SARATOGA","GALWAY","TOWN",null,"BROADALBIN-PERTH",0.95,1.71,4.29,1.46,null,28.92,34.67,1.1599999999999999,35.83,0.53,null,0.53,2.27,0.77,null,15.33,18.37,0.61,18.98]
["SARATOGA","GALWAY","TOWN",null,"GALWAY",61.04,98.28,4.29,1.46,null,22.88,28.63,1.1599999999999999,29.79,0.53,null,0.53,2.27,0.77,null,12.13,15.17,0.61,15.78]
["SARATOGA","GALWAY","VILLAGE","GALWAY","GALWAY",null,null,4.29,0.33,0,22.88,27.5,null,27.5,0.53,0.53,0.53,2.27,0.17,0,12.13,14.57,null,14.57]
["SARATOGA","GREENFIELD","TOWN",null,"CORINTH",9.23,8.6300000000000008,2.2999999999999998,1.18,null,11.16,14.64,1.01,15.65,1,null,1,2.2999999999999998,1.18,null,11.16,14.64,1.01,15.65]
["SARATOGA","GREENFIELD","TOWN",null,"SARATOGA SPRINGS",10.88,91.36,2.2999999999999998,1.18,null,12.26,15.74,1.01,16.75,1,null,1,2.2999999999999998,1.18,null,12.26,15.74,1.01,16.75]
["SARATOGA","HADLEY","TOWN",null,"CORINTH",2.4700000000000002,6.15,3,5.38,null,14.88,23.26,1.76,25.02,0.75,null,0.75,2.25,4.04,null,11.16,17.45,1.32,18.77]
["SARATOGA","HADLEY","TOWN",null,"HADLEY-LUZERNE",24.81,93.84,3,5.38,null,12.5,20.88,1.76,22.64,0.75,null,0.75,2.25,4.04,null,9.3800000000000008,15.67,1.32,16.989999999999998]
["SARATOGA","HALFMOON","TOWN",null,"MECHANICVILLE",33.71,11.23,3.75,0,null,26.23,29.98,4.58,34.56,0.6,null,0.6,2.25,0,null,15.74,17.989999999999998,2.75,20.74]
["SARATOGA","HALFMOON","TOWN",null,"SHENENDEHOWA",28.7,87.38,3.75,0,null,27.55,31.3,4.58,35.880000000000003,0.6,null,0.6,2.25,0,null,16.53,18.78,2.75,21.53]
["SARATOGA","HALFMOON","TOWN",null,"WATERFORD-HALFMOON",6.15,1.38,3.75,0,null,36.06,39.81,4.58,44.39,0.6,null,0.6,2.25,0,null,21.64,23.89,2.75,26.64]
["SARATOGA","MALTA","TOWN",null,"BALLSTON SPA",47.19,71.540000000000006,2.25,0.02,null,18.07,20.34,1.03,21.37,1,null,1,2.25,0.02,null,18.07,20.34,1.03,21.37]
["SARATOGA","MALTA","TOWN",null,"SARATOGA SPRINGS",7.0000000000000007E-2,0.31,2.25,0.02,null,12.01,14.28,1.03,15.31,1,null,1,2.25,0.02,null,12.01,14.28,1.03,15.31]
["SARATOGA","MALTA","TOWN",null,"SHENENDEHOWA",7.05,28.13,2.25,0.02,null,16.53,18.8,1.03,19.829999999999998,1,null,1,2.25,0.02,null,16.53,18.8,1.03,19.829999999999998]
["SARATOGA","MECHANICVILLE","CITY",null,"MECHANICVILLE",32.380000000000003,100,3.55,null,13.28,22.48,39.31,null,39.31,0.7,null,0.7,2.4900000000000002,null,9.3000000000000007,15.74,27.53,null,27.53]
["SARATOGA","MILTON","TOWN",null,"BALLSTON SPA",42.44,79.23,2.4900000000000002,0.27,null,19.43,22.19,1.26,23.45,0.93,null,0.93,2.3199999999999998,0.25,null,18.07,20.64,1.17,21.81]
["SARATOGA","MILTON","TOWN",null,"GALWAY",3.35,1.89,2.4900000000000002,0.27,null,13.04,15.8,1.26,17.059999999999999,0.93,null,0.93,2.3199999999999998,0.25,null,12.13,14.7,1.17,15.87]
["SARATOGA","MILTON","TOWN",null,"SARATOGA SPRINGS",3.75,18.86,2.4900000000000002,0.27,null,13.02,15.78,1.26,17.04,0.93,null,0.93,2.3199999999999998,0.25,null,12.11,14.68,1.17,15.85]
["SARATOGA","MOREAU","TOWN",null,"HUDSON FALLS",1.1399999999999999,0.72,2.0699999999999998,0.59,null,13.6,16.260000000000002,1.1100000000000001,17.37,1,null,1,2.0699999999999998,0.59,null,13.6,16.260000000000002,1.1100000000000001,17.37]
["SARATOGA","MOREAU","TOWN",null,"SOUTH GLENS FALLS",72.8,99.27,2.0699999999999998,0.59,null,13.93,16.59,1.1100000000000001,17.7,1,null,1,2.0699999999999998,0.59,null,13.93,16.59,1.1100000000000001,17.7]
["SARATOGA","NORTHUMBERLAND","TOWN",null,"SCHUYLERVILLE",31.02,70.87,2.36,1.37,null,19.23,22.96,1.6,24.56,1,null,1,2.36,1.37,null,19.23,22.96,1.6,24.56]
["SARATOGA","NORTHUMBERLAND","TOWN",null,"SOUTH GLENS FALLS",6.01,29.12,2.36,1.37,null,13.93,17.66,1.6,19.260000000000002,1,null,1,2.36,1.37,null,13.93,17.66,1.6,19.260000000000002]
["SARATOGA","PROVIDENCE","TOWN",null,"BROADALBIN-PERTH",5.72,23.91,11.41,19.77,null,75.87,107.05,5.08,112.13,0.20200000000000001,null,0.20200000000000001,2.2999999999999998,3.99,null,15.33,21.62,1.03,22.65]
["SARATOGA","PROVIDENCE","TOWN",null,"GALWAY",20.239999999999998,76.08,11.41,19.77,null,60.03,91.21,5.08,96.29,0.20200000000000001,null,0.20200000000000001,2.2999999999999998,3.99,null,12.13,18.420000000000002,1.03,19.45]
["SARATOGA","ROUND LAKE","VILLAGE","MALTA","SHENENDEHOWA",null,null,2.25,0.02,4.32,16.53,23.12,null,23.12,1,1,1,2.25,0.02,4.32,16.53,23.12,null,23.12]
["SARATOGA","SARATOGA","TOWN",null,"SARATOGA SPRINGS",0.47,5.66,3.52,1.62,null,18.43,23.57,2.67,26.24,0.66,null,0.66,2.3199999999999998,1.07,null,12.16,15.55,1.76,17.309999999999999]
["SARATOGA","SARATOGA","TOWN",null,"SCHUYLERVILLE",49.46,77.680000000000007,3.52,1.62,null,29.14,34.28,2.67,36.950000000000003,0.66,null,0.66,2.3199999999999998,1.07,null,19.23,22.62,1.76,24.38]
["SARATOGA","SARATOGA","TOWN",null,"STILLWATER",12.79,16.649999999999999,3.52,1.62,null,18.440000000000001,23.58,2.67,26.25,0.66,null,0.66,2.3199999999999998,1.07,null,12.17,15.56,1.76,17.32]
["SARATOGA","SARATOGA SPRINGS","CITY",null,"SARATOGA SPRINGS",61.37,100,2.86,null,6.04,14.87,23.77,null,23.77,0.82,null,0.82,2.35,null,4.95,12.19,19.489999999999998,null,19.489999999999998]
["SARATOGA","SCHUYLERVILLE","VILLAGE","SARATOGA","SCHUYLERVILLE",null,null,3.52,1.62,0,29.14,34.28,null,34.28,0,0.66,0.66,2.3199999999999998,1.07,0,19.23,22.62,null,22.62]
["SARATOGA","SOUTH GLENS FALLS","VILLAGE","MOREAU","SOUTH GLENS FALLS",null,null,2.27,0.59,15,13.93,31.79,null,31.79,0.35120000000000001,1,1,2.27,0.59,5.27,13.93,22.06,null,22.06]
["SARATOGA","STILLWATER","TOWN",null,"MECHANICVILLE",21.78,19.93,2.46,2.85,null,16.57,21.88,1.57,23.45,0.95,null,0.95,2.34,2.71,null,15.74,20.79,1.49,22.28]
["SARATOGA","STILLWATER","TOWN",null,"SCHUYLERVILLE",0.3,0.34,2.46,2.85,null,20.260000000000002,25.57,1.57,27.14,0.95,null,0.95,2.34,2.71,null,19.25,24.3,1.49,25.79]
["SARATOGA","STILLWATER","TOWN",null,"SHENENDEHOWA",0.03,0.27,2.46,2.85,null,17.399999999999999,22.71,1.57,24.28,0.95,null,0.95,2.34,2.71,null,16.53,21.58,1.49,23.07]
["SARATOGA","STILLWATER","TOWN",null,"STILLWATER",85.16,79.44,2.46,2.85,null,12.81,18.12,1.57,19.690000000000001,0.95,null,0.95,2.34,2.71,null,12.17,17.22,1.49,18.71]
["SARATOGA","STILLWATER","VILLAGE","STILLWATER","STILLWATER",null,null,2.46,1.44,3.35,12.81,20.059999999999999,null,20.059999999999999,0.91,0.95,0.95,2.34,1.37,3.05,12.17,18.93,null,18.93]
["SARATOGA","VICTORY","VILLAGE","SARATOGA","SCHUYLERVILLE",null,null,3.52,1.62,0,29.14,34.28,null,34.28,0,0.66,0.66,2.3199999999999998,1.07,0,19.23,22.62,null,22.62]
["SARATOGA","WATERFORD","TOWN",null,"SHENENDEHOWA",2.65,27.69,7.04,11.29,null,48.62,66.95,8.81,75.760000000000005,0.34,null,0.34,2.39,3.84,null,16.53,22.76,3,25.76]
["SARATOGA","WATERFORD","TOWN",null,"WATERFORD-HALFMOON",93.84,72.3,7.04,11.29,null,63.63,81.96,8.81,90.77,0.34,null,0.34,2.39,3.84,null,21.63,27.86,3,30.86]
["SARATOGA","WATERFORD","VILLAGE","WATERFORD","WATERFORD-HALFMOON",null,null,7.04,11.29,138.99,63.63,220.95,null,220.95,2.98E-2,0.34,0.34,2.39,3.84,4.1399999999999997,21.63,32,null,32]
["SARATOGA","WILTON","TOWN",null,"CORINTH",0,0,2.2599999999999998,0,null,11.15,13.41,1.34,14.75,1,null,1,2.2599999999999998,0,null,11.15,13.41,1.34,14.75]
["SARATOGA","WILTON","TOWN",null,"SARATOGA SPRINGS",23.42,76.22,2.2599999999999998,0,null,12.11,14.37,1.34,15.71,1,null,1,2.2599999999999998,0,null,12.11,14.37,1.34,15.71]
["SARATOGA","WILTON","TOWN",null,"SCHUYLERVILLE",10.51,4.51,2.2599999999999998,0,null,19.22,21.48,1.34,22.82,1,null,1,2.2599999999999998,0,null,19.22,21.48,1.34,22.82]
["SARATOGA","WILTON","TOWN",null,"SOUTH GLENS FALLS",21.18,19.260000000000002,2.2599999999999998,0,null,13.93,16.190000000000001,1.34,17.53,1,null,1,2.2599999999999998,0,null,13.93,16.190000000000001,1.34,17.53]
[]
["SCHENECTADY","DELANSON","VILLAGE","DUANESBURG","DUANESBURG",null,null,19.760000000000002,4.0599999999999996,11.57,54,89.39,null,89.39,0.2661,0.3145,0.2661,6.21,1.28,3.08,14.37,24.94,null,24.94]
["SCHENECTADY","DUANESBURG","TOWN",null,"AMSTERDAM",0.13,0.26,19.760000000000002,4.0599999999999996,null,63.41,87.23,8.33,95.56,0.3145,null,0.2661,6.21,1.28,null,16.87,24.36,2.62,26.98]
["SCHENECTADY","DUANESBURG","TOWN",null,"DUANESBURG",94.35,76.650000000000006,19.760000000000002,4.0599999999999996,null,54,77.819999999999993,8.33,86.15,0.3145,null,0.3145,6.21,1.28,null,16.98,24.47,2.62,27.09]
["SCHENECTADY","DUANESBURG","TOWN",null,"SCHALMONT",7.21,21.09,19.760000000000002,4.0599999999999996,null,57.51,81.33,8.33,89.66,0.3145,null,0.3145,6.21,1.28,null,18.09,25.58,2.62,28.2]
["SCHENECTADY","DUANESBURG","TOWN",null,"SCHOHARIE",2.2799999999999998,1.97,19.760000000000002,4.0599999999999996,null,61.05,84.87,8.33,93.2,0.3145,null,0.3145,6.21,1.28,null,19.2,26.69,2.62,29.31]
["SCHENECTADY","GLENVILLE","TOWN",null,"AMSTERDAM",1.58,0.72,6.85,3.36,null,19.850000000000001,30.06,2.77,32.83,0.91,null,0.85,6.23,3.06,null,16.87,26.16,2.52,28.68]
["SCHENECTADY","GLENVILLE","TOWN",null,"BURNT HILLS-BALLSTON LAKE",37.369999999999997,29.61,6.85,3.36,null,20.32,30.53,2.77,33.299999999999997,0.91,null,0.91,6.23,3.06,null,18.489999999999998,27.78,2.52,30.3]
["SCHENECTADY","GLENVILLE","TOWN",null,"GALWAY",0.14000000000000001,0.04,6.85,3.36,null,13.32,23.53,2.77,26.3,0.91,null,0.91,6.23,3.06,null,12.12,21.41,2.52,23.93]
["SCHENECTADY","GLENVILLE","TOWN",null,"NISKAYUNA",7.59,8.93,6.85,3.36,null,18.829999999999998,29.04,2.77,31.81,0.91,null,0.91,6.23,3.06,null,17.14,26.43,2.52,28.95]
["SCHENECTADY","GLENVILLE","TOWN",null,"SCOTIA-GLENVILLE",99.76,60.67,6.85,3.36,null,20.010000000000002,30.22,2.77,32.99,0.91,null,0.91,6.23,3.06,null,18.21,27.5,2.52,30.02]
["SCHENECTADY","NISKAYUNA","TOWN",null,"NISKAYUNA",79.52,85.41,6.14,2.87,null,17.62,26.63,3.33,29.96,1,null,1,6.14,2.87,null,17.62,26.63,3.33,29.96]
["SCHENECTADY","NISKAYUNA","TOWN",null,"SOUTH COLONIE",9.6,14.58,6.14,2.87,null,16.11,25.12,3.33,28.45,1,null,1,6.14,2.87,null,16.11,25.12,3.33,28.45]
["SCHENECTADY","PRINCETOWN","TOWN",null,"DUANESBURG",0.19,0.43,19.32,0.43,null,52.66,72.41,7.73,80.14,0.32250000000000001,null,0.32250000000000001,6.23,0.14000000000000001,null,16.98,23.35,2.4900000000000002,25.84]
["SCHENECTADY","PRINCETOWN","TOWN",null,"SCHALMONT",12.6,99.56,19.32,0.43,null,57.19,76.94,7.73,84.67,0.32250000000000001,null,0.32250000000000001,6.23,0.14000000000000001,null,18.440000000000001,24.81,2.4900000000000002,27.3]
["SCHENECTADY","ROTTERDAM","TOWN",null,"ROTTERDAM-MOHONASEN",91.52,52.24,6.33,4.32,null,15.19,25.84,1.83,27.67,1,null,1,6.33,4.32,null,15.19,25.84,1.83,27.67]
["SCHENECTADY","ROTTERDAM","TOWN",null,"SCHALMONT",76.64,45.32,6.33,4.32,null,19.43,30.08,1.83,31.91,1,null,1,6.33,4.32,null,19.43,30.08,1.83,31.91]
["SCHENECTADY","ROTTERDAM","TOWN",null,"SCHENECTADY",2.38,2.4300000000000002,6.33,4.32,null,20.9,31.55,1.83,33.380000000000003,1,null,1,6.33,4.32,null,20.9,31.55,1.83,33.380000000000003]
["SCHENECTADY","SCHENECTADY","CITY",null,"SCHENECTADY",97.61,100,6.66,null,13.19,20.9,40.75,null,40.75,1,null,1,6.66,null,13.19,20.9,40.75,null,40.75]
["SCHENECTADY","SCOTIA","VILLAGE","GLENVILLE","SCOTIA-GLENVILLE",null,null,6.85,1.01,10.37,20.010000000000002,38.24,null,38.24,0.85,0.91,0.85,6.23,0.92,8.81,17.010000000000002,32.97,null,32.97]

{"sheet":"2011Table2-WKS","index":18,"n_rows":283,"n_cols":18,"rows_kept":283,"cut":false,"hidden":false,"merged":[]}
[2011,null,"NOTE: Villages that reflect a zero village tax rate probably have not filed their information with this office;  see the 2011 Village Non-Filers tab.",null,"TABLE 2 - 2011 OVERALL PROPERTY TAX RATES"]
[null,"2009-03-30",null,null,null,"ASSESSED VALUE TAX RATES (per $1,000 assessed valuation)",null,null,null,null,"EQUALIZATION RATES",null,null,"FULL VALUE TAX RATES (per $1,000 full valuation)"]
[null,null,null,"TOWN",null,null,null,null,null,null,null,"Town","City /"]
[null,null,null,"IN WHICH",null,null,null,null,null,null,"City /","(applied to ","Town"]
[null,"COUNTY","MUNICIPAL NAME","VILLAGE IS","SCHOOL DISTRICT NAME",null,null,"City /",null,"Sub","Town/","Village's Co. "," (applied to",null,null,"City/",null,"Sub"]
["Area","NAME",null,"LOCATED",null,"County","Town","Village","School","Total","Village","& Town AV rate)","School) ","County","Town","Village","School","Total"]
["Albany County"]
["City of Albany"]
["Albany City SD","ALBANY","ALBANY",null,"ALBANY",3.26,null,10.96,22.4,36.619999999999997,0.99399999999999999,null,0.99399999999999999,3.24,null,10.89,22.27,36.4]
["Town of Berne"]
["Berne-Knox-Westerlo CSD","ALBANY","BERNE",null,"BERNE-KNOX-WESTERLO",5.13,4.74,null,28.09,37.96,0.62,null,0.62,3.18,2.94,null,17.420000000000002,23.54]
["Greenville CSD","ALBANY","BERNE",null,"GREENVILLE",5.13,4.74,null,28.04,37.909999999999997,0.62,null,0.62,3.18,2.94,null,17.38,23.5]
["Middleburgh CSD","ALBANY","BERNE",null,"MIDDLEBURGH",5.13,4.74,null,29.49,39.36,0.62,null,0.62,3.18,2.94,null,18.28,24.4]
["Voorheesville CSD","ALBANY","BERNE",null,"VOORHEESVILLE",5.13,4.74,null,28.67,38.54,0.62,null,0.62,3.18,2.94,null,17.78,23.9]
["Town of Bethlehem"]
["Bethlehem CSD","ALBANY","BETHLEHEM",null,"BETHLEHEM",3.25,1.9,null,20.87,26.02,0.97,null,0.97,3.15,1.84,null,20.239999999999998,25.23]
["Guilderland CSD","ALBANY","BETHLEHEM",null,"GUILDERLAND",3.25,1.9,null,18.5,23.65,0.97,null,0.97,3.15,1.84,null,17.95,22.94]
["Ravena-Coeymans-Selkirk CSD","ALBANY","BETHLEHEM",null,"RAVENA-COEYMANS-SELKIRK",3.25,1.9,null,19.3,24.45,0.97,null,0.97,3.15,1.84,null,18.72,23.71]
["Town of Coeymans"]
["Greenville CSD","ALBANY","COEYMANS",null,"GREENVILLE",3.17,2.96,null,17.38,23.51,1,null,1,3.17,2.96,null,17.38,23.51]
["Ravena-Coeymans-Selkirk CSD","ALBANY","COEYMANS",null,"RAVENA-COEYMANS-SELKIRK",3.17,2.96,null,18.72,24.85,1,null,1,3.17,2.96,null,18.72,24.85]
["Village of Ravena"]
["Ravena-Coeymans-Selkirk CSD","ALBANY","RAVENA","COEYMANS","RAVENA-COEYMANS-SELKIRK",3.17,2.96,4.49,18.72,29.34,0.99250000000000005,1,1,3.17,2.96,4.46,18.72,29.31]
["City of Cohoes"]
["Cohoes City SD","ALBANY","COHOES",null,"COHOES",5.9,null,16.989999999999998,32.72,55.61,0.54,null,0.54,3.19,null,9.17,17.670000000000002,30.03]
["Town of Colonie"]
["Menands UFSD","ALBANY","COLONIE",null,"MENANDS",4.7,3.07,null,23.92,31.69,0.67,null,0.67,3.15,2.06,null,16.03,21.24]
["Niskayuna CSD","ALBANY","COLONIE",null,"NISKAYUNA",4.7,3.07,null,30.15,37.92,0.67,null,0.67,3.15,2.06,null,20.2,25.41]
["North Colonie CSD","ALBANY","COLONIE",null,"NORTH COLONIE CENTRAL",4.7,3.07,null,21.81,29.58,0.67,null,0.67,3.15,2.06,null,14.61,19.82]
["Rotterdam-Mohonasen CSD","ALBANY","COLONIE",null,"ROTTERDAM-MOHONASEN",4.7,3.07,null,22.67,30.44,0.67,null,0.67,3.15,2.06,null,15.19,20.399999999999999]
["South Colonie CSD","ALBANY","COLONIE",null,"SOUTH COLONIE",4.7,3.07,null,24.05,31.82,0.67,null,0.67,3.15,2.06,null,16.11,21.32]
["Watervliet City SD","ALBANY","COLONIE",null,"WATERVLIET",4.7,3.07,null,18.5,26.27,0.67,null,0.67,3.15,2.06,null,12.4,17.61]
["Village of Colonie"]
["South Colonie CSD","ALBANY","COLONIE","COLONIE","SOUTH COLONIE",4.7,3.07,38,24.05,69.819999999999993,3.5299999999999998E-2,0.67,0.67,3.15,2.06,1.34,16.11,22.66]
["Village of Menands"]
["Menands UFSD","ALBANY","MENANDS","COLONIE","MENANDS",4.7,3.07,6.26,23.92,37.950000000000003,0.65749999999999997,0.67,0.67,3.15,2.06,4.12,16.03,25.36]
["Town of Green Island"]
["Village of Green Island","ALBANY","GREEN ISLAND",null,"GREEN ISLAND",54.3,0,null,336.63,390.93,5.3800000000000001E-2,null,5.3800000000000001E-2,2.92,0,null,18.11,21.03]
["Green Island UFSD","ALBANY","GREEN ISLAND","GREEN ISLAND","GREEN ISLAND",54.3,0,208.85,336.63,599.78,5.3800000000000001E-2,5.3800000000000001E-2,5.3800000000000001E-2,2.92,0,11.24,18.11,32.270000000000003]
["Town of Guilderland"]
["Guilderland CSD","ALBANY","GUILDERLAND",null,"GUILDERLAND",3.68,1.28,null,21.1,26.06,0.85050000000000003,null,0.85050000000000003,3.13,1.0900000000000001,null,17.95,22.17]
["Rotterdam-Mohonasen CSD","ALBANY","GUILDERLAND",null,"ROTTERDAM-MOHONASEN",3.68,1.28,null,17.86,22.82,0.85050000000000003,null,0.85050000000000003,3.13,1.0900000000000001,null,15.19,19.41]
["Schalmont CSD","ALBANY","GUILDERLAND",null,"SCHALMONT",3.68,1.28,null,21.11,26.07,0.85050000000000003,null,0.85050000000000003,3.13,1.0900000000000001,null,17.95,22.17]
["South Colonie CSD","ALBANY","GUILDERLAND",null,"SOUTH COLONIE",3.68,1.28,null,18.940000000000001,23.9,0.85050000000000003,null,0.85050000000000003,3.13,1.0900000000000001,null,16.11,20.329999999999998]
["Voorheesville CSD","ALBANY","GUILDERLAND",null,"VOORHEESVILLE",3.68,1.28,null,20.9,25.86,0.85050000000000003,null,0.85050000000000003,3.13,1.0900000000000001,null,17.78,22]
["Village of Altamont"]
["Guilderland CSD","ALBANY","ALTAMONT","GUILDERLAND","GUILDERLAND",3.68,0.28999999999999998,2.68,21.1,27.75,0.79090000000000005,0.85050000000000003,0.85050000000000003,3.13,0.25,2.12,17.95,23.45]
["Town of Knox"]
["Berne-Knox-Westerlo CSD","ALBANY","KNOX",null,"BERNE-KNOX-WESTERLO",5.55,1.85,null,30.55,37.950000000000003,0.56999999999999995,null,0.56999999999999995,3.16,1.05,null,17.41,21.62]
["Duanesburg CSD","ALBANY","KNOX",null,"DUANESBURG",5.55,1.85,null,29.79,37.19,0.56999999999999995,null,0.56999999999999995,3.16,1.05,null,16.98,21.19]
["Guilderland CSD","ALBANY","KNOX",null,"GUILDERLAND",5.55,1.85,null,31.48,38.880000000000003,0.56999999999999995,null,0.56999999999999995,3.16,1.05,null,17.940000000000001,22.15]
["Schoharie CSD","ALBANY","KNOX",null,"SCHOHARIE",5.55,1.85,null,33.68,41.08,0.56999999999999995,null,0.56999999999999995,3.16,1.05,null,19.2,23.41]
["Town of New Scotland"]
["Berne-Knox-Westerlo CSD","ALBANY","NEW SCOTLAND",null,"BERNE-KNOX-WESTERLO",3.36,1.71,null,18.53,23.6,0.94,null,0.94,3.16,1.61,null,17.420000000000002,22.19]
["Bethlehem CSD","ALBANY","NEW SCOTLAND",null,"BETHLEHEM",3.36,1.71,null,21.53,26.6,0.94,null,0.94,3.16,1.61,null,20.239999999999998,25.01]
["Greenville CSD","ALBANY","NEW SCOTLAND",null,"GREENVILLE",3.36,1.71,null,18.489999999999998,23.56,0.94,null,0.94,3.16,1.61,null,17.38,22.15]
["Guilderland CSD","ALBANY","NEW SCOTLAND",null,"GUILDERLAND",3.36,1.71,null,19.149999999999999,24.22,0.94,null,0.94,3.16,1.61,null,18,22.77]
["Ravena-Coeymans-Selkirk CSD","ALBANY","NEW SCOTLAND",null,"RAVENA-COEYMANS-SELKIRK",3.36,1.71,null,19.91,24.98,0.94,null,0.94,3.16,1.61,null,18.72,23.49]
["Voorheesville CSD","ALBANY","NEW SCOTLAND",null,"VOORHEESVILLE",3.36,1.71,null,18.91,23.98,0.94,null,0.94,3.16,1.61,null,17.78,22.55]
["Village of Voorheesville"]
["Voorheesville CSD","ALBANY","VOORHEESVILLE","NEW SCOTLAND","VOORHEESVILLE",3.36,1.25,1.1000000000000001,18.91,24.62,0.94,0.94,0.94,3.16,1.18,1.03,17.78,23.15]
["Town of Rensselaerville"]
["Berne-Knox-Westerlo CSD","ALBANY","RENSSELAERVILLE",null,"BERNE-KNOX-WESTERLO",5.79,7.76,null,32.130000000000003,45.68,0.54200000000000004,null,0.54200000000000004,3.14,4.21,null,17.41,24.76]
["Cairo-Durham CSD","ALBANY","RENSSELAERVILLE",null,"CAIRO-DURHAM",5.79,7.76,null,22.01,35.56,0.54200000000000004,null,0.54200000000000004,3.14,4.21,null,11.93,19.28]
["Greenville CSD","ALBANY","RENSSELAERVILLE",null,"GREENVILLE",5.79,7.76,null,32.07,45.62,0.54200000000000004,null,0.54200000000000004,3.14,4.21,null,17.38,24.73]
["Middleburgh CSD","ALBANY","RENSSELAERVILLE",null,"MIDDLEBURGH",5.79,7.76,null,33.74,47.29,0.54200000000000004,null,0.54200000000000004,3.14,4.21,null,18.29,25.64]
["City of Watervliet"]
["Watervliet City SD","ALBANY","WATERVLIET",null,"WATERVLIET",5.1100000000000003,null,15.54,19.91,40.56,0.62250000000000005,null,0.62250000000000005,3.18,null,9.67,12.39,25.24]
["Town of Westerlo"]
["Berne-Knox-Westerlo CSD","ALBANY","WESTERLO",null,"BERNE-KNOX-WESTERLO",379.91,260.60000000000002,null,2048.92,2689.43,8.5000000000000006E-3,null,8.5000000000000006E-3,3.23,2.2200000000000002,null,17.420000000000002,22.87]
["Greenville CSD","ALBANY","WESTERLO",null,"GREENVILLE",379.91,260.60000000000002,null,2045.22,2685.73,8.5000000000000006E-3,null,8.5000000000000006E-3,3.23,2.2200000000000002,null,17.38,22.83]
["Rensselaer County"]
["Town of Berlin"]
["Averill Park CSD","RENSSELAER","BERLIN",null,"AVERILL PARK",22.16,9.43,null,64.34,95.93,0.246,null,0.246,5.45,2.3199999999999998,null,15.83,23.6]
["Berlin CSD","RENSSELAER","BERLIN",null,"BERLIN",22.16,9.43,null,57.6,89.19,0.246,null,0.246,5.45,2.3199999999999998,null,14.17,21.94]
["Town of Brunswick"]
["Averill Park CSD","RENSSELAER","BRUNSWICK",null,"AVERILL PARK",21.58,7.91,null,62.56,92.05,0.253,null,0.253,5.46,2,null,15.83,23.29]
["Brunswick CSD","RENSSELAER","BRUNSWICK",null,"BRUNSWICK",21.58,7.91,null,66.89,96.38,0.253,null,0.253,5.46,2,null,16.920000000000002,24.38]
["Lansingburgh CSD","RENSSELAER","BRUNSWICK",null,"LANSINGBURGH",21.58,7.91,null,62.22,91.71,0.253,null,0.253,5.46,2,null,15.74,23.2]
["Troy City SD","RENSSELAER","BRUNSWICK",null,"TROY",21.58,7.91,null,72.459999999999994,101.95,0.253,null,0.253,5.46,2,null,18.329999999999998,25.79]
["Wynantskill UFSD","RENSSELAER","BRUNSWICK",null,"WYNANTSKILL",21.58,7.91,null,75.510000000000005,105,0.253,null,0.253,5.46,2,null,19.100000000000001,26.56]
["Town of East Greenbush"]
["Averill Park CSD","RENSSELAER","EAST GREENBUSH",null,"AVERILL PARK",5.4,4.01,null,15.82,25.23,1,null,1,5.4,4.01,null,15.82,25.23]
["East Greenbush CSD","RENSSELAER","EAST GREENBUSH",null,"EAST GREENBUSH",5.4,4.01,null,17.68,27.09,1,null,1,5.4,4.01,null,17.68,27.09]
["Town of Grafton"]
["Berlin CSD","RENSSELAER","GRAFTON",null,"BERLIN",65.05,40.98,null,169.7,275.73,8.3500000000000005E-2,null,8.3500000000000005E-2,5.43,3.42,null,14.17,23.02]
["Brunswick CSD","RENSSELAER","GRAFTON",null,"BRUNSWICK",65.05,40.98,null,202.68,308.70999999999998,8.3500000000000005E-2,null,8.3500000000000005E-2,5.43,3.42,null,16.920000000000002,25.77]
["Hoosick Falls CSD","RENSSELAER","GRAFTON",null,"HOOSICK FALLS",65.05,40.98,null,205.6,311.63,8.3500000000000005E-2,null,8.3500000000000005E-2,5.43,3.42,null,17.170000000000002,26.02]
["Town of Hoosick"]
["Cambridge CSD","RENSSELAER","HOOSICK",null,"CAMBRIDGE",20.69,11.56,null,46.18,78.430000000000007,0.27500000000000002,null,0.27500000000000002,5.69,3.18,null,12.7,21.57]
["Hoosick Falls CSD","RENSSELAER","HOOSICK",null,"HOOSICK FALLS",20.69,11.56,null,62.36,94.61,0.27500000000000002,null,0.27500000000000002,5.69,3.18,null,17.149999999999999,26.02]
["Village of Hoosick Falls"]
["Hoosick Falls CSD","RENSSELAER","HOOSICK FALLS","HOOSICK","HOOSICK FALLS",20.69,8.41,56.92,62.36,148.38,0.12970000000000001,0.27500000000000002,0.27500000000000002,5.69,2.31,7.38,17.149999999999999,32.53]
["Town of Nassau"]
["Averill Park CSD","RENSSELAER","NASSAU",null,"AVERILL PARK",7.77,4.07,null,22.61,34.450000000000003,0.7,null,0.7,5.44,2.85,null,15.83,24.12]
["East Greenbush CSD","RENSSELAER","NASSAU",null,"EAST GREENBUSH",7.77,4.07,null,24.76,36.6,0.7,null,0.7,5.44,2.85,null,17.329999999999998,25.62]
["Kinderhook CSD","RENSSELAER","NASSAU",null,"KINDERHOOK",7.77,4.07,null,19.5,31.34,0.7,null,0.7,5.44,2.85,null,13.65,21.94]
["New Lebanon CSD","RENSSELAER","NASSAU",null,"NEW LEBANON",7.77,4.07,null,16.96,28.8,0.7,null,0.7,5.44,2.85,null,11.87,20.16]
["Village of East Nassau"]
["Averill Park CSD","RENSSELAER","EAST NASSAU","NASSAU","AVERILL PARK",7.77,1.01,1.78,22.61,33.17,0.69499999999999995,0.7,0.7,5.44,0.71,1.24,15.83,23.22]
["East Greenbush CSD","RENSSELAER","EAST NASSAU","NASSAU","EAST GREENBUSH",7.77,1.01,1.78,24.76,35.32,0.69499999999999995,0.7,0.7,5.44,0.71,1.24,17.329999999999998,24.72]
["New Lebanon CSD","RENSSELAER","EAST NASSAU","NASSAU","NEW LEBANON",7.77,1.01,1.78,16.96,27.52,0.69499999999999995,0.7,0.7,5.44,0.71,1.24,11.87,19.260000000000002]
["Village of Nassau (part)"]
["East Greenbush CSD","RENSSELAER","NASSAU","NASSAU","EAST GREENBUSH",7.77,1.01,9.6199999999999992,24.76,43.16,0.50019999999999998,0.7,0.7,5.44,0.71,4.8099999999999996,17.329999999999998,28.29]
["Town of North Greenbush"]
["Averill Park CSD","RENSSELAER","NORTH GREENBUSH",null,"AVERILL PARK",20.78,10.85,null,60.29,91.92,0.26250000000000001,null,0.26250000000000001,5.45,2.85,null,15.83,24.13]
["East Greenbush CSD","RENSSELAER","NORTH GREENBUSH",null,"EAST GREENBUSH",20.78,10.85,null,66.72,98.35,0.26250000000000001,null,0.26250000000000001,5.45,2.85,null,17.510000000000002,25.81]
["North Greenbush Common SD","RENSSELAER","NORTH GREENBUSH",null,"NORTH GREENBUSH",20.78,10.85,null,24,55.63,0.26250000000000001,null,0.26250000000000001,5.45,2.85,null,6.3,14.6]
["Wynantskill UFSD","RENSSELAER","NORTH GREENBUSH",null,"WYNANTSKILL",20.78,10.85,null,72.930000000000007,104.56,0.26250000000000001,null,0.26250000000000001,5.45,2.85,null,19.14,27.44]
["Town of Petersburgh"]
["Berlin CSD","RENSSELAER","PETERSBURGH",null,"BERLIN",10.039999999999999,7.6,null,25.07,42.71,0.56499999999999995,null,0.56499999999999995,5.67,4.29,null,14.16,24.12]
["Hoosick Falls CSD","RENSSELAER","PETERSBURGH",null,"HOOSICK FALLS",10.039999999999999,7.6,null,30.35,47.99,0.56499999999999995,null,0.56499999999999995,5.67,4.29,null,17.149999999999999,27.11]
["Town of Pittstown"]
["Brunswick CSD","RENSSELAER","PITTSTOWN",null,"BRUNSWICK",9.2200000000000006,6.09,null,27.52,42.83,0.61499999999999999,null,0.61499999999999999,5.67,3.75,null,16.920000000000002,26.34]
["Cambridge CSD","RENSSELAER","PITTSTOWN",null,"CAMBRIDGE",9.2200000000000006,6.09,null,20.65,35.96,0.61499999999999999,null,0.61499999999999999,5.67,3.75,null,12.7,22.12]
["Hoosic Valley CSD","RENSSELAER","PITTSTOWN",null,"HOOSIC VALLEY",9.2200000000000006,6.09,null,26.39,41.7,0.61499999999999999,null,0.61499999999999999,5.67,3.75,null,16.23,25.65]
["Hoosick Falls CSD","RENSSELAER","PITTSTOWN",null,"HOOSICK FALLS",9.2200000000000006,6.09,null,27.88,43.19,0.61499999999999999,null,0.61499999999999999,5.67,3.75,null,17.149999999999999,26.57]
["Lansingburgh CSD","RENSSELAER","PITTSTOWN",null,"LANSINGBURGH",9.2200000000000006,6.09,null,25.59,40.9,0.61499999999999999,null,0.61499999999999999,5.67,3.75,null,15.74,25.16]
["Village of Valley Falls (part)"]
["Hoosic Valley CSD","RENSSELAER","VALLEY FALLS","PITTSTOWN","HOOSIC VALLEY",9.2200000000000006,4.0199999999999996,3.27,26.39,42.9,0.54320000000000002,0.61499999999999999,0.61499999999999999,5.67,2.4700000000000002,1.78,16.23,26.15]
["Town of Poestenkill"]
["Averill Park CSD","RENSSELAER","POESTENKILL",null,"AVERILL PARK",21.85,10.64,null,63.95,96.44,0.2475,null,0.2475,5.41,2.63,null,15.83,23.87]
["Berlin CSD","RENSSELAER","POESTENKILL",null,"BERLIN",21.85,10.64,null,57.25,89.74,0.2475,null,0.2475,5.41,2.63,null,14.17,22.21]
["Brunswick CSD","RENSSELAER","POESTENKILL",null,"BRUNSWICK",21.85,10.64,null,68.38,100.87,0.2475,null,0.2475,5.41,2.63,null,16.920000000000002,24.96]
["Wynantskill UFSD","RENSSELAER","POESTENKILL",null,"WYNANTSKILL",21.85,10.64,null,77.349999999999994,109.84,0.2475,null,0.2475,5.41,2.63,null,19.14,27.18]
["City of Rensselaer"]
["Rensselaer City SD","RENSSELAER","RENSSELAER",null,"RENSSELAER",18.11,null,48.12,54.75,120.98,0.29399999999999998,null,0.29399999999999998,5.32,null,14.15,16.100000000000001,35.57]
["Town of Sand Lake"]
["Averill Park CSD","RENSSELAER","SAND LAKE",null,"AVERILL PARK",5.38,1.8,null,15.82,23,1,null,1,5.38,1.8,null,15.82,23]
["East Greenbush CSD","RENSSELAER","SAND LAKE",null,"EAST GREENBUSH",5.38,1.8,null,16.510000000000002,23.69,1,null,1,5.38,1.8,null,16.510000000000002,23.69]
["Town of Schaghticoke"]
["Brunswick CSD","RENSSELAER","SCHAGHTICOKE",null,"BRUNSWICK",24.02,7.51,null,72.02,103.55,0.23499999999999999,null,0.23499999999999999,5.64,1.76,null,16.920000000000002,24.32]
["Cambridge CSD","RENSSELAER","SCHAGHTICOKE",null,"CAMBRIDGE",24.02,7.51,null,54.04,85.57,0.23499999999999999,null,0.23499999999999999,5.64,1.76,null,12.7,20.100000000000001]
["Hoosic Valley CSD","RENSSELAER","SCHAGHTICOKE",null,"HOOSIC VALLEY",24.02,7.51,null,69.06,100.59,0.23499999999999999,null,0.23499999999999999,5.64,1.76,null,16.23,23.63]
["Lansingburgh CSD","RENSSELAER","SCHAGHTICOKE",null,"LANSINGBURGH",24.02,7.51,null,66.98,98.51,0.23499999999999999,null,0.23499999999999999,5.64,1.76,null,15.74,23.14]
["Mechanicville City SD","RENSSELAER","SCHAGHTICOKE",null,"MECHANICVILLE",24.02,7.51,null,66.97,98.5,0.23499999999999999,null,0.23499999999999999,5.64,1.76,null,15.74,23.14]
["Stillwater CSD","RENSSELAER","SCHAGHTICOKE",null,"STILLWATER",24.02,7.51,null,51.8,83.33,0.23499999999999999,null,0.23499999999999999,5.64,1.76,null,12.17,19.57]
["Village of Schaghticoke"]
["Hoosic Valley CSD","RENSSELAER","SCHAGHTICOKE","SCHAGHTICOKE","HOOSIC VALLEY",24.02,5.86,14.68,69.06,113.62,0.23,0.23499999999999999,0.23499999999999999,5.64,1.38,3.38,16.23,26.63]
["Village of Valley Falls (part)"]
["Hoosic Valley CSD","RENSSELAER","VALLEY FALLS","SCHAGHTICOKE","HOOSIC VALLEY",24.02,5.86,3.27,69.06,102.21,0.54320000000000002,0.23499999999999999,0.23499999999999999,5.64,1.38,1.78,16.23,25.03]
["Town of Schodack"]
["Averill Park CSD","RENSSELAER","SCHODACK",null,"AVERILL PARK",5.49,4.2300000000000004,null,15.82,25.54,1,null,1,5.49,4.2300000000000004,null,15.82,25.54]
["East Greenbush CSD","RENSSELAER","SCHODACK",null,"EAST GREENBUSH",5.49,4.2300000000000004,null,17.239999999999998,26.96,1,null,1,5.49,4.2300000000000004,null,17.239999999999998,26.96]
["Kinderhook CSD","RENSSELAER","SCHODACK",null,"KINDERHOOK",5.49,4.2300000000000004,null,13.65,23.37,1,null,1,5.49,4.2300000000000004,null,13.65,23.37]
["Schodack CSD","RENSSELAER","SCHODACK",null,"SCHODACK",5.49,4.2300000000000004,null,18.829999999999998,28.55,1,null,1,5.49,4.2300000000000004,null,18.829999999999998,28.55]
["Village of Castleton-on-Hudson"]
["Schodack CSD","RENSSELAER","CASTLETON-ON-HUDSON","SCHODACK","SCHODACK",5.49,2.96,6.63,18.829999999999998,33.909999999999997,0.61170000000000002,1,1,5.49,2.96,4.0599999999999996,18.829999999999998,31.34]
["Village of Nassau (part)"]
["East Greenbush CSD","RENSSELAER","NASSAU","SCHODACK","EAST GREENBUSH",5.49,2.96,9.6199999999999992,17.239999999999998,35.31,0.50019999999999998,1,1,5.49,2.96,4.8099999999999996,17.239999999999998,30.5]
["Town of Stephentown"]
["Averill Park CSD","RENSSELAER","STEPHENTOWN",null,"AVERILL PARK",17.97,8.27,null,52.75,78.989999999999995,0.3,null,0.3,5.39,2.48,null,15.83,23.7]
["Berlin CSD","RENSSELAER","STEPHENTOWN",null,"BERLIN",17.97,8.27,null,47.23,73.47,0.3,null,0.3,5.39,2.48,null,14.17,22.04]
["New Lebanon CSD","RENSSELAER","STEPHENTOWN",null,"NEW LEBANON",17.97,8.27,null,39.57,65.81,0.3,null,0.3,5.39,2.48,null,11.87,19.739999999999998]
["City of Troy"]
["Lansingburgh CSD","RENSSELAER","TROY",null,"LANSINGBURGH",42.28,null,76.08,118.74,237.1,0.13250000000000001,null,0.13250000000000001,5.6,null,10.08,15.73,31.41]
["Troy City SD","RENSSELAER","TROY",null,"TROY",42.28,null,76.08,136.29,254.65,0.13250000000000001,null,0.13250000000000001,5.6,null,10.08,18.059999999999999,33.74]
["Saratoga County"]
["Town of Ballston"]
["Ballston Spa CSD","SARATOGA","BALLSTON",null,"BALLSTON SPA",2.48,0,null,19.64,22.12,0.92,null,0.92,2.2799999999999998,0,null,18.07,20.350000000000001]
["Burnt Hills-Ballston Lake CSD","SARATOGA","BALLSTON",null,"BURNT HILLS-BALLSTON LAKE",2.48,0,null,20.100000000000001,22.58,0.92,null,0.92,2.2799999999999998,0,null,18.489999999999998,20.77]
["Shenendehowa CSD","SARATOGA","BALLSTON",null,"SHENENDEHOWA",2.48,0,null,17.97,20.45,0.92,null,0.92,2.2799999999999998,0,null,16.53,18.809999999999999]
["Village of Ballston Spa (part)"]
["Ballston Spa CSD","SARATOGA","BALLSTON SPA","BALLSTON","BALLSTON SPA",2.48,0,73.040000000000006,19.64,95.16,4.7300000000000002E-2,0.92,0.92,2.2799999999999998,0,3.45,18.07,23.8]
["Town of Charlton"]
["Amsterdam City SD","SARATOGA","CHARLTON",null,"AMSTERDAM",3.5,0,null,25.18,28.68,0.7,null,0.67,2.4500000000000002,0,null,16.87,19.32]
["Ballston Spa CSD","SARATOGA","CHARLTON",null,"BALLSTON SPA",3.5,0,null,25.81,29.31,0.7,null,0.7,2.4500000000000002,0,null,18.07,20.52]
["Burnt Hills-Ballston Lake CSD","SARATOGA","CHARLTON",null,"BURNT HILLS-BALLSTON LAKE",3.5,0,null,26.42,29.92,0.7,null,0.7,2.4500000000000002,0,null,18.489999999999998,20.94]
["Galway CSD","SARATOGA","CHARLTON",null,"GALWAY",3.5,0,null,17.32,20.82,0.7,null,0.7,2.4500000000000002,0,null,12.12,14.57]
["Scotia-Glenville CSD","SARATOGA","CHARLTON",null,"SCOTIA-GLENVILLE",3.5,0,null,26.01,29.51,0.7,null,0.7,2.4500000000000002,0,null,18.21,20.66]
["Town of Clifton Park"]
["Burnt Hills-Ballston Lake CSD","SARATOGA","CLIFTON PARK",null,"BURNT HILLS-BALLSTON LAKE",3.9,0.19,null,31.88,35.97,0.57999999999999996,null,0.57999999999999996,2.2599999999999998,0.11,null,18.489999999999998,20.86]
["Niskayuna CSD","SARATOGA","CLIFTON PARK",null,"NISKAYUNA",3.9,0.19,null,30.35,34.44,0.57999999999999996,null,0.57999999999999996,2.2599999999999998,0.11,null,17.600000000000001,19.97]
["Shenendehowa CSD","SARATOGA","CLIFTON PARK",null,"SHENENDEHOWA",3.9,0.19,null,28.5,32.590000000000003,0.57999999999999996,null,0.57999999999999996,2.2599999999999998,0.11,null,16.53,18.899999999999999]
["Town of Corinth"]
["Corinth CSD","SARATOGA","CORINTH",null,"CORINTH",2.33,3.63,null,11.02,16.98,1,null,1,2.33,3.63,null,11.02,16.98]
["Village of Corinth"]
["Corinth CSD","SARATOGA","CORINTH","CORINTH","CORINTH",2.33,1.54,6.03,11.02,20.92,0.97,1,1,2.33,1.54,5.85,11.02,20.74]
["Town of Day"]
["Corinth CSD","SARATOGA","DAY",null,"CORINTH",3.33,2.0299999999999998,null,16.399999999999999,21.76,0.68049999999999999,null,0.68049999999999999,2.27,1.38,null,11.16,14.81]
["Edinburg Common SD","SARATOGA","DAY",null,"EDINBURG",3.33,2.0299999999999998,null,6.91,12.27,0.68049999999999999,null,0.68049999999999999,2.27,1.38,null,4.7,8.35]
["Hadley-Luzerne CSD","SARATOGA","DAY",null,"HADLEY-LUZERNE",3.33,2.0299999999999998,null,13.78,19.14,0.68049999999999999,null,0.68049999999999999,2.27,1.38,null,9.3800000000000008,13.03]
["Town of Edinburg"]
["Broadalbin-Perth CSD","SARATOGA","EDINBURG",null,"BROADALBIN-PERTH",4.1900000000000004,1.01,null,28.91,34.11,0.53,null,0.53,2.2200000000000002,0.54,null,15.32,18.079999999999998]
["Edinburg Common SD","SARATOGA","EDINBURG",null,"EDINBURG",4.1900000000000004,1.01,null,8.8800000000000008,14.08,0.53,null,0.53,2.2200000000000002,0.54,null,4.71,7.47]
["Hadley-Luzerne CSD","SARATOGA","EDINBURG",null,"HADLEY-LUZERNE",4.1900000000000004,1.01,null,17.7,22.9,0.53,null,0.53,2.2200000000000002,0.54,null,9.3800000000000008,12.14]
["Northville CSD","SARATOGA","EDINBURG",null,"NORTHVILLE",4.1900000000000004,1.01,null,17.8,23,0.53,null,0.53,2.2200000000000002,0.54,null,9.43,12.19]
["Town of Galway"]
["Broadalbin-Perth CSD","SARATOGA","GALWAY",null,"BROADALBIN-PERTH",4.29,1.46,null,28.92,34.67,0.53,null,0.53,2.27,0.77,null,15.33,18.37]
["Galway CSD","SARATOGA","GALWAY",null,"GALWAY",4.29,1.46,null,22.88,28.63,0.53,null,0.53,2.27,0.77,null,12.13,15.17]
["Village of Galway"]
["Galway CSD","SARATOGA","GALWAY","GALWAY","GALWAY",4.29,0.33,0,22.88,27.5,0.53,0.53,0.53,2.27,0.17,0,12.13,14.57]
["Town of Greenfield"]
["Corinth CSD","SARATOGA","GREENFIELD",null,"CORINTH",2.2999999999999998,1.18,null,11.16,14.64,1,null,1,2.2999999999999998,1.18,null,11.16,14.64]
["Saratoga Springs City SD","SARATOGA","GREENFIELD",null,"SARATOGA SPRINGS",2.2999999999999998,1.18,null,12.26,15.74,1,null,1,2.2999999999999998,1.18,null,12.26,15.74]
["Town of Hadley"]
["Corinth CSD","SARATOGA","HADLEY",null,"CORINTH",3,5.38,null,14.88,23.26,0.75,null,0.75,2.25,4.04,null,11.16,17.45]
["Hadley-Luzerne CSD","SARATOGA","HADLEY",null,"HADLEY-LUZERNE",3,5.38,null,12.5,20.88,0.75,null,0.75,2.25,4.04,null,9.3800000000000008,15.67]
["Town of Halfmoon"]
["Mechanicville City SD","SARATOGA","HALFMOON",null,"MECHANICVILLE",3.75,0,null,26.23,29.98,0.6,null,0.6,2.25,0,null,15.74,17.989999999999998]
["Shenendehowa CSD","SARATOGA","HALFMOON",null,"SHENENDEHOWA",3.75,0,null,27.55,31.3,0.6,null,0.6,2.25,0,null,16.53,18.78]
["Waterford-Halfmoon UFSD","SARATOGA","HALFMOON",null,"WATERFORD-HALFMOON",3.75,0,null,36.06,39.81,0.6,null,0.6,2.25,0,null,21.64,23.89]
["Town of Malta"]
["Ballston Spa CSD","SARATOGA","MALTA",null,"BALLSTON SPA",2.25,0.02,null,18.07,20.34,1,null,1,2.25,0.02,null,18.07,20.34]
["Saratoga Springs City SD","SARATOGA","MALTA",null,"SARATOGA SPRINGS",2.25,0.02,null,12.01,14.28,1,null,1,2.25,0.02,null,12.01,14.28]
["Shenendehowa CSD","SARATOGA","MALTA",null,"SHENENDEHOWA",2.25,0.02,null,16.53,18.8,1,null,1,2.25,0.02,null,16.53,18.8]
["Village of Round Lake"]
["Shenendehowa CSD","SARATOGA","ROUND LAKE","MALTA","SHENENDEHOWA",2.25,0.02,4.32,16.53,23.12,1,1,1,2.25,0.02,4.32,16.53,23.12]
["City of Mechanicville"]
["Mechanicville City SD","SARATOGA","MECHANICVILLE",null,"MECHANICVILLE",3.55,null,13.28,22.48,39.31,0.7,null,0.7,2.4900000000000002,null,9.3000000000000007,15.74,27.53]
["Town of Milton"]
["Ballston Spa CSD","SARATOGA","MILTON",null,"BALLSTON SPA",2.4900000000000002,0.27,null,19.43,22.19,0.93,null,0.93,2.3199999999999998,0.25,null,18.07,20.64]
["Galway CSD","SARATOGA","MILTON",null,"GALWAY",2.4900000000000002,0.27,null,13.04,15.8,0.93,null,0.93,2.3199999999999998,0.25,null,12.13,14.7]
["Saratoga Springs City SD","SARATOGA","MILTON",null,"SARATOGA SPRINGS",2.4900000000000002,0.27,null,13.02,15.78,0.93,null,0.93,2.3199999999999998,0.25,null,12.11,14.68]
["Village of Ballston Spa (part)"]
["Ballston Spa CSD","SARATOGA","BALLSTON SPA","MILTON","BALLSTON SPA",2.4900000000000002,0.19,73.040000000000006,19.43,95.15,4.7300000000000002E-2,0.93,0.93,2.3199999999999998,0.18,3.45,18.07,24.02]
["Town of Moreau"]
["Hudson Falls CSD","SARATOGA","MOREAU",null,"HUDSON FALLS",2.0699999999999998,0.59,null,13.6,16.260000000000002,1,null,1,2.0699999999999998,0.59,null,13.6,16.260000000000002]
["South Glens Falls CSD","SARATOGA","MOREAU",null,"SOUTH GLENS FALLS",2.0699999999999998,0.59,null,13.93,16.59,1,null,1,2.0699999999999998,0.59,null,13.93,16.59]
["Village of South Glens Falls"]
["South Glens Falls CSD","SARATOGA","SOUTH GLENS FALLS","MOREAU","SOUTH GLENS FALLS",2.27,0.59,15,13.93,31.79,0.35120000000000001,1,1,2.27,0.59,5.27,13.93,22.06]
["Town of Northumberland"]
["Schuylerville CSD","SARATOGA","NORTHUMBERLAND",null,"SCHUYLERVILLE",2.36,1.37,null,19.23,22.96,1,null,1,2.36,1.37,null,19.23,22.96]
["South Glens Falls CSD","SARATOGA","NORTHUMBERLAND",null,"SOUTH GLENS FALLS",2.36,1.37,null,13.93,17.66,1,null,1,2.36,1.37,null,13.93,17.66]
["Town of Providence"]
["Broadalbin-Perth CSD","SARATOGA","PROVIDENCE",null,"BROADALBIN-PERTH",11.41,19.77,null,75.87,107.05,0.20200000000000001,null,0.20200000000000001,2.2999999999999998,3.99,null,15.33,21.62]
["Galway CSD","SARATOGA","PROVIDENCE",null,"GALWAY",11.41,19.77,null,60.03,91.21,0.20200000000000001,null,0.20200000000000001,2.2999999999999998,3.99,null,12.13,18.420000000000002]
["Town of Saratoga"]
["Saratoga Springs City SD","SARATOGA","SARATOGA",null,"SARATOGA SPRINGS",3.52,1.62,null,18.43,23.57,0.66,null,0.66,2.3199999999999998,1.07,null,12.16,15.55]
["Schuylerville CSD","SARATOGA","SARATOGA",null,"SCHUYLERVILLE",3.52,1.62,null,29.14,34.28,0.66,null,0.66,2.3199999999999998,1.07,null,19.23,22.62]
["Stillwater CSD","SARATOGA","SARATOGA",null,"STILLWATER",3.52,1.62,null,18.440000000000001,23.58,0.66,null,0.66,2.3199999999999998,1.07,null,12.17,15.56]
["Village of Schuylerville"]
["Schuylerville CSD","SARATOGA","SCHUYLERVILLE","SARATOGA","SCHUYLERVILLE",3.52,1.62,0,29.14,34.28,0,0.66,0.66,2.3199999999999998,1.07,0,19.23,22.62]
["Village of Victory"]
["Schuylerville CSD","SARATOGA","VICTORY","SARATOGA","SCHUYLERVILLE",3.52,1.62,0,29.14,34.28,0,0.66,0.66,2.3199999999999998,1.07,0,19.23,22.62]
["City of Saratoga Springs"]
["Saratoga Springs City SD","SARATOGA","SARATOGA SPRINGS",null,"SARATOGA SPRINGS",2.86,null,6.04,14.87,23.77,0.82,null,0.82,2.35,null,4.95,12.19,19.489999999999998]
["Town of Stillwater"]
["Mechanicville City SD","SARATOGA","STILLWATER",null,"MECHANICVILLE",2.46,2.85,null,16.57,21.88,0.95,null,0.95,2.34,2.71,null,15.74,20.79]
["Schuylerville CSD","SARATOGA","STILLWATER",null,"SCHUYLERVILLE",2.46,2.85,null,20.260000000000002,25.57,0.95,null,0.95,2.34,2.71,null,19.25,24.3]
["Shenendehowa CSD","SARATOGA","STILLWATER",null,"SHENENDEHOWA",2.46,2.85,null,17.399999999999999,22.71,0.95,null,0.95,2.34,2.71,null,16.53,21.58]
["Stillwater CSD","SARATOGA","STILLWATER",null,"STILLWATER",2.46,2.85,null,12.81,18.12,0.95,null,0.95,2.34,2.71,null,12.17,17.22]
["Village of Stillwater"]
["Stillwater CSD","SARATOGA","STILLWATER","STILLWATER","STILLWATER",2.46,1.44,3.35,12.81,20.059999999999999,0.91,0.95,0.95,2.34,1.37,3.05,12.17,18.93]
["Town of Waterford"]
["Shenendehowa CSD","SARATOGA","WATERFORD",null,"SHENENDEHOWA",7.04,11.29,null,48.62,66.95,0.34,null,0.34,2.39,3.84,null,16.53,22.76]
["Waterford-Halfmoon UFSD","SARATOGA","WATERFORD",null,"WATERFORD-HALFMOON",7.04,11.29,null,63.63,81.96,0.34,null,0.34,2.39,3.84,null,21.63,27.86]
["Village of Waterford"]
["Waterford-Halfmoon UFSD","SARATOGA","WATERFORD","WATERFORD","WATERFORD-HALFMOON",7.04,11.29,138.99,63.63,220.95,2.98E-2,0.34,0.34,2.39,3.84,4.1399999999999997,21.63,32]
["Town of Wilton"]
["Corinth CSD","SARATOGA","WILTON",null,"CORINTH",2.2599999999999998,0,null,11.15,13.41,1,null,1,2.2599999999999998,0,null,11.15,13.41]
["Saratoga Springs City SD","SARATOGA","WILTON",null,"SARATOGA SPRINGS",2.2599999999999998,0,null,12.11,14.37,1,null,1,2.2599999999999998,0,null,12.11,14.37]
["Schuylerville CSD","SARATOGA","WILTON",null,"SCHUYLERVILLE",2.2599999999999998,0,null,19.22,21.48,1,null,1,2.2599999999999998,0,null,19.22,21.48]
["South Glens Falls CSD","SARATOGA","WILTON",null,"SOUTH GLENS FALLS",2.2599999999999998,0,null,13.93,16.190000000000001,1,null,1,2.2599999999999998,0,null,13.93,16.190000000000001]
["Schenectady County"]
["Town of Duanesburg"]
["Amsterdam City SD","SCHENECTADY","DUANESBURG",null,"AMSTERDAM",19.760000000000002,4.0599999999999996,null,63.41,87.23,0.3145,null,0.2661,6.21,1.28,null,16.87,24.36]
["Duanesburg CSD","SCHENECTADY","DUANESBURG",null,"DUANESBURG",19.760000000000002,4.0599999999999996,null,54,77.819999999999993,0.3145,null,0.3145,6.21,1.28,null,16.98,24.47]
["Schalmont CSD","SCHENECTADY","DUANESBURG",null,"SCHALMONT",19.760000000000002,4.0599999999999996,null,57.51,81.33,0.3145,null,0.3145,6.21,1.28,null,18.09,25.58]
["Schoharie CSD","SCHENECTADY","DUANESBURG",null,"SCHOHARIE",19.760000000000002,4.0599999999999996,null,61.05,84.87,0.3145,null,0.3145,6.21,1.28,null,19.2,26.69]
["Village of Delanson"]
["Duanesburg CSD","SCHENECTADY","DELANSON","DUANESBURG","DUANESBURG",19.760000000000002,4.0599999999999996,11.57,54,89.39,0.2661,0.3145,0.2661,6.21,1.28,3.08,14.37,24.94]
["Town of Glenville"]
["Amsterdam City SD","SCHENECTADY","GLENVILLE",null,"AMSTERDAM",6.85,3.36,null,19.850000000000001,30.06,0.91,null,0.85,6.23,3.06,null,16.87,26.16]
["Burnt Hills-Ballston Lake CSD","SCHENECTADY","GLENVILLE",null,"BURNT HILLS-BALLSTON LAKE",6.85,3.36,null,20.32,30.53,0.91,null,0.91,6.23,3.06,null,18.489999999999998,27.78]
["Galway CSD","SCHENECTADY","GLENVILLE",null,"GALWAY",6.85,3.36,null,13.32,23.53,0.91,null,0.91,6.23,3.06,null,12.12,21.41]
["Niskayuna CSD","SCHENECTADY","GLENVILLE",null,"NISKAYUNA",6.85,3.36,null,18.829999999999998,29.04,0.91,null,0.91,6.23,3.06,null,17.14,26.43]
["Scotia-Glenville CSD","SCHENECTADY","GLENVILLE",null,"SCOTIA-GLENVILLE",6.85,3.36,null,20.010000000000002,30.22,0.91,null,0.91,6.23,3.06,null,18.21,27.5]
["Village of Scotia"]
["Scotia-Glenville CSD","SCHENECTADY","SCOTIA","GLENVILLE","SCOTIA-GLENVILLE",6.85,1.01,10.37,20.010000000000002,38.24,0.85,0.91,0.85,6.23,0.92,8.81,17.010000000000002,32.97]
["Town of Niskayuna"]
["Niskayuna CSD","SCHENECTADY","NISKAYUNA",null,"NISKAYUNA",6.14,2.87,null,17.62,26.63,1,null,1,6.14,2.87,null,17.62,26.63]
["South Colonie CSD","SCHENECTADY","NISKAYUNA",null,"SOUTH COLONIE",6.14,2.87,null,16.11,25.12,1,null,1,6.14,2.87,null,16.11,25.12]
["Town of Princetown"]
["Duanesburg CSD","SCHENECTADY","PRINCETOWN",null,"DUANESBURG",19.32,0.43,null,52.66,72.41,0.32250000000000001,null,0.32250000000000001,6.23,0.14000000000000001,null,16.98,23.35]
["Schalmont CSD","SCHENECTADY","PRINCETOWN",null,"SCHALMONT",19.32,0.43,null,57.19,76.94,0.32250000000000001,null,0.32250000000000001,6.23,0.14000000000000001,null,18.440000000000001,24.81]
["Town of Rotterdam"]
["Rotterdam-Mohonasen CSD","SCHENECTADY","ROTTERDAM",null,"ROTTERDAM-MOHONASEN",6.33,4.32,null,15.19,25.84,1,null,1,6.33,4.32,null,15.19,25.84]
["Schalmont CSD","SCHENECTADY","ROTTERDAM",null,"SCHALMONT",6.33,4.32,null,19.43,30.08,1,null,1,6.33,4.32,null,19.43,30.08]
["Schenectady City SD","SCHENECTADY","ROTTERDAM",null,"SCHENECTADY",6.33,4.32,null,20.9,31.55,1,null,1,6.33,4.32,null,20.9,31.55]
["City of Schenectady"]
["Schenectady City SD","SCHENECTADY","SCHENECTADY",null,"SCHENECTADY",6.66,null,13.19,20.9,40.75,1,null,1,6.66,null,13.19,20.9,40.75]
["Capital District"]

{"sheet":"2011 Base Data","index":19,"n_rows":283,"n_cols":18,"rows_kept":283,"cut":false,"hidden":false,"merged":[]}
[2011,"NOTE: Villages that reflect a zero village tax rate probably have not filed their information with this office;  see the 2010 Village Non-Filers tab.",null,null,"TABLE 2 - 2010 OVERALL PROPERTY TAX RATES"]
[null,"2009-03-30",null,null,null,"ASSESSED VALUE TAX RATES (per $1,000 assessed valuation)",null,null,null,null,"EQUALIZATION RATES",null,null,"FULL VALUE TAX RATES (per $1,000 full valuation)"]
[null,null,null,"TOWN",null,null,null,null,null,null,null,"Town","City /"]
[null,null,null,"IN WHICH",null,null,null,null,null,null,"City /","(applied to ","Town"]
[null,"COUNTY","MUNICIPAL NAME","VILLAGE IS","SCHOOL DISTRICT NAME",null,null,"City /",null,"Sub","Town/","Village's Co. "," (applied to",null,null,"City/",null,"Sub"]
["Area","NAME",null,"LOCATED",null,"County","Town","Village","School","Total","Village","& Town AV rate)","School) ","County","Town","Village","School","Total"]
["Albany County"]
["City of Albany"]
["Albany City SD","ALBANY","ALBANY",null,"ALBANY",3.26,null,10.96,22.4,36.619999999999997,0.99399999999999999,null,0.99399999999999999,3.24,null,10.89,22.27,36.4]
["Town of Berne"]
["Berne-Knox-Westerlo CSD","ALBANY","BERNE",null,"BERNE-KNOX-WESTERLO",5.13,4.74,null,28.09,37.96,0.62,null,0.62,3.18,2.94,null,17.420000000000002,23.54]
["Greenville CSD","ALBANY","BERNE",null,"GREENVILLE",5.13,4.74,null,28.04,37.909999999999997,0.62,null,0.62,3.18,2.94,null,17.38,23.5]
["Middleburgh CSD","ALBANY","BERNE",null,"MIDDLEBURGH",5.13,4.74,null,29.49,39.36,0.62,null,0.62,3.18,2.94,null,18.28,24.4]
["Voorheesville CSD","ALBANY","BERNE",null,"VOORHEESVILLE",5.13,4.74,null,28.67,38.54,0.62,null,0.62,3.18,2.94,null,17.78,23.9]
["Town of Bethlehem"]
["Bethlehem CSD","ALBANY","BETHLEHEM",null,"BETHLEHEM",3.25,1.9,null,20.87,26.02,0.97,null,0.97,3.15,1.84,null,20.239999999999998,25.23]
["Guilderland CSD","ALBANY","BETHLEHEM",null,"GUILDERLAND",3.25,1.9,null,18.5,23.65,0.97,null,0.97,3.15,1.84,null,17.95,22.94]
["Ravena-Coeymans-Selkirk CSD","ALBANY","BETHLEHEM",null,"RAVENA-COEYMANS-SELKIRK",3.25,1.9,null,19.3,24.45,0.97,null,0.97,3.15,1.84,null,18.72,23.71]
["Town of Coeymans"]
["Greenville CSD","ALBANY","COEYMANS",null,"GREENVILLE",3.17,2.96,null,17.38,23.51,1,null,1,3.17,2.96,null,17.38,23.51]
["Ravena-Coeymans-Selkirk CSD","ALBANY","COEYMANS",null,"RAVENA-COEYMANS-SELKIRK",3.17,2.96,null,18.72,24.85,1,null,1,3.17,2.96,null,18.72,24.85]
["Village of Ravena"]
["Ravena-Coeymans-Selkirk CSD","ALBANY","RAVENA","COEYMANS","RAVENA-COEYMANS-SELKIRK",3.17,2.96,4.49,18.72,29.34,0.99250000000000005,1,1,3.17,2.96,4.46,18.72,29.31]
["City of Cohoes"]
["Cohoes City SD","ALBANY","COHOES",null,"COHOES",5.9,null,16.989999999999998,32.72,55.61,0.54,null,0.54,3.19,null,9.17,17.670000000000002,30.03]
["Town of Colonie"]
["Menands UFSD","ALBANY","COLONIE",null,"MENANDS",4.7,3.07,null,23.92,31.69,0.67,null,0.67,3.15,2.06,null,16.03,21.24]
["Niskayuna CSD","ALBANY","COLONIE",null,"NISKAYUNA",4.7,3.07,null,30.15,37.92,0.67,null,0.67,3.15,2.06,null,20.2,25.41]
["North Colonie CSD","ALBANY","COLONIE",null,"NORTH COLONIE CENTRAL",4.7,3.07,null,21.81,29.58,0.67,null,0.67,3.15,2.06,null,14.61,19.82]
["Rotterdam-Mohonasen CSD","ALBANY","COLONIE",null,"ROTTERDAM-MOHONASEN",4.7,3.07,null,22.67,30.44,0.67,null,0.67,3.15,2.06,null,15.19,20.399999999999999]
["South Colonie CSD","ALBANY","COLONIE",null,"SOUTH COLONIE",4.7,3.07,null,24.05,31.82,0.67,null,0.67,3.15,2.06,null,16.11,21.32]
["Watervliet City SD","ALBANY","COLONIE",null,"WATERVLIET",4.7,3.07,null,18.5,26.27,0.67,null,0.67,3.15,2.06,null,12.4,17.61]
["Village of Colonie"]
["South Colonie CSD","ALBANY","COLONIE","COLONIE","SOUTH COLONIE",4.7,3.07,38,24.05,69.819999999999993,3.5299999999999998E-2,0.67,0.67,3.15,2.06,1.34,16.11,22.66]
["Village of Menands"]
["Menands UFSD","ALBANY","MENANDS","COLONIE","MENANDS",4.7,3.07,6.26,23.92,37.950000000000003,0.65749999999999997,0.67,0.67,3.15,2.06,4.12,16.03,25.36]
["Town of Green Island"]
["Village of Green Island","ALBANY","GREEN ISLAND",null,"GREEN ISLAND",54.3,0,null,336.63,390.93,5.3800000000000001E-2,null,5.3800000000000001E-2,2.92,0,null,18.11,21.03]
["Green Island UFSD","ALBANY","GREEN ISLAND","GREEN ISLAND","GREEN ISLAND",54.3,0,208.85,336.63,599.78,5.3800000000000001E-2,5.3800000000000001E-2,5.3800000000000001E-2,2.92,0,11.24,18.11,32.270000000000003]
["Town of Guilderland"]
["Guilderland CSD","ALBANY","GUILDERLAND",null,"GUILDERLAND",3.68,1.28,null,21.1,26.06,0.85050000000000003,null,0.85050000000000003,3.13,1.0900000000000001,null,17.95,22.17]
["Rotterdam-Mohonasen CSD","ALBANY","GUILDERLAND",null,"ROTTERDAM-MOHONASEN",3.68,1.28,null,17.86,22.82,0.85050000000000003,null,0.85050000000000003,3.13,1.0900000000000001,null,15.19,19.41]
["Schalmont CSD","ALBANY","GUILDERLAND",null,"SCHALMONT",3.68,1.28,null,21.11,26.07,0.85050000000000003,null,0.85050000000000003,3.13,1.0900000000000001,null,17.95,22.17]
["South Colonie CSD","ALBANY","GUILDERLAND",null,"SOUTH COLONIE",3.68,1.28,null,18.940000000000001,23.9,0.85050000000000003,null,0.85050000000000003,3.13,1.0900000000000001,null,16.11,20.329999999999998]
["Voorheesville CSD","ALBANY","GUILDERLAND",null,"VOORHEESVILLE",3.68,1.28,null,20.9,25.86,0.85050000000000003,null,0.85050000000000003,3.13,1.0900000000000001,null,17.78,22]
["Village of Altamont"]
["Guilderland CSD","ALBANY","ALTAMONT","GUILDERLAND","GUILDERLAND",3.68,0.28999999999999998,2.68,21.1,27.75,0.79090000000000005,0.85050000000000003,0.85050000000000003,3.13,0.25,2.12,17.95,23.45]
["Town of Knox"]
["Berne-Knox-Westerlo CSD","ALBANY","KNOX",null,"BERNE-KNOX-WESTERLO",5.55,1.85,null,30.55,37.950000000000003,0.56999999999999995,null,0.56999999999999995,3.16,1.05,null,17.41,21.62]
["Duanesburg CSD","ALBANY","KNOX",null,"DUANESBURG",5.55,1.85,null,29.79,37.19,0.56999999999999995,null,0.56999999999999995,3.16,1.05,null,16.98,21.19]
["Guilderland CSD","ALBANY","KNOX",null,"GUILDERLAND",5.55,1.85,null,31.48,38.880000000000003,0.56999999999999995,null,0.56999999999999995,3.16,1.05,null,17.940000000000001,22.15]
["Schoharie CSD","ALBANY","KNOX",null,"SCHOHARIE",5.55,1.85,null,33.68,41.08,0.56999999999999995,null,0.56999999999999995,3.16,1.05,null,19.2,23.41]
["Town of New Scotland"]
["Berne-Knox-Westerlo CSD","ALBANY","NEW SCOTLAND",null,"BERNE-KNOX-WESTERLO",3.36,1.71,null,18.53,23.6,0.94,null,0.94,3.16,1.61,null,17.420000000000002,22.19]
["Bethlehem CSD","ALBANY","NEW SCOTLAND",null,"BETHLEHEM",3.36,1.71,null,21.53,26.6,0.94,null,0.94,3.16,1.61,null,20.239999999999998,25.01]
["Greenville CSD","ALBANY","NEW SCOTLAND",null,"GREENVILLE",3.36,1.71,null,18.489999999999998,23.56,0.94,null,0.94,3.16,1.61,null,17.38,22.15]
["Guilderland CSD","ALBANY","NEW SCOTLAND",null,"GUILDERLAND",3.36,1.71,null,19.149999999999999,24.22,0.94,null,0.94,3.16,1.61,null,18,22.77]
["Ravena-Coeymans-Selkirk CSD","ALBANY","NEW SCOTLAND",null,"RAVENA-COEYMANS-SELKIRK",3.36,1.71,null,19.91,24.98,0.94,null,0.94,3.16,1.61,null,18.72,23.49]
["Voorheesville CSD","ALBANY","NEW SCOTLAND",null,"VOORHEESVILLE",3.36,1.71,null,18.91,23.98,0.94,null,0.94,3.16,1.61,null,17.78,22.55]
["Village of Voorheesville"]
["Voorheesville CSD","ALBANY","VOORHEESVILLE","NEW SCOTLAND","VOORHEESVILLE",3.36,1.25,1.1000000000000001,18.91,24.62,0.94,0.94,0.94,3.16,1.18,1.03,17.78,23.15]
["Town of Rensselaerville"]
["Berne-Knox-Westerlo CSD","ALBANY","RENSSELAERVILLE",null,"BERNE-KNOX-WESTERLO",5.79,7.76,null,32.130000000000003,45.68,0.54200000000000004,null,0.54200000000000004,3.14,4.21,null,17.41,24.76]
["Cairo-Durham CSD","ALBANY","RENSSELAERVILLE",null,"CAIRO-DURHAM",5.79,7.76,null,22.01,35.56,0.54200000000000004,null,0.54200000000000004,3.14,4.21,null,11.93,19.28]
["Greenville CSD","ALBANY","RENSSELAERVILLE",null,"GREENVILLE",5.79,7.76,null,32.07,45.62,0.54200000000000004,null,0.54200000000000004,3.14,4.21,null,17.38,24.73]
["Middleburgh CSD","ALBANY","RENSSELAERVILLE",null,"MIDDLEBURGH",5.79,7.76,null,33.74,47.29,0.54200000000000004,null,0.54200000000000004,3.14,4.21,null,18.29,25.64]
["City of Watervliet"]
["Watervliet City SD","ALBANY","WATERVLIET",null,"WATERVLIET",5.1100000000000003,null,15.54,19.91,40.56,0.62250000000000005,null,0.62250000000000005,3.18,null,9.67,12.39,25.24]
["Town of Westerlo"]
["Berne-Knox-Westerlo CSD","ALBANY","WESTERLO",null,"BERNE-KNOX-WESTERLO",379.91,260.60000000000002,null,2048.92,2689.43,8.5000000000000006E-3,null,8.5000000000000006E-3,3.23,2.2200000000000002,null,17.420000000000002,22.87]
["Greenville CSD","ALBANY","WESTERLO",null,"GREENVILLE",379.91,260.60000000000002,null,2045.22,2685.73,8.5000000000000006E-3,null,8.5000000000000006E-3,3.23,2.2200000000000002,null,17.38,22.83]
["Rensselaer County"]
["Town of Berlin"]
["Averill Park CSD","RENSSELAER","BERLIN",null,"AVERILL PARK",22.16,9.43,null,64.34,95.93,0.246,null,0.246,5.45,2.3199999999999998,null,15.83,23.6]
["Berlin CSD","RENSSELAER","BERLIN",null,"BERLIN",22.16,9.43,null,57.6,89.19,0.246,null,0.246,5.45,2.3199999999999998,null,14.17,21.94]
["Town of Brunswick"]
["Averill Park CSD","RENSSELAER","BRUNSWICK",null,"AVERILL PARK",21.58,7.91,null,62.56,92.05,0.253,null,0.253,5.46,2,null,15.83,23.29]
["Brunswick CSD","RENSSELAER","BRUNSWICK",null,"BRUNSWICK",21.58,7.91,null,66.89,96.38,0.253,null,0.253,5.46,2,null,16.920000000000002,24.38]
["Lansingburgh CSD","RENSSELAER","BRUNSWICK",null,"LANSINGBURGH",21.58,7.91,null,62.22,91.71,0.253,null,0.253,5.46,2,null,15.74,23.2]
["Troy City SD","RENSSELAER","BRUNSWICK",null,"TROY",21.58,7.91,null,72.459999999999994,101.95,0.253,null,0.253,5.46,2,null,18.329999999999998,25.79]
["Wynantskill UFSD","RENSSELAER","BRUNSWICK",null,"WYNANTSKILL",21.58,7.91,null,75.510000000000005,105,0.253,null,0.253,5.46,2,null,19.100000000000001,26.56]
["Town of East Greenbush"]
["Averill Park CSD","RENSSELAER","EAST GREENBUSH",null,"AVERILL PARK",5.4,4.01,null,15.82,25.23,1,null,1,5.4,4.01,null,15.82,25.23]
["East Greenbush CSD","RENSSELAER","EAST GREENBUSH",null,"EAST GREENBUSH",5.4,4.01,null,17.68,27.09,1,null,1,5.4,4.01,null,17.68,27.09]
["Town of Grafton"]
["Berlin CSD","RENSSELAER","GRAFTON",null,"BERLIN",65.05,40.98,null,169.7,275.73,8.3500000000000005E-2,null,8.3500000000000005E-2,5.43,3.42,null,14.17,23.02]
["Brunswick CSD","RENSSELAER","GRAFTON",null,"BRUNSWICK",65.05,40.98,null,202.68,308.70999999999998,8.3500000000000005E-2,null,8.3500000000000005E-2,5.43,3.42,null,16.920000000000002,25.77]
["Hoosick Falls CSD","RENSSELAER","GRAFTON",null,"HOOSICK FALLS",65.05,40.98,null,205.6,311.63,8.3500000000000005E-2,null,8.3500000000000005E-2,5.43,3.42,null,17.170000000000002,26.02]
["Town of Hoosick"]
["Cambridge CSD","RENSSELAER","HOOSICK",null,"CAMBRIDGE",20.69,11.56,null,46.18,78.430000000000007,0.27500000000000002,null,0.27500000000000002,5.69,3.18,null,12.7,21.57]
["Hoosick Falls CSD","RENSSELAER","HOOSICK",null,"HOOSICK FALLS",20.69,11.56,null,62.36,94.61,0.27500000000000002,null,0.27500000000000002,5.69,3.18,null,17.149999999999999,26.02]
["Village of Hoosick Falls"]
["Hoosick Falls CSD","RENSSELAER","HOOSICK FALLS","HOOSICK","HOOSICK FALLS",20.69,8.41,56.92,62.36,148.38,0.12970000000000001,0.27500000000000002,0.27500000000000002,5.69,2.31,7.38,17.149999999999999,32.53]
["Town of Nassau"]
["Averill Park CSD","RENSSELAER","NASSAU",null,"AVERILL PARK",7.77,4.07,null,22.61,34.450000000000003,0.7,null,0.7,5.44,2.85,null,15.83,24.12]
["East Greenbush CSD","RENSSELAER","NASSAU",null,"EAST GREENBUSH",7.77,4.07,null,24.76,36.6,0.7,null,0.7,5.44,2.85,null,17.329999999999998,25.62]
["Kinderhook CSD","RENSSELAER","NASSAU",null,"KINDERHOOK",7.77,4.07,null,19.5,31.34,0.7,null,0.7,5.44,2.85,null,13.65,21.94]
["New Lebanon CSD","RENSSELAER","NASSAU",null,"NEW LEBANON",7.77,4.07,null,16.96,28.8,0.7,null,0.7,5.44,2.85,null,11.87,20.16]
["Village of East Nassau"]
["Averill Park CSD","RENSSELAER","EAST NASSAU","NASSAU","AVERILL PARK",7.77,1.01,1.78,22.61,33.17,0.69499999999999995,0.7,0.7,5.44,0.71,1.24,15.83,23.22]
["East Greenbush CSD","RENSSELAER","EAST NASSAU","NASSAU","EAST GREENBUSH",7.77,1.01,1.78,24.76,35.32,0.69499999999999995,0.7,0.7,5.44,0.71,1.24,17.329999999999998,24.72]
["New Lebanon CSD","RENSSELAER","EAST NASSAU","NASSAU","NEW LEBANON",7.77,1.01,1.78,16.96,27.52,0.69499999999999995,0.7,0.7,5.44,0.71,1.24,11.87,19.260000000000002]
["Village of Nassau (part)"]
["East Greenbush CSD","RENSSELAER","NASSAU","NASSAU","EAST GREENBUSH",7.77,1.01,9.6199999999999992,24.76,43.16,0.50019999999999998,0.7,0.7,5.44,0.71,4.8099999999999996,17.329999999999998,28.29]
["Town of North Greenbush"]
["Averill Park CSD","RENSSELAER","NORTH GREENBUSH",null,"AVERILL PARK",20.78,10.85,null,60.29,91.92,0.26250000000000001,null,0.26250000000000001,5.45,2.85,null,15.83,24.13]
["East Greenbush CSD","RENSSELAER","NORTH GREENBUSH",null,"EAST GREENBUSH",20.78,10.85,null,66.72,98.35,0.26250000000000001,null,0.26250000000000001,5.45,2.85,null,17.510000000000002,25.81]
["North Greenbush Common SD","RENSSELAER","NORTH GREENBUSH",null,"NORTH GREENBUSH",20.78,10.85,null,24,55.63,0.26250000000000001,null,0.26250000000000001,5.45,2.85,null,6.3,14.6]
["Wynantskill UFSD","RENSSELAER","NORTH GREENBUSH",null,"WYNANTSKILL",20.78,10.85,null,72.930000000000007,104.56,0.26250000000000001,null,0.26250000000000001,5.45,2.85,null,19.14,27.44]
["Town of Petersburgh"]
["Berlin CSD","RENSSELAER","PETERSBURGH",null,"BERLIN",10.039999999999999,7.6,null,25.07,42.71,0.56499999999999995,null,0.56499999999999995,5.67,4.29,null,14.16,24.12]
["Hoosick Falls CSD","RENSSELAER","PETERSBURGH",null,"HOOSICK FALLS",10.039999999999999,7.6,null,30.35,47.99,0.56499999999999995,null,0.56499999999999995,5.67,4.29,null,17.149999999999999,27.11]
["Town of Pittstown"]
["Brunswick CSD","RENSSELAER","PITTSTOWN",null,"BRUNSWICK",9.2200000000000006,6.09,null,27.52,42.83,0.61499999999999999,null,0.61499999999999999,5.67,3.75,null,16.920000000000002,26.34]
["Cambridge CSD","RENSSELAER","PITTSTOWN",null,"CAMBRIDGE",9.2200000000000006,6.09,null,20.65,35.96,0.61499999999999999,null,0.61499999999999999,5.67,3.75,null,12.7,22.12]
["Hoosic Valley CSD","RENSSELAER","PITTSTOWN",null,"HOOSIC VALLEY",9.2200000000000006,6.09,null,26.39,41.7,0.61499999999999999,null,0.61499999999999999,5.67,3.75,null,16.23,25.65]
["Hoosick Falls CSD","RENSSELAER","PITTSTOWN",null,"HOOSICK FALLS",9.2200000000000006,6.09,null,27.88,43.19,0.61499999999999999,null,0.61499999999999999,5.67,3.75,null,17.149999999999999,26.57]
["Lansingburgh CSD","RENSSELAER","PITTSTOWN",null,"LANSINGBURGH",9.2200000000000006,6.09,null,25.59,40.9,0.61499999999999999,null,0.61499999999999999,5.67,3.75,null,15.74,25.16]
["Village of Valley Falls (part)"]
["Hoosic Valley CSD","RENSSELAER","VALLEY FALLS","PITTSTOWN","HOOSIC VALLEY",9.2200000000000006,4.0199999999999996,3.27,26.39,42.9,0.54320000000000002,0.61499999999999999,0.61499999999999999,5.67,2.4700000000000002,1.78,16.23,26.15]
["Town of Poestenkill"]
["Averill Park CSD","RENSSELAER","POESTENKILL",null,"AVERILL PARK",21.85,10.64,null,63.95,96.44,0.2475,null,0.2475,5.41,2.63,null,15.83,23.87]
["Berlin CSD","RENSSELAER","POESTENKILL",null,"BERLIN",21.85,10.64,null,57.25,89.74,0.2475,null,0.2475,5.41,2.63,null,14.17,22.21]
["Brunswick CSD","RENSSELAER","POESTENKILL",null,"BRUNSWICK",21.85,10.64,null,68.38,100.87,0.2475,null,0.2475,5.41,2.63,null,16.920000000000002,24.96]
["Wynantskill UFSD","RENSSELAER","POESTENKILL",null,"WYNANTSKILL",21.85,10.64,null,77.349999999999994,109.84,0.2475,null,0.2475,5.41,2.63,null,19.14,27.18]
["City of Rensselaer"]
["Rensselaer City SD","RENSSELAER","RENSSELAER",null,"RENSSELAER",18.11,null,48.12,54.75,120.98,0.29399999999999998,null,0.29399999999999998,5.32,null,14.15,16.100000000000001,35.57]
["Town of Sand Lake"]
["Averill Park CSD","RENSSELAER","SAND LAKE",null,"AVERILL PARK",5.38,1.8,null,15.82,23,1,null,1,5.38,1.8,null,15.82,23]
["East Greenbush CSD","RENSSELAER","SAND LAKE",null,"EAST GREENBUSH",5.38,1.8,null,16.510000000000002,23.69,1,null,1,5.38,1.8,null,16.510000000000002,23.69]
["Town of Schaghticoke"]
["Brunswick CSD","RENSSELAER","SCHAGHTICOKE",null,"BRUNSWICK",24.02,7.51,null,72.02,103.55,0.23499999999999999,null,0.23499999999999999,5.64,1.76,null,16.920000000000002,24.32]
["Cambridge CSD","RENSSELAER","SCHAGHTICOKE",null,"CAMBRIDGE",24.02,7.51,null,54.04,85.57,0.23499999999999999,null,0.23499999999999999,5.64,1.76,null,12.7,20.100000000000001]
["Hoosic Valley CSD","RENSSELAER","SCHAGHTICOKE",null,"HOOSIC VALLEY",24.02,7.51,null,69.06,100.59,0.23499999999999999,null,0.23499999999999999,5.64,1.76,null,16.23,23.63]
["Lansingburgh CSD","RENSSELAER","SCHAGHTICOKE",null,"LANSINGBURGH",24.02,7.51,null,66.98,98.51,0.23499999999999999,null,0.23499999999999999,5.64,1.76,null,15.74,23.14]
["Mechanicville City SD","RENSSELAER","SCHAGHTICOKE",null,"MECHANICVILLE",24.02,7.51,null,66.97,98.5,0.23499999999999999,null,0.23499999999999999,5.64,1.76,null,15.74,23.14]
["Stillwater CSD","RENSSELAER","SCHAGHTICOKE",null,"STILLWATER",24.02,7.51,null,51.8,83.33,0.23499999999999999,null,0.23499999999999999,5.64,1.76,null,12.17,19.57]
["Village of Schaghticoke"]
["Hoosic Valley CSD","RENSSELAER","SCHAGHTICOKE","SCHAGHTICOKE","HOOSIC VALLEY",24.02,5.86,14.68,69.06,113.62,0.23,0.23499999999999999,0.23499999999999999,5.64,1.38,3.38,16.23,26.63]
["Village of Valley Falls (part)"]
["Hoosic Valley CSD","RENSSELAER","VALLEY FALLS","SCHAGHTICOKE","HOOSIC VALLEY",24.02,5.86,3.27,69.06,102.21,0.54320000000000002,0.23499999999999999,0.23499999999999999,5.64,1.38,1.78,16.23,25.03]
["Town of Schodack"]
["Averill Park CSD","RENSSELAER","SCHODACK",null,"AVERILL PARK",5.49,4.2300000000000004,null,15.82,25.54,1,null,1,5.49,4.2300000000000004,null,15.82,25.54]
["East Greenbush CSD","RENSSELAER","SCHODACK",null,"EAST GREENBUSH",5.49,4.2300000000000004,null,17.239999999999998,26.96,1,null,1,5.49,4.2300000000000004,null,17.239999999999998,26.96]
["Kinderhook CSD","RENSSELAER","SCHODACK",null,"KINDERHOOK",5.49,4.2300000000000004,null,13.65,23.37,1,null,1,5.49,4.2300000000000004,null,13.65,23.37]
["Schodack CSD","RENSSELAER","SCHODACK",null,"SCHODACK",5.49,4.2300000000000004,null,18.829999999999998,28.55,1,null,1,5.49,4.2300000000000004,null,18.829999999999998,28.55]
["Village of Castleton-on-Hudson"]
["Schodack CSD","RENSSELAER","CASTLETON-ON-HUDSON","SCHODACK","SCHODACK",5.49,2.96,6.63,18.829999999999998,33.909999999999997,0.61170000000000002,1,1,5.49,2.96,4.0599999999999996,18.829999999999998,31.34]
["Village of Nassau (part)"]
["East Greenbush CSD","RENSSELAER","NASSAU","SCHODACK","EAST GREENBUSH",5.49,2.96,9.6199999999999992,17.239999999999998,35.31,0.50019999999999998,1,1,5.49,2.96,4.8099999999999996,17.239999999999998,30.5]
["Town of Stephentown"]
["Averill Park CSD","RENSSELAER","STEPHENTOWN",null,"AVERILL PARK",17.97,8.27,null,52.75,78.989999999999995,0.3,null,0.3,5.39,2.48,null,15.83,23.7]
["Berlin CSD","RENSSELAER","STEPHENTOWN",null,"BERLIN",17.97,8.27,null,47.23,73.47,0.3,null,0.3,5.39,2.48,null,14.17,22.04]
["New Lebanon CSD","RENSSELAER","STEPHENTOWN",null,"NEW LEBANON",17.97,8.27,null,39.57,65.81,0.3,null,0.3,5.39,2.48,null,11.87,19.739999999999998]
["City of Troy"]
["Lansingburgh CSD","RENSSELAER","TROY",null,"LANSINGBURGH",42.28,null,76.08,118.74,237.1,0.13250000000000001,null,0.13250000000000001,5.6,null,10.08,15.73,31.41]
["Troy City SD","RENSSELAER","TROY",null,"TROY",42.28,null,76.08,136.29,254.65,0.13250000000000001,null,0.13250000000000001,5.6,null,10.08,18.059999999999999,33.74]
["Saratoga County"]
["Town of Ballston"]
["Ballston Spa CSD","SARATOGA","BALLSTON",null,"BALLSTON SPA",2.48,0,null,19.64,22.12,0.92,null,0.92,2.2799999999999998,0,null,18.07,20.350000000000001]
["Burnt Hills-Ballston Lake CSD","SARATOGA","BALLSTON",null,"BURNT HILLS-BALLSTON LAKE",2.48,0,null,20.100000000000001,22.58,0.92,null,0.92,2.2799999999999998,0,null,18.489999999999998,20.77]
["Shenendehowa CSD","SARATOGA","BALLSTON",null,"SHENENDEHOWA",2.48,0,null,17.97,20.45,0.92,null,0.92,2.2799999999999998,0,null,16.53,18.809999999999999]
["Village of Ballston Spa (part)"]
["Ballston Spa CSD","SARATOGA","BALLSTON SPA","BALLSTON","BALLSTON SPA",2.48,0,73.040000000000006,19.64,95.16,4.7300000000000002E-2,0.92,0.92,2.2799999999999998,0,3.45,18.07,23.8]
["Town of Charlton"]
["Amsterdam City SD","SARATOGA","CHARLTON",null,"AMSTERDAM",3.5,0,null,25.18,28.68,0.7,null,0.67,2.4500000000000002,0,null,16.87,19.32]
["Ballston Spa CSD","SARATOGA","CHARLTON",null,"BALLSTON SPA",3.5,0,null,25.81,29.31,0.7,null,0.7,2.4500000000000002,0,null,18.07,20.52]
["Burnt Hills-Ballston Lake CSD","SARATOGA","CHARLTON",null,"BURNT HILLS-BALLSTON LAKE",3.5,0,null,26.42,29.92,0.7,null,0.7,2.4500000000000002,0,null,18.489999999999998,20.94]
["Galway CSD","SARATOGA","CHARLTON",null,"GALWAY",3.5,0,null,17.32,20.82,0.7,null,0.7,2.4500000000000002,0,null,12.12,14.57]
["Scotia-Glenville CSD","SARATOGA","CHARLTON",null,"SCOTIA-GLENVILLE",3.5,0,null,26.01,29.51,0.7,null,0.7,2.4500000000000002,0,null,18.21,20.66]
["Town of Clifton Park"]
["Burnt Hills-Ballston Lake CSD","SARATOGA","CLIFTON PARK",null,"BURNT HILLS-BALLSTON LAKE",3.9,0.19,null,31.88,35.97,0.57999999999999996,null,0.57999999999999996,2.2599999999999998,0.11,null,18.489999999999998,20.86]
["Niskayuna CSD","SARATOGA","CLIFTON PARK",null,"NISKAYUNA",3.9,0.19,null,30.35,34.44,0.57999999999999996,null,0.57999999999999996,2.2599999999999998,0.11,null,17.600000000000001,19.97]
["Shenendehowa CSD","SARATOGA","CLIFTON PARK",null,"SHENENDEHOWA",3.9,0.19,null,28.5,32.590000000000003,0.57999999999999996,null,0.57999999999999996,2.2599999999999998,0.11,null,16.53,18.899999999999999]
["Town of Corinth"]
["Corinth CSD","SARATOGA","CORINTH",null,"CORINTH",2.33,3.63,null,11.02,16.98,1,null,1,2.33,3.63,null,11.02,16.98]
["Village of Corinth"]
["Corinth CSD","SARATOGA","CORINTH","CORINTH","CORINTH",2.33,1.54,6.03,11.02,20.92,0.97,1,1,2.33,1.54,5.85,11.02,20.74]
["Town of Day"]
["Corinth CSD","SARATOGA","DAY",null,"CORINTH",3.33,2.0299999999999998,null,16.399999999999999,21.76,0.68049999999999999,null,0.68049999999999999,2.27,1.38,null,11.16,14.81]
["Edinburg Common SD","SARATOGA","DAY",null,"EDINBURG",3.33,2.0299999999999998,null,6.91,12.27,0.68049999999999999,null,0.68049999999999999,2.27,1.38,null,4.7,8.35]
["Hadley-Luzerne CSD","SARATOGA","DAY",null,"HADLEY-LUZERNE",3.33,2.0299999999999998,null,13.78,19.14,0.68049999999999999,null,0.68049999999999999,2.27,1.38,null,9.3800000000000008,13.03]
["Town of Edinburg"]
["Broadalbin-Perth CSD","SARATOGA","EDINBURG",null,"BROADALBIN-PERTH",4.1900000000000004,1.01,null,28.91,34.11,0.53,null,0.53,2.2200000000000002,0.54,null,15.32,18.079999999999998]
["Edinburg Common SD","SARATOGA","EDINBURG",null,"EDINBURG",4.1900000000000004,1.01,null,8.8800000000000008,14.08,0.53,null,0.53,2.2200000000000002,0.54,null,4.71,7.47]
["Hadley-Luzerne CSD","SARATOGA","EDINBURG",null,"HADLEY-LUZERNE",4.1900000000000004,1.01,null,17.7,22.9,0.53,null,0.53,2.2200000000000002,0.54,null,9.3800000000000008,12.14]
["Northville CSD","SARATOGA","EDINBURG",null,"NORTHVILLE",4.1900000000000004,1.01,null,17.8,23,0.53,null,0.53,2.2200000000000002,0.54,null,9.43,12.19]
["Town of Galway"]
["Broadalbin-Perth CSD","SARATOGA","GALWAY",null,"BROADALBIN-PERTH",4.29,1.46,null,28.92,34.67,0.53,null,0.53,2.27,0.77,null,15.33,18.37]
["Galway CSD","SARATOGA","GALWAY",null,"GALWAY",4.29,1.46,null,22.88,28.63,0.53,null,0.53,2.27,0.77,null,12.13,15.17]
["Village of Galway"]
["Galway CSD","SARATOGA","GALWAY","GALWAY","GALWAY",4.29,0.33,0,22.88,27.5,0.53,0.53,0.53,2.27,0.17,0,12.13,14.57]
["Town of Greenfield"]
["Corinth CSD","SARATOGA","GREENFIELD",null,"CORINTH",2.2999999999999998,1.18,null,11.16,14.64,1,null,1,2.2999999999999998,1.18,null,11.16,14.64]
["Saratoga Springs City SD","SARATOGA","GREENFIELD",null,"SARATOGA SPRINGS",2.2999999999999998,1.18,null,12.26,15.74,1,null,1,2.2999999999999998,1.18,null,12.26,15.74]
["Town of Hadley"]
["Corinth CSD","SARATOGA","HADLEY",null,"CORINTH",3,5.38,null,14.88,23.26,0.75,null,0.75,2.25,4.04,null,11.16,17.45]
["Hadley-Luzerne CSD","SARATOGA","HADLEY",null,"HADLEY-LUZERNE",3,5.38,null,12.5,20.88,0.75,null,0.75,2.25,4.04,null,9.3800000000000008,15.67]
["Town of Halfmoon"]
["Mechanicville City SD","SARATOGA","HALFMOON",null,"MECHANICVILLE",3.75,0,null,26.23,29.98,0.6,null,0.6,2.25,0,null,15.74,17.989999999999998]
["Shenendehowa CSD","SARATOGA","HALFMOON",null,"SHENENDEHOWA",3.75,0,null,27.55,31.3,0.6,null,0.6,2.25,0,null,16.53,18.78]
["Waterford-Halfmoon UFSD","SARATOGA","HALFMOON",null,"WATERFORD-HALFMOON",3.75,0,null,36.06,39.81,0.6,null,0.6,2.25,0,null,21.64,23.89]
["Town of Malta"]
["Ballston Spa CSD","SARATOGA","MALTA",null,"BALLSTON SPA",2.25,0.02,null,18.07,20.34,1,null,1,2.25,0.02,null,18.07,20.34]
["Saratoga Springs City SD","SARATOGA","MALTA",null,"SARATOGA SPRINGS",2.25,0.02,null,12.01,14.28,1,null,1,2.25,0.02,null,12.01,14.28]
["Shenendehowa CSD","SARATOGA","MALTA",null,"SHENENDEHOWA",2.25,0.02,null,16.53,18.8,1,null,1,2.25,0.02,null,16.53,18.8]
["Village of Round Lake"]
["Shenendehowa CSD","SARATOGA","ROUND LAKE","MALTA","SHENENDEHOWA",2.25,0.02,4.32,16.53,23.12,1,1,1,2.25,0.02,4.32,16.53,23.12]
["City of Mechanicville"]
["Mechanicville City SD","SARATOGA","MECHANICVILLE",null,"MECHANICVILLE",3.55,null,13.28,22.48,39.31,0.7,null,0.7,2.4900000000000002,null,9.3000000000000007,15.74,27.53]
["Town of Milton"]
["Ballston Spa CSD","SARATOGA","MILTON",null,"BALLSTON SPA",2.4900000000000002,0.27,null,19.43,22.19,0.93,null,0.93,2.3199999999999998,0.25,null,18.07,20.64]
["Galway CSD","SARATOGA","MILTON",null,"GALWAY",2.4900000000000002,0.27,null,13.04,15.8,0.93,null,0.93,2.3199999999999998,0.25,null,12.13,14.7]
["Saratoga Springs City SD","SARATOGA","MILTON",null,"SARATOGA SPRINGS",2.4900000000000002,0.27,null,13.02,15.78,0.93,null,0.93,2.3199999999999998,0.25,null,12.11,14.68]
["Village of Ballston Spa (part)"]
["Ballston Spa CSD","SARATOGA","BALLSTON SPA","MILTON","BALLSTON SPA",2.4900000000000002,0.19,73.040000000000006,19.43,95.15,4.7300000000000002E-2,0.93,0.93,2.3199999999999998,0.18,3.45,18.07,24.02]
["Town of Moreau"]
["Hudson Falls CSD","SARATOGA","MOREAU",null,"HUDSON FALLS",2.0699999999999998,0.59,null,13.6,16.260000000000002,1,null,1,2.0699999999999998,0.59,null,13.6,16.260000000000002]
["South Glens Falls CSD","SARATOGA","MOREAU",null,"SOUTH GLENS FALLS",2.0699999999999998,0.59,null,13.93,16.59,1,null,1,2.0699999999999998,0.59,null,13.93,16.59]
["Village of South Glens Falls"]
["South Glens Falls CSD","SARATOGA","SOUTH GLENS FALLS","MOREAU","SOUTH GLENS FALLS",2.27,0.59,15,13.93,31.79,0.35120000000000001,1,1,2.27,0.59,5.27,13.93,22.06]
["Town of Northumberland"]
["Schuylerville CSD","SARATOGA","NORTHUMBERLAND",null,"SCHUYLERVILLE",2.36,1.37,null,19.23,22.96,1,null,1,2.36,1.37,null,19.23,22.96]
["South Glens Falls CSD","SARATOGA","NORTHUMBERLAND",null,"SOUTH GLENS FALLS",2.36,1.37,null,13.93,17.66,1,null,1,2.36,1.37,null,13.93,17.66]
["Town of Providence"]
["Broadalbin-Perth CSD","SARATOGA","PROVIDENCE",null,"BROADALBIN-PERTH",11.41,19.77,null,75.87,107.05,0.20200000000000001,null,0.20200000000000001,2.2999999999999998,3.99,null,15.33,21.62]
["Galway CSD","SARATOGA","PROVIDENCE",null,"GALWAY",11.41,19.77,null,60.03,91.21,0.20200000000000001,null,0.20200000000000001,2.2999999999999998,3.99,null,12.13,18.420000000000002]
["Town of Saratoga"]
["Saratoga Springs City SD","SARATOGA","SARATOGA",null,"SARATOGA SPRINGS",3.52,1.62,null,18.43,23.57,0.66,null,0.66,2.3199999999999998,1.07,null,12.16,15.55]
["Schuylerville CSD","SARATOGA","SARATOGA",null,"SCHUYLERVILLE",3.52,1.62,null,29.14,34.28,0.66,null,0.66,2.3199999999999998,1.07,null,19.23,22.62]
["Stillwater CSD","SARATOGA","SARATOGA",null,"STILLWATER",3.52,1.62,null,18.440000000000001,23.58,0.66,null,0.66,2.3199999999999998,1.07,null,12.17,15.56]
["Village of Schuylerville"]
["Schuylerville CSD","SARATOGA","SCHUYLERVILLE","SARATOGA","SCHUYLERVILLE",3.52,1.62,0,29.14,34.28,0,0.66,0.66,2.3199999999999998,1.07,0,19.23,22.62]
["Village of Victory"]
["Schuylerville CSD","SARATOGA","VICTORY","SARATOGA","SCHUYLERVILLE",3.52,1.62,0,29.14,34.28,0,0.66,0.66,2.3199999999999998,1.07,0,19.23,22.62]
["City of Saratoga Springs"]
["Saratoga Springs City SD","SARATOGA","SARATOGA SPRINGS",null,"SARATOGA SPRINGS",2.86,null,6.04,14.87,23.77,0.82,null,0.82,2.35,null,4.95,12.19,19.489999999999998]
["Town of Stillwater"]
["Mechanicville City SD","SARATOGA","STILLWATER",null,"MECHANICVILLE",2.46,2.85,null,16.57,21.88,0.95,null,0.95,2.34,2.71,null,15.74,20.79]
["Schuylerville CSD","SARATOGA","STILLWATER",null,"SCHUYLERVILLE",2.46,2.85,null,20.260000000000002,25.57,0.95,null,0.95,2.34,2.71,null,19.25,24.3]
["Shenendehowa CSD","SARATOGA","STILLWATER",null,"SHENENDEHOWA",2.46,2.85,null,17.399999999999999,22.71,0.95,null,0.95,2.34,2.71,null,16.53,21.58]
["Stillwater CSD","SARATOGA","STILLWATER",null,"STILLWATER",2.46,2.85,null,12.81,18.12,0.95,null,0.95,2.34,2.71,null,12.17,17.22]
["Village of Stillwater"]
["Stillwater CSD","SARATOGA","STILLWATER","STILLWATER","STILLWATER",2.46,1.44,3.35,12.81,20.059999999999999,0.91,0.95,0.95,2.34,1.37,3.05,12.17,18.93]
["Town of Waterford"]
["Shenendehowa CSD","SARATOGA","WATERFORD",null,"SHENENDEHOWA",7.04,11.29,null,48.62,66.95,0.34,null,0.34,2.39,3.84,null,16.53,22.76]
["Waterford-Halfmoon UFSD","SARATOGA","WATERFORD",null,"WATERFORD-HALFMOON",7.04,11.29,null,63.63,81.96,0.34,null,0.34,2.39,3.84,null,21.63,27.86]
["Village of Waterford"]
["Waterford-Halfmoon UFSD","SARATOGA","WATERFORD","WATERFORD","WATERFORD-HALFMOON",7.04,11.29,138.99,63.63,220.95,2.98E-2,0.34,0.34,2.39,3.84,4.1399999999999997,21.63,32]
["Town of Wilton"]
["Corinth CSD","SARATOGA","WILTON",null,"CORINTH",2.2599999999999998,0,null,11.15,13.41,1,null,1,2.2599999999999998,0,null,11.15,13.41]
["Saratoga Springs City SD","SARATOGA","WILTON",null,"SARATOGA SPRINGS",2.2599999999999998,0,null,12.11,14.37,1,null,1,2.2599999999999998,0,null,12.11,14.37]
["Schuylerville CSD","SARATOGA","WILTON",null,"SCHUYLERVILLE",2.2599999999999998,0,null,19.22,21.48,1,null,1,2.2599999999999998,0,null,19.22,21.48]
["South Glens Falls CSD","SARATOGA","WILTON",null,"SOUTH GLENS FALLS",2.2599999999999998,0,null,13.93,16.190000000000001,1,null,1,2.2599999999999998,0,null,13.93,16.190000000000001]
["Schenectady County"]
["Town of Duanesburg"]
["Amsterdam City SD","SCHENECTADY","DUANESBURG",null,"AMSTERDAM",19.760000000000002,4.0599999999999996,null,63.41,87.23,0.3145,null,0.2661,6.21,1.28,null,16.87,24.36]
["Duanesburg CSD","SCHENECTADY","DUANESBURG",null,"DUANESBURG",19.760000000000002,4.0599999999999996,null,54,77.819999999999993,0.3145,null,0.3145,6.21,1.28,null,16.98,24.47]
["Schalmont CSD","SCHENECTADY","DUANESBURG",null,"SCHALMONT",19.760000000000002,4.0599999999999996,null,57.51,81.33,0.3145,null,0.3145,6.21,1.28,null,18.09,25.58]
["Schoharie CSD","SCHENECTADY","DUANESBURG",null,"SCHOHARIE",19.760000000000002,4.0599999999999996,null,61.05,84.87,0.3145,null,0.3145,6.21,1.28,null,19.2,26.69]
["Village of Delanson"]
["Duanesburg CSD","SCHENECTADY","DELANSON","DUANESBURG","DUANESBURG",19.760000000000002,4.0599999999999996,11.57,54,89.39,0.2661,0.3145,0.2661,6.21,1.28,3.08,14.37,24.94]
["Town of Glenville"]
["Amsterdam City SD","SCHENECTADY","GLENVILLE",null,"AMSTERDAM",6.85,3.36,null,19.850000000000001,30.06,0.91,null,0.85,6.23,3.06,null,16.87,26.16]
["Burnt Hills-Ballston Lake CSD","SCHENECTADY","GLENVILLE",null,"BURNT HILLS-BALLSTON LAKE",6.85,3.36,null,20.32,30.53,0.91,null,0.91,6.23,3.06,null,18.489999999999998,27.78]
["Galway CSD","SCHENECTADY","GLENVILLE",null,"GALWAY",6.85,3.36,null,13.32,23.53,0.91,null,0.91,6.23,3.06,null,12.12,21.41]
["Niskayuna CSD","SCHENECTADY","GLENVILLE",null,"NISKAYUNA",6.85,3.36,null,18.829999999999998,29.04,0.91,null,0.91,6.23,3.06,null,17.14,26.43]
["Scotia-Glenville CSD","SCHENECTADY","GLENVILLE",null,"SCOTIA-GLENVILLE",6.85,3.36,null,20.010000000000002,30.22,0.91,null,0.91,6.23,3.06,null,18.21,27.5]
["Village of Scotia"]
["Scotia-Glenville CSD","SCHENECTADY","SCOTIA","GLENVILLE","SCOTIA-GLENVILLE",6.85,1.01,10.37,20.010000000000002,38.24,0.85,0.91,0.85,6.23,0.92,8.81,17.010000000000002,32.97]
["Town of Niskayuna"]
["Niskayuna CSD","SCHENECTADY","NISKAYUNA",null,"NISKAYUNA",6.14,2.87,null,17.62,26.63,1,null,1,6.14,2.87,null,17.62,26.63]
["South Colonie CSD","SCHENECTADY","NISKAYUNA",null,"SOUTH COLONIE",6.14,2.87,null,16.11,25.12,1,null,1,6.14,2.87,null,16.11,25.12]
["Town of Princetown"]
["Duanesburg CSD","SCHENECTADY","PRINCETOWN",null,"DUANESBURG",19.32,0.43,null,52.66,72.41,0.32250000000000001,null,0.32250000000000001,6.23,0.14000000000000001,null,16.98,23.35]
["Schalmont CSD","SCHENECTADY","PRINCETOWN",null,"SCHALMONT",19.32,0.43,null,57.19,76.94,0.32250000000000001,null,0.32250000000000001,6.23,0.14000000000000001,null,18.440000000000001,24.81]
["Town of Rotterdam"]
["Rotterdam-Mohonasen CSD","SCHENECTADY","ROTTERDAM",null,"ROTTERDAM-MOHONASEN",6.33,4.32,null,15.19,25.84,1,null,1,6.33,4.32,null,15.19,25.84]
["Schalmont CSD","SCHENECTADY","ROTTERDAM",null,"SCHALMONT",6.33,4.32,null,19.43,30.08,1,null,1,6.33,4.32,null,19.43,30.08]
["Schenectady City SD","SCHENECTADY","ROTTERDAM",null,"SCHENECTADY",6.33,4.32,null,20.9,31.55,1,null,1,6.33,4.32,null,20.9,31.55]
["City of Schenectady"]
["Schenectady City SD","SCHENECTADY","SCHENECTADY",null,"SCHENECTADY",6.66,null,13.19,20.9,40.75,1,null,1,6.66,null,13.19,20.9,40.75]
["Capital District"]

{"sheet":"2011 SD","index":20,"n_rows":283,"n_cols":34,"rows_kept":283,"cut":false,"hidden":false,"merged":[]}
[]
[]
[null,null,null,null,null,null,null,null,null,null,null,null,null,null,null,null,null,"All Equalization Rates"]
["Property Tax Rates for",{"$f":"'2011'!B1","v":"2011 Tax Rates per $1,000 in Assessed Valuation"},null,null,null,null,null,null,null,null,null,"Total Overall",null,null,"Full","Full",null,"City,","Town On","City/Town"]
["MCDs & School Districts",null,null,"City or",null,null,null,null,null,null,"Equal.","Full Value Range:",null,null,"Value","Value",null,"Town,","County","on",null,null,null,null,"HTML Code"]
["Area","County","Town","Village","School District Range",null,null,"Total Overall Range",null,null,"Rate","Rate per $1,000",null,null,"Computed","Check",null,"Village","& Town","School"]
["Albany County",null,null,null,{"$f":"MIN(E8:E69)","v":17.38},{"$f":"IF(G7<>0,\"to\",\"\")","v":"to"},{"$f":"MAX(E8:G69)","v":2048.92},{"$f":"MIN(H8:H69)","v":22.82},{"$f":"IF(J7<>0,\"to\",\"\")","v":"to"},{"$f":"MAX(H8:J69)","v":2689.43},null,{"$f":"MIN(L8:L69)","v":17.61},{"$f":"IF(N7<>0,\"to\",\"\")","v":"to"},{"$f":"MAX(L8:N69)","v":36.4},null,null,null,null,null,null,null,null,null,null,"<TR VALIGN=BOTTOM BGCOLOR=\"#CCCCFF\">",{"$f":"\"<TH NOWRAP ALIGN=LEFT><FONT FACE=\"\"Times New Roman\"\" COLOR=\"\"#AA00AA\"\">\"&A7&\"</FONT></TH>\"","v":"<TH NOWRAP ALIGN=LEFT><FONT FACE=\"Times New Roman\" COLOR=\"#AA00AA\">Albany County</FONT></TH>"},{"$f":"\"<TD NOWRAP ALIGN=RIGHT><FONT FACE=\"\"Times New Roman\"\" SIZE=-1>\"&IF(B7=\"\",\"<BR>\",TEXT(B7,\"$#,##0.00\"))&\"</FONT></TD>\"","v":"<TD NOWRAP ALIGN=RIGHT><FONT FACE=\"Times New Roman\" SIZE=-1><BR></FONT></TD>"},{"$f":"\"<TD NOWRAP ALIGN=RIGHT><FONT FACE=\"\"Times New Roman\"\" SIZE=-1>\"&IF(C7=\"\",\"<BR>\",TEXT(C7,\"$#,##0.00\"))&\"</FONT></TD>\"","v":"<TD NOWRAP ALIGN=RIGHT><FONT FACE=\"Times New Roman\" SIZE=-1><BR></FONT></TD>"},{"$f":"\"<TD NOWRAP ALIGN=RIGHT><FONT FACE=\"\"Times New Roman\"\" SIZE=-1>\"&IF(D7=\"\",\"<BR>\",TEXT(D7,\"$#,##0.00\"))&\"</FONT></TD>\"","v":"<TD NOWRAP ALIGN=RIGHT><FONT FACE=\"Times New Roman\" SIZE=-1><BR></FONT></TD>"},{"$f":"\"<TD NOWRAP ALIGN=CENTER><FONT FACE=\"\"Times New Roman\"\" SIZE=-1>\"&TEXT(E7,\"$#,##0.00\")&IF(F7=\"\",\"\",\" to \")&IF(G7<=0,\"\",TEXT(G7,\"$#,##0.00\"))&\"</FONT></TD>\"","v":"<TD NOWRAP ALIGN=CENTER><FONT FACE=\"Times New Roman\" SIZE=-1>$17.38 to $2,048.92</FONT></TD>"},{"$f":"\"<TD NOWRAP ALIGN=CENTER><FONT FACE=\"\"Times New Roman\"\" SIZE=-1>\"&TEXT(H7,\"$#,##0.00\")&IF(I7=\"\",\"\",\" to \")&IF(J7<=0,\"\",TEXT(J7,\"$#,##0.00\"))&\"</FONT></TD>\"","v":"<TD NOWRAP ALIGN=CENTER><FONT FACE=\"Times New Roman\" SIZE=-1>$22.82 to $2,689.43</FONT></TD>"},{"$f":"\"<TD NOWRAP ALIGN=CENTER><FONT FACE=\"\"Times New Roman\"\" SIZE=-1>\"&IF(K7=\"\",\"<BR>\",TEXT(K7,\"0.0000\"))&\"</FONT></TD>\"","v":"<TD NOWRAP ALIGN=CENTER><FONT FACE=\"Times New Roman\" SIZE=-1><BR></FONT></TD>"},{"$f":"\"<TD NOWRAP ALIGN=CENTER><FONT FACE=\"\"Times New Roman\"\" SIZE=-1>\"&TEXT(L7,\"$#,##0.00\")&IF(M7=\"\",\"\",\" to \")&IF(N7<=0,\"\",TEXT(N7,\"$#,##0.00\"))&\"</FONT></TD>\"","v":"<TD NOWRAP ALIGN=CENTER><FONT FACE=\"Times New Roman\" SIZE=-1>$17.61 to $36.40</FONT></TD>"},"</TR>"]
["City of Albany",{"$f":"B9","v":3.26},null,{"$f":"D9","v":10.96},{"$f":"MIN(INDIRECT(U9))","v":22.4},{"$f":"IF(G8<>0,\"to\",\"\")","v":""},{"$f":"IF(U8<>V8,MAX(INDIRECT(U9)),0)","v":0},{"$f":"MIN(INDIRECT(V9))","v":36.619999999999997},{"$f":"IF(J8<>0,\"to\",\"\")","v":""},{"$f":"IF(U8<>V8,MAX(INDIRECT(V9)),0)","v":0},{"$f":"K9","v":0.99399999999999999},{"$f":"MIN(INDIRECT(W9))","v":36.4},{"$f":"IF(N8<>0,\"to\",\"\")","v":""},{"$f":"IF(U8<>V8,MAX(INDIRECT(W9)),0)","v":0},null,null,null,null,null,null,{"$f":"CELL(\"row\",P9)","v":9},{"$f":"CELL(\"row\",P9)","v":9},null,null,"<TR VALIGN=BOTTOM BGCOLOR=\"#FFFFCC\">",{"$f":"\"<TH NOWRAP ALIGN=LEFT><FONT FACE=\"\"Times New Roman\"\" SIZE=-1 COLOR=#800000\"\">\"&A8&\"</FONT></TH>\"","v":"<TH NOWRAP ALIGN=LEFT><FONT FACE=\"Times New Roman\" SIZE=-1 COLOR=#800000\">City of Albany</FONT></TH>"},"<TD NOWRAP ALIGN=RIGHT><FONT FACE=\"Times New Roman\" SIZE=-1>$3.26</FONT></TD>","<TD NOWRAP ALIGN=RIGHT><FONT FACE=\"Times New Roman\" SIZE=-1><BR></FONT></TD>","<TD NOWRAP ALIGN=RIGHT><FONT FACE=\"Times New Roman\" SIZE=-1>$10.96</FONT></TD>","<TD NOWRAP ALIGN=CENTER><FONT FACE=\"Times New Roman\" SIZE=-1>$22.40</FONT></TD>","<TD NOWRAP ALIGN=CENTER><FONT FACE=\"Times New Roman\" SIZE=-1>$36.62</FONT></TD>","<TD NOWRAP ALIGN=CENTER><FONT FACE=\"Times New Roman\" SIZE=-1>0.9940</FONT></TD>","<TD NOWRAP ALIGN=CENTER><FONT FACE=\"Times New Roman\" SIZE=-1>$36.40</FONT></TD>","</TR>"]
["Albany City SD",{"$f":"'2011 Base Data'!F9","v":3.26},null,{"$f":"'2011 Base Data'!H9","v":10.96},{"$f":"'2011 Base Data'!I9","v":22.4},null,null,{"$f":"'2011 Base Data'!J9","v":36.619999999999997},null,null,{"$f":"'2011 Base Data'!K9","v":0.99399999999999999},{"$f":"'2011 Base Data'!R9","v":36.4},null,null,{"$f":"ROUND(IF(S9<>0,R9*D9+S9*SUM(B9:C9)+T9*E9,R9*SUM(B9:D9)+T9*E9),2)","v":36.4},{"$f":"L9-O9","v":0},null,{"$f":"'2011 Base Data'!K9","v":0.99399999999999999},{"$f":"'2011 Base Data'!L9","v":0},{"$f":"'2011 Base Data'!M9","v":0.99399999999999999},{"$f":"\"E\"&U8&\":\"&\"E\"&V8","v":"E9:E9"},{"$f":"\"H\"&U8&\":\"&\"H\"&V8","v":"H9:H9"},{"$f":"\"L\"&U8&\":\"&\"L\"&V8","v":"L9:L9"},null,"<TR VALIGN=BOTTOM>",{"$f":"\"<TD NOWRAP ALIGN=LEFT><FONT FACE=\"\"Times New Roman\"\" SIZE=-1 COLOR=#00AA00\"\">\"&A9&\"</FONT></TD>\"","v":"<TD NOWRAP ALIGN=LEFT><FONT FACE=\"Times New Roman\" SIZE=-1 COLOR=#00AA00\">Albany City SD</FONT></TD>"},"<TD NOWRAP ALIGN=RIGHT><FONT FACE=\"Times New Roman\" SIZE=-1>$3.26</FONT></TD>","<TD NOWRAP ALIGN=RIGHT><FONT FACE=\"Times New Roman\" SIZE=-1><BR></FONT></TD>","<TD NOWRAP ALIGN=RIGHT><FONT FACE=\"Times New Roman\" SIZE=-1>$10.96</FONT></TD>","<TD NOWRAP ALIGN=CENTER><FONT FACE=\"Times New Roman\" SIZE=-1>$22.40</FONT></TD>","<TD NOWRAP ALIGN=CENTER><FONT FACE=\"Times New Roman\" SIZE=-1>$36.62</FONT></TD>","<TD NOWRAP ALIGN=CENTER><FONT FACE=\"Times New Roman\" SIZE=-1>0.9940</FONT></TD>","<TD NOWRAP ALIGN=CENTER><FONT FACE=\"Times New Roman\" SIZE=-1>$36.40</FONT></TD>","</TR>"]
["Town of Berne",{"$f":"B11","v":5.13},{"$f":"C11","v":4.74},null,{"$f":"MIN(INDIRECT(U11))","v":28.04},{"$f":"IF(G10<>0,\"to\",\"\")","v":"to"},{"$f":"IF(U10<>V10,MAX(INDIRECT(U11)),0)","v":29.49},{"$f":"MIN(INDIRECT(V11))","v":37.909999999999997},{"$f":"IF(J10<>0,\"to\",\"\")","v":"to"},{"$f":"IF(U10<>V10,MAX(INDIRECT(V11)),0)","v":39.36},{"$f":"K11","v":0.62},{"$f":"MIN(INDIRECT(W11))","v":23.5},{"$f":"IF(N10<>0,\"to\",\"\")","v":"to"},{"$f":"IF(U10<>V10,MAX(INDIRECT(W11)),0)","v":24.4},null,null,null,null,null,null,{"$f":"CELL(\"row\",P11)","v":11},{"$f":"CELL(\"row\",P14)","v":14},null,null,"<TR VALIGN=BOTTOM BGCOLOR=\"#FFFFCC\">",{"$f":"\"<TH NOWRAP ALIGN=LEFT><FONT FACE=\"\"Times New Roman\"\" SIZE=-1>\"&A10&\"</FONT></TH>\"","v":"<TH NOWRAP ALIGN=LEFT><FONT FACE=\"Times New Roman\" SIZE=-1>Town of Berne</FONT></TH>"},"<TD NOWRAP ALIGN=RIGHT><FONT FACE=\"Times New Roman\" SIZE=-1>$5.13</FONT></TD>","<TD NOWRAP ALIGN=RIGHT><FONT FACE=\"Times New Roman\" SIZE=-1>$4.74</FONT></TD>","<TD NOWRAP ALIGN=RIGHT><FONT FACE=\"Times New Roman\" SIZE=-1><BR></FONT></TD>","<TD NOWRAP ALIGN=CENTER><FONT FACE=\"Times New Roman\" SIZE=-1>$28.04 to $29.49</FONT></TD>","<TD NOWRAP ALIGN=CENTER><FONT FACE=\"Times New Roman\" SIZE=-1>$37.91 to $39.36</FONT></TD>","<TD NOWRAP ALIGN=CENTER><FONT FACE=\"Times New Roman\" SIZE=-1>0.6200</FONT></TD>","<TD NOWRAP ALIGN=CENTER><FONT FACE=\"Times New Roman\" SIZE=-1>$23.50 to $24.40</FONT></TD>","</TR>"]
["Berne-Knox-Westerlo CSD",{"$f":"'2011 Base Data'!F11","v":5.13},{"$f":"'2011 Base Data'!G11","v":4.74},null,{"$f":"'2011 Base Data'!I11","v":28.09},null,null,{"$f":"'2011 Base Data'!J11","v":37.96},null,null,{"$f":"'2011 Base Data'!K11","v":0.62},{"$f":"'2011 Base Data'!R11","v":23.54},null,null,{"$f":"ROUND(IF(S11<>0,R11*D11+S11*SUM(B11:C11)+T11*E11,R11*SUM(B11:D11)+T11*E11),2)","v":23.54},{"$f":"L11-O11","v":0},null,{"$f":"'2011 Base Data'!K11","v":0.62},{"$f":"'2011 Base Data'!L11","v":0},{"$f":"'2011 Base Data'!M11","v":0.62},{"$f":"\"E\"&U10&\":\"&\"E\"&V10","v":"E11:E14"},{"$f":"\"H\"&U10&\":\"&\"H\"&V10","v":"H11:H14"},{"$f":"\"L\"&U10&\":\"&\"L\"&V10","v":"L11:L14"},null,"<TR VALIGN=BOTTOM>",{"$f":"\"<TD NOWRAP ALIGN=LEFT><FONT FACE=\"\"Times New Roman\"\" SIZE=-1 COLOR=#00AA00\"\">\"&A11&\"</FONT></TD>\"","v":"<TD NOWRAP ALIGN=LEFT><FONT FACE=\"Times New Roman\" SIZE=-1 COLOR=#00AA00\">Berne-Knox-Westerlo CSD</FONT></TD>"},"<TD NOWRAP ALIGN=RIGHT><FONT FACE=\"Times New Roman\" SIZE=-1>$5.13</FONT></TD>","<TD NOWRAP ALIGN=RIGHT><FONT FACE=\"Times New Roman\" SIZE=-1>$4.74</FONT></TD>","<TD NOWRAP ALIGN=RIGHT><FONT FACE=\"Times New Roman\" SIZE=-1><BR></FONT></TD>","<TD NOWRAP ALIGN=CENTER><FONT FACE=\"Times New Roman\" SIZE=-1>$28.09</FONT></TD>","<TD NOWRAP ALIGN=CENTER><FONT FACE=\"Times New Roman\" SIZE=-1>$37.96</FONT></TD>","<TD NOWRAP ALIGN=CENTER><FONT FACE=\"Times New Roman\" SIZE=-1>0.6200</FONT></TD>","<TD NOWRAP ALIGN=CENTER><FONT FACE=\"Times New Roman\" SIZE=-1>$23.54</FONT></TD>","</TR>"]
["Greenville CSD",{"$f":"'2011 Base Data'!F12","v":5.13},{"$f":"'2011 Base Data'!G12","v":4.74},null,{"$f":"'2011 Base Data'!I12","v":28.04},null,null,{"$f":"'2011 Base Data'!J12","v":37.909999999999997},null,null,{"$f":"'2011 Base Data'!K12","v":0.62},{"$f":"'2011 Base Data'!R12","v":23.5},null,null,{"$f":"ROUND(IF(S12<>0,R12*D12+S12*SUM(B12:C12)+T12*E12,R12*SUM(B12:D12)+T12*E12),2)","v":23.5},{"$f":"L12-O12","v":0},null,{"$f":"'2011 Base Data'!K12","v":0.62},{"$f":"'2011 Base Data'!L12","v":0},{"$f":"'2011 Base Data'!M12","v":0.62},null,null,null,null,"<TR VALIGN=BOTTOM>",{"$f":"\"<TD NOWRAP ALIGN=LEFT><FONT FACE=\"\"Times New Roman\"\" SIZE=-1 COLOR=#00AA00\"\">\"&A12&\"</FONT></TD>\"","v":"<TD NOWRAP ALIGN=LEFT><FONT FACE=\"Times New Roman\" SIZE=-1 COLOR=#00AA00\">Greenville CSD</FONT></TD>"},"<TD NOWRAP ALIGN=RIGHT><FONT FACE=\"Times New Roman\" SIZE=-1>$5.13</FONT></TD>","<TD NOWRAP ALIGN=RIGHT><FONT FACE=\"Times New Roman\" SIZE=-1>$4.74</FONT></TD>","<TD NOWRAP ALIGN=RIGHT><FONT FACE=\"Times New Roman\" SIZE=-1><BR></FONT></TD>","<TD NOWRAP ALIGN=CENTER><FONT FACE=\"Times New Roman\" SIZE=-1>$28.04</FONT></TD>","<TD NOWRAP ALIGN=CENTER><FONT FACE=\"Times New Roman\" SIZE=-1>$37.91</FONT></TD>","<TD NOWRAP ALIGN=CENTER><FONT FACE=\"Times New Roman\" SIZE=-1>0.6200</FONT></TD>","<TD NOWRAP ALIGN=CENTER><FONT FACE=\"Times New Roman\" SIZE=-1>$23.50</FONT></TD>","</TR>"]
["Middleburgh CSD",{"$f":"'2011 Base Data'!F13","v":5.13},{"$f":"'2011 Base Data'!G13","v":4.74},null,{"$f":"'2011 Base Data'!I13","v":29.49},null,null,{"$f":"'2011 Base Data'!J13","v":39.36},null,null,{"$f":"'2011 Base Data'!K13","v":0.62},{"$f":"'2011 Base Data'!R13","v":24.4},null,null,{"$f":"ROUND(IF(S13<>0,R13*D13+S13*SUM(B13:C13)+T13*E13,R13*SUM(B13:D13)+T13*E13),2)","v":24.4},{"$f":"L13-O13","v":0},null,{"$f":"'2011 Base Data'!K13","v":0.62},{"$f":"'2011 Base Data'!L13","v":0},{"$f":"'2011 Base Data'!M13","v":0.62},null,null,null,null,"<TR VALIGN=BOTTOM>",{"$f":"\"<TD NOWRAP ALIGN=LEFT><FONT FACE=\"\"Times New Roman\"\" SIZE=-1 COLOR=#00AA00\"\">\"&A13&\"</FONT></TD>\"","v":"<TD NOWRAP ALIGN=LEFT><FONT FACE=\"Times New Roman\" SIZE=-1 COLOR=#00AA00\">Middleburgh CSD</FONT></TD>"},"<TD NOWRAP ALIGN=RIGHT><FONT FACE=\"Times New Roman\" SIZE=-1>$5.13</FONT></TD>","<TD NOWRAP ALIGN=RIGHT><FONT FACE=\"Times New Roman\" SIZE=-1>$4.74</FONT></TD>","<TD NOWRAP ALIGN=RIGHT><FONT FACE=\"Times New Roman\" SIZE=-1><BR></FONT></TD>","<TD NOWRAP ALIGN=CENTER><FONT FACE=\"Times New Roman\" SIZE=-1>$29.49</FONT></TD>","<TD NOWRAP ALIGN=CENTER><FONT FACE=\"Times New Roman\" SIZE=-1>$39.36</FONT></TD>","<TD NOWRAP ALIGN=CENTER><FONT FACE=\"Times New Roman\" SIZE=-1>0.6200</FONT></TD>","<TD NOWRAP ALIGN=CENTER><FONT FACE=\"Times New Roman\" SIZE=-1>$24.40</FONT></TD>","</TR>"]
["Voorheesville CSD",{"$f":"'2011 Base Data'!F14","v":5.13},{"$f":"'2011 Base Data'!G14","v":4.74},null,{"$f":"'2011 Base Data'!I14","v":28.67},null,null,{"$f":"'2011 Base Data'!J14","v":38.54},null,null,{"$f":"'2011 Base Data'!K14","v":0.62},{"$f":"'2011 Base Data'!R14","v":23.9},null,null,{"$f":"ROUND(IF(S14<>0,R14*D14+S14*SUM(B14:C14)+T14*E14,R14*SUM(B14:D14)+T14*E14),2)","v":23.89},{"$f":"L14-O14","v":9.9999999999980105E-3},null,{"$f":"'2011 Base Data'!K14","v":0.62},{"$f":"'2011 Base Data'!L14","v":0},{"$f":"'2011 Base Data'!M14","v":0.62},null,null,null,null,"<TR VALIGN=BOTTOM>",{"$f":"\"<TD NOWRAP ALIGN=LEFT><FONT FACE=\"\"Times New Roman\"\" SIZE=-1 COLOR=#00AA00\"\">\"&A14&\"</FONT></TD>\"","v":"<TD NOWRAP ALIGN=LEFT><FONT FACE=\"Times New Roman\" SIZE=-1 COLOR=#00AA00\">Voorheesville CSD</FONT></TD>"},"<TD NOWRAP ALIGN=RIGHT><FONT FACE=\"Times New Roman\" SIZE=-1>$5.13</FONT></TD>","<TD NOWRAP ALIGN=RIGHT><FONT FACE=\"Times New Roman\" SIZE=-1>$4.74</FONT></TD>","<TD NOWRAP ALIGN=RIGHT><FONT FACE=\"Times New Roman\" SIZE=-1><BR></FONT></TD>","<TD NOWRAP ALIGN=CENTER><FONT FACE=\"Times New Roman\" SIZE=-1>$28.67</FONT></TD>","<TD NOWRAP ALIGN=CENTER><FONT FACE=\"Times New Roman\" SIZE=-1>$38.54</FONT></TD>","<TD NOWRAP ALIGN=CENTER><FONT FACE=\"Times New Roman\" SIZE=-1>0.6200</FONT></TD>","<TD NOWRAP ALIGN=CENTER><FONT FACE=\"Times New Roman\" SIZE=-1>$23.90</FONT></TD>","</TR>"]
["Town of Bethlehem",{"$f":"B16","v":3.25},{"$f":"C16","v":1.9},null,{"$f":"MIN(INDIRECT(U16))","v":18.5},{"$f":"IF(G15<>0,\"to\",\"\")","v":"to"},{"$f":"IF(U15<>V15,MAX(INDIRECT(U16)),0)","v":20.87},{"$f":"MIN(INDIRECT(V16))","v":23.65},{"$f":"IF(J15<>0,\"to\",\"\")","v":"to"},{"$f":"IF(U15<>V15,MAX(INDIRECT(V16)),0)","v":26.02},{"$f":"K16","v":0.97},{"$f":"MIN(INDIRECT(W16))","v":22.94},{"$f":"IF(N15<>0,\"to\",\"\")","v":"to"},{"$f":"IF(U15<>V15,MAX(INDIRECT(W16)),0)","v":25.23},null,null,null,null,null,null,{"$f":"CELL(\"row\",P16)","v":16},{"$f":"CELL(\"row\",P18)","v":18},null,null,"<TR VALIGN=BOTTOM BGCOLOR=\"#FFFFCC\">",{"$f":"\"<TH NOWRAP ALIGN=LEFT><FONT FACE=\"\"Times New Roman\"\" SIZE=-1>\"&A15&\"</FONT></TH>\"","v":"<TH NOWRAP ALIGN=LEFT><FONT FACE=\"Times New Roman\" SIZE=-1>Town of Bethlehem</FONT></TH>"},"<TD NOWRAP ALIGN=RIGHT><FONT FACE=\"Times New Roman\" SIZE=-1>$3.25</FONT></TD>","<TD NOWRAP ALIGN=RIGHT><FONT FACE=\"Times New Roman\" SIZE=-1>$1.90</FONT></TD>","<TD NOWRAP ALIGN=RIGHT><FONT FACE=\"Times New Roman\" SIZE=-1><BR></FONT></TD>","<TD NOWRAP ALIGN=CENTER><FONT FACE=\"Times New Roman\" SIZE=-1>$18.50 to $20.87</FONT></TD>","<TD NOWRAP ALIGN=CENTER><FONT FACE=\"Times New Roman\" SIZE=-1>$23.65 to $26.02</FONT></TD>","<TD NOWRAP ALIGN=CENTER><FONT FACE=\"Times New Roman\" SIZE=-1>0.9700</FONT></TD>","<TD NOWRAP ALIGN=CENTER><FONT FACE=\"Times New Roman\" SIZE=-1>$22.94 to $25.23</FONT></TD>","</TR>"]
["Bethlehem CSD",{"$f":"'2011 Base Data'!F16","v":3.25},{"$f":"'2011 Base Data'!G16","v":1.9},null,{"$f":"'2011 Base Data'!I16","v":20.87},null,null,{"$f":"'2011 Base Data'!J16","v":26.02},null,null,{"$f":"'2011 Base Data'!K16","v":0.97},{"$f":"'2011 Base Data'!R16","v":25.23},null,null,{"$f":"ROUND(IF(S16<>0,R16*D16+S16*SUM(B16:C16)+T16*E16,R16*SUM(B16:D16)+T16*E16),2)","v":25.24},{"$f":"L16-O16","v":-9.9999999999980105E-3},null,{"$f":"'2011 Base Data'!K16","v":0.97},{"$f":"'2011 Base Data'!L16","v":0},{"$f":"'2011 Base Data'!M16","v":0.97},{"$f":"\"E\"&U15&\":\"&\"E\"&V15","v":"E16:E18"},{"$f":"\"H\"&U15&\":\"&\"H\"&V15","v":"H16:H18"},{"$f":"\"L\"&U15&\":\"&\"L\"&V15","v":"L16:L18"},null,"<TR VALIGN=BOTTOM>",{"$f":"\"<TD NOWRAP ALIGN=LEFT><FONT FACE=\"\"Times New Roman\"\" SIZE=-1 COLOR=#00AA00\"\">\"&A16&\"</FONT></TD>\"","v":"<TD NOWRAP ALIGN=LEFT><FONT FACE=\"Times New Roman\" SIZE=-1 COLOR=#00AA00\">Bethlehem CSD</FONT></TD>"},"<TD NOWRAP ALIGN=RIGHT><FONT FACE=\"Times New Roman\" SIZE=-1>$3.25</FONT></TD>","<TD NOWRAP ALIGN=RIGHT><FONT FACE=\"Times New Roman\" SIZE=-1>$1.90</FONT></TD>","<TD NOWRAP ALIGN=RIGHT><FONT FACE=\"Times New Roman\" SIZE=-1><BR></FONT></TD>","<TD NOWRAP ALIGN=CENTER><FONT FACE=\"Times New Roman\" SIZE=-1>$20.87</FONT></TD>","<TD NOWRAP ALIGN=CENTER><FONT FACE=\"Times New Roman\" SIZE=-1>$26.02</FONT></TD>","<TD NOWRAP ALIGN=CENTER><FONT FACE=\"Times New Roman\" SIZE=-1>0.9700</FONT></TD>","<TD NOWRAP ALIGN=CENTER><FONT FACE=\"Times New Roman\" SIZE=-1>$25.23</FONT></TD>","</TR>"]
["Guilderland CSD",{"$f":"'2011 Base Data'!F17","v":3.25},{"$f":"'2011 Base Data'!G17","v":1.9},null,{"$f":"'2011 Base Data'!I17","v":18.5},null,null,{"$f":"'2011 Base Data'!J17","v":23.65},null,null,{"$f":"'2011 Base Data'!K17","v":0.97},{"$f":"'2011 Base Data'!R17","v":22.94},null,null,{"$f":"ROUND(IF(S17<>0,R17*D17+S17*SUM(B17:C17)+T17*E17,R17*SUM(B17:D17)+T17*E17),2)","v":22.94},{"$f":"L17-O17","v":0},null,{"$f":"'2011 Base Data'!K17","v":0.97},{"$f":"'2011 Base Data'!L17","v":0},{"$f":"'2011 Base Data'!M17","v":0.97},null,null,null,null,"<TR VALIGN=BOTTOM>",{"$f":"\"<TD NOWRAP ALIGN=LEFT><FONT FACE=\"\"Times New Roman\"\" SIZE=-1 COLOR=#00AA00\"\">\"&A17&\"</FONT></TD>\"","v":"<TD NOWRAP ALIGN=LEFT><FONT FACE=\"Times New Roman\" SIZE=-1 COLOR=#00AA00\">Guilderland CSD</FONT></TD>"},"<TD NOWRAP ALIGN=RIGHT><FONT FACE=\"Times New Roman\" SIZE=-1>$3.25</FONT></TD>","<TD NOWRAP ALIGN=RIGHT><FONT FACE=\"Times New Roman\" SIZE=-1>$1.90</FONT></TD>","<TD NOWRAP ALIGN=RIGHT><FONT FACE=\"Times New Roman\" SIZE=-1><BR></FONT></TD>","<TD NOWRAP ALIGN=CENTER><FONT FACE=\"Times New Roman\" SIZE=-1>$18.50</FONT></TD>","<TD NOWRAP ALIGN=CENTER><FONT FACE=\"Times New Roman\" SIZE=-1>$23.65</FONT></TD>","<TD NOWRAP ALIGN=CENTER><FONT FACE=\"Times New Roman\" SIZE=-1>0.9700</FONT></TD>","<TD NOWRAP ALIGN=CENTER><FONT FACE=\"Times New Roman\" SIZE=-1>$22.94</FONT></TD>","</TR>"]
["Ravena-Coeymans-Selkirk CSD",{"$f":"'2011 Base Data'!F18","v":3.25},{"$f":"'2011 Base Data'!G18","v":1.9},null,{"$f":"'2011 Base Data'!I18","v":19.3},null,null,{"$f":"'2011 Base Data'!J18","v":24.45},null,null,{"$f":"'2011 Base Data'!K18","v":0.97},{"$f":"'2011 Base Data'!R18","v":23.71},null,null,{"$f":"ROUND(IF(S18<>0,R18*D18+S18*SUM(B18:C18)+T18*E18,R18*SUM(B18:D18)+T18*E18),2)","v":23.72},{"$f":"L18-O18","v":-9.9999999999980105E-3},null,{"$f":"'2011 Base Data'!K18","v":0.97},{"$f":"'2011 Base Data'!L18","v":0},{"$f":"'2011 Base Data'!M18","v":0.97},null,null,null,null,"<TR VALIGN=BOTTOM>",{"$f":"\"<TD NOWRAP ALIGN=LEFT><FONT FACE=\"\"Times New Roman\"\" SIZE=-1 COLOR=#00AA00\"\">\"&A18&\"</FONT></TD>\"","v":"<TD NOWRAP ALIGN=LEFT><FONT FACE=\"Times New Roman\" SIZE=-1 COLOR=#00AA00\">Ravena-Coeymans-Selkirk CSD</FONT></TD>"},"<TD NOWRAP ALIGN=RIGHT><FONT FACE=\"Times New Roman\" SIZE=-1>$3.25</FONT></TD>","<TD NOWRAP ALIGN=RIGHT><FONT FACE=\"Times New Roman\" SIZE=-1>$1.90</FONT></TD>","<TD NOWRAP ALIGN=RIGHT><FONT FACE=\"Times New Roman\" SIZE=-1><BR></FONT></TD>","<TD NOWRAP ALIGN=CENTER><FONT FACE=\"Times New Roman\" SIZE=-1>$19.30</FONT></TD>","<TD NOWRAP ALIGN=CENTER><FONT FACE=\"Times New Roman\" SIZE=-1>$24.45</FONT></TD>","<TD NOWRAP ALIGN=CENTER><FONT FACE=\"Times New Roman\" SIZE=-1>0.9700</FONT></TD>","<TD NOWRAP ALIGN=CENTER><FONT FACE=\"Times New Roman\" SIZE=-1>$23.71</FONT></TD>","</TR>"]
["Town of Coeymans",{"$f":"B20","v":3.17},{"$f":"C20","v":2.96},null,{"$f":"MIN(INDIRECT(U20))","v":17.38},{"$f":"IF(G19<>0,\"to\",\"\")","v":"to"},{"$f":"IF(U19<>V19,MAX(INDIRECT(U20)),0)","v":18.72},{"$f":"MIN(INDIRECT(V20))","v":23.51},{"$f":"IF(J19<>0,\"to\",\"\")","v":"to"},{"$f":"IF(U19<>V19,MAX(INDIRECT(V20)),0)","v":24.85},{"$f":"K20","v":1},{"$f":"MIN(INDIRECT(W20))","v":23.51},{"$f":"IF(N19<>0,\"to\",\"\")","v":"to"},{"$f":"IF(U19<>V19,MAX(INDIRECT(W20)),0)","v":24.85},null,null,null,null,null,null,{"$f":"CELL(\"row\",P20)","v":20},{"$f":"CELL(\"row\",P21)","v":21},null,null,"<TR VALIGN=BOTTOM BGCOLOR=\"#FFFFCC\">",{"$f":"\"<TH NOWRAP ALIGN=LEFT><FONT FACE=\"\"Times New Roman\"\" SIZE=-1>\"&A19&\"</FONT></TH>\"","v":"<TH NOWRAP ALIGN=LEFT><FONT FACE=\"Times New Roman\" SIZE=-1>Town of Coeymans</FONT></TH>"},"<TD NOWRAP ALIGN=RIGHT><FONT FACE=\"Times New Roman\" SIZE=-1>$3.17</FONT></TD>","<TD NOWRAP ALIGN=RIGHT><FONT FACE=\"Times New Roman\" SIZE=-1>$2.96</FONT></TD>","<TD NOWRAP ALIGN=RIGHT><FONT FACE=\"Times New Roman\" SIZE=-1><BR></FONT></TD>","<TD NOWRAP ALIGN=CENTER><FONT FACE=\"Times New Roman\" SIZE=-1>$17.38 to $18.72</FONT></TD>","<TD NOWRAP ALIGN=CENTER><FONT FACE=\"Times New Roman\" SIZE=-1>$23.51 to $24.85</FONT></TD>","<TD NOWRAP ALIGN=CENTER><FONT FACE=\"Times New Roman\" SIZE=-1>1.0000</FONT></TD>","<TD NOWRAP ALIGN=CENTER><FONT FACE=\"Times New Roman\" SIZE=-1>$23.51 to $24.85</FONT></TD>","</TR>"]
["Greenville CSD",{"$f":"'2011 Base Data'!F20","v":3.17},{"$f":"'2011 Base Data'!G20","v":2.96},null,{"$f":"'2011 Base Data'!I20","v":17.38},null,null,{"$f":"'2011 Base Data'!J20","v":23.51},null,null,{"$f":"'2011 Base Data'!K20","v":1},{"$f":"'2011 Base Data'!R20","v":23.51},null,null,{"$f":"ROUND(IF(S20<>0,R20*D20+S20*SUM(B20:C20)+T20*E20,R20*SUM(B20:D20)+T20*E20),2)","v":23.51},{"$f":"L20-O20","v":0},null,{"$f":"'2011 Base Data'!K20","v":1},{"$f":"'2011 Base Data'!L20","v":0},{"$f":"'2011 Base Data'!M20","v":1},{"$f":"\"E\"&U19&\":\"&\"E\"&V19","v":"E20:E21"},{"$f":"\"H\"&U19&\":\"&\"H\"&V19","v":"H20:H21"},{"$f":"\"L\"&U19&\":\"&\"L\"&V19","v":"L20:L21"},null,"<TR VALIGN=BOTTOM>",{"$f":"\"<TD NOWRAP ALIGN=LEFT><FONT FACE=\"\"Times New Roman\"\" SIZE=-1 COLOR=#00AA00\"\">\"&A20&\"</FONT></TD>\"","v":"<TD NOWRAP ALIGN=LEFT><FONT FACE=\"Times New Roman\" SIZE=-1 COLOR=#00AA00\">Greenville CSD</FONT></TD>"},"<TD NOWRAP ALIGN=RIGHT><FONT FACE=\"Times New Roman\" SIZE=-1>$3.17</FONT></TD>","<TD NOWRAP ALIGN=RIGHT><FONT FACE=\"Times New Roman\" SIZE=-1>$2.96</FONT></TD>","<TD NOWRAP ALIGN=RIGHT><FONT FACE=\"Times New Roman\" SIZE=-1><BR></FONT></TD>","<TD NOWRAP ALIGN=CENTER><FONT FACE=\"Times New Roman\" SIZE=-1>$17.38</FONT></TD>","<TD NOWRAP ALIGN=CENTER><FONT FACE=\"Times New Roman\" SIZE=-1>$23.51</FONT></TD>","<TD NOWRAP ALIGN=CENTER><FONT FACE=\"Times New Roman\" SIZE=-1>1.0000</FONT></TD>","<TD NOWRAP ALIGN=CENTER><FONT FACE=\"Times New Roman\" SIZE=-1>$23.51</FONT></TD>","</TR>"]
["Ravena-Coeymans-Selkirk CSD",{"$f":"'2011 Base Data'!F21","v":3.17},{"$f":"'2011 Base Data'!G21","v":2.96},null,{"$f":"'2011 Base Data'!I21","v":18.72},null,null,{"$f":"'2011 Base Data'!J21","v":24.85},null,null,{"$f":"'2011 Base Data'!K21","v":1},{"$f":"'2011 Base Data'!R21","v":24.85},null,null,{"$f":"ROUND(IF(S21<>0,R21*D21+S21*SUM(B21:C21)+T21*E21,R21*SUM(B21:D21)+T21*E21),2)","v":24.85},{"$f":"L21-O21","v":0},null,{"$f":"'2011 Base Data'!K21","v":1},{"$f":"'2011 Base Data'!L21","v":0},{"$f":"'2011 Base Data'!M21","v":1},null,null,null,null,"<TR VALIGN=BOTTOM>",{"$f":"\"<TD NOWRAP ALIGN=LEFT><FONT FACE=\"\"Times New Roman\"\" SIZE=-1 COLOR=#00AA00\"\">\"&A21&\"</FONT></TD>\"","v":"<TD NOWRAP ALIGN=LEFT><FONT FACE=\"Times New Roman\" SIZE=-1 COLOR=#00AA00\">Ravena-Coeymans-Selkirk CSD</FONT></TD>"},"<TD NOWRAP ALIGN=RIGHT><FONT FACE=\"Times New Roman\" SIZE=-1>$3.17</FONT></TD>","<TD NOWRAP ALIGN=RIGHT><FONT FACE=\"Times New Roman\" SIZE=-1>$2.96</FONT></TD>","<TD NOWRAP ALIGN=RIGHT><FONT FACE=\"Times New Roman\" SIZE=-1><BR></FONT></TD>","<TD NOWRAP ALIGN=CENTER><FONT FACE=\"Times New Roman\" SIZE=-1>$18.72</FONT></TD>","<TD NOWRAP ALIGN=CENTER><FONT FACE=\"Times New Roman\" SIZE=-1>$24.85</FONT></TD>","<TD NOWRAP ALIGN=CENTER><FONT FACE=\"Times New Roman\" SIZE=-1>1.0000</FONT></TD>","<TD NOWRAP ALIGN=CENTER><FONT FACE=\"Times New Roman\" SIZE=-1>$24.85</FONT></TD>","</TR>"]
["Village of Ravena",{"$f":"B23","v":3.17},{"$f":"C23","v":2.96},{"$f":"D23","v":4.49},{"$f":"MIN(INDIRECT(U23))","v":18.72},{"$f":"IF(G22<>0,\"to\",\"\")","v":""},{"$f":"IF(U22<>V22,MAX(INDIRECT(U23)),0)","v":0},{"$f":"MIN(INDIRECT(V23))","v":29.34},{"$f":"IF(J22<>0,\"to\",\"\")","v":""},{"$f":"IF(U22<>V22,MAX(INDIRECT(V23)),0)","v":0},{"$f":"K23","v":0.99250000000000005},{"$f":"MIN(INDIRECT(W23))","v":29.31},{"$f":"IF(N22<>0,\"to\",\"\")","v":""},{"$f":"IF(U22<>V22,MAX(INDIRECT(W23)),0)","v":0},null,null,null,null,null,null,{"$f":"CELL(\"row\",P23)","v":23},{"$f":"CELL(\"row\",P23)","v":23},null,null,"<TR VALIGN=BOTTOM BGCOLOR=\"#FFFFCC\">",{"$f":"\"<TH NOWRAP ALIGN=LEFT><FONT FACE=\"\"Times New Roman\"\" SIZE=-1 COLOR=\"\"#0000CC\"\">\"&A22&\"</FONT></TH>\"","v":"<TH NOWRAP ALIGN=LEFT><FONT FACE=\"Times New Roman\" SIZE=-1 COLOR=\"#0000CC\">Village of Ravena</FONT></TH>"},"<TD NOWRAP ALIGN=RIGHT><FONT FACE=\"Times New Roman\" SIZE=-1>$3.17</FONT></TD>","<TD NOWRAP ALIGN=RIGHT><FONT FACE=\"Times New Roman\" SIZE=-1>$2.96</FONT></TD>","<TD NOWRAP ALIGN=RIGHT><FONT FACE=\"Times New Roman\" SIZE=-1>$4.49</FONT></TD>","<TD NOWRAP ALIGN=CENTER><FONT FACE=\"Times New Roman\" SIZE=-1>$18.72</FONT></TD>","<TD NOWRAP ALIGN=CENTER><FONT FACE=\"Times New Roman\" SIZE=-1>$29.34</FONT></TD>","<TD NOWRAP ALIGN=CENTER><FONT FACE=\"Times New Roman\" SIZE=-1>0.9925</FONT></TD>","<TD NOWRAP ALIGN=CENTER><FONT FACE=\"Times New Roman\" SIZE=-1>$29.31</FONT></TD>","</TR>"]
["Ravena-Coeymans-Selkirk CSD",{"$f":"'2011 Base Data'!F23","v":3.17},{"$f":"'2011 Base Data'!G23","v":2.96},{"$f":"'2011 Base Data'!H23","v":4.49},{"$f":"'2011 Base Data'!I23","v":18.72},null,null,{"$f":"'2011 Base Data'!J23","v":29.34},null,null,{"$f":"'2011 Base Data'!K23","v":0.99250000000000005},{"$f":"'2011 Base Data'!R23","v":29.31},null,null,{"$f":"ROUND(IF(S23<>0,R23*D23+S23*SUM(B23:C23)+T23*E23,R23*SUM(B23:D23)+T23*E23),2)","v":29.31},{"$f":"L23-O23","v":0},null,{"$f":"'2011 Base Data'!K23","v":0.99250000000000005},{"$f":"'2011 Base Data'!L23","v":1},{"$f":"'2011 Base Data'!M23","v":1},{"$f":"\"E\"&U22&\":\"&\"E\"&V22","v":"E23:E23"},{"$f":"\"H\"&U22&\":\"&\"H\"&V22","v":"H23:H23"},{"$f":"\"L\"&U22&\":\"&\"L\"&V22","v":"L23:L23"},null,"<TR VALIGN=BOTTOM>",{"$f":"\"<TD NOWRAP ALIGN=LEFT><FONT FACE=\"\"Times New Roman\"\" SIZE=-1 COLOR=#00AA00\"\">\"&A23&\"</FONT></TD>\"","v":"<TD NOWRAP ALIGN=LEFT><FONT FACE=\"Times New Roman\" SIZE=-1 COLOR=#00AA00\">Ravena-Coeymans-Selkirk CSD</FONT></TD>"},"<TD NOWRAP ALIGN=RIGHT><FONT FACE=\"Times New Roman\" SIZE=-1>$3.17</FONT></TD>","<TD NOWRAP ALIGN=RIGHT><FONT FACE=\"Times New Roman\" SIZE=-1>$2.96</FONT></TD>","<TD NOWRAP ALIGN=RIGHT><FONT FACE=\"Times New Roman\" SIZE=-1>$4.49</FONT></TD>","<TD NOWRAP ALIGN=CENTER><FONT FACE=\"Times New Roman\" SIZE=-1>$18.72</FONT></TD>","<TD NOWRAP ALIGN=CENTER><FONT FACE=\"Times New Roman\" SIZE=-1>$29.34</FONT></TD>","<TD NOWRAP ALIGN=CENTER><FONT FACE=\"Times New Roman\" SIZE=-1>0.9925</FONT></TD>","<TD NOWRAP ALIGN=CENTER><FONT FACE=\"Times New Roman\" SIZE=-1>$29.31</FONT></TD>","</TR>"]
["City of Cohoes",{"$f":"B25","v":5.9},null,{"$f":"D25","v":16.989999999999998},{"$f":"MIN(INDIRECT(U25))","v":32.72},{"$f":"IF(G24<>0,\"to\",\"\")","v":""},{"$f":"IF(U24<>V24,MAX(INDIRECT(U25)),0)","v":0},{"$f":"MIN(INDIRECT(V25))","v":55.61},{"$f":"IF(J24<>0,\"to\",\"\")","v":""},{"$f":"IF(U24<>V24,MAX(INDIRECT(V25)),0)","v":0},{"$f":"K25","v":0.54},{"$f":"MIN(INDIRECT(W25))","v":30.03},{"$f":"IF(N24<>0,\"to\",\"\")","v":""},{"$f":"IF(U24<>V24,MAX(INDIRECT(W25)),0)","v":0},null,null,null,null,null,null,{"$f":"CELL(\"row\",P25)","v":25},{"$f":"CELL(\"row\",P25)","v":25},null,null,"<TR VALIGN=BOTTOM BGCOLOR=\"#FFFFCC\">",{"$f":"\"<TH NOWRAP ALIGN=LEFT><FONT FACE=\"\"Times New Roman\"\" SIZE=-1 COLOR=#800000\"\">\"&A24&\"</FONT></TH>\"","v":"<TH NOWRAP ALIGN=LEFT><FONT FACE=\"Times New Roman\" SIZE=-1 COLOR=#800000\">City of Cohoes</FONT></TH>"},"<TD NOWRAP ALIGN=RIGHT><FONT FACE=\"Times New Roman\" SIZE=-1>$5.90</FONT></TD>","<TD NOWRAP ALIGN=RIGHT><FONT FACE=\"Times New Roman\" SIZE=-1><BR></FONT></TD>","<TD NOWRAP ALIGN=RIGHT><FONT FACE=\"Times New Roman\" SIZE=-1>$16.99</FONT></TD>","<TD NOWRAP ALIGN=CENTER><FONT FACE=\"Times New Roman\" SIZE=-1>$32.72</FONT></TD>","<TD NOWRAP ALIGN=CENTER><FONT FACE=\"Times New Roman\" SIZE=-1>$55.61</FONT></TD>","<TD NOWRAP ALIGN=CENTER><FONT FACE=\"Times New Roman\" SIZE=-1>0.5400</FONT></TD>","<TD NOWRAP ALIGN=CENTER><FONT FACE=\"Times New Roman\" SIZE=-1>$30.03</FONT></TD>","</TR>"]
["Cohoes City SD",{"$f":"'2011 Base Data'!F25","v":5.9},null,{"$f":"'2011 Base Data'!H25","v":16.989999999999998},{"$f":"'2011 Base Data'!I25","v":32.72},null,null,{"$f":"'2011 Base Data'!J25","v":55.61},null,null,{"$f":"'2011 Base Data'!K25","v":0.54},{"$f":"'2011 Base Data'!R25","v":30.03},null,null,{"$f":"ROUND(IF(S25<>0,R25*D25+S25*SUM(B25:C25)+T25*E25,R25*SUM(B25:D25)+T25*E25),2)","v":30.03},{"$f":"L25-O25","v":0},null,{"$f":"'2011 Base Data'!K25","v":0.54},{"$f":"'2011 Base Data'!L25","v":0},{"$f":"'2011 Base Data'!M25","v":0.54},{"$f":"\"E\"&U24&\":\"&\"E\"&V24","v":"E25:E25"},{"$f":"\"H\"&U24&\":\"&\"H\"&V24","v":"H25:H25"},{"$f":"\"L\"&U24&\":\"&\"L\"&V24","v":"L25:L25"},null,"<TR VALIGN=BOTTOM>",{"$f":"\"<TD NOWRAP ALIGN=LEFT><FONT FACE=\"\"Times New Roman\"\" SIZE=-1 COLOR=#00AA00\"\">\"&A25&\"</FONT></TD>\"","v":"<TD NOWRAP ALIGN=LEFT><FONT FACE=\"Times New Roman\" SIZE=-1 COLOR=#00AA00\">Cohoes City SD</FONT></TD>"},"<TD NOWRAP ALIGN=RIGHT><FONT FACE=\"Times New Roman\" SIZE=-1>$5.90</FONT></TD>","<TD NOWRAP ALIGN=RIGHT><FONT FACE=\"Times New Roman\" SIZE=-1><BR></FONT></TD>","<TD NOWRAP ALIGN=RIGHT><FONT FACE=\"Times New Roman\" SIZE=-1>$16.99</FONT></TD>","<TD NOWRAP ALIGN=CENTER><FONT FACE=\"Times New Roman\" SIZE=-1>$32.72</FONT></TD>","<TD NOWRAP ALIGN=CENTER><FONT FACE=\"Times New Roman\" SIZE=-1>$55.61</FONT></TD>","<TD NOWRAP ALIGN=CENTER><FONT FACE=\"Times New Roman\" SIZE=-1>0.5400</FONT></TD>","<TD NOWRAP ALIGN=CENTER><FONT FACE=\"Times New Roman\" SIZE=-1>$30.03</FONT></TD>","</TR>"]
["Town of Colonie",{"$f":"B27","v":4.7},{"$f":"C27","v":3.07},null,{"$f":"MIN(INDIRECT(U27))","v":18.5},{"$f":"IF(G26<>0,\"to\",\"\")","v":"to"},{"$f":"IF(U26<>V26,MAX(INDIRECT(U27)),0)","v":30.15},{"$f":"MIN(INDIRECT(V27))","v":26.27},{"$f":"IF(J26<>0,\"to\",\"\")","v":"to"},{"$f":"IF(U26<>V26,MAX(INDIRECT(V27)),0)","v":37.92},{"$f":"K27","v":0.67},{"$f":"MIN(INDIRECT(W27))","v":17.61},{"$f":"IF(N26<>0,\"to\",\"\")","v":"to"},{"$f":"IF(U26<>V26,MAX(INDIRECT(W27)),0)","v":25.41},null,null,null,null,null,null,{"$f":"CELL(\"row\",P27)","v":27},{"$f":"CELL(\"row\",P32)","v":32},null,null,"<TR VALIGN=BOTTOM BGCOLOR=\"#FFFFCC\">",{"$f":"\"<TH NOWRAP ALIGN=LEFT><FONT FACE=\"\"Times New Roman\"\" SIZE=-1>\"&A26&\"</FONT></TH>\"","v":"<TH NOWRAP ALIGN=LEFT><FONT FACE=\"Times New Roman\" SIZE=-1>Town of Colonie</FONT></TH>"},"<TD NOWRAP ALIGN=RIGHT><FONT FACE=\"Times New Roman\" SIZE=-1>$4.70</FONT></TD>","<TD NOWRAP ALIGN=RIGHT><FONT FACE=\"Times New Roman\" SIZE=-1>$3.07</FONT></TD>","<TD NOWRAP ALIGN=RIGHT><FONT FACE=\"Times New Roman\" SIZE=-1><BR></FONT></TD>","<TD NOWRAP ALIGN=CENTER><FONT FACE=\"Times New Roman\" SIZE=-1>$18.50 to $30.15</FONT></TD>","<TD NOWRAP ALIGN=CENTER><FONT FACE=\"Times New Roman\" SIZE=-1>$26.27 to $37.92</FONT></TD>","<TD NOWRAP ALIGN=CENTER><FONT FACE=\"Times New Roman\" SIZE=-1>0.6700</FONT></TD>","<TD NOWRAP ALIGN=CENTER><FONT FACE=\"Times New Roman\" SIZE=-1>$17.61 to $25.41</FONT></TD>","</TR>"]
["Menands UFSD",{"$f":"'2011 Base Data'!F27","v":4.7},{"$f":"'2011 Base Data'!G27","v":3.07},null,{"$f":"'2011 Base Data'!I27","v":23.92},null,null,{"$f":"'2011 Base Data'!J27","v":31.69},null,null,{"$f":"'2011 Base Data'!K27","v":0.67},{"$f":"'2011 Base Data'!R27","v":21.24},null,null,{"$f":"ROUND(IF(S27<>0,R27*D27+S27*SUM(B27:C27)+T27*E27,R27*SUM(B27:D27)+T27*E27),2)","v":21.23},{"$f":"L27-O27","v":9.9999999999980105E-3},null,{"$f":"'2011 Base Data'!K27","v":0.67},{"$f":"'2011 Base Data'!L27","v":0},{"$f":"'2011 Base Data'!M27","v":0.67},{"$f":"\"E\"&U26&\":\"&\"E\"&V26","v":"E27:E32"},{"$f":"\"H\"&U26&\":\"&\"H\"&V26","v":"H27:H32"},{"$f":"\"L\"&U26&\":\"&\"L\"&V26","v":"L27:L32"},null,"<TR VALIGN=BOTTOM>",{"$f":"\"<TD NOWRAP ALIGN=LEFT><FONT FACE=\"\"Times New Roman\"\" SIZE=-1 COLOR=#00AA00\"\">\"&A27&\"</FONT></TD>\"","v":"<TD NOWRAP ALIGN=LEFT><FONT FACE=\"Times New Roman\" SIZE=-1 COLOR=#00AA00\">Menands UFSD</FONT></TD>"},"<TD NOWRAP ALIGN=RIGHT><FONT FACE=\"Times New Roman\" SIZE=-1>$4.70</FONT></TD>","<TD NOWRAP ALIGN=RIGHT><FONT FACE=\"Times New Roman\" SIZE=-1>$3.07</FONT></TD>","<TD NOWRAP ALIGN=RIGHT><FONT FACE=\"Times New Roman\" SIZE=-1><BR></FONT></TD>","<TD NOWRAP ALIGN=CENTER><FONT FACE=\"Times New Roman\" SIZE=-1>$23.92</FONT></TD>","<TD NOWRAP ALIGN=CENTER><FONT FACE=\"Times New Roman\" SIZE=-1>$31.69</FONT></TD>","<TD NOWRAP ALIGN=CENTER><FONT FACE=\"Times New Roman\" SIZE=-1>0.6700</FONT></TD>","<TD NOWRAP ALIGN=CENTER><FONT FACE=\"Times New Roman\" SIZE=-1>$21.24</FONT></TD>","</TR>"]
["Niskayuna CSD",{"$f":"'2011 Base Data'!F28","v":4.7},{"$f":"'2011 Base Data'!G28","v":3.07},null,{"$f":"'2011 Base Data'!I28","v":30.15},null,null,{"$f":"'2011 Base Data'!J28","v":37.92},null,null,{"$f":"'2011 Base Data'!K28","v":0.67},{"$f":"'2011 Base Data'!R28","v":25.41},null,null,25.41,0,null,{"$f":"'2011 Base Data'!K28","v":0.67},{"$f":"'2011 Base Data'!L28","v":0},{"$f":"'2011 Base Data'!M28","v":0.67},null,null,null,null,"<TR VALIGN=BOTTOM>","<TD NOWRAP ALIGN=LEFT><FONT FACE=\"Times New Roman\" SIZE=-1 COLOR=#00AA00\">Niskayuna CSD</FONT></TD>","<TD NOWRAP ALIGN=RIGHT><FONT FACE=\"Times New Roman\" SIZE=-1>$4.70</FONT></TD>","<TD NOWRAP ALIGN=RIGHT><FONT FACE=\"Times New Roman\" SIZE=-1>$3.07</FONT></TD>","<TD NOWRAP ALIGN=RIGHT><FONT FACE=\"Times New Roman\" SIZE=-1><BR></FONT></TD>","<TD NOWRAP ALIGN=CENTER><FONT FACE=\"Times New Roman\" SIZE=-1>$30.15</FONT></TD>","<TD NOWRAP ALIGN=CENTER><FONT FACE=\"Times New Roman\" SIZE=-1>$37.92</FONT></TD>","<TD NOWRAP ALIGN=CENTER><FONT FACE=\"Times New Roman\" SIZE=-1>0.6700</FONT></TD>","<TD NOWRAP ALIGN=CENTER><FONT FACE=\"Times New Roman\" SIZE=-1>$25.41</FONT></TD>","</TR>"]
["North Colonie CSD",{"$f":"'2011 Base Data'!F29","v":4.7},{"$f":"'2011 Base Data'!G29","v":3.07},null,{"$f":"'2011 Base Data'!I29","v":21.81},null,null,{"$f":"'2011 Base Data'!J29","v":29.58},null,null,{"$f":"'2011 Base Data'!K29","v":0.67},{"$f":"'2011 Base Data'!R29","v":19.82},null,null,19.82,0,null,{"$f":"'2011 Base Data'!K29","v":0.67},{"$f":"'2011 Base Data'!L29","v":0},{"$f":"'2011 Base Data'!M29","v":0.67},null,null,null,null,"<TR VALIGN=BOTTOM>","<TD NOWRAP ALIGN=LEFT><FONT FACE=\"Times New Roman\" SIZE=-1 COLOR=#00AA00\">North Colonie CSD</FONT></TD>","<TD NOWRAP ALIGN=RIGHT><FONT FACE=\"Times New Roman\" SIZE=-1>$4.70</FONT></TD>","<TD NOWRAP ALIGN=RIGHT><FONT FACE=\"Times New Roman\" SIZE=-1>$3.07</FONT></TD>","<TD NOWRAP ALIGN=RIGHT><FONT FACE=\"Times New Roman\" SIZE=-1><BR></FONT></TD>","<TD NOWRAP ALIGN=CENTER><FONT FACE=\"Times New Roman\" SIZE=-1>$21.81</FONT></TD>","<TD NOWRAP ALIGN=CENTER><FONT FACE=\"Times New Roman\" SIZE=-1>$29.58</FONT></TD>","<TD NOWRAP ALIGN=CENTER><FONT FACE=\"Times New Roman\" SIZE=-1>0.6700</FONT></TD>","<TD NOWRAP ALIGN=CENTER><FONT FACE=\"Times New Roman\" SIZE=-1>$19.82</FONT></TD>","</TR>"]
["Rotterdam-Mohonasen CSD",{"$f":"'2011 Base Data'!F30","v":4.7},{"$f":"'2011 Base Data'!G30","v":3.07},null,{"$f":"'2011 Base Data'!I30","v":22.67},null,null,{"$f":"'2011 Base Data'!J30","v":30.44},null,null,{"$f":"'2011 Base Data'!K30","v":0.67},{"$f":"'2011 Base Data'!R30","v":20.399999999999999},null,null,20.39,9.9999999999980105E-3,null,{"$f":"'2011 Base Data'!K30","v":0.67},{"$f":"'2011 Base Data'!L30","v":0},{"$f":"'2011 Base Data'!M30","v":0.67},null,null,null,null,"<TR VALIGN=BOTTOM>","<TD NOWRAP ALIGN=LEFT><FONT FACE=\"Times New Roman\" SIZE=-1 COLOR=#00AA00\">Rotterdam-Mohonasen CSD</FONT></TD>","<TD NOWRAP ALIGN=RIGHT><FONT FACE=\"Times New Roman\" SIZE=-1>$4.70</FONT></TD>","<TD NOWRAP ALIGN=RIGHT><FONT FACE=\"Times New Roman\" SIZE=-1>$3.07</FONT></TD>","<TD NOWRAP ALIGN=RIGHT><FONT FACE=\"Times New Roman\" SIZE=-1><BR></FONT></TD>","<TD NOWRAP ALIGN=CENTER><FONT FACE=\"Times New Roman\" SIZE=-1>$22.67</FONT></TD>","<TD NOWRAP ALIGN=CENTER><FONT FACE=\"Times New Roman\" SIZE=-1>$30.44</FONT></TD>","<TD NOWRAP ALIGN=CENTER><FONT FACE=\"Times New Roman\" SIZE=-1>0.6700</FONT></TD>","<TD NOWRAP ALIGN=CENTER><FONT FACE=\"Times New Roman\" SIZE=-1>$20.40</FONT></TD>","</TR>"]
["South Colonie CSD",{"$f":"'2011 Base Data'!F31","v":4.7},{"$f":"'2011 Base Data'!G31","v":3.07},null,{"$f":"'2011 Base Data'!I31","v":24.05},null,null,{"$f":"'2011 Base Data'!J31","v":31.82},null,null,{"$f":"'2011 Base Data'!K31","v":0.67},{"$f":"'2011 Base Data'!R31","v":21.32},null,null,21.32,0,null,{"$f":"'2011 Base Data'!K31","v":0.67},{"$f":"'2011 Base Data'!L31","v":0},{"$f":"'2011 Base Data'!M31","v":0.67},null,null,null,null,"<TR VALIGN=BOTTOM>","<TD NOWRAP ALIGN=LEFT><FONT FACE=\"Times New Roman\" SIZE=-1 COLOR=#00AA00\">South Colonie CSD</FONT></TD>","<TD NOWRAP ALIGN=RIGHT><FONT FACE=\"Times New Roman\" SIZE=-1>$4.70</FONT></TD>","<TD NOWRAP ALIGN=RIGHT><FONT FACE=\"Times New Roman\" SIZE=-1>$3.07</FONT></TD>","<TD NOWRAP ALIGN=RIGHT><FONT FACE=\"Times New Roman\" SIZE=-1><BR></FONT></TD>","<TD NOWRAP ALIGN=CENTER><FONT FACE=\"Times New Roman\" SIZE=-1>$24.05</FONT></TD>","<TD NOWRAP ALIGN=CENTER><FONT FACE=\"Times New Roman\" SIZE=-1>$31.82</FONT></TD>","<TD NOWRAP ALIGN=CENTER><FONT FACE=\"Times New Roman\" SIZE=-1>0.6700</FONT></TD>","<TD NOWRAP ALIGN=CENTER><FONT FACE=\"Times New Roman\" SIZE=-1>$21.32</FONT></TD>","</TR>"]
["Watervliet City SD",{"$f":"'2011 Base Data'!F32","v":4.7},{"$f":"'2011 Base Data'!G32","v":3.07},null,{"$f":"'2011 Base Data'!I32","v":18.5},null,null,{"$f":"'2011 Base Data'!J32","v":26.27},null,null,{"$f":"'2011 Base Data'!K32","v":0.67},{"$f":"'2011 Base Data'!R32","v":17.61},null,null,17.600000000000001,9.9999999999980105E-3,null,{"$f":"'2011 Base Data'!K32","v":0.67},{"$f":"'2011 Base Data'!L32","v":0},{"$f":"'2011 Base Data'!M32","v":0.67},null,null,null,null,"<TR VALIGN=BOTTOM>","<TD NOWRAP ALIGN=LEFT><FONT FACE=\"Times New Roman\" SIZE=-1 COLOR=#00AA00\">Watervliet City SD</FONT></TD>","<TD NOWRAP ALIGN=RIGHT><FONT FACE=\"Times New Roman\" SIZE=-1>$4.70</FONT></TD>","<TD NOWRAP ALIGN=RIGHT><FONT FACE=\"Times New Roman\" SIZE=-1>$3.07</FONT></TD>","<TD NOWRAP ALIGN=RIGHT><FONT FACE=\"Times New Roman\" SIZE=-1><BR></FONT></TD>","<TD NOWRAP ALIGN=CENTER><FONT FACE=\"Times New Roman\" SIZE=-1>$18.50</FONT></TD>","<TD NOWRAP ALIGN=CENTER><FONT FACE=\"Times New Roman\" SIZE=-1>$26.27</FONT></TD>","<TD NOWRAP ALIGN=CENTER><FONT FACE=\"Times New Roman\" SIZE=-1>0.6700</FONT></TD>","<TD NOWRAP ALIGN=CENTER><FONT FACE=\"Times New Roman\" SIZE=-1>$17.61</FONT></TD>","</TR>"]
["Village of Colonie",{"$f":"B34","v":4.7},{"$f":"C34","v":3.07},{"$f":"D34","v":38},{"$f":"MIN(INDIRECT(U34))","v":24.05},{"$f":"IF(G33<>0,\"to\",\"\")","v":""},{"$f":"IF(U33<>V33,MAX(INDIRECT(U34)),0)","v":0},{"$f":"MIN(INDIRECT(V34))","v":69.819999999999993},{"$f":"IF(J33<>0,\"to\",\"\")","v":""},{"$f":"IF(U33<>V33,MAX(INDIRECT(V34)),0)","v":0},{"$f":"K34","v":3.5299999999999998E-2},{"$f":"MIN(INDIRECT(W34))","v":22.66},{"$f":"IF(N33<>0,\"to\",\"\")","v":""},{"$f":"IF(U33<>V33,MAX(INDIRECT(W34)),0)","v":0},null,null,null,null,null,null,{"$f":"CELL(\"row\",P34)","v":34},{"$f":"CELL(\"row\",P34)","v":34},null,null,"<TR VALIGN=BOTTOM BGCOLOR=\"#FFFFCC\">",{"$f":"\"<TH NOWRAP ALIGN=LEFT><FONT FACE=\"\"Times New Roman\"\" SIZE=-1 COLOR=\"\"#0000CC\"\">\"&A33&\"</FONT></TH>\"","v":"<TH NOWRAP ALIGN=LEFT><FONT FACE=\"Times New Roman\" SIZE=-1 COLOR=\"#0000CC\">Village of Colonie</FONT></TH>"},"<TD NOWRAP ALIGN=RIGHT><FONT FACE=\"Times New Roman\" SIZE=-1>$4.70</FONT></TD>","<TD NOWRAP ALIGN=RIGHT><FONT FACE=\"Times New Roman\" SIZE=-1>$3.07</FONT></TD>","<TD NOWRAP ALIGN=RIGHT><FONT FACE=\"Times New Roman\" SIZE=-1>$38.00</FONT></TD>","<TD NOWRAP ALIGN=CENTER><FONT FACE=\"Times New Roman\" SIZE=-1>$24.05</FONT></TD>","<TD NOWRAP ALIGN=CENTER><FONT FACE=\"Times New Roman\" SIZE=-1>$69.82</FONT></TD>","<TD NOWRAP ALIGN=CENTER><FONT FACE=\"Times New Roman\" SIZE=-1>0.0353</FONT></TD>","<TD NOWRAP ALIGN=CENTER><FONT FACE=\"Times New Roman\" SIZE=-1>$22.66</FONT></TD>","</TR>"]
["South Colonie CSD",{"$f":"'2011 Base Data'!F34","v":4.7},{"$f":"'2011 Base Data'!G34","v":3.07},{"$f":"'2011 Base Data'!H34","v":38},{"$f":"'2011 Base Data'!I34","v":24.05},null,null,{"$f":"'2011 Base Data'!J34","v":69.819999999999993},null,null,{"$f":"'2011 Base Data'!K34","v":3.5299999999999998E-2},{"$f":"'2011 Base Data'!R34","v":22.66},null,null,{"$f":"ROUND(IF(S34<>0,R34*D34+S34*SUM(B34:C34)+T34*E34,R34*SUM(B34:D34)+T34*E34),2)","v":22.66},{"$f":"L34-O34","v":0},null,{"$f":"'2011 Base Data'!K34","v":3.5299999999999998E-2},{"$f":"'2011 Base Data'!L34","v":0.67},{"$f":"'2011 Base Data'!M34","v":0.67},{"$f":"\"E\"&U33&\":\"&\"E\"&V33","v":"E34:E34"},{"$f":"\"H\"&U33&\":\"&\"H\"&V33","v":"H34:H34"},{"$f":"\"L\"&U33&\":\"&\"L\"&V33","v":"L34:L34"},null,"<TR VALIGN=BOTTOM>",{"$f":"\"<TD NOWRAP ALIGN=LEFT><FONT FACE=\"\"Times New Roman\"\" SIZE=-1 COLOR=#00AA00\"\">\"&A34&\"</FONT></TD>\"","v":"<TD NOWRAP ALIGN=LEFT><FONT FACE=\"Times New Roman\" SIZE=-1 COLOR=#00AA00\">South Colonie CSD</FONT></TD>"},"<TD NOWRAP ALIGN=RIGHT><FONT FACE=\"Times New Roman\" SIZE=-1>$4.70</FONT></TD>","<TD NOWRAP ALIGN=RIGHT><FONT FACE=\"Times New Roman\" SIZE=-1>$3.07</FONT></TD>","<TD NOWRAP ALIGN=RIGHT><FONT FACE=\"Times New Roman\" SIZE=-1>$38.00</FONT></TD>","<TD NOWRAP ALIGN=CENTER><FONT FACE=\"Times New Roman\" SIZE=-1>$24.05</FONT></TD>","<TD NOWRAP ALIGN=CENTER><FONT FACE=\"Times New Roman\" SIZE=-1>$69.82</FONT></TD>","<TD NOWRAP ALIGN=CENTER><FONT FACE=\"Times New Roman\" SIZE=-1>0.0353</FONT></TD>","<TD NOWRAP ALIGN=CENTER><FONT FACE=\"Times New Roman\" SIZE=-1>$22.66</FONT></TD>","</TR>"]
["Village of Menands",{"$f":"B36","v":4.7},{"$f":"C36","v":3.07},{"$f":"D36","v":6.26},{"$f":"MIN(INDIRECT(U36))","v":23.92},{"$f":"IF(G35<>0,\"to\",\"\")","v":""},{"$f":"IF(U35<>V35,MAX(INDIRECT(U36)),0)","v":0},{"$f":"MIN(INDIRECT(V36))","v":37.950000000000003},{"$f":"IF(J35<>0,\"to\",\"\")","v":""},{"$f":"IF(U35<>V35,MAX(INDIRECT(V36)),0)","v":0},{"$f":"K36","v":0.65749999999999997},{"$f":"MIN(INDIRECT(W36))","v":25.36},{"$f":"IF(N35<>0,\"to\",\"\")","v":""},{"$f":"IF(U35<>V35,MAX(INDIRECT(W36)),0)","v":0},null,null,null,null,null,null,{"$f":"CELL(\"row\",P36)","v":36},{"$f":"CELL(\"row\",P36)","v":36},null,null,"<TR VALIGN=BOTTOM BGCOLOR=\"#FFFFCC\">",{"$f":"\"<TH NOWRAP ALIGN=LEFT><FONT FACE=\"\"Times New Roman\"\" SIZE=-1 COLOR=\"\"#0000CC\"\">\"&A35&\"</FONT></TH>\"","v":"<TH NOWRAP ALIGN=LEFT><FONT FACE=\"Times New Roman\" SIZE=-1 COLOR=\"#0000CC\">Village of Menands</FONT></TH>"},"<TD NOWRAP ALIGN=RIGHT><FONT FACE=\"Times New Roman\" SIZE=-1>$4.70</FONT></TD>","<TD NOWRAP ALIGN=RIGHT><FONT FACE=\"Times New Roman\" SIZE=-1>$3.07</FONT></TD>","<TD NOWRAP ALIGN=RIGHT><FONT FACE=\"Times New Roman\" SIZE=-1>$6.26</FONT></TD>","<TD NOWRAP ALIGN=CENTER><FONT FACE=\"Times New Roman\" SIZE=-1>$23.92</FONT></TD>","<TD NOWRAP ALIGN=CENTER><FONT FACE=\"Times New Roman\" SIZE=-1>$37.95</FONT></TD>","<TD NOWRAP ALIGN=CENTER><FONT FACE=\"Times New Roman\" SIZE=-1>0.6575</FONT></TD>","<TD NOWRAP ALIGN=CENTER><FONT FACE=\"Times New Roman\" SIZE=-1>$25.36</FONT></TD>","</TR>"]
["Menands UFSD",{"$f":"'2011 Base Data'!F36","v":4.7},{"$f":"'2011 Base Data'!G36","v":3.07},{"$f":"'2011 Base Data'!H36","v":6.26},{"$f":"'2011 Base Data'!I36","v":23.92},null,null,{"$f":"'2011 Base Data'!J36","v":37.950000000000003},null,null,{"$f":"'2011 Base Data'!K36","v":0.65749999999999997},{"$f":"'2011 Base Data'!R36","v":25.36},null,null,{"$f":"ROUND(IF(S36<>0,R36*D36+S36*SUM(B36:C36)+T36*E36,R36*SUM(B36:D36)+T36*E36),2)","v":25.35},{"$f":"L36-O36","v":9.9999999999980105E-3},null,{"$f":"'2011 Base Data'!K36","v":0.65749999999999997},{"$f":"'2011 Base Data'!L36","v":0.67},{"$f":"'2011 Base Data'!M36","v":0.67},{"$f":"\"E\"&U35&\":\"&\"E\"&V35","v":"E36:E36"},{"$f":"\"H\"&U35&\":\"&\"H\"&V35","v":"H36:H36"},{"$f":"\"L\"&U35&\":\"&\"L\"&V35","v":"L36:L36"},null,"<TR VALIGN=BOTTOM>",{"$f":"\"<TD NOWRAP ALIGN=LEFT><FONT FACE=\"\"Times New Roman\"\" SIZE=-1 COLOR=#00AA00\"\">\"&A36&\"</FONT></TD>\"","v":"<TD NOWRAP ALIGN=LEFT><FONT FACE=\"Times New Roman\" SIZE=-1 COLOR=#00AA00\">Menands UFSD</FONT></TD>"},"<TD NOWRAP ALIGN=RIGHT><FONT FACE=\"Times New Roman\" SIZE=-1>$4.70</FONT></TD>","<TD NOWRAP ALIGN=RIGHT><FONT FACE=\"Times New Roman\" SIZE=-1>$3.07</FONT></TD>","<TD NOWRAP ALIGN=RIGHT><FONT FACE=\"Times New Roman\" SIZE=-1>$6.26</FONT></TD>","<TD NOWRAP ALIGN=CENTER><FONT FACE=\"Times New Roman\" SIZE=-1>$23.92</FONT></TD>","<TD NOWRAP ALIGN=CENTER><FONT FACE=\"Times New Roman\" SIZE=-1>$37.95</FONT></TD>","<TD NOWRAP ALIGN=CENTER><FONT FACE=\"Times New Roman\" SIZE=-1>0.6575</FONT></TD>","<TD NOWRAP ALIGN=CENTER><FONT FACE=\"Times New Roman\" SIZE=-1>$25.36</FONT></TD>","</TR>"]
["Town of Green Island",{"$f":"'2011'!B14","v":"COTERMINUS TOWN/VILLAGE – SEE LINE BELOW"},null,null,null,null,null,null,null,null,null,null,null,null,{"$f":"ROUND(IF(S37<>0,R37*D37+S37*SUM(B37:C37)+T37*E37,R37*SUM(B37:D37)+T37*E37),2)","v":0},null,null,null,null,null,null,null,null,null,"<TR VALIGN=BOTTOM BGCOLOR=\"#FFFFCC\">","<TH NOWRAP ALIGN=LEFT><FONT FACE=\"Times New Roman\" SIZE=-1>Town of Green Island</FONT></TH>","<TH NOWRAP COLSPAN=7><FONT FACE=\"Times New Roman\" SIZE=-1>Coterminous Town/Village - Taxes Are Levied by the Village Only - see Village below</FONT></TH>","</TR>"]
["Village of Green Island",{"$f":"B39","v":54.3},null,{"$f":"D39","v":208.85},{"$f":"MIN(INDIRECT(U39))","v":336.63},{"$f":"IF(G38<>0,\"to\",\"\")","v":""},{"$f":"IF(U38<>V38,MAX(INDIRECT(U39)),0)","v":0},{"$f":"MIN(INDIRECT(V39))","v":599.78},{"$f":"IF(J38<>0,\"to\",\"\")","v":""},{"$f":"IF(U38<>V38,MAX(INDIRECT(V39)),0)","v":0},{"$f":"K39","v":5.3800000000000001E-2},{"$f":"MIN(INDIRECT(W39))","v":32.270000000000003},{"$f":"IF(N38<>0,\"to\",\"\")","v":""},{"$f":"IF(U38<>V38,MAX(INDIRECT(W39)),0)","v":0},null,null,null,null,null,null,{"$f":"CELL(\"row\",P39)","v":39},{"$f":"CELL(\"row\",P39)","v":39},null,null,"<TR VALIGN=BOTTOM BGCOLOR=\"#FFFFCC\">",{"$f":"\"<TH NOWRAP ALIGN=LEFT><FONT FACE=\"\"Times New Roman\"\" SIZE=-1 COLOR=\"\"#0000CC\"\">\"&A38&\"</FONT></TH>\"","v":"<TH NOWRAP ALIGN=LEFT><FONT FACE=\"Times New Roman\" SIZE=-1 COLOR=\"#0000CC\">Village of Green Island</FONT></TH>"},{"$f":"\"<TD NOWRAP ALIGN=RIGHT><FONT FACE=\"\"Times New Roman\"\" SIZE=-1>\"&IF(B38=\"\",\"<BR>\",TEXT(B38,\"$#,##0.00\"))&\"</FONT></TD>\"","v":"<TD NOWRAP ALIGN=RIGHT><FONT FACE=\"Times New Roman\" SIZE=-1>$54.30</FONT></TD>"},{"$f":"\"<TD NOWRAP ALIGN=RIGHT><FONT FACE=\"\"Times New Roman\"\" SIZE=-1>\"&IF(C38=\"\",\"<BR>\",TEXT(C38,\"$#,##0.00\"))&\"</FONT></TD>\"","v":"<TD NOWRAP ALIGN=RIGHT><FONT FACE=\"Times New Roman\" SIZE=-1><BR></FONT></TD>"},{"$f":"\"<TD NOWRAP ALIGN=RIGHT><FONT FACE=\"\"Times New Roman\"\" SIZE=-1>\"&IF(D38=\"\",\"<BR>\",TEXT(D38,\"$#,##0.00\"))&\"</FONT></TD>\"","v":"<TD NOWRAP ALIGN=RIGHT><FONT FACE=\"Times New Roman\" SIZE=-1>$208.85</FONT></TD>"},{"$f":"\"<TD NOWRAP ALIGN=CENTER><FONT FACE=\"\"Times New Roman\"\" SIZE=-1>\"&TEXT(E38,\"$#,##0.00\")&IF(F38=\"\",\"\",\" to \")&IF(G38<=0,\"\",TEXT(G38,\"$#,##0.00\"))&\"</FONT></TD>\"","v":"<TD NOWRAP ALIGN=CENTER><FONT FACE=\"Times New Roman\" SIZE=-1>$336.63</FONT></TD>"},{"$f":"\"<TD NOWRAP ALIGN=CENTER><FONT FACE=\"\"Times New Roman\"\" SIZE=-1>\"&TEXT(H38,\"$#,##0.00\")&IF(I38=\"\",\"\",\" to \")&IF(J38<=0,\"\",TEXT(J38,\"$#,##0.00\"))&\"</FONT></TD>\"","v":"<TD NOWRAP ALIGN=CENTER><FONT FACE=\"Times New Roman\" SIZE=-1>$599.78</FONT></TD>"},{"$f":"\"<TD NOWRAP ALIGN=CENTER><FONT FACE=\"\"Times New Roman\"\" SIZE=-1>\"&IF(K38=\"\",\"<BR>\",TEXT(K38,\"0.0000\"))&\"</FONT></TD>\"","v":"<TD NOWRAP ALIGN=CENTER><FONT FACE=\"Times New Roman\" SIZE=-1>0.0538</FONT></TD>"},{"$f":"\"<TD NOWRAP ALIGN=CENTER><FONT FACE=\"\"Times New Roman\"\" SIZE=-1>\"&TEXT(L38,\"$#,##0.00\")&IF(M38=\"\",\"\",\" to \")&IF(N38<=0,\"\",TEXT(N38,\"$#,##0.00\"))&\"</FONT></TD>\"","v":"<TD NOWRAP ALIGN=CENTER><FONT FACE=\"Times New Roman\" SIZE=-1>$32.27</FONT></TD>"},"</TR>"]
["Green Island UFSD",{"$f":"'2011 Base Data'!F39","v":54.3},null,{"$f":"'2011 Base Data'!H39","v":208.85},{"$f":"'2011 Base Data'!I39","v":336.63},null,null,{"$f":"'2011 Base Data'!J39","v":599.78},null,null,{"$f":"'2011 Base Data'!K39","v":5.3800000000000001E-2},{"$f":"'2011 Base Data'!R39","v":32.270000000000003},null,null,{"$f":"ROUND(IF(S39<>0,R39*D39+S39*SUM(B39:C39)+T39*E39,R39*SUM(B39:D39)+T39*E39),2)","v":32.270000000000003},{"$f":"L39-O39","v":0},null,{"$f":"'2011 Base Data'!K39","v":5.3800000000000001E-2},{"$f":"'2011 Base Data'!L39","v":5.3800000000000001E-2},{"$f":"'2011 Base Data'!M39","v":5.3800000000000001E-2},{"$f":"\"E\"&U38&\":\"&\"E\"&V38","v":"E39:E39"},{"$f":"\"H\"&U38&\":\"&\"H\"&V38","v":"H39:H39"},{"$f":"\"L\"&U38&\":\"&\"L\"&V38","v":"L39:L39"},null,"<TR VALIGN=BOTTOM>",{"$f":"\"<TD NOWRAP ALIGN=LEFT><FONT FACE=\"\"Times New Roman\"\" SIZE=-1 COLOR=#00AA00\"\">\"&A39&\"</FONT></TD>\"","v":"<TD NOWRAP ALIGN=LEFT><FONT FACE=\"Times New Roman\" SIZE=-1 COLOR=#00AA00\">Green Island UFSD</FONT></TD>"},"<TD NOWRAP ALIGN=RIGHT><FONT FACE=\"Times New Roman\" SIZE=-1>$54.30</FONT></TD>","<TD NOWRAP ALIGN=RIGHT><FONT FACE=\"Times New Roman\" SIZE=-1><BR></FONT></TD>","<TD NOWRAP ALIGN=RIGHT><FONT FACE=\"Times New Roman\" SIZE=-1>$208.85</FONT></TD>","<TD NOWRAP ALIGN=CENTER><FONT FACE=\"Times New Roman\" SIZE=-1>$336.63</FONT></TD>","<TD NOWRAP ALIGN=CENTER><FONT FACE=\"Times New Roman\" SIZE=-1>$599.78</FONT></TD>","<TD NOWRAP ALIGN=CENTER><FONT FACE=\"Times New Roman\" SIZE=-1>0.0538</FONT></TD>","<TD NOWRAP ALIGN=CENTER><FONT FACE=\"Times New Roman\" SIZE=-1>$32.27</FONT></TD>","</TR>"]
["Town of Guilderland",{"$f":"B41","v":3.68},{"$f":"C41","v":1.28},null,{"$f":"MIN(INDIRECT(U41))","v":17.86},{"$f":"IF(G40<>0,\"to\",\"\")","v":"to"},{"$f":"IF(U40<>V40,MAX(INDIRECT(U41)),0)","v":21.11},{"$f":"MIN(INDIRECT(V41))","v":22.82},{"$f":"IF(J40<>0,\"to\",\"\")","v":"to"},{"$f":"IF(U40<>V40,MAX(INDIRECT(V41)),0)","v":26.07},{"$f":"K41","v":0.85050000000000003},{"$f":"MIN(INDIRECT(W41))","v":19.41},{"$f":"IF(N40<>0,\"to\",\"\")","v":"to"},{"$f":"IF(U40<>V40,MAX(INDIRECT(W41)),0)","v":22.17},null,null,null,null,null,null,{"$f":"CELL(\"row\",P41)","v":41},{"$f":"CELL(\"row\",P45)","v":45},null,null,"<TR VALIGN=BOTTOM BGCOLOR=\"#FFFFCC\">",{"$f":"\"<TH NOWRAP ALIGN=LEFT><FONT FACE=\"\"Times New Roman\"\" SIZE=-1>\"&A40&\"</FONT></TH>\"","v":"<TH NOWRAP ALIGN=LEFT><FONT FACE=\"Times New Roman\" SIZE=-1>Town of Guilderland</FONT></TH>"},"<TD NOWRAP ALIGN=RIGHT><FONT FACE=\"Times New Roman\" SIZE=-1>$3.68</FONT></TD>","<TD NOWRAP ALIGN=RIGHT><FONT FACE=\"Times New Roman\" SIZE=-1>$1.28</FONT></TD>","<TD NOWRAP ALIGN=RIGHT><FONT FACE=\"Times New Roman\" SIZE=-1><BR></FONT></TD>","<TD NOWRAP ALIGN=CENTER><FONT FACE=\"Times New Roman\" SIZE=-1>$17.86 to $21.11</FONT></TD>","<TD NOWRAP ALIGN=CENTER><FONT FACE=\"Times New Roman\" SIZE=-1>$22.82 to $26.07</FONT></TD>","<TD NOWRAP ALIGN=CENTER><FONT FACE=\"Times New Roman\" SIZE=-1>0.8505</FONT></TD>","<TD NOWRAP ALIGN=CENTER><FONT FACE=\"Times New Roman\" SIZE=-1>$19.41 to $22.17</FONT></TD>","</TR>"]
["Guilderland CSD",{"$f":"'2011 Base Data'!F41","v":3.68},{"$f":"'2011 Base Data'!G41","v":1.28},null,{"$f":"'2011 Base Data'!I41","v":21.1},null,null,{"$f":"'2011 Base Data'!J41","v":26.06},null,null,{"$f":"'2011 Base Data'!K41","v":0.85050000000000003},{"$f":"'2011 Base Data'!R41","v":22.17},null,null,{"$f":"ROUND(IF(S41<>0,R41*D41+S41*SUM(B41:C41)+T41*E41,R41*SUM(B41:D41)+T41*E41),2)","v":22.16},{"$f":"L41-O41","v":1.0000000000001563E-2},null,{"$f":"'2011 Base Data'!K41","v":0.85050000000000003},{"$f":"'2011 Base Data'!L41","v":0},{"$f":"'2011 Base Data'!M41","v":0.85050000000000003},{"$f":"\"E\"&U40&\":\"&\"E\"&V40","v":"E41:E45"},{"$f":"\"H\"&U40&\":\"&\"H\"&V40","v":"H41:H45"},{"$f":"\"L\"&U40&\":\"&\"L\"&V40","v":"L41:L45"},null,"<TR VALIGN=BOTTOM>",{"$f":"\"<TD NOWRAP ALIGN=LEFT><FONT FACE=\"\"Times New Roman\"\" SIZE=-1 COLOR=#00AA00\"\">\"&A41&\"</FONT></TD>\"","v":"<TD NOWRAP ALIGN=LEFT><FONT FACE=\"Times New Roman\" SIZE=-1 COLOR=#00AA00\">Guilderland CSD</FONT></TD>"},"<TD NOWRAP ALIGN=RIGHT><FONT FACE=\"Times New Roman\" SIZE=-1>$3.68</FONT></TD>","<TD NOWRAP ALIGN=RIGHT><FONT FACE=\"Times New Roman\" SIZE=-1>$1.28</FONT></TD>","<TD NOWRAP ALIGN=RIGHT><FONT FACE=\"Times New Roman\" SIZE=-1><BR></FONT></TD>","<TD NOWRAP ALIGN=CENTER><FONT FACE=\"Times New Roman\" SIZE=-1>$21.10</FONT></TD>","<TD NOWRAP ALIGN=CENTER><FONT FACE=\"Times New Roman\" SIZE=-1>$26.06</FONT></TD>","<TD NOWRAP ALIGN=CENTER><FONT FACE=\"Times New Roman\" SIZE=-1>0.8505</FONT></TD>","<TD NOWRAP ALIGN=CENTER><FONT FACE=\"Times New Roman\" SIZE=-1>$22.17</FONT></TD>","</TR>"]
["Rotterdam-Mohonasen CSD",{"$f":"'2011 Base Data'!F42","v":3.68},{"$f":"'2011 Base Data'!G42","v":1.28},null,{"$f":"'2011 Base Data'!I42","v":17.86},null,null,{"$f":"'2011 Base Data'!J42","v":22.82},null,null,{"$f":"'2011 Base Data'!K42","v":0.85050000000000003},{"$f":"'2011 Base Data'!R42","v":19.41},null,null,{"$f":"ROUND(IF(S42<>0,R42*D42+S42*SUM(B42:C42)+T42*E42,R42*SUM(B42:D42)+T42*E42),2)","v":19.41},{"$f":"L42-O42","v":0},null,{"$f":"'2011 Base Data'!K42","v":0.85050000000000003},{"$f":"'2011 Base Data'!L42","v":0},{"$f":"'2011 Base Data'!M42","v":0.85050000000000003},null,null,null,null,"<TR VALIGN=BOTTOM>",{"$f":"\"<TD NOWRAP ALIGN=LEFT><FONT FACE=\"\"Times New Roman\"\" SIZE=-1 COLOR=#00AA00\"\">\"&A42&\"</FONT></TD>\"","v":"<TD NOWRAP ALIGN=LEFT><FONT FACE=\"Times New Roman\" SIZE=-1 COLOR=#00AA00\">Rotterdam-Mohonasen CSD</FONT></TD>"},"<TD NOWRAP ALIGN=RIGHT><FONT FACE=\"Times New Roman\" SIZE=-1>$3.68</FONT></TD>","<TD NOWRAP ALIGN=RIGHT><FONT FACE=\"Times New Roman\" SIZE=-1>$1.28</FONT></TD>","<TD NOWRAP ALIGN=RIGHT><FONT FACE=\"Times New Roman\" SIZE=-1><BR></FONT></TD>","<TD NOWRAP ALIGN=CENTER><FONT FACE=\"Times New Roman\" SIZE=-1>$17.86</FONT></TD>","<TD NOWRAP ALIGN=CENTER><FONT FACE=\"Times New Roman\" SIZE=-1>$22.82</FONT></TD>","<TD NOWRAP ALIGN=CENTER><FONT FACE=\"Times New Roman\" SIZE=-1>0.8505</FONT></TD>","<TD NOWRAP ALIGN=CENTER><FONT FACE=\"Times New Roman\" SIZE=-1>$19.41</FONT></TD>","</TR>"]
["Schalmont CSD",{"$f":"'2011 Base Data'!F43","v":3.68},{"$f":"'2011 Base Data'!G43","v":1.28},null,{"$f":"'2011 Base Data'!I43","v":21.11},null,null,{"$f":"'2011 Base Data'!J43","v":26.07},null,null,{"$f":"'2011 Base Data'!K43","v":0.85050000000000003},{"$f":"'2011 Base Data'!R43","v":22.17},null,null,{"$f":"ROUND(IF(S43<>0,R43*D43+S43*SUM(B43:C43)+T43*E43,R43*SUM(B43:D43)+T43*E43),2)","v":22.17},{"$f":"L43-O43","v":0},null,{"$f":"'2011 Base Data'!K43","v":0.85050000000000003},{"$f":"'2011 Base Data'!L43","v":0},{"$f":"'2011 Base Data'!M43","v":0.85050000000000003},null,null,null,null,"<TR VALIGN=BOTTOM>",{"$f":"\"<TD NOWRAP ALIGN=LEFT><FONT FACE=\"\"Times New Roman\"\" SIZE=-1 COLOR=#00AA00\"\">\"&A43&\"</FONT></TD>\"","v":"<TD NOWRAP ALIGN=LEFT><FONT FACE=\"Times New Roman\" SIZE=-1 COLOR=#00AA00\">Schalmont CSD</FONT></TD>"},"<TD NOWRAP ALIGN=RIGHT><FONT FACE=\"Times New Roman\" SIZE=-1>$3.68</FONT></TD>","<TD NOWRAP ALIGN=RIGHT><FONT FACE=\"Times New Roman\" SIZE=-1>$1.28</FONT></TD>","<TD NOWRAP ALIGN=RIGHT><FONT FACE=\"Times New Roman\" SIZE=-1><BR></FONT></TD>","<TD NOWRAP ALIGN=CENTER><FONT FACE=\"Times New Roman\" SIZE=-1>$21.11</FONT></TD>","<TD NOWRAP ALIGN=CENTER><FONT FACE=\"Times New Roman\" SIZE=-1>$26.07</FONT></TD>","<TD NOWRAP ALIGN=CENTER><FONT FACE=\"Times New Roman\" SIZE=-1>0.8505</FONT></TD>","<TD NOWRAP ALIGN=CENTER><FONT FACE=\"Times New Roman\" SIZE=-1>$22.17</FONT></TD>","</TR>"]
["South Colonie CSD",{"$f":"'2011 Base Data'!F44","v":3.68},{"$f":"'2011 Base Data'!G44","v":1.28},null,{"$f":"'2011 Base Data'!I44","v":18.940000000000001},null,null,{"$f":"'2011 Base Data'!J44","v":23.9},null,null,{"$f":"'2011 Base Data'!K44","v":0.85050000000000003},{"$f":"'2011 Base Data'!R44","v":20.329999999999998},null,null,{"$f":"ROUND(IF(S44<>0,R44*D44+S44*SUM(B44:C44)+T44*E44,R44*SUM(B44:D44)+T44*E44),2)","v":20.329999999999998},{"$f":"L44-O44","v":0},null,{"$f":"'2011 Base Data'!K44","v":0.85050000000000003},{"$f":"'2011 Base Data'!L44","v":0},{"$f":"'2011 Base Data'!M44","v":0.85050000000000003},null,null,null,null,"<TR VALIGN=BOTTOM>",{"$f":"\"<TD NOWRAP ALIGN=LEFT><FONT FACE=\"\"Times New Roman\"\" SIZE=-1 COLOR=#00AA00\"\">\"&A44&\"</FONT></TD>\"","v":"<TD NOWRAP ALIGN=LEFT><FONT FACE=\"Times New Roman\" SIZE=-1 COLOR=#00AA00\">South Colonie CSD</FONT></TD>"},"<TD NOWRAP ALIGN=RIGHT><FONT FACE=\"Times New Roman\" SIZE=-1>$3.68</FONT></TD>","<TD NOWRAP ALIGN=RIGHT><FONT FACE=\"Times New Roman\" SIZE=-1>$1.28</FONT></TD>","<TD NOWRAP ALIGN=RIGHT><FONT FACE=\"Times New Roman\" SIZE=-1><BR></FONT></TD>","<TD NOWRAP ALIGN=CENTER><FONT FACE=\"Times New Roman\" SIZE=-1>$18.94</FONT></TD>","<TD NOWRAP ALIGN=CENTER><FONT FACE=\"Times New Roman\" SIZE=-1>$23.90</FONT></TD>","<TD NOWRAP ALIGN=CENTER><FONT FACE=\"Times New Roman\" SIZE=-1>0.8505</FONT></TD>","<TD NOWRAP ALIGN=CENTER><FONT FACE=\"Times New Roman\" SIZE=-1>$20.33</FONT></TD>","</TR>"]
["Voorheesville CSD",{"$f":"'2011 Base Data'!F45","v":3.68},{"$f":"'2011 Base Data'!G45","v":1.28},null,{"$f":"'2011 Base Data'!I45","v":20.9},null,null,{"$f":"'2011 Base Data'!J45","v":25.86},null,null,{"$f":"'2011 Base Data'!K45","v":0.85050000000000003},{"$f":"'2011 Base Data'!R45","v":22},null,null,{"$f":"ROUND(IF(S45<>0,R45*D45+S45*SUM(B45:C45)+T45*E45,R45*SUM(B45:D45)+T45*E45),2)","v":21.99},{"$f":"L45-O45","v":1.0000000000001563E-2},null,{"$f":"'2011 Base Data'!K45","v":0.85050000000000003},{"$f":"'2011 Base Data'!L45","v":0},{"$f":"'2011 Base Data'!M45","v":0.85050000000000003},null,null,null,null,"<TR VALIGN=BOTTOM>",{"$f":"\"<TD NOWRAP ALIGN=LEFT><FONT FACE=\"\"Times New Roman\"\" SIZE=-1 COLOR=#00AA00\"\">\"&A45&\"</FONT></TD>\"","v":"<TD NOWRAP ALIGN=LEFT><FONT FACE=\"Times New Roman\" SIZE=-1 COLOR=#00AA00\">Voorheesville CSD</FONT></TD>"},"<TD NOWRAP ALIGN=RIGHT><FONT FACE=\"Times New Roman\" SIZE=-1>$3.68</FONT></TD>","<TD NOWRAP ALIGN=RIGHT><FONT FACE=\"Times New Roman\" SIZE=-1>$1.28</FONT></TD>","<TD NOWRAP ALIGN=RIGHT><FONT FACE=\"Times New Roman\" SIZE=-1><BR></FONT></TD>","<TD NOWRAP ALIGN=CENTER><FONT FACE=\"Times New Roman\" SIZE=-1>$20.90</FONT></TD>","<TD NOWRAP ALIGN=CENTER><FONT FACE=\"Times New Roman\" SIZE=-1>$25.86</FONT></TD>","<TD NOWRAP ALIGN=CENTER><FONT FACE=\"Times New Roman\" SIZE=-1>0.8505</FONT></TD>","<TD NOWRAP ALIGN=CENTER><FONT FACE=\"Times New Roman\" SIZE=-1>$22.00</FONT></TD>","</TR>"]
["Village of Altamont",{"$f":"B47","v":3.68},{"$f":"C47","v":0.28999999999999998},{"$f":"D47","v":2.68},{"$f":"MIN(INDIRECT(U47))","v":21.1},{"$f":"IF(G46<>0,\"to\",\"\")","v":""},{"$f":"IF(U46<>V46,MAX(INDIRECT(U47)),0)","v":0},{"$f":"MIN(INDIRECT(V47))","v":27.75},{"$f":"IF(J46<>0,\"to\",\"\")","v":""},{"$f":"IF(U46<>V46,MAX(INDIRECT(V47)),0)","v":0},{"$f":"K47","v":0.79090000000000005},{"$f":"MIN(INDIRECT(W47))","v":23.45},{"$f":"IF(N46<>0,\"to\",\"\")","v":""},{"$f":"IF(U46<>V46,MAX(INDIRECT(W47)),0)","v":0},null,null,null,null,null,null,{"$f":"CELL(\"row\",P47)","v":47},{"$f":"CELL(\"row\",P47)","v":47},null,null,"<TR VALIGN=BOTTOM BGCOLOR=\"#FFFFCC\">",{"$f":"\"<TH NOWRAP ALIGN=LEFT><FONT FACE=\"\"Times New Roman\"\" SIZE=-1 COLOR=\"\"#0000CC\"\">\"&A46&\"</FONT></TH>\"","v":"<TH NOWRAP ALIGN=LEFT><FONT FACE=\"Times New Roman\" SIZE=-1 COLOR=\"#0000CC\">Village of Altamont</FONT></TH>"},"<TD NOWRAP ALIGN=RIGHT><FONT FACE=\"Times New Roman\" SIZE=-1>$3.68</FONT></TD>","<TD NOWRAP ALIGN=RIGHT><FONT FACE=\"Times New Roman\" SIZE=-1>$0.29</FONT></TD>","<TD NOWRAP ALIGN=RIGHT><FONT FACE=\"Times New Roman\" SIZE=-1>$2.68</FONT></TD>","<TD NOWRAP ALIGN=CENTER><FONT FACE=\"Times New Roman\" SIZE=-1>$21.10</FONT></TD>","<TD NOWRAP ALIGN=CENTER><FONT FACE=\"Times New Roman\" SIZE=-1>$27.75</FONT></TD>","<TD NOWRAP ALIGN=CENTER><FONT FACE=\"Times New Roman\" SIZE=-1>0.7909</FONT></TD>","<TD NOWRAP ALIGN=CENTER><FONT FACE=\"Times New Roman\" SIZE=-1>$23.45</FONT></TD>","</TR>"]
["Guilderland CSD",{"$f":"'2011 Base Data'!F47","v":3.68},{"$f":"'2011 Base Data'!G47","v":0.28999999999999998},{"$f":"'2011 Base Data'!H47","v":2.68},{"$f":"'2011 Base Data'!I47","v":21.1},null,null,{"$f":"'2011 Base Data'!J47","v":27.75},null,null,{"$f":"'2011 Base Data'!K47","v":0.79090000000000005},{"$f":"'2011 Base Data'!R47","v":23.45},null,null,{"$f":"ROUND(IF(S47<>0,R47*D47+S47*SUM(B47:C47)+T47*E47,R47*SUM(B47:D47)+T47*E47),2)","v":23.44},{"$f":"L47-O47","v":9.9999999999980105E-3},null,{"$f":"'2011 Base Data'!K47","v":0.79090000000000005},{"$f":"'2011 Base Data'!L47","v":0.85050000000000003},{"$f":"'2011 Base Data'!M47","v":0.85050000000000003},{"$f":"\"E\"&U46&\":\"&\"E\"&V46","v":"E47:E47"},{"$f":"\"H\"&U46&\":\"&\"H\"&V46","v":"H47:H47"},{"$f":"\"L\"&U46&\":\"&\"L\"&V46","v":"L47:L47"},null,"<TR VALIGN=BOTTOM>",{"$f":"\"<TD NOWRAP ALIGN=LEFT><FONT FACE=\"\"Times New Roman\"\" SIZE=-1 COLOR=#00AA00\"\">\"&A47&\"</FONT></TD>\"","v":"<TD NOWRAP ALIGN=LEFT><FONT FACE=\"Times New Roman\" SIZE=-1 COLOR=#00AA00\">Guilderland CSD</FONT></TD>"},"<TD NOWRAP ALIGN=RIGHT><FONT FACE=\"Times New Roman\" SIZE=-1>$3.68</FONT></TD>","<TD NOWRAP ALIGN=RIGHT><FONT FACE=\"Times New Roman\" SIZE=-1>$0.29</FONT></TD>","<TD NOWRAP ALIGN=RIGHT><FONT FACE=\"Times New Roman\" SIZE=-1>$2.68</FONT></TD>","<TD NOWRAP ALIGN=CENTER><FONT FACE=\"Times New Roman\" SIZE=-1>$21.10</FONT></TD>","<TD NOWRAP ALIGN=CENTER><FONT FACE=\"Times New Roman\" SIZE=-1>$27.75</FONT></TD>","<TD NOWRAP ALIGN=CENTER><FONT FACE=\"Times New Roman\" SIZE=-1>0.7909</FONT></TD>","<TD NOWRAP ALIGN=CENTER><FONT FACE=\"Times New Roman\" SIZE=-1>$23.45</FONT></TD>","</TR>"]
["Town of Knox",{"$f":"B49","v":5.55},{"$f":"C49","v":1.85},null,{"$f":"MIN(INDIRECT(U49))","v":29.79},{"$f":"IF(G48<>0,\"to\",\"\")","v":"to"},{"$f":"IF(U48<>V48,MAX(INDIRECT(U49)),0)","v":33.68},{"$f":"MIN(INDIRECT(V49))","v":37.19},{"$f":"IF(J48<>0,\"to\",\"\")","v":"to"},{"$f":"IF(U48<>V48,MAX(INDIRECT(V49)),0)","v":41.08},{"$f":"K49","v":0.56999999999999995},{"$f":"MIN(INDIRECT(W49))","v":21.19},{"$f":"IF(N48<>0,\"to\",\"\")","v":"to"},{"$f":"IF(U48<>V48,MAX(INDIRECT(W49)),0)","v":23.41},null,null,null,null,null,null,{"$f":"CELL(\"row\",P49)","v":49},{"$f":"CELL(\"row\",P52)","v":52},null,null,"<TR VALIGN=BOTTOM BGCOLOR=\"#FFFFCC\">",{"$f":"\"<TH NOWRAP ALIGN=LEFT><FONT FACE=\"\"Times New Roman\"\" SIZE=-1>\"&A48&\"</FONT></TH>\"","v":"<TH NOWRAP ALIGN=LEFT><FONT FACE=\"Times New Roman\" SIZE=-1>Town of Knox</FONT></TH>"},"<TD NOWRAP ALIGN=RIGHT><FONT FACE=\"Times New Roman\" SIZE=-1>$5.55</FONT></TD>","<TD NOWRAP ALIGN=RIGHT><FONT FACE=\"Times New Roman\" SIZE=-1>$1.85</FONT></TD>","<TD NOWRAP ALIGN=RIGHT><FONT FACE=\"Times New Roman\" SIZE=-1><BR></FONT></TD>","<TD NOWRAP ALIGN=CENTER><FONT FACE=\"Times New Roman\" SIZE=-1>$29.79 to $33.68</FONT></TD>","<TD NOWRAP ALIGN=CENTER><FONT FACE=\"Times New Roman\" SIZE=-1>$37.19 to $41.08</FONT></TD>","<TD NOWRAP ALIGN=CENTER><FONT FACE=\"Times New Roman\" SIZE=-1>0.5700</FONT></TD>","<TD NOWRAP ALIGN=CENTER><FONT FACE=\"Times New Roman\" SIZE=-1>$21.19 to $23.41</FONT></TD>","</TR>"]
["Berne-Knox-Westerlo CSD",{"$f":"'2011 Base Data'!F49","v":5.55},{"$f":"'2011 Base Data'!G49","v":1.85},null,{"$f":"'2011 Base Data'!I49","v":30.55},null,null,{"$f":"'2011 Base Data'!J49","v":37.950000000000003},null,null,{"$f":"'2011 Base Data'!K49","v":0.56999999999999995},{"$f":"'2011 Base Data'!R49","v":21.62},null,null,{"$f":"ROUND(IF(S49<>0,R49*D49+S49*SUM(B49:C49)+T49*E49,R49*SUM(B49:D49)+T49*E49),2)","v":21.63},{"$f":"L49-O49","v":-9.9999999999980105E-3},null,{"$f":"'2011 Base Data'!K49","v":0.56999999999999995},{"$f":"'2011 Base Data'!L49","v":0},{"$f":"'2011 Base Data'!M49","v":0.56999999999999995},{"$f":"\"E\"&U48&\":\"&\"E\"&V48","v":"E49:E52"},{"$f":"\"H\"&U48&\":\"&\"H\"&V48","v":"H49:H52"},{"$f":"\"L\"&U48&\":\"&\"L\"&V48","v":"L49:L52"},null,"<TR VALIGN=BOTTOM>",{"$f":"\"<TD NOWRAP ALIGN=LEFT><FONT FACE=\"\"Times New Roman\"\" SIZE=-1 COLOR=#00AA00\"\">\"&A49&\"</FONT></TD>\"","v":"<TD NOWRAP ALIGN=LEFT><FONT FACE=\"Times New Roman\" SIZE=-1 COLOR=#00AA00\">Berne-Knox-Westerlo CSD</FONT></TD>"},"<TD NOWRAP ALIGN=RIGHT><FONT FACE=\"Times New Roman\" SIZE=-1>$5.55</FONT></TD>","<TD NOWRAP ALIGN=RIGHT><FONT FACE=\"Times New Roman\" SIZE=-1>$1.85</FONT></TD>","<TD NOWRAP ALIGN=RIGHT><FONT FACE=\"Times New Roman\" SIZE=-1><BR></FONT></TD>","<TD NOWRAP ALIGN=CENTER><FONT FACE=\"Times New Roman\" SIZE=-1>$30.55</FONT></TD>","<TD NOWRAP ALIGN=CENTER><FONT FACE=\"Times New Roman\" SIZE=-1>$37.95</FONT></TD>","<TD NOWRAP ALIGN=CENTER><FONT FACE=\"Times New Roman\" SIZE=-1>0.5700</FONT></TD>","<TD NOWRAP ALIGN=CENTER><FONT FACE=\"Times New Roman\" SIZE=-1>$21.62</FONT></TD>","</TR>"]
["Duanesburg CSD",{"$f":"'2011 Base Data'!F50","v":5.55},{"$f":"'2011 Base Data'!G50","v":1.85},null,{"$f":"'2011 Base Data'!I50","v":29.79},null,null,{"$f":"'2011 Base Data'!J50","v":37.19},null,null,{"$f":"'2011 Base Data'!K50","v":0.56999999999999995},{"$f":"'2011 Base Data'!R50","v":21.19},null,null,{"$f":"ROUND(IF(S50<>0,R50*D50+S50*SUM(B50:C50)+T50*E50,R50*SUM(B50:D50)+T50*E50),2)","v":21.2},{"$f":"L50-O50","v":-9.9999999999980105E-3},null,{"$f":"'2011 Base Data'!K50","v":0.56999999999999995},{"$f":"'2011 Base Data'!L50","v":0},{"$f":"'2011 Base Data'!M50","v":0.56999999999999995},null,null,null,null,"<TR VALIGN=BOTTOM>",{"$f":"\"<TD NOWRAP ALIGN=LEFT><FONT FACE=\"\"Times New Roman\"\" SIZE=-1 COLOR=#00AA00\"\">\"&A50&\"</FONT></TD>\"","v":"<TD NOWRAP ALIGN=LEFT><FONT FACE=\"Times New Roman\" SIZE=-1 COLOR=#00AA00\">Duanesburg CSD</FONT></TD>"},"<TD NOWRAP ALIGN=RIGHT><FONT FACE=\"Times New Roman\" SIZE=-1>$5.55</FONT></TD>","<TD NOWRAP ALIGN=RIGHT><FONT FACE=\"Times New Roman\" SIZE=-1>$1.85</FONT></TD>","<TD NOWRAP ALIGN=RIGHT><FONT FACE=\"Times New Roman\" SIZE=-1><BR></FONT></TD>","<TD NOWRAP ALIGN=CENTER><FONT FACE=\"Times New Roman\" SIZE=-1>$29.79</FONT></TD>","<TD NOWRAP ALIGN=CENTER><FONT FACE=\"Times New Roman\" SIZE=-1>$37.19</FONT></TD>","<TD NOWRAP ALIGN=CENTER><FONT FACE=\"Times New Roman\" SIZE=-1>0.5700</FONT></TD>","<TD NOWRAP ALIGN=CENTER><FONT FACE=\"Times New Roman\" SIZE=-1>$21.19</FONT></TD>","</TR>"]
["Guilderland CSD",{"$f":"'2011 Base Data'!F51","v":5.55},{"$f":"'2011 Base Data'!G51","v":1.85},null,{"$f":"'2011 Base Data'!I51","v":31.48},null,null,{"$f":"'2011 Base Data'!J51","v":38.880000000000003},null,null,{"$f":"'2011 Base Data'!K51","v":0.56999999999999995},{"$f":"'2011 Base Data'!R51","v":22.15},null,null,{"$f":"ROUND(IF(S51<>0,R51*D51+S51*SUM(B51:C51)+T51*E51,R51*SUM(B51:D51)+T51*E51),2)","v":22.16},{"$f":"L51-O51","v":-1.0000000000001563E-2},null,{"$f":"'2011 Base Data'!K51","v":0.56999999999999995},{"$f":"'2011 Base Data'!L51","v":0},{"$f":"'2011 Base Data'!M51","v":0.56999999999999995},null,null,null,null,"<TR VALIGN=BOTTOM>",{"$f":"\"<TD NOWRAP ALIGN=LEFT><FONT FACE=\"\"Times New Roman\"\" SIZE=-1 COLOR=#00AA00\"\">\"&A51&\"</FONT></TD>\"","v":"<TD NOWRAP ALIGN=LEFT><FONT FACE=\"Times New Roman\" SIZE=-1 COLOR=#00AA00\">Guilderland CSD</FONT></TD>"},"<TD NOWRAP ALIGN=RIGHT><FONT FACE=\"Times New Roman\" SIZE=-1>$5.55</FONT></TD>","<TD NOWRAP ALIGN=RIGHT><FONT FACE=\"Times New Roman\" SIZE=-1>$1.85</FONT></TD>","<TD NOWRAP ALIGN=RIGHT><FONT FACE=\"Times New Roman\" SIZE=-1><BR></FONT></TD>","<TD NOWRAP ALIGN=CENTER><FONT FACE=\"Times New Roman\" SIZE=-1>$31.48</FONT></TD>","<TD NOWRAP ALIGN=CENTER><FONT FACE=\"Times New Roman\" SIZE=-1>$38.88</FONT></TD>","<TD NOWRAP ALIGN=CENTER><FONT FACE=\"Times New Roman\" SIZE=-1>0.5700</FONT></TD>","<TD NOWRAP ALIGN=CENTER><FONT FACE=\"Times New Roman\" SIZE=-1>$22.15</FONT></TD>","</TR>"]
["Schoharie CSD",{"$f":"'2011 Base Data'!F52","v":5.55},{"$f":"'2011 Base Data'!G52","v":1.85},null,{"$f":"'2011 Base Data'!I52","v":33.68},null,null,{"$f":"'2011 Base Data'!J52","v":41.08},null,null,{"$f":"'2011 Base Data'!K52","v":0.56999999999999995},{"$f":"'2011 Base Data'!R52","v":23.41},null,null,{"$f":"ROUND(IF(S52<>0,R52*D52+S52*SUM(B52:C52)+T52*E52,R52*SUM(B52:D52)+T52*E52),2)","v":23.42},{"$f":"L52-O52","v":-1.0000000000001563E-2},null,{"$f":"'2011 Base Data'!K52","v":0.56999999999999995},{"$f":"'2011 Base Data'!L52","v":0},{"$f":"'2011 Base Data'!M52","v":0.56999999999999995},null,null,null,null,"<TR VALIGN=BOTTOM>",{"$f":"\"<TD NOWRAP ALIGN=LEFT><FONT FACE=\"\"Times New Roman\"\" SIZE=-1 COLOR=#00AA00\"\">\"&A52&\"</FONT></TD>\"","v":"<TD NOWRAP ALIGN=LEFT><FONT FACE=\"Times New Roman\" SIZE=-1 COLOR=#00AA00\">Schoharie CSD</FONT></TD>"},"<TD NOWRAP ALIGN=RIGHT><FONT FACE=\"Times New Roman\" SIZE=-1>$5.55</FONT></TD>","<TD NOWRAP ALIGN=RIGHT><FONT FACE=\"Times New Roman\" SIZE=-1>$1.85</FONT></TD>","<TD NOWRAP ALIGN=RIGHT><FONT FACE=\"Times New Roman\" SIZE=-1><BR></FONT></TD>","<TD NOWRAP ALIGN=CENTER><FONT FACE=\"Times New Roman\" SIZE=-1>$33.68</FONT></TD>","<TD NOWRAP ALIGN=CENTER><FONT FACE=\"Times New Roman\" SIZE=-1>$41.08</FONT></TD>","<TD NOWRAP ALIGN=CENTER><FONT FACE=\"Times New Roman\" SIZE=-1>0.5700</FONT></TD>","<TD NOWRAP ALIGN=CENTER><FONT FACE=\"Times New Roman\" SIZE=-1>$23.41</FONT></TD>","</TR>"]
["Town of New Scotland",{"$f":"B54","v":3.36},{"$f":"C54","v":1.71},null,{"$f":"MIN(INDIRECT(U54))","v":18.489999999999998},{"$f":"IF(G53<>0,\"to\",\"\")","v":"to"},{"$f":"IF(U53<>V53,MAX(INDIRECT(U54)),0)","v":21.53},{"$f":"MIN(INDIRECT(V54))","v":23.56},{"$f":"IF(J53<>0,\"to\",\"\")","v":"to"},{"$f":"IF(U53<>V53,MAX(INDIRECT(V54)),0)","v":26.6},{"$f":"K54","v":0.94},{"$f":"MIN(INDIRECT(W54))","v":22.15},{"$f":"IF(N53<>0,\"to\",\"\")","v":"to"},{"$f":"IF(U53<>V53,MAX(INDIRECT(W54)),0)","v":25.01},null,null,null,null,null,null,{"$f":"CELL(\"row\",P54)","v":54},{"$f":"CELL(\"row\",P59)","v":59},null,null,"<TR VALIGN=BOTTOM BGCOLOR=\"#FFFFCC\">",{"$f":"\"<TH NOWRAP ALIGN=LEFT><FONT FACE=\"\"Times New Roman\"\" SIZE=-1>\"&A53&\"</FONT></TH>\"","v":"<TH NOWRAP ALIGN=LEFT><FONT FACE=\"Times New Roman\" SIZE=-1>Town of New Scotland</FONT></TH>"},"<TD NOWRAP ALIGN=RIGHT><FONT FACE=\"Times New Roman\" SIZE=-1>$3.36</FONT></TD>","<TD NOWRAP ALIGN=RIGHT><FONT FACE=\"Times New Roman\" SIZE=-1>$1.71</FONT></TD>","<TD NOWRAP ALIGN=RIGHT><FONT FACE=\"Times New Roman\" SIZE=-1><BR></FONT></TD>","<TD NOWRAP ALIGN=CENTER><FONT FACE=\"Times New Roman\" SIZE=-1>$18.49 to $21.53</FONT></TD>","<TD NOWRAP ALIGN=CENTER><FONT FACE=\"Times New Roman\" SIZE=-1>$23.56 to $26.60</FONT></TD>","<TD NOWRAP ALIGN=CENTER><FONT FACE=\"Times New Roman\" SIZE=-1>0.9400</FONT></TD>","<TD NOWRAP ALIGN=CENTER><FONT FACE=\"Times New Roman\" SIZE=-1>$22.15 to $25.01</FONT></TD>","</TR>"]
["Berne-Knox-Westerlo CSD",{"$f":"'2011 Base Data'!F54","v":3.36},{"$f":"'2011 Base Data'!G54","v":1.71},null,{"$f":"'2011 Base Data'!I54","v":18.53},null,null,{"$f":"'2011 Base Data'!J54","v":23.6},null,null,{"$f":"'2011 Base Data'!K54","v":0.94},{"$f":"'2011 Base Data'!R54","v":22.19},null,null,{"$f":"ROUND(IF(S54<>0,R54*D54+S54*SUM(B54:C54)+T54*E54,R54*SUM(B54:D54)+T54*E54),2)","v":22.18},{"$f":"L54-O54","v":1.0000000000001563E-2},null,{"$f":"'2011 Base Data'!K54","v":0.94},{"$f":"'2011 Base Data'!L54","v":0},{"$f":"'2011 Base Data'!M54","v":0.94},{"$f":"\"E\"&U53&\":\"&\"E\"&V53","v":"E54:E59"},{"$f":"\"H\"&U53&\":\"&\"H\"&V53","v":"H54:H59"},{"$f":"\"L\"&U53&\":\"&\"L\"&V53","v":"L54:L59"},null,"<TR VALIGN=BOTTOM>",{"$f":"\"<TD NOWRAP ALIGN=LEFT><FONT FACE=\"\"Times New Roman\"\" SIZE=-1 COLOR=#00AA00\"\">\"&A54&\"</FONT></TD>\"","v":"<TD NOWRAP ALIGN=LEFT><FONT FACE=\"Times New Roman\" SIZE=-1 COLOR=#00AA00\">Berne-Knox-Westerlo CSD</FONT></TD>"},"<TD NOWRAP ALIGN=RIGHT><FONT FACE=\"Times New Roman\" SIZE=-1>$3.36</FONT></TD>","<TD NOWRAP ALIGN=RIGHT><FONT FACE=\"Times New Roman\" SIZE=-1>$1.71</FONT></TD>","<TD NOWRAP ALIGN=RIGHT><FONT FACE=\"Times New Roman\" SIZE=-1><BR></FONT></TD>","<TD NOWRAP ALIGN=CENTER><FONT FACE=\"Times New Roman\" SIZE=-1>$18.53</FONT></TD>","<TD NOWRAP ALIGN=CENTER><FONT FACE=\"Times New Roman\" SIZE=-1>$23.60</FONT></TD>","<TD NOWRAP ALIGN=CENTER><FONT FACE=\"Times New Roman\" SIZE=-1>0.9400</FONT></TD>","<TD NOWRAP ALIGN=CENTER><FONT FACE=\"Times New Roman\" SIZE=-1>$22.19</FONT></TD>","</TR>"]
["Bethlehem CSD",{"$f":"'2011 Base Data'!F55","v":3.36},{"$f":"'2011 Base Data'!G55","v":1.71},null,{"$f":"'2011 Base Data'!I55","v":21.53},null,null,{"$f":"'2011 Base Data'!J55","v":26.6},null,null,{"$f":"'2011 Base Data'!K55","v":0.94},{"$f":"'2011 Base Data'!R55","v":25.01},null,null,25,1.0000000000001563E-2,null,{"$f":"'2011 Base Data'!K55","v":0.94},{"$f":"'2011 Base Data'!L55","v":0},{"$f":"'2011 Base Data'!M55","v":0.94},null,null,null,null,"<TR VALIGN=BOTTOM>","<TD NOWRAP ALIGN=LEFT><FONT FACE=\"Times New Roman\" SIZE=-1 COLOR=#00AA00\">Bethlehem CSD</FONT></TD>","<TD NOWRAP ALIGN=RIGHT><FONT FACE=\"Times New Roman\" SIZE=-1>$3.36</FONT></TD>","<TD NOWRAP ALIGN=RIGHT><FONT FACE=\"Times New Roman\" SIZE=-1>$1.71</FONT></TD>","<TD NOWRAP ALIGN=RIGHT><FONT FACE=\"Times New Roman\" SIZE=-1><BR></FONT></TD>","<TD NOWRAP ALIGN=CENTER><FONT FACE=\"Times New Roman\" SIZE=-1>$21.53</FONT></TD>","<TD NOWRAP ALIGN=CENTER><FONT FACE=\"Times New Roman\" SIZE=-1>$26.60</FONT></TD>","<TD NOWRAP ALIGN=CENTER><FONT FACE=\"Times New Roman\" SIZE=-1>0.9400</FONT></TD>","<TD NOWRAP ALIGN=CENTER><FONT FACE=\"Times New Roman\" SIZE=-1>$25.01</FONT></TD>","</TR>"]
["Greenville CSD",{"$f":"'2011 Base Data'!F56","v":3.36},{"$f":"'2011 Base Data'!G56","v":1.71},null,{"$f":"'2011 Base Data'!I56","v":18.489999999999998},null,null,{"$f":"'2011 Base Data'!J56","v":23.56},null,null,{"$f":"'2011 Base Data'!K56","v":0.94},{"$f":"'2011 Base Data'!R56","v":22.15},null,null,22.15,0,null,{"$f":"'2011 Base Data'!K56","v":0.94},{"$f":"'2011 Base Data'!L56","v":0},{"$f":"'2011 Base Data'!M56","v":0.94},null,null,null,null,"<TR VALIGN=BOTTOM>","<TD NOWRAP ALIGN=LEFT><FONT FACE=\"Times New Roman\" SIZE=-1 COLOR=#00AA00\">Greenville CSD</FONT></TD>","<TD NOWRAP ALIGN=RIGHT><FONT FACE=\"Times New Roman\" SIZE=-1>$3.36</FONT></TD>","<TD NOWRAP ALIGN=RIGHT><FONT FACE=\"Times New Roman\" SIZE=-1>$1.71</FONT></TD>","<TD NOWRAP ALIGN=RIGHT><FONT FACE=\"Times New Roman\" SIZE=-1><BR></FONT></TD>","<TD NOWRAP ALIGN=CENTER><FONT FACE=\"Times New Roman\" SIZE=-1>$18.49</FONT></TD>","<TD NOWRAP ALIGN=CENTER><FONT FACE=\"Times New Roman\" SIZE=-1>$23.56</FONT></TD>","<TD NOWRAP ALIGN=CENTER><FONT FACE=\"Times New Roman\" SIZE=-1>0.9400</FONT></TD>","<TD NOWRAP ALIGN=CENTER><FONT FACE=\"Times New Roman\" SIZE=-1>$22.15</FONT></TD>","</TR>"]
["Guilderland CSD",{"$f":"'2011 Base Data'!F57","v":3.36},{"$f":"'2011 Base Data'!G57","v":1.71},null,{"$f":"'2011 Base Data'!I57","v":19.149999999999999},null,null,{"$f":"'2011 Base Data'!J57","v":24.22},null,null,{"$f":"'2011 Base Data'!K57","v":0.94},{"$f":"'2011 Base Data'!R57","v":22.77},null,null,22.77,0,null,{"$f":"'2011 Base Data'!K57","v":0.94},{"$f":"'2011 Base Data'!L57","v":0},{"$f":"'2011 Base Data'!M57","v":0.94},null,null,null,null,"<TR VALIGN=BOTTOM>","<TD NOWRAP ALIGN=LEFT><FONT FACE=\"Times New Roman\" SIZE=-1 COLOR=#00AA00\">Guilderland CSD</FONT></TD>","<TD NOWRAP ALIGN=RIGHT><FONT FACE=\"Times New Roman\" SIZE=-1>$3.36</FONT></TD>","<TD NOWRAP ALIGN=RIGHT><FONT FACE=\"Times New Roman\" SIZE=-1>$1.71</FONT></TD>","<TD NOWRAP ALIGN=RIGHT><FONT FACE=\"Times New Roman\" SIZE=-1><BR></FONT></TD>","<TD NOWRAP ALIGN=CENTER><FONT FACE=\"Times New Roman\" SIZE=-1>$19.15</FONT></TD>","<TD NOWRAP ALIGN=CENTER><FONT FACE=\"Times New Roman\" SIZE=-1>$24.22</FONT></TD>","<TD NOWRAP ALIGN=CENTER><FONT FACE=\"Times New Roman\" SIZE=-1>0.9400</FONT></TD>","<TD NOWRAP ALIGN=CENTER><FONT FACE=\"Times New Roman\" SIZE=-1>$22.77</FONT></TD>","</TR>"]
["Ravena-Coeymans-Selkirk CSD",{"$f":"'2011 Base Data'!F58","v":3.36},{"$f":"'2011 Base Data'!G58","v":1.71},null,{"$f":"'2011 Base Data'!I58","v":19.91},null,null,{"$f":"'2011 Base Data'!J58","v":24.98},null,null,{"$f":"'2011 Base Data'!K58","v":0.94},{"$f":"'2011 Base Data'!R58","v":23.49},null,null,23.48,9.9999999999980105E-3,null,{"$f":"'2011 Base Data'!K58","v":0.94},{"$f":"'2011 Base Data'!L58","v":0},{"$f":"'2011 Base Data'!M58","v":0.94},null,null,null,null,"<TR VALIGN=BOTTOM>","<TD NOWRAP ALIGN=LEFT><FONT FACE=\"Times New Roman\" SIZE=-1 COLOR=#00AA00\">Ravena-Coeymans-Selkirk CSD</FONT></TD>","<TD NOWRAP ALIGN=RIGHT><FONT FACE=\"Times New Roman\" SIZE=-1>$3.36</FONT></TD>","<TD NOWRAP ALIGN=RIGHT><FONT FACE=\"Times New Roman\" SIZE=-1>$1.71</FONT></TD>","<TD NOWRAP ALIGN=RIGHT><FONT FACE=\"Times New Roman\" SIZE=-1><BR></FONT></TD>","<TD NOWRAP ALIGN=CENTER><FONT FACE=\"Times New Roman\" SIZE=-1>$19.91</FONT></TD>","<TD NOWRAP ALIGN=CENTER><FONT FACE=\"Times New Roman\" SIZE=-1>$24.98</FONT></TD>","<TD NOWRAP ALIGN=CENTER><FONT FACE=\"Times New Roman\" SIZE=-1>0.9400</FONT></TD>","<TD NOWRAP ALIGN=CENTER><FONT FACE=\"Times New Roman\" SIZE=-1>$23.49</FONT></TD>","</TR>"]
["Voorheesville CSD",{"$f":"'2011 Base Data'!F59","v":3.36},{"$f":"'2011 Base Data'!G59","v":1.71},null,{"$f":"'2011 Base Data'!I59","v":18.91},null,null,{"$f":"'2011 Base Data'!J59","v":23.98},null,null,{"$f":"'2011 Base Data'!K59","v":0.94},{"$f":"'2011 Base Data'!R59","v":22.55},null,null,22.54,1.0000000000001563E-2,null,{"$f":"'2011 Base Data'!K59","v":0.94},{"$f":"'2011 Base Data'!L59","v":0},{"$f":"'2011 Base Data'!M59","v":0.94},null,null,null,null,"<TR VALIGN=BOTTOM>","<TD NOWRAP ALIGN=LEFT><FONT FACE=\"Times New Roman\" SIZE=-1 COLOR=#00AA00\">Voorheesville CSD</FONT></TD>","<TD NOWRAP ALIGN=RIGHT><FONT FACE=\"Times New Roman\" SIZE=-1>$3.36</FONT></TD>","<TD NOWRAP ALIGN=RIGHT><FONT FACE=\"Times New Roman\" SIZE=-1>$1.71</FONT></TD>","<TD NOWRAP ALIGN=RIGHT><FONT FACE=\"Times New Roman\" SIZE=-1><BR></FONT></TD>","<TD NOWRAP ALIGN=CENTER><FONT FACE=\"Times New Roman\" SIZE=-1>$18.91</FONT></TD>","<TD NOWRAP ALIGN=CENTER><FONT FACE=\"Times New Roman\" SIZE=-1>$23.98</FONT></TD>","<TD NOWRAP ALIGN=CENTER><FONT FACE=\"Times New Roman\" SIZE=-1>0.9400</FONT></TD>","<TD NOWRAP ALIGN=CENTER><FONT FACE=\"Times New Roman\" SIZE=-1>$22.55</FONT></TD>","</TR>"]
["Village of Voorheesville",{"$f":"B61","v":3.36},{"$f":"C61","v":1.25},{"$f":"D61","v":1.1000000000000001},{"$f":"MIN(INDIRECT(U61))","v":18.91},{"$f":"IF(G60<>0,\"to\",\"\")","v":""},{"$f":"IF(U60<>V60,MAX(INDIRECT(U61)),0)","v":0},{"$f":"MIN(INDIRECT(V61))","v":24.62},{"$f":"IF(J60<>0,\"to\",\"\")","v":""},{"$f":"IF(U60<>V60,MAX(INDIRECT(V61)),0)","v":0},{"$f":"K61","v":0.94},{"$f":"MIN(INDIRECT(W61))","v":23.15},{"$f":"IF(N60<>0,\"to\",\"\")","v":""},{"$f":"IF(U60<>V60,MAX(INDIRECT(W61)),0)","v":0},null,null,null,null,null,null,{"$f":"CELL(\"row\",P61)","v":61},{"$f":"CELL(\"row\",P61)","v":61},null,null,"<TR VALIGN=BOTTOM BGCOLOR=\"#FFFFCC\">",{"$f":"\"<TH NOWRAP ALIGN=LEFT><FONT FACE=\"\"Times New Roman\"\" SIZE=-1 COLOR=\"\"#0000CC\"\">\"&A60&\"</FONT></TH>\"","v":"<TH NOWRAP ALIGN=LEFT><FONT FACE=\"Times New Roman\" SIZE=-1 COLOR=\"#0000CC\">Village of Voorheesville</FONT></TH>"},"<TD NOWRAP ALIGN=RIGHT><FONT FACE=\"Times New Roman\" SIZE=-1>$3.36</FONT></TD>","<TD NOWRAP ALIGN=RIGHT><FONT FACE=\"Times New Roman\" SIZE=-1>$1.25</FONT></TD>","<TD NOWRAP ALIGN=RIGHT><FONT FACE=\"Times New Roman\" SIZE=-1>$1.10</FONT></TD>","<TD NOWRAP ALIGN=CENTER><FONT FACE=\"Times New Roman\" SIZE=-1>$18.91</FONT></TD>","<TD NOWRAP ALIGN=CENTER><FONT FACE=\"Times New Roman\" SIZE=-1>$24.62</FONT></TD>","<TD NOWRAP ALIGN=CENTER><FONT FACE=\"Times New Roman\" SIZE=-1>0.9400</FONT></TD>","<TD NOWRAP ALIGN=CENTER><FONT FACE=\"Times New Roman\" SIZE=-1>$23.15</FONT></TD>","</TR>"]
["Voorheesville CSD",{"$f":"'2011 Base Data'!F61","v":3.36},{"$f":"'2011 Base Data'!G61","v":1.25},{"$f":"'2011 Base Data'!H61","v":1.1000000000000001},{"$f":"'2011 Base Data'!I61","v":18.91},null,null,{"$f":"'2011 Base Data'!J61","v":24.62},null,null,{"$f":"'2011 Base Data'!K61","v":0.94},{"$f":"'2011 Base Data'!R61","v":23.15},null,null,{"$f":"ROUND(IF(S61<>0,R61*D61+S61*SUM(B61:C61)+T61*E61,R61*SUM(B61:D61)+T61*E61),2)","v":23.14},{"$f":"L61-O61","v":9.9999999999980105E-3},null,{"$f":"'2011 Base Data'!K61","v":0.94},{"$f":"'2011 Base Data'!L61","v":0.94},{"$f":"'2011 Base Data'!M61","v":0.94},{"$f":"\"E\"&U60&\":\"&\"E\"&V60","v":"E61:E61"},{"$f":"\"H\"&U60&\":\"&\"H\"&V60","v":"H61:H61"},{"$f":"\"L\"&U60&\":\"&\"L\"&V60","v":"L61:L61"},null,"<TR VALIGN=BOTTOM>",{"$f":"\"<TD NOWRAP ALIGN=LEFT><FONT FACE=\"\"Times New Roman\"\" SIZE=-1 COLOR=#00AA00\"\">\"&A61&\"</FONT></TD>\"","v":"<TD NOWRAP ALIGN=LEFT><FONT FACE=\"Times New Roman\" SIZE=-1 COLOR=#00AA00\">Voorheesville CSD</FONT></TD>"},"<TD NOWRAP ALIGN=RIGHT><FONT FACE=\"Times New Roman\" SIZE=-1>$3.36</FONT></TD>","<TD NOWRAP ALIGN=RIGHT><FONT FACE=\"Times New Roman\" SIZE=-1>$1.25</FONT></TD>","<TD NOWRAP ALIGN=RIGHT><FONT FACE=\"Times New Roman\" SIZE=-1>$1.10</FONT></TD>","<TD NOWRAP ALIGN=CENTER><FONT FACE=\"Times New Roman\" SIZE=-1>$18.91</FONT></TD>","<TD NOWRAP ALIGN=CENTER><FONT FACE=\"Times New Roman\" SIZE=-1>$24.62</FONT></TD>","<TD NOWRAP ALIGN=CENTER><FONT FACE=\"Times New Roman\" SIZE=-1>0.9400</FONT></TD>","<TD NOWRAP ALIGN=CENTER><FONT FACE=\"Times New Roman\" SIZE=-1>$23.15</FONT></TD>","</TR>"]
["Town of Rensselaerville",{"$f":"B63","v":5.79},{"$f":"C63","v":7.76},null,{"$f":"MIN(INDIRECT(U63))","v":22.01},{"$f":"IF(G62<>0,\"to\",\"\")","v":"to"},{"$f":"IF(U62<>V62,MAX(INDIRECT(U63)),0)","v":33.74},{"$f":"MIN(INDIRECT(V63))","v":35.56},{"$f":"IF(J62<>0,\"to\",\"\")","v":"to"},{"$f":"IF(U62<>V62,MAX(INDIRECT(V63)),0)","v":47.29},{"$f":"K63","v":0.54200000000000004},{"$f":"MIN(INDIRECT(W63))","v":19.28},{"$f":"IF(N62<>0,\"to\",\"\")","v":"to"},{"$f":"IF(U62<>V62,MAX(INDIRECT(W63)),0)","v":25.64},null,null,null,null,null,null,{"$f":"CELL(\"row\",P63)","v":63},{"$f":"CELL(\"row\",P66)","v":66},null,null,"<TR VALIGN=BOTTOM BGCOLOR=\"#FFFFCC\">",{"$f":"\"<TH NOWRAP ALIGN=LEFT><FONT FACE=\"\"Times New Roman\"\" SIZE=-1>\"&A62&\"</FONT></TH>\"","v":"<TH NOWRAP ALIGN=LEFT><FONT FACE=\"Times New Roman\" SIZE=-1>Town of Rensselaerville</FONT></TH>"},"<TD NOWRAP ALIGN=RIGHT><FONT FACE=\"Times New Roman\" SIZE=-1>$5.79</FONT></TD>","<TD NOWRAP ALIGN=RIGHT><FONT FACE=\"Times New Roman\" SIZE=-1>$7.76</FONT></TD>","<TD NOWRAP ALIGN=RIGHT><FONT FACE=\"Times New Roman\" SIZE=-1><BR></FONT></TD>","<TD NOWRAP ALIGN=CENTER><FONT FACE=\"Times New Roman\" SIZE=-1>$22.01 to $33.74</FONT></TD>","<TD NOWRAP ALIGN=CENTER><FONT FACE=\"Times New Roman\" SIZE=-1>$35.56 to $47.29</FONT></TD>","<TD NOWRAP ALIGN=CENTER><FONT FACE=\"Times New Roman\" SIZE=-1>0.5420</FONT></TD>","<TD NOWRAP ALIGN=CENTER><FONT FACE=\"Times New Roman\" SIZE=-1>$19.28 to $25.64</FONT></TD>","</TR>"]
["Berne-Knox-Westerlo CSD",{"$f":"'2011 Base Data'!F63","v":5.79},{"$f":"'2011 Base Data'!G63","v":7.76},null,{"$f":"'2011 Base Data'!I63","v":32.130000000000003},null,null,{"$f":"'2011 Base Data'!J63","v":45.68},null,null,{"$f":"'2011 Base Data'!K63","v":0.54200000000000004},{"$f":"'2011 Base Data'!R63","v":24.76},null,null,{"$f":"ROUND(IF(S63<>0,R63*D63+S63*SUM(B63:C63)+T63*E63,R63*SUM(B63:D63)+T63*E63),2)","v":24.76},{"$f":"L63-O63","v":0},null,{"$f":"'2011 Base Data'!K63","v":0.54200000000000004},{"$f":"'2011 Base Data'!L63","v":0},{"$f":"'2011 Base Data'!M63","v":0.54200000000000004},{"$f":"\"E\"&U62&\":\"&\"E\"&V62","v":"E63:E66"},{"$f":"\"H\"&U62&\":\"&\"H\"&V62","v":"H63:H66"},{"$f":"\"L\"&U62&\":\"&\"L\"&V62","v":"L63:L66"},null,"<TR VALIGN=BOTTOM>",{"$f":"\"<TD NOWRAP ALIGN=LEFT><FONT FACE=\"\"Times New Roman\"\" SIZE=-1 COLOR=#00AA00\"\">\"&A63&\"</FONT></TD>\"","v":"<TD NOWRAP ALIGN=LEFT><FONT FACE=\"Times New Roman\" SIZE=-1 COLOR=#00AA00\">Berne-Knox-Westerlo CSD</FONT></TD>"},"<TD NOWRAP ALIGN=RIGHT><FONT FACE=\"Times New Roman\" SIZE=-1>$5.79</FONT></TD>","<TD NOWRAP ALIGN=RIGHT><FONT FACE=\"Times New Roman\" SIZE=-1>$7.76</FONT></TD>","<TD NOWRAP ALIGN=RIGHT><FONT FACE=\"Times New Roman\" SIZE=-1><BR></FONT></TD>","<TD NOWRAP ALIGN=CENTER><FONT FACE=\"Times New Roman\" SIZE=-1>$32.13</FONT></TD>","<TD NOWRAP ALIGN=CENTER><FONT FACE=\"Times New Roman\" SIZE=-1>$45.68</FONT></TD>","<TD NOWRAP ALIGN=CENTER><FONT FACE=\"Times New Roman\" SIZE=-1>0.5420</FONT></TD>","<TD NOWRAP ALIGN=CENTER><FONT FACE=\"Times New Roman\" SIZE=-1>$24.76</FONT></TD>","</TR>"]
["Cairo-Durham CSD",{"$f":"'2011 Base Data'!F64","v":5.79},{"$f":"'2011 Base Data'!G64","v":7.76},null,{"$f":"'2011 Base Data'!I64","v":22.01},null,null,{"$f":"'2011 Base Data'!J64","v":35.56},null,null,{"$f":"'2011 Base Data'!K64","v":0.54200000000000004},{"$f":"'2011 Base Data'!R64","v":19.28},null,null,{"$f":"ROUND(IF(S64<>0,R64*D64+S64*SUM(B64:C64)+T64*E64,R64*SUM(B64:D64)+T64*E64),2)","v":19.27},{"$f":"L64-O64","v":1.0000000000001563E-2},null,{"$f":"'2011 Base Data'!K64","v":0.54200000000000004},{"$f":"'2011 Base Data'!L64","v":0},{"$f":"'2011 Base Data'!M64","v":0.54200000000000004},null,null,null,null,"<TR VALIGN=BOTTOM>",{"$f":"\"<TD NOWRAP ALIGN=LEFT><FONT FACE=\"\"Times New Roman\"\" SIZE=-1 COLOR=#00AA00\"\">\"&A64&\"</FONT></TD>\"","v":"<TD NOWRAP ALIGN=LEFT><FONT FACE=\"Times New Roman\" SIZE=-1 COLOR=#00AA00\">Cairo-Durham CSD</FONT></TD>"},"<TD NOWRAP ALIGN=RIGHT><FONT FACE=\"Times New Roman\" SIZE=-1>$5.79</FONT></TD>","<TD NOWRAP ALIGN=RIGHT><FONT FACE=\"Times New Roman\" SIZE=-1>$7.76</FONT></TD>","<TD NOWRAP ALIGN=RIGHT><FONT FACE=\"Times New Roman\" SIZE=-1><BR></FONT></TD>","<TD NOWRAP ALIGN=CENTER><FONT FACE=\"Times New Roman\" SIZE=-1>$22.01</FONT></TD>","<TD NOWRAP ALIGN=CENTER><FONT FACE=\"Times New Roman\" SIZE=-1>$35.56</FONT></TD>","<TD NOWRAP ALIGN=CENTER><FONT FACE=\"Times New Roman\" SIZE=-1>0.5420</FONT></TD>","<TD NOWRAP ALIGN=CENTER><FONT FACE=\"Times New Roman\" SIZE=-1>$19.28</FONT></TD>","</TR>"]
["Greenville CSD",{"$f":"'2011 Base Data'!F65","v":5.79},{"$f":"'2011 Base Data'!G65","v":7.76},null,{"$f":"'2011 Base Data'!I65","v":32.07},null,null,{"$f":"'2011 Base Data'!J65","v":45.62},null,null,{"$f":"'2011 Base Data'!K65","v":0.54200000000000004},{"$f":"'2011 Base Data'!R65","v":24.73},null,null,{"$f":"ROUND(IF(S65<>0,R65*D65+S65*SUM(B65:C65)+T65*E65,R65*SUM(B65:D65)+T65*E65),2)","v":24.73},{"$f":"L65-O65","v":0},null,{"$f":"'2011 Base Data'!K65","v":0.54200000000000004},{"$f":"'2011 Base Data'!L65","v":0},{"$f":"'2011 Base Data'!M65","v":0.54200000000000004},null,null,null,null,"<TR VALIGN=BOTTOM>",{"$f":"\"<TD NOWRAP ALIGN=LEFT><FONT FACE=\"\"Times New Roman\"\" SIZE=-1 COLOR=#00AA00\"\">\"&A65&\"</FONT></TD>\"","v":"<TD NOWRAP ALIGN=LEFT><FONT FACE=\"Times New Roman\" SIZE=-1 COLOR=#00AA00\">Greenville CSD</FONT></TD>"},"<TD NOWRAP ALIGN=RIGHT><FONT FACE=\"Times New Roman\" SIZE=-1>$5.79</FONT></TD>","<TD NOWRAP ALIGN=RIGHT><FONT FACE=\"Times New Roman\" SIZE=-1>$7.76</FONT></TD>","<TD NOWRAP ALIGN=RIGHT><FONT FACE=\"Times New Roman\" SIZE=-1><BR></FONT></TD>","<TD NOWRAP ALIGN=CENTER><FONT FACE=\"Times New Roman\" SIZE=-1>$32.07</FONT></TD>","<TD NOWRAP ALIGN=CENTER><FONT FACE=\"Times New Roman\" SIZE=-1>$45.62</FONT></TD>","<TD NOWRAP ALIGN=CENTER><FONT FACE=\"Times New Roman\" SIZE=-1>0.5420</FONT></TD>","<TD NOWRAP ALIGN=CENTER><FONT FACE=\"Times New Roman\" SIZE=-1>$24.73</FONT></TD>","</TR>"]
["Middleburgh CSD",{"$f":"'2011 Base Data'!F66","v":5.79},{"$f":"'2011 Base Data'!G66","v":7.76},null,{"$f":"'2011 Base Data'!I66","v":33.74},null,null,{"$f":"'2011 Base Data'!J66","v":47.29},null,null,{"$f":"'2011 Base Data'!K66","v":0.54200000000000004},{"$f":"'2011 Base Data'!R66","v":25.64},null,null,{"$f":"ROUND(IF(S66<>0,R66*D66+S66*SUM(B66:C66)+T66*E66,R66*SUM(B66:D66)+T66*E66),2)","v":25.63},{"$f":"L66-O66","v":1.0000000000001563E-2},null,{"$f":"'2011 Base Data'!K66","v":0.54200000000000004},{"$f":"'2011 Base Data'!L66","v":0},{"$f":"'2011 Base Data'!M66","v":0.54200000000000004},null,null,null,null,"<TR VALIGN=BOTTOM>",{"$f":"\"<TD NOWRAP ALIGN=LEFT><FONT FACE=\"\"Times New Roman\"\" SIZE=-1 COLOR=#00AA00\"\">\"&A66&\"</FONT></TD>\"","v":"<TD NOWRAP ALIGN=LEFT><FONT FACE=\"Times New Roman\" SIZE=-1 COLOR=#00AA00\">Middleburgh CSD</FONT></TD>"},"<TD NOWRAP ALIGN=RIGHT><FONT FACE=\"Times New Roman\" SIZE=-1>$5.79</FONT></TD>","<TD NOWRAP ALIGN=RIGHT><FONT FACE=\"Times New Roman\" SIZE=-1>$7.76</FONT></TD>","<TD NOWRAP ALIGN=RIGHT><FONT FACE=\"Times New Roman\" SIZE=-1><BR></FONT></TD>","<TD NOWRAP ALIGN=CENTER><FONT FACE=\"Times New Roman\" SIZE=-1>$33.74</FONT></TD>","<TD NOWRAP ALIGN=CENTER><FONT FACE=\"Times New Roman\" SIZE=-1>$47.29</FONT></TD>","<TD NOWRAP ALIGN=CENTER><FONT FACE=\"Times New Roman\" SIZE=-1>0.5420</FONT></TD>","<TD NOWRAP ALIGN=CENTER><FONT FACE=\"Times New Roman\" SIZE=-1>$25.64</FONT></TD>","</TR>"]
["City of Watervliet",{"$f":"B68","v":5.1100000000000003},null,{"$f":"D68","v":15.54},{"$f":"MIN(INDIRECT(U68))","v":19.91},{"$f":"IF(G67<>0,\"to\",\"\")","v":""},{"$f":"IF(U67<>V67,MAX(INDIRECT(U68)),0)","v":0},{"$f":"MIN(INDIRECT(V68))","v":40.56},{"$f":"IF(J67<>0,\"to\",\"\")","v":""},{"$f":"IF(U67<>V67,MAX(INDIRECT(V68)),0)","v":0},{"$f":"K68","v":0.62250000000000005},{"$f":"MIN(INDIRECT(W68))","v":25.24},{"$f":"IF(N67<>0,\"to\",\"\")","v":""},{"$f":"IF(U67<>V67,MAX(INDIRECT(W68)),0)","v":0},null,null,null,null,null,null,{"$f":"CELL(\"row\",P68)","v":68},{"$f":"CELL(\"row\",P68)","v":68},null,null,"<TR VALIGN=BOTTOM BGCOLOR=\"#FFFFCC\">",{"$f":"\"<TH NOWRAP ALIGN=LEFT><FONT FACE=\"\"Times New Roman\"\" SIZE=-1 COLOR=#800000\"\">\"&A67&\"</FONT></TH>\"","v":"<TH NOWRAP ALIGN=LEFT><FONT FACE=\"Times New Roman\" SIZE=-1 COLOR=#800000\">City of Watervliet</FONT></TH>"},"<TD NOWRAP ALIGN=RIGHT><FONT FACE=\"Times New Roman\" SIZE=-1>$5.11</FONT></TD>","<TD NOWRAP ALIGN=RIGHT><FONT FACE=\"Times New Roman\" SIZE=-1><BR></FONT></TD>","<TD NOWRAP ALIGN=RIGHT><FONT FACE=\"Times New Roman\" SIZE=-1>$15.54</FONT></TD>","<TD NOWRAP ALIGN=CENTER><FONT FACE=\"Times New Roman\" SIZE=-1>$19.91</FONT></TD>","<TD NOWRAP ALIGN=CENTER><FONT FACE=\"Times New Roman\" SIZE=-1>$40.56</FONT></TD>","<TD NOWRAP ALIGN=CENTER><FONT FACE=\"Times New Roman\" SIZE=-1>0.6225</FONT></TD>","<TD NOWRAP ALIGN=CENTER><FONT FACE=\"Times New Roman\" SIZE=-1>$25.24</FONT></TD>","</TR>"]
["Watervliet City SD",{"$f":"'2011 Base Data'!F68","v":5.1100000000000003},null,{"$f":"'2011 Base Data'!H68","v":15.54},{"$f":"'2011 Base Data'!I68","v":19.91},null,null,{"$f":"'2011 Base Data'!J68","v":40.56},null,null,{"$f":"'2011 Base Data'!K68","v":0.62250000000000005},{"$f":"'2011 Base Data'!R68","v":25.24},null,null,{"$f":"ROUND(IF(S68<>0,R68*D68+S68*SUM(B68:C68)+T68*E68,R68*SUM(B68:D68)+T68*E68),2)","v":25.25},{"$f":"L68-O68","v":-1.0000000000001563E-2},null,{"$f":"'2011 Base Data'!K68","v":0.62250000000000005},{"$f":"'2011 Base Data'!L68","v":0},{"$f":"'2011 Base Data'!M68","v":0.62250000000000005},{"$f":"\"E\"&U67&\":\"&\"E\"&V67","v":"E68:E68"},{"$f":"\"H\"&U67&\":\"&\"H\"&V67","v":"H68:H68"},{"$f":"\"L\"&U67&\":\"&\"L\"&V67","v":"L68:L68"},null,"<TR VALIGN=BOTTOM>",{"$f":"\"<TD NOWRAP ALIGN=LEFT><FONT FACE=\"\"Times New Roman\"\" SIZE=-1 COLOR=#00AA00\"\">\"&A68&\"</FONT></TD>\"","v":"<TD NOWRAP ALIGN=LEFT><FONT FACE=\"Times New Roman\" SIZE=-1 COLOR=#00AA00\">Watervliet City SD</FONT></TD>"},"<TD NOWRAP ALIGN=RIGHT><FONT FACE=\"Times New Roman\" SIZE=-1>$5.11</FONT></TD>","<TD NOWRAP ALIGN=RIGHT><FONT FACE=\"Times New Roman\" SIZE=-1><BR></FONT></TD>","<TD NOWRAP ALIGN=RIGHT><FONT FACE=\"Times New Roman\" SIZE=-1>$15.54</FONT></TD>","<TD NOWRAP ALIGN=CENTER><FONT FACE=\"Times New Roman\" SIZE=-1>$19.91</FONT></TD>","<TD NOWRAP ALIGN=CENTER><FONT FACE=\"Times New Roman\" SIZE=-1>$40.56</FONT></TD>","<TD NOWRAP ALIGN=CENTER><FONT FACE=\"Times New Roman\" SIZE=-1>0.6225</FONT></TD>","<TD NOWRAP ALIGN=CENTER><FONT FACE=\"Times New Roman\" SIZE=-1>$25.24</FONT></TD>","</TR>"]
["Town of Westerlo",{"$f":"B70","v":379.91},{"$f":"C70","v":260.60000000000002},null,{"$f":"MIN(INDIRECT(U70))","v":2045.22},{"$f":"IF(G69<>0,\"to\",\"\")","v":"to"},{"$f":"IF(U69<>V69,MAX(INDIRECT(U70)),0)","v":2048.92},{"$f":"MIN(INDIRECT(V70))","v":2685.73},{"$f":"IF(J69<>0,\"to\",\"\")","v":"to"},{"$f":"IF(U69<>V69,MAX(INDIRECT(V70)),0)","v":2689.43},{"$f":"K70","v":8.5000000000000006E-3},{"$f":"MIN(INDIRECT(W70))","v":22.83},{"$f":"IF(N69<>0,\"to\",\"\")","v":"to"},{"$f":"IF(U69<>V69,MAX(INDIRECT(W70)),0)","v":22.87},null,null,null,null,null,null,{"$f":"CELL(\"row\",P70)","v":70},{"$f":"CELL(\"row\",P71)","v":71},null,null,"<TR VALIGN=BOTTOM BGCOLOR=\"#FFFFCC\">",{"$f":"\"<TH NOWRAP ALIGN=LEFT><FONT FACE=\"\"Times New Roman\"\" SIZE=-1>\"&A69&\"</FONT></TH>\"","v":"<TH NOWRAP ALIGN=LEFT><FONT FACE=\"Times New Roman\" SIZE=-1>Town of Westerlo</FONT></TH>"},"<TD NOWRAP ALIGN=RIGHT><FONT FACE=\"Times New Roman\" SIZE=-1>$379.91</FONT></TD>","<TD NOWRAP ALIGN=RIGHT><FONT FACE=\"Times New Roman\" SIZE=-1>$260.60</FONT></TD>","<TD NOWRAP ALIGN=RIGHT><FONT FACE=\"Times New Roman\" SIZE=-1><BR></FONT></TD>","<TD NOWRAP ALIGN=CENTER><FONT FACE=\"Times New Roman\" SIZE=-1>$2,045.22 to $2,048.92</FONT></TD>","<TD NOWRAP ALIGN=CENTER><FONT FACE=\"Times New Roman\" SIZE=-1>$2,685.73 to $2,689.43</FONT></TD>","<TD NOWRAP ALIGN=CENTER><FONT FACE=\"Times New Roman\" SIZE=-1>0.0085</FONT></TD>","<TD NOWRAP ALIGN=CENTER><FONT FACE=\"Times New Roman\" SIZE=-1>$22.83 to $22.87</FONT></TD>","</TR>"]
["Berne-Knox-Westerlo CSD",{"$f":"'2011 Base Data'!F70","v":379.91},{"$f":"'2011 Base Data'!G70","v":260.60000000000002},null,{"$f":"'2011 Base Data'!I70","v":2048.92},null,null,{"$f":"'2011 Base Data'!J70","v":2689.43},null,null,{"$f":"'2011 Base Data'!K70","v":8.5000000000000006E-3},{"$f":"'2011 Base Data'!R70","v":22.87},null,null,{"$f":"ROUND(IF(S70<>0,R70*D70+S70*SUM(B70:C70)+T70*E70,R70*SUM(B70:D70)+T70*E70),2)","v":22.86},{"$f":"L70-O70","v":1.0000000000001563E-2},null,{"$f":"'2011 Base Data'!K70","v":8.5000000000000006E-3},{"$f":"'2011 Base Data'!L70","v":0},{"$f":"'2011 Base Data'!M70","v":8.5000000000000006E-3},{"$f":"\"E\"&U69&\":\"&\"E\"&V69","v":"E70:E71"},{"$f":"\"H\"&U69&\":\"&\"H\"&V69","v":"H70:H71"},{"$f":"\"L\"&U69&\":\"&\"L\"&V69","v":"L70:L71"},null,"<TR VALIGN=BOTTOM>",{"$f":"\"<TD NOWRAP ALIGN=LEFT><FONT FACE=\"\"Times New Roman\"\" SIZE=-1 COLOR=#00AA00\"\">\"&A70&\"</FONT></TD>\"","v":"<TD NOWRAP ALIGN=LEFT><FONT FACE=\"Times New Roman\" SIZE=-1 COLOR=#00AA00\">Berne-Knox-Westerlo CSD</FONT></TD>"},"<TD NOWRAP ALIGN=RIGHT><FONT FACE=\"Times New Roman\" SIZE=-1>$379.91</FONT></TD>","<TD NOWRAP ALIGN=RIGHT><FONT FACE=\"Times New Roman\" SIZE=-1>$260.60</FONT></TD>","<TD NOWRAP ALIGN=RIGHT><FONT FACE=\"Times New Roman\" SIZE=-1><BR></FONT></TD>","<TD NOWRAP ALIGN=CENTER><FONT FACE=\"Times New Roman\" SIZE=-1>$2,048.92</FONT></TD>","<TD NOWRAP ALIGN=CENTER><FONT FACE=\"Times New Roman\" SIZE=-1>$2,689.43</FONT></TD>","<TD NOWRAP ALIGN=CENTER><FONT FACE=\"Times New Roman\" SIZE=-1>0.0085</FONT></TD>","<TD NOWRAP ALIGN=CENTER><FONT FACE=\"Times New Roman\" SIZE=-1>$22.87</FONT></TD>","</TR>"]
["Greenville CSD",{"$f":"'2011 Base Data'!F71","v":379.91},{"$f":"'2011 Base Data'!G71","v":260.60000000000002},null,{"$f":"'2011 Base Data'!I71","v":2045.22},null,null,{"$f":"'2011 Base Data'!J71","v":2685.73},null,null,{"$f":"'2011 Base Data'!K71","v":8.5000000000000006E-3},{"$f":"'2011 Base Data'!R71","v":22.83},null,null,{"$f":"ROUND(IF(S71<>0,R71*D71+S71*SUM(B71:C71)+T71*E71,R71*SUM(B71:D71)+T71*E71),2)","v":22.83},{"$f":"L71-O71","v":0},null,{"$f":"'2011 Base Data'!K71","v":8.5000000000000006E-3},{"$f":"'2011 Base Data'!L71","v":0},{"$f":"'2011 Base Data'!M71","v":8.5000000000000006E-3},null,null,null,null,"<TR VALIGN=BOTTOM>",{"$f":"\"<TD NOWRAP ALIGN=LEFT><FONT FACE=\"\"Times New Roman\"\" SIZE=-1 COLOR=#00AA00\"\">\"&A71&\"</FONT></TD>\"","v":"<TD NOWRAP ALIGN=LEFT><FONT FACE=\"Times New Roman\" SIZE=-1 COLOR=#00AA00\">Greenville CSD</FONT></TD>"},"<TD NOWRAP ALIGN=RIGHT><FONT FACE=\"Times New Roman\" SIZE=-1>$379.91</FONT></TD>","<TD NOWRAP ALIGN=RIGHT><FONT FACE=\"Times New Roman\" SIZE=-1>$260.60</FONT></TD>","<TD NOWRAP ALIGN=RIGHT><FONT FACE=\"Times New Roman\" SIZE=-1><BR></FONT></TD>","<TD NOWRAP ALIGN=CENTER><FONT FACE=\"Times New Roman\" SIZE=-1>$2,045.22</FONT></TD>","<TD NOWRAP ALIGN=CENTER><FONT FACE=\"Times New Roman\" SIZE=-1>$2,685.73</FONT></TD>","<TD NOWRAP ALIGN=CENTER><FONT FACE=\"Times New Roman\" SIZE=-1>0.0085</FONT></TD>","<TD NOWRAP ALIGN=CENTER><FONT FACE=\"Times New Roman\" SIZE=-1>$22.83</FONT></TD>","</TR>"]
["Rensselaer County",null,null,null,{"$f":"MIN(E73:E155)","v":13.65},{"$f":"IF(G72<>0,\"to\",\"\")","v":"to"},{"$f":"MAX(E73:G155)","v":205.6},{"$f":"MIN(H73:H155)","v":23},{"$f":"IF(J72<>0,\"to\",\"\")","v":"to"},{"$f":"MAX(H73:J155)","v":311.63},null,{"$f":"MIN(L73:L155)","v":14.6},{"$f":"IF(N72<>0,\"to\",\"\")","v":"to"},{"$f":"MAX(L73:N155)","v":35.57},null,null,null,null,null,null,null,null,null,null,"<TR VALIGN=BOTTOM BGCOLOR=\"#CCCCFF\">",{"$f":"\"<TH NOWRAP ALIGN=LEFT><FONT FACE=\"\"Times New Roman\"\" COLOR=\"\"#AA00AA\"\">\"&A72&\"</FONT></TH>\"","v":"<TH NOWRAP ALIGN=LEFT><FONT FACE=\"Times New Roman\" COLOR=\"#AA00AA\">Rensselaer County</FONT></TH>"},"<TD NOWRAP ALIGN=RIGHT><FONT FACE=\"Times New Roman\" SIZE=-1><BR></FONT></TD>","<TD NOWRAP ALIGN=RIGHT><FONT FACE=\"Times New Roman\" SIZE=-1><BR></FONT></TD>","<TD NOWRAP ALIGN=RIGHT><FONT FACE=\"Times New Roman\" SIZE=-1><BR></FONT></TD>","<TD NOWRAP ALIGN=CENTER><FONT FACE=\"Times New Roman\" SIZE=-1>$13.65 to $205.60</FONT></TD>","<TD NOWRAP ALIGN=CENTER><FONT FACE=\"Times New Roman\" SIZE=-1>$23.00 to $311.63</FONT></TD>","<TD NOWRAP ALIGN=CENTER><FONT FACE=\"Times New Roman\" SIZE=-1><BR></FONT></TD>","<TD NOWRAP ALIGN=CENTER><FONT FACE=\"Times New Roman\" SIZE=-1>$14.60 to $35.57</FONT></TD>","</TR>"]
["Town of Berlin",{"$f":"B74","v":22.16},{"$f":"C74","v":9.43},null,{"$f":"MIN(INDIRECT(U74))","v":57.6},{"$f":"IF(G73<>0,\"to\",\"\")","v":"to"},{"$f":"IF(U73<>V73,MAX(INDIRECT(U74)),0)","v":64.34},{"$f":"MIN(INDIRECT(V74))","v":89.19},{"$f":"IF(J73<>0,\"to\",\"\")","v":"to"},{"$f":"IF(U73<>V73,MAX(INDIRECT(V74)),0)","v":95.93},{"$f":"K74","v":0.246},{"$f":"MIN(INDIRECT(W74))","v":21.94},{"$f":"IF(N73<>0,\"to\",\"\")","v":"to"},{"$f":"IF(U73<>V73,MAX(INDIRECT(W74)),0)","v":23.6},null,null,null,null,null,null,{"$f":"CELL(\"row\",P74)","v":74},{"$f":"CELL(\"row\",P75)","v":75},null,null,"<TR VALIGN=BOTTOM BGCOLOR=\"#FFFFCC\">",{"$f":"\"<TH NOWRAP ALIGN=LEFT><FONT FACE=\"\"Times New Roman\"\" SIZE=-1>\"&A73&\"</FONT></TH>\"","v":"<TH NOWRAP ALIGN=LEFT><FONT FACE=\"Times New Roman\" SIZE=-1>Town of Berlin</FONT></TH>"},"<TD NOWRAP ALIGN=RIGHT><FONT FACE=\"Times New Roman\" SIZE=-1>$22.16</FONT></TD>","<TD NOWRAP ALIGN=RIGHT><FONT FACE=\"Times New Roman\" SIZE=-1>$9.43</FONT></TD>","<TD NOWRAP ALIGN=RIGHT><FONT FACE=\"Times New Roman\" SIZE=-1><BR></FONT></TD>","<TD NOWRAP ALIGN=CENTER><FONT FACE=\"Times New Roman\" SIZE=-1>$57.60 to $64.34</FONT></TD>","<TD NOWRAP ALIGN=CENTER><FONT FACE=\"Times New Roman\" SIZE=-1>$89.19 to $95.93</FONT></TD>","<TD NOWRAP ALIGN=CENTER><FONT FACE=\"Times New Roman\" SIZE=-1>0.2460</FONT></TD>","<TD NOWRAP ALIGN=CENTER><FONT FACE=\"Times New Roman\" SIZE=-1>$21.94 to $23.60</FONT></TD>","</TR>"]
["Averill Park CSD",{"$f":"'2011 Base Data'!F74","v":22.16},{"$f":"'2011 Base Data'!G74","v":9.43},null,{"$f":"'2011 Base Data'!I74","v":64.34},null,null,{"$f":"'2011 Base Data'!J74","v":95.93},null,null,{"$f":"'2011 Base Data'!K74","v":0.246},{"$f":"'2011 Base Data'!R74","v":23.6},null,null,{"$f":"ROUND(IF(S74<>0,R74*D74+S74*SUM(B74:C74)+T74*E74,R74*SUM(B74:D74)+T74*E74),2)","v":23.6},{"$f":"L74-O74","v":0},null,{"$f":"'2011 Base Data'!K74","v":0.246},{"$f":"'2011 Base Data'!L74","v":0},{"$f":"'2011 Base Data'!M74","v":0.246},{"$f":"\"E\"&U73&\":\"&\"E\"&V73","v":"E74:E75"},{"$f":"\"H\"&U73&\":\"&\"H\"&V73","v":"H74:H75"},{"$f":"\"L\"&U73&\":\"&\"L\"&V73","v":"L74:L75"},null,"<TR VALIGN=BOTTOM>",{"$f":"\"<TD NOWRAP ALIGN=LEFT><FONT FACE=\"\"Times New Roman\"\" SIZE=-1 COLOR=#00AA00\"\">\"&A74&\"</FONT></TD>\"","v":"<TD NOWRAP ALIGN=LEFT><FONT FACE=\"Times New Roman\" SIZE=-1 COLOR=#00AA00\">Averill Park CSD</FONT></TD>"},"<TD NOWRAP ALIGN=RIGHT><FONT FACE=\"Times New Roman\" SIZE=-1>$22.16</FONT></TD>","<TD NOWRAP ALIGN=RIGHT><FONT FACE=\"Times New Roman\" SIZE=-1>$9.43</FONT></TD>","<TD NOWRAP ALIGN=RIGHT><FONT FACE=\"Times New Roman\" SIZE=-1><BR></FONT></TD>","<TD NOWRAP ALIGN=CENTER><FONT FACE=\"Times New Roman\" SIZE=-1>$64.34</FONT></TD>","<TD NOWRAP ALIGN=CENTER><FONT FACE=\"Times New Roman\" SIZE=-1>$95.93</FONT></TD>","<TD NOWRAP ALIGN=CENTER><FONT FACE=\"Times New Roman\" SIZE=-1>0.2460</FONT></TD>","<TD NOWRAP ALIGN=CENTER><FONT FACE=\"Times New Roman\" SIZE=-1>$23.60</FONT></TD>","</TR>"]
["Berlin CSD",{"$f":"'2011 Base Data'!F75","v":22.16},{"$f":"'2011 Base Data'!G75","v":9.43},null,{"$f":"'2011 Base Data'!I75","v":57.6},null,null,{"$f":"'2011 Base Data'!J75","v":89.19},null,null,{"$f":"'2011 Base Data'!K75","v":0.246},{"$f":"'2011 Base Data'!R75","v":21.94},null,null,{"$f":"ROUND(IF(S75<>0,R75*D75+S75*SUM(B75:C75)+T75*E75,R75*SUM(B75:D75)+T75*E75),2)","v":21.94},{"$f":"L75-O75","v":0},null,{"$f":"'2011 Base Data'!K75","v":0.246},{"$f":"'2011 Base Data'!L75","v":0},{"$f":"'2011 Base Data'!M75","v":0.246},null,null,null,null,"<TR VALIGN=BOTTOM>",{"$f":"\"<TD NOWRAP ALIGN=LEFT><FONT FACE=\"\"Times New Roman\"\" SIZE=-1 COLOR=#00AA00\"\">\"&A75&\"</FONT></TD>\"","v":"<TD NOWRAP ALIGN=LEFT><FONT FACE=\"Times New Roman\" SIZE=-1 COLOR=#00AA00\">Berlin CSD</FONT></TD>"},"<TD NOWRAP ALIGN=RIGHT><FONT FACE=\"Times New Roman\" SIZE=-1>$22.16</FONT></TD>","<TD NOWRAP ALIGN=RIGHT><FONT FACE=\"Times New Roman\" SIZE=-1>$9.43</FONT></TD>","<TD NOWRAP ALIGN=RIGHT><FONT FACE=\"Times New Roman\" SIZE=-1><BR></FONT></TD>","<TD NOWRAP ALIGN=CENTER><FONT FACE=\"Times New Roman\" SIZE=-1>$57.60</FONT></TD>","<TD NOWRAP ALIGN=CENTER><FONT FACE=\"Times New Roman\" SIZE=-1>$89.19</FONT></TD>","<TD NOWRAP ALIGN=CENTER><FONT FACE=\"Times New Roman\" SIZE=-1>0.2460</FONT></TD>","<TD NOWRAP ALIGN=CENTER><FONT FACE=\"Times New Roman\" SIZE=-1>$21.94</FONT></TD>","</TR>"]
["Town of Brunswick",{"$f":"B77","v":21.58},{"$f":"C77","v":7.91},null,{"$f":"MIN(INDIRECT(U77))","v":62.22},{"$f":"IF(G76<>0,\"to\",\"\")","v":"to"},{"$f":"IF(U76<>V76,MAX(INDIRECT(U77)),0)","v":75.510000000000005},{"$f":"MIN(INDIRECT(V77))","v":91.71},{"$f":"IF(J76<>0,\"to\",\"\")","v":"to"},{"$f":"IF(U76<>V76,MAX(INDIRECT(V77)),0)","v":105},{"$f":"K77","v":0.253},{"$f":"MIN(INDIRECT(W77))","v":23.2},{"$f":"IF(N76<>0,\"to\",\"\")","v":"to"},{"$f":"IF(U76<>V76,MAX(INDIRECT(W77)),0)","v":26.56},null,null,null,null,null,null,{"$f":"CELL(\"row\",P77)","v":77},{"$f":"CELL(\"row\",P81)","v":81},null,null,"<TR VALIGN=BOTTOM BGCOLOR=\"#FFFFCC\">",{"$f":"\"<TH NOWRAP ALIGN=LEFT><FONT FACE=\"\"Times New Roman\"\" SIZE=-1>\"&A76&\"</FONT></TH>\"","v":"<TH NOWRAP ALIGN=LEFT><FONT FACE=\"Times New Roman\" SIZE=-1>Town of Brunswick</FONT></TH>"},"<TD NOWRAP ALIGN=RIGHT><FONT FACE=\"Times New Roman\" SIZE=-1>$21.58</FONT></TD>","<TD NOWRAP ALIGN=RIGHT><FONT FACE=\"Times New Roman\" SIZE=-1>$7.91</FONT></TD>","<TD NOWRAP ALIGN=RIGHT><FONT FACE=\"Times New Roman\" SIZE=-1><BR></FONT></TD>","<TD NOWRAP ALIGN=CENTER><FONT FACE=\"Times New Roman\" SIZE=-1>$62.22 to $75.51</FONT></TD>","<TD NOWRAP ALIGN=CENTER><FONT FACE=\"Times New Roman\" SIZE=-1>$91.71 to $105.00</FONT></TD>","<TD NOWRAP ALIGN=CENTER><FONT FACE=\"Times New Roman\" SIZE=-1>0.2530</FONT></TD>","<TD NOWRAP ALIGN=CENTER><FONT FACE=\"Times New Roman\" SIZE=-1>$23.20 to $26.56</FONT></TD>","</TR>"]
["Averill Park CSD",{"$f":"'2011 Base Data'!F77","v":21.58},{"$f":"'2011 Base Data'!G77","v":7.91},null,{"$f":"'2011 Base Data'!I77","v":62.56},null,null,{"$f":"'2011 Base Data'!J77","v":92.05},null,null,{"$f":"'2011 Base Data'!K77","v":0.253},{"$f":"'2011 Base Data'!R77","v":23.29},null,null,{"$f":"ROUND(IF(S77<>0,R77*D77+S77*SUM(B77:C77)+T77*E77,R77*SUM(B77:D77)+T77*E77),2)","v":23.29},{"$f":"L77-O77","v":0},null,{"$f":"'2011 Base Data'!K77","v":0.253},{"$f":"'2011 Base Data'!L77","v":0},{"$f":"'2011 Base Data'!M77","v":0.253},{"$f":"\"E\"&U76&\":\"&\"E\"&V76","v":"E77:E81"},{"$f":"\"H\"&U76&\":\"&\"H\"&V76","v":"H77:H81"},{"$f":"\"L\"&U76&\":\"&\"L\"&V76","v":"L77:L81"},null,"<TR VALIGN=BOTTOM>",{"$f":"\"<TD NOWRAP ALIGN=LEFT><FONT FACE=\"\"Times New Roman\"\" SIZE=-1 COLOR=#00AA00\"\">\"&A77&\"</FONT></TD>\"","v":"<TD NOWRAP ALIGN=LEFT><FONT FACE=\"Times New Roman\" SIZE=-1 COLOR=#00AA00\">Averill Park CSD</FONT></TD>"},"<TD NOWRAP ALIGN=RIGHT><FONT FACE=\"Times New Roman\" SIZE=-1>$21.58</FONT></TD>","<TD NOWRAP ALIGN=RIGHT><FONT FACE=\"Times New Roman\" SIZE=-1>$7.91</FONT></TD>","<TD NOWRAP ALIGN=RIGHT><FONT FACE=\"Times New Roman\" SIZE=-1><BR></FONT></TD>","<TD NOWRAP ALIGN=CENTER><FONT FACE=\"Times New Roman\" SIZE=-1>$62.56</FONT></TD>","<TD NOWRAP ALIGN=CENTER><FONT FACE=\"Times New Roman\" SIZE=-1>$92.05</FONT></TD>","<TD NOWRAP ALIGN=CENTER><FONT FACE=\"Times New Roman\" SIZE=-1>0.2530</FONT></TD>","<TD NOWRAP ALIGN=CENTER><FONT FACE=\"Times New Roman\" SIZE=-1>$23.29</FONT></TD>","</TR>"]
["Brunswick CSD",{"$f":"'2011 Base Data'!F78","v":21.58},{"$f":"'2011 Base Data'!G78","v":7.91},null,{"$f":"'2011 Base Data'!I78","v":66.89},null,null,{"$f":"'2011 Base Data'!J78","v":96.38},null,null,{"$f":"'2011 Base Data'!K78","v":0.253},{"$f":"'2011 Base Data'!R78","v":24.38},null,null,{"$f":"ROUND(IF(S78<>0,R78*D78+S78*SUM(B78:C78)+T78*E78,R78*SUM(B78:D78)+T78*E78),2)","v":24.38},{"$f":"L78-O78","v":0},null,{"$f":"'2011 Base Data'!K78","v":0.253},{"$f":"'2011 Base Data'!L78","v":0},{"$f":"'2011 Base Data'!M78","v":0.253},null,null,null,null,"<TR VALIGN=BOTTOM>",{"$f":"\"<TD NOWRAP ALIGN=LEFT><FONT FACE=\"\"Times New Roman\"\" SIZE=-1 COLOR=#00AA00\"\">\"&A78&\"</FONT></TD>\"","v":"<TD NOWRAP ALIGN=LEFT><FONT FACE=\"Times New Roman\" SIZE=-1 COLOR=#00AA00\">Brunswick CSD</FONT></TD>"},"<TD NOWRAP ALIGN=RIGHT><FONT FACE=\"Times New Roman\" SIZE=-1>$21.58</FONT></TD>","<TD NOWRAP ALIGN=RIGHT><FONT FACE=\"Times New Roman\" SIZE=-1>$7.91</FONT></TD>","<TD NOWRAP ALIGN=RIGHT><FONT FACE=\"Times New Roman\" SIZE=-1><BR></FONT></TD>","<TD NOWRAP ALIGN=CENTER><FONT FACE=\"Times New Roman\" SIZE=-1>$66.89</FONT></TD>","<TD NOWRAP ALIGN=CENTER><FONT FACE=\"Times New Roman\" SIZE=-1>$96.38</FONT></TD>","<TD NOWRAP ALIGN=CENTER><FONT FACE=\"Times New Roman\" SIZE=-1>0.2530</FONT></TD>","<TD NOWRAP ALIGN=CENTER><FONT FACE=\"Times New Roman\" SIZE=-1>$24.38</FONT></TD>","</TR>"]
["Lansingburgh CSD",{"$f":"'2011 Base Data'!F79","v":21.58},{"$f":"'2011 Base Data'!G79","v":7.91},null,{"$f":"'2011 Base Data'!I79","v":62.22},null,null,{"$f":"'2011 Base Data'!J79","v":91.71},null,null,{"$f":"'2011 Base Data'!K79","v":0.253},{"$f":"'2011 Base Data'!R79","v":23.2},null,null,{"$f":"ROUND(IF(S79<>0,R79*D79+S79*SUM(B79:C79)+T79*E79,R79*SUM(B79:D79)+T79*E79),2)","v":23.2},{"$f":"L79-O79","v":0},null,{"$f":"'2011 Base Data'!K79","v":0.253},{"$f":"'2011 Base Data'!L79","v":0},{"$f":"'2011 Base Data'!M79","v":0.253},null,null,null,null,"<TR VALIGN=BOTTOM>",{"$f":"\"<TD NOWRAP ALIGN=LEFT><FONT FACE=\"\"Times New Roman\"\" SIZE=-1 COLOR=#00AA00\"\">\"&A79&\"</FONT></TD>\"","v":"<TD NOWRAP ALIGN=LEFT><FONT FACE=\"Times New Roman\" SIZE=-1 COLOR=#00AA00\">Lansingburgh CSD</FONT></TD>"},"<TD NOWRAP ALIGN=RIGHT><FONT FACE=\"Times New Roman\" SIZE=-1>$21.58</FONT></TD>","<TD NOWRAP ALIGN=RIGHT><FONT FACE=\"Times New Roman\" SIZE=-1>$7.91</FONT></TD>","<TD NOWRAP ALIGN=RIGHT><FONT FACE=\"Times New Roman\" SIZE=-1><BR></FONT></TD>","<TD NOWRAP ALIGN=CENTER><FONT FACE=\"Times New Roman\" SIZE=-1>$62.22</FONT></TD>","<TD NOWRAP ALIGN=CENTER><FONT FACE=\"Times New Roman\" SIZE=-1>$91.71</FONT></TD>","<TD NOWRAP ALIGN=CENTER><FONT FACE=\"Times New Roman\" SIZE=-1>0.2530</FONT></TD>","<TD NOWRAP ALIGN=CENTER><FONT FACE=\"Times New Roman\" SIZE=-1>$23.20</FONT></TD>","</TR>"]
["Troy City SD",{"$f":"'2011 Base Data'!F80","v":21.58},{"$f":"'2011 Base Data'!G80","v":7.91},null,{"$f":"'2011 Base Data'!I80","v":72.459999999999994},null,null,{"$f":"'2011 Base Data'!J80","v":101.95},null,null,{"$f":"'2011 Base Data'!K80","v":0.253},{"$f":"'2011 Base Data'!R80","v":25.79},null,null,{"$f":"ROUND(IF(S80<>0,R80*D80+S80*SUM(B80:C80)+T80*E80,R80*SUM(B80:D80)+T80*E80),2)","v":25.79},{"$f":"L80-O80","v":0},null,{"$f":"'2011 Base Data'!K80","v":0.253},{"$f":"'2011 Base Data'!L80","v":0},{"$f":"'2011 Base Data'!M80","v":0.253},null,null,null,null,"<TR VALIGN=BOTTOM>",{"$f":"\"<TD NOWRAP ALIGN=LEFT><FONT FACE=\"\"Times New Roman\"\" SIZE=-1 COLOR=#00AA00\"\">\"&A80&\"</FONT></TD>\"","v":"<TD NOWRAP ALIGN=LEFT><FONT FACE=\"Times New Roman\" SIZE=-1 COLOR=#00AA00\">Troy City SD</FONT></TD>"},"<TD NOWRAP ALIGN=RIGHT><FONT FACE=\"Times New Roman\" SIZE=-1>$21.58</FONT></TD>","<TD NOWRAP ALIGN=RIGHT><FONT FACE=\"Times New Roman\" SIZE=-1>$7.91</FONT></TD>","<TD NOWRAP ALIGN=RIGHT><FONT FACE=\"Times New Roman\" SIZE=-1><BR></FONT></TD>","<TD NOWRAP ALIGN=CENTER><FONT FACE=\"Times New Roman\" SIZE=-1>$72.46</FONT></TD>","<TD NOWRAP ALIGN=CENTER><FONT FACE=\"Times New Roman\" SIZE=-1>$101.95</FONT></TD>","<TD NOWRAP ALIGN=CENTER><FONT FACE=\"Times New Roman\" SIZE=-1>0.2530</FONT></TD>","<TD NOWRAP ALIGN=CENTER><FONT FACE=\"Times New Roman\" SIZE=-1>$25.79</FONT></TD>","</TR>"]
["Wynantskill UFSD",{"$f":"'2011 Base Data'!F81","v":21.58},{"$f":"'2011 Base Data'!G81","v":7.91},null,{"$f":"'2011 Base Data'!I81","v":75.510000000000005},null,null,{"$f":"'2011 Base Data'!J81","v":105},null,null,{"$f":"'2011 Base Data'!K81","v":0.253},{"$f":"'2011 Base Data'!R81","v":26.56},null,null,{"$f":"ROUND(IF(S81<>0,R81*D81+S81*SUM(B81:C81)+T81*E81,R81*SUM(B81:D81)+T81*E81),2)","v":26.57},{"$f":"L81-O81","v":-1.0000000000001563E-2},null,{"$f":"'2011 Base Data'!K81","v":0.253},{"$f":"'2011 Base Data'!L81","v":0},{"$f":"'2011 Base Data'!M81","v":0.253},null,null,null,null,"<TR VALIGN=BOTTOM>",{"$f":"\"<TD NOWRAP ALIGN=LEFT><FONT FACE=\"\"Times New Roman\"\" SIZE=-1 COLOR=#00AA00\"\">\"&A81&\"</FONT></TD>\"","v":"<TD NOWRAP ALIGN=LEFT><FONT FACE=\"Times New Roman\" SIZE=-1 COLOR=#00AA00\">Wynantskill UFSD</FONT></TD>"},"<TD NOWRAP ALIGN=RIGHT><FONT FACE=\"Times New Roman\" SIZE=-1>$21.58</FONT></TD>","<TD NOWRAP ALIGN=RIGHT><FONT FACE=\"Times New Roman\" SIZE=-1>$7.91</FONT></TD>","<TD NOWRAP ALIGN=RIGHT><FONT FACE=\"Times New Roman\" SIZE=-1><BR></FONT></TD>","<TD NOWRAP ALIGN=CENTER><FONT FACE=\"Times New Roman\" SIZE=-1>$75.51</FONT></TD>","<TD NOWRAP ALIGN=CENTER><FONT FACE=\"Times New Roman\" SIZE=-1>$105.00</FONT></TD>","<TD NOWRAP ALIGN=CENTER><FONT FACE=\"Times New Roman\" SIZE=-1>0.2530</FONT></TD>","<TD NOWRAP ALIGN=CENTER><FONT FACE=\"Times New Roman\" SIZE=-1>$26.56</FONT></TD>","</TR>"]
["Town of East Greenbush",{"$f":"B83","v":5.4},{"$f":"C83","v":4.01},null,{"$f":"MIN(INDIRECT(U83))","v":15.82},{"$f":"IF(G82<>0,\"to\",\"\")","v":"to"},{"$f":"IF(U82<>V82,MAX(INDIRECT(U83)),0)","v":17.68},{"$f":"MIN(INDIRECT(V83))","v":25.23},{"$f":"IF(J82<>0,\"to\",\"\")","v":"to"},{"$f":"IF(U82<>V82,MAX(INDIRECT(V83)),0)","v":27.09},{"$f":"K83","v":1},{"$f":"MIN(INDIRECT(W83))","v":25.23},{"$f":"IF(N82<>0,\"to\",\"\")","v":"to"},{"$f":"IF(U82<>V82,MAX(INDIRECT(W83)),0)","v":27.09},null,null,null,null,null,null,{"$f":"CELL(\"row\",P83)","v":83},{"$f":"CELL(\"row\",P84)","v":84},null,null,"<TR VALIGN=BOTTOM BGCOLOR=\"#FFFFCC\">",{"$f":"\"<TH NOWRAP ALIGN=LEFT><FONT FACE=\"\"Times New Roman\"\" SIZE=-1>\"&A82&\"</FONT></TH>\"","v":"<TH NOWRAP ALIGN=LEFT><FONT FACE=\"Times New Roman\" SIZE=-1>Town of East Greenbush</FONT></TH>"},"<TD NOWRAP ALIGN=RIGHT><FONT FACE=\"Times New Roman\" SIZE=-1>$5.40</FONT></TD>","<TD NOWRAP ALIGN=RIGHT><FONT FACE=\"Times New Roman\" SIZE=-1>$4.01</FONT></TD>","<TD NOWRAP ALIGN=RIGHT><FONT FACE=\"Times New Roman\" SIZE=-1><BR></FONT></TD>","<TD NOWRAP ALIGN=CENTER><FONT FACE=\"Times New Roman\" SIZE=-1>$15.82 to $17.68</FONT></TD>","<TD NOWRAP ALIGN=CENTER><FONT FACE=\"Times New Roman\" SIZE=-1>$25.23 to $27.09</FONT></TD>","<TD NOWRAP ALIGN=CENTER><FONT FACE=\"Times New Roman\" SIZE=-1>1.0000</FONT></TD>","<TD NOWRAP ALIGN=CENTER><FONT FACE=\"Times New Roman\" SIZE=-1>$25.23 to $27.09</FONT></TD>","</TR>"]
["Averill Park CSD",{"$f":"'2011 Base Data'!F83","v":5.4},{"$f":"'2011 Base Data'!G83","v":4.01},null,{"$f":"'2011 Base Data'!I83","v":15.82},null,null,{"$f":"'2011 Base Data'!J83","v":25.23},null,null,{"$f":"'2011 Base Data'!K83","v":1},{"$f":"'2011 Base Data'!R83","v":25.23},null,null,{"$f":"ROUND(IF(S83<>0,R83*D83+S83*SUM(B83:C83)+T83*E83,R83*SUM(B83:D83)+T83*E83),2)","v":25.23},{"$f":"L83-O83","v":0},null,{"$f":"'2011 Base Data'!K83","v":1},{"$f":"'2011 Base Data'!L83","v":0},{"$f":"'2011 Base Data'!M83","v":1},{"$f":"\"E\"&U82&\":\"&\"E\"&V82","v":"E83:E84"},{"$f":"\"H\"&U82&\":\"&\"H\"&V82","v":"H83:H84"},{"$f":"\"L\"&U82&\":\"&\"L\"&V82","v":"L83:L84"},null,"<TR VALIGN=BOTTOM>",{"$f":"\"<TD NOWRAP ALIGN=LEFT><FONT FACE=\"\"Times New Roman\"\" SIZE=-1 COLOR=#00AA00\"\">\"&A83&\"</FONT></TD>\"","v":"<TD NOWRAP ALIGN=LEFT><FONT FACE=\"Times New Roman\" SIZE=-1 COLOR=#00AA00\">Averill Park CSD</FONT></TD>"},"<TD NOWRAP ALIGN=RIGHT><FONT FACE=\"Times New Roman\" SIZE=-1>$5.40</FONT></TD>","<TD NOWRAP ALIGN=RIGHT><FONT FACE=\"Times New Roman\" SIZE=-1>$4.01</FONT></TD>","<TD NOWRAP ALIGN=RIGHT><FONT FACE=\"Times New Roman\" SIZE=-1><BR></FONT></TD>","<TD NOWRAP ALIGN=CENTER><FONT FACE=\"Times New Roman\" SIZE=-1>$15.82</FONT></TD>","<TD NOWRAP ALIGN=CENTER><FONT FACE=\"Times New Roman\" SIZE=-1>$25.23</FONT></TD>","<TD NOWRAP ALIGN=CENTER><FONT FACE=\"Times New Roman\" SIZE=-1>1.0000</FONT></TD>","<TD NOWRAP ALIGN=CENTER><FONT FACE=\"Times New Roman\" SIZE=-1>$25.23</FONT></TD>","</TR>"]
["East Greenbush CSD",{"$f":"'2011 Base Data'!F84","v":5.4},{"$f":"'2011 Base Data'!G84","v":4.01},null,{"$f":"'2011 Base Data'!I84","v":17.68},null,null,{"$f":"'2011 Base Data'!J84","v":27.09},null,null,{"$f":"'2011 Base Data'!K84","v":1},{"$f":"'2011 Base Data'!R84","v":27.09},null,null,{"$f":"ROUND(IF(S84<>0,R84*D84+S84*SUM(B84:C84)+T84*E84,R84*SUM(B84:D84)+T84*E84),2)","v":27.09},{"$f":"L84-O84","v":0},null,{"$f":"'2011 Base Data'!K84","v":1},{"$f":"'2011 Base Data'!L84","v":0},{"$f":"'2011 Base Data'!M84","v":1},null,null,null,null,"<TR VALIGN=BOTTOM>",{"$f":"\"<TD NOWRAP ALIGN=LEFT><FONT FACE=\"\"Times New Roman\"\" SIZE=-1 COLOR=#00AA00\"\">\"&A84&\"</FONT></TD>\"","v":"<TD NOWRAP ALIGN=LEFT><FONT FACE=\"Times New Roman\" SIZE=-1 COLOR=#00AA00\">East Greenbush CSD</FONT></TD>"},"<TD NOWRAP ALIGN=RIGHT><FONT FACE=\"Times New Roman\" SIZE=-1>$5.40</FONT></TD>","<TD NOWRAP ALIGN=RIGHT><FONT FACE=\"Times New Roman\" SIZE=-1>$4.01</FONT></TD>","<TD NOWRAP ALIGN=RIGHT><FONT FACE=\"Times New Roman\" SIZE=-1><BR></FONT></TD>","<TD NOWRAP ALIGN=CENTER><FONT FACE=\"Times New Roman\" SIZE=-1>$17.68</FONT></TD>","<TD NOWRAP ALIGN=CENTER><FONT FACE=\"Times New Roman\" SIZE=-1>$27.09</FONT></TD>","<TD NOWRAP ALIGN=CENTER><FONT FACE=\"Times New Roman\" SIZE=-1>1.0000</FONT></TD>","<TD NOWRAP ALIGN=CENTER><FONT FACE=\"Times New Roman\" SIZE=-1>$27.09</FONT></TD>","</TR>"]
["Town of Grafton",{"$f":"B86","v":65.05},{"$f":"C86","v":40.98},null,{"$f":"MIN(INDIRECT(U86))","v":169.7},{"$f":"IF(G85<>0,\"to\",\"\")","v":"to"},{"$f":"IF(U85<>V85,MAX(INDIRECT(U86)),0)","v":205.6},{"$f":"MIN(INDIRECT(V86))","v":275.73},{"$f":"IF(J85<>0,\"to\",\"\")","v":"to"},{"$f":"IF(U85<>V85,MAX(INDIRECT(V86)),0)","v":311.63},{"$f":"K86","v":8.3500000000000005E-2},{"$f":"MIN(INDIRECT(W86))","v":23.02},{"$f":"IF(N85<>0,\"to\",\"\")","v":"to"},{"$f":"IF(U85<>V85,MAX(INDIRECT(W86)),0)","v":26.02},null,null,null,null,null,null,{"$f":"CELL(\"row\",P86)","v":86},{"$f":"CELL(\"row\",P88)","v":88},null,null,"<TR VALIGN=BOTTOM BGCOLOR=\"#FFFFCC\">",{"$f":"\"<TH NOWRAP ALIGN=LEFT><FONT FACE=\"\"Times New Roman\"\" SIZE=-1>\"&A85&\"</FONT></TH>\"","v":"<TH NOWRAP ALIGN=LEFT><FONT FACE=\"Times New Roman\" SIZE=-1>Town of Grafton</FONT></TH>"},"<TD NOWRAP ALIGN=RIGHT><FONT FACE=\"Times New Roman\" SIZE=-1>$65.05</FONT></TD>","<TD NOWRAP ALIGN=RIGHT><FONT FACE=\"Times New Roman\" SIZE=-1>$40.98</FONT></TD>","<TD NOWRAP ALIGN=RIGHT><FONT FACE=\"Times New Roman\" SIZE=-1><BR></FONT></TD>","<TD NOWRAP ALIGN=CENTER><FONT FACE=\"Times New Roman\" SIZE=-1>$169.70 to $205.60</FONT></TD>","<TD NOWRAP ALIGN=CENTER><FONT FACE=\"Times New Roman\" SIZE=-1>$275.73 to $311.63</FONT></TD>","<TD NOWRAP ALIGN=CENTER><FONT FACE=\"Times New Roman\" SIZE=-1>0.0835</FONT></TD>","<TD NOWRAP ALIGN=CENTER><FONT FACE=\"Times New Roman\" SIZE=-1>$23.02 to $26.02</FONT></TD>","</TR>"]
["Berlin CSD",{"$f":"'2011 Base Data'!F86","v":65.05},{"$f":"'2011 Base Data'!G86","v":40.98},null,{"$f":"'2011 Base Data'!I86","v":169.7},null,null,{"$f":"'2011 Base Data'!J86","v":275.73},null,null,{"$f":"'2011 Base Data'!K86","v":8.3500000000000005E-2},{"$f":"'2011 Base Data'!R86","v":23.02},null,null,{"$f":"ROUND(IF(S86<>0,R86*D86+S86*SUM(B86:C86)+T86*E86,R86*SUM(B86:D86)+T86*E86),2)","v":23.02},{"$f":"L86-O86","v":0},null,{"$f":"'2011 Base Data'!K86","v":8.3500000000000005E-2},{"$f":"'2011 Base Data'!L86","v":0},{"$f":"'2011 Base Data'!M86","v":8.3500000000000005E-2},{"$f":"\"E\"&U85&\":\"&\"E\"&V85","v":"E86:E88"},{"$f":"\"H\"&U85&\":\"&\"H\"&V85","v":"H86:H88"},{"$f":"\"L\"&U85&\":\"&\"L\"&V85","v":"L86:L88"},null,"<TR VALIGN=BOTTOM>",{"$f":"\"<TD NOWRAP ALIGN=LEFT><FONT FACE=\"\"Times New Roman\"\" SIZE=-1 COLOR=#00AA00\"\">\"&A86&\"</FONT></TD>\"","v":"<TD NOWRAP ALIGN=LEFT><FONT FACE=\"Times New Roman\" SIZE=-1 COLOR=#00AA00\">Berlin CSD</FONT></TD>"},"<TD NOWRAP ALIGN=RIGHT><FONT FACE=\"Times New Roman\" SIZE=-1>$65.05</FONT></TD>","<TD NOWRAP ALIGN=RIGHT><FONT FACE=\"Times New Roman\" SIZE=-1>$40.98</FONT></TD>","<TD NOWRAP ALIGN=RIGHT><FONT FACE=\"Times New Roman\" SIZE=-1><BR></FONT></TD>","<TD NOWRAP ALIGN=CENTER><FONT FACE=\"Times New Roman\" SIZE=-1>$169.70</FONT></TD>","<TD NOWRAP ALIGN=CENTER><FONT FACE=\"Times New Roman\" SIZE=-1>$275.73</FONT></TD>","<TD NOWRAP ALIGN=CENTER><FONT FACE=\"Times New Roman\" SIZE=-1>0.0835</FONT></TD>","<TD NOWRAP ALIGN=CENTER><FONT FACE=\"Times New Roman\" SIZE=-1>$23.02</FONT></TD>","</TR>"]
["Brunswick CSD",{"$f":"'2011 Base Data'!F87","v":65.05},{"$f":"'2011 Base Data'!G87","v":40.98},null,{"$f":"'2011 Base Data'!I87","v":202.68},null,null,{"$f":"'2011 Base Data'!J87","v":308.70999999999998},null,null,{"$f":"'2011 Base Data'!K87","v":8.3500000000000005E-2},{"$f":"'2011 Base Data'!R87","v":25.77},null,null,{"$f":"ROUND(IF(S87<>0,R87*D87+S87*SUM(B87:C87)+T87*E87,R87*SUM(B87:D87)+T87*E87),2)","v":25.78},{"$f":"L87-O87","v":-1.0000000000001563E-2},null,{"$f":"'2011 Base Data'!K87","v":8.3500000000000005E-2},{"$f":"'2011 Base Data'!L87","v":0},{"$f":"'2011 Base Data'!M87","v":8.3500000000000005E-2},null,null,null,null,"<TR VALIGN=BOTTOM>",{"$f":"\"<TD NOWRAP ALIGN=LEFT><FONT FACE=\"\"Times New Roman\"\" SIZE=-1 COLOR=#00AA00\"\">\"&A87&\"</FONT></TD>\"","v":"<TD NOWRAP ALIGN=LEFT><FONT FACE=\"Times New Roman\" SIZE=-1 COLOR=#00AA00\">Brunswick CSD</FONT></TD>"},"<TD NOWRAP ALIGN=RIGHT><FONT FACE=\"Times New Roman\" SIZE=-1>$65.05</FONT></TD>","<TD NOWRAP ALIGN=RIGHT><FONT FACE=\"Times New Roman\" SIZE=-1>$40.98</FONT></TD>","<TD NOWRAP ALIGN=RIGHT><FONT FACE=\"Times New Roman\" SIZE=-1><BR></FONT></TD>","<TD NOWRAP ALIGN=CENTER><FONT FACE=\"Times New Roman\" SIZE=-1>$202.68</FONT></TD>","<TD NOWRAP ALIGN=CENTER><FONT FACE=\"Times New Roman\" SIZE=-1>$308.71</FONT></TD>","<TD NOWRAP ALIGN=CENTER><FONT FACE=\"Times New Roman\" SIZE=-1>0.0835</FONT></TD>","<TD NOWRAP ALIGN=CENTER><FONT FACE=\"Times New Roman\" SIZE=-1>$25.77</FONT></TD>","</TR>"]
["Hoosick Falls CSD",{"$f":"'2011 Base Data'!F88","v":65.05},{"$f":"'2011 Base Data'!G88","v":40.98},null,{"$f":"'2011 Base Data'!I88","v":205.6},null,null,{"$f":"'2011 Base Data'!J88","v":311.63},null,null,{"$f":"'2011 Base Data'!K88","v":8.3500000000000005E-2},{"$f":"'2011 Base Data'!R88","v":26.02},null,null,{"$f":"ROUND(IF(S88<>0,R88*D88+S88*SUM(B88:C88)+T88*E88,R88*SUM(B88:D88)+T88*E88),2)","v":26.02},{"$f":"L88-O88","v":0},null,{"$f":"'2011 Base Data'!K88","v":8.3500000000000005E-2},{"$f":"'2011 Base Data'!L88","v":0},{"$f":"'2011 Base Data'!M88","v":8.3500000000000005E-2},null,null,null,null,"<TR VALIGN=BOTTOM>",{"$f":"\"<TD NOWRAP ALIGN=LEFT><FONT FACE=\"\"Times New Roman\"\" SIZE=-1 COLOR=#00AA00\"\">\"&A88&\"</FONT></TD>\"","v":"<TD NOWRAP ALIGN=LEFT><FONT FACE=\"Times New Roman\" SIZE=-1 COLOR=#00AA00\">Hoosick Falls CSD</FONT></TD>"},"<TD NOWRAP ALIGN=RIGHT><FONT FACE=\"Times New Roman\" SIZE=-1>$65.05</FONT></TD>","<TD NOWRAP ALIGN=RIGHT><FONT FACE=\"Times New Roman\" SIZE=-1>$40.98</FONT></TD>","<TD NOWRAP ALIGN=RIGHT><FONT FACE=\"Times New Roman\" SIZE=-1><BR></FONT></TD>","<TD NOWRAP ALIGN=CENTER><FONT FACE=\"Times New Roman\" SIZE=-1>$205.60</FONT></TD>","<TD NOWRAP ALIGN=CENTER><FONT FACE=\"Times New Roman\" SIZE=-1>$311.63</FONT></TD>","<TD NOWRAP ALIGN=CENTER><FONT FACE=\"Times New Roman\" SIZE=-1>0.0835</FONT></TD>","<TD NOWRAP ALIGN=CENTER><FONT FACE=\"Times New Roman\" SIZE=-1>$26.02</FONT></TD>","</TR>"]
["Town of Hoosick",{"$f":"B90","v":20.69},{"$f":"C90","v":11.56},null,{"$f":"MIN(INDIRECT(U90))","v":46.18},{"$f":"IF(G89<>0,\"to\",\"\")","v":"to"},{"$f":"IF(U89<>V89,MAX(INDIRECT(U90)),0)","v":62.36},{"$f":"MIN(INDIRECT(V90))","v":78.430000000000007},{"$f":"IF(J89<>0,\"to\",\"\")","v":"to"},{"$f":"IF(U89<>V89,MAX(INDIRECT(V90)),0)","v":94.61},{"$f":"K90","v":0.27500000000000002},{"$f":"MIN(INDIRECT(W90))","v":21.57},{"$f":"IF(N89<>0,\"to\",\"\")","v":"to"},{"$f":"IF(U89<>V89,MAX(INDIRECT(W90)),0)","v":26.02},null,null,null,null,null,null,{"$f":"CELL(\"row\",P90)","v":90},{"$f":"CELL(\"row\",P91)","v":91},null,null,"<TR VALIGN=BOTTOM BGCOLOR=\"#FFFFCC\">",{"$f":"\"<TH NOWRAP ALIGN=LEFT><FONT FACE=\"\"Times New Roman\"\" SIZE=-1>\"&A89&\"</FONT></TH>\"","v":"<TH NOWRAP ALIGN=LEFT><FONT FACE=\"Times New Roman\" SIZE=-1>Town of Hoosick</FONT></TH>"},"<TD NOWRAP ALIGN=RIGHT><FONT FACE=\"Times New Roman\" SIZE=-1>$20.69</FONT></TD>","<TD NOWRAP ALIGN=RIGHT><FONT FACE=\"Times New Roman\" SIZE=-1>$11.56</FONT></TD>","<TD NOWRAP ALIGN=RIGHT><FONT FACE=\"Times New Roman\" SIZE=-1><BR></FONT></TD>","<TD NOWRAP ALIGN=CENTER><FONT FACE=\"Times New Roman\" SIZE=-1>$46.18 to $62.36</FONT></TD>","<TD NOWRAP ALIGN=CENTER><FONT FACE=\"Times New Roman\" SIZE=-1>$78.43 to $94.61</FONT></TD>","<TD NOWRAP ALIGN=CENTER><FONT FACE=\"Times New Roman\" SIZE=-1>0.2750</FONT></TD>","<TD NOWRAP ALIGN=CENTER><FONT FACE=\"Times New Roman\" SIZE=-1>$21.57 to $26.02</FONT></TD>","</TR>"]
["Cambridge CSD",{"$f":"'2011 Base Data'!F90","v":20.69},{"$f":"'2011 Base Data'!G90","v":11.56},null,{"$f":"'2011 Base Data'!I90","v":46.18},null,null,{"$f":"'2011 Base Data'!J90","v":78.430000000000007},null,null,{"$f":"'2011 Base Data'!K90","v":0.27500000000000002},{"$f":"'2011 Base Data'!R90","v":21.57},null,null,{"$f":"ROUND(IF(S90<>0,R90*D90+S90*SUM(B90:C90)+T90*E90,R90*SUM(B90:D90)+T90*E90),2)","v":21.57},{"$f":"L90-O90","v":0},null,{"$f":"'2011 Base Data'!K90","v":0.27500000000000002},{"$f":"'2011 Base Data'!L90","v":0},{"$f":"'2011 Base Data'!M90","v":0.27500000000000002},{"$f":"\"E\"&U89&\":\"&\"E\"&V89","v":"E90:E91"},{"$f":"\"H\"&U89&\":\"&\"H\"&V89","v":"H90:H91"},{"$f":"\"L\"&U89&\":\"&\"L\"&V89","v":"L90:L91"},null,"<TR VALIGN=BOTTOM>",{"$f":"\"<TD NOWRAP ALIGN=LEFT><FONT FACE=\"\"Times New Roman\"\" SIZE=-1 COLOR=#00AA00\"\">\"&A90&\"</FONT></TD>\"","v":"<TD NOWRAP ALIGN=LEFT><FONT FACE=\"Times New Roman\" SIZE=-1 COLOR=#00AA00\">Cambridge CSD</FONT></TD>"},"<TD NOWRAP ALIGN=RIGHT><FONT FACE=\"Times New Roman\" SIZE=-1>$20.69</FONT></TD>","<TD NOWRAP ALIGN=RIGHT><FONT FACE=\"Times New Roman\" SIZE=-1>$11.56</FONT></TD>","<TD NOWRAP ALIGN=RIGHT><FONT FACE=\"Times New Roman\" SIZE=-1><BR></FONT></TD>","<TD NOWRAP ALIGN=CENTER><FONT FACE=\"Times New Roman\" SIZE=-1>$46.18</FONT></TD>","<TD NOWRAP ALIGN=CENTER><FONT FACE=\"Times New Roman\" SIZE=-1>$78.43</FONT></TD>","<TD NOWRAP ALIGN=CENTER><FONT FACE=\"Times New Roman\" SIZE=-1>0.2750</FONT></TD>","<TD NOWRAP ALIGN=CENTER><FONT FACE=\"Times New Roman\" SIZE=-1>$21.57</FONT></TD>","</TR>"]
["Hoosick Falls CSD",{"$f":"'2011 Base Data'!F91","v":20.69},{"$f":"'2011 Base Data'!G91","v":11.56},null,{"$f":"'2011 Base Data'!I91","v":62.36},null,null,{"$f":"'2011 Base Data'!J91","v":94.61},null,null,{"$f":"'2011 Base Data'!K91","v":0.27500000000000002},{"$f":"'2011 Base Data'!R91","v":26.02},null,null,{"$f":"ROUND(IF(S91<>0,R91*D91+S91*SUM(B91:C91)+T91*E91,R91*SUM(B91:D91)+T91*E91),2)","v":26.02},{"$f":"L91-O91","v":0},null,{"$f":"'2011 Base Data'!K91","v":0.27500000000000002},{"$f":"'2011 Base Data'!L91","v":0},{"$f":"'2011 Base Data'!M91","v":0.27500000000000002},null,null,null,null,"<TR VALIGN=BOTTOM>",{"$f":"\"<TD NOWRAP ALIGN=LEFT><FONT FACE=\"\"Times New Roman\"\" SIZE=-1 COLOR=#00AA00\"\">\"&A91&\"</FONT></TD>\"","v":"<TD NOWRAP ALIGN=LEFT><FONT FACE=\"Times New Roman\" SIZE=-1 COLOR=#00AA00\">Hoosick Falls CSD</FONT></TD>"},"<TD NOWRAP ALIGN=RIGHT><FONT FACE=\"Times New Roman\" SIZE=-1>$20.69</FONT></TD>","<TD NOWRAP ALIGN=RIGHT><FONT FACE=\"Times New Roman\" SIZE=-1>$11.56</FONT></TD>","<TD NOWRAP ALIGN=RIGHT><FONT FACE=\"Times New Roman\" SIZE=-1><BR></FONT></TD>","<TD NOWRAP ALIGN=CENTER><FONT FACE=\"Times New Roman\" SIZE=-1>$62.36</FONT></TD>","<TD NOWRAP ALIGN=CENTER><FONT FACE=\"Times New Roman\" SIZE=-1>$94.61</FONT></TD>","<TD NOWRAP ALIGN=CENTER><FONT FACE=\"Times New Roman\" SIZE=-1>0.2750</FONT></TD>","<TD NOWRAP ALIGN=CENTER><FONT FACE=\"Times New Roman\" SIZE=-1>$26.02</FONT></TD>","</TR>"]
["Village of Hoosick Falls",{"$f":"B93","v":20.69},{"$f":"C93","v":8.41},{"$f":"D93","v":56.92},{"$f":"MIN(INDIRECT(U93))","v":62.36},{"$f":"IF(G92<>0,\"to\",\"\")","v":""},{"$f":"IF(U92<>V92,MAX(INDIRECT(U93)),0)","v":0},{"$f":"MIN(INDIRECT(V93))","v":148.38},{"$f":"IF(J92<>0,\"to\",\"\")","v":""},{"$f":"IF(U92<>V92,MAX(INDIRECT(V93)),0)","v":0},{"$f":"K93","v":0.12970000000000001},{"$f":"MIN(INDIRECT(W93))","v":32.53},{"$f":"IF(N92<>0,\"to\",\"\")","v":""},{"$f":"IF(U92<>V92,MAX(INDIRECT(W93)),0)","v":0},null,null,null,null,null,null,{"$f":"CELL(\"row\",P93)","v":93},{"$f":"CELL(\"row\",P93)","v":93},null,null,"<TR VALIGN=BOTTOM BGCOLOR=\"#FFFFCC\">",{"$f":"\"<TH NOWRAP ALIGN=LEFT><FONT FACE=\"\"Times New Roman\"\" SIZE=-1 COLOR=\"\"#0000CC\"\">\"&A92&\"</FONT></TH>\"","v":"<TH NOWRAP ALIGN=LEFT><FONT FACE=\"Times New Roman\" SIZE=-1 COLOR=\"#0000CC\">Village of Hoosick Falls</FONT></TH>"},"<TD NOWRAP ALIGN=RIGHT><FONT FACE=\"Times New Roman\" SIZE=-1>$20.69</FONT></TD>","<TD NOWRAP ALIGN=RIGHT><FONT FACE=\"Times New Roman\" SIZE=-1>$8.41</FONT></TD>","<TD NOWRAP ALIGN=RIGHT><FONT FACE=\"Times New Roman\" SIZE=-1>$56.92</FONT></TD>","<TD NOWRAP ALIGN=CENTER><FONT FACE=\"Times New Roman\" SIZE=-1>$62.36</FONT></TD>","<TD NOWRAP ALIGN=CENTER><FONT FACE=\"Times New Roman\" SIZE=-1>$148.38</FONT></TD>","<TD NOWRAP ALIGN=CENTER><FONT FACE=\"Times New Roman\" SIZE=-1>0.1297</FONT></TD>","<TD NOWRAP ALIGN=CENTER><FONT FACE=\"Times New Roman\" SIZE=-1>$32.53</FONT></TD>","</TR>"]
["Hoosick Falls CSD",{"$f":"'2011 Base Data'!F93","v":20.69},{"$f":"'2011 Base Data'!G93","v":8.41},{"$f":"'2011 Base Data'!H93","v":56.92},{"$f":"'2011 Base Data'!I93","v":62.36},null,null,{"$f":"'2011 Base Data'!J93","v":148.38},null,null,{"$f":"'2011 Base Data'!K93","v":0.12970000000000001},{"$f":"'2011 Base Data'!R93","v":32.53},null,null,{"$f":"ROUND(IF(S93<>0,R93*D93+S93*SUM(B93:C93)+T93*E93,R93*SUM(B93:D93)+T93*E93),2)","v":32.53},{"$f":"L93-O93","v":0},null,{"$f":"'2011 Base Data'!K93","v":0.12970000000000001},{"$f":"'2011 Base Data'!L93","v":0.27500000000000002},{"$f":"'2011 Base Data'!M93","v":0.27500000000000002},{"$f":"\"E\"&U92&\":\"&\"E\"&V92","v":"E93:E93"},{"$f":"\"H\"&U92&\":\"&\"H\"&V92","v":"H93:H93"},{"$f":"\"L\"&U92&\":\"&\"L\"&V92","v":"L93:L93"},null,"<TR VALIGN=BOTTOM>",{"$f":"\"<TD NOWRAP ALIGN=LEFT><FONT FACE=\"\"Times New Roman\"\" SIZE=-1 COLOR=#00AA00\"\">\"&A93&\"</FONT></TD>\"","v":"<TD NOWRAP ALIGN=LEFT><FONT FACE=\"Times New Roman\" SIZE=-1 COLOR=#00AA00\">Hoosick Falls CSD</FONT></TD>"},"<TD NOWRAP ALIGN=RIGHT><FONT FACE=\"Times New Roman\" SIZE=-1>$20.69</FONT></TD>","<TD NOWRAP ALIGN=RIGHT><FONT FACE=\"Times New Roman\" SIZE=-1>$8.41</FONT></TD>","<TD NOWRAP ALIGN=RIGHT><FONT FACE=\"Times New Roman\" SIZE=-1>$56.92</FONT></TD>","<TD NOWRAP ALIGN=CENTER><FONT FACE=\"Times New Roman\" SIZE=-1>$62.36</FONT></TD>","<TD NOWRAP ALIGN=CENTER><FONT FACE=\"Times New Roman\" SIZE=-1>$148.38</FONT></TD>","<TD NOWRAP ALIGN=CENTER><FONT FACE=\"Times New Roman\" SIZE=-1>0.1297</FONT></TD>","<TD NOWRAP ALIGN=CENTER><FONT FACE=\"Times New Roman\" SIZE=-1>$32.53</FONT></TD>","</TR>"]
["Town of Nassau",{"$f":"B95","v":7.77},{"$f":"C95","v":4.07},null,{"$f":"MIN(INDIRECT(U95))","v":16.96},{"$f":"IF(G94<>0,\"to\",\"\")","v":"to"},{"$f":"IF(U94<>V94,MAX(INDIRECT(U95)),0)","v":24.76},{"$f":"MIN(INDIRECT(V95))","v":28.8},{"$f":"IF(J94<>0,\"to\",\"\")","v":"to"},{"$f":"IF(U94<>V94,MAX(INDIRECT(V95)),0)","v":36.6},{"$f":"K95","v":0.7},{"$f":"MIN(INDIRECT(W95))","v":20.16},{"$f":"IF(N94<>0,\"to\",\"\")","v":"to"},{"$f":"IF(U94<>V94,MAX(INDIRECT(W95)),0)","v":25.62},null,null,null,null,null,null,{"$f":"CELL(\"row\",P95)","v":95},{"$f":"CELL(\"row\",P98)","v":98},null,null,"<TR VALIGN=BOTTOM BGCOLOR=\"#FFFFCC\">",{"$f":"\"<TH NOWRAP ALIGN=LEFT><FONT FACE=\"\"Times New Roman\"\" SIZE=-1>\"&A94&\"</FONT></TH>\"","v":"<TH NOWRAP ALIGN=LEFT><FONT FACE=\"Times New Roman\" SIZE=-1>Town of Nassau</FONT></TH>"},"<TD NOWRAP ALIGN=RIGHT><FONT FACE=\"Times New Roman\" SIZE=-1>$7.77</FONT></TD>","<TD NOWRAP ALIGN=RIGHT><FONT FACE=\"Times New Roman\" SIZE=-1>$4.07</FONT></TD>","<TD NOWRAP ALIGN=RIGHT><FONT FACE=\"Times New Roman\" SIZE=-1><BR></FONT></TD>","<TD NOWRAP ALIGN=CENTER><FONT FACE=\"Times New Roman\" SIZE=-1>$16.96 to $24.76</FONT></TD>","<TD NOWRAP ALIGN=CENTER><FONT FACE=\"Times New Roman\" SIZE=-1>$28.80 to $36.60</FONT></TD>","<TD NOWRAP ALIGN=CENTER><FONT FACE=\"Times New Roman\" SIZE=-1>0.7000</FONT></TD>","<TD NOWRAP ALIGN=CENTER><FONT FACE=\"Times New Roman\" SIZE=-1>$20.16 to $25.62</FONT></TD>","</TR>"]
["Averill Park CSD",{"$f":"'2011 Base Data'!F95","v":7.77},{"$f":"'2011 Base Data'!G95","v":4.07},null,{"$f":"'2011 Base Data'!I95","v":22.61},null,null,{"$f":"'2011 Base Data'!J95","v":34.450000000000003},null,null,{"$f":"'2011 Base Data'!K95","v":0.7},{"$f":"'2011 Base Data'!R95","v":24.12},null,null,{"$f":"ROUND(IF(S95<>0,R95*D95+S95*SUM(B95:C95)+T95*E95,R95*SUM(B95:D95)+T95*E95),2)","v":24.12},{"$f":"L95-O95","v":0},null,{"$f":"'2011 Base Data'!K95","v":0.7},{"$f":"'2011 Base Data'!L95","v":0},{"$f":"'2011 Base Data'!M95","v":0.7},{"$f":"\"E\"&U94&\":\"&\"E\"&V94","v":"E95:E98"},{"$f":"\"H\"&U94&\":\"&\"H\"&V94","v":"H95:H98"},{"$f":"\"L\"&U94&\":\"&\"L\"&V94","v":"L95:L98"},null,"<TR VALIGN=BOTTOM>",{"$f":"\"<TD NOWRAP ALIGN=LEFT><FONT FACE=\"\"Times New Roman\"\" SIZE=-1 COLOR=#00AA00\"\">\"&A95&\"</FONT></TD>\"","v":"<TD NOWRAP ALIGN=LEFT><FONT FACE=\"Times New Roman\" SIZE=-1 COLOR=#00AA00\">Averill Park CSD</FONT></TD>"},"<TD NOWRAP ALIGN=RIGHT><FONT FACE=\"Times New Roman\" SIZE=-1>$7.77</FONT></TD>","<TD NOWRAP ALIGN=RIGHT><FONT FACE=\"Times New Roman\" SIZE=-1>$4.07</FONT></TD>","<TD NOWRAP ALIGN=RIGHT><FONT FACE=\"Times New Roman\" SIZE=-1><BR></FONT></TD>","<TD NOWRAP ALIGN=CENTER><FONT FACE=\"Times New Roman\" SIZE=-1>$22.61</FONT></TD>","<TD NOWRAP ALIGN=CENTER><FONT FACE=\"Times New Roman\" SIZE=-1>$34.45</FONT></TD>","<TD NOWRAP ALIGN=CENTER><FONT FACE=\"Times New Roman\" SIZE=-1>0.7000</FONT></TD>","<TD NOWRAP ALIGN=CENTER><FONT FACE=\"Times New Roman\" SIZE=-1>$24.12</FONT></TD>","</TR>"]
["East Greenbush CSD",{"$f":"'2011 Base Data'!F96","v":7.77},{"$f":"'2011 Base Data'!G96","v":4.07},null,{"$f":"'2011 Base Data'!I96","v":24.76},null,null,{"$f":"'2011 Base Data'!J96","v":36.6},null,null,{"$f":"'2011 Base Data'!K96","v":0.7},{"$f":"'2011 Base Data'!R96","v":25.62},null,null,{"$f":"ROUND(IF(S96<>0,R96*D96+S96*SUM(B96:C96)+T96*E96,R96*SUM(B96:D96)+T96*E96),2)","v":25.62},{"$f":"L96-O96","v":0},null,{"$f":"'2011 Base Data'!K96","v":0.7},{"$f":"'2011 Base Data'!L96","v":0},{"$f":"'2011 Base Data'!M96","v":0.7},null,null,null,null,"<TR VALIGN=BOTTOM>",{"$f":"\"<TD NOWRAP ALIGN=LEFT><FONT FACE=\"\"Times New Roman\"\" SIZE=-1 COLOR=#00AA00\"\">\"&A96&\"</FONT></TD>\"","v":"<TD NOWRAP ALIGN=LEFT><FONT FACE=\"Times New Roman\" SIZE=-1 COLOR=#00AA00\">East Greenbush CSD</FONT></TD>"},"<TD NOWRAP ALIGN=RIGHT><FONT FACE=\"Times New Roman\" SIZE=-1>$7.77</FONT></TD>","<TD NOWRAP ALIGN=RIGHT><FONT FACE=\"Times New Roman\" SIZE=-1>$4.07</FONT></TD>","<TD NOWRAP ALIGN=RIGHT><FONT FACE=\"Times New Roman\" SIZE=-1><BR></FONT></TD>","<TD NOWRAP ALIGN=CENTER><FONT FACE=\"Times New Roman\" SIZE=-1>$24.76</FONT></TD>","<TD NOWRAP ALIGN=CENTER><FONT FACE=\"Times New Roman\" SIZE=-1>$36.60</FONT></TD>","<TD NOWRAP ALIGN=CENTER><FONT FACE=\"Times New Roman\" SIZE=-1>0.7000</FONT></TD>","<TD NOWRAP ALIGN=CENTER><FONT FACE=\"Times New Roman\" SIZE=-1>$25.62</FONT></TD>","</TR>"]
["Kinderhook CSD",{"$f":"'2011 Base Data'!F97","v":7.77},{"$f":"'2011 Base Data'!G97","v":4.07},null,{"$f":"'2011 Base Data'!I97","v":19.5},null,null,{"$f":"'2011 Base Data'!J97","v":31.34},null,null,{"$f":"'2011 Base Data'!K97","v":0.7},{"$f":"'2011 Base Data'!R97","v":21.94},null,null,{"$f":"ROUND(IF(S97<>0,R97*D97+S97*SUM(B97:C97)+T97*E97,R97*SUM(B97:D97)+T97*E97),2)","v":21.94},{"$f":"L97-O97","v":0},null,{"$f":"'2011 Base Data'!K97","v":0.7},{"$f":"'2011 Base Data'!L97","v":0},{"$f":"'2011 Base Data'!M97","v":0.7},null,null,null,null,"<TR VALIGN=BOTTOM>",{"$f":"\"<TD NOWRAP ALIGN=LEFT><FONT FACE=\"\"Times New Roman\"\" SIZE=-1 COLOR=#00AA00\"\">\"&A97&\"</FONT></TD>\"","v":"<TD NOWRAP ALIGN=LEFT><FONT FACE=\"Times New Roman\" SIZE=-1 COLOR=#00AA00\">Kinderhook CSD</FONT></TD>"},"<TD NOWRAP ALIGN=RIGHT><FONT FACE=\"Times New Roman\" SIZE=-1>$7.77</FONT></TD>","<TD NOWRAP ALIGN=RIGHT><FONT FACE=\"Times New Roman\" SIZE=-1>$4.07</FONT></TD>","<TD NOWRAP ALIGN=RIGHT><FONT FACE=\"Times New Roman\" SIZE=-1><BR></FONT></TD>","<TD NOWRAP ALIGN=CENTER><FONT FACE=\"Times New Roman\" SIZE=-1>$19.50</FONT></TD>","<TD NOWRAP ALIGN=CENTER><FONT FACE=\"Times New Roman\" SIZE=-1>$31.34</FONT></TD>","<TD NOWRAP ALIGN=CENTER><FONT FACE=\"Times New Roman\" SIZE=-1>0.7000</FONT></TD>","<TD NOWRAP ALIGN=CENTER><FONT FACE=\"Times New Roman\" SIZE=-1>$21.94</FONT></TD>","</TR>"]
["New Lebanon CSD",{"$f":"'2011 Base Data'!F98","v":7.77},{"$f":"'2011 Base Data'!G98","v":4.07},null,{"$f":"'2011 Base Data'!I98","v":16.96},null,null,{"$f":"'2011 Base Data'!J98","v":28.8},null,null,{"$f":"'2011 Base Data'!K98","v":0.7},{"$f":"'2011 Base Data'!R98","v":20.16},null,null,{"$f":"ROUND(IF(S98<>0,R98*D98+S98*SUM(B98:C98)+T98*E98,R98*SUM(B98:D98)+T98*E98),2)","v":20.16},{"$f":"L98-O98","v":0},null,{"$f":"'2011 Base Data'!K98","v":0.7},{"$f":"'2011 Base Data'!L98","v":0},{"$f":"'2011 Base Data'!M98","v":0.7},null,null,null,null,"<TR VALIGN=BOTTOM>",{"$f":"\"<TD NOWRAP ALIGN=LEFT><FONT FACE=\"\"Times New Roman\"\" SIZE=-1 COLOR=#00AA00\"\">\"&A98&\"</FONT></TD>\"","v":"<TD NOWRAP ALIGN=LEFT><FONT FACE=\"Times New Roman\" SIZE=-1 COLOR=#00AA00\">New Lebanon CSD</FONT></TD>"},"<TD NOWRAP ALIGN=RIGHT><FONT FACE=\"Times New Roman\" SIZE=-1>$7.77</FONT></TD>","<TD NOWRAP ALIGN=RIGHT><FONT FACE=\"Times New Roman\" SIZE=-1>$4.07</FONT></TD>","<TD NOWRAP ALIGN=RIGHT><FONT FACE=\"Times New Roman\" SIZE=-1><BR></FONT></TD>","<TD NOWRAP ALIGN=CENTER><FONT FACE=\"Times New Roman\" SIZE=-1>$16.96</FONT></TD>","<TD NOWRAP ALIGN=CENTER><FONT FACE=\"Times New Roman\" SIZE=-1>$28.80</FONT></TD>","<TD NOWRAP ALIGN=CENTER><FONT FACE=\"Times New Roman\" SIZE=-1>0.7000</FONT></TD>","<TD NOWRAP ALIGN=CENTER><FONT FACE=\"Times New Roman\" SIZE=-1>$20.16</FONT></TD>","</TR>"]
["Village of East Nassau",{"$f":"B100","v":7.77},{"$f":"C100","v":1.01},{"$f":"D100","v":1.78},{"$f":"MIN(INDIRECT(U100))","v":16.96},{"$f":"IF(G99<>0,\"to\",\"\")","v":"to"},{"$f":"IF(U99<>V99,MAX(INDIRECT(U100)),0)","v":24.76},{"$f":"MIN(INDIRECT(V100))","v":27.52},{"$f":"IF(J99<>0,\"to\",\"\")","v":"to"},{"$f":"IF(U99<>V99,MAX(INDIRECT(V100)),0)","v":35.32},{"$f":"K100","v":0.69499999999999995},{"$f":"MIN(INDIRECT(W100))","v":19.260000000000002},{"$f":"IF(N99<>0,\"to\",\"\")","v":"to"},{"$f":"IF(U99<>V99,MAX(INDIRECT(W100)),0)","v":24.72},null,null,null,null,null,null,{"$f":"CELL(\"row\",P100)","v":100},{"$f":"CELL(\"row\",P102)","v":102},null,null,"<TR VALIGN=BOTTOM BGCOLOR=\"#FFFFCC\">",{"$f":"\"<TH NOWRAP ALIGN=LEFT><FONT FACE=\"\"Times New Roman\"\" SIZE=-1 COLOR=\"\"#0000CC\"\">\"&A99&\"</FONT></TH>\"","v":"<TH NOWRAP ALIGN=LEFT><FONT FACE=\"Times New Roman\" SIZE=-1 COLOR=\"#0000CC\">Village of East Nassau</FONT></TH>"},"<TD NOWRAP ALIGN=RIGHT><FONT FACE=\"Times New Roman\" SIZE=-1>$7.77</FONT></TD>","<TD NOWRAP ALIGN=RIGHT><FONT FACE=\"Times New Roman\" SIZE=-1>$1.01</FONT></TD>","<TD NOWRAP ALIGN=RIGHT><FONT FACE=\"Times New Roman\" SIZE=-1>$1.78</FONT></TD>","<TD NOWRAP ALIGN=CENTER><FONT FACE=\"Times New Roman\" SIZE=-1>$16.96 to $24.76</FONT></TD>","<TD NOWRAP ALIGN=CENTER><FONT FACE=\"Times New Roman\" SIZE=-1>$27.52 to $35.32</FONT></TD>","<TD NOWRAP ALIGN=CENTER><FONT FACE=\"Times New Roman\" SIZE=-1>0.6950</FONT></TD>","<TD NOWRAP ALIGN=CENTER><FONT FACE=\"Times New Roman\" SIZE=-1>$19.26 to $24.72</FONT></TD>","</TR>"]
["Averill Park CSD",{"$f":"'2011 Base Data'!F100","v":7.77},{"$f":"'2011 Base Data'!G100","v":1.01},{"$f":"'2011 Base Data'!H100","v":1.78},{"$f":"'2011 Base Data'!I100","v":22.61},null,null,{"$f":"'2011 Base Data'!J100","v":33.17},null,null,{"$f":"'2011 Base Data'!K100","v":0.69499999999999995},{"$f":"'2011 Base Data'!R100","v":23.22},null,null,{"$f":"ROUND(IF(S100<>0,R100*D100+S100*SUM(B100:C100)+T100*E100,R100*SUM(B100:D100)+T100*E100),2)","v":23.21},{"$f":"L100-O100","v":9.9999999999980105E-3},null,{"$f":"'2011 Base Data'!K100","v":0.69499999999999995},{"$f":"'2011 Base Data'!L100","v":0.7},{"$f":"'2011 Base Data'!M100","v":0.7},{"$f":"\"E\"&U99&\":\"&\"E\"&V99","v":"E100:E102"},{"$f":"\"H\"&U99&\":\"&\"H\"&V99","v":"H100:H102"},{"$f":"\"L\"&U99&\":\"&\"L\"&V99","v":"L100:L102"},null,"<TR VALIGN=BOTTOM>",{"$f":"\"<TD NOWRAP ALIGN=LEFT><FONT FACE=\"\"Times New Roman\"\" SIZE=-1 COLOR=#00AA00\"\">\"&A100&\"</FONT></TD>\"","v":"<TD NOWRAP ALIGN=LEFT><FONT FACE=\"Times New Roman\" SIZE=-1 COLOR=#00AA00\">Averill Park CSD</FONT></TD>"},"<TD NOWRAP ALIGN=RIGHT><FONT FACE=\"Times New Roman\" SIZE=-1>$7.77</FONT></TD>","<TD NOWRAP ALIGN=RIGHT><FONT FACE=\"Times New Roman\" SIZE=-1>$1.01</FONT></TD>","<TD NOWRAP ALIGN=RIGHT><FONT FACE=\"Times New Roman\" SIZE=-1>$1.78</FONT></TD>","<TD NOWRAP ALIGN=CENTER><FONT FACE=\"Times New Roman\" SIZE=-1>$22.61</FONT></TD>","<TD NOWRAP ALIGN=CENTER><FONT FACE=\"Times New Roman\" SIZE=-1>$33.17</FONT></TD>","<TD NOWRAP ALIGN=CENTER><FONT FACE=\"Times New Roman\" SIZE=-1>0.6950</FONT></TD>","<TD NOWRAP ALIGN=CENTER><FONT FACE=\"Times New Roman\" SIZE=-1>$23.22</FONT></TD>","</TR>"]
["East Greenbush CSD",{"$f":"'2011 Base Data'!F101","v":7.77},{"$f":"'2011 Base Data'!G101","v":1.01},{"$f":"'2011 Base Data'!H101","v":1.78},{"$f":"'2011 Base Data'!I101","v":24.76},null,null,{"$f":"'2011 Base Data'!J101","v":35.32},null,null,{"$f":"'2011 Base Data'!K101","v":0.69499999999999995},{"$f":"'2011 Base Data'!R101","v":24.72},null,null,{"$f":"ROUND(IF(S101<>0,R101*D101+S101*SUM(B101:C101)+T101*E101,R101*SUM(B101:D101)+T101*E101),2)","v":24.72},{"$f":"L101-O101","v":0},null,{"$f":"'2011 Base Data'!K101","v":0.69499999999999995},{"$f":"'2011 Base Data'!L101","v":0.7},{"$f":"'2011 Base Data'!M101","v":0.7},null,null,null,null,"<TR VALIGN=BOTTOM>",{"$f":"\"<TD NOWRAP ALIGN=LEFT><FONT FACE=\"\"Times New Roman\"\" SIZE=-1 COLOR=#00AA00\"\">\"&A101&\"</FONT></TD>\"","v":"<TD NOWRAP ALIGN=LEFT><FONT FACE=\"Times New Roman\" SIZE=-1 COLOR=#00AA00\">East Greenbush CSD</FONT></TD>"},"<TD NOWRAP ALIGN=RIGHT><FONT FACE=\"Times New Roman\" SIZE=-1>$7.77</FONT></TD>","<TD NOWRAP ALIGN=RIGHT><FONT FACE=\"Times New Roman\" SIZE=-1>$1.01</FONT></TD>","<TD NOWRAP ALIGN=RIGHT><FONT FACE=\"Times New Roman\" SIZE=-1>$1.78</FONT></TD>","<TD NOWRAP ALIGN=CENTER><FONT FACE=\"Times New Roman\" SIZE=-1>$24.76</FONT></TD>","<TD NOWRAP ALIGN=CENTER><FONT FACE=\"Times New Roman\" SIZE=-1>$35.32</FONT></TD>","<TD NOWRAP ALIGN=CENTER><FONT FACE=\"Times New Roman\" SIZE=-1>0.6950</FONT></TD>","<TD NOWRAP ALIGN=CENTER><FONT FACE=\"Times New Roman\" SIZE=-1>$24.72</FONT></TD>","</TR>"]
["New Lebanon CSD",{"$f":"'2011 Base Data'!F102","v":7.77},{"$f":"'2011 Base Data'!G102","v":1.01},{"$f":"'2011 Base Data'!H102","v":1.78},{"$f":"'2011 Base Data'!I102","v":16.96},null,null,{"$f":"'2011 Base Data'!J102","v":27.52},null,null,{"$f":"'2011 Base Data'!K102","v":0.69499999999999995},{"$f":"'2011 Base Data'!R102","v":19.260000000000002},null,null,{"$f":"ROUND(IF(S102<>0,R102*D102+S102*SUM(B102:C102)+T102*E102,R102*SUM(B102:D102)+T102*E102),2)","v":19.260000000000002},{"$f":"L102-O102","v":0},null,{"$f":"'2011 Base Data'!K102","v":0.69499999999999995},{"$f":"'2011 Base Data'!L102","v":0.7},{"$f":"'2011 Base Data'!M102","v":0.7},null,null,null,null,"<TR VALIGN=BOTTOM>",{"$f":"\"<TD NOWRAP ALIGN=LEFT><FONT FACE=\"\"Times New Roman\"\" SIZE=-1 COLOR=#00AA00\"\">\"&A102&\"</FONT></TD>\"","v":"<TD NOWRAP ALIGN=LEFT><FONT FACE=\"Times New Roman\" SIZE=-1 COLOR=#00AA00\">New Lebanon CSD</FONT></TD>"},{"$f":"\"<TD NOWRAP ALIGN=RIGHT><FONT FACE=\"\"Times New Roman\"\" SIZE=-1>\"&IF(B102=\"\",\"<BR>\",TEXT(B102,\"$#,##0.00\"))&\"</FONT></TD>\"","v":"<TD NOWRAP ALIGN=RIGHT><FONT FACE=\"Times New Roman\" SIZE=-1>$7.77</FONT></TD>"},{"$f":"\"<TD NOWRAP ALIGN=RIGHT><FONT FACE=\"\"Times New Roman\"\" SIZE=-1>\"&IF(C102=\"\",\"<BR>\",TEXT(C102,\"$#,##0.00\"))&\"</FONT></TD>\"","v":"<TD NOWRAP ALIGN=RIGHT><FONT FACE=\"Times New Roman\" SIZE=-1>$1.01</FONT></TD>"},{"$f":"\"<TD NOWRAP ALIGN=RIGHT><FONT FACE=\"\"Times New Roman\"\" SIZE=-1>\"&IF(D102=\"\",\"<BR>\",TEXT(D102,\"$#,##0.00\"))&\"</FONT></TD>\"","v":"<TD NOWRAP ALIGN=RIGHT><FONT FACE=\"Times New Roman\" SIZE=-1>$1.78</FONT></TD>"},{"$f":"\"<TD NOWRAP ALIGN=CENTER><FONT FACE=\"\"Times New Roman\"\" SIZE=-1>\"&TEXT(E102,\"$#,##0.00\")&IF(F102=\"\",\"\",\" to \")&IF(G102<=0,\"\",TEXT(G102,\"$#,##0.00\"))&\"</FONT></TD>\"","v":"<TD NOWRAP ALIGN=CENTER><FONT FACE=\"Times New Roman\" SIZE=-1>$16.96</FONT></TD>"},{"$f":"\"<TD NOWRAP ALIGN=CENTER><FONT FACE=\"\"Times New Roman\"\" SIZE=-1>\"&TEXT(H102,\"$#,##0.00\")&IF(I102=\"\",\"\",\" to \")&IF(J102<=0,\"\",TEXT(J102,\"$#,##0.00\"))&\"</FONT></TD>\"","v":"<TD NOWRAP ALIGN=CENTER><FONT FACE=\"Times New Roman\" SIZE=-1>$27.52</FONT></TD>"},{"$f":"\"<TD NOWRAP ALIGN=CENTER><FONT FACE=\"\"Times New Roman\"\" SIZE=-1>\"&IF(K102=\"\",\"<BR>\",TEXT(K102,\"0.0000\"))&\"</FONT></TD>\"","v":"<TD NOWRAP ALIGN=CENTER><FONT FACE=\"Times New Roman\" SIZE=-1>0.6950</FONT></TD>"},{"$f":"\"<TD NOWRAP ALIGN=CENTER><FONT FACE=\"\"Times New Roman\"\" SIZE=-1>\"&TEXT(L102,\"$#,##0.00\")&IF(M102=\"\",\"\",\" to \")&IF(N102<=0,\"\",TEXT(N102,\"$#,##0.00\"))&\"</FONT></TD>\"","v":"<TD NOWRAP ALIGN=CENTER><FONT FACE=\"Times New Roman\" SIZE=-1>$19.26</FONT></TD>"},"</TR>"]
["Village of Nassau (part)",{"$f":"B104","v":7.77},{"$f":"C104","v":1.01},{"$f":"D104","v":9.6199999999999992},{"$f":"MIN(INDIRECT(U104))","v":24.76},{"$f":"IF(G103<>0,\"to\",\"\")","v":""},{"$f":"IF(U103<>V103,MAX(INDIRECT(U104)),0)","v":0},{"$f":"MIN(INDIRECT(V104))","v":43.16},{"$f":"IF(J103<>0,\"to\",\"\")","v":""},{"$f":"IF(U103<>V103,MAX(INDIRECT(V104)),0)","v":0},{"$f":"K104","v":0.50019999999999998},{"$f":"MIN(INDIRECT(W104))","v":28.29},{"$f":"IF(N103<>0,\"to\",\"\")","v":""},{"$f":"IF(U103<>V103,MAX(INDIRECT(W104)),0)","v":0},null,null,null,null,null,null,{"$f":"CELL(\"row\",P104)","v":104},{"$f":"CELL(\"row\",P104)","v":104},null,null,"<TR VALIGN=BOTTOM BGCOLOR=\"#FFFFCC\">",{"$f":"\"<TH NOWRAP ALIGN=LEFT><FONT FACE=\"\"Times New Roman\"\" SIZE=-1 COLOR=\"\"#808000\"\">\"&A103&\"</FONT></TH>\"","v":"<TH NOWRAP ALIGN=LEFT><FONT FACE=\"Times New Roman\" SIZE=-1 COLOR=\"#808000\">Village of Nassau (part)</FONT></TH>"},"<TD NOWRAP ALIGN=RIGHT><FONT FACE=\"Times New Roman\" SIZE=-1>$7.77</FONT></TD>","<TD NOWRAP ALIGN=RIGHT><FONT FACE=\"Times New Roman\" SIZE=-1>$1.01</FONT></TD>","<TD NOWRAP ALIGN=RIGHT><FONT FACE=\"Times New Roman\" SIZE=-1>$9.62</FONT></TD>","<TD NOWRAP ALIGN=CENTER><FONT FACE=\"Times New Roman\" SIZE=-1>$24.76</FONT></TD>","<TD NOWRAP ALIGN=CENTER><FONT FACE=\"Times New Roman\" SIZE=-1>$43.16</FONT></TD>","<TD NOWRAP ALIGN=CENTER><FONT FACE=\"Times New Roman\" SIZE=-1>0.5002</FONT></TD>","<TD NOWRAP ALIGN=CENTER><FONT FACE=\"Times New Roman\" SIZE=-1>$28.29</FONT></TD>","</TR>"]
["East Greenbush CSD",{"$f":"'2011 Base Data'!F104","v":7.77},{"$f":"'2011 Base Data'!G104","v":1.01},{"$f":"'2011 Base Data'!H104","v":9.6199999999999992},{"$f":"'2011 Base Data'!I104","v":24.76},null,null,{"$f":"'2011 Base Data'!J104","v":43.16},null,null,{"$f":"'2011 Base Data'!K104","v":0.50019999999999998},{"$f":"'2011 Base Data'!R104","v":28.29},null,null,{"$f":"ROUND(IF(S104<>0,R104*D104+S104*SUM(B104:C104)+T104*E104,R104*SUM(B104:D104)+T104*E104),2)","v":28.29},{"$f":"L104-O104","v":0},null,{"$f":"'2011 Base Data'!K104","v":0.50019999999999998},{"$f":"'2011 Base Data'!L104","v":0.7},{"$f":"'2011 Base Data'!M104","v":0.7},{"$f":"\"E\"&U103&\":\"&\"E\"&V103","v":"E104:E104"},{"$f":"\"H\"&U103&\":\"&\"H\"&V103","v":"H104:H104"},{"$f":"\"L\"&U103&\":\"&\"L\"&V103","v":"L104:L104"},null,"<TR VALIGN=BOTTOM>",{"$f":"\"<TD NOWRAP ALIGN=LEFT><FONT FACE=\"\"Times New Roman\"\" SIZE=-1 COLOR=#00AA00\"\">\"&A104&\"</FONT></TD>\"","v":"<TD NOWRAP ALIGN=LEFT><FONT FACE=\"Times New Roman\" SIZE=-1 COLOR=#00AA00\">East Greenbush CSD</FONT></TD>"},"<TD NOWRAP ALIGN=RIGHT><FONT FACE=\"Times New Roman\" SIZE=-1>$7.77</FONT></TD>","<TD NOWRAP ALIGN=RIGHT><FONT FACE=\"Times New Roman\" SIZE=-1>$1.01</FONT></TD>","<TD NOWRAP ALIGN=RIGHT><FONT FACE=\"Times New Roman\" SIZE=-1>$9.62</FONT></TD>","<TD NOWRAP ALIGN=CENTER><FONT FACE=\"Times New Roman\" SIZE=-1>$24.76</FONT></TD>","<TD NOWRAP ALIGN=CENTER><FONT FACE=\"Times New Roman\" SIZE=-1>$43.16</FONT></TD>","<TD NOWRAP ALIGN=CENTER><FONT FACE=\"Times New Roman\" SIZE=-1>0.5002</FONT></TD>","<TD NOWRAP ALIGN=CENTER><FONT FACE=\"Times New Roman\" SIZE=-1>$28.29</FONT></TD>","</TR>"]
["Town of North Greenbush",{"$f":"B106","v":20.78},{"$f":"C106","v":10.85},null,{"$f":"MIN(INDIRECT(U106))","v":24},{"$f":"IF(G105<>0,\"to\",\"\")","v":"to"},{"$f":"IF(U105<>V105,MAX(INDIRECT(U106)),0)","v":72.930000000000007},{"$f":"MIN(INDIRECT(V106))","v":55.63},{"$f":"IF(J105<>0,\"to\",\"\")","v":"to"},{"$f":"IF(U105<>V105,MAX(INDIRECT(V106)),0)","v":104.56},{"$f":"K106","v":0.26250000000000001},{"$f":"MIN(INDIRECT(W106))","v":14.6},{"$f":"IF(N105<>0,\"to\",\"\")","v":"to"},{"$f":"IF(U105<>V105,MAX(INDIRECT(W106)),0)","v":27.44},null,null,null,null,null,null,{"$f":"CELL(\"row\",P106)","v":106},{"$f":"CELL(\"row\",P109)","v":109},null,null,"<TR VALIGN=BOTTOM BGCOLOR=\"#FFFFCC\">",{"$f":"\"<TH NOWRAP ALIGN=LEFT><FONT FACE=\"\"Times New Roman\"\" SIZE=-1>\"&A105&\"</FONT></TH>\"","v":"<TH NOWRAP ALIGN=LEFT><FONT FACE=\"Times New Roman\" SIZE=-1>Town of North Greenbush</FONT></TH>"},"<TD NOWRAP ALIGN=RIGHT><FONT FACE=\"Times New Roman\" SIZE=-1>$20.78</FONT></TD>","<TD NOWRAP ALIGN=RIGHT><FONT FACE=\"Times New Roman\" SIZE=-1>$10.85</FONT></TD>","<TD NOWRAP ALIGN=RIGHT><FONT FACE=\"Times New Roman\" SIZE=-1><BR></FONT></TD>","<TD NOWRAP ALIGN=CENTER><FONT FACE=\"Times New Roman\" SIZE=-1>$24.00 to $72.93</FONT></TD>","<TD NOWRAP ALIGN=CENTER><FONT FACE=\"Times New Roman\" SIZE=-1>$55.63 to $104.56</FONT></TD>","<TD NOWRAP ALIGN=CENTER><FONT FACE=\"Times New Roman\" SIZE=-1>0.2625</FONT></TD>","<TD NOWRAP ALIGN=CENTER><FONT FACE=\"Times New Roman\" SIZE=-1>$14.60 to $27.44</FONT></TD>","</TR>"]
["Averill Park CSD",{"$f":"'2011 Base Data'!F106","v":20.78},{"$f":"'2011 Base Data'!G106","v":10.85},null,{"$f":"'2011 Base Data'!I106","v":60.29},null,null,{"$f":"'2011 Base Data'!J106","v":91.92},null,null,{"$f":"'2011 Base Data'!K106","v":0.26250000000000001},{"$f":"'2011 Base Data'!R106","v":24.13},null,null,{"$f":"ROUND(IF(S106<>0,R106*D106+S106*SUM(B106:C106)+T106*E106,R106*SUM(B106:D106)+T106*E106),2)","v":24.13},{"$f":"L106-O106","v":0},null,{"$f":"'2011 Base Data'!K106","v":0.26250000000000001},{"$f":"'2011 Base Data'!L106","v":0},{"$f":"'2011 Base Data'!M106","v":0.26250000000000001},{"$f":"\"E\"&U105&\":\"&\"E\"&V105","v":"E106:E109"},{"$f":"\"H\"&U105&\":\"&\"H\"&V105","v":"H106:H109"},{"$f":"\"L\"&U105&\":\"&\"L\"&V105","v":"L106:L109"},null,"<TR VALIGN=BOTTOM>",{"$f":"\"<TD NOWRAP ALIGN=LEFT><FONT FACE=\"\"Times New Roman\"\" SIZE=-1 COLOR=#00AA00\"\">\"&A106&\"</FONT></TD>\"","v":"<TD NOWRAP ALIGN=LEFT><FONT FACE=\"Times New Roman\" SIZE=-1 COLOR=#00AA00\">Averill Park CSD</FONT></TD>"},"<TD NOWRAP ALIGN=RIGHT><FONT FACE=\"Times New Roman\" SIZE=-1>$20.78</FONT></TD>","<TD NOWRAP ALIGN=RIGHT><FONT FACE=\"Times New Roman\" SIZE=-1>$10.85</FONT></TD>","<TD NOWRAP ALIGN=RIGHT><FONT FACE=\"Times New Roman\" SIZE=-1><BR></FONT></TD>","<TD NOWRAP ALIGN=CENTER><FONT FACE=\"Times New Roman\" SIZE=-1>$60.29</FONT></TD>","<TD NOWRAP ALIGN=CENTER><FONT FACE=\"Times New Roman\" SIZE=-1>$91.92</FONT></TD>","<TD NOWRAP ALIGN=CENTER><FONT FACE=\"Times New Roman\" SIZE=-1>0.2625</FONT></TD>","<TD NOWRAP ALIGN=CENTER><FONT FACE=\"Times New Roman\" SIZE=-1>$24.13</FONT></TD>","</TR>"]
["East Greenbush CSD",{"$f":"'2011 Base Data'!F107","v":20.78},{"$f":"'2011 Base Data'!G107","v":10.85},null,{"$f":"'2011 Base Data'!I107","v":66.72},null,null,{"$f":"'2011 Base Data'!J107","v":98.35},null,null,{"$f":"'2011 Base Data'!K107","v":0.26250000000000001},{"$f":"'2011 Base Data'!R107","v":25.81},null,null,{"$f":"ROUND(IF(S107<>0,R107*D107+S107*SUM(B107:C107)+T107*E107,R107*SUM(B107:D107)+T107*E107),2)","v":25.82},{"$f":"L107-O107","v":-1.0000000000001563E-2},null,{"$f":"'2011 Base Data'!K107","v":0.26250000000000001},{"$f":"'2011 Base Data'!L107","v":0},{"$f":"'2011 Base Data'!M107","v":0.26250000000000001},null,null,null,null,"<TR VALIGN=BOTTOM>",{"$f":"\"<TD NOWRAP ALIGN=LEFT><FONT FACE=\"\"Times New Roman\"\" SIZE=-1 COLOR=#00AA00\"\">\"&A107&\"</FONT></TD>\"","v":"<TD NOWRAP ALIGN=LEFT><FONT FACE=\"Times New Roman\" SIZE=-1 COLOR=#00AA00\">East Greenbush CSD</FONT></TD>"},"<TD NOWRAP ALIGN=RIGHT><FONT FACE=\"Times New Roman\" SIZE=-1>$20.78</FONT></TD>","<TD NOWRAP ALIGN=RIGHT><FONT FACE=\"Times New Roman\" SIZE=-1>$10.85</FONT></TD>","<TD NOWRAP ALIGN=RIGHT><FONT FACE=\"Times New Roman\" SIZE=-1><BR></FONT></TD>","<TD NOWRAP ALIGN=CENTER><FONT FACE=\"Times New Roman\" SIZE=-1>$66.72</FONT></TD>","<TD NOWRAP ALIGN=CENTER><FONT FACE=\"Times New Roman\" SIZE=-1>$98.35</FONT></TD>","<TD NOWRAP ALIGN=CENTER><FONT FACE=\"Times New Roman\" SIZE=-1>0.2625</FONT></TD>","<TD NOWRAP ALIGN=CENTER><FONT FACE=\"Times New Roman\" SIZE=-1>$25.81</FONT></TD>","</TR>"]
["North Greenbush Common SD",{"$f":"'2011 Base Data'!F108","v":20.78},{"$f":"'2011 Base Data'!G108","v":10.85},null,{"$f":"'2011 Base Data'!I108","v":24},null,null,{"$f":"'2011 Base Data'!J108","v":55.63},null,null,{"$f":"'2011 Base Data'!K108","v":0.26250000000000001},{"$f":"'2011 Base Data'!R108","v":14.6},null,null,{"$f":"ROUND(IF(S108<>0,R108*D108+S108*SUM(B108:C108)+T108*E108,R108*SUM(B108:D108)+T108*E108),2)","v":14.6},{"$f":"L108-O108","v":0},null,{"$f":"'2011 Base Data'!K108","v":0.26250000000000001},{"$f":"'2011 Base Data'!L108","v":0},{"$f":"'2011 Base Data'!M108","v":0.26250000000000001},null,null,null,null,"<TR VALIGN=BOTTOM>",{"$f":"\"<TD NOWRAP ALIGN=LEFT><FONT FACE=\"\"Times New Roman\"\" SIZE=-1 COLOR=#00AA00\"\">\"&A108&\"</FONT></TD>\"","v":"<TD NOWRAP ALIGN=LEFT><FONT FACE=\"Times New Roman\" SIZE=-1 COLOR=#00AA00\">North Greenbush Common SD</FONT></TD>"},"<TD NOWRAP ALIGN=RIGHT><FONT FACE=\"Times New Roman\" SIZE=-1>$20.78</FONT></TD>","<TD NOWRAP ALIGN=RIGHT><FONT FACE=\"Times New Roman\" SIZE=-1>$10.85</FONT></TD>","<TD NOWRAP ALIGN=RIGHT><FONT FACE=\"Times New Roman\" SIZE=-1><BR></FONT></TD>","<TD NOWRAP ALIGN=CENTER><FONT FACE=\"Times New Roman\" SIZE=-1>$24.00</FONT></TD>","<TD NOWRAP ALIGN=CENTER><FONT FACE=\"Times New Roman\" SIZE=-1>$55.63</FONT></TD>","<TD NOWRAP ALIGN=CENTER><FONT FACE=\"Times New Roman\" SIZE=-1>0.2625</FONT></TD>","<TD NOWRAP ALIGN=CENTER><FONT FACE=\"Times New Roman\" SIZE=-1>$14.60</FONT></TD>","</TR>"]
["Wynantskill UFSD",{"$f":"'2011 Base Data'!F109","v":20.78},{"$f":"'2011 Base Data'!G109","v":10.85},null,{"$f":"'2011 Base Data'!I109","v":72.930000000000007},null,null,{"$f":"'2011 Base Data'!J109","v":104.56},null,null,{"$f":"'2011 Base Data'!K109","v":0.26250000000000001},{"$f":"'2011 Base Data'!R109","v":27.44},null,null,{"$f":"ROUND(IF(S109<>0,R109*D109+S109*SUM(B109:C109)+T109*E109,R109*SUM(B109:D109)+T109*E109),2)","v":27.45},{"$f":"L109-O109","v":-9.9999999999980105E-3},null,{"$f":"'2011 Base Data'!K109","v":0.26250000000000001},{"$f":"'2011 Base Data'!L109","v":0},{"$f":"'2011 Base Data'!M109","v":0.26250000000000001},null,null,null,null,"<TR VALIGN=BOTTOM>",{"$f":"\"<TD NOWRAP ALIGN=LEFT><FONT FACE=\"\"Times New Roman\"\" SIZE=-1 COLOR=#00AA00\"\">\"&A109&\"</FONT></TD>\"","v":"<TD NOWRAP ALIGN=LEFT><FONT FACE=\"Times New Roman\" SIZE=-1 COLOR=#00AA00\">Wynantskill UFSD</FONT></TD>"},"<TD NOWRAP ALIGN=RIGHT><FONT FACE=\"Times New Roman\" SIZE=-1>$20.78</FONT></TD>","<TD NOWRAP ALIGN=RIGHT><FONT FACE=\"Times New Roman\" SIZE=-1>$10.85</FONT></TD>","<TD NOWRAP ALIGN=RIGHT><FONT FACE=\"Times New Roman\" SIZE=-1><BR></FONT></TD>","<TD NOWRAP ALIGN=CENTER><FONT FACE=\"Times New Roman\" SIZE=-1>$72.93</FONT></TD>","<TD NOWRAP ALIGN=CENTER><FONT FACE=\"Times New Roman\" SIZE=-1>$104.56</FONT></TD>","<TD NOWRAP ALIGN=CENTER><FONT FACE=\"Times New Roman\" SIZE=-1>0.2625</FONT></TD>","<TD NOWRAP ALIGN=CENTER><FONT FACE=\"Times New Roman\" SIZE=-1>$27.44</FONT></TD>","</TR>"]
["Town of Petersburgh",{"$f":"B111","v":10.039999999999999},{"$f":"C111","v":7.6},null,{"$f":"MIN(INDIRECT(U111))","v":25.07},{"$f":"IF(G110<>0,\"to\",\"\")","v":"to"},{"$f":"IF(U110<>V110,MAX(INDIRECT(U111)),0)","v":30.35},{"$f":"MIN(INDIRECT(V111))","v":42.71},{"$f":"IF(J110<>0,\"to\",\"\")","v":"to"},{"$f":"IF(U110<>V110,MAX(INDIRECT(V111)),0)","v":47.99},{"$f":"K111","v":0.56499999999999995},{"$f":"MIN(INDIRECT(W111))","v":24.12},{"$f":"IF(N110<>0,\"to\",\"\")","v":"to"},{"$f":"IF(U110<>V110,MAX(INDIRECT(W111)),0)","v":27.11},null,null,null,null,null,null,{"$f":"CELL(\"row\",P111)","v":111},{"$f":"CELL(\"row\",P112)","v":112},null,null,"<TR VALIGN=BOTTOM BGCOLOR=\"#FFFFCC\">",{"$f":"\"<TH NOWRAP ALIGN=LEFT><FONT FACE=\"\"Times New Roman\"\" SIZE=-1>\"&A110&\"</FONT></TH>\"","v":"<TH NOWRAP ALIGN=LEFT><FONT FACE=\"Times New Roman\" SIZE=-1>Town of Petersburgh</FONT></TH>"},"<TD NOWRAP ALIGN=RIGHT><FONT FACE=\"Times New Roman\" SIZE=-1>$10.04</FONT></TD>","<TD NOWRAP ALIGN=RIGHT><FONT FACE=\"Times New Roman\" SIZE=-1>$7.60</FONT></TD>","<TD NOWRAP ALIGN=RIGHT><FONT FACE=\"Times New Roman\" SIZE=-1><BR></FONT></TD>","<TD NOWRAP ALIGN=CENTER><FONT FACE=\"Times New Roman\" SIZE=-1>$25.07 to $30.35</FONT></TD>","<TD NOWRAP ALIGN=CENTER><FONT FACE=\"Times New Roman\" SIZE=-1>$42.71 to $47.99</FONT></TD>","<TD NOWRAP ALIGN=CENTER><FONT FACE=\"Times New Roman\" SIZE=-1>0.5650</FONT></TD>","<TD NOWRAP ALIGN=CENTER><FONT FACE=\"Times New Roman\" SIZE=-1>$24.12 to $27.11</FONT></TD>","</TR>"]
["Berlin CSD",{"$f":"'2011 Base Data'!F111","v":10.039999999999999},{"$f":"'2011 Base Data'!G111","v":7.6},null,{"$f":"'2011 Base Data'!I111","v":25.07},null,null,{"$f":"'2011 Base Data'!J111","v":42.71},null,null,{"$f":"'2011 Base Data'!K111","v":0.56499999999999995},{"$f":"'2011 Base Data'!R111","v":24.12},null,null,{"$f":"ROUND(IF(S111<>0,R111*D111+S111*SUM(B111:C111)+T111*E111,R111*SUM(B111:D111)+T111*E111),2)","v":24.13},{"$f":"L111-O111","v":-9.9999999999980105E-3},null,{"$f":"'2011 Base Data'!K111","v":0.56499999999999995},{"$f":"'2011 Base Data'!L111","v":0},{"$f":"'2011 Base Data'!M111","v":0.56499999999999995},{"$f":"\"E\"&U110&\":\"&\"E\"&V110","v":"E111:E112"},{"$f":"\"H\"&U110&\":\"&\"H\"&V110","v":"H111:H112"},{"$f":"\"L\"&U110&\":\"&\"L\"&V110","v":"L111:L112"},null,"<TR VALIGN=BOTTOM>",{"$f":"\"<TD NOWRAP ALIGN=LEFT><FONT FACE=\"\"Times New Roman\"\" SIZE=-1 COLOR=#00AA00\"\">\"&A111&\"</FONT></TD>\"","v":"<TD NOWRAP ALIGN=LEFT><FONT FACE=\"Times New Roman\" SIZE=-1 COLOR=#00AA00\">Berlin CSD</FONT></TD>"},"<TD NOWRAP ALIGN=RIGHT><FONT FACE=\"Times New Roman\" SIZE=-1>$10.04</FONT></TD>","<TD NOWRAP ALIGN=RIGHT><FONT FACE=\"Times New Roman\" SIZE=-1>$7.60</FONT></TD>","<TD NOWRAP ALIGN=RIGHT><FONT FACE=\"Times New Roman\" SIZE=-1><BR></FONT></TD>","<TD NOWRAP ALIGN=CENTER><FONT FACE=\"Times New Roman\" SIZE=-1>$25.07</FONT></TD>","<TD NOWRAP ALIGN=CENTER><FONT FACE=\"Times New Roman\" SIZE=-1>$42.71</FONT></TD>","<TD NOWRAP ALIGN=CENTER><FONT FACE=\"Times New Roman\" SIZE=-1>0.5650</FONT></TD>","<TD NOWRAP ALIGN=CENTER><FONT FACE=\"Times New Roman\" SIZE=-1>$24.12</FONT></TD>","</TR>"]
["Hoosick Falls CSD",{"$f":"'2011 Base Data'!F112","v":10.039999999999999},{"$f":"'2011 Base Data'!G112","v":7.6},null,{"$f":"'2011 Base Data'!I112","v":30.35},null,null,{"$f":"'2011 Base Data'!J112","v":47.99},null,null,{"$f":"'2011 Base Data'!K112","v":0.56499999999999995},{"$f":"'2011 Base Data'!R112","v":27.11},null,null,{"$f":"ROUND(IF(S112<>0,R112*D112+S112*SUM(B112:C112)+T112*E112,R112*SUM(B112:D112)+T112*E112),2)","v":27.11},{"$f":"L112-O112","v":0},null,{"$f":"'2011 Base Data'!K112","v":0.56499999999999995},{"$f":"'2011 Base Data'!L112","v":0},{"$f":"'2011 Base Data'!M112","v":0.56499999999999995},null,null,null,null,"<TR VALIGN=BOTTOM>",{"$f":"\"<TD NOWRAP ALIGN=LEFT><FONT FACE=\"\"Times New Roman\"\" SIZE=-1 COLOR=#00AA00\"\">\"&A112&\"</FONT></TD>\"","v":"<TD NOWRAP ALIGN=LEFT><FONT FACE=\"Times New Roman\" SIZE=-1 COLOR=#00AA00\">Hoosick Falls CSD</FONT></TD>"},"<TD NOWRAP ALIGN=RIGHT><FONT FACE=\"Times New Roman\" SIZE=-1>$10.04</FONT></TD>","<TD NOWRAP ALIGN=RIGHT><FONT FACE=\"Times New Roman\" SIZE=-1>$7.60</FONT></TD>","<TD NOWRAP ALIGN=RIGHT><FONT FACE=\"Times New Roman\" SIZE=-1><BR></FONT></TD>","<TD NOWRAP ALIGN=CENTER><FONT FACE=\"Times New Roman\" SIZE=-1>$30.35</FONT></TD>","<TD NOWRAP ALIGN=CENTER><FONT FACE=\"Times New Roman\" SIZE=-1>$47.99</FONT></TD>","<TD NOWRAP ALIGN=CENTER><FONT FACE=\"Times New Roman\" SIZE=-1>0.5650</FONT></TD>","<TD NOWRAP ALIGN=CENTER><FONT FACE=\"Times New Roman\" SIZE=-1>$27.11</FONT></TD>","</TR>"]
["Town of Pittstown",{"$f":"B114","v":9.2200000000000006},{"$f":"C114","v":6.09},null,{"$f":"MIN(INDIRECT(U114))","v":20.65},{"$f":"IF(G113<>0,\"to\",\"\")","v":"to"},{"$f":"IF(U113<>V113,MAX(INDIRECT(U114)),0)","v":27.88},{"$f":"MIN(INDIRECT(V114))","v":35.96},{"$f":"IF(J113<>0,\"to\",\"\")","v":"to"},{"$f":"IF(U113<>V113,MAX(INDIRECT(V114)),0)","v":43.19},{"$f":"K114","v":0.61499999999999999},{"$f":"MIN(INDIRECT(W114))","v":22.12},{"$f":"IF(N113<>0,\"to\",\"\")","v":"to"},{"$f":"IF(U113<>V113,MAX(INDIRECT(W114)),0)","v":26.57},null,null,null,null,null,null,{"$f":"CELL(\"row\",P114)","v":114},{"$f":"CELL(\"row\",P118)","v":118},null,null,"<TR VALIGN=BOTTOM BGCOLOR=\"#FFFFCC\">",{"$f":"\"<TH NOWRAP ALIGN=LEFT><FONT FACE=\"\"Times New Roman\"\" SIZE=-1>\"&A113&\"</FONT></TH>\"","v":"<TH NOWRAP ALIGN=LEFT><FONT FACE=\"Times New Roman\" SIZE=-1>Town of Pittstown</FONT></TH>"},"<TD NOWRAP ALIGN=RIGHT><FONT FACE=\"Times New Roman\" SIZE=-1>$9.22</FONT></TD>","<TD NOWRAP ALIGN=RIGHT><FONT FACE=\"Times New Roman\" SIZE=-1>$6.09</FONT></TD>","<TD NOWRAP ALIGN=RIGHT><FONT FACE=\"Times New Roman\" SIZE=-1><BR></FONT></TD>","<TD NOWRAP ALIGN=CENTER><FONT FACE=\"Times New Roman\" SIZE=-1>$20.65 to $27.88</FONT></TD>","<TD NOWRAP ALIGN=CENTER><FONT FACE=\"Times New Roman\" SIZE=-1>$35.96 to $43.19</FONT></TD>","<TD NOWRAP ALIGN=CENTER><FONT FACE=\"Times New Roman\" SIZE=-1>0.6150</FONT></TD>","<TD NOWRAP ALIGN=CENTER><FONT FACE=\"Times New Roman\" SIZE=-1>$22.12 to $26.57</FONT></TD>","</TR>"]
["Brunswick CSD",{"$f":"'2011 Base Data'!F114","v":9.2200000000000006},{"$f":"'2011 Base Data'!G114","v":6.09},null,{"$f":"'2011 Base Data'!I114","v":27.52},null,null,{"$f":"'2011 Base Data'!J114","v":42.83},null,null,{"$f":"'2011 Base Data'!K114","v":0.61499999999999999},{"$f":"'2011 Base Data'!R114","v":26.34},null,null,{"$f":"ROUND(IF(S114<>0,R114*D114+S114*SUM(B114:C114)+T114*E114,R114*SUM(B114:D114)+T114*E114),2)","v":26.34},{"$f":"L114-O114","v":0},null,{"$f":"'2011 Base Data'!K114","v":0.61499999999999999},{"$f":"'2011 Base Data'!L114","v":0},{"$f":"'2011 Base Data'!M114","v":0.61499999999999999},{"$f":"\"E\"&U113&\":\"&\"E\"&V113","v":"E114:E118"},{"$f":"\"H\"&U113&\":\"&\"H\"&V113","v":"H114:H118"},{"$f":"\"L\"&U113&\":\"&\"L\"&V113","v":"L114:L118"},null,"<TR VALIGN=BOTTOM>",{"$f":"\"<TD NOWRAP ALIGN=LEFT><FONT FACE=\"\"Times New Roman\"\" SIZE=-1 COLOR=#00AA00\"\">\"&A114&\"</FONT></TD>\"","v":"<TD NOWRAP ALIGN=LEFT><FONT FACE=\"Times New Roman\" SIZE=-1 COLOR=#00AA00\">Brunswick CSD</FONT></TD>"},"<TD NOWRAP ALIGN=RIGHT><FONT FACE=\"Times New Roman\" SIZE=-1>$9.22</FONT></TD>","<TD NOWRAP ALIGN=RIGHT><FONT FACE=\"Times New Roman\" SIZE=-1>$6.09</FONT></TD>","<TD NOWRAP ALIGN=RIGHT><FONT FACE=\"Times New Roman\" SIZE=-1><BR></FONT></TD>","<TD NOWRAP ALIGN=CENTER><FONT FACE=\"Times New Roman\" SIZE=-1>$27.52</FONT></TD>","<TD NOWRAP ALIGN=CENTER><FONT FACE=\"Times New Roman\" SIZE=-1>$42.83</FONT></TD>","<TD NOWRAP ALIGN=CENTER><FONT FACE=\"Times New Roman\" SIZE=-1>0.6150</FONT></TD>","<TD NOWRAP ALIGN=CENTER><FONT FACE=\"Times New Roman\" SIZE=-1>$26.34</FONT></TD>","</TR>"]
["Cambridge CSD",{"$f":"'2011 Base Data'!F115","v":9.2200000000000006},{"$f":"'2011 Base Data'!G115","v":6.09},null,{"$f":"'2011 Base Data'!I115","v":20.65},null,null,{"$f":"'2011 Base Data'!J115","v":35.96},null,null,{"$f":"'2011 Base Data'!K115","v":0.61499999999999999},{"$f":"'2011 Base Data'!R115","v":22.12},null,null,{"$f":"ROUND(IF(S115<>0,R115*D115+S115*SUM(B115:C115)+T115*E115,R115*SUM(B115:D115)+T115*E115),2)","v":22.12},{"$f":"L115-O115","v":0},null,{"$f":"'2011 Base Data'!K115","v":0.61499999999999999},{"$f":"'2011 Base Data'!L115","v":0},{"$f":"'2011 Base Data'!M115","v":0.61499999999999999},null,null,null,null,"<TR VALIGN=BOTTOM>",{"$f":"\"<TD NOWRAP ALIGN=LEFT><FONT FACE=\"\"Times New Roman\"\" SIZE=-1 COLOR=#00AA00\"\">\"&A115&\"</FONT></TD>\"","v":"<TD NOWRAP ALIGN=LEFT><FONT FACE=\"Times New Roman\" SIZE=-1 COLOR=#00AA00\">Cambridge CSD</FONT></TD>"},"<TD NOWRAP ALIGN=RIGHT><FONT FACE=\"Times New Roman\" SIZE=-1>$9.22</FONT></TD>","<TD NOWRAP ALIGN=RIGHT><FONT FACE=\"Times New Roman\" SIZE=-1>$6.09</FONT></TD>","<TD NOWRAP ALIGN=RIGHT><FONT FACE=\"Times New Roman\" SIZE=-1><BR></FONT></TD>","<TD NOWRAP ALIGN=CENTER><FONT FACE=\"Times New Roman\" SIZE=-1>$20.65</FONT></TD>","<TD NOWRAP ALIGN=CENTER><FONT FACE=\"Times New Roman\" SIZE=-1>$35.96</FONT></TD>","<TD NOWRAP ALIGN=CENTER><FONT FACE=\"Times New Roman\" SIZE=-1>0.6150</FONT></TD>","<TD NOWRAP ALIGN=CENTER><FONT FACE=\"Times New Roman\" SIZE=-1>$22.12</FONT></TD>","</TR>"]
["Hoosic Valley CSD",{"$f":"'2011 Base Data'!F116","v":9.2200000000000006},{"$f":"'2011 Base Data'!G116","v":6.09},null,{"$f":"'2011 Base Data'!I116","v":26.39},null,null,{"$f":"'2011 Base Data'!J116","v":41.7},null,null,{"$f":"'2011 Base Data'!K116","v":0.61499999999999999},{"$f":"'2011 Base Data'!R116","v":25.65},null,null,{"$f":"ROUND(IF(S116<>0,R116*D116+S116*SUM(B116:C116)+T116*E116,R116*SUM(B116:D116)+T116*E116),2)","v":25.65},{"$f":"L116-O116","v":0},null,{"$f":"'2011 Base Data'!K116","v":0.61499999999999999},{"$f":"'2011 Base Data'!L116","v":0},{"$f":"'2011 Base Data'!M116","v":0.61499999999999999},null,null,null,null,"<TR VALIGN=BOTTOM>",{"$f":"\"<TD NOWRAP ALIGN=LEFT><FONT FACE=\"\"Times New Roman\"\" SIZE=-1 COLOR=#00AA00\"\">\"&A116&\"</FONT></TD>\"","v":"<TD NOWRAP ALIGN=LEFT><FONT FACE=\"Times New Roman\" SIZE=-1 COLOR=#00AA00\">Hoosic Valley CSD</FONT></TD>"},"<TD NOWRAP ALIGN=RIGHT><FONT FACE=\"Times New Roman\" SIZE=-1>$9.22</FONT></TD>","<TD NOWRAP ALIGN=RIGHT><FONT FACE=\"Times New Roman\" SIZE=-1>$6.09</FONT></TD>","<TD NOWRAP ALIGN=RIGHT><FONT FACE=\"Times New Roman\" SIZE=-1><BR></FONT></TD>","<TD NOWRAP ALIGN=CENTER><FONT FACE=\"Times New Roman\" SIZE=-1>$26.39</FONT></TD>","<TD NOWRAP ALIGN=CENTER><FONT FACE=\"Times New Roman\" SIZE=-1>$41.70</FONT></TD>","<TD NOWRAP ALIGN=CENTER><FONT FACE=\"Times New Roman\" SIZE=-1>0.6150</FONT></TD>","<TD NOWRAP ALIGN=CENTER><FONT FACE=\"Times New Roman\" SIZE=-1>$25.65</FONT></TD>","</TR>"]
["Hoosick Falls CSD",{"$f":"'2011 Base Data'!F117","v":9.2200000000000006},{"$f":"'2011 Base Data'!G117","v":6.09},null,{"$f":"'2011 Base Data'!I117","v":27.88},null,null,{"$f":"'2011 Base Data'!J117","v":43.19},null,null,{"$f":"'2011 Base Data'!K117","v":0.61499999999999999},{"$f":"'2011 Base Data'!R117","v":26.57},null,null,{"$f":"ROUND(IF(S117<>0,R117*D117+S117*SUM(B117:C117)+T117*E117,R117*SUM(B117:D117)+T117*E117),2)","v":26.56},{"$f":"L117-O117","v":1.0000000000001563E-2},null,{"$f":"'2011 Base Data'!K117","v":0.61499999999999999},{"$f":"'2011 Base Data'!L117","v":0},{"$f":"'2011 Base Data'!M117","v":0.61499999999999999},null,null,null,null,"<TR VALIGN=BOTTOM>",{"$f":"\"<TD NOWRAP ALIGN=LEFT><FONT FACE=\"\"Times New Roman\"\" SIZE=-1 COLOR=#00AA00\"\">\"&A117&\"</FONT></TD>\"","v":"<TD NOWRAP ALIGN=LEFT><FONT FACE=\"Times New Roman\" SIZE=-1 COLOR=#00AA00\">Hoosick Falls CSD</FONT></TD>"},"<TD NOWRAP ALIGN=RIGHT><FONT FACE=\"Times New Roman\" SIZE=-1>$9.22</FONT></TD>","<TD NOWRAP ALIGN=RIGHT><FONT FACE=\"Times New Roman\" SIZE=-1>$6.09</FONT></TD>","<TD NOWRAP ALIGN=RIGHT><FONT FACE=\"Times New Roman\" SIZE=-1><BR></FONT></TD>","<TD NOWRAP ALIGN=CENTER><FONT FACE=\"Times New Roman\" SIZE=-1>$27.88</FONT></TD>","<TD NOWRAP ALIGN=CENTER><FONT FACE=\"Times New Roman\" SIZE=-1>$43.19</FONT></TD>","<TD NOWRAP ALIGN=CENTER><FONT FACE=\"Times New Roman\" SIZE=-1>0.6150</FONT></TD>","<TD NOWRAP ALIGN=CENTER><FONT FACE=\"Times New Roman\" SIZE=-1>$26.57</FONT></TD>","</TR>"]
["Lansingburgh CSD",{"$f":"'2011 Base Data'!F118","v":9.2200000000000006},{"$f":"'2011 Base Data'!G118","v":6.09},null,{"$f":"'2011 Base Data'!I118","v":25.59},null,null,{"$f":"'2011 Base Data'!J118","v":40.9},null,null,{"$f":"'2011 Base Data'!K118","v":0.61499999999999999},{"$f":"'2011 Base Data'!R118","v":25.16},null,null,{"$f":"ROUND(IF(S118<>0,R118*D118+S118*SUM(B118:C118)+T118*E118,R118*SUM(B118:D118)+T118*E118),2)","v":25.15},{"$f":"L118-O118","v":1.0000000000001563E-2},null,{"$f":"'2011 Base Data'!K118","v":0.61499999999999999},{"$f":"'2011 Base Data'!L118","v":0},{"$f":"'2011 Base Data'!M118","v":0.61499999999999999},null,null,null,null,"<TR VALIGN=BOTTOM>",{"$f":"\"<TD NOWRAP ALIGN=LEFT><FONT FACE=\"\"Times New Roman\"\" SIZE=-1 COLOR=#00AA00\"\">\"&A118&\"</FONT></TD>\"","v":"<TD NOWRAP ALIGN=LEFT><FONT FACE=\"Times New Roman\" SIZE=-1 COLOR=#00AA00\">Lansingburgh CSD</FONT></TD>"},"<TD NOWRAP ALIGN=RIGHT><FONT FACE=\"Times New Roman\" SIZE=-1>$9.22</FONT></TD>","<TD NOWRAP ALIGN=RIGHT><FONT FACE=\"Times New Roman\" SIZE=-1>$6.09</FONT></TD>","<TD NOWRAP ALIGN=RIGHT><FONT FACE=\"Times New Roman\" SIZE=-1><BR></FONT></TD>","<TD NOWRAP ALIGN=CENTER><FONT FACE=\"Times New Roman\" SIZE=-1>$25.59</FONT></TD>","<TD NOWRAP ALIGN=CENTER><FONT FACE=\"Times New Roman\" SIZE=-1>$40.90</FONT></TD>","<TD NOWRAP ALIGN=CENTER><FONT FACE=\"Times New Roman\" SIZE=-1>0.6150</FONT></TD>","<TD NOWRAP ALIGN=CENTER><FONT FACE=\"Times New Roman\" SIZE=-1>$25.16</FONT></TD>","</TR>"]
["Village of Valley Falls (part)",{"$f":"B120","v":9.2200000000000006},{"$f":"C120","v":4.0199999999999996},{"$f":"D120","v":3.27},{"$f":"MIN(INDIRECT(U120))","v":26.39},{"$f":"IF(G119<>0,\"to\",\"\")","v":""},{"$f":"IF(U119<>V119,MAX(INDIRECT(U120)),0)","v":0},{"$f":"MIN(INDIRECT(V120))","v":42.9},{"$f":"IF(J119<>0,\"to\",\"\")","v":""},{"$f":"IF(U119<>V119,MAX(INDIRECT(V120)),0)","v":0},{"$f":"K120","v":0.54320000000000002},{"$f":"MIN(INDIRECT(W120))","v":26.15},{"$f":"IF(N119<>0,\"to\",\"\")","v":""},{"$f":"IF(U119<>V119,MAX(INDIRECT(W120)),0)","v":0},null,null,null,null,null,null,{"$f":"CELL(\"row\",P120)","v":120},{"$f":"CELL(\"row\",P120)","v":120},null,null,"<TR VALIGN=BOTTOM BGCOLOR=\"#FFFFCC\">",{"$f":"\"<TH NOWRAP ALIGN=LEFT><FONT FACE=\"\"Times New Roman\"\" SIZE=-1 COLOR=\"\"#808000\"\">\"&A119&\"</FONT></TH>\"","v":"<TH NOWRAP ALIGN=LEFT><FONT FACE=\"Times New Roman\" SIZE=-1 COLOR=\"#808000\">Village of Valley Falls (part)</FONT></TH>"},"<TD NOWRAP ALIGN=RIGHT><FONT FACE=\"Times New Roman\" SIZE=-1>$9.22</FONT></TD>","<TD NOWRAP ALIGN=RIGHT><FONT FACE=\"Times New Roman\" SIZE=-1>$4.02</FONT></TD>","<TD NOWRAP ALIGN=RIGHT><FONT FACE=\"Times New Roman\" SIZE=-1>$3.27</FONT></TD>","<TD NOWRAP ALIGN=CENTER><FONT FACE=\"Times New Roman\" SIZE=-1>$26.39</FONT></TD>","<TD NOWRAP ALIGN=CENTER><FONT FACE=\"Times New Roman\" SIZE=-1>$42.90</FONT></TD>","<TD NOWRAP ALIGN=CENTER><FONT FACE=\"Times New Roman\" SIZE=-1>0.5432</FONT></TD>","<TD NOWRAP ALIGN=CENTER><FONT FACE=\"Times New Roman\" SIZE=-1>$26.15</FONT></TD>","</TR>"]
["Hoosic Valley CSD",{"$f":"'2011 Base Data'!F120","v":9.2200000000000006},{"$f":"'2011 Base Data'!G120","v":4.0199999999999996},{"$f":"'2011 Base Data'!H120","v":3.27},{"$f":"'2011 Base Data'!I120","v":26.39},null,null,{"$f":"'2011 Base Data'!J120","v":42.9},null,null,{"$f":"'2011 Base Data'!K120","v":0.54320000000000002},{"$f":"'2011 Base Data'!R120","v":26.15},null,null,{"$f":"ROUND(IF(S120<>0,R120*D120+S120*SUM(B120:C120)+T120*E120,R120*SUM(B120:D120)+T120*E120),2)","v":26.15},{"$f":"L120-O120","v":0},null,{"$f":"'2011 Base Data'!K120","v":0.54320000000000002},{"$f":"'2011 Base Data'!L120","v":0.61499999999999999},{"$f":"'2011 Base Data'!M120","v":0.61499999999999999},{"$f":"\"E\"&U119&\":\"&\"E\"&V119","v":"E120:E120"},{"$f":"\"H\"&U119&\":\"&\"H\"&V119","v":"H120:H120"},{"$f":"\"L\"&U119&\":\"&\"L\"&V119","v":"L120:L120"},null,"<TR VALIGN=BOTTOM>",{"$f":"\"<TD NOWRAP ALIGN=LEFT><FONT FACE=\"\"Times New Roman\"\" SIZE=-1 COLOR=#00AA00\"\">\"&A120&\"</FONT></TD>\"","v":"<TD NOWRAP ALIGN=LEFT><FONT FACE=\"Times New Roman\" SIZE=-1 COLOR=#00AA00\">Hoosic Valley CSD</FONT></TD>"},"<TD NOWRAP ALIGN=RIGHT><FONT FACE=\"Times New Roman\" SIZE=-1>$9.22</FONT></TD>","<TD NOWRAP ALIGN=RIGHT><FONT FACE=\"Times New Roman\" SIZE=-1>$4.02</FONT></TD>","<TD NOWRAP ALIGN=RIGHT><FONT FACE=\"Times New Roman\" SIZE=-1>$3.27</FONT></TD>","<TD NOWRAP ALIGN=CENTER><FONT FACE=\"Times New Roman\" SIZE=-1>$26.39</FONT></TD>","<TD NOWRAP ALIGN=CENTER><FONT FACE=\"Times New Roman\" SIZE=-1>$42.90</FONT></TD>","<TD NOWRAP ALIGN=CENTER><FONT FACE=\"Times New Roman\" SIZE=-1>0.5432</FONT></TD>","<TD NOWRAP ALIGN=CENTER><FONT FACE=\"Times New Roman\" SIZE=-1>$26.15</FONT></TD>","</TR>"]
["Town of Poestenkill",{"$f":"B122","v":21.85},{"$f":"C122","v":10.64},null,{"$f":"MIN(INDIRECT(U122))","v":57.25},{"$f":"IF(G121<>0,\"to\",\"\")","v":"to"},{"$f":"IF(U121<>V121,MAX(INDIRECT(U122)),0)","v":77.349999999999994},{"$f":"MIN(INDIRECT(V122))","v":89.74},{"$f":"IF(J121<>0,\"to\",\"\")","v":"to"},{"$f":"IF(U121<>V121,MAX(INDIRECT(V122)),0)","v":109.84},{"$f":"K122","v":0.2475},{"$f":"MIN(INDIRECT(W122))","v":22.21},{"$f":"IF(N121<>0,\"to\",\"\")","v":"to"},{"$f":"IF(U121<>V121,MAX(INDIRECT(W122)),0)","v":27.18},null,null,null,null,null,null,{"$f":"CELL(\"row\",P122)","v":122},{"$f":"CELL(\"row\",P125)","v":125},null,null,"<TR VALIGN=BOTTOM BGCOLOR=\"#FFFFCC\">",{"$f":"\"<TH NOWRAP ALIGN=LEFT><FONT FACE=\"\"Times New Roman\"\" SIZE=-1>\"&A121&\"</FONT></TH>\"","v":"<TH NOWRAP ALIGN=LEFT><FONT FACE=\"Times New Roman\" SIZE=-1>Town of Poestenkill</FONT></TH>"},"<TD NOWRAP ALIGN=RIGHT><FONT FACE=\"Times New Roman\" SIZE=-1>$21.85</FONT></TD>","<TD NOWRAP ALIGN=RIGHT><FONT FACE=\"Times New Roman\" SIZE=-1>$10.64</FONT></TD>","<TD NOWRAP ALIGN=RIGHT><FONT FACE=\"Times New Roman\" SIZE=-1><BR></FONT></TD>","<TD NOWRAP ALIGN=CENTER><FONT FACE=\"Times New Roman\" SIZE=-1>$57.25 to $77.35</FONT></TD>","<TD NOWRAP ALIGN=CENTER><FONT FACE=\"Times New Roman\" SIZE=-1>$89.74 to $109.84</FONT></TD>","<TD NOWRAP ALIGN=CENTER><FONT FACE=\"Times New Roman\" SIZE=-1>0.2475</FONT></TD>","<TD NOWRAP ALIGN=CENTER><FONT FACE=\"Times New Roman\" SIZE=-1>$22.21 to $27.18</FONT></TD>","</TR>"]
["Averill Park CSD",{"$f":"'2011 Base Data'!F122","v":21.85},{"$f":"'2011 Base Data'!G122","v":10.64},null,{"$f":"'2011 Base Data'!I122","v":63.95},null,null,{"$f":"'2011 Base Data'!J122","v":96.44},null,null,{"$f":"'2011 Base Data'!K122","v":0.2475},{"$f":"'2011 Base Data'!R122","v":23.87},null,null,{"$f":"ROUND(IF(S122<>0,R122*D122+S122*SUM(B122:C122)+T122*E122,R122*SUM(B122:D122)+T122*E122),2)","v":23.87},{"$f":"L122-O122","v":0},null,{"$f":"'2011 Base Data'!K122","v":0.2475},{"$f":"'2011 Base Data'!L122","v":0},{"$f":"'2011 Base Data'!M122","v":0.2475},{"$f":"\"E\"&U121&\":\"&\"E\"&V121","v":"E122:E125"},{"$f":"\"H\"&U121&\":\"&\"H\"&V121","v":"H122:H125"},{"$f":"\"L\"&U121&\":\"&\"L\"&V121","v":"L122:L125"},null,"<TR VALIGN=BOTTOM>",{"$f":"\"<TD NOWRAP ALIGN=LEFT><FONT FACE=\"\"Times New Roman\"\" SIZE=-1 COLOR=#00AA00\"\">\"&A122&\"</FONT></TD>\"","v":"<TD NOWRAP ALIGN=LEFT><FONT FACE=\"Times New Roman\" SIZE=-1 COLOR=#00AA00\">Averill Park CSD</FONT></TD>"},"<TD NOWRAP ALIGN=RIGHT><FONT FACE=\"Times New Roman\" SIZE=-1>$21.85</FONT></TD>","<TD NOWRAP ALIGN=RIGHT><FONT FACE=\"Times New Roman\" SIZE=-1>$10.64</FONT></TD>","<TD NOWRAP ALIGN=RIGHT><FONT FACE=\"Times New Roman\" SIZE=-1><BR></FONT></TD>","<TD NOWRAP ALIGN=CENTER><FONT FACE=\"Times New Roman\" SIZE=-1>$63.95</FONT></TD>","<TD NOWRAP ALIGN=CENTER><FONT FACE=\"Times New Roman\" SIZE=-1>$96.44</FONT></TD>","<TD NOWRAP ALIGN=CENTER><FONT FACE=\"Times New Roman\" SIZE=-1>0.2475</FONT></TD>","<TD NOWRAP ALIGN=CENTER><FONT FACE=\"Times New Roman\" SIZE=-1>$23.87</FONT></TD>","</TR>"]
["Berlin CSD",{"$f":"'2011 Base Data'!F123","v":21.85},{"$f":"'2011 Base Data'!G123","v":10.64},null,{"$f":"'2011 Base Data'!I123","v":57.25},null,null,{"$f":"'2011 Base Data'!J123","v":89.74},null,null,{"$f":"'2011 Base Data'!K123","v":0.2475},{"$f":"'2011 Base Data'!R123","v":22.21},null,null,{"$f":"ROUND(IF(S123<>0,R123*D123+S123*SUM(B123:C123)+T123*E123,R123*SUM(B123:D123)+T123*E123),2)","v":22.21},{"$f":"L123-O123","v":0},null,{"$f":"'2011 Base Data'!K123","v":0.2475},{"$f":"'2011 Base Data'!L123","v":0},{"$f":"'2011 Base Data'!M123","v":0.2475},null,null,null,null,"<TR VALIGN=BOTTOM>",{"$f":"\"<TD NOWRAP ALIGN=LEFT><FONT FACE=\"\"Times New Roman\"\" SIZE=-1 COLOR=#00AA00\"\">\"&A123&\"</FONT></TD>\"","v":"<TD NOWRAP ALIGN=LEFT><FONT FACE=\"Times New Roman\" SIZE=-1 COLOR=#00AA00\">Berlin CSD</FONT></TD>"},"<TD NOWRAP ALIGN=RIGHT><FONT FACE=\"Times New Roman\" SIZE=-1>$21.85</FONT></TD>","<TD NOWRAP ALIGN=RIGHT><FONT FACE=\"Times New Roman\" SIZE=-1>$10.64</FONT></TD>","<TD NOWRAP ALIGN=RIGHT><FONT FACE=\"Times New Roman\" SIZE=-1><BR></FONT></TD>","<TD NOWRAP ALIGN=CENTER><FONT FACE=\"Times New Roman\" SIZE=-1>$57.25</FONT></TD>","<TD NOWRAP ALIGN=CENTER><FONT FACE=\"Times New Roman\" SIZE=-1>$89.74</FONT></TD>","<TD NOWRAP ALIGN=CENTER><FONT FACE=\"Times New Roman\" SIZE=-1>0.2475</FONT></TD>","<TD NOWRAP ALIGN=CENTER><FONT FACE=\"Times New Roman\" SIZE=-1>$22.21</FONT></TD>","</TR>"]
["Brunswick CSD",{"$f":"'2011 Base Data'!F124","v":21.85},{"$f":"'2011 Base Data'!G124","v":10.64},null,{"$f":"'2011 Base Data'!I124","v":68.38},null,null,{"$f":"'2011 Base Data'!J124","v":100.87},null,null,{"$f":"'2011 Base Data'!K124","v":0.2475},{"$f":"'2011 Base Data'!R124","v":24.96},null,null,{"$f":"ROUND(IF(S124<>0,R124*D124+S124*SUM(B124:C124)+T124*E124,R124*SUM(B124:D124)+T124*E124),2)","v":24.97},{"$f":"L124-O124","v":-9.9999999999980105E-3},null,{"$f":"'2011 Base Data'!K124","v":0.2475},{"$f":"'2011 Base Data'!L124","v":0},{"$f":"'2011 Base Data'!M124","v":0.2475},null,null,null,null,"<TR VALIGN=BOTTOM>",{"$f":"\"<TD NOWRAP ALIGN=LEFT><FONT FACE=\"\"Times New Roman\"\" SIZE=-1 COLOR=#00AA00\"\">\"&A124&\"</FONT></TD>\"","v":"<TD NOWRAP ALIGN=LEFT><FONT FACE=\"Times New Roman\" SIZE=-1 COLOR=#00AA00\">Brunswick CSD</FONT></TD>"},"<TD NOWRAP ALIGN=RIGHT><FONT FACE=\"Times New Roman\" SIZE=-1>$21.85</FONT></TD>","<TD NOWRAP ALIGN=RIGHT><FONT FACE=\"Times New Roman\" SIZE=-1>$10.64</FONT></TD>","<TD NOWRAP ALIGN=RIGHT><FONT FACE=\"Times New Roman\" SIZE=-1><BR></FONT></TD>","<TD NOWRAP ALIGN=CENTER><FONT FACE=\"Times New Roman\" SIZE=-1>$68.38</FONT></TD>","<TD NOWRAP ALIGN=CENTER><FONT FACE=\"Times New Roman\" SIZE=-1>$100.87</FONT></TD>","<TD NOWRAP ALIGN=CENTER><FONT FACE=\"Times New Roman\" SIZE=-1>0.2475</FONT></TD>","<TD NOWRAP ALIGN=CENTER><FONT FACE=\"Times New Roman\" SIZE=-1>$24.96</FONT></TD>","</TR>"]
["Wynantskill UFSD",{"$f":"'2011 Base Data'!F125","v":21.85},{"$f":"'2011 Base Data'!G125","v":10.64},null,{"$f":"'2011 Base Data'!I125","v":77.349999999999994},null,null,{"$f":"'2011 Base Data'!J125","v":109.84},null,null,{"$f":"'2011 Base Data'!K125","v":0.2475},{"$f":"'2011 Base Data'!R125","v":27.18},null,null,{"$f":"ROUND(IF(S125<>0,R125*D125+S125*SUM(B125:C125)+T125*E125,R125*SUM(B125:D125)+T125*E125),2)","v":27.19},{"$f":"L125-O125","v":-1.0000000000001563E-2},null,{"$f":"'2011 Base Data'!K125","v":0.2475},{"$f":"'2011 Base Data'!L125","v":0},{"$f":"'2011 Base Data'!M125","v":0.2475},null,null,null,null,"<TR VALIGN=BOTTOM>",{"$f":"\"<TD NOWRAP ALIGN=LEFT><FONT FACE=\"\"Times New Roman\"\" SIZE=-1 COLOR=#00AA00\"\">\"&A125&\"</FONT></TD>\"","v":"<TD NOWRAP ALIGN=LEFT><FONT FACE=\"Times New Roman\" SIZE=-1 COLOR=#00AA00\">Wynantskill UFSD</FONT></TD>"},"<TD NOWRAP ALIGN=RIGHT><FONT FACE=\"Times New Roman\" SIZE=-1>$21.85</FONT></TD>","<TD NOWRAP ALIGN=RIGHT><FONT FACE=\"Times New Roman\" SIZE=-1>$10.64</FONT></TD>","<TD NOWRAP ALIGN=RIGHT><FONT FACE=\"Times New Roman\" SIZE=-1><BR></FONT></TD>","<TD NOWRAP ALIGN=CENTER><FONT FACE=\"Times New Roman\" SIZE=-1>$77.35</FONT></TD>","<TD NOWRAP ALIGN=CENTER><FONT FACE=\"Times New Roman\" SIZE=-1>$109.84</FONT></TD>","<TD NOWRAP ALIGN=CENTER><FONT FACE=\"Times New Roman\" SIZE=-1>0.2475</FONT></TD>","<TD NOWRAP ALIGN=CENTER><FONT FACE=\"Times New Roman\" SIZE=-1>$27.18</FONT></TD>","</TR>"]
["City of Rensselaer",{"$f":"B127","v":18.11},null,{"$f":"D127","v":48.12},{"$f":"MIN(INDIRECT(U127))","v":54.75},{"$f":"IF(G126<>0,\"to\",\"\")","v":""},{"$f":"IF(U126<>V126,MAX(INDIRECT(U127)),0)","v":0},{"$f":"MIN(INDIRECT(V127))","v":120.98},{"$f":"IF(J126<>0,\"to\",\"\")","v":""},{"$f":"IF(U126<>V126,MAX(INDIRECT(V127)),0)","v":0},{"$f":"K127","v":0.29399999999999998},{"$f":"MIN(INDIRECT(W127))","v":35.57},{"$f":"IF(N126<>0,\"to\",\"\")","v":""},{"$f":"IF(U126<>V126,MAX(INDIRECT(W127)),0)","v":0},null,null,null,null,null,null,{"$f":"CELL(\"row\",P127)","v":127},{"$f":"CELL(\"row\",P127)","v":127},null,null,"<TR VALIGN=BOTTOM BGCOLOR=\"#FFFFCC\">",{"$f":"\"<TH NOWRAP ALIGN=LEFT><FONT FACE=\"\"Times New Roman\"\" SIZE=-1 COLOR=#800000\"\">\"&A126&\"</FONT></TH>\"","v":"<TH NOWRAP ALIGN=LEFT><FONT FACE=\"Times New Roman\" SIZE=-1 COLOR=#800000\">City of Rensselaer</FONT></TH>"},"<TD NOWRAP ALIGN=RIGHT><FONT FACE=\"Times New Roman\" SIZE=-1>$18.11</FONT></TD>","<TD NOWRAP ALIGN=RIGHT><FONT FACE=\"Times New Roman\" SIZE=-1><BR></FONT></TD>","<TD NOWRAP ALIGN=RIGHT><FONT FACE=\"Times New Roman\" SIZE=-1>$48.12</FONT></TD>","<TD NOWRAP ALIGN=CENTER><FONT FACE=\"Times New Roman\" SIZE=-1>$54.75</FONT></TD>","<TD NOWRAP ALIGN=CENTER><FONT FACE=\"Times New Roman\" SIZE=-1>$120.98</FONT></TD>","<TD NOWRAP ALIGN=CENTER><FONT FACE=\"Times New Roman\" SIZE=-1>0.2940</FONT></TD>","<TD NOWRAP ALIGN=CENTER><FONT FACE=\"Times New Roman\" SIZE=-1>$35.57</FONT></TD>","</TR>"]
["Rensselaer City SD",{"$f":"'2011 Base Data'!F127","v":18.11},null,{"$f":"'2011 Base Data'!H127","v":48.12},{"$f":"'2011 Base Data'!I127","v":54.75},null,null,{"$f":"'2011 Base Data'!J127","v":120.98},null,null,{"$f":"'2011 Base Data'!K127","v":0.29399999999999998},{"$f":"'2011 Base Data'!R127","v":35.57},null,null,{"$f":"ROUND(IF(S127<>0,R127*D127+S127*SUM(B127:C127)+T127*E127,R127*SUM(B127:D127)+T127*E127),2)","v":35.57},{"$f":"L127-O127","v":0},null,{"$f":"'2011 Base Data'!K127","v":0.29399999999999998},{"$f":"'2011 Base Data'!L127","v":0},{"$f":"'2011 Base Data'!M127","v":0.29399999999999998},{"$f":"\"E\"&U126&\":\"&\"E\"&V126","v":"E127:E127"},{"$f":"\"H\"&U126&\":\"&\"H\"&V126","v":"H127:H127"},{"$f":"\"L\"&U126&\":\"&\"L\"&V126","v":"L127:L127"},null,"<TR VALIGN=BOTTOM>",{"$f":"\"<TD NOWRAP ALIGN=LEFT><FONT FACE=\"\"Times New Roman\"\" SIZE=-1 COLOR=#00AA00\"\">\"&A127&\"</FONT></TD>\"","v":"<TD NOWRAP ALIGN=LEFT><FONT FACE=\"Times New Roman\" SIZE=-1 COLOR=#00AA00\">Rensselaer City SD</FONT></TD>"},"<TD NOWRAP ALIGN=RIGHT><FONT FACE=\"Times New Roman\" SIZE=-1>$18.11</FONT></TD>","<TD NOWRAP ALIGN=RIGHT><FONT FACE=\"Times New Roman\" SIZE=-1><BR></FONT></TD>","<TD NOWRAP ALIGN=RIGHT><FONT FACE=\"Times New Roman\" SIZE=-1>$48.12</FONT></TD>","<TD NOWRAP ALIGN=CENTER><FONT FACE=\"Times New Roman\" SIZE=-1>$54.75</FONT></TD>","<TD NOWRAP ALIGN=CENTER><FONT FACE=\"Times New Roman\" SIZE=-1>$120.98</FONT></TD>","<TD NOWRAP ALIGN=CENTER><FONT FACE=\"Times New Roman\" SIZE=-1>0.2940</FONT></TD>","<TD NOWRAP ALIGN=CENTER><FONT FACE=\"Times New Roman\" SIZE=-1>$35.57</FONT></TD>","</TR>"]
["Town of Sand Lake",{"$f":"B129","v":5.38},{"$f":"C129","v":1.8},null,{"$f":"MIN(INDIRECT(U129))","v":15.82},{"$f":"IF(G128<>0,\"to\",\"\")","v":"to"},{"$f":"IF(U128<>V128,MAX(INDIRECT(U129)),0)","v":16.510000000000002},{"$f":"MIN(INDIRECT(V129))","v":23},{"$f":"IF(J128<>0,\"to\",\"\")","v":"to"},{"$f":"IF(U128<>V128,MAX(INDIRECT(V129)),0)","v":23.69},{"$f":"K129","v":1},{"$f":"MIN(INDIRECT(W129))","v":23},{"$f":"IF(N128<>0,\"to\",\"\")","v":"to"},{"$f":"IF(U128<>V128,MAX(INDIRECT(W129)),0)","v":23.69},null,null,null,null,null,null,{"$f":"CELL(\"row\",P129)","v":129},{"$f":"CELL(\"row\",P130)","v":130},null,null,"<TR VALIGN=BOTTOM BGCOLOR=\"#FFFFCC\">",{"$f":"\"<TH NOWRAP ALIGN=LEFT><FONT FACE=\"\"Times New Roman\"\" SIZE=-1>\"&A128&\"</FONT></TH>\"","v":"<TH NOWRAP ALIGN=LEFT><FONT FACE=\"Times New Roman\" SIZE=-1>Town of Sand Lake</FONT></TH>"},"<TD NOWRAP ALIGN=RIGHT><FONT FACE=\"Times New Roman\" SIZE=-1>$5.38</FONT></TD>","<TD NOWRAP ALIGN=RIGHT><FONT FACE=\"Times New Roman\" SIZE=-1>$1.80</FONT></TD>","<TD NOWRAP ALIGN=RIGHT><FONT FACE=\"Times New Roman\" SIZE=-1><BR></FONT></TD>","<TD NOWRAP ALIGN=CENTER><FONT FACE=\"Times New Roman\" SIZE=-1>$15.82 to $16.51</FONT></TD>","<TD NOWRAP ALIGN=CENTER><FONT FACE=\"Times New Roman\" SIZE=-1>$23.00 to $23.69</FONT></TD>","<TD NOWRAP ALIGN=CENTER><FONT FACE=\"Times New Roman\" SIZE=-1>1.0000</FONT></TD>","<TD NOWRAP ALIGN=CENTER><FONT FACE=\"Times New Roman\" SIZE=-1>$23.00 to $23.69</FONT></TD>","</TR>"]
["Averill Park CSD",{"$f":"'2011 Base Data'!F129","v":5.38},{"$f":"'2011 Base Data'!G129","v":1.8},null,{"$f":"'2011 Base Data'!I129","v":15.82},null,null,{"$f":"'2011 Base Data'!J129","v":23},null,null,{"$f":"'2011 Base Data'!K129","v":1},{"$f":"'2011 Base Data'!R129","v":23},null,null,{"$f":"ROUND(IF(S129<>0,R129*D129+S129*SUM(B129:C129)+T129*E129,R129*SUM(B129:D129)+T129*E129),2)","v":23},{"$f":"L129-O129","v":0},null,{"$f":"'2011 Base Data'!K129","v":1},{"$f":"'2011 Base Data'!L129","v":0},{"$f":"'2011 Base Data'!M129","v":1},{"$f":"\"E\"&U128&\":\"&\"E\"&V128","v":"E129:E130"},{"$f":"\"H\"&U128&\":\"&\"H\"&V128","v":"H129:H130"},{"$f":"\"L\"&U128&\":\"&\"L\"&V128","v":"L129:L130"},null,"<TR VALIGN=BOTTOM>",{"$f":"\"<TD NOWRAP ALIGN=LEFT><FONT FACE=\"\"Times New Roman\"\" SIZE=-1 COLOR=#00AA00\"\">\"&A129&\"</FONT></TD>\"","v":"<TD NOWRAP ALIGN=LEFT><FONT FACE=\"Times New Roman\" SIZE=-1 COLOR=#00AA00\">Averill Park CSD</FONT></TD>"},"<TD NOWRAP ALIGN=RIGHT><FONT FACE=\"Times New Roman\" SIZE=-1>$5.38</FONT></TD>","<TD NOWRAP ALIGN=RIGHT><FONT FACE=\"Times New Roman\" SIZE=-1>$1.80</FONT></TD>","<TD NOWRAP ALIGN=RIGHT><FONT FACE=\"Times New Roman\" SIZE=-1><BR></FONT></TD>","<TD NOWRAP ALIGN=CENTER><FONT FACE=\"Times New Roman\" SIZE=-1>$15.82</FONT></TD>","<TD NOWRAP ALIGN=CENTER><FONT FACE=\"Times New Roman\" SIZE=-1>$23.00</FONT></TD>","<TD NOWRAP ALIGN=CENTER><FONT FACE=\"Times New Roman\" SIZE=-1>1.0000</FONT></TD>","<TD NOWRAP ALIGN=CENTER><FONT FACE=\"Times New Roman\" SIZE=-1>$23.00</FONT></TD>","</TR>"]
["East Greenbush CSD",{"$f":"'2011 Base Data'!F130","v":5.38},{"$f":"'2011 Base Data'!G130","v":1.8},null,{"$f":"'2011 Base Data'!I130","v":16.510000000000002},null,null,{"$f":"'2011 Base Data'!J130","v":23.69},null,null,{"$f":"'2011 Base Data'!K130","v":1},{"$f":"'2011 Base Data'!R130","v":23.69},null,null,{"$f":"ROUND(IF(S130<>0,R130*D130+S130*SUM(B130:C130)+T130*E130,R130*SUM(B130:D130)+T130*E130),2)","v":23.69},{"$f":"L130-O130","v":0},null,{"$f":"'2011 Base Data'!K130","v":1},{"$f":"'2011 Base Data'!L130","v":0},{"$f":"'2011 Base Data'!M130","v":1},null,null,null,null,"<TR VALIGN=BOTTOM>",{"$f":"\"<TD NOWRAP ALIGN=LEFT><FONT FACE=\"\"Times New Roman\"\" SIZE=-1 COLOR=#00AA00\"\">\"&A130&\"</FONT></TD>\"","v":"<TD NOWRAP ALIGN=LEFT><FONT FACE=\"Times New Roman\" SIZE=-1 COLOR=#00AA00\">East Greenbush CSD</FONT></TD>"},"<TD NOWRAP ALIGN=RIGHT><FONT FACE=\"Times New Roman\" SIZE=-1>$5.38</FONT></TD>","<TD NOWRAP ALIGN=RIGHT><FONT FACE=\"Times New Roman\" SIZE=-1>$1.80</FONT></TD>","<TD NOWRAP ALIGN=RIGHT><FONT FACE=\"Times New Roman\" SIZE=-1><BR></FONT></TD>","<TD NOWRAP ALIGN=CENTER><FONT FACE=\"Times New Roman\" SIZE=-1>$16.51</FONT></TD>","<TD NOWRAP ALIGN=CENTER><FONT FACE=\"Times New Roman\" SIZE=-1>$23.69</FONT></TD>","<TD NOWRAP ALIGN=CENTER><FONT FACE=\"Times New Roman\" SIZE=-1>1.0000</FONT></TD>","<TD NOWRAP ALIGN=CENTER><FONT FACE=\"Times New Roman\" SIZE=-1>$23.69</FONT></TD>","</TR>"]
["Town of Schaghticoke",{"$f":"B132","v":24.02},{"$f":"C132","v":7.51},null,{"$f":"MIN(INDIRECT(U132))","v":51.8},{"$f":"IF(G131<>0,\"to\",\"\")","v":"to"},{"$f":"IF(U131<>V131,MAX(INDIRECT(U132)),0)","v":72.02},{"$f":"MIN(INDIRECT(V132))","v":83.33},{"$f":"IF(J131<>0,\"to\",\"\")","v":"to"},{"$f":"IF(U131<>V131,MAX(INDIRECT(V132)),0)","v":103.55},{"$f":"K132","v":0.23499999999999999},{"$f":"MIN(INDIRECT(W132))","v":19.57},{"$f":"IF(N131<>0,\"to\",\"\")","v":"to"},{"$f":"IF(U131<>V131,MAX(INDIRECT(W132)),0)","v":24.32},null,null,null,null,null,null,{"$f":"CELL(\"row\",P132)","v":132},{"$f":"CELL(\"row\",P137)","v":137},null,null,"<TR VALIGN=BOTTOM BGCOLOR=\"#FFFFCC\">",{"$f":"\"<TH NOWRAP ALIGN=LEFT><FONT FACE=\"\"Times New Roman\"\" SIZE=-1>\"&A131&\"</FONT></TH>\"","v":"<TH NOWRAP ALIGN=LEFT><FONT FACE=\"Times New Roman\" SIZE=-1>Town of Schaghticoke</FONT></TH>"},"<TD NOWRAP ALIGN=RIGHT><FONT FACE=\"Times New Roman\" SIZE=-1>$24.02</FONT></TD>","<TD NOWRAP ALIGN=RIGHT><FONT FACE=\"Times New Roman\" SIZE=-1>$7.51</FONT></TD>","<TD NOWRAP ALIGN=RIGHT><FONT FACE=\"Times New Roman\" SIZE=-1><BR></FONT></TD>","<TD NOWRAP ALIGN=CENTER><FONT FACE=\"Times New Roman\" SIZE=-1>$51.80 to $72.02</FONT></TD>","<TD NOWRAP ALIGN=CENTER><FONT FACE=\"Times New Roman\" SIZE=-1>$83.33 to $103.55</FONT></TD>","<TD NOWRAP ALIGN=CENTER><FONT FACE=\"Times New Roman\" SIZE=-1>0.2350</FONT></TD>","<TD NOWRAP ALIGN=CENTER><FONT FACE=\"Times New Roman\" SIZE=-1>$19.57 to $24.32</FONT></TD>","</TR>"]
["Brunswick CSD",{"$f":"'2011 Base Data'!F132","v":24.02},{"$f":"'2011 Base Data'!G132","v":7.51},null,{"$f":"'2011 Base Data'!I132","v":72.02},null,null,{"$f":"'2011 Base Data'!J132","v":103.55},null,null,{"$f":"'2011 Base Data'!K132","v":0.23499999999999999},{"$f":"'2011 Base Data'!R132","v":24.32},null,null,{"$f":"ROUND(IF(S132<>0,R132*D132+S132*SUM(B132:C132)+T132*E132,R132*SUM(B132:D132)+T132*E132),2)","v":24.33},{"$f":"L132-O132","v":-9.9999999999980105E-3},null,{"$f":"'2011 Base Data'!K132","v":0.23499999999999999},{"$f":"'2011 Base Data'!L132","v":0},{"$f":"'2011 Base Data'!M132","v":0.23499999999999999},{"$f":"\"E\"&U131&\":\"&\"E\"&V131","v":"E132:E137"},{"$f":"\"H\"&U131&\":\"&\"H\"&V131","v":"H132:H137"},{"$f":"\"L\"&U131&\":\"&\"L\"&V131","v":"L132:L137"},null,"<TR VALIGN=BOTTOM>",{"$f":"\"<TD NOWRAP ALIGN=LEFT><FONT FACE=\"\"Times New Roman\"\" SIZE=-1 COLOR=#00AA00\"\">\"&A132&\"</FONT></TD>\"","v":"<TD NOWRAP ALIGN=LEFT><FONT FACE=\"Times New Roman\" SIZE=-1 COLOR=#00AA00\">Brunswick CSD</FONT></TD>"},"<TD NOWRAP ALIGN=RIGHT><FONT FACE=\"Times New Roman\" SIZE=-1>$24.02</FONT></TD>","<TD NOWRAP ALIGN=RIGHT><FONT FACE=\"Times New Roman\" SIZE=-1>$7.51</FONT></TD>","<TD NOWRAP ALIGN=RIGHT><FONT FACE=\"Times New Roman\" SIZE=-1><BR></FONT></TD>","<TD NOWRAP ALIGN=CENTER><FONT FACE=\"Times New Roman\" SIZE=-1>$72.02</FONT></TD>","<TD NOWRAP ALIGN=CENTER><FONT FACE=\"Times New Roman\" SIZE=-1>$103.55</FONT></TD>","<TD NOWRAP ALIGN=CENTER><FONT FACE=\"Times New Roman\" SIZE=-1>0.2350</FONT></TD>","<TD NOWRAP ALIGN=CENTER><FONT FACE=\"Times New Roman\" SIZE=-1>$24.32</FONT></TD>","</TR>"]
["Cambridge CSD",{"$f":"'2011 Base Data'!F133","v":24.02},{"$f":"'2011 Base Data'!G133","v":7.51},null,{"$f":"'2011 Base Data'!I133","v":54.04},null,null,{"$f":"'2011 Base Data'!J133","v":85.57},null,null,{"$f":"'2011 Base Data'!K133","v":0.23499999999999999},{"$f":"'2011 Base Data'!R133","v":20.100000000000001},null,null,20.11,-9.9999999999980105E-3,null,{"$f":"'2011 Base Data'!K133","v":0.23499999999999999},{"$f":"'2011 Base Data'!L133","v":0},{"$f":"'2011 Base Data'!M133","v":0.23499999999999999},null,null,null,null,"<TR VALIGN=BOTTOM>","<TD NOWRAP ALIGN=LEFT><FONT FACE=\"Times New Roman\" SIZE=-1 COLOR=#00AA00\">Cambridge CSD</FONT></TD>","<TD NOWRAP ALIGN=RIGHT><FONT FACE=\"Times New Roman\" SIZE=-1>$24.02</FONT></TD>","<TD NOWRAP ALIGN=RIGHT><FONT FACE=\"Times New Roman\" SIZE=-1>$7.51</FONT></TD>","<TD NOWRAP ALIGN=RIGHT><FONT FACE=\"Times New Roman\" SIZE=-1><BR></FONT></TD>","<TD NOWRAP ALIGN=CENTER><FONT FACE=\"Times New Roman\" SIZE=-1>$54.04</FONT></TD>","<TD NOWRAP ALIGN=CENTER><FONT FACE=\"Times New Roman\" SIZE=-1>$85.57</FONT></TD>","<TD NOWRAP ALIGN=CENTER><FONT FACE=\"Times New Roman\" SIZE=-1>0.2350</FONT></TD>","<TD NOWRAP ALIGN=CENTER><FONT FACE=\"Times New Roman\" SIZE=-1>$20.10</FONT></TD>","</TR>"]
["Hoosic Valley CSD",{"$f":"'2011 Base Data'!F134","v":24.02},{"$f":"'2011 Base Data'!G134","v":7.51},null,{"$f":"'2011 Base Data'!I134","v":69.06},null,null,{"$f":"'2011 Base Data'!J134","v":100.59},null,null,{"$f":"'2011 Base Data'!K134","v":0.23499999999999999},{"$f":"'2011 Base Data'!R134","v":23.63},null,null,23.64,-1.0000000000001563E-2,null,{"$f":"'2011 Base Data'!K134","v":0.23499999999999999},{"$f":"'2011 Base Data'!L134","v":0},{"$f":"'2011 Base Data'!M134","v":0.23499999999999999},null,null,null,null,"<TR VALIGN=BOTTOM>","<TD NOWRAP ALIGN=LEFT><FONT FACE=\"Times New Roman\" SIZE=-1 COLOR=#00AA00\">Hoosic Valley CSD</FONT></TD>","<TD NOWRAP ALIGN=RIGHT><FONT FACE=\"Times New Roman\" SIZE=-1>$24.02</FONT></TD>","<TD NOWRAP ALIGN=RIGHT><FONT FACE=\"Times New Roman\" SIZE=-1>$7.51</FONT></TD>","<TD NOWRAP ALIGN=RIGHT><FONT FACE=\"Times New Roman\" SIZE=-1><BR></FONT></TD>","<TD NOWRAP ALIGN=CENTER><FONT FACE=\"Times New Roman\" SIZE=-1>$69.06</FONT></TD>","<TD NOWRAP ALIGN=CENTER><FONT FACE=\"Times New Roman\" SIZE=-1>$100.59</FONT></TD>","<TD NOWRAP ALIGN=CENTER><FONT FACE=\"Times New Roman\" SIZE=-1>0.2350</FONT></TD>","<TD NOWRAP ALIGN=CENTER><FONT FACE=\"Times New Roman\" SIZE=-1>$23.63</FONT></TD>","</TR>"]
["Lansingburgh CSD",{"$f":"'2011 Base Data'!F135","v":24.02},{"$f":"'2011 Base Data'!G135","v":7.51},null,{"$f":"'2011 Base Data'!I135","v":66.98},null,null,{"$f":"'2011 Base Data'!J135","v":98.51},null,null,{"$f":"'2011 Base Data'!K135","v":0.23499999999999999},{"$f":"'2011 Base Data'!R135","v":23.14},null,null,23.15,-9.9999999999980105E-3,null,{"$f":"'2011 Base Data'!K135","v":0.23499999999999999},{"$f":"'2011 Base Data'!L135","v":0},{"$f":"'2011 Base Data'!M135","v":0.23499999999999999},null,null,null,null,"<TR VALIGN=BOTTOM>","<TD NOWRAP ALIGN=LEFT><FONT FACE=\"Times New Roman\" SIZE=-1 COLOR=#00AA00\">Lansingburgh CSD</FONT></TD>","<TD NOWRAP ALIGN=RIGHT><FONT FACE=\"Times New Roman\" SIZE=-1>$24.02</FONT></TD>","<TD NOWRAP ALIGN=RIGHT><FONT FACE=\"Times New Roman\" SIZE=-1>$7.51</FONT></TD>","<TD NOWRAP ALIGN=RIGHT><FONT FACE=\"Times New Roman\" SIZE=-1><BR></FONT></TD>","<TD NOWRAP ALIGN=CENTER><FONT FACE=\"Times New Roman\" SIZE=-1>$66.98</FONT></TD>","<TD NOWRAP ALIGN=CENTER><FONT FACE=\"Times New Roman\" SIZE=-1>$98.51</FONT></TD>","<TD NOWRAP ALIGN=CENTER><FONT FACE=\"Times New Roman\" SIZE=-1>0.2350</FONT></TD>","<TD NOWRAP ALIGN=CENTER><FONT FACE=\"Times New Roman\" SIZE=-1>$23.14</FONT></TD>","</TR>"]
["Mechanicville City SD",{"$f":"'2011 Base Data'!F136","v":24.02},{"$f":"'2011 Base Data'!G136","v":7.51},null,{"$f":"'2011 Base Data'!I136","v":66.97},null,null,{"$f":"'2011 Base Data'!J136","v":98.5},null,null,{"$f":"'2011 Base Data'!K136","v":0.23499999999999999},{"$f":"'2011 Base Data'!R136","v":23.14},null,null,23.15,-9.9999999999980105E-3,null,{"$f":"'2011 Base Data'!K136","v":0.23499999999999999},{"$f":"'2011 Base Data'!L136","v":0},{"$f":"'2011 Base Data'!M136","v":0.23499999999999999},null,null,null,null,"<TR VALIGN=BOTTOM>","<TD NOWRAP ALIGN=LEFT><FONT FACE=\"Times New Roman\" SIZE=-1 COLOR=#00AA00\">Mechanicville City SD</FONT></TD>","<TD NOWRAP ALIGN=RIGHT><FONT FACE=\"Times New Roman\" SIZE=-1>$24.02</FONT></TD>","<TD NOWRAP ALIGN=RIGHT><FONT FACE=\"Times New Roman\" SIZE=-1>$7.51</FONT></TD>","<TD NOWRAP ALIGN=RIGHT><FONT FACE=\"Times New Roman\" SIZE=-1><BR></FONT></TD>","<TD NOWRAP ALIGN=CENTER><FONT FACE=\"Times New Roman\" SIZE=-1>$66.97</FONT></TD>","<TD NOWRAP ALIGN=CENTER><FONT FACE=\"Times New Roman\" SIZE=-1>$98.50</FONT></TD>","<TD NOWRAP ALIGN=CENTER><FONT FACE=\"Times New Roman\" SIZE=-1>0.2350</FONT></TD>","<TD NOWRAP ALIGN=CENTER><FONT FACE=\"Times New Roman\" SIZE=-1>$23.14</FONT></TD>","</TR>"]
["Stillwater CSD",{"$f":"'2011 Base Data'!F137","v":24.02},{"$f":"'2011 Base Data'!G137","v":7.51},null,{"$f":"'2011 Base Data'!I137","v":51.8},null,null,{"$f":"'2011 Base Data'!J137","v":83.33},null,null,{"$f":"'2011 Base Data'!K137","v":0.23499999999999999},{"$f":"'2011 Base Data'!R137","v":19.57},null,null,19.579999999999998,-9.9999999999980105E-3,null,{"$f":"'2011 Base Data'!K137","v":0.23499999999999999},{"$f":"'2011 Base Data'!L137","v":0},{"$f":"'2011 Base Data'!M137","v":0.23499999999999999},null,null,null,null,"<TR VALIGN=BOTTOM>","<TD NOWRAP ALIGN=LEFT><FONT FACE=\"Times New Roman\" SIZE=-1 COLOR=#00AA00\">Stillwater CSD</FONT></TD>","<TD NOWRAP ALIGN=RIGHT><FONT FACE=\"Times New Roman\" SIZE=-1>$24.02</FONT></TD>","<TD NOWRAP ALIGN=RIGHT><FONT FACE=\"Times New Roman\" SIZE=-1>$7.51</FONT></TD>","<TD NOWRAP ALIGN=RIGHT><FONT FACE=\"Times New Roman\" SIZE=-1><BR></FONT></TD>","<TD NOWRAP ALIGN=CENTER><FONT FACE=\"Times New Roman\" SIZE=-1>$51.80</FONT></TD>","<TD NOWRAP ALIGN=CENTER><FONT FACE=\"Times New Roman\" SIZE=-1>$83.33</FONT></TD>","<TD NOWRAP ALIGN=CENTER><FONT FACE=\"Times New Roman\" SIZE=-1>0.2350</FONT></TD>","<TD NOWRAP ALIGN=CENTER><FONT FACE=\"Times New Roman\" SIZE=-1>$19.57</FONT></TD>","</TR>"]
["Village of Schaghticoke",{"$f":"B139","v":24.02},{"$f":"C139","v":5.86},{"$f":"D139","v":14.68},{"$f":"MIN(INDIRECT(U139))","v":69.06},{"$f":"IF(G138<>0,\"to\",\"\")","v":""},{"$f":"IF(U138<>V138,MAX(INDIRECT(U139)),0)","v":0},{"$f":"MIN(INDIRECT(V139))","v":113.62},{"$f":"IF(J138<>0,\"to\",\"\")","v":""},{"$f":"IF(U138<>V138,MAX(INDIRECT(V139)),0)","v":0},{"$f":"K139","v":0.23},{"$f":"MIN(INDIRECT(W139))","v":26.63},{"$f":"IF(N138<>0,\"to\",\"\")","v":""},{"$f":"IF(U138<>V138,MAX(INDIRECT(W139)),0)","v":0},null,null,null,null,null,null,{"$f":"CELL(\"row\",P139)","v":139},{"$f":"CELL(\"row\",P139)","v":139},null,null,"<TR VALIGN=BOTTOM BGCOLOR=\"#FFFFCC\">",{"$f":"\"<TH NOWRAP ALIGN=LEFT><FONT FACE=\"\"Times New Roman\"\" SIZE=-1 COLOR=\"\"#0000CC\"\">\"&A138&\"</FONT></TH>\"","v":"<TH NOWRAP ALIGN=LEFT><FONT FACE=\"Times New Roman\" SIZE=-1 COLOR=\"#0000CC\">Village of Schaghticoke</FONT></TH>"},"<TD NOWRAP ALIGN=RIGHT><FONT FACE=\"Times New Roman\" SIZE=-1>$24.02</FONT></TD>","<TD NOWRAP ALIGN=RIGHT><FONT FACE=\"Times New Roman\" SIZE=-1>$5.86</FONT></TD>","<TD NOWRAP ALIGN=RIGHT><FONT FACE=\"Times New Roman\" SIZE=-1>$14.68</FONT></TD>","<TD NOWRAP ALIGN=CENTER><FONT FACE=\"Times New Roman\" SIZE=-1>$69.06</FONT></TD>","<TD NOWRAP ALIGN=CENTER><FONT FACE=\"Times New Roman\" SIZE=-1>$113.62</FONT></TD>","<TD NOWRAP ALIGN=CENTER><FONT FACE=\"Times New Roman\" SIZE=-1>0.2300</FONT></TD>","<TD NOWRAP ALIGN=CENTER><FONT FACE=\"Times New Roman\" SIZE=-1>$26.63</FONT></TD>","</TR>"]
["Hoosic Valley CSD",{"$f":"'2011 Base Data'!F139","v":24.02},{"$f":"'2011 Base Data'!G139","v":5.86},{"$f":"'2011 Base Data'!H139","v":14.68},{"$f":"'2011 Base Data'!I139","v":69.06},null,null,{"$f":"'2011 Base Data'!J139","v":113.62},null,null,{"$f":"'2011 Base Data'!K139","v":0.23},{"$f":"'2011 Base Data'!R139","v":26.63},null,null,{"$f":"ROUND(IF(S139<>0,R139*D139+S139*SUM(B139:C139)+T139*E139,R139*SUM(B139:D139)+T139*E139),2)","v":26.63},{"$f":"L139-O139","v":0},null,{"$f":"'2011 Base Data'!K139","v":0.23},{"$f":"'2011 Base Data'!L139","v":0.23499999999999999},{"$f":"'2011 Base Data'!M139","v":0.23499999999999999},{"$f":"\"E\"&U138&\":\"&\"E\"&V138","v":"E139:E139"},{"$f":"\"H\"&U138&\":\"&\"H\"&V138","v":"H139:H139"},{"$f":"\"L\"&U138&\":\"&\"L\"&V138","v":"L139:L139"},null,"<TR VALIGN=BOTTOM>",{"$f":"\"<TD NOWRAP ALIGN=LEFT><FONT FACE=\"\"Times New Roman\"\" SIZE=-1 COLOR=#00AA00\"\">\"&A139&\"</FONT></TD>\"","v":"<TD NOWRAP ALIGN=LEFT><FONT FACE=\"Times New Roman\" SIZE=-1 COLOR=#00AA00\">Hoosic Valley CSD</FONT></TD>"},"<TD NOWRAP ALIGN=RIGHT><FONT FACE=\"Times New Roman\" SIZE=-1>$24.02</FONT></TD>","<TD NOWRAP ALIGN=RIGHT><FONT FACE=\"Times New Roman\" SIZE=-1>$5.86</FONT></TD>","<TD NOWRAP ALIGN=RIGHT><FONT FACE=\"Times New Roman\" SIZE=-1>$14.68</FONT></TD>","<TD NOWRAP ALIGN=CENTER><FONT FACE=\"Times New Roman\" SIZE=-1>$69.06</FONT></TD>","<TD NOWRAP ALIGN=CENTER><FONT FACE=\"Times New Roman\" SIZE=-1>$113.62</FONT></TD>","<TD NOWRAP ALIGN=CENTER><FONT FACE=\"Times New Roman\" SIZE=-1>0.2300</FONT></TD>","<TD NOWRAP ALIGN=CENTER><FONT FACE=\"Times New Roman\" SIZE=-1>$26.63</FONT></TD>","</TR>"]
["Village of Valley Falls (part)",{"$f":"B141","v":24.02},{"$f":"C141","v":5.86},{"$f":"D141","v":3.27},{"$f":"MIN(INDIRECT(U141))","v":69.06},{"$f":"IF(G140<>0,\"to\",\"\")","v":""},{"$f":"IF(U140<>V140,MAX(INDIRECT(U141)),0)","v":0},{"$f":"MIN(INDIRECT(V141))","v":102.21},{"$f":"IF(J140<>0,\"to\",\"\")","v":""},{"$f":"IF(U140<>V140,MAX(INDIRECT(V141)),0)","v":0},{"$f":"K141","v":0.54320000000000002},{"$f":"MIN(INDIRECT(W141))","v":25.03},{"$f":"IF(N140<>0,\"to\",\"\")","v":""},{"$f":"IF(U140<>V140,MAX(INDIRECT(W141)),0)","v":0},null,null,null,null,null,null,{"$f":"CELL(\"row\",P141)","v":141},{"$f":"CELL(\"row\",P141)","v":141},null,null,"<TR VALIGN=BOTTOM BGCOLOR=\"#FFFFCC\">",{"$f":"\"<TH NOWRAP ALIGN=LEFT><FONT FACE=\"\"Times New Roman\"\" SIZE=-1 COLOR=\"\"#808000\"\">\"&A140&\"</FONT></TH>\"","v":"<TH NOWRAP ALIGN=LEFT><FONT FACE=\"Times New Roman\" SIZE=-1 COLOR=\"#808000\">Village of Valley Falls (part)</FONT></TH>"},"<TD NOWRAP ALIGN=RIGHT><FONT FACE=\"Times New Roman\" SIZE=-1>$24.02</FONT></TD>","<TD NOWRAP ALIGN=RIGHT><FONT FACE=\"Times New Roman\" SIZE=-1>$5.86</FONT></TD>","<TD NOWRAP ALIGN=RIGHT><FONT FACE=\"Times New Roman\" SIZE=-1>$3.27</FONT></TD>","<TD NOWRAP ALIGN=CENTER><FONT FACE=\"Times New Roman\" SIZE=-1>$69.06</FONT></TD>","<TD NOWRAP ALIGN=CENTER><FONT FACE=\"Times New Roman\" SIZE=-1>$102.21</FONT></TD>","<TD NOWRAP ALIGN=CENTER><FONT FACE=\"Times New Roman\" SIZE=-1>0.5432</FONT></TD>","<TD NOWRAP ALIGN=CENTER><FONT FACE=\"Times New Roman\" SIZE=-1>$25.03</FONT></TD>","</TR>"]
["Hoosic Valley CSD",{"$f":"'2011 Base Data'!F141","v":24.02},{"$f":"'2011 Base Data'!G141","v":5.86},{"$f":"'2011 Base Data'!H141","v":3.27},{"$f":"'2011 Base Data'!I141","v":69.06},null,null,{"$f":"'2011 Base Data'!J141","v":102.21},null,null,{"$f":"'2011 Base Data'!K141","v":0.54320000000000002},{"$f":"'2011 Base Data'!R141","v":25.03},null,null,{"$f":"ROUND(IF(S141<>0,R141*D141+S141*SUM(B141:C141)+T141*E141,R141*SUM(B141:D141)+T141*E141),2)","v":25.03},{"$f":"L141-O141","v":0},null,{"$f":"'2011 Base Data'!K141","v":0.54320000000000002},{"$f":"'2011 Base Data'!L141","v":0.23499999999999999},{"$f":"'2011 Base Data'!M141","v":0.23499999999999999},{"$f":"\"E\"&U140&\":\"&\"E\"&V140","v":"E141:E141"},{"$f":"\"H\"&U140&\":\"&\"H\"&V140","v":"H141:H141"},{"$f":"\"L\"&U140&\":\"&\"L\"&V140","v":"L141:L141"},null,"<TR VALIGN=BOTTOM>",{"$f":"\"<TD NOWRAP ALIGN=LEFT><FONT FACE=\"\"Times New Roman\"\" SIZE=-1 COLOR=#00AA00\"\">\"&A141&\"</FONT></TD>\"","v":"<TD NOWRAP ALIGN=LEFT><FONT FACE=\"Times New Roman\" SIZE=-1 COLOR=#00AA00\">Hoosic Valley CSD</FONT></TD>"},"<TD NOWRAP ALIGN=RIGHT><FONT FACE=\"Times New Roman\" SIZE=-1>$24.02</FONT></TD>","<TD NOWRAP ALIGN=RIGHT><FONT FACE=\"Times New Roman\" SIZE=-1>$5.86</FONT></TD>","<TD NOWRAP ALIGN=RIGHT><FONT FACE=\"Times New Roman\" SIZE=-1>$3.27</FONT></TD>","<TD NOWRAP ALIGN=CENTER><FONT FACE=\"Times New Roman\" SIZE=-1>$69.06</FONT></TD>","<TD NOWRAP ALIGN=CENTER><FONT FACE=\"Times New Roman\" SIZE=-1>$102.21</FONT></TD>","<TD NOWRAP ALIGN=CENTER><FONT FACE=\"Times New Roman\" SIZE=-1>0.5432</FONT></TD>","<TD NOWRAP ALIGN=CENTER><FONT FACE=\"Times New Roman\" SIZE=-1>$25.03</FONT></TD>","</TR>"]
["Town of Schodack",{"$f":"B143","v":5.49},{"$f":"C143","v":4.2300000000000004},null,{"$f":"MIN(INDIRECT(U143))","v":13.65},{"$f":"IF(G142<>0,\"to\",\"\")","v":"to"},{"$f":"IF(U142<>V142,MAX(INDIRECT(U143)),0)","v":18.829999999999998},{"$f":"MIN(INDIRECT(V143))","v":23.37},{"$f":"IF(J142<>0,\"to\",\"\")","v":"to"},{"$f":"IF(U142<>V142,MAX(INDIRECT(V143)),0)","v":28.55},{"$f":"K143","v":1},{"$f":"MIN(INDIRECT(W143))","v":23.37},{"$f":"IF(N142<>0,\"to\",\"\")","v":"to"},{"$f":"IF(U142<>V142,MAX(INDIRECT(W143)),0)","v":28.55},null,null,null,null,null,null,{"$f":"CELL(\"row\",P143)","v":143},{"$f":"CELL(\"row\",P146)","v":146},null,null,"<TR VALIGN=BOTTOM BGCOLOR=\"#FFFFCC\">",{"$f":"\"<TH NOWRAP ALIGN=LEFT><FONT FACE=\"\"Times New Roman\"\" SIZE=-1>\"&A142&\"</FONT></TH>\"","v":"<TH NOWRAP ALIGN=LEFT><FONT FACE=\"Times New Roman\" SIZE=-1>Town of Schodack</FONT></TH>"},"<TD NOWRAP ALIGN=RIGHT><FONT FACE=\"Times New Roman\" SIZE=-1>$5.49</FONT></TD>","<TD NOWRAP ALIGN=RIGHT><FONT FACE=\"Times New Roman\" SIZE=-1>$4.23</FONT></TD>","<TD NOWRAP ALIGN=RIGHT><FONT FACE=\"Times New Roman\" SIZE=-1><BR></FONT></TD>","<TD NOWRAP ALIGN=CENTER><FONT FACE=\"Times New Roman\" SIZE=-1>$13.65 to $18.83</FONT></TD>","<TD NOWRAP ALIGN=CENTER><FONT FACE=\"Times New Roman\" SIZE=-1>$23.37 to $28.55</FONT></TD>","<TD NOWRAP ALIGN=CENTER><FONT FACE=\"Times New Roman\" SIZE=-1>1.0000</FONT></TD>","<TD NOWRAP ALIGN=CENTER><FONT FACE=\"Times New Roman\" SIZE=-1>$23.37 to $28.55</FONT></TD>","</TR>"]
["Averill Park CSD",{"$f":"'2011 Base Data'!F143","v":5.49},{"$f":"'2011 Base Data'!G143","v":4.2300000000000004},null,{"$f":"'2011 Base Data'!I143","v":15.82},null,null,{"$f":"'2011 Base Data'!J143","v":25.54},null,null,{"$f":"'2011 Base Data'!K143","v":1},{"$f":"'2011 Base Data'!R143","v":25.54},null,null,{"$f":"ROUND(IF(S143<>0,R143*D143+S143*SUM(B143:C143)+T143*E143,R143*SUM(B143:D143)+T143*E143),2)","v":25.54},{"$f":"L143-O143","v":0},null,{"$f":"'2011 Base Data'!K143","v":1},{"$f":"'2011 Base Data'!L143","v":0},{"$f":"'2011 Base Data'!M143","v":1},{"$f":"\"E\"&U142&\":\"&\"E\"&V142","v":"E143:E146"},{"$f":"\"H\"&U142&\":\"&\"H\"&V142","v":"H143:H146"},{"$f":"\"L\"&U142&\":\"&\"L\"&V142","v":"L143:L146"},null,"<TR VALIGN=BOTTOM>",{"$f":"\"<TD NOWRAP ALIGN=LEFT><FONT FACE=\"\"Times New Roman\"\" SIZE=-1 COLOR=#00AA00\"\">\"&A143&\"</FONT></TD>\"","v":"<TD NOWRAP ALIGN=LEFT><FONT FACE=\"Times New Roman\" SIZE=-1 COLOR=#00AA00\">Averill Park CSD</FONT></TD>"},"<TD NOWRAP ALIGN=RIGHT><FONT FACE=\"Times New Roman\" SIZE=-1>$5.49</FONT></TD>","<TD NOWRAP ALIGN=RIGHT><FONT FACE=\"Times New Roman\" SIZE=-1>$4.23</FONT></TD>","<TD NOWRAP ALIGN=RIGHT><FONT FACE=\"Times New Roman\" SIZE=-1><BR></FONT></TD>","<TD NOWRAP ALIGN=CENTER><FONT FACE=\"Times New Roman\" SIZE=-1>$15.82</FONT></TD>","<TD NOWRAP ALIGN=CENTER><FONT FACE=\"Times New Roman\" SIZE=-1>$25.54</FONT></TD>","<TD NOWRAP ALIGN=CENTER><FONT FACE=\"Times New Roman\" SIZE=-1>1.0000</FONT></TD>","<TD NOWRAP ALIGN=CENTER><FONT FACE=\"Times New Roman\" SIZE=-1>$25.54</FONT></TD>","</TR>"]
["East Greenbush CSD",{"$f":"'2011 Base Data'!F144","v":5.49},{"$f":"'2011 Base Data'!G144","v":4.2300000000000004},null,{"$f":"'2011 Base Data'!I144","v":17.239999999999998},null,null,{"$f":"'2011 Base Data'!J144","v":26.96},null,null,{"$f":"'2011 Base Data'!K144","v":1},{"$f":"'2011 Base Data'!R144","v":26.96},null,null,{"$f":"ROUND(IF(S144<>0,R144*D144+S144*SUM(B144:C144)+T144*E144,R144*SUM(B144:D144)+T144*E144),2)","v":26.96},{"$f":"L144-O144","v":0},null,{"$f":"'2011 Base Data'!K144","v":1},{"$f":"'2011 Base Data'!L144","v":0},{"$f":"'2011 Base Data'!M144","v":1},null,null,null,null,"<TR VALIGN=BOTTOM>",{"$f":"\"<TD NOWRAP ALIGN=LEFT><FONT FACE=\"\"Times New Roman\"\" SIZE=-1 COLOR=#00AA00\"\">\"&A144&\"</FONT></TD>\"","v":"<TD NOWRAP ALIGN=LEFT><FONT FACE=\"Times New Roman\" SIZE=-1 COLOR=#00AA00\">East Greenbush CSD</FONT></TD>"},"<TD NOWRAP ALIGN=RIGHT><FONT FACE=\"Times New Roman\" SIZE=-1>$5.49</FONT></TD>","<TD NOWRAP ALIGN=RIGHT><FONT FACE=\"Times New Roman\" SIZE=-1>$4.23</FONT></TD>","<TD NOWRAP ALIGN=RIGHT><FONT FACE=\"Times New Roman\" SIZE=-1><BR></FONT></TD>","<TD NOWRAP ALIGN=CENTER><FONT FACE=\"Times New Roman\" SIZE=-1>$17.24</FONT></TD>","<TD NOWRAP ALIGN=CENTER><FONT FACE=\"Times New Roman\" SIZE=-1>$26.96</FONT></TD>","<TD NOWRAP ALIGN=CENTER><FONT FACE=\"Times New Roman\" SIZE=-1>1.0000</FONT></TD>","<TD NOWRAP ALIGN=CENTER><FONT FACE=\"Times New Roman\" SIZE=-1>$26.96</FONT></TD>","</TR>"]
["Kinderhook CSD",{"$f":"'2011 Base Data'!F145","v":5.49},{"$f":"'2011 Base Data'!G145","v":4.2300000000000004},null,{"$f":"'2011 Base Data'!I145","v":13.65},null,null,{"$f":"'2011 Base Data'!J145","v":23.37},null,null,{"$f":"'2011 Base Data'!K145","v":1},{"$f":"'2011 Base Data'!R145","v":23.37},null,null,{"$f":"ROUND(IF(S145<>0,R145*D145+S145*SUM(B145:C145)+T145*E145,R145*SUM(B145:D145)+T145*E145),2)","v":23.37},{"$f":"L145-O145","v":0},null,{"$f":"'2011 Base Data'!K145","v":1},{"$f":"'2011 Base Data'!L145","v":0},{"$f":"'2011 Base Data'!M145","v":1},null,null,null,null,"<TR VALIGN=BOTTOM>",{"$f":"\"<TD NOWRAP ALIGN=LEFT><FONT FACE=\"\"Times New Roman\"\" SIZE=-1 COLOR=#00AA00\"\">\"&A145&\"</FONT></TD>\"","v":"<TD NOWRAP ALIGN=LEFT><FONT FACE=\"Times New Roman\" SIZE=-1 COLOR=#00AA00\">Kinderhook CSD</FONT></TD>"},"<TD NOWRAP ALIGN=RIGHT><FONT FACE=\"Times New Roman\" SIZE=-1>$5.49</FONT></TD>","<TD NOWRAP ALIGN=RIGHT><FONT FACE=\"Times New Roman\" SIZE=-1>$4.23</FONT></TD>","<TD NOWRAP ALIGN=RIGHT><FONT FACE=\"Times New Roman\" SIZE=-1><BR></FONT></TD>","<TD NOWRAP ALIGN=CENTER><FONT FACE=\"Times New Roman\" SIZE=-1>$13.65</FONT></TD>","<TD NOWRAP ALIGN=CENTER><FONT FACE=\"Times New Roman\" SIZE=-1>$23.37</FONT></TD>","<TD NOWRAP ALIGN=CENTER><FONT FACE=\"Times New Roman\" SIZE=-1>1.0000</FONT></TD>","<TD NOWRAP ALIGN=CENTER><FONT FACE=\"Times New Roman\" SIZE=-1>$23.37</FONT></TD>","</TR>"]
["Schodack CSD",{"$f":"'2011 Base Data'!F146","v":5.49},{"$f":"'2011 Base Data'!G146","v":4.2300000000000004},null,{"$f":"'2011 Base Data'!I146","v":18.829999999999998},null,null,{"$f":"'2011 Base Data'!J146","v":28.55},null,null,{"$f":"'2011 Base Data'!K146","v":1},{"$f":"'2011 Base Data'!R146","v":28.55},null,null,{"$f":"ROUND(IF(S146<>0,R146*D146+S146*SUM(B146:C146)+T146*E146,R146*SUM(B146:D146)+T146*E146),2)","v":28.55},{"$f":"L146-O146","v":0},null,{"$f":"'2011 Base Data'!K146","v":1},{"$f":"'2011 Base Data'!L146","v":0},{"$f":"'2011 Base Data'!M146","v":1},null,null,null,null,"<TR VALIGN=BOTTOM>",{"$f":"\"<TD NOWRAP ALIGN=LEFT><FONT FACE=\"\"Times New Roman\"\" SIZE=-1 COLOR=#00AA00\"\">\"&A146&\"</FONT></TD>\"","v":"<TD NOWRAP ALIGN=LEFT><FONT FACE=\"Times New Roman\" SIZE=-1 COLOR=#00AA00\">Schodack CSD</FONT></TD>"},"<TD NOWRAP ALIGN=RIGHT><FONT FACE=\"Times New Roman\" SIZE=-1>$5.49</FONT></TD>","<TD NOWRAP ALIGN=RIGHT><FONT FACE=\"Times New Roman\" SIZE=-1>$4.23</FONT></TD>","<TD NOWRAP ALIGN=RIGHT><FONT FACE=\"Times New Roman\" SIZE=-1><BR></FONT></TD>","<TD NOWRAP ALIGN=CENTER><FONT FACE=\"Times New Roman\" SIZE=-1>$18.83</FONT></TD>","<TD NOWRAP ALIGN=CENTER><FONT FACE=\"Times New Roman\" SIZE=-1>$28.55</FONT></TD>","<TD NOWRAP ALIGN=CENTER><FONT FACE=\"Times New Roman\" SIZE=-1>1.0000</FONT></TD>","<TD NOWRAP ALIGN=CENTER><FONT FACE=\"Times New Roman\" SIZE=-1>$28.55</FONT></TD>","</TR>"]
["Village of Castleton-on-Hudson",{"$f":"B148","v":5.49},{"$f":"C148","v":2.96},{"$f":"D148","v":6.63},{"$f":"MIN(INDIRECT(U148))","v":18.829999999999998},{"$f":"IF(G147<>0,\"to\",\"\")","v":""},{"$f":"IF(U147<>V147,MAX(INDIRECT(U148)),0)","v":0},{"$f":"MIN(INDIRECT(V148))","v":33.909999999999997},{"$f":"IF(J147<>0,\"to\",\"\")","v":""},{"$f":"IF(U147<>V147,MAX(INDIRECT(V148)),0)","v":0},{"$f":"K148","v":0.61170000000000002},{"$f":"MIN(INDIRECT(W148))","v":31.34},{"$f":"IF(N147<>0,\"to\",\"\")","v":""},{"$f":"IF(U147<>V147,MAX(INDIRECT(W148)),0)","v":0},null,null,null,null,null,null,{"$f":"CELL(\"row\",P148)","v":148},{"$f":"CELL(\"row\",P148)","v":148},null,null,"<TR VALIGN=BOTTOM BGCOLOR=\"#FFFFCC\">",{"$f":"\"<TH NOWRAP ALIGN=LEFT><FONT FACE=\"\"Times New Roman\"\" SIZE=-1 COLOR=\"\"#0000CC\"\">\"&A147&\"</FONT></TH>\"","v":"<TH NOWRAP ALIGN=LEFT><FONT FACE=\"Times New Roman\" SIZE=-1 COLOR=\"#0000CC\">Village of Castleton-on-Hudson</FONT></TH>"},"<TD NOWRAP ALIGN=RIGHT><FONT FACE=\"Times New Roman\" SIZE=-1>$5.49</FONT></TD>","<TD NOWRAP ALIGN=RIGHT><FONT FACE=\"Times New Roman\" SIZE=-1>$2.96</FONT></TD>","<TD NOWRAP ALIGN=RIGHT><FONT FACE=\"Times New Roman\" SIZE=-1>$6.63</FONT></TD>","<TD NOWRAP ALIGN=CENTER><FONT FACE=\"Times New Roman\" SIZE=-1>$18.83</FONT></TD>","<TD NOWRAP ALIGN=CENTER><FONT FACE=\"Times New Roman\" SIZE=-1>$33.91</FONT></TD>","<TD NOWRAP ALIGN=CENTER><FONT FACE=\"Times New Roman\" SIZE=-1>0.6117</FONT></TD>","<TD NOWRAP ALIGN=CENTER><FONT FACE=\"Times New Roman\" SIZE=-1>$31.34</FONT></TD>","</TR>"]
["Schodack CSD",{"$f":"'2011 Base Data'!F148","v":5.49},{"$f":"'2011 Base Data'!G148","v":2.96},{"$f":"'2011 Base Data'!H148","v":6.63},{"$f":"'2011 Base Data'!I148","v":18.829999999999998},null,null,{"$f":"'2011 Base Data'!J148","v":33.909999999999997},null,null,{"$f":"'2011 Base Data'!K148","v":0.61170000000000002},{"$f":"'2011 Base Data'!R148","v":31.34},null,null,{"$f":"ROUND(IF(S148<>0,R148*D148+S148*SUM(B148:C148)+T148*E148,R148*SUM(B148:D148)+T148*E148),2)","v":31.34},{"$f":"L148-O148","v":0},null,{"$f":"'2011 Base Data'!K148","v":0.61170000000000002},{"$f":"'2011 Base Data'!L148","v":1},{"$f":"'2011 Base Data'!M148","v":1},{"$f":"\"E\"&U147&\":\"&\"E\"&V147","v":"E148:E148"},{"$f":"\"H\"&U147&\":\"&\"H\"&V147","v":"H148:H148"},{"$f":"\"L\"&U147&\":\"&\"L\"&V147","v":"L148:L148"},null,"<TR VALIGN=BOTTOM>",{"$f":"\"<TD NOWRAP ALIGN=LEFT><FONT FACE=\"\"Times New Roman\"\" SIZE=-1 COLOR=#00AA00\"\">\"&A148&\"</FONT></TD>\"","v":"<TD NOWRAP ALIGN=LEFT><FONT FACE=\"Times New Roman\" SIZE=-1 COLOR=#00AA00\">Schodack CSD</FONT></TD>"},"<TD NOWRAP ALIGN=RIGHT><FONT FACE=\"Times New Roman\" SIZE=-1>$5.49</FONT></TD>","<TD NOWRAP ALIGN=RIGHT><FONT FACE=\"Times New Roman\" SIZE=-1>$2.96</FONT></TD>","<TD NOWRAP ALIGN=RIGHT><FONT FACE=\"Times New Roman\" SIZE=-1>$6.63</FONT></TD>","<TD NOWRAP ALIGN=CENTER><FONT FACE=\"Times New Roman\" SIZE=-1>$18.83</FONT></TD>","<TD NOWRAP ALIGN=CENTER><FONT FACE=\"Times New Roman\" SIZE=-1>$33.91</FONT></TD>","<TD NOWRAP ALIGN=CENTER><FONT FACE=\"Times New Roman\" SIZE=-1>0.6117</FONT></TD>","<TD NOWRAP ALIGN=CENTER><FONT FACE=\"Times New Roman\" SIZE=-1>$31.34</FONT></TD>","</TR>"]
["Village of Nassau (part)",{"$f":"B150","v":5.49},{"$f":"C150","v":2.96},{"$f":"D150","v":9.6199999999999992},{"$f":"MIN(INDIRECT(U150))","v":17.239999999999998},{"$f":"IF(G149<>0,\"to\",\"\")","v":""},{"$f":"IF(U149<>V149,MAX(INDIRECT(U150)),0)","v":0},{"$f":"MIN(INDIRECT(V150))","v":35.31},{"$f":"IF(J149<>0,\"to\",\"\")","v":""},{"$f":"IF(U149<>V149,MAX(INDIRECT(V150)),0)","v":0},{"$f":"K150","v":0.50019999999999998},{"$f":"MIN(INDIRECT(W150))","v":30.5},{"$f":"IF(N149<>0,\"to\",\"\")","v":""},{"$f":"IF(U149<>V149,MAX(INDIRECT(W150)),0)","v":0},null,null,null,null,null,null,{"$f":"CELL(\"row\",P150)","v":150},{"$f":"CELL(\"row\",P150)","v":150},null,null,"<TR VALIGN=BOTTOM BGCOLOR=\"#FFFFCC\">",{"$f":"\"<TH NOWRAP ALIGN=LEFT><FONT FACE=\"\"Times New Roman\"\" SIZE=-1 COLOR=\"\"#808000\"\">\"&A149&\"</FONT></TH>\"","v":"<TH NOWRAP ALIGN=LEFT><FONT FACE=\"Times New Roman\" SIZE=-1 COLOR=\"#808000\">Village of Nassau (part)</FONT></TH>"},"<TD NOWRAP ALIGN=RIGHT><FONT FACE=\"Times New Roman\" SIZE=-1>$5.49</FONT></TD>","<TD NOWRAP ALIGN=RIGHT><FONT FACE=\"Times New Roman\" SIZE=-1>$2.96</FONT></TD>","<TD NOWRAP ALIGN=RIGHT><FONT FACE=\"Times New Roman\" SIZE=-1>$9.62</FONT></TD>","<TD NOWRAP ALIGN=CENTER><FONT FACE=\"Times New Roman\" SIZE=-1>$17.24</FONT></TD>","<TD NOWRAP ALIGN=CENTER><FONT FACE=\"Times New Roman\" SIZE=-1>$35.31</FONT></TD>","<TD NOWRAP ALIGN=CENTER><FONT FACE=\"Times New Roman\" SIZE=-1>0.5002</FONT></TD>","<TD NOWRAP ALIGN=CENTER><FONT FACE=\"Times New Roman\" SIZE=-1>$30.50</FONT></TD>","</TR>"]
["East Greenbush CSD",{"$f":"'2011 Base Data'!F150","v":5.49},{"$f":"'2011 Base Data'!G150","v":2.96},{"$f":"'2011 Base Data'!H150","v":9.6199999999999992},{"$f":"'2011 Base Data'!I150","v":17.239999999999998},null,null,{"$f":"'2011 Base Data'!J150","v":35.31},null,null,{"$f":"'2011 Base Data'!K150","v":0.50019999999999998},{"$f":"'2011 Base Data'!R150","v":30.5},null,null,{"$f":"ROUND(IF(S150<>0,R150*D150+S150*SUM(B150:C150)+T150*E150,R150*SUM(B150:D150)+T150*E150),2)","v":30.5},{"$f":"L150-O150","v":0},null,{"$f":"'2011 Base Data'!K150","v":0.50019999999999998},{"$f":"'2011 Base Data'!L150","v":1},{"$f":"'2011 Base Data'!M150","v":1},{"$f":"\"E\"&U149&\":\"&\"E\"&V149","v":"E150:E150"},{"$f":"\"H\"&U149&\":\"&\"H\"&V149","v":"H150:H150"},{"$f":"\"L\"&U149&\":\"&\"L\"&V149","v":"L150:L150"},null,"<TR VALIGN=BOTTOM>",{"$f":"\"<TD NOWRAP ALIGN=LEFT><FONT FACE=\"\"Times New Roman\"\" SIZE=-1 COLOR=#00AA00\"\">\"&A150&\"</FONT></TD>\"","v":"<TD NOWRAP ALIGN=LEFT><FONT FACE=\"Times New Roman\" SIZE=-1 COLOR=#00AA00\">East Greenbush CSD</FONT></TD>"},"<TD NOWRAP ALIGN=RIGHT><FONT FACE=\"Times New Roman\" SIZE=-1>$5.49</FONT></TD>","<TD NOWRAP ALIGN=RIGHT><FONT FACE=\"Times New Roman\" SIZE=-1>$2.96</FONT></TD>","<TD NOWRAP ALIGN=RIGHT><FONT FACE=\"Times New Roman\" SIZE=-1>$9.62</FONT></TD>","<TD NOWRAP ALIGN=CENTER><FONT FACE=\"Times New Roman\" SIZE=-1>$17.24</FONT></TD>","<TD NOWRAP ALIGN=CENTER><FONT FACE=\"Times New Roman\" SIZE=-1>$35.31</FONT></TD>","<TD NOWRAP ALIGN=CENTER><FONT FACE=\"Times New Roman\" SIZE=-1>0.5002</FONT></TD>","<TD NOWRAP ALIGN=CENTER><FONT FACE=\"Times New Roman\" SIZE=-1>$30.50</FONT></TD>","</TR>"]
["Town of Stephentown",{"$f":"B152","v":17.97},{"$f":"C152","v":8.27},null,{"$f":"MIN(INDIRECT(U152))","v":39.57},{"$f":"IF(G151<>0,\"to\",\"\")","v":"to"},{"$f":"IF(U151<>V151,MAX(INDIRECT(U152)),0)","v":52.75},{"$f":"MIN(INDIRECT(V152))","v":65.81},{"$f":"IF(J151<>0,\"to\",\"\")","v":"to"},{"$f":"IF(U151<>V151,MAX(INDIRECT(V152)),0)","v":78.989999999999995},{"$f":"K152","v":0.3},{"$f":"MIN(INDIRECT(W152))","v":19.739999999999998},{"$f":"IF(N151<>0,\"to\",\"\")","v":"to"},{"$f":"IF(U151<>V151,MAX(INDIRECT(W152)),0)","v":23.7},null,null,null,null,null,null,{"$f":"CELL(\"row\",P152)","v":152},{"$f":"CELL(\"row\",P154)","v":154},null,null,"<TR VALIGN=BOTTOM BGCOLOR=\"#FFFFCC\">",{"$f":"\"<TH NOWRAP ALIGN=LEFT><FONT FACE=\"\"Times New Roman\"\" SIZE=-1>\"&A151&\"</FONT></TH>\"","v":"<TH NOWRAP ALIGN=LEFT><FONT FACE=\"Times New Roman\" SIZE=-1>Town of Stephentown</FONT></TH>"},"<TD NOWRAP ALIGN=RIGHT><FONT FACE=\"Times New Roman\" SIZE=-1>$17.97</FONT></TD>","<TD NOWRAP ALIGN=RIGHT><FONT FACE=\"Times New Roman\" SIZE=-1>$8.27</FONT></TD>","<TD NOWRAP ALIGN=RIGHT><FONT FACE=\"Times New Roman\" SIZE=-1><BR></FONT></TD>","<TD NOWRAP ALIGN=CENTER><FONT FACE=\"Times New Roman\" SIZE=-1>$39.57 to $52.75</FONT></TD>","<TD NOWRAP ALIGN=CENTER><FONT FACE=\"Times New Roman\" SIZE=-1>$65.81 to $78.99</FONT></TD>","<TD NOWRAP ALIGN=CENTER><FONT FACE=\"Times New Roman\" SIZE=-1>0.3000</FONT></TD>","<TD NOWRAP ALIGN=CENTER><FONT FACE=\"Times New Roman\" SIZE=-1>$19.74 to $23.70</FONT></TD>","</TR>"]
["Averill Park CSD",{"$f":"'2011 Base Data'!F152","v":17.97},{"$f":"'2011 Base Data'!G152","v":8.27},null,{"$f":"'2011 Base Data'!I152","v":52.75},null,null,{"$f":"'2011 Base Data'!J152","v":78.989999999999995},null,null,{"$f":"'2011 Base Data'!K152","v":0.3},{"$f":"'2011 Base Data'!R152","v":23.7},null,null,{"$f":"ROUND(IF(S152<>0,R152*D152+S152*SUM(B152:C152)+T152*E152,R152*SUM(B152:D152)+T152*E152),2)","v":23.7},{"$f":"L152-O152","v":0},null,{"$f":"'2011 Base Data'!K152","v":0.3},{"$f":"'2011 Base Data'!L152","v":0},{"$f":"'2011 Base Data'!M152","v":0.3},{"$f":"\"E\"&U151&\":\"&\"E\"&V151","v":"E152:E154"},{"$f":"\"H\"&U151&\":\"&\"H\"&V151","v":"H152:H154"},{"$f":"\"L\"&U151&\":\"&\"L\"&V151","v":"L152:L154"},null,"<TR VALIGN=BOTTOM>",{"$f":"\"<TD NOWRAP ALIGN=LEFT><FONT FACE=\"\"Times New Roman\"\" SIZE=-1 COLOR=#00AA00\"\">\"&A152&\"</FONT></TD>\"","v":"<TD NOWRAP ALIGN=LEFT><FONT FACE=\"Times New Roman\" SIZE=-1 COLOR=#00AA00\">Averill Park CSD</FONT></TD>"},"<TD NOWRAP ALIGN=RIGHT><FONT FACE=\"Times New Roman\" SIZE=-1>$17.97</FONT></TD>","<TD NOWRAP ALIGN=RIGHT><FONT FACE=\"Times New Roman\" SIZE=-1>$8.27</FONT></TD>","<TD NOWRAP ALIGN=RIGHT><FONT FACE=\"Times New Roman\" SIZE=-1><BR></FONT></TD>","<TD NOWRAP ALIGN=CENTER><FONT FACE=\"Times New Roman\" SIZE=-1>$52.75</FONT></TD>","<TD NOWRAP ALIGN=CENTER><FONT FACE=\"Times New Roman\" SIZE=-1>$78.99</FONT></TD>","<TD NOWRAP ALIGN=CENTER><FONT FACE=\"Times New Roman\" SIZE=-1>0.3000</FONT></TD>","<TD NOWRAP ALIGN=CENTER><FONT FACE=\"Times New Roman\" SIZE=-1>$23.70</FONT></TD>","</TR>"]
["Berlin CSD",{"$f":"'2011 Base Data'!F153","v":17.97},{"$f":"'2011 Base Data'!G153","v":8.27},null,{"$f":"'2011 Base Data'!I153","v":47.23},null,null,{"$f":"'2011 Base Data'!J153","v":73.47},null,null,{"$f":"'2011 Base Data'!K153","v":0.3},{"$f":"'2011 Base Data'!R153","v":22.04},null,null,{"$f":"ROUND(IF(S153<>0,R153*D153+S153*SUM(B153:C153)+T153*E153,R153*SUM(B153:D153)+T153*E153),2)","v":22.04},{"$f":"L153-O153","v":0},null,{"$f":"'2011 Base Data'!K153","v":0.3},{"$f":"'2011 Base Data'!L153","v":0},{"$f":"'2011 Base Data'!M153","v":0.3},null,null,null,null,"<TR VALIGN=BOTTOM>",{"$f":"\"<TD NOWRAP ALIGN=LEFT><FONT FACE=\"\"Times New Roman\"\" SIZE=-1 COLOR=#00AA00\"\">\"&A153&\"</FONT></TD>\"","v":"<TD NOWRAP ALIGN=LEFT><FONT FACE=\"Times New Roman\" SIZE=-1 COLOR=#00AA00\">Berlin CSD</FONT></TD>"},"<TD NOWRAP ALIGN=RIGHT><FONT FACE=\"Times New Roman\" SIZE=-1>$17.97</FONT></TD>","<TD NOWRAP ALIGN=RIGHT><FONT FACE=\"Times New Roman\" SIZE=-1>$8.27</FONT></TD>","<TD NOWRAP ALIGN=RIGHT><FONT FACE=\"Times New Roman\" SIZE=-1><BR></FONT></TD>","<TD NOWRAP ALIGN=CENTER><FONT FACE=\"Times New Roman\" SIZE=-1>$47.23</FONT></TD>","<TD NOWRAP ALIGN=CENTER><FONT FACE=\"Times New Roman\" SIZE=-1>$73.47</FONT></TD>","<TD NOWRAP ALIGN=CENTER><FONT FACE=\"Times New Roman\" SIZE=-1>0.3000</FONT></TD>","<TD NOWRAP ALIGN=CENTER><FONT FACE=\"Times New Roman\" SIZE=-1>$22.04</FONT></TD>","</TR>"]
["New Lebanon CSD",{"$f":"'2011 Base Data'!F154","v":17.97},{"$f":"'2011 Base Data'!G154","v":8.27},null,{"$f":"'2011 Base Data'!I154","v":39.57},null,null,{"$f":"'2011 Base Data'!J154","v":65.81},null,null,{"$f":"'2011 Base Data'!K154","v":0.3},{"$f":"'2011 Base Data'!R154","v":19.739999999999998},null,null,{"$f":"ROUND(IF(S154<>0,R154*D154+S154*SUM(B154:C154)+T154*E154,R154*SUM(B154:D154)+T154*E154),2)","v":19.739999999999998},{"$f":"L154-O154","v":0},null,{"$f":"'2011 Base Data'!K154","v":0.3},{"$f":"'2011 Base Data'!L154","v":0},{"$f":"'2011 Base Data'!M154","v":0.3},null,null,null,null,"<TR VALIGN=BOTTOM>",{"$f":"\"<TD NOWRAP ALIGN=LEFT><FONT FACE=\"\"Times New Roman\"\" SIZE=-1 COLOR=#00AA00\"\">\"&A154&\"</FONT></TD>\"","v":"<TD NOWRAP ALIGN=LEFT><FONT FACE=\"Times New Roman\" SIZE=-1 COLOR=#00AA00\">New Lebanon CSD</FONT></TD>"},"<TD NOWRAP ALIGN=RIGHT><FONT FACE=\"Times New Roman\" SIZE=-1>$17.97</FONT></TD>","<TD NOWRAP ALIGN=RIGHT><FONT FACE=\"Times New Roman\" SIZE=-1>$8.27</FONT></TD>","<TD NOWRAP ALIGN=RIGHT><FONT FACE=\"Times New Roman\" SIZE=-1><BR></FONT></TD>","<TD NOWRAP ALIGN=CENTER><FONT FACE=\"Times New Roman\" SIZE=-1>$39.57</FONT></TD>","<TD NOWRAP ALIGN=CENTER><FONT FACE=\"Times New Roman\" SIZE=-1>$65.81</FONT></TD>","<TD NOWRAP ALIGN=CENTER><FONT FACE=\"Times New Roman\" SIZE=-1>0.3000</FONT></TD>","<TD NOWRAP ALIGN=CENTER><FONT FACE=\"Times New Roman\" SIZE=-1>$19.74</FONT></TD>","</TR>"]
["City of Troy",{"$f":"B156","v":42.28},null,{"$f":"D156","v":76.08},{"$f":"MIN(INDIRECT(U156))","v":118.74},{"$f":"IF(G155<>0,\"to\",\"\")","v":"to"},{"$f":"IF(U155<>V155,MAX(INDIRECT(U156)),0)","v":136.29},{"$f":"MIN(INDIRECT(V156))","v":237.1},{"$f":"IF(J155<>0,\"to\",\"\")","v":"to"},{"$f":"IF(U155<>V155,MAX(INDIRECT(V156)),0)","v":254.65},{"$f":"K156","v":0.13250000000000001},{"$f":"MIN(INDIRECT(W156))","v":31.41},{"$f":"IF(N155<>0,\"to\",\"\")","v":"to"},{"$f":"IF(U155<>V155,MAX(INDIRECT(W156)),0)","v":33.74},null,null,null,null,null,null,{"$f":"CELL(\"row\",P156)","v":156},{"$f":"CELL(\"row\",P157)","v":157},null,null,"<TR VALIGN=BOTTOM BGCOLOR=\"#FFFFCC\">",{"$f":"\"<TH NOWRAP ALIGN=LEFT><FONT FACE=\"\"Times New Roman\"\" SIZE=-1 COLOR=#800000\"\">\"&A155&\"</FONT></TH>\"","v":"<TH NOWRAP ALIGN=LEFT><FONT FACE=\"Times New Roman\" SIZE=-1 COLOR=#800000\">City of Troy</FONT></TH>"},"<TD NOWRAP ALIGN=RIGHT><FONT FACE=\"Times New Roman\" SIZE=-1>$42.28</FONT></TD>","<TD NOWRAP ALIGN=RIGHT><FONT FACE=\"Times New Roman\" SIZE=-1><BR></FONT></TD>","<TD NOWRAP ALIGN=RIGHT><FONT FACE=\"Times New Roman\" SIZE=-1>$76.08</FONT></TD>","<TD NOWRAP ALIGN=CENTER><FONT FACE=\"Times New Roman\" SIZE=-1>$118.74 to $136.29</FONT></TD>","<TD NOWRAP ALIGN=CENTER><FONT FACE=\"Times New Roman\" SIZE=-1>$237.10 to $254.65</FONT></TD>","<TD NOWRAP ALIGN=CENTER><FONT FACE=\"Times New Roman\" SIZE=-1>0.1325</FONT></TD>","<TD NOWRAP ALIGN=CENTER><FONT FACE=\"Times New Roman\" SIZE=-1>$31.41 to $33.74</FONT></TD>","</TR>"]
["Lansingburgh CSD",{"$f":"'2011 Base Data'!F156","v":42.28},null,{"$f":"'2011 Base Data'!H156","v":76.08},{"$f":"'2011 Base Data'!I156","v":118.74},null,null,{"$f":"'2011 Base Data'!J156","v":237.1},null,null,{"$f":"'2011 Base Data'!K156","v":0.13250000000000001},{"$f":"'2011 Base Data'!R156","v":31.41},null,null,{"$f":"ROUND(IF(S156<>0,R156*D156+S156*SUM(B156:C156)+T156*E156,R156*SUM(B156:D156)+T156*E156),2)","v":31.42},{"$f":"L156-O156","v":-1.0000000000001563E-2},null,{"$f":"'2011 Base Data'!K156","v":0.13250000000000001},{"$f":"'2011 Base Data'!L156","v":0},{"$f":"'2011 Base Data'!M156","v":0.13250000000000001},{"$f":"\"E\"&U155&\":\"&\"E\"&V155","v":"E156:E157"},{"$f":"\"H\"&U155&\":\"&\"H\"&V155","v":"H156:H157"},{"$f":"\"L\"&U155&\":\"&\"L\"&V155","v":"L156:L157"},null,"<TR VALIGN=BOTTOM>",{"$f":"\"<TD NOWRAP ALIGN=LEFT><FONT FACE=\"\"Times New Roman\"\" SIZE=-1 COLOR=#00AA00\"\">\"&A156&\"</FONT></TD>\"","v":"<TD NOWRAP ALIGN=LEFT><FONT FACE=\"Times New Roman\" SIZE=-1 COLOR=#00AA00\">Lansingburgh CSD</FONT></TD>"},"<TD NOWRAP ALIGN=RIGHT><FONT FACE=\"Times New Roman\" SIZE=-1>$42.28</FONT></TD>","<TD NOWRAP ALIGN=RIGHT><FONT FACE=\"Times New Roman\" SIZE=-1><BR></FONT></TD>","<TD NOWRAP ALIGN=RIGHT><FONT FACE=\"Times New Roman\" SIZE=-1>$76.08</FONT></TD>","<TD NOWRAP ALIGN=CENTER><FONT FACE=\"Times New Roman\" SIZE=-1>$118.74</FONT></TD>","<TD NOWRAP ALIGN=CENTER><FONT FACE=\"Times New Roman\" SIZE=-1>$237.10</FONT></TD>","<TD NOWRAP ALIGN=CENTER><FONT FACE=\"Times New Roman\" SIZE=-1>0.1325</FONT></TD>","<TD NOWRAP ALIGN=CENTER><FONT FACE=\"Times New Roman\" SIZE=-1>$31.41</FONT></TD>","</TR>"]
["Troy City SD",{"$f":"'2011 Base Data'!F157","v":42.28},null,{"$f":"'2011 Base Data'!H157","v":76.08},{"$f":"'2011 Base Data'!I157","v":136.29},null,null,{"$f":"'2011 Base Data'!J157","v":254.65},null,null,{"$f":"'2011 Base Data'!K157","v":0.13250000000000001},{"$f":"'2011 Base Data'!R157","v":33.74},null,null,{"$f":"ROUND(IF(S157<>0,R157*D157+S157*SUM(B157:C157)+T157*E157,R157*SUM(B157:D157)+T157*E157),2)","v":33.74},{"$f":"L157-O157","v":0},null,{"$f":"'2011 Base Data'!K157","v":0.13250000000000001},{"$f":"'2011 Base Data'!L157","v":0},{"$f":"'2011 Base Data'!M157","v":0.13250000000000001},null,null,null,null,"<TR VALIGN=BOTTOM>",{"$f":"\"<TD NOWRAP ALIGN=LEFT><FONT FACE=\"\"Times New Roman\"\" SIZE=-1 COLOR=#00AA00\"\">\"&A157&\"</FONT></TD>\"","v":"<TD NOWRAP ALIGN=LEFT><FONT FACE=\"Times New Roman\" SIZE=-1 COLOR=#00AA00\">Troy City SD</FONT></TD>"},"<TD NOWRAP ALIGN=RIGHT><FONT FACE=\"Times New Roman\" SIZE=-1>$42.28</FONT></TD>","<TD NOWRAP ALIGN=RIGHT><FONT FACE=\"Times New Roman\" SIZE=-1><BR></FONT></TD>","<TD NOWRAP ALIGN=RIGHT><FONT FACE=\"Times New Roman\" SIZE=-1>$76.08</FONT></TD>","<TD NOWRAP ALIGN=CENTER><FONT FACE=\"Times New Roman\" SIZE=-1>$136.29</FONT></TD>","<TD NOWRAP ALIGN=CENTER><FONT FACE=\"Times New Roman\" SIZE=-1>$254.65</FONT></TD>","<TD NOWRAP ALIGN=CENTER><FONT FACE=\"Times New Roman\" SIZE=-1>0.1325</FONT></TD>","<TD NOWRAP ALIGN=CENTER><FONT FACE=\"Times New Roman\" SIZE=-1>$33.74</FONT></TD>","</TR>"]
["Saratoga County",null,null,null,{"$f":"MIN(E159:E250)","v":6.91},{"$f":"IF(G158<>0,\"to\",\"\")","v":"to"},{"$f":"MAX(E159:G250)","v":75.87},{"$f":"MIN(H159:H250)","v":12.27},{"$f":"IF(J158<>0,\"to\",\"\")","v":"to"},{"$f":"MAX(H159:J250)","v":220.95},null,{"$f":"MIN(L159:L250)","v":7.47},{"$f":"IF(N158<>0,\"to\",\"\")","v":"to"},{"$f":"MAX(L159:N250)","v":32},null,null,null,null,null,null,null,null,null,null,"<TR VALIGN=BOTTOM BGCOLOR=\"#CCCCFF\">",{"$f":"\"<TH NOWRAP ALIGN=LEFT><FONT FACE=\"\"Times New Roman\"\" COLOR=\"\"#AA00AA\"\">\"&A158&\"</FONT></TH>\"","v":"<TH NOWRAP ALIGN=LEFT><FONT FACE=\"Times New Roman\" COLOR=\"#AA00AA\">Saratoga County</FONT></TH>"},"<TD NOWRAP ALIGN=RIGHT><FONT FACE=\"Times New Roman\" SIZE=-1><BR></FONT></TD>","<TD NOWRAP ALIGN=RIGHT><FONT FACE=\"Times New Roman\" SIZE=-1><BR></FONT></TD>","<TD NOWRAP ALIGN=RIGHT><FONT FACE=\"Times New Roman\" SIZE=-1><BR></FONT></TD>","<TD NOWRAP ALIGN=CENTER><FONT FACE=\"Times New Roman\" SIZE=-1>$6.91 to $75.87</FONT></TD>","<TD NOWRAP ALIGN=CENTER><FONT FACE=\"Times New Roman\" SIZE=-1>$12.27 to $220.95</FONT></TD>","<TD NOWRAP ALIGN=CENTER><FONT FACE=\"Times New Roman\" SIZE=-1><BR></FONT></TD>","<TD NOWRAP ALIGN=CENTER><FONT FACE=\"Times New Roman\" SIZE=-1>$7.47 to $32.00</FONT></TD>","</TR>"]
["Town of Ballston",{"$f":"B160","v":2.48},null,null,{"$f":"MIN(INDIRECT(U160))","v":17.97},{"$f":"IF(G159<>0,\"to\",\"\")","v":"to"},{"$f":"IF(U159<>V159,MAX(INDIRECT(U160)),0)","v":20.100000000000001},{"$f":"MIN(INDIRECT(V160))","v":20.45},{"$f":"IF(J159<>0,\"to\",\"\")","v":"to"},{"$f":"IF(U159<>V159,MAX(INDIRECT(V160)),0)","v":22.58},{"$f":"K160","v":0.92},{"$f":"MIN(INDIRECT(W160))","v":18.809999999999999},{"$f":"IF(N159<>0,\"to\",\"\")","v":"to"},{"$f":"IF(U159<>V159,MAX(INDIRECT(W160)),0)","v":20.77},null,null,null,null,null,null,{"$f":"CELL(\"row\",P160)","v":160},{"$f":"CELL(\"row\",P162)","v":162},null,null,"<TR VALIGN=BOTTOM BGCOLOR=\"#FFFFCC\">",{"$f":"\"<TH NOWRAP ALIGN=LEFT><FONT FACE=\"\"Times New Roman\"\" SIZE=-1>\"&A159&\"</FONT></TH>\"","v":"<TH NOWRAP ALIGN=LEFT><FONT FACE=\"Times New Roman\" SIZE=-1>Town of Ballston</FONT></TH>"},"<TD NOWRAP ALIGN=RIGHT><FONT FACE=\"Times New Roman\" SIZE=-1>$2.48</FONT></TD>","<TD NOWRAP ALIGN=RIGHT><FONT FACE=\"Times New Roman\" SIZE=-1><BR></FONT></TD>","<TD NOWRAP ALIGN=RIGHT><FONT FACE=\"Times New Roman\" SIZE=-1><BR></FONT></TD>","<TD NOWRAP ALIGN=CENTER><FONT FACE=\"Times New Roman\" SIZE=-1>$17.97 to $20.10</FONT></TD>","<TD NOWRAP ALIGN=CENTER><FONT FACE=\"Times New Roman\" SIZE=-1>$20.45 to $22.58</FONT></TD>","<TD NOWRAP ALIGN=CENTER><FONT FACE=\"Times New Roman\" SIZE=-1>0.9200</FONT></TD>","<TD NOWRAP ALIGN=CENTER><FONT FACE=\"Times New Roman\" SIZE=-1>$18.81 to $20.77</FONT></TD>","</TR>"]
["Ballston Spa CSD",{"$f":"'2011 Base Data'!F160","v":2.48},null,null,{"$f":"'2011 Base Data'!I160","v":19.64},null,null,{"$f":"'2011 Base Data'!J160","v":22.12},null,null,{"$f":"'2011 Base Data'!K160","v":0.92},{"$f":"'2011 Base Data'!R160","v":20.350000000000001},null,null,{"$f":"ROUND(IF(S160<>0,R160*D160+S160*SUM(B160:C160)+T160*E160,R160*SUM(B160:D160)+T160*E160),2)","v":20.350000000000001},{"$f":"L160-O160","v":0},null,{"$f":"'2011 Base Data'!K160","v":0.92},{"$f":"'2011 Base Data'!L160","v":0},{"$f":"'2011 Base Data'!M160","v":0.92},{"$f":"\"E\"&U159&\":\"&\"E\"&V159","v":"E160:E162"},{"$f":"\"H\"&U159&\":\"&\"H\"&V159","v":"H160:H162"},{"$f":"\"L\"&U159&\":\"&\"L\"&V159","v":"L160:L162"},null,"<TR VALIGN=BOTTOM>",{"$f":"\"<TD NOWRAP ALIGN=LEFT><FONT FACE=\"\"Times New Roman\"\" SIZE=-1 COLOR=#00AA00\"\">\"&A160&\"</FONT></TD>\"","v":"<TD NOWRAP ALIGN=LEFT><FONT FACE=\"Times New Roman\" SIZE=-1 COLOR=#00AA00\">Ballston Spa CSD</FONT></TD>"},"<TD NOWRAP ALIGN=RIGHT><FONT FACE=\"Times New Roman\" SIZE=-1>$2.48</FONT></TD>","<TD NOWRAP ALIGN=RIGHT><FONT FACE=\"Times New Roman\" SIZE=-1><BR></FONT></TD>","<TD NOWRAP ALIGN=RIGHT><FONT FACE=\"Times New Roman\" SIZE=-1><BR></FONT></TD>","<TD NOWRAP ALIGN=CENTER><FONT FACE=\"Times New Roman\" SIZE=-1>$19.64</FONT></TD>","<TD NOWRAP ALIGN=CENTER><FONT FACE=\"Times New Roman\" SIZE=-1>$22.12</FONT></TD>","<TD NOWRAP ALIGN=CENTER><FONT FACE=\"Times New Roman\" SIZE=-1>0.9200</FONT></TD>","<TD NOWRAP ALIGN=CENTER><FONT FACE=\"Times New Roman\" SIZE=-1>$20.35</FONT></TD>","</TR>"]
["Burnt Hills-Ballston Lake CSD",{"$f":"'2011 Base Data'!F161","v":2.48},null,null,{"$f":"'2011 Base Data'!I161","v":20.100000000000001},null,null,{"$f":"'2011 Base Data'!J161","v":22.58},null,null,{"$f":"'2011 Base Data'!K161","v":0.92},{"$f":"'2011 Base Data'!R161","v":20.77},null,null,{"$f":"ROUND(IF(S161<>0,R161*D161+S161*SUM(B161:C161)+T161*E161,R161*SUM(B161:D161)+T161*E161),2)","v":20.77},{"$f":"L161-O161","v":0},null,{"$f":"'2011 Base Data'!K161","v":0.92},{"$f":"'2011 Base Data'!L161","v":0},{"$f":"'2011 Base Data'!M161","v":0.92},null,null,null,null,"<TR VALIGN=BOTTOM>",{"$f":"\"<TD NOWRAP ALIGN=LEFT><FONT FACE=\"\"Times New Roman\"\" SIZE=-1 COLOR=#00AA00\"\">\"&A161&\"</FONT></TD>\"","v":"<TD NOWRAP ALIGN=LEFT><FONT FACE=\"Times New Roman\" SIZE=-1 COLOR=#00AA00\">Burnt Hills-Ballston Lake CSD</FONT></TD>"},"<TD NOWRAP ALIGN=RIGHT><FONT FACE=\"Times New Roman\" SIZE=-1>$2.48</FONT></TD>","<TD NOWRAP ALIGN=RIGHT><FONT FACE=\"Times New Roman\" SIZE=-1><BR></FONT></TD>","<TD NOWRAP ALIGN=RIGHT><FONT FACE=\"Times New Roman\" SIZE=-1><BR></FONT></TD>","<TD NOWRAP ALIGN=CENTER><FONT FACE=\"Times New Roman\" SIZE=-1>$20.10</FONT></TD>","<TD NOWRAP ALIGN=CENTER><FONT FACE=\"Times New Roman\" SIZE=-1>$22.58</FONT></TD>","<TD NOWRAP ALIGN=CENTER><FONT FACE=\"Times New Roman\" SIZE=-1>0.9200</FONT></TD>","<TD NOWRAP ALIGN=CENTER><FONT FACE=\"Times New Roman\" SIZE=-1>$20.77</FONT></TD>","</TR>"]
["Shenendehowa CSD",{"$f":"'2011 Base Data'!F162","v":2.48},null,null,{"$f":"'2011 Base Data'!I162","v":17.97},null,null,{"$f":"'2011 Base Data'!J162","v":20.45},null,null,{"$f":"'2011 Base Data'!K162","v":0.92},{"$f":"'2011 Base Data'!R162","v":18.809999999999999},null,null,{"$f":"ROUND(IF(S162<>0,R162*D162+S162*SUM(B162:C162)+T162*E162,R162*SUM(B162:D162)+T162*E162),2)","v":18.809999999999999},{"$f":"L162-O162","v":0},null,{"$f":"'2011 Base Data'!K162","v":0.92},{"$f":"'2011 Base Data'!L162","v":0},{"$f":"'2011 Base Data'!M162","v":0.92},null,null,null,null,"<TR VALIGN=BOTTOM>",{"$f":"\"<TD NOWRAP ALIGN=LEFT><FONT FACE=\"\"Times New Roman\"\" SIZE=-1 COLOR=#00AA00\"\">\"&A162&\"</FONT></TD>\"","v":"<TD NOWRAP ALIGN=LEFT><FONT FACE=\"Times New Roman\" SIZE=-1 COLOR=#00AA00\">Shenendehowa CSD</FONT></TD>"},"<TD NOWRAP ALIGN=RIGHT><FONT FACE=\"Times New Roman\" SIZE=-1>$2.48</FONT></TD>","<TD NOWRAP ALIGN=RIGHT><FONT FACE=\"Times New Roman\" SIZE=-1><BR></FONT></TD>","<TD NOWRAP ALIGN=RIGHT><FONT FACE=\"Times New Roman\" SIZE=-1><BR></FONT></TD>","<TD NOWRAP ALIGN=CENTER><FONT FACE=\"Times New Roman\" SIZE=-1>$17.97</FONT></TD>","<TD NOWRAP ALIGN=CENTER><FONT FACE=\"Times New Roman\" SIZE=-1>$20.45</FONT></TD>","<TD NOWRAP ALIGN=CENTER><FONT FACE=\"Times New Roman\" SIZE=-1>0.9200</FONT></TD>","<TD NOWRAP ALIGN=CENTER><FONT FACE=\"Times New Roman\" SIZE=-1>$18.81</FONT></TD>","</TR>"]
["Village of Ballston Spa (part)",{"$f":"B164","v":2.48},null,{"$f":"D164","v":73.040000000000006},{"$f":"MIN(INDIRECT(U164))","v":19.64},{"$f":"IF(G163<>0,\"to\",\"\")","v":""},{"$f":"IF(U163<>V163,MAX(INDIRECT(U164)),0)","v":0},{"$f":"MIN(INDIRECT(V164))","v":95.16},{"$f":"IF(J163<>0,\"to\",\"\")","v":""},{"$f":"IF(U163<>V163,MAX(INDIRECT(V164)),0)","v":0},{"$f":"K164","v":4.7300000000000002E-2},{"$f":"MIN(INDIRECT(W164))","v":23.8},{"$f":"IF(N163<>0,\"to\",\"\")","v":""},{"$f":"IF(U163<>V163,MAX(INDIRECT(W164)),0)","v":0},null,null,null,null,null,null,{"$f":"CELL(\"row\",P164)","v":164},{"$f":"CELL(\"row\",P164)","v":164},null,null,"<TR VALIGN=BOTTOM BGCOLOR=\"#FFFFCC\">",{"$f":"\"<TH NOWRAP ALIGN=LEFT><FONT FACE=\"\"Times New Roman\"\" SIZE=-1 COLOR=\"\"#808000\"\">\"&A163&\"</FONT></TH>\"","v":"<TH NOWRAP ALIGN=LEFT><FONT FACE=\"Times New Roman\" SIZE=-1 COLOR=\"#808000\">Village of Ballston Spa (part)</FONT></TH>"},"<TD NOWRAP ALIGN=RIGHT><FONT FACE=\"Times New Roman\" SIZE=-1>$2.48</FONT></TD>","<TD NOWRAP ALIGN=RIGHT><FONT FACE=\"Times New Roman\" SIZE=-1><BR></FONT></TD>","<TD NOWRAP ALIGN=RIGHT><FONT FACE=\"Times New Roman\" SIZE=-1>$73.04</FONT></TD>","<TD NOWRAP ALIGN=CENTER><FONT FACE=\"Times New Roman\" SIZE=-1>$19.64</FONT></TD>","<TD NOWRAP ALIGN=CENTER><FONT FACE=\"Times New Roman\" SIZE=-1>$95.16</FONT></TD>","<TD NOWRAP ALIGN=CENTER><FONT FACE=\"Times New Roman\" SIZE=-1>0.0473</FONT></TD>","<TD NOWRAP ALIGN=CENTER><FONT FACE=\"Times New Roman\" SIZE=-1>$23.80</FONT></TD>","</TR>"]
["Ballston Spa CSD",{"$f":"'2011 Base Data'!F164","v":2.48},null,{"$f":"'2011 Base Data'!H164","v":73.040000000000006},{"$f":"'2011 Base Data'!I164","v":19.64},null,null,{"$f":"'2011 Base Data'!J164","v":95.16},null,null,{"$f":"'2011 Base Data'!K164","v":4.7300000000000002E-2},{"$f":"'2011 Base Data'!R164","v":23.8},null,null,{"$f":"ROUND(IF(S164<>0,R164*D164+S164*SUM(B164:C164)+T164*E164,R164*SUM(B164:D164)+T164*E164),2)","v":23.81},{"$f":"L164-O164","v":-9.9999999999980105E-3},null,{"$f":"'2011 Base Data'!K164","v":4.7300000000000002E-2},{"$f":"'2011 Base Data'!L164","v":0.92},{"$f":"'2011 Base Data'!M164","v":0.92},{"$f":"\"E\"&U163&\":\"&\"E\"&V163","v":"E164:E164"},{"$f":"\"H\"&U163&\":\"&\"H\"&V163","v":"H164:H164"},{"$f":"\"L\"&U163&\":\"&\"L\"&V163","v":"L164:L164"},null,"<TR VALIGN=BOTTOM>",{"$f":"\"<TD NOWRAP ALIGN=LEFT><FONT FACE=\"\"Times New Roman\"\" SIZE=-1 COLOR=#00AA00\"\">\"&A164&\"</FONT></TD>\"","v":"<TD NOWRAP ALIGN=LEFT><FONT FACE=\"Times New Roman\" SIZE=-1 COLOR=#00AA00\">Ballston Spa CSD</FONT></TD>"},"<TD NOWRAP ALIGN=RIGHT><FONT FACE=\"Times New Roman\" SIZE=-1>$2.48</FONT></TD>","<TD NOWRAP ALIGN=RIGHT><FONT FACE=\"Times New Roman\" SIZE=-1><BR></FONT></TD>","<TD NOWRAP ALIGN=RIGHT><FONT FACE=\"Times New Roman\" SIZE=-1>$73.04</FONT></TD>","<TD NOWRAP ALIGN=CENTER><FONT FACE=\"Times New Roman\" SIZE=-1>$19.64</FONT></TD>","<TD NOWRAP ALIGN=CENTER><FONT FACE=\"Times New Roman\" SIZE=-1>$95.16</FONT></TD>","<TD NOWRAP ALIGN=CENTER><FONT FACE=\"Times New Roman\" SIZE=-1>0.0473</FONT></TD>","<TD NOWRAP ALIGN=CENTER><FONT FACE=\"Times New Roman\" SIZE=-1>$23.80</FONT></TD>","</TR>"]
["Town of Charlton",{"$f":"B166","v":3.5},null,null,{"$f":"MIN(INDIRECT(U166))","v":17.32},{"$f":"IF(G165<>0,\"to\",\"\")","v":"to"},{"$f":"IF(U165<>V165,MAX(INDIRECT(U166)),0)","v":26.42},{"$f":"MIN(INDIRECT(V166))","v":20.82},{"$f":"IF(J165<>0,\"to\",\"\")","v":"to"},{"$f":"IF(U165<>V165,MAX(INDIRECT(V166)),0)","v":29.92},{"$f":"K166","v":0.7},{"$f":"MIN(INDIRECT(W166))","v":14.57},{"$f":"IF(N165<>0,\"to\",\"\")","v":"to"},{"$f":"IF(U165<>V165,MAX(INDIRECT(W166)),0)","v":20.94},null,null,null,null,null,null,{"$f":"CELL(\"row\",P166)","v":166},{"$f":"CELL(\"row\",P170)","v":170},null,null,"<TR VALIGN=BOTTOM BGCOLOR=\"#FFFFCC\">",{"$f":"\"<TH NOWRAP ALIGN=LEFT><FONT FACE=\"\"Times New Roman\"\" SIZE=-1>\"&A165&\"</FONT></TH>\"","v":"<TH NOWRAP ALIGN=LEFT><FONT FACE=\"Times New Roman\" SIZE=-1>Town of Charlton</FONT></TH>"},"<TD NOWRAP ALIGN=RIGHT><FONT FACE=\"Times New Roman\" SIZE=-1>$3.50</FONT></TD>","<TD NOWRAP ALIGN=RIGHT><FONT FACE=\"Times New Roman\" SIZE=-1><BR></FONT></TD>","<TD NOWRAP ALIGN=RIGHT><FONT FACE=\"Times New Roman\" SIZE=-1><BR></FONT></TD>","<TD NOWRAP ALIGN=CENTER><FONT FACE=\"Times New Roman\" SIZE=-1>$17.32 to $26.42</FONT></TD>","<TD NOWRAP ALIGN=CENTER><FONT FACE=\"Times New Roman\" SIZE=-1>$20.82 to $29.92</FONT></TD>","<TD NOWRAP ALIGN=CENTER><FONT FACE=\"Times New Roman\" SIZE=-1>0.7000</FONT></TD>","<TD NOWRAP ALIGN=CENTER><FONT FACE=\"Times New Roman\" SIZE=-1>$14.57 to $20.94</FONT></TD>","</TR>"]
["Amsterdam City SD",{"$f":"'2011 Base Data'!F166","v":3.5},null,null,{"$f":"'2011 Base Data'!I166","v":25.18},null,null,{"$f":"'2011 Base Data'!J166","v":28.68},null,null,{"$f":"'2011 Base Data'!K166","v":0.7},{"$f":"'2011 Base Data'!R166","v":19.32},null,null,{"$f":"ROUND(IF(S166<>0,R166*D166+S166*SUM(B166:C166)+T166*E166,R166*SUM(B166:D166)+T166*E166),2)","v":19.32},{"$f":"L166-O166","v":0},null,{"$f":"'2011 Base Data'!K166","v":0.7},{"$f":"'2011 Base Data'!L166","v":0},{"$f":"'2011 Base Data'!M166","v":0.67},{"$f":"\"E\"&U165&\":\"&\"E\"&V165","v":"E166:E170"},{"$f":"\"H\"&U165&\":\"&\"H\"&V165","v":"H166:H170"},{"$f":"\"L\"&U165&\":\"&\"L\"&V165","v":"L166:L170"},null,"<TR VALIGN=BOTTOM>",{"$f":"\"<TD NOWRAP ALIGN=LEFT><FONT FACE=\"\"Times New Roman\"\" SIZE=-1 COLOR=#00AA00\"\">\"&A166&\"</FONT></TD>\"","v":"<TD NOWRAP ALIGN=LEFT><FONT FACE=\"Times New Roman\" SIZE=-1 COLOR=#00AA00\">Amsterdam City SD</FONT></TD>"},{"$f":"\"<TD NOWRAP ALIGN=RIGHT><FONT FACE=\"\"Times New Roman\"\" SIZE=-1>\"&IF(B166=\"\",\"<BR>\",TEXT(B166,\"$#,##0.00\"))&\"</FONT></TD>\"","v":"<TD NOWRAP ALIGN=RIGHT><FONT FACE=\"Times New Roman\" SIZE=-1>$3.50</FONT></TD>"},{"$f":"\"<TD NOWRAP ALIGN=RIGHT><FONT FACE=\"\"Times New Roman\"\" SIZE=-1>\"&IF(C166=\"\",\"<BR>\",TEXT(C166,\"$#,##0.00\"))&\"</FONT></TD>\"","v":"<TD NOWRAP ALIGN=RIGHT><FONT FACE=\"Times New Roman\" SIZE=-1><BR></FONT></TD>"},{"$f":"\"<TD NOWRAP ALIGN=RIGHT><FONT FACE=\"\"Times New Roman\"\" SIZE=-1>\"&IF(D166=\"\",\"<BR>\",TEXT(D166,\"$#,##0.00\"))&\"</FONT></TD>\"","v":"<TD NOWRAP ALIGN=RIGHT><FONT FACE=\"Times New Roman\" SIZE=-1><BR></FONT></TD>"},{"$f":"\"<TD NOWRAP ALIGN=CENTER><FONT FACE=\"\"Times New Roman\"\" SIZE=-1>\"&TEXT(E166,\"$#,##0.00\")&IF(F166=\"\",\"\",\" to \")&IF(G166<=0,\"\",TEXT(G166,\"$#,##0.00\"))&\"</FONT></TD>\"","v":"<TD NOWRAP ALIGN=CENTER><FONT FACE=\"Times New Roman\" SIZE=-1>$25.18</FONT></TD>"},{"$f":"\"<TD NOWRAP ALIGN=CENTER><FONT FACE=\"\"Times New Roman\"\" SIZE=-1>\"&TEXT(H166,\"$#,##0.00\")&IF(I166=\"\",\"\",\" to \")&IF(J166<=0,\"\",TEXT(J166,\"$#,##0.00\"))&\"</FONT></TD>\"","v":"<TD NOWRAP ALIGN=CENTER><FONT FACE=\"Times New Roman\" SIZE=-1>$28.68</FONT></TD>"},{"$f":"\"<TD NOWRAP ALIGN=CENTER><FONT FACE=\"\"Times New Roman\"\" SIZE=-1>\"&IF(K166=\"\",\"<BR>\",TEXT(K166,\"0.0000\"))&\"</FONT></TD>\"","v":"<TD NOWRAP ALIGN=CENTER><FONT FACE=\"Times New Roman\" SIZE=-1>0.7000</FONT></TD>"},{"$f":"\"<TD NOWRAP ALIGN=CENTER><FONT FACE=\"\"Times New Roman\"\" SIZE=-1>\"&TEXT(L166,\"$#,##0.00\")&IF(M166=\"\",\"\",\" to \")&IF(N166<=0,\"\",TEXT(N166,\"$#,##0.00\"))&\"</FONT></TD>\"","v":"<TD NOWRAP ALIGN=CENTER><FONT FACE=\"Times New Roman\" SIZE=-1>$19.32</FONT></TD>"},"</TR>"]
["Ballston Spa CSD",{"$f":"'2011 Base Data'!F167","v":3.5},null,null,{"$f":"'2011 Base Data'!I167","v":25.81},null,null,{"$f":"'2011 Base Data'!J167","v":29.31},null,null,{"$f":"'2011 Base Data'!K167","v":0.7},{"$f":"'2011 Base Data'!R167","v":20.52},null,null,{"$f":"ROUND(IF(S167<>0,R167*D167+S167*SUM(B167:C167)+T167*E167,R167*SUM(B167:D167)+T167*E167),2)","v":20.52},{"$f":"L167-O167","v":0},null,{"$f":"'2011 Base Data'!K167","v":0.7},{"$f":"'2011 Base Data'!L167","v":0},{"$f":"'2011 Base Data'!M167","v":0.7},null,null,null,null,"<TR VALIGN=BOTTOM>",{"$f":"\"<TD NOWRAP ALIGN=LEFT><FONT FACE=\"\"Times New Roman\"\" SIZE=-1 COLOR=#00AA00\"\">\"&A167&\"</FONT></TD>\"","v":"<TD NOWRAP ALIGN=LEFT><FONT FACE=\"Times New Roman\" SIZE=-1 COLOR=#00AA00\">Ballston Spa CSD</FONT></TD>"},"<TD NOWRAP ALIGN=RIGHT><FONT FACE=\"Times New Roman\" SIZE=-1>$3.50</FONT></TD>","<TD NOWRAP ALIGN=RIGHT><FONT FACE=\"Times New Roman\" SIZE=-1><BR></FONT></TD>","<TD NOWRAP ALIGN=RIGHT><FONT FACE=\"Times New Roman\" SIZE=-1><BR></FONT></TD>","<TD NOWRAP ALIGN=CENTER><FONT FACE=\"Times New Roman\" SIZE=-1>$25.81</FONT></TD>","<TD NOWRAP ALIGN=CENTER><FONT FACE=\"Times New Roman\" SIZE=-1>$29.31</FONT></TD>","<TD NOWRAP ALIGN=CENTER><FONT FACE=\"Times New Roman\" SIZE=-1>0.7000</FONT></TD>","<TD NOWRAP ALIGN=CENTER><FONT FACE=\"Times New Roman\" SIZE=-1>$20.52</FONT></TD>","</TR>"]
["Burnt Hills-Ballston Lake CSD",{"$f":"'2011 Base Data'!F168","v":3.5},null,null,{"$f":"'2011 Base Data'!I168","v":26.42},null,null,{"$f":"'2011 Base Data'!J168","v":29.92},null,null,{"$f":"'2011 Base Data'!K168","v":0.7},{"$f":"'2011 Base Data'!R168","v":20.94},null,null,{"$f":"ROUND(IF(S168<>0,R168*D168+S168*SUM(B168:C168)+T168*E168,R168*SUM(B168:D168)+T168*E168),2)","v":20.94},{"$f":"L168-O168","v":0},null,{"$f":"'2011 Base Data'!K168","v":0.7},{"$f":"'2011 Base Data'!L168","v":0},{"$f":"'2011 Base Data'!M168","v":0.7},null,null,null,null,"<TR VALIGN=BOTTOM>",{"$f":"\"<TD NOWRAP ALIGN=LEFT><FONT FACE=\"\"Times New Roman\"\" SIZE=-1 COLOR=#00AA00\"\">\"&A168&\"</FONT></TD>\"","v":"<TD NOWRAP ALIGN=LEFT><FONT FACE=\"Times New Roman\" SIZE=-1 COLOR=#00AA00\">Burnt Hills-Ballston Lake CSD</FONT></TD>"},"<TD NOWRAP ALIGN=RIGHT><FONT FACE=\"Times New Roman\" SIZE=-1>$3.50</FONT></TD>","<TD NOWRAP ALIGN=RIGHT><FONT FACE=\"Times New Roman\" SIZE=-1><BR></FONT></TD>","<TD NOWRAP ALIGN=RIGHT><FONT FACE=\"Times New Roman\" SIZE=-1><BR></FONT></TD>","<TD NOWRAP ALIGN=CENTER><FONT FACE=\"Times New Roman\" SIZE=-1>$26.42</FONT></TD>","<TD NOWRAP ALIGN=CENTER><FONT FACE=\"Times New Roman\" SIZE=-1>$29.92</FONT></TD>","<TD NOWRAP ALIGN=CENTER><FONT FACE=\"Times New Roman\" SIZE=-1>0.7000</FONT></TD>","<TD NOWRAP ALIGN=CENTER><FONT FACE=\"Times New Roman\" SIZE=-1>$20.94</FONT></TD>","</TR>"]
["Galway CSD",{"$f":"'2011 Base Data'!F169","v":3.5},null,null,{"$f":"'2011 Base Data'!I169","v":17.32},null,null,{"$f":"'2011 Base Data'!J169","v":20.82},null,null,{"$f":"'2011 Base Data'!K169","v":0.7},{"$f":"'2011 Base Data'!R169","v":14.57},null,null,{"$f":"ROUND(IF(S169<>0,R169*D169+S169*SUM(B169:C169)+T169*E169,R169*SUM(B169:D169)+T169*E169),2)","v":14.57},{"$f":"L169-O169","v":0},null,{"$f":"'2011 Base Data'!K169","v":0.7},{"$f":"'2011 Base Data'!L169","v":0},{"$f":"'2011 Base Data'!M169","v":0.7},null,null,null,null,"<TR VALIGN=BOTTOM>",{"$f":"\"<TD NOWRAP ALIGN=LEFT><FONT FACE=\"\"Times New Roman\"\" SIZE=-1 COLOR=#00AA00\"\">\"&A169&\"</FONT></TD>\"","v":"<TD NOWRAP ALIGN=LEFT><FONT FACE=\"Times New Roman\" SIZE=-1 COLOR=#00AA00\">Galway CSD</FONT></TD>"},"<TD NOWRAP ALIGN=RIGHT><FONT FACE=\"Times New Roman\" SIZE=-1>$3.50</FONT></TD>","<TD NOWRAP ALIGN=RIGHT><FONT FACE=\"Times New Roman\" SIZE=-1><BR></FONT></TD>","<TD NOWRAP ALIGN=RIGHT><FONT FACE=\"Times New Roman\" SIZE=-1><BR></FONT></TD>","<TD NOWRAP ALIGN=CENTER><FONT FACE=\"Times New Roman\" SIZE=-1>$17.32</FONT></TD>","<TD NOWRAP ALIGN=CENTER><FONT FACE=\"Times New Roman\" SIZE=-1>$20.82</FONT></TD>","<TD NOWRAP ALIGN=CENTER><FONT FACE=\"Times New Roman\" SIZE=-1>0.7000</FONT></TD>","<TD NOWRAP ALIGN=CENTER><FONT FACE=\"Times New Roman\" SIZE=-1>$14.57</FONT></TD>","</TR>"]
["Scotia-Glenville CSD",{"$f":"'2011 Base Data'!F170","v":3.5},null,null,{"$f":"'2011 Base Data'!I170","v":26.01},null,null,{"$f":"'2011 Base Data'!J170","v":29.51},null,null,{"$f":"'2011 Base Data'!K170","v":0.7},{"$f":"'2011 Base Data'!R170","v":20.66},null,null,{"$f":"ROUND(IF(S170<>0,R170*D170+S170*SUM(B170:C170)+T170*E170,R170*SUM(B170:D170)+T170*E170),2)","v":20.66},{"$f":"L170-O170","v":0},null,{"$f":"'2011 Base Data'!K170","v":0.7},{"$f":"'2011 Base Data'!L170","v":0},{"$f":"'2011 Base Data'!M170","v":0.7},null,null,null,null,"<TR VALIGN=BOTTOM>",{"$f":"\"<TD NOWRAP ALIGN=LEFT><FONT FACE=\"\"Times New Roman\"\" SIZE=-1 COLOR=#00AA00\"\">\"&A170&\"</FONT></TD>\"","v":"<TD NOWRAP ALIGN=LEFT><FONT FACE=\"Times New Roman\" SIZE=-1 COLOR=#00AA00\">Scotia-Glenville CSD</FONT></TD>"},"<TD NOWRAP ALIGN=RIGHT><FONT FACE=\"Times New Roman\" SIZE=-1>$3.50</FONT></TD>","<TD NOWRAP ALIGN=RIGHT><FONT FACE=\"Times New Roman\" SIZE=-1><BR></FONT></TD>","<TD NOWRAP ALIGN=RIGHT><FONT FACE=\"Times New Roman\" SIZE=-1><BR></FONT></TD>","<TD NOWRAP ALIGN=CENTER><FONT FACE=\"Times New Roman\" SIZE=-1>$26.01</FONT></TD>","<TD NOWRAP ALIGN=CENTER><FONT FACE=\"Times New Roman\" SIZE=-1>$29.51</FONT></TD>","<TD NOWRAP ALIGN=CENTER><FONT FACE=\"Times New Roman\" SIZE=-1>0.7000</FONT></TD>","<TD NOWRAP ALIGN=CENTER><FONT FACE=\"Times New Roman\" SIZE=-1>$20.66</FONT></TD>","</TR>"]
["Town of Clifton Park",{"$f":"B172","v":3.9},{"$f":"C172","v":0.19},null,{"$f":"MIN(INDIRECT(U172))","v":28.5},{"$f":"IF(G171<>0,\"to\",\"\")","v":"to"},{"$f":"IF(U171<>V171,MAX(INDIRECT(U172)),0)","v":31.88},{"$f":"MIN(INDIRECT(V172))","v":32.590000000000003},{"$f":"IF(J171<>0,\"to\",\"\")","v":"to"},{"$f":"IF(U171<>V171,MAX(INDIRECT(V172)),0)","v":35.97},{"$f":"K172","v":0.57999999999999996},{"$f":"MIN(INDIRECT(W172))","v":18.899999999999999},{"$f":"IF(N171<>0,\"to\",\"\")","v":"to"},{"$f":"IF(U171<>V171,MAX(INDIRECT(W172)),0)","v":20.86},null,null,null,null,null,null,{"$f":"CELL(\"row\",P172)","v":172},{"$f":"CELL(\"row\",P174)","v":174},null,null,"<TR VALIGN=BOTTOM BGCOLOR=\"#FFFFCC\">",{"$f":"\"<TH NOWRAP ALIGN=LEFT><FONT FACE=\"\"Times New Roman\"\" SIZE=-1>\"&A171&\"</FONT></TH>\"","v":"<TH NOWRAP ALIGN=LEFT><FONT FACE=\"Times New Roman\" SIZE=-1>Town of Clifton Park</FONT></TH>"},"<TD NOWRAP ALIGN=RIGHT><FONT FACE=\"Times New Roman\" SIZE=-1>$3.90</FONT></TD>","<TD NOWRAP ALIGN=RIGHT><FONT FACE=\"Times New Roman\" SIZE=-1>$0.19</FONT></TD>","<TD NOWRAP ALIGN=RIGHT><FONT FACE=\"Times New Roman\" SIZE=-1><BR></FONT></TD>","<TD NOWRAP ALIGN=CENTER><FONT FACE=\"Times New Roman\" SIZE=-1>$28.50 to $31.88</FONT></TD>","<TD NOWRAP ALIGN=CENTER><FONT FACE=\"Times New Roman\" SIZE=-1>$32.59 to $35.97</FONT></TD>","<TD NOWRAP ALIGN=CENTER><FONT FACE=\"Times New Roman\" SIZE=-1>0.5800</FONT></TD>","<TD NOWRAP ALIGN=CENTER><FONT FACE=\"Times New Roman\" SIZE=-1>$18.90 to $20.86</FONT></TD>","</TR>"]
["Burnt Hills-Ballston Lake CSD",{"$f":"'2011 Base Data'!F172","v":3.9},{"$f":"'2011 Base Data'!G172","v":0.19},null,{"$f":"'2011 Base Data'!I172","v":31.88},null,null,{"$f":"'2011 Base Data'!J172","v":35.97},null,null,{"$f":"'2011 Base Data'!K172","v":0.57999999999999996},{"$f":"'2011 Base Data'!R172","v":20.86},null,null,{"$f":"ROUND(IF(S172<>0,R172*D172+S172*SUM(B172:C172)+T172*E172,R172*SUM(B172:D172)+T172*E172),2)","v":20.86},{"$f":"L172-O172","v":0},null,{"$f":"'2011 Base Data'!K172","v":0.57999999999999996},{"$f":"'2011 Base Data'!L172","v":0},{"$f":"'2011 Base Data'!M172","v":0.57999999999999996},{"$f":"\"E\"&U171&\":\"&\"E\"&V171","v":"E172:E174"},{"$f":"\"H\"&U171&\":\"&\"H\"&V171","v":"H172:H174"},{"$f":"\"L\"&U171&\":\"&\"L\"&V171","v":"L172:L174"},null,"<TR VALIGN=BOTTOM>",{"$f":"\"<TD NOWRAP ALIGN=LEFT><FONT FACE=\"\"Times New Roman\"\" SIZE=-1 COLOR=#00AA00\"\">\"&A172&\"</FONT></TD>\"","v":"<TD NOWRAP ALIGN=LEFT><FONT FACE=\"Times New Roman\" SIZE=-1 COLOR=#00AA00\">Burnt Hills-Ballston Lake CSD</FONT></TD>"},"<TD NOWRAP ALIGN=RIGHT><FONT FACE=\"Times New Roman\" SIZE=-1>$3.90</FONT></TD>","<TD NOWRAP ALIGN=RIGHT><FONT FACE=\"Times New Roman\" SIZE=-1>$0.19</FONT></TD>","<TD NOWRAP ALIGN=RIGHT><FONT FACE=\"Times New Roman\" SIZE=-1><BR></FONT></TD>","<TD NOWRAP ALIGN=CENTER><FONT FACE=\"Times New Roman\" SIZE=-1>$31.88</FONT></TD>","<TD NOWRAP ALIGN=CENTER><FONT FACE=\"Times New Roman\" SIZE=-1>$35.97</FONT></TD>","<TD NOWRAP ALIGN=CENTER><FONT FACE=\"Times New Roman\" SIZE=-1>0.5800</FONT></TD>","<TD NOWRAP ALIGN=CENTER><FONT FACE=\"Times New Roman\" SIZE=-1>$20.86</FONT></TD>","</TR>"]
["Niskayuna CSD",{"$f":"'2011 Base Data'!F173","v":3.9},{"$f":"'2011 Base Data'!G173","v":0.19},null,{"$f":"'2011 Base Data'!I173","v":30.35},null,null,{"$f":"'2011 Base Data'!J173","v":34.44},null,null,{"$f":"'2011 Base Data'!K173","v":0.57999999999999996},{"$f":"'2011 Base Data'!R173","v":19.97},null,null,{"$f":"ROUND(IF(S173<>0,R173*D173+S173*SUM(B173:C173)+T173*E173,R173*SUM(B173:D173)+T173*E173),2)","v":19.98},{"$f":"L173-O173","v":-1.0000000000001563E-2},null,{"$f":"'2011 Base Data'!K173","v":0.57999999999999996},{"$f":"'2011 Base Data'!L173","v":0},{"$f":"'2011 Base Data'!M173","v":0.57999999999999996},null,null,null,null,"<TR VALIGN=BOTTOM>",{"$f":"\"<TD NOWRAP ALIGN=LEFT><FONT FACE=\"\"Times New Roman\"\" SIZE=-1 COLOR=#00AA00\"\">\"&A173&\"</FONT></TD>\"","v":"<TD NOWRAP ALIGN=LEFT><FONT FACE=\"Times New Roman\" SIZE=-1 COLOR=#00AA00\">Niskayuna CSD</FONT></TD>"},"<TD NOWRAP ALIGN=RIGHT><FONT FACE=\"Times New Roman\" SIZE=-1>$3.90</FONT></TD>","<TD NOWRAP ALIGN=RIGHT><FONT FACE=\"Times New Roman\" SIZE=-1>$0.19</FONT></TD>","<TD NOWRAP ALIGN=RIGHT><FONT FACE=\"Times New Roman\" SIZE=-1><BR></FONT></TD>","<TD NOWRAP ALIGN=CENTER><FONT FACE=\"Times New Roman\" SIZE=-1>$30.35</FONT></TD>","<TD NOWRAP ALIGN=CENTER><FONT FACE=\"Times New Roman\" SIZE=-1>$34.44</FONT></TD>","<TD NOWRAP ALIGN=CENTER><FONT FACE=\"Times New Roman\" SIZE=-1>0.5800</FONT></TD>","<TD NOWRAP ALIGN=CENTER><FONT FACE=\"Times New Roman\" SIZE=-1>$19.97</FONT></TD>","</TR>"]
["Shenendehowa CSD",{"$f":"'2011 Base Data'!F174","v":3.9},{"$f":"'2011 Base Data'!G174","v":0.19},null,{"$f":"'2011 Base Data'!I174","v":28.5},null,null,{"$f":"'2011 Base Data'!J174","v":32.590000000000003},null,null,{"$f":"'2011 Base Data'!K174","v":0.57999999999999996},{"$f":"'2011 Base Data'!R174","v":18.899999999999999},null,null,{"$f":"ROUND(IF(S174<>0,R174*D174+S174*SUM(B174:C174)+T174*E174,R174*SUM(B174:D174)+T174*E174),2)","v":18.899999999999999},{"$f":"L174-O174","v":0},null,{"$f":"'2011 Base Data'!K174","v":0.57999999999999996},{"$f":"'2011 Base Data'!L174","v":0},{"$f":"'2011 Base Data'!M174","v":0.57999999999999996},null,null,null,null,"<TR VALIGN=BOTTOM>",{"$f":"\"<TD NOWRAP ALIGN=LEFT><FONT FACE=\"\"Times New Roman\"\" SIZE=-1 COLOR=#00AA00\"\">\"&A174&\"</FONT></TD>\"","v":"<TD NOWRAP ALIGN=LEFT><FONT FACE=\"Times New Roman\" SIZE=-1 COLOR=#00AA00\">Shenendehowa CSD</FONT></TD>"},"<TD NOWRAP ALIGN=RIGHT><FONT FACE=\"Times New Roman\" SIZE=-1>$3.90</FONT></TD>","<TD NOWRAP ALIGN=RIGHT><FONT FACE=\"Times New Roman\" SIZE=-1>$0.19</FONT></TD>","<TD NOWRAP ALIGN=RIGHT><FONT FACE=\"Times New Roman\" SIZE=-1><BR></FONT></TD>","<TD NOWRAP ALIGN=CENTER><FONT FACE=\"Times New Roman\" SIZE=-1>$28.50</FONT></TD>","<TD NOWRAP ALIGN=CENTER><FONT FACE=\"Times New Roman\" SIZE=-1>$32.59</FONT></TD>","<TD NOWRAP ALIGN=CENTER><FONT FACE=\"Times New Roman\" SIZE=-1>0.5800</FONT></TD>","<TD NOWRAP ALIGN=CENTER><FONT FACE=\"Times New Roman\" SIZE=-1>$18.90</FONT></TD>","</TR>"]
["Town of Corinth",{"$f":"B176","v":2.33},{"$f":"C176","v":3.63},null,{"$f":"MIN(INDIRECT(U176))","v":11.02},{"$f":"IF(G175<>0,\"to\",\"\")","v":""},{"$f":"IF(U175<>V175,MAX(INDIRECT(U176)),0)","v":0},{"$f":"MIN(INDIRECT(V176))","v":16.98},{"$f":"IF(J175<>0,\"to\",\"\")","v":""},{"$f":"IF(U175<>V175,MAX(INDIRECT(V176)),0)","v":0},{"$f":"K176","v":1},{"$f":"MIN(INDIRECT(W176))","v":16.98},{"$f":"IF(N175<>0,\"to\",\"\")","v":""},{"$f":"IF(U175<>V175,MAX(INDIRECT(W176)),0)","v":0},null,null,null,null,null,null,{"$f":"CELL(\"row\",P176)","v":176},{"$f":"CELL(\"row\",P176)","v":176},null,null,"<TR VALIGN=BOTTOM BGCOLOR=\"#FFFFCC\">",{"$f":"\"<TH NOWRAP ALIGN=LEFT><FONT FACE=\"\"Times New Roman\"\" SIZE=-1>\"&A175&\"</FONT></TH>\"","v":"<TH NOWRAP ALIGN=LEFT><FONT FACE=\"Times New Roman\" SIZE=-1>Town of Corinth</FONT></TH>"},"<TD NOWRAP ALIGN=RIGHT><FONT FACE=\"Times New Roman\" SIZE=-1>$2.33</FONT></TD>","<TD NOWRAP ALIGN=RIGHT><FONT FACE=\"Times New Roman\" SIZE=-1>$3.63</FONT></TD>","<TD NOWRAP ALIGN=RIGHT><FONT FACE=\"Times New Roman\" SIZE=-1><BR></FONT></TD>","<TD NOWRAP ALIGN=CENTER><FONT FACE=\"Times New Roman\" SIZE=-1>$11.02</FONT></TD>","<TD NOWRAP ALIGN=CENTER><FONT FACE=\"Times New Roman\" SIZE=-1>$16.98</FONT></TD>","<TD NOWRAP ALIGN=CENTER><FONT FACE=\"Times New Roman\" SIZE=-1>1.0000</FONT></TD>","<TD NOWRAP ALIGN=CENTER><FONT FACE=\"Times New Roman\" SIZE=-1>$16.98</FONT></TD>","</TR>"]
["Corinth CSD",{"$f":"'2011 Base Data'!F176","v":2.33},{"$f":"'2011 Base Data'!G176","v":3.63},null,{"$f":"'2011 Base Data'!I176","v":11.02},null,null,{"$f":"'2011 Base Data'!J176","v":16.98},null,null,{"$f":"'2011 Base Data'!K176","v":1},{"$f":"'2011 Base Data'!R176","v":16.98},null,null,{"$f":"ROUND(IF(S176<>0,R176*D176+S176*SUM(B176:C176)+T176*E176,R176*SUM(B176:D176)+T176*E176),2)","v":16.98},{"$f":"L176-O176","v":0},null,{"$f":"'2011 Base Data'!K176","v":1},{"$f":"'2011 Base Data'!L176","v":0},{"$f":"'2011 Base Data'!M176","v":1},{"$f":"\"E\"&U175&\":\"&\"E\"&V175","v":"E176:E176"},{"$f":"\"H\"&U175&\":\"&\"H\"&V175","v":"H176:H176"},{"$f":"\"L\"&U175&\":\"&\"L\"&V175","v":"L176:L176"},null,"<TR VALIGN=BOTTOM>",{"$f":"\"<TD NOWRAP ALIGN=LEFT><FONT FACE=\"\"Times New Roman\"\" SIZE=-1 COLOR=#00AA00\"\">\"&A176&\"</FONT></TD>\"","v":"<TD NOWRAP ALIGN=LEFT><FONT FACE=\"Times New Roman\" SIZE=-1 COLOR=#00AA00\">Corinth CSD</FONT></TD>"},"<TD NOWRAP ALIGN=RIGHT><FONT FACE=\"Times New Roman\" SIZE=-1>$2.33</FONT></TD>","<TD NOWRAP ALIGN=RIGHT><FONT FACE=\"Times New Roman\" SIZE=-1>$3.63</FONT></TD>","<TD NOWRAP ALIGN=RIGHT><FONT FACE=\"Times New Roman\" SIZE=-1><BR></FONT></TD>","<TD NOWRAP ALIGN=CENTER><FONT FACE=\"Times New Roman\" SIZE=-1>$11.02</FONT></TD>","<TD NOWRAP ALIGN=CENTER><FONT FACE=\"Times New Roman\" SIZE=-1>$16.98</FONT></TD>","<TD NOWRAP ALIGN=CENTER><FONT FACE=\"Times New Roman\" SIZE=-1>1.0000</FONT></TD>","<TD NOWRAP ALIGN=CENTER><FONT FACE=\"Times New Roman\" SIZE=-1>$16.98</FONT></TD>","</TR>"]
["Village of Corinth",{"$f":"B178","v":2.33},{"$f":"C178","v":1.54},{"$f":"D178","v":6.03},{"$f":"MIN(INDIRECT(U178))","v":11.02},{"$f":"IF(G177<>0,\"to\",\"\")","v":""},{"$f":"IF(U177<>V177,MAX(INDIRECT(U178)),0)","v":0},{"$f":"MIN(INDIRECT(V178))","v":20.92},{"$f":"IF(J177<>0,\"to\",\"\")","v":""},{"$f":"IF(U177<>V177,MAX(INDIRECT(V178)),0)","v":0},{"$f":"K178","v":0.97},{"$f":"MIN(INDIRECT(W178))","v":20.74},{"$f":"IF(N177<>0,\"to\",\"\")","v":""},{"$f":"IF(U177<>V177,MAX(INDIRECT(W178)),0)","v":0},null,null,null,null,null,null,{"$f":"CELL(\"row\",P178)","v":178},{"$f":"CELL(\"row\",P178)","v":178},null,null,"<TR VALIGN=BOTTOM BGCOLOR=\"#FFFFCC\">",{"$f":"\"<TH NOWRAP ALIGN=LEFT><FONT FACE=\"\"Times New Roman\"\" SIZE=-1 COLOR=\"\"#0000CC\"\">\"&A177&\"</FONT></TH>\"","v":"<TH NOWRAP ALIGN=LEFT><FONT FACE=\"Times New Roman\" SIZE=-1 COLOR=\"#0000CC\">Village of Corinth</FONT></TH>"},"<TD NOWRAP ALIGN=RIGHT><FONT FACE=\"Times New Roman\" SIZE=-1>$2.33</FONT></TD>","<TD NOWRAP ALIGN=RIGHT><FONT FACE=\"Times New Roman\" SIZE=-1>$1.54</FONT></TD>","<TD NOWRAP ALIGN=RIGHT><FONT FACE=\"Times New Roman\" SIZE=-1>$6.03</FONT></TD>","<TD NOWRAP ALIGN=CENTER><FONT FACE=\"Times New Roman\" SIZE=-1>$11.02</FONT></TD>","<TD NOWRAP ALIGN=CENTER><FONT FACE=\"Times New Roman\" SIZE=-1>$20.92</FONT></TD>","<TD NOWRAP ALIGN=CENTER><FONT FACE=\"Times New Roman\" SIZE=-1>0.9700</FONT></TD>","<TD NOWRAP ALIGN=CENTER><FONT FACE=\"Times New Roman\" SIZE=-1>$20.74</FONT></TD>","</TR>"]
["Corinth CSD",{"$f":"'2011 Base Data'!F178","v":2.33},{"$f":"'2011 Base Data'!G178","v":1.54},{"$f":"'2011 Base Data'!H178","v":6.03},{"$f":"'2011 Base Data'!I178","v":11.02},null,null,{"$f":"'2011 Base Data'!J178","v":20.92},null,null,{"$f":"'2011 Base Data'!K178","v":0.97},{"$f":"'2011 Base Data'!R178","v":20.74},null,null,{"$f":"ROUND(IF(S178<>0,R178*D178+S178*SUM(B178:C178)+T178*E178,R178*SUM(B178:D178)+T178*E178),2)","v":20.74},{"$f":"L178-O178","v":0},null,{"$f":"'2011 Base Data'!K178","v":0.97},{"$f":"'2011 Base Data'!L178","v":1},{"$f":"'2011 Base Data'!M178","v":1},{"$f":"\"E\"&U177&\":\"&\"E\"&V177","v":"E178:E178"},{"$f":"\"H\"&U177&\":\"&\"H\"&V177","v":"H178:H178"},{"$f":"\"L\"&U177&\":\"&\"L\"&V177","v":"L178:L178"},null,"<TR VALIGN=BOTTOM>",{"$f":"\"<TD NOWRAP ALIGN=LEFT><FONT FACE=\"\"Times New Roman\"\" SIZE=-1 COLOR=#00AA00\"\">\"&A178&\"</FONT></TD>\"","v":"<TD NOWRAP ALIGN=LEFT><FONT FACE=\"Times New Roman\" SIZE=-1 COLOR=#00AA00\">Corinth CSD</FONT></TD>"},"<TD NOWRAP ALIGN=RIGHT><FONT FACE=\"Times New Roman\" SIZE=-1>$2.33</FONT></TD>","<TD NOWRAP ALIGN=RIGHT><FONT FACE=\"Times New Roman\" SIZE=-1>$1.54</FONT></TD>","<TD NOWRAP ALIGN=RIGHT><FONT FACE=\"Times New Roman\" SIZE=-1>$6.03</FONT></TD>","<TD NOWRAP ALIGN=CENTER><FONT FACE=\"Times New Roman\" SIZE=-1>$11.02</FONT></TD>","<TD NOWRAP ALIGN=CENTER><FONT FACE=\"Times New Roman\" SIZE=-1>$20.92</FONT></TD>","<TD NOWRAP ALIGN=CENTER><FONT FACE=\"Times New Roman\" SIZE=-1>0.9700</FONT></TD>","<TD NOWRAP ALIGN=CENTER><FONT FACE=\"Times New Roman\" SIZE=-1>$20.74</FONT></TD>","</TR>"]
["Town of Day",{"$f":"B180","v":3.33},{"$f":"C180","v":2.0299999999999998},null,{"$f":"MIN(INDIRECT(U180))","v":6.91},{"$f":"IF(G179<>0,\"to\",\"\")","v":"to"},{"$f":"IF(U179<>V179,MAX(INDIRECT(U180)),0)","v":16.399999999999999},{"$f":"MIN(INDIRECT(V180))","v":12.27},{"$f":"IF(J179<>0,\"to\",\"\")","v":"to"},{"$f":"IF(U179<>V179,MAX(INDIRECT(V180)),0)","v":21.76},{"$f":"K180","v":0.68049999999999999},{"$f":"MIN(INDIRECT(W180))","v":8.35},{"$f":"IF(N179<>0,\"to\",\"\")","v":"to"},{"$f":"IF(U179<>V179,MAX(INDIRECT(W180)),0)","v":14.81},null,null,null,null,null,null,{"$f":"CELL(\"row\",P180)","v":180},{"$f":"CELL(\"row\",P182)","v":182},null,null,"<TR VALIGN=BOTTOM BGCOLOR=\"#FFFFCC\">",{"$f":"\"<TH NOWRAP ALIGN=LEFT><FONT FACE=\"\"Times New Roman\"\" SIZE=-1>\"&A179&\"</FONT></TH>\"","v":"<TH NOWRAP ALIGN=LEFT><FONT FACE=\"Times New Roman\" SIZE=-1>Town of Day</FONT></TH>"},"<TD NOWRAP ALIGN=RIGHT><FONT FACE=\"Times New Roman\" SIZE=-1>$3.33</FONT></TD>","<TD NOWRAP ALIGN=RIGHT><FONT FACE=\"Times New Roman\" SIZE=-1>$2.03</FONT></TD>","<TD NOWRAP ALIGN=RIGHT><FONT FACE=\"Times New Roman\" SIZE=-1><BR></FONT></TD>","<TD NOWRAP ALIGN=CENTER><FONT FACE=\"Times New Roman\" SIZE=-1>$6.91 to $16.40</FONT></TD>","<TD NOWRAP ALIGN=CENTER><FONT FACE=\"Times New Roman\" SIZE=-1>$12.27 to $21.76</FONT></TD>","<TD NOWRAP ALIGN=CENTER><FONT FACE=\"Times New Roman\" SIZE=-1>0.6805</FONT></TD>","<TD NOWRAP ALIGN=CENTER><FONT FACE=\"Times New Roman\" SIZE=-1>$8.35 to $14.81</FONT></TD>","</TR>"]
["Corinth CSD",{"$f":"'2011 Base Data'!F180","v":3.33},{"$f":"'2011 Base Data'!G180","v":2.0299999999999998},null,{"$f":"'2011 Base Data'!I180","v":16.399999999999999},null,null,{"$f":"'2011 Base Data'!J180","v":21.76},null,null,{"$f":"'2011 Base Data'!K180","v":0.68049999999999999},{"$f":"'2011 Base Data'!R180","v":14.81},null,null,{"$f":"ROUND(IF(S180<>0,R180*D180+S180*SUM(B180:C180)+T180*E180,R180*SUM(B180:D180)+T180*E180),2)","v":14.81},{"$f":"L180-O180","v":0},null,{"$f":"'2011 Base Data'!K180","v":0.68049999999999999},{"$f":"'2011 Base Data'!L180","v":0},{"$f":"'2011 Base Data'!M180","v":0.68049999999999999},{"$f":"\"E\"&U179&\":\"&\"E\"&V179","v":"E180:E182"},{"$f":"\"H\"&U179&\":\"&\"H\"&V179","v":"H180:H182"},{"$f":"\"L\"&U179&\":\"&\"L\"&V179","v":"L180:L182"},null,"<TR VALIGN=BOTTOM>",{"$f":"\"<TD NOWRAP ALIGN=LEFT><FONT FACE=\"\"Times New Roman\"\" SIZE=-1 COLOR=#00AA00\"\">\"&A180&\"</FONT></TD>\"","v":"<TD NOWRAP ALIGN=LEFT><FONT FACE=\"Times New Roman\" SIZE=-1 COLOR=#00AA00\">Corinth CSD</FONT></TD>"},"<TD NOWRAP ALIGN=RIGHT><FONT FACE=\"Times New Roman\" SIZE=-1>$3.33</FONT></TD>","<TD NOWRAP ALIGN=RIGHT><FONT FACE=\"Times New Roman\" SIZE=-1>$2.03</FONT></TD>","<TD NOWRAP ALIGN=RIGHT><FONT FACE=\"Times New Roman\" SIZE=-1><BR></FONT></TD>","<TD NOWRAP ALIGN=CENTER><FONT FACE=\"Times New Roman\" SIZE=-1>$16.40</FONT></TD>","<TD NOWRAP ALIGN=CENTER><FONT FACE=\"Times New Roman\" SIZE=-1>$21.76</FONT></TD>","<TD NOWRAP ALIGN=CENTER><FONT FACE=\"Times New Roman\" SIZE=-1>0.6805</FONT></TD>","<TD NOWRAP ALIGN=CENTER><FONT FACE=\"Times New Roman\" SIZE=-1>$14.81</FONT></TD>","</TR>"]
["Edinburg Common SD",{"$f":"'2011 Base Data'!F181","v":3.33},{"$f":"'2011 Base Data'!G181","v":2.0299999999999998},null,{"$f":"'2011 Base Data'!I181","v":6.91},null,null,{"$f":"'2011 Base Data'!J181","v":12.27},null,null,{"$f":"'2011 Base Data'!K181","v":0.68049999999999999},{"$f":"'2011 Base Data'!R181","v":8.35},null,null,{"$f":"ROUND(IF(S181<>0,R181*D181+S181*SUM(B181:C181)+T181*E181,R181*SUM(B181:D181)+T181*E181),2)","v":8.35},{"$f":"L181-O181","v":0},null,{"$f":"'2011 Base Data'!K181","v":0.68049999999999999},{"$f":"'2011 Base Data'!L181","v":0},{"$f":"'2011 Base Data'!M181","v":0.68049999999999999},null,null,null,null,"<TR VALIGN=BOTTOM>",{"$f":"\"<TD NOWRAP ALIGN=LEFT><FONT FACE=\"\"Times New Roman\"\" SIZE=-1 COLOR=#00AA00\"\">\"&A181&\"</FONT></TD>\"","v":"<TD NOWRAP ALIGN=LEFT><FONT FACE=\"Times New Roman\" SIZE=-1 COLOR=#00AA00\">Edinburg Common SD</FONT></TD>"},"<TD NOWRAP ALIGN=RIGHT><FONT FACE=\"Times New Roman\" SIZE=-1>$3.33</FONT></TD>","<TD NOWRAP ALIGN=RIGHT><FONT FACE=\"Times New Roman\" SIZE=-1>$2.03</FONT></TD>","<TD NOWRAP ALIGN=RIGHT><FONT FACE=\"Times New Roman\" SIZE=-1><BR></FONT></TD>","<TD NOWRAP ALIGN=CENTER><FONT FACE=\"Times New Roman\" SIZE=-1>$6.91</FONT></TD>","<TD NOWRAP ALIGN=CENTER><FONT FACE=\"Times New Roman\" SIZE=-1>$12.27</FONT></TD>","<TD NOWRAP ALIGN=CENTER><FONT FACE=\"Times New Roman\" SIZE=-1>0.6805</FONT></TD>","<TD NOWRAP ALIGN=CENTER><FONT FACE=\"Times New Roman\" SIZE=-1>$8.35</FONT></TD>","</TR>"]
["Hadley-Luzerne CSD",{"$f":"'2011 Base Data'!F182","v":3.33},{"$f":"'2011 Base Data'!G182","v":2.0299999999999998},null,{"$f":"'2011 Base Data'!I182","v":13.78},null,null,{"$f":"'2011 Base Data'!J182","v":19.14},null,null,{"$f":"'2011 Base Data'!K182","v":0.68049999999999999},{"$f":"'2011 Base Data'!R182","v":13.03},null,null,{"$f":"ROUND(IF(S182<>0,R182*D182+S182*SUM(B182:C182)+T182*E182,R182*SUM(B182:D182)+T182*E182),2)","v":13.02},{"$f":"L182-O182","v":9.9999999999997868E-3},null,{"$f":"'2011 Base Data'!K182","v":0.68049999999999999},{"$f":"'2011 Base Data'!L182","v":0},{"$f":"'2011 Base Data'!M182","v":0.68049999999999999},null,null,null,null,"<TR VALIGN=BOTTOM>",{"$f":"\"<TD NOWRAP ALIGN=LEFT><FONT FACE=\"\"Times New Roman\"\" SIZE=-1 COLOR=#00AA00\"\">\"&A182&\"</FONT></TD>\"","v":"<TD NOWRAP ALIGN=LEFT><FONT FACE=\"Times New Roman\" SIZE=-1 COLOR=#00AA00\">Hadley-Luzerne CSD</FONT></TD>"},"<TD NOWRAP ALIGN=RIGHT><FONT FACE=\"Times New Roman\" SIZE=-1>$3.33</FONT></TD>","<TD NOWRAP ALIGN=RIGHT><FONT FACE=\"Times New Roman\" SIZE=-1>$2.03</FONT></TD>","<TD NOWRAP ALIGN=RIGHT><FONT FACE=\"Times New Roman\" SIZE=-1><BR></FONT></TD>","<TD NOWRAP ALIGN=CENTER><FONT FACE=\"Times New Roman\" SIZE=-1>$13.78</FONT></TD>","<TD NOWRAP ALIGN=CENTER><FONT FACE=\"Times New Roman\" SIZE=-1>$19.14</FONT></TD>","<TD NOWRAP ALIGN=CENTER><FONT FACE=\"Times New Roman\" SIZE=-1>0.6805</FONT></TD>","<TD NOWRAP ALIGN=CENTER><FONT FACE=\"Times New Roman\" SIZE=-1>$13.03</FONT></TD>","</TR>"]
["Town of Edinburg",{"$f":"B184","v":4.1900000000000004},{"$f":"C184","v":1.01},null,{"$f":"MIN(INDIRECT(U184))","v":8.8800000000000008},{"$f":"IF(G183<>0,\"to\",\"\")","v":"to"},{"$f":"IF(U183<>V183,MAX(INDIRECT(U184)),0)","v":28.91},{"$f":"MIN(INDIRECT(V184))","v":14.08},{"$f":"IF(J183<>0,\"to\",\"\")","v":"to"},{"$f":"IF(U183<>V183,MAX(INDIRECT(V184)),0)","v":34.11},{"$f":"K184","v":0.53},{"$f":"MIN(INDIRECT(W184))","v":7.47},{"$f":"IF(N183<>0,\"to\",\"\")","v":"to"},{"$f":"IF(U183<>V183,MAX(INDIRECT(W184)),0)","v":18.079999999999998},null,null,null,null,null,null,{"$f":"CELL(\"row\",P184)","v":184},{"$f":"CELL(\"row\",P187)","v":187},null,null,"<TR VALIGN=BOTTOM BGCOLOR=\"#FFFFCC\">",{"$f":"\"<TH NOWRAP ALIGN=LEFT><FONT FACE=\"\"Times New Roman\"\" SIZE=-1>\"&A183&\"</FONT></TH>\"","v":"<TH NOWRAP ALIGN=LEFT><FONT FACE=\"Times New Roman\" SIZE=-1>Town of Edinburg</FONT></TH>"},"<TD NOWRAP ALIGN=RIGHT><FONT FACE=\"Times New Roman\" SIZE=-1>$4.19</FONT></TD>","<TD NOWRAP ALIGN=RIGHT><FONT FACE=\"Times New Roman\" SIZE=-1>$1.01</FONT></TD>","<TD NOWRAP ALIGN=RIGHT><FONT FACE=\"Times New Roman\" SIZE=-1><BR></FONT></TD>","<TD NOWRAP ALIGN=CENTER><FONT FACE=\"Times New Roman\" SIZE=-1>$8.88 to $28.91</FONT></TD>","<TD NOWRAP ALIGN=CENTER><FONT FACE=\"Times New Roman\" SIZE=-1>$14.08 to $34.11</FONT></TD>","<TD NOWRAP ALIGN=CENTER><FONT FACE=\"Times New Roman\" SIZE=-1>0.5300</FONT></TD>","<TD NOWRAP ALIGN=CENTER><FONT FACE=\"Times New Roman\" SIZE=-1>$7.47 to $18.08</FONT></TD>","</TR>"]
["Broadalbin-Perth CSD",{"$f":"'2011 Base Data'!F184","v":4.1900000000000004},{"$f":"'2011 Base Data'!G184","v":1.01},null,{"$f":"'2011 Base Data'!I184","v":28.91},null,null,{"$f":"'2011 Base Data'!J184","v":34.11},null,null,{"$f":"'2011 Base Data'!K184","v":0.53},{"$f":"'2011 Base Data'!R184","v":18.079999999999998},null,null,{"$f":"ROUND(IF(S184<>0,R184*D184+S184*SUM(B184:C184)+T184*E184,R184*SUM(B184:D184)+T184*E184),2)","v":18.079999999999998},{"$f":"L184-O184","v":0},null,{"$f":"'2011 Base Data'!K184","v":0.53},{"$f":"'2011 Base Data'!L184","v":0},{"$f":"'2011 Base Data'!M184","v":0.53},{"$f":"\"E\"&U183&\":\"&\"E\"&V183","v":"E184:E187"},{"$f":"\"H\"&U183&\":\"&\"H\"&V183","v":"H184:H187"},{"$f":"\"L\"&U183&\":\"&\"L\"&V183","v":"L184:L187"},null,"<TR VALIGN=BOTTOM>",{"$f":"\"<TD NOWRAP ALIGN=LEFT><FONT FACE=\"\"Times New Roman\"\" SIZE=-1 COLOR=#00AA00\"\">\"&A184&\"</FONT></TD>\"","v":"<TD NOWRAP ALIGN=LEFT><FONT FACE=\"Times New Roman\" SIZE=-1 COLOR=#00AA00\">Broadalbin-Perth CSD</FONT></TD>"},"<TD NOWRAP ALIGN=RIGHT><FONT FACE=\"Times New Roman\" SIZE=-1>$4.19</FONT></TD>","<TD NOWRAP ALIGN=RIGHT><FONT FACE=\"Times New Roman\" SIZE=-1>$1.01</FONT></TD>","<TD NOWRAP ALIGN=RIGHT><FONT FACE=\"Times New Roman\" SIZE=-1><BR></FONT></TD>","<TD NOWRAP ALIGN=CENTER><FONT FACE=\"Times New Roman\" SIZE=-1>$28.91</FONT></TD>","<TD NOWRAP ALIGN=CENTER><FONT FACE=\"Times New Roman\" SIZE=-1>$34.11</FONT></TD>","<TD NOWRAP ALIGN=CENTER><FONT FACE=\"Times New Roman\" SIZE=-1>0.5300</FONT></TD>","<TD NOWRAP ALIGN=CENTER><FONT FACE=\"Times New Roman\" SIZE=-1>$18.08</FONT></TD>","</TR>"]
["Edinburg Common SD",{"$f":"'2011 Base Data'!F185","v":4.1900000000000004},{"$f":"'2011 Base Data'!G185","v":1.01},null,{"$f":"'2011 Base Data'!I185","v":8.8800000000000008},null,null,{"$f":"'2011 Base Data'!J185","v":14.08},null,null,{"$f":"'2011 Base Data'!K185","v":0.53},{"$f":"'2011 Base Data'!R185","v":7.47},null,null,{"$f":"ROUND(IF(S185<>0,R185*D185+S185*SUM(B185:C185)+T185*E185,R185*SUM(B185:D185)+T185*E185),2)","v":7.46},{"$f":"L185-O185","v":9.9999999999997868E-3},null,{"$f":"'2011 Base Data'!K185","v":0.53},{"$f":"'2011 Base Data'!L185","v":0},{"$f":"'2011 Base Data'!M185","v":0.53},null,null,null,null,"<TR VALIGN=BOTTOM>",{"$f":"\"<TD NOWRAP ALIGN=LEFT><FONT FACE=\"\"Times New Roman\"\" SIZE=-1 COLOR=#00AA00\"\">\"&A185&\"</FONT></TD>\"","v":"<TD NOWRAP ALIGN=LEFT><FONT FACE=\"Times New Roman\" SIZE=-1 COLOR=#00AA00\">Edinburg Common SD</FONT></TD>"},"<TD NOWRAP ALIGN=RIGHT><FONT FACE=\"Times New Roman\" SIZE=-1>$4.19</FONT></TD>","<TD NOWRAP ALIGN=RIGHT><FONT FACE=\"Times New Roman\" SIZE=-1>$1.01</FONT></TD>","<TD NOWRAP ALIGN=RIGHT><FONT FACE=\"Times New Roman\" SIZE=-1><BR></FONT></TD>","<TD NOWRAP ALIGN=CENTER><FONT FACE=\"Times New Roman\" SIZE=-1>$8.88</FONT></TD>","<TD NOWRAP ALIGN=CENTER><FONT FACE=\"Times New Roman\" SIZE=-1>$14.08</FONT></TD>","<TD NOWRAP ALIGN=CENTER><FONT FACE=\"Times New Roman\" SIZE=-1>0.5300</FONT></TD>","<TD NOWRAP ALIGN=CENTER><FONT FACE=\"Times New Roman\" SIZE=-1>$7.47</FONT></TD>","</TR>"]
["Hadley-Luzerne CSD",{"$f":"'2011 Base Data'!F186","v":4.1900000000000004},{"$f":"'2011 Base Data'!G186","v":1.01},null,{"$f":"'2011 Base Data'!I186","v":17.7},null,null,{"$f":"'2011 Base Data'!J186","v":22.9},null,null,{"$f":"'2011 Base Data'!K186","v":0.53},{"$f":"'2011 Base Data'!R186","v":12.14},null,null,{"$f":"ROUND(IF(S186<>0,R186*D186+S186*SUM(B186:C186)+T186*E186,R186*SUM(B186:D186)+T186*E186),2)","v":12.14},{"$f":"L186-O186","v":0},null,{"$f":"'2011 Base Data'!K186","v":0.53},{"$f":"'2011 Base Data'!L186","v":0},{"$f":"'2011 Base Data'!M186","v":0.53},null,null,null,null,"<TR VALIGN=BOTTOM>",{"$f":"\"<TD NOWRAP ALIGN=LEFT><FONT FACE=\"\"Times New Roman\"\" SIZE=-1 COLOR=#00AA00\"\">\"&A186&\"</FONT></TD>\"","v":"<TD NOWRAP ALIGN=LEFT><FONT FACE=\"Times New Roman\" SIZE=-1 COLOR=#00AA00\">Hadley-Luzerne CSD</FONT></TD>"},"<TD NOWRAP ALIGN=RIGHT><FONT FACE=\"Times New Roman\" SIZE=-1>$4.19</FONT></TD>","<TD NOWRAP ALIGN=RIGHT><FONT FACE=\"Times New Roman\" SIZE=-1>$1.01</FONT></TD>","<TD NOWRAP ALIGN=RIGHT><FONT FACE=\"Times New Roman\" SIZE=-1><BR></FONT></TD>","<TD NOWRAP ALIGN=CENTER><FONT FACE=\"Times New Roman\" SIZE=-1>$17.70</FONT></TD>","<TD NOWRAP ALIGN=CENTER><FONT FACE=\"Times New Roman\" SIZE=-1>$22.90</FONT></TD>","<TD NOWRAP ALIGN=CENTER><FONT FACE=\"Times New Roman\" SIZE=-1>0.5300</FONT></TD>","<TD NOWRAP ALIGN=CENTER><FONT FACE=\"Times New Roman\" SIZE=-1>$12.14</FONT></TD>","</TR>"]
["Northville CSD",{"$f":"'2011 Base Data'!F187","v":4.1900000000000004},{"$f":"'2011 Base Data'!G187","v":1.01},null,{"$f":"'2011 Base Data'!I187","v":17.8},null,null,{"$f":"'2011 Base Data'!J187","v":23},null,null,{"$f":"'2011 Base Data'!K187","v":0.53},{"$f":"'2011 Base Data'!R187","v":12.19},null,null,{"$f":"ROUND(IF(S187<>0,R187*D187+S187*SUM(B187:C187)+T187*E187,R187*SUM(B187:D187)+T187*E187),2)","v":12.19},{"$f":"L187-O187","v":0},null,{"$f":"'2011 Base Data'!K187","v":0.53},{"$f":"'2011 Base Data'!L187","v":0},{"$f":"'2011 Base Data'!M187","v":0.53},null,null,null,null,"<TR VALIGN=BOTTOM>",{"$f":"\"<TD NOWRAP ALIGN=LEFT><FONT FACE=\"\"Times New Roman\"\" SIZE=-1 COLOR=#00AA00\"\">\"&A187&\"</FONT></TD>\"","v":"<TD NOWRAP ALIGN=LEFT><FONT FACE=\"Times New Roman\" SIZE=-1 COLOR=#00AA00\">Northville CSD</FONT></TD>"},"<TD NOWRAP ALIGN=RIGHT><FONT FACE=\"Times New Roman\" SIZE=-1>$4.19</FONT></TD>","<TD NOWRAP ALIGN=RIGHT><FONT FACE=\"Times New Roman\" SIZE=-1>$1.01</FONT></TD>","<TD NOWRAP ALIGN=RIGHT><FONT FACE=\"Times New Roman\" SIZE=-1><BR></FONT></TD>","<TD NOWRAP ALIGN=CENTER><FONT FACE=\"Times New Roman\" SIZE=-1>$17.80</FONT></TD>","<TD NOWRAP ALIGN=CENTER><FONT FACE=\"Times New Roman\" SIZE=-1>$23.00</FONT></TD>","<TD NOWRAP ALIGN=CENTER><FONT FACE=\"Times New Roman\" SIZE=-1>0.5300</FONT></TD>","<TD NOWRAP ALIGN=CENTER><FONT FACE=\"Times New Roman\" SIZE=-1>$12.19</FONT></TD>","</TR>"]
["Town of Galway",{"$f":"B189","v":4.29},{"$f":"C189","v":1.46},null,{"$f":"MIN(INDIRECT(U189))","v":22.88},{"$f":"IF(G188<>0,\"to\",\"\")","v":"to"},{"$f":"IF(U188<>V188,MAX(INDIRECT(U189)),0)","v":28.92},{"$f":"MIN(INDIRECT(V189))","v":28.63},{"$f":"IF(J188<>0,\"to\",\"\")","v":"to"},{"$f":"IF(U188<>V188,MAX(INDIRECT(V189)),0)","v":34.67},{"$f":"K189","v":0.53},{"$f":"MIN(INDIRECT(W189))","v":15.17},{"$f":"IF(N188<>0,\"to\",\"\")","v":"to"},{"$f":"IF(U188<>V188,MAX(INDIRECT(W189)),0)","v":18.37},null,null,null,null,null,null,{"$f":"CELL(\"row\",P189)","v":189},{"$f":"CELL(\"row\",P190)","v":190},null,null,"<TR VALIGN=BOTTOM BGCOLOR=\"#FFFFCC\">",{"$f":"\"<TH NOWRAP ALIGN=LEFT><FONT FACE=\"\"Times New Roman\"\" SIZE=-1>\"&A188&\"</FONT></TH>\"","v":"<TH NOWRAP ALIGN=LEFT><FONT FACE=\"Times New Roman\" SIZE=-1>Town of Galway</FONT></TH>"},"<TD NOWRAP ALIGN=RIGHT><FONT FACE=\"Times New Roman\" SIZE=-1>$4.29</FONT></TD>","<TD NOWRAP ALIGN=RIGHT><FONT FACE=\"Times New Roman\" SIZE=-1>$1.46</FONT></TD>","<TD NOWRAP ALIGN=RIGHT><FONT FACE=\"Times New Roman\" SIZE=-1><BR></FONT></TD>","<TD NOWRAP ALIGN=CENTER><FONT FACE=\"Times New Roman\" SIZE=-1>$22.88 to $28.92</FONT></TD>","<TD NOWRAP ALIGN=CENTER><FONT FACE=\"Times New Roman\" SIZE=-1>$28.63 to $34.67</FONT></TD>","<TD NOWRAP ALIGN=CENTER><FONT FACE=\"Times New Roman\" SIZE=-1>0.5300</FONT></TD>","<TD NOWRAP ALIGN=CENTER><FONT FACE=\"Times New Roman\" SIZE=-1>$15.17 to $18.37</FONT></TD>","</TR>"]
["Broadalbin-Perth CSD",{"$f":"'2011 Base Data'!F189","v":4.29},{"$f":"'2011 Base Data'!G189","v":1.46},null,{"$f":"'2011 Base Data'!I189","v":28.92},null,null,{"$f":"'2011 Base Data'!J189","v":34.67},null,null,{"$f":"'2011 Base Data'!K189","v":0.53},{"$f":"'2011 Base Data'!R189","v":18.37},null,null,{"$f":"ROUND(IF(S189<>0,R189*D189+S189*SUM(B189:C189)+T189*E189,R189*SUM(B189:D189)+T189*E189),2)","v":18.38},{"$f":"L189-O189","v":-9.9999999999980105E-3},null,{"$f":"'2011 Base Data'!K189","v":0.53},{"$f":"'2011 Base Data'!L189","v":0},{"$f":"'2011 Base Data'!M189","v":0.53},{"$f":"\"E\"&U188&\":\"&\"E\"&V188","v":"E189:E190"},{"$f":"\"H\"&U188&\":\"&\"H\"&V188","v":"H189:H190"},{"$f":"\"L\"&U188&\":\"&\"L\"&V188","v":"L189:L190"},null,"<TR VALIGN=BOTTOM>",{"$f":"\"<TD NOWRAP ALIGN=LEFT><FONT FACE=\"\"Times New Roman\"\" SIZE=-1 COLOR=#00AA00\"\">\"&A189&\"</FONT></TD>\"","v":"<TD NOWRAP ALIGN=LEFT><FONT FACE=\"Times New Roman\" SIZE=-1 COLOR=#00AA00\">Broadalbin-Perth CSD</FONT></TD>"},"<TD NOWRAP ALIGN=RIGHT><FONT FACE=\"Times New Roman\" SIZE=-1>$4.29</FONT></TD>","<TD NOWRAP ALIGN=RIGHT><FONT FACE=\"Times New Roman\" SIZE=-1>$1.46</FONT></TD>","<TD NOWRAP ALIGN=RIGHT><FONT FACE=\"Times New Roman\" SIZE=-1><BR></FONT></TD>","<TD NOWRAP ALIGN=CENTER><FONT FACE=\"Times New Roman\" SIZE=-1>$28.92</FONT></TD>","<TD NOWRAP ALIGN=CENTER><FONT FACE=\"Times New Roman\" SIZE=-1>$34.67</FONT></TD>","<TD NOWRAP ALIGN=CENTER><FONT FACE=\"Times New Roman\" SIZE=-1>0.5300</FONT></TD>","<TD NOWRAP ALIGN=CENTER><FONT FACE=\"Times New Roman\" SIZE=-1>$18.37</FONT></TD>","</TR>"]
["Galway CSD",{"$f":"'2011 Base Data'!F190","v":4.29},{"$f":"'2011 Base Data'!G190","v":1.46},null,{"$f":"'2011 Base Data'!I190","v":22.88},null,null,{"$f":"'2011 Base Data'!J190","v":28.63},null,null,{"$f":"'2011 Base Data'!K190","v":0.53},{"$f":"'2011 Base Data'!R190","v":15.17},null,null,{"$f":"ROUND(IF(S190<>0,R190*D190+S190*SUM(B190:C190)+T190*E190,R190*SUM(B190:D190)+T190*E190),2)","v":15.17},{"$f":"L190-O190","v":0},null,{"$f":"'2011 Base Data'!K190","v":0.53},{"$f":"'2011 Base Data'!L190","v":0},{"$f":"'2011 Base Data'!M190","v":0.53},null,null,null,null,"<TR VALIGN=BOTTOM>",{"$f":"\"<TD NOWRAP ALIGN=LEFT><FONT FACE=\"\"Times New Roman\"\" SIZE=-1 COLOR=#00AA00\"\">\"&A190&\"</FONT></TD>\"","v":"<TD NOWRAP ALIGN=LEFT><FONT FACE=\"Times New Roman\" SIZE=-1 COLOR=#00AA00\">Galway CSD</FONT></TD>"},"<TD NOWRAP ALIGN=RIGHT><FONT FACE=\"Times New Roman\" SIZE=-1>$4.29</FONT></TD>","<TD NOWRAP ALIGN=RIGHT><FONT FACE=\"Times New Roman\" SIZE=-1>$1.46</FONT></TD>","<TD NOWRAP ALIGN=RIGHT><FONT FACE=\"Times New Roman\" SIZE=-1><BR></FONT></TD>","<TD NOWRAP ALIGN=CENTER><FONT FACE=\"Times New Roman\" SIZE=-1>$22.88</FONT></TD>","<TD NOWRAP ALIGN=CENTER><FONT FACE=\"Times New Roman\" SIZE=-1>$28.63</FONT></TD>","<TD NOWRAP ALIGN=CENTER><FONT FACE=\"Times New Roman\" SIZE=-1>0.5300</FONT></TD>","<TD NOWRAP ALIGN=CENTER><FONT FACE=\"Times New Roman\" SIZE=-1>$15.17</FONT></TD>","</TR>"]
["Village of Galway",{"$f":"B192","v":4.29},{"$f":"C192","v":0.33},{"$f":"D192","v":0},{"$f":"MIN(INDIRECT(U192))","v":22.88},{"$f":"IF(G191<>0,\"to\",\"\")","v":""},{"$f":"IF(U191<>V191,MAX(INDIRECT(U192)),0)","v":0},{"$f":"MIN(INDIRECT(V192))","v":27.5},{"$f":"IF(J191<>0,\"to\",\"\")","v":""},{"$f":"IF(U191<>V191,MAX(INDIRECT(V192)),0)","v":0},{"$f":"K192","v":0.53},{"$f":"MIN(INDIRECT(W192))","v":14.57},{"$f":"IF(N191<>0,\"to\",\"\")","v":""},{"$f":"IF(U191<>V191,MAX(INDIRECT(W192)),0)","v":0},null,null,null,null,null,null,{"$f":"CELL(\"row\",P192)","v":192},{"$f":"CELL(\"row\",P192)","v":192},null,null,"<TR VALIGN=BOTTOM BGCOLOR=\"#FFFFCC\">",{"$f":"\"<TH NOWRAP ALIGN=LEFT><FONT FACE=\"\"Times New Roman\"\" SIZE=-1 COLOR=\"\"#0000CC\"\">\"&A191&\"</FONT></TH>\"","v":"<TH NOWRAP ALIGN=LEFT><FONT FACE=\"Times New Roman\" SIZE=-1 COLOR=\"#0000CC\">Village of Galway</FONT></TH>"},"<TD NOWRAP ALIGN=RIGHT><FONT FACE=\"Times New Roman\" SIZE=-1>$4.29</FONT></TD>","<TD NOWRAP ALIGN=RIGHT><FONT FACE=\"Times New Roman\" SIZE=-1>$0.33</FONT></TD>","<TD NOWRAP ALIGN=RIGHT><FONT FACE=\"Times New Roman\" SIZE=-1>$0.00</FONT></TD>","<TD NOWRAP ALIGN=CENTER><FONT FACE=\"Times New Roman\" SIZE=-1>$22.88</FONT></TD>","<TD NOWRAP ALIGN=CENTER><FONT FACE=\"Times New Roman\" SIZE=-1>$27.50</FONT></TD>","<TD NOWRAP ALIGN=CENTER><FONT FACE=\"Times New Roman\" SIZE=-1>0.5300</FONT></TD>","<TD NOWRAP ALIGN=CENTER><FONT FACE=\"Times New Roman\" SIZE=-1>$14.57</FONT></TD>","</TR>"]
["Galway CSD",{"$f":"'2011 Base Data'!F192","v":4.29},{"$f":"'2011 Base Data'!G192","v":0.33},{"$f":"'2011 Base Data'!H192","v":0},{"$f":"'2011 Base Data'!I192","v":22.88},null,null,{"$f":"'2011 Base Data'!J192","v":27.5},null,null,{"$f":"'2011 Base Data'!K192","v":0.53},{"$f":"'2011 Base Data'!R192","v":14.57},null,null,{"$f":"ROUND(IF(S192<>0,R192*D192+S192*SUM(B192:C192)+T192*E192,R192*SUM(B192:D192)+T192*E192),2)","v":14.58},{"$f":"L192-O192","v":-9.9999999999997868E-3},null,{"$f":"'2011 Base Data'!K192","v":0.53},{"$f":"'2011 Base Data'!L192","v":0.53},{"$f":"'2011 Base Data'!M192","v":0.53},{"$f":"\"E\"&U191&\":\"&\"E\"&V191","v":"E192:E192"},{"$f":"\"H\"&U191&\":\"&\"H\"&V191","v":"H192:H192"},{"$f":"\"L\"&U191&\":\"&\"L\"&V191","v":"L192:L192"},null,"<TR VALIGN=BOTTOM>",{"$f":"\"<TD NOWRAP ALIGN=LEFT><FONT FACE=\"\"Times New Roman\"\" SIZE=-1 COLOR=#00AA00\"\">\"&A192&\"</FONT></TD>\"","v":"<TD NOWRAP ALIGN=LEFT><FONT FACE=\"Times New Roman\" SIZE=-1 COLOR=#00AA00\">Galway CSD</FONT></TD>"},"<TD NOWRAP ALIGN=RIGHT><FONT FACE=\"Times New Roman\" SIZE=-1>$4.29</FONT></TD>","<TD NOWRAP ALIGN=RIGHT><FONT FACE=\"Times New Roman\" SIZE=-1>$0.33</FONT></TD>","<TD NOWRAP ALIGN=RIGHT><FONT FACE=\"Times New Roman\" SIZE=-1>$0.00</FONT></TD>","<TD NOWRAP ALIGN=CENTER><FONT FACE=\"Times New Roman\" SIZE=-1>$22.88</FONT></TD>","<TD NOWRAP ALIGN=CENTER><FONT FACE=\"Times New Roman\" SIZE=-1>$27.50</FONT></TD>","<TD NOWRAP ALIGN=CENTER><FONT FACE=\"Times New Roman\" SIZE=-1>0.5300</FONT></TD>","<TD NOWRAP ALIGN=CENTER><FONT FACE=\"Times New Roman\" SIZE=-1>$14.57</FONT></TD>","</TR>"]
["Town of Greenfield",{"$f":"B194","v":2.2999999999999998},{"$f":"C194","v":1.18},null,{"$f":"MIN(INDIRECT(U194))","v":11.16},{"$f":"IF(G193<>0,\"to\",\"\")","v":"to"},{"$f":"IF(U193<>V193,MAX(INDIRECT(U194)),0)","v":12.26},{"$f":"MIN(INDIRECT(V194))","v":14.64},{"$f":"IF(J193<>0,\"to\",\"\")","v":"to"},{"$f":"IF(U193<>V193,MAX(INDIRECT(V194)),0)","v":15.74},{"$f":"K194","v":1},{"$f":"MIN(INDIRECT(W194))","v":14.64},{"$f":"IF(N193<>0,\"to\",\"\")","v":"to"},{"$f":"IF(U193<>V193,MAX(INDIRECT(W194)),0)","v":15.74},null,null,null,null,null,null,{"$f":"CELL(\"row\",P194)","v":194},{"$f":"CELL(\"row\",P195)","v":195},null,null,"<TR VALIGN=BOTTOM BGCOLOR=\"#FFFFCC\">",{"$f":"\"<TH NOWRAP ALIGN=LEFT><FONT FACE=\"\"Times New Roman\"\" SIZE=-1>\"&A193&\"</FONT></TH>\"","v":"<TH NOWRAP ALIGN=LEFT><FONT FACE=\"Times New Roman\" SIZE=-1>Town of Greenfield</FONT></TH>"},"<TD NOWRAP ALIGN=RIGHT><FONT FACE=\"Times New Roman\" SIZE=-1>$2.30</FONT></TD>","<TD NOWRAP ALIGN=RIGHT><FONT FACE=\"Times New Roman\" SIZE=-1>$1.18</FONT></TD>","<TD NOWRAP ALIGN=RIGHT><FONT FACE=\"Times New Roman\" SIZE=-1><BR></FONT></TD>","<TD NOWRAP ALIGN=CENTER><FONT FACE=\"Times New Roman\" SIZE=-1>$11.16 to $12.26</FONT></TD>","<TD NOWRAP ALIGN=CENTER><FONT FACE=\"Times New Roman\" SIZE=-1>$14.64 to $15.74</FONT></TD>","<TD NOWRAP ALIGN=CENTER><FONT FACE=\"Times New Roman\" SIZE=-1>1.0000</FONT></TD>","<TD NOWRAP ALIGN=CENTER><FONT FACE=\"Times New Roman\" SIZE=-1>$14.64 to $15.74</FONT></TD>","</TR>"]
["Corinth CSD",{"$f":"'2011 Base Data'!F194","v":2.2999999999999998},{"$f":"'2011 Base Data'!G194","v":1.18},null,{"$f":"'2011 Base Data'!I194","v":11.16},null,null,{"$f":"'2011 Base Data'!J194","v":14.64},null,null,{"$f":"'2011 Base Data'!K194","v":1},{"$f":"'2011 Base Data'!R194","v":14.64},null,null,{"$f":"ROUND(IF(S194<>0,R194*D194+S194*SUM(B194:C194)+T194*E194,R194*SUM(B194:D194)+T194*E194),2)","v":14.64},{"$f":"L194-O194","v":0},null,{"$f":"'2011 Base Data'!K194","v":1},{"$f":"'2011 Base Data'!L194","v":0},{"$f":"'2011 Base Data'!M194","v":1},{"$f":"\"E\"&U193&\":\"&\"E\"&V193","v":"E194:E195"},{"$f":"\"H\"&U193&\":\"&\"H\"&V193","v":"H194:H195"},{"$f":"\"L\"&U193&\":\"&\"L\"&V193","v":"L194:L195"},null,"<TR VALIGN=BOTTOM>",{"$f":"\"<TD NOWRAP ALIGN=LEFT><FONT FACE=\"\"Times New Roman\"\" SIZE=-1 COLOR=#00AA00\"\">\"&A194&\"</FONT></TD>\"","v":"<TD NOWRAP ALIGN=LEFT><FONT FACE=\"Times New Roman\" SIZE=-1 COLOR=#00AA00\">Corinth CSD</FONT></TD>"},"<TD NOWRAP ALIGN=RIGHT><FONT FACE=\"Times New Roman\" SIZE=-1>$2.30</FONT></TD>","<TD NOWRAP ALIGN=RIGHT><FONT FACE=\"Times New Roman\" SIZE=-1>$1.18</FONT></TD>","<TD NOWRAP ALIGN=RIGHT><FONT FACE=\"Times New Roman\" SIZE=-1><BR></FONT></TD>","<TD NOWRAP ALIGN=CENTER><FONT FACE=\"Times New Roman\" SIZE=-1>$11.16</FONT></TD>","<TD NOWRAP ALIGN=CENTER><FONT FACE=\"Times New Roman\" SIZE=-1>$14.64</FONT></TD>","<TD NOWRAP ALIGN=CENTER><FONT FACE=\"Times New Roman\" SIZE=-1>1.0000</FONT></TD>","<TD NOWRAP ALIGN=CENTER><FONT FACE=\"Times New Roman\" SIZE=-1>$14.64</FONT></TD>","</TR>"]
["Saratoga Springs City SD",{"$f":"'2011 Base Data'!F195","v":2.2999999999999998},{"$f":"'2011 Base Data'!G195","v":1.18},null,{"$f":"'2011 Base Data'!I195","v":12.26},null,null,{"$f":"'2011 Base Data'!J195","v":15.74},null,null,{"$f":"'2011 Base Data'!K195","v":1},{"$f":"'2011 Base Data'!R195","v":15.74},null,null,{"$f":"ROUND(IF(S195<>0,R195*D195+S195*SUM(B195:C195)+T195*E195,R195*SUM(B195:D195)+T195*E195),2)","v":15.74},{"$f":"L195-O195","v":0},null,{"$f":"'2011 Base Data'!K195","v":1},{"$f":"'2011 Base Data'!L195","v":0},{"$f":"'2011 Base Data'!M195","v":1},null,null,null,null,"<TR VALIGN=BOTTOM>",{"$f":"\"<TD NOWRAP ALIGN=LEFT><FONT FACE=\"\"Times New Roman\"\" SIZE=-1 COLOR=#00AA00\"\">\"&A195&\"</FONT></TD>\"","v":"<TD NOWRAP ALIGN=LEFT><FONT FACE=\"Times New Roman\" SIZE=-1 COLOR=#00AA00\">Saratoga Springs City SD</FONT></TD>"},"<TD NOWRAP ALIGN=RIGHT><FONT FACE=\"Times New Roman\" SIZE=-1>$2.30</FONT></TD>","<TD NOWRAP ALIGN=RIGHT><FONT FACE=\"Times New Roman\" SIZE=-1>$1.18</FONT></TD>","<TD NOWRAP ALIGN=RIGHT><FONT FACE=\"Times New Roman\" SIZE=-1><BR></FONT></TD>","<TD NOWRAP ALIGN=CENTER><FONT FACE=\"Times New Roman\" SIZE=-1>$12.26</FONT></TD>","<TD NOWRAP ALIGN=CENTER><FONT FACE=\"Times New Roman\" SIZE=-1>$15.74</FONT></TD>","<TD NOWRAP ALIGN=CENTER><FONT FACE=\"Times New Roman\" SIZE=-1>1.0000</FONT></TD>","<TD NOWRAP ALIGN=CENTER><FONT FACE=\"Times New Roman\" SIZE=-1>$15.74</FONT></TD>","</TR>"]
["Town of Hadley",{"$f":"B197","v":3},{"$f":"C197","v":5.38},null,{"$f":"MIN(INDIRECT(U197))","v":12.5},{"$f":"IF(G196<>0,\"to\",\"\")","v":"to"},{"$f":"IF(U196<>V196,MAX(INDIRECT(U197)),0)","v":14.88},{"$f":"MIN(INDIRECT(V197))","v":20.88},{"$f":"IF(J196<>0,\"to\",\"\")","v":"to"},{"$f":"IF(U196<>V196,MAX(INDIRECT(V197)),0)","v":23.26},{"$f":"K197","v":0.75},{"$f":"MIN(INDIRECT(W197))","v":15.67},{"$f":"IF(N196<>0,\"to\",\"\")","v":"to"},{"$f":"IF(U196<>V196,MAX(INDIRECT(W197)),0)","v":17.45},null,null,null,null,null,null,{"$f":"CELL(\"row\",P197)","v":197},{"$f":"CELL(\"row\",P198)","v":198},null,null,"<TR VALIGN=BOTTOM BGCOLOR=\"#FFFFCC\">",{"$f":"\"<TH NOWRAP ALIGN=LEFT><FONT FACE=\"\"Times New Roman\"\" SIZE=-1>\"&A196&\"</FONT></TH>\"","v":"<TH NOWRAP ALIGN=LEFT><FONT FACE=\"Times New Roman\" SIZE=-1>Town of Hadley</FONT></TH>"},"<TD NOWRAP ALIGN=RIGHT><FONT FACE=\"Times New Roman\" SIZE=-1>$3.00</FONT></TD>","<TD NOWRAP ALIGN=RIGHT><FONT FACE=\"Times New Roman\" SIZE=-1>$5.38</FONT></TD>","<TD NOWRAP ALIGN=RIGHT><FONT FACE=\"Times New Roman\" SIZE=-1><BR></FONT></TD>","<TD NOWRAP ALIGN=CENTER><FONT FACE=\"Times New Roman\" SIZE=-1>$12.50 to $14.88</FONT></TD>","<TD NOWRAP ALIGN=CENTER><FONT FACE=\"Times New Roman\" SIZE=-1>$20.88 to $23.26</FONT></TD>","<TD NOWRAP ALIGN=CENTER><FONT FACE=\"Times New Roman\" SIZE=-1>0.7500</FONT></TD>","<TD NOWRAP ALIGN=CENTER><FONT FACE=\"Times New Roman\" SIZE=-1>$15.67 to $17.45</FONT></TD>","</TR>"]
["Corinth CSD",{"$f":"'2011 Base Data'!F197","v":3},{"$f":"'2011 Base Data'!G197","v":5.38},null,{"$f":"'2011 Base Data'!I197","v":14.88},null,null,{"$f":"'2011 Base Data'!J197","v":23.26},null,null,{"$f":"'2011 Base Data'!K197","v":0.75},{"$f":"'2011 Base Data'!R197","v":17.45},null,null,{"$f":"ROUND(IF(S197<>0,R197*D197+S197*SUM(B197:C197)+T197*E197,R197*SUM(B197:D197)+T197*E197),2)","v":17.45},{"$f":"L197-O197","v":0},null,{"$f":"'2011 Base Data'!K197","v":0.75},{"$f":"'2011 Base Data'!L197","v":0},{"$f":"'2011 Base Data'!M197","v":0.75},{"$f":"\"E\"&U196&\":\"&\"E\"&V196","v":"E197:E198"},{"$f":"\"H\"&U196&\":\"&\"H\"&V196","v":"H197:H198"},{"$f":"\"L\"&U196&\":\"&\"L\"&V196","v":"L197:L198"},null,"<TR VALIGN=BOTTOM>",{"$f":"\"<TD NOWRAP ALIGN=LEFT><FONT FACE=\"\"Times New Roman\"\" SIZE=-1 COLOR=#00AA00\"\">\"&A197&\"</FONT></TD>\"","v":"<TD NOWRAP ALIGN=LEFT><FONT FACE=\"Times New Roman\" SIZE=-1 COLOR=#00AA00\">Corinth CSD</FONT></TD>"},"<TD NOWRAP ALIGN=RIGHT><FONT FACE=\"Times New Roman\" SIZE=-1>$3.00</FONT></TD>","<TD NOWRAP ALIGN=RIGHT><FONT FACE=\"Times New Roman\" SIZE=-1>$5.38</FONT></TD>","<TD NOWRAP ALIGN=RIGHT><FONT FACE=\"Times New Roman\" SIZE=-1><BR></FONT></TD>","<TD NOWRAP ALIGN=CENTER><FONT FACE=\"Times New Roman\" SIZE=-1>$14.88</FONT></TD>","<TD NOWRAP ALIGN=CENTER><FONT FACE=\"Times New Roman\" SIZE=-1>$23.26</FONT></TD>","<TD NOWRAP ALIGN=CENTER><FONT FACE=\"Times New Roman\" SIZE=-1>0.7500</FONT></TD>","<TD NOWRAP ALIGN=CENTER><FONT FACE=\"Times New Roman\" SIZE=-1>$17.45</FONT></TD>","</TR>"]
["Hadley-Luzerne CSD",{"$f":"'2011 Base Data'!F198","v":3},{"$f":"'2011 Base Data'!G198","v":5.38},null,{"$f":"'2011 Base Data'!I198","v":12.5},null,null,{"$f":"'2011 Base Data'!J198","v":20.88},null,null,{"$f":"'2011 Base Data'!K198","v":0.75},{"$f":"'2011 Base Data'!R198","v":15.67},null,null,{"$f":"ROUND(IF(S198<>0,R198*D198+S198*SUM(B198:C198)+T198*E198,R198*SUM(B198:D198)+T198*E198),2)","v":15.66},{"$f":"L198-O198","v":9.9999999999997868E-3},null,{"$f":"'2011 Base Data'!K198","v":0.75},{"$f":"'2011 Base Data'!L198","v":0},{"$f":"'2011 Base Data'!M198","v":0.75},null,null,null,null,"<TR VALIGN=BOTTOM>",{"$f":"\"<TD NOWRAP ALIGN=LEFT><FONT FACE=\"\"Times New Roman\"\" SIZE=-1 COLOR=#00AA00\"\">\"&A198&\"</FONT></TD>\"","v":"<TD NOWRAP ALIGN=LEFT><FONT FACE=\"Times New Roman\" SIZE=-1 COLOR=#00AA00\">Hadley-Luzerne CSD</FONT></TD>"},"<TD NOWRAP ALIGN=RIGHT><FONT FACE=\"Times New Roman\" SIZE=-1>$3.00</FONT></TD>","<TD NOWRAP ALIGN=RIGHT><FONT FACE=\"Times New Roman\" SIZE=-1>$5.38</FONT></TD>","<TD NOWRAP ALIGN=RIGHT><FONT FACE=\"Times New Roman\" SIZE=-1><BR></FONT></TD>","<TD NOWRAP ALIGN=CENTER><FONT FACE=\"Times New Roman\" SIZE=-1>$12.50</FONT></TD>","<TD NOWRAP ALIGN=CENTER><FONT FACE=\"Times New Roman\" SIZE=-1>$20.88</FONT></TD>","<TD NOWRAP ALIGN=CENTER><FONT FACE=\"Times New Roman\" SIZE=-1>0.7500</FONT></TD>","<TD NOWRAP ALIGN=CENTER><FONT FACE=\"Times New Roman\" SIZE=-1>$15.67</FONT></TD>","</TR>"]
["Town of Halfmoon",{"$f":"B200","v":3.75},null,null,{"$f":"MIN(INDIRECT(U200))","v":26.23},{"$f":"IF(G199<>0,\"to\",\"\")","v":"to"},{"$f":"IF(U199<>V199,MAX(INDIRECT(U200)),0)","v":36.06},{"$f":"MIN(INDIRECT(V200))","v":29.98},{"$f":"IF(J199<>0,\"to\",\"\")","v":"to"},{"$f":"IF(U199<>V199,MAX(INDIRECT(V200)),0)","v":39.81},{"$f":"K200","v":0.6},{"$f":"MIN(INDIRECT(W200))","v":17.989999999999998},{"$f":"IF(N199<>0,\"to\",\"\")","v":"to"},{"$f":"IF(U199<>V199,MAX(INDIRECT(W200)),0)","v":23.89},null,null,null,null,null,null,{"$f":"CELL(\"row\",P200)","v":200},{"$f":"CELL(\"row\",P202)","v":202},null,null,"<TR VALIGN=BOTTOM BGCOLOR=\"#FFFFCC\">",{"$f":"\"<TH NOWRAP ALIGN=LEFT><FONT FACE=\"\"Times New Roman\"\" SIZE=-1>\"&A199&\"</FONT></TH>\"","v":"<TH NOWRAP ALIGN=LEFT><FONT FACE=\"Times New Roman\" SIZE=-1>Town of Halfmoon</FONT></TH>"},"<TD NOWRAP ALIGN=RIGHT><FONT FACE=\"Times New Roman\" SIZE=-1>$3.75</FONT></TD>","<TD NOWRAP ALIGN=RIGHT><FONT FACE=\"Times New Roman\" SIZE=-1><BR></FONT></TD>","<TD NOWRAP ALIGN=RIGHT><FONT FACE=\"Times New Roman\" SIZE=-1><BR></FONT></TD>","<TD NOWRAP ALIGN=CENTER><FONT FACE=\"Times New Roman\" SIZE=-1>$26.23 to $36.06</FONT></TD>","<TD NOWRAP ALIGN=CENTER><FONT FACE=\"Times New Roman\" SIZE=-1>$29.98 to $39.81</FONT></TD>","<TD NOWRAP ALIGN=CENTER><FONT FACE=\"Times New Roman\" SIZE=-1>0.6000</FONT></TD>","<TD NOWRAP ALIGN=CENTER><FONT FACE=\"Times New Roman\" SIZE=-1>$17.99 to $23.89</FONT></TD>","</TR>"]
["Mechanicville City SD",{"$f":"'2011 Base Data'!F200","v":3.75},null,null,{"$f":"'2011 Base Data'!I200","v":26.23},null,null,{"$f":"'2011 Base Data'!J200","v":29.98},null,null,{"$f":"'2011 Base Data'!K200","v":0.6},{"$f":"'2011 Base Data'!R200","v":17.989999999999998},null,null,{"$f":"ROUND(IF(S200<>0,R200*D200+S200*SUM(B200:C200)+T200*E200,R200*SUM(B200:D200)+T200*E200),2)","v":17.989999999999998},{"$f":"L200-O200","v":0},null,{"$f":"'2011 Base Data'!K200","v":0.6},{"$f":"'2011 Base Data'!L200","v":0},{"$f":"'2011 Base Data'!M200","v":0.6},{"$f":"\"E\"&U199&\":\"&\"E\"&V199","v":"E200:E202"},{"$f":"\"H\"&U199&\":\"&\"H\"&V199","v":"H200:H202"},{"$f":"\"L\"&U199&\":\"&\"L\"&V199","v":"L200:L202"},null,"<TR VALIGN=BOTTOM>",{"$f":"\"<TD NOWRAP ALIGN=LEFT><FONT FACE=\"\"Times New Roman\"\" SIZE=-1 COLOR=#00AA00\"\">\"&A200&\"</FONT></TD>\"","v":"<TD NOWRAP ALIGN=LEFT><FONT FACE=\"Times New Roman\" SIZE=-1 COLOR=#00AA00\">Mechanicville City SD</FONT></TD>"},"<TD NOWRAP ALIGN=RIGHT><FONT FACE=\"Times New Roman\" SIZE=-1>$3.75</FONT></TD>","<TD NOWRAP ALIGN=RIGHT><FONT FACE=\"Times New Roman\" SIZE=-1><BR></FONT></TD>","<TD NOWRAP ALIGN=RIGHT><FONT FACE=\"Times New Roman\" SIZE=-1><BR></FONT></TD>","<TD NOWRAP ALIGN=CENTER><FONT FACE=\"Times New Roman\" SIZE=-1>$26.23</FONT></TD>","<TD NOWRAP ALIGN=CENTER><FONT FACE=\"Times New Roman\" SIZE=-1>$29.98</FONT></TD>","<TD NOWRAP ALIGN=CENTER><FONT FACE=\"Times New Roman\" SIZE=-1>0.6000</FONT></TD>","<TD NOWRAP ALIGN=CENTER><FONT FACE=\"Times New Roman\" SIZE=-1>$17.99</FONT></TD>","</TR>"]
["Shenendehowa CSD",{"$f":"'2011 Base Data'!F201","v":3.75},null,null,{"$f":"'2011 Base Data'!I201","v":27.55},null,null,{"$f":"'2011 Base Data'!J201","v":31.3},null,null,{"$f":"'2011 Base Data'!K201","v":0.6},{"$f":"'2011 Base Data'!R201","v":18.78},null,null,{"$f":"ROUND(IF(S201<>0,R201*D201+S201*SUM(B201:C201)+T201*E201,R201*SUM(B201:D201)+T201*E201),2)","v":18.78},{"$f":"L201-O201","v":0},null,{"$f":"'2011 Base Data'!K201","v":0.6},{"$f":"'2011 Base Data'!L201","v":0},{"$f":"'2011 Base Data'!M201","v":0.6},null,null,null,null,"<TR VALIGN=BOTTOM>",{"$f":"\"<TD NOWRAP ALIGN=LEFT><FONT FACE=\"\"Times New Roman\"\" SIZE=-1 COLOR=#00AA00\"\">\"&A201&\"</FONT></TD>\"","v":"<TD NOWRAP ALIGN=LEFT><FONT FACE=\"Times New Roman\" SIZE=-1 COLOR=#00AA00\">Shenendehowa CSD</FONT></TD>"},"<TD NOWRAP ALIGN=RIGHT><FONT FACE=\"Times New Roman\" SIZE=-1>$3.75</FONT></TD>","<TD NOWRAP ALIGN=RIGHT><FONT FACE=\"Times New Roman\" SIZE=-1><BR></FONT></TD>","<TD NOWRAP ALIGN=RIGHT><FONT FACE=\"Times New Roman\" SIZE=-1><BR></FONT></TD>","<TD NOWRAP ALIGN=CENTER><FONT FACE=\"Times New Roman\" SIZE=-1>$27.55</FONT></TD>","<TD NOWRAP ALIGN=CENTER><FONT FACE=\"Times New Roman\" SIZE=-1>$31.30</FONT></TD>","<TD NOWRAP ALIGN=CENTER><FONT FACE=\"Times New Roman\" SIZE=-1>0.6000</FONT></TD>","<TD NOWRAP ALIGN=CENTER><FONT FACE=\"Times New Roman\" SIZE=-1>$18.78</FONT></TD>","</TR>"]
["Waterford-Halfmoon UFSD",{"$f":"'2011 Base Data'!F202","v":3.75},null,null,{"$f":"'2011 Base Data'!I202","v":36.06},null,null,{"$f":"'2011 Base Data'!J202","v":39.81},null,null,{"$f":"'2011 Base Data'!K202","v":0.6},{"$f":"'2011 Base Data'!R202","v":23.89},null,null,{"$f":"ROUND(IF(S202<>0,R202*D202+S202*SUM(B202:C202)+T202*E202,R202*SUM(B202:D202)+T202*E202),2)","v":23.89},{"$f":"L202-O202","v":0},null,{"$f":"'2011 Base Data'!K202","v":0.6},{"$f":"'2011 Base Data'!L202","v":0},{"$f":"'2011 Base Data'!M202","v":0.6},null,null,null,null,"<TR VALIGN=BOTTOM>",{"$f":"\"<TD NOWRAP ALIGN=LEFT><FONT FACE=\"\"Times New Roman\"\" SIZE=-1 COLOR=#00AA00\"\">\"&A202&\"</FONT></TD>\"","v":"<TD NOWRAP ALIGN=LEFT><FONT FACE=\"Times New Roman\" SIZE=-1 COLOR=#00AA00\">Waterford-Halfmoon UFSD</FONT></TD>"},"<TD NOWRAP ALIGN=RIGHT><FONT FACE=\"Times New Roman\" SIZE=-1>$3.75</FONT></TD>","<TD NOWRAP ALIGN=RIGHT><FONT FACE=\"Times New Roman\" SIZE=-1><BR></FONT></TD>","<TD NOWRAP ALIGN=RIGHT><FONT FACE=\"Times New Roman\" SIZE=-1><BR></FONT></TD>","<TD NOWRAP ALIGN=CENTER><FONT FACE=\"Times New Roman\" SIZE=-1>$36.06</FONT></TD>","<TD NOWRAP ALIGN=CENTER><FONT FACE=\"Times New Roman\" SIZE=-1>$39.81</FONT></TD>","<TD NOWRAP ALIGN=CENTER><FONT FACE=\"Times New Roman\" SIZE=-1>0.6000</FONT></TD>","<TD NOWRAP ALIGN=CENTER><FONT FACE=\"Times New Roman\" SIZE=-1>$23.89</FONT></TD>","</TR>"]
["Town of Malta",{"$f":"B204","v":2.25},{"$f":"C204","v":0.02},null,{"$f":"MIN(INDIRECT(U204))","v":12.01},{"$f":"IF(G203<>0,\"to\",\"\")","v":"to"},{"$f":"IF(U203<>V203,MAX(INDIRECT(U204)),0)","v":18.07},{"$f":"MIN(INDIRECT(V204))","v":14.28},{"$f":"IF(J203<>0,\"to\",\"\")","v":"to"},{"$f":"IF(U203<>V203,MAX(INDIRECT(V204)),0)","v":20.34},{"$f":"K204","v":1},{"$f":"MIN(INDIRECT(W204))","v":14.28},{"$f":"IF(N203<>0,\"to\",\"\")","v":"to"},{"$f":"IF(U203<>V203,MAX(INDIRECT(W204)),0)","v":20.34},null,null,null,null,null,null,{"$f":"CELL(\"row\",P204)","v":204},{"$f":"CELL(\"row\",P206)","v":206},null,null,"<TR VALIGN=BOTTOM BGCOLOR=\"#FFFFCC\">",{"$f":"\"<TH NOWRAP ALIGN=LEFT><FONT FACE=\"\"Times New Roman\"\" SIZE=-1>\"&A203&\"</FONT></TH>\"","v":"<TH NOWRAP ALIGN=LEFT><FONT FACE=\"Times New Roman\" SIZE=-1>Town of Malta</FONT></TH>"},"<TD NOWRAP ALIGN=RIGHT><FONT FACE=\"Times New Roman\" SIZE=-1>$2.25</FONT></TD>","<TD NOWRAP ALIGN=RIGHT><FONT FACE=\"Times New Roman\" SIZE=-1>$0.02</FONT></TD>","<TD NOWRAP ALIGN=RIGHT><FONT FACE=\"Times New Roman\" SIZE=-1><BR></FONT></TD>","<TD NOWRAP ALIGN=CENTER><FONT FACE=\"Times New Roman\" SIZE=-1>$12.01 to $18.07</FONT></TD>","<TD NOWRAP ALIGN=CENTER><FONT FACE=\"Times New Roman\" SIZE=-1>$14.28 to $20.34</FONT></TD>","<TD NOWRAP ALIGN=CENTER><FONT FACE=\"Times New Roman\" SIZE=-1>1.0000</FONT></TD>","<TD NOWRAP ALIGN=CENTER><FONT FACE=\"Times New Roman\" SIZE=-1>$14.28 to $20.34</FONT></TD>","</TR>"]
["Ballston Spa CSD",{"$f":"'2011 Base Data'!F204","v":2.25},{"$f":"'2011 Base Data'!G204","v":0.02},null,{"$f":"'2011 Base Data'!I204","v":18.07},null,null,{"$f":"'2011 Base Data'!J204","v":20.34},null,null,{"$f":"'2011 Base Data'!K204","v":1},{"$f":"'2011 Base Data'!R204","v":20.34},null,null,{"$f":"ROUND(IF(S204<>0,R204*D204+S204*SUM(B204:C204)+T204*E204,R204*SUM(B204:D204)+T204*E204),2)","v":20.34},{"$f":"L204-O204","v":0},null,{"$f":"'2011 Base Data'!K204","v":1},{"$f":"'2011 Base Data'!L204","v":0},{"$f":"'2011 Base Data'!M204","v":1},{"$f":"\"E\"&U203&\":\"&\"E\"&V203","v":"E204:E206"},{"$f":"\"H\"&U203&\":\"&\"H\"&V203","v":"H204:H206"},{"$f":"\"L\"&U203&\":\"&\"L\"&V203","v":"L204:L206"},null,"<TR VALIGN=BOTTOM>",{"$f":"\"<TD NOWRAP ALIGN=LEFT><FONT FACE=\"\"Times New Roman\"\" SIZE=-1 COLOR=#00AA00\"\">\"&A204&\"</FONT></TD>\"","v":"<TD NOWRAP ALIGN=LEFT><FONT FACE=\"Times New Roman\" SIZE=-1 COLOR=#00AA00\">Ballston Spa CSD</FONT></TD>"},"<TD NOWRAP ALIGN=RIGHT><FONT FACE=\"Times New Roman\" SIZE=-1>$2.25</FONT></TD>","<TD NOWRAP ALIGN=RIGHT><FONT FACE=\"Times New Roman\" SIZE=-1>$0.02</FONT></TD>","<TD NOWRAP ALIGN=RIGHT><FONT FACE=\"Times New Roman\" SIZE=-1><BR></FONT></TD>","<TD NOWRAP ALIGN=CENTER><FONT FACE=\"Times New Roman\" SIZE=-1>$18.07</FONT></TD>","<TD NOWRAP ALIGN=CENTER><FONT FACE=\"Times New Roman\" SIZE=-1>$20.34</FONT></TD>","<TD NOWRAP ALIGN=CENTER><FONT FACE=\"Times New Roman\" SIZE=-1>1.0000</FONT></TD>","<TD NOWRAP ALIGN=CENTER><FONT FACE=\"Times New Roman\" SIZE=-1>$20.34</FONT></TD>","</TR>"]
["Saratoga Springs City SD",{"$f":"'2011 Base Data'!F205","v":2.25},{"$f":"'2011 Base Data'!G205","v":0.02},null,{"$f":"'2011 Base Data'!I205","v":12.01},null,null,{"$f":"'2011 Base Data'!J205","v":14.28},null,null,{"$f":"'2011 Base Data'!K205","v":1},{"$f":"'2011 Base Data'!R205","v":14.28},null,null,{"$f":"ROUND(IF(S205<>0,R205*D205+S205*SUM(B205:C205)+T205*E205,R205*SUM(B205:D205)+T205*E205),2)","v":14.28},{"$f":"L205-O205","v":0},null,{"$f":"'2011 Base Data'!K205","v":1},{"$f":"'2011 Base Data'!L205","v":0},{"$f":"'2011 Base Data'!M205","v":1},null,null,null,null,"<TR VALIGN=BOTTOM>",{"$f":"\"<TD NOWRAP ALIGN=LEFT><FONT FACE=\"\"Times New Roman\"\" SIZE=-1 COLOR=#00AA00\"\">\"&A205&\"</FONT></TD>\"","v":"<TD NOWRAP ALIGN=LEFT><FONT FACE=\"Times New Roman\" SIZE=-1 COLOR=#00AA00\">Saratoga Springs City SD</FONT></TD>"},"<TD NOWRAP ALIGN=RIGHT><FONT FACE=\"Times New Roman\" SIZE=-1>$2.25</FONT></TD>","<TD NOWRAP ALIGN=RIGHT><FONT FACE=\"Times New Roman\" SIZE=-1>$0.02</FONT></TD>","<TD NOWRAP ALIGN=RIGHT><FONT FACE=\"Times New Roman\" SIZE=-1><BR></FONT></TD>","<TD NOWRAP ALIGN=CENTER><FONT FACE=\"Times New Roman\" SIZE=-1>$12.01</FONT></TD>","<TD NOWRAP ALIGN=CENTER><FONT FACE=\"Times New Roman\" SIZE=-1>$14.28</FONT></TD>","<TD NOWRAP ALIGN=CENTER><FONT FACE=\"Times New Roman\" SIZE=-1>1.0000</FONT></TD>","<TD NOWRAP ALIGN=CENTER><FONT FACE=\"Times New Roman\" SIZE=-1>$14.28</FONT></TD>","</TR>"]
["Shenendehowa CSD",{"$f":"'2011 Base Data'!F206","v":2.25},{"$f":"'2011 Base Data'!G206","v":0.02},null,{"$f":"'2011 Base Data'!I206","v":16.53},null,null,{"$f":"'2011 Base Data'!J206","v":18.8},null,null,{"$f":"'2011 Base Data'!K206","v":1},{"$f":"'2011 Base Data'!R206","v":18.8},null,null,{"$f":"ROUND(IF(S206<>0,R206*D206+S206*SUM(B206:C206)+T206*E206,R206*SUM(B206:D206)+T206*E206),2)","v":18.8},{"$f":"L206-O206","v":0},null,{"$f":"'2011 Base Data'!K206","v":1},{"$f":"'2011 Base Data'!L206","v":0},{"$f":"'2011 Base Data'!M206","v":1},null,null,null,null,"<TR VALIGN=BOTTOM>",{"$f":"\"<TD NOWRAP ALIGN=LEFT><FONT FACE=\"\"Times New Roman\"\" SIZE=-1 COLOR=#00AA00\"\">\"&A206&\"</FONT></TD>\"","v":"<TD NOWRAP ALIGN=LEFT><FONT FACE=\"Times New Roman\" SIZE=-1 COLOR=#00AA00\">Shenendehowa CSD</FONT></TD>"},"<TD NOWRAP ALIGN=RIGHT><FONT FACE=\"Times New Roman\" SIZE=-1>$2.25</FONT></TD>","<TD NOWRAP ALIGN=RIGHT><FONT FACE=\"Times New Roman\" SIZE=-1>$0.02</FONT></TD>","<TD NOWRAP ALIGN=RIGHT><FONT FACE=\"Times New Roman\" SIZE=-1><BR></FONT></TD>","<TD NOWRAP ALIGN=CENTER><FONT FACE=\"Times New Roman\" SIZE=-1>$16.53</FONT></TD>","<TD NOWRAP ALIGN=CENTER><FONT FACE=\"Times New Roman\" SIZE=-1>$18.80</FONT></TD>","<TD NOWRAP ALIGN=CENTER><FONT FACE=\"Times New Roman\" SIZE=-1>1.0000</FONT></TD>","<TD NOWRAP ALIGN=CENTER><FONT FACE=\"Times New Roman\" SIZE=-1>$18.80</FONT></TD>","</TR>"]
["Village of Round Lake",{"$f":"B208","v":2.25},{"$f":"C208","v":0.02},{"$f":"D208","v":4.32},{"$f":"MIN(INDIRECT(U208))","v":16.53},{"$f":"IF(G207<>0,\"to\",\"\")","v":""},{"$f":"IF(U207<>V207,MAX(INDIRECT(U208)),0)","v":0},{"$f":"MIN(INDIRECT(V208))","v":23.12},{"$f":"IF(J207<>0,\"to\",\"\")","v":""},{"$f":"IF(U207<>V207,MAX(INDIRECT(V208)),0)","v":0},{"$f":"K208","v":1},{"$f":"MIN(INDIRECT(W208))","v":23.12},{"$f":"IF(N207<>0,\"to\",\"\")","v":""},{"$f":"IF(U207<>V207,MAX(INDIRECT(W208)),0)","v":0},null,null,null,null,null,null,{"$f":"CELL(\"row\",P208)","v":208},{"$f":"CELL(\"row\",P208)","v":208},null,null,"<TR VALIGN=BOTTOM BGCOLOR=\"#FFFFCC\">",{"$f":"\"<TH NOWRAP ALIGN=LEFT><FONT FACE=\"\"Times New Roman\"\" SIZE=-1 COLOR=\"\"#0000CC\"\">\"&A207&\"</FONT></TH>\"","v":"<TH NOWRAP ALIGN=LEFT><FONT FACE=\"Times New Roman\" SIZE=-1 COLOR=\"#0000CC\">Village of Round Lake</FONT></TH>"},"<TD NOWRAP ALIGN=RIGHT><FONT FACE=\"Times New Roman\" SIZE=-1>$2.25</FONT></TD>","<TD NOWRAP ALIGN=RIGHT><FONT FACE=\"Times New Roman\" SIZE=-1>$0.02</FONT></TD>","<TD NOWRAP ALIGN=RIGHT><FONT FACE=\"Times New Roman\" SIZE=-1>$4.32</FONT></TD>","<TD NOWRAP ALIGN=CENTER><FONT FACE=\"Times New Roman\" SIZE=-1>$16.53</FONT></TD>","<TD NOWRAP ALIGN=CENTER><FONT FACE=\"Times New Roman\" SIZE=-1>$23.12</FONT></TD>","<TD NOWRAP ALIGN=CENTER><FONT FACE=\"Times New Roman\" SIZE=-1>1.0000</FONT></TD>","<TD NOWRAP ALIGN=CENTER><FONT FACE=\"Times New Roman\" SIZE=-1>$23.12</FONT></TD>","</TR>"]
["Shenendehowa CSD",{"$f":"'2011 Base Data'!F208","v":2.25},{"$f":"'2011 Base Data'!G208","v":0.02},{"$f":"'2011 Base Data'!H208","v":4.32},{"$f":"'2011 Base Data'!I208","v":16.53},null,null,{"$f":"'2011 Base Data'!J208","v":23.12},null,null,{"$f":"'2011 Base Data'!K208","v":1},{"$f":"'2011 Base Data'!R208","v":23.12},null,null,{"$f":"ROUND(IF(S208<>0,R208*D208+S208*SUM(B208:C208)+T208*E208,R208*SUM(B208:D208)+T208*E208),2)","v":23.12},{"$f":"L208-O208","v":0},null,{"$f":"'2011 Base Data'!K208","v":1},{"$f":"'2011 Base Data'!L208","v":1},{"$f":"'2011 Base Data'!M208","v":1},{"$f":"\"E\"&U207&\":\"&\"E\"&V207","v":"E208:E208"},{"$f":"\"H\"&U207&\":\"&\"H\"&V207","v":"H208:H208"},{"$f":"\"L\"&U207&\":\"&\"L\"&V207","v":"L208:L208"},null,"<TR VALIGN=BOTTOM>",{"$f":"\"<TD NOWRAP ALIGN=LEFT><FONT FACE=\"\"Times New Roman\"\" SIZE=-1 COLOR=#00AA00\"\">\"&A208&\"</FONT></TD>\"","v":"<TD NOWRAP ALIGN=LEFT><FONT FACE=\"Times New Roman\" SIZE=-1 COLOR=#00AA00\">Shenendehowa CSD</FONT></TD>"},"<TD NOWRAP ALIGN=RIGHT><FONT FACE=\"Times New Roman\" SIZE=-1>$2.25</FONT></TD>","<TD NOWRAP ALIGN=RIGHT><FONT FACE=\"Times New Roman\" SIZE=-1>$0.02</FONT></TD>","<TD NOWRAP ALIGN=RIGHT><FONT FACE=\"Times New Roman\" SIZE=-1>$4.32</FONT></TD>","<TD NOWRAP ALIGN=CENTER><FONT FACE=\"Times New Roman\" SIZE=-1>$16.53</FONT></TD>","<TD NOWRAP ALIGN=CENTER><FONT FACE=\"Times New Roman\" SIZE=-1>$23.12</FONT></TD>","<TD NOWRAP ALIGN=CENTER><FONT FACE=\"Times New Roman\" SIZE=-1>1.0000</FONT></TD>","<TD NOWRAP ALIGN=CENTER><FONT FACE=\"Times New Roman\" SIZE=-1>$23.12</FONT></TD>","</TR>"]
["City of Mechanicville",{"$f":"B210","v":3.55},null,{"$f":"D210","v":13.28},{"$f":"MIN(INDIRECT(U210))","v":22.48},{"$f":"IF(G209<>0,\"to\",\"\")","v":""},{"$f":"IF(U209<>V209,MAX(INDIRECT(U210)),0)","v":0},{"$f":"MIN(INDIRECT(V210))","v":39.31},{"$f":"IF(J209<>0,\"to\",\"\")","v":""},{"$f":"IF(U209<>V209,MAX(INDIRECT(V210)),0)","v":0},{"$f":"K210","v":0.7},{"$f":"MIN(INDIRECT(W210))","v":27.53},{"$f":"IF(N209<>0,\"to\",\"\")","v":""},{"$f":"IF(U209<>V209,MAX(INDIRECT(W210)),0)","v":0},null,null,null,null,null,null,{"$f":"CELL(\"row\",P210)","v":210},{"$f":"CELL(\"row\",P210)","v":210},null,null,"<TR VALIGN=BOTTOM BGCOLOR=\"#FFFFCC\">",{"$f":"\"<TH NOWRAP ALIGN=LEFT><FONT FACE=\"\"Times New Roman\"\" SIZE=-1 COLOR=#800000\"\">\"&A209&\"</FONT></TH>\"","v":"<TH NOWRAP ALIGN=LEFT><FONT FACE=\"Times New Roman\" SIZE=-1 COLOR=#800000\">City of Mechanicville</FONT></TH>"},"<TD NOWRAP ALIGN=RIGHT><FONT FACE=\"Times New Roman\" SIZE=-1>$3.55</FONT></TD>","<TD NOWRAP ALIGN=RIGHT><FONT FACE=\"Times New Roman\" SIZE=-1><BR></FONT></TD>","<TD NOWRAP ALIGN=RIGHT><FONT FACE=\"Times New Roman\" SIZE=-1>$13.28</FONT></TD>","<TD NOWRAP ALIGN=CENTER><FONT FACE=\"Times New Roman\" SIZE=-1>$22.48</FONT></TD>","<TD NOWRAP ALIGN=CENTER><FONT FACE=\"Times New Roman\" SIZE=-1>$39.31</FONT></TD>","<TD NOWRAP ALIGN=CENTER><FONT FACE=\"Times New Roman\" SIZE=-1>0.7000</FONT></TD>","<TD NOWRAP ALIGN=CENTER><FONT FACE=\"Times New Roman\" SIZE=-1>$27.53</FONT></TD>","</TR>"]
["Mechanicville City SD",{"$f":"'2011 Base Data'!F210","v":3.55},null,{"$f":"'2011 Base Data'!H210","v":13.28},{"$f":"'2011 Base Data'!I210","v":22.48},null,null,{"$f":"'2011 Base Data'!J210","v":39.31},null,null,{"$f":"'2011 Base Data'!K210","v":0.7},{"$f":"'2011 Base Data'!R210","v":27.53},null,null,{"$f":"ROUND(IF(S210<>0,R210*D210+S210*SUM(B210:C210)+T210*E210,R210*SUM(B210:D210)+T210*E210),2)","v":27.52},{"$f":"L210-O210","v":1.0000000000001563E-2},null,{"$f":"'2011 Base Data'!K210","v":0.7},{"$f":"'2011 Base Data'!L210","v":0},{"$f":"'2011 Base Data'!M210","v":0.7},{"$f":"\"E\"&U209&\":\"&\"E\"&V209","v":"E210:E210"},{"$f":"\"H\"&U209&\":\"&\"H\"&V209","v":"H210:H210"},{"$f":"\"L\"&U209&\":\"&\"L\"&V209","v":"L210:L210"},null,"<TR VALIGN=BOTTOM>",{"$f":"\"<TD NOWRAP ALIGN=LEFT><FONT FACE=\"\"Times New Roman\"\" SIZE=-1 COLOR=#00AA00\"\">\"&A210&\"</FONT></TD>\"","v":"<TD NOWRAP ALIGN=LEFT><FONT FACE=\"Times New Roman\" SIZE=-1 COLOR=#00AA00\">Mechanicville City SD</FONT></TD>"},"<TD NOWRAP ALIGN=RIGHT><FONT FACE=\"Times New Roman\" SIZE=-1>$3.55</FONT></TD>","<TD NOWRAP ALIGN=RIGHT><FONT FACE=\"Times New Roman\" SIZE=-1><BR></FONT></TD>","<TD NOWRAP ALIGN=RIGHT><FONT FACE=\"Times New Roman\" SIZE=-1>$13.28</FONT></TD>","<TD NOWRAP ALIGN=CENTER><FONT FACE=\"Times New Roman\" SIZE=-1>$22.48</FONT></TD>","<TD NOWRAP ALIGN=CENTER><FONT FACE=\"Times New Roman\" SIZE=-1>$39.31</FONT></TD>","<TD NOWRAP ALIGN=CENTER><FONT FACE=\"Times New Roman\" SIZE=-1>0.7000</FONT></TD>","<TD NOWRAP ALIGN=CENTER><FONT FACE=\"Times New Roman\" SIZE=-1>$27.53</FONT></TD>","</TR>"]
["Town of Milton",{"$f":"B212","v":2.4900000000000002},{"$f":"C212","v":0.27},null,{"$f":"MIN(INDIRECT(U212))","v":13.02},{"$f":"IF(G211<>0,\"to\",\"\")","v":"to"},{"$f":"IF(U211<>V211,MAX(INDIRECT(U212)),0)","v":19.43},{"$f":"MIN(INDIRECT(V212))","v":15.78},{"$f":"IF(J211<>0,\"to\",\"\")","v":"to"},{"$f":"IF(U211<>V211,MAX(INDIRECT(V212)),0)","v":22.19},{"$f":"K212","v":0.93},{"$f":"MIN(INDIRECT(W212))","v":14.68},{"$f":"IF(N211<>0,\"to\",\"\")","v":"to"},{"$f":"IF(U211<>V211,MAX(INDIRECT(W212)),0)","v":20.64},null,null,null,null,null,null,{"$f":"CELL(\"row\",P212)","v":212},{"$f":"CELL(\"row\",P214)","v":214},null,null,"<TR VALIGN=BOTTOM BGCOLOR=\"#FFFFCC\">",{"$f":"\"<TH NOWRAP ALIGN=LEFT><FONT FACE=\"\"Times New Roman\"\" SIZE=-1>\"&A211&\"</FONT></TH>\"","v":"<TH NOWRAP ALIGN=LEFT><FONT FACE=\"Times New Roman\" SIZE=-1>Town of Milton</FONT></TH>"},"<TD NOWRAP ALIGN=RIGHT><FONT FACE=\"Times New Roman\" SIZE=-1>$2.49</FONT></TD>","<TD NOWRAP ALIGN=RIGHT><FONT FACE=\"Times New Roman\" SIZE=-1>$0.27</FONT></TD>","<TD NOWRAP ALIGN=RIGHT><FONT FACE=\"Times New Roman\" SIZE=-1><BR></FONT></TD>","<TD NOWRAP ALIGN=CENTER><FONT FACE=\"Times New Roman\" SIZE=-1>$13.02 to $19.43</FONT></TD>","<TD NOWRAP ALIGN=CENTER><FONT FACE=\"Times New Roman\" SIZE=-1>$15.78 to $22.19</FONT></TD>","<TD NOWRAP ALIGN=CENTER><FONT FACE=\"Times New Roman\" SIZE=-1>0.9300</FONT></TD>","<TD NOWRAP ALIGN=CENTER><FONT FACE=\"Times New Roman\" SIZE=-1>$14.68 to $20.64</FONT></TD>","</TR>"]
["Ballston Spa CSD",{"$f":"'2011 Base Data'!F212","v":2.4900000000000002},{"$f":"'2011 Base Data'!G212","v":0.27},null,{"$f":"'2011 Base Data'!I212","v":19.43},null,null,{"$f":"'2011 Base Data'!J212","v":22.19},null,null,{"$f":"'2011 Base Data'!K212","v":0.93},{"$f":"'2011 Base Data'!R212","v":20.64},null,null,{"$f":"ROUND(IF(S212<>0,R212*D212+S212*SUM(B212:C212)+T212*E212,R212*SUM(B212:D212)+T212*E212),2)","v":20.64},{"$f":"L212-O212","v":0},null,{"$f":"'2011 Base Data'!K212","v":0.93},{"$f":"'2011 Base Data'!L212","v":0},{"$f":"'2011 Base Data'!M212","v":0.93},{"$f":"\"E\"&U211&\":\"&\"E\"&V211","v":"E212:E214"},{"$f":"\"H\"&U211&\":\"&\"H\"&V211","v":"H212:H214"},{"$f":"\"L\"&U211&\":\"&\"L\"&V211","v":"L212:L214"},null,"<TR VALIGN=BOTTOM>",{"$f":"\"<TD NOWRAP ALIGN=LEFT><FONT FACE=\"\"Times New Roman\"\" SIZE=-1 COLOR=#00AA00\"\">\"&A212&\"</FONT></TD>\"","v":"<TD NOWRAP ALIGN=LEFT><FONT FACE=\"Times New Roman\" SIZE=-1 COLOR=#00AA00\">Ballston Spa CSD</FONT></TD>"},"<TD NOWRAP ALIGN=RIGHT><FONT FACE=\"Times New Roman\" SIZE=-1>$2.49</FONT></TD>","<TD NOWRAP ALIGN=RIGHT><FONT FACE=\"Times New Roman\" SIZE=-1>$0.27</FONT></TD>","<TD NOWRAP ALIGN=RIGHT><FONT FACE=\"Times New Roman\" SIZE=-1><BR></FONT></TD>","<TD NOWRAP ALIGN=CENTER><FONT FACE=\"Times New Roman\" SIZE=-1>$19.43</FONT></TD>","<TD NOWRAP ALIGN=CENTER><FONT FACE=\"Times New Roman\" SIZE=-1>$22.19</FONT></TD>","<TD NOWRAP ALIGN=CENTER><FONT FACE=\"Times New Roman\" SIZE=-1>0.9300</FONT></TD>","<TD NOWRAP ALIGN=CENTER><FONT FACE=\"Times New Roman\" SIZE=-1>$20.64</FONT></TD>","</TR>"]
["Galway CSD",{"$f":"'2011 Base Data'!F213","v":2.4900000000000002},{"$f":"'2011 Base Data'!G213","v":0.27},null,{"$f":"'2011 Base Data'!I213","v":13.04},null,null,{"$f":"'2011 Base Data'!J213","v":15.8},null,null,{"$f":"'2011 Base Data'!K213","v":0.93},{"$f":"'2011 Base Data'!R213","v":14.7},null,null,{"$f":"ROUND(IF(S213<>0,R213*D213+S213*SUM(B213:C213)+T213*E213,R213*SUM(B213:D213)+T213*E213),2)","v":14.69},{"$f":"L213-O213","v":9.9999999999997868E-3},null,{"$f":"'2011 Base Data'!K213","v":0.93},{"$f":"'2011 Base Data'!L213","v":0},{"$f":"'2011 Base Data'!M213","v":0.93},null,null,null,null,"<TR VALIGN=BOTTOM>",{"$f":"\"<TD NOWRAP ALIGN=LEFT><FONT FACE=\"\"Times New Roman\"\" SIZE=-1 COLOR=#00AA00\"\">\"&A213&\"</FONT></TD>\"","v":"<TD NOWRAP ALIGN=LEFT><FONT FACE=\"Times New Roman\" SIZE=-1 COLOR=#00AA00\">Galway CSD</FONT></TD>"},"<TD NOWRAP ALIGN=RIGHT><FONT FACE=\"Times New Roman\" SIZE=-1>$2.49</FONT></TD>","<TD NOWRAP ALIGN=RIGHT><FONT FACE=\"Times New Roman\" SIZE=-1>$0.27</FONT></TD>","<TD NOWRAP ALIGN=RIGHT><FONT FACE=\"Times New Roman\" SIZE=-1><BR></FONT></TD>","<TD NOWRAP ALIGN=CENTER><FONT FACE=\"Times New Roman\" SIZE=-1>$13.04</FONT></TD>","<TD NOWRAP ALIGN=CENTER><FONT FACE=\"Times New Roman\" SIZE=-1>$15.80</FONT></TD>","<TD NOWRAP ALIGN=CENTER><FONT FACE=\"Times New Roman\" SIZE=-1>0.9300</FONT></TD>","<TD NOWRAP ALIGN=CENTER><FONT FACE=\"Times New Roman\" SIZE=-1>$14.70</FONT></TD>","</TR>"]
["Saratoga Springs City SD",{"$f":"'2011 Base Data'!F214","v":2.4900000000000002},{"$f":"'2011 Base Data'!G214","v":0.27},null,{"$f":"'2011 Base Data'!I214","v":13.02},null,null,{"$f":"'2011 Base Data'!J214","v":15.78},null,null,{"$f":"'2011 Base Data'!K214","v":0.93},{"$f":"'2011 Base Data'!R214","v":14.68},null,null,{"$f":"ROUND(IF(S214<>0,R214*D214+S214*SUM(B214:C214)+T214*E214,R214*SUM(B214:D214)+T214*E214),2)","v":14.68},{"$f":"L214-O214","v":0},null,{"$f":"'2011 Base Data'!K214","v":0.93},{"$f":"'2011 Base Data'!L214","v":0},{"$f":"'2011 Base Data'!M214","v":0.93},null,null,null,null,"<TR VALIGN=BOTTOM>",{"$f":"\"<TD NOWRAP ALIGN=LEFT><FONT FACE=\"\"Times New Roman\"\" SIZE=-1 COLOR=#00AA00\"\">\"&A214&\"</FONT></TD>\"","v":"<TD NOWRAP ALIGN=LEFT><FONT FACE=\"Times New Roman\" SIZE=-1 COLOR=#00AA00\">Saratoga Springs City SD</FONT></TD>"},"<TD NOWRAP ALIGN=RIGHT><FONT FACE=\"Times New Roman\" SIZE=-1>$2.49</FONT></TD>","<TD NOWRAP ALIGN=RIGHT><FONT FACE=\"Times New Roman\" SIZE=-1>$0.27</FONT></TD>","<TD NOWRAP ALIGN=RIGHT><FONT FACE=\"Times New Roman\" SIZE=-1><BR></FONT></TD>","<TD NOWRAP ALIGN=CENTER><FONT FACE=\"Times New Roman\" SIZE=-1>$13.02</FONT></TD>","<TD NOWRAP ALIGN=CENTER><FONT FACE=\"Times New Roman\" SIZE=-1>$15.78</FONT></TD>","<TD NOWRAP ALIGN=CENTER><FONT FACE=\"Times New Roman\" SIZE=-1>0.9300</FONT></TD>","<TD NOWRAP ALIGN=CENTER><FONT FACE=\"Times New Roman\" SIZE=-1>$14.68</FONT></TD>","</TR>"]
["Village of Ballston Spa (part)",{"$f":"B216","v":2.4900000000000002},{"$f":"C216","v":0.19},{"$f":"D216","v":73.040000000000006},{"$f":"MIN(INDIRECT(U216))","v":19.43},{"$f":"IF(G215<>0,\"to\",\"\")","v":""},{"$f":"IF(U215<>V215,MAX(INDIRECT(U216)),0)","v":0},{"$f":"MIN(INDIRECT(V216))","v":95.15},{"$f":"IF(J215<>0,\"to\",\"\")","v":""},{"$f":"IF(U215<>V215,MAX(INDIRECT(V216)),0)","v":0},{"$f":"K216","v":4.7300000000000002E-2},{"$f":"MIN(INDIRECT(W216))","v":24.02},{"$f":"IF(N215<>0,\"to\",\"\")","v":""},{"$f":"IF(U215<>V215,MAX(INDIRECT(W216)),0)","v":0},null,null,null,null,null,null,{"$f":"CELL(\"row\",P216)","v":216},{"$f":"CELL(\"row\",P216)","v":216},null,null,"<TR VALIGN=BOTTOM BGCOLOR=\"#FFFFCC\">",{"$f":"\"<TH NOWRAP ALIGN=LEFT><FONT FACE=\"\"Times New Roman\"\" SIZE=-1 COLOR=\"\"#808000\"\">\"&A215&\"</FONT></TH>\"","v":"<TH NOWRAP ALIGN=LEFT><FONT FACE=\"Times New Roman\" SIZE=-1 COLOR=\"#808000\">Village of Ballston Spa (part)</FONT></TH>"},"<TD NOWRAP ALIGN=RIGHT><FONT FACE=\"Times New Roman\" SIZE=-1>$2.49</FONT></TD>","<TD NOWRAP ALIGN=RIGHT><FONT FACE=\"Times New Roman\" SIZE=-1>$0.19</FONT></TD>","<TD NOWRAP ALIGN=RIGHT><FONT FACE=\"Times New Roman\" SIZE=-1>$73.04</FONT></TD>","<TD NOWRAP ALIGN=CENTER><FONT FACE=\"Times New Roman\" SIZE=-1>$19.43</FONT></TD>","<TD NOWRAP ALIGN=CENTER><FONT FACE=\"Times New Roman\" SIZE=-1>$95.15</FONT></TD>","<TD NOWRAP ALIGN=CENTER><FONT FACE=\"Times New Roman\" SIZE=-1>0.0473</FONT></TD>","<TD NOWRAP ALIGN=CENTER><FONT FACE=\"Times New Roman\" SIZE=-1>$24.02</FONT></TD>","</TR>"]
["Ballston Spa CSD",{"$f":"'2011 Base Data'!F216","v":2.4900000000000002},{"$f":"'2011 Base Data'!G216","v":0.19},{"$f":"'2011 Base Data'!H216","v":73.040000000000006},{"$f":"'2011 Base Data'!I216","v":19.43},null,null,{"$f":"'2011 Base Data'!J216","v":95.15},null,null,{"$f":"'2011 Base Data'!K216","v":4.7300000000000002E-2},{"$f":"'2011 Base Data'!R216","v":24.02},null,null,{"$f":"ROUND(IF(S216<>0,R216*D216+S216*SUM(B216:C216)+T216*E216,R216*SUM(B216:D216)+T216*E216),2)","v":24.02},{"$f":"L216-O216","v":0},null,{"$f":"'2011 Base Data'!K216","v":4.7300000000000002E-2},{"$f":"'2011 Base Data'!L216","v":0.93},{"$f":"'2011 Base Data'!M216","v":0.93},{"$f":"\"E\"&U215&\":\"&\"E\"&V215","v":"E216:E216"},{"$f":"\"H\"&U215&\":\"&\"H\"&V215","v":"H216:H216"},{"$f":"\"L\"&U215&\":\"&\"L\"&V215","v":"L216:L216"},null,"<TR VALIGN=BOTTOM>",{"$f":"\"<TD NOWRAP ALIGN=LEFT><FONT FACE=\"\"Times New Roman\"\" SIZE=-1 COLOR=#00AA00\"\">\"&A216&\"</FONT></TD>\"","v":"<TD NOWRAP ALIGN=LEFT><FONT FACE=\"Times New Roman\" SIZE=-1 COLOR=#00AA00\">Ballston Spa CSD</FONT></TD>"},"<TD NOWRAP ALIGN=RIGHT><FONT FACE=\"Times New Roman\" SIZE=-1>$2.49</FONT></TD>","<TD NOWRAP ALIGN=RIGHT><FONT FACE=\"Times New Roman\" SIZE=-1>$0.19</FONT></TD>","<TD NOWRAP ALIGN=RIGHT><FONT FACE=\"Times New Roman\" SIZE=-1>$73.04</FONT></TD>","<TD NOWRAP ALIGN=CENTER><FONT FACE=\"Times New Roman\" SIZE=-1>$19.43</FONT></TD>","<TD NOWRAP ALIGN=CENTER><FONT FACE=\"Times New Roman\" SIZE=-1>$95.15</FONT></TD>","<TD NOWRAP ALIGN=CENTER><FONT FACE=\"Times New Roman\" SIZE=-1>0.0473</FONT></TD>","<TD NOWRAP ALIGN=CENTER><FONT FACE=\"Times New Roman\" SIZE=-1>$24.02</FONT></TD>","</TR>"]
["Town of Moreau",{"$f":"B218","v":2.0699999999999998},{"$f":"C218","v":0.59},null,{"$f":"MIN(INDIRECT(U218))","v":13.6},{"$f":"IF(G217<>0,\"to\",\"\")","v":"to"},{"$f":"IF(U217<>V217,MAX(INDIRECT(U218)),0)","v":13.93},{"$f":"MIN(INDIRECT(V218))","v":16.260000000000002},{"$f":"IF(J217<>0,\"to\",\"\")","v":"to"},{"$f":"IF(U217<>V217,MAX(INDIRECT(V218)),0)","v":16.59},{"$f":"K218","v":1},{"$f":"MIN(INDIRECT(W218))","v":16.260000000000002},{"$f":"IF(N217<>0,\"to\",\"\")","v":"to"},{"$f":"IF(U217<>V217,MAX(INDIRECT(W218)),0)","v":16.59},null,null,null,null,null,null,{"$f":"CELL(\"row\",P218)","v":218},{"$f":"CELL(\"row\",P219)","v":219},null,null,"<TR VALIGN=BOTTOM BGCOLOR=\"#FFFFCC\">",{"$f":"\"<TH NOWRAP ALIGN=LEFT><FONT FACE=\"\"Times New Roman\"\" SIZE=-1>\"&A217&\"</FONT></TH>\"","v":"<TH NOWRAP ALIGN=LEFT><FONT FACE=\"Times New Roman\" SIZE=-1>Town of Moreau</FONT></TH>"},"<TD NOWRAP ALIGN=RIGHT><FONT FACE=\"Times New Roman\" SIZE=-1>$2.07</FONT></TD>","<TD NOWRAP ALIGN=RIGHT><FONT FACE=\"Times New Roman\" SIZE=-1>$0.59</FONT></TD>","<TD NOWRAP ALIGN=RIGHT><FONT FACE=\"Times New Roman\" SIZE=-1><BR></FONT></TD>","<TD NOWRAP ALIGN=CENTER><FONT FACE=\"Times New Roman\" SIZE=-1>$13.60 to $13.93</FONT></TD>","<TD NOWRAP ALIGN=CENTER><FONT FACE=\"Times New Roman\" SIZE=-1>$16.26 to $16.59</FONT></TD>","<TD NOWRAP ALIGN=CENTER><FONT FACE=\"Times New Roman\" SIZE=-1>1.0000</FONT></TD>","<TD NOWRAP ALIGN=CENTER><FONT FACE=\"Times New Roman\" SIZE=-1>$16.26 to $16.59</FONT></TD>","</TR>"]
["Hudson Falls CSD",{"$f":"'2011 Base Data'!F218","v":2.0699999999999998},{"$f":"'2011 Base Data'!G218","v":0.59},null,{"$f":"'2011 Base Data'!I218","v":13.6},null,null,{"$f":"'2011 Base Data'!J218","v":16.260000000000002},null,null,{"$f":"'2011 Base Data'!K218","v":1},{"$f":"'2011 Base Data'!R218","v":16.260000000000002},null,null,{"$f":"ROUND(IF(S218<>0,R218*D218+S218*SUM(B218:C218)+T218*E218,R218*SUM(B218:D218)+T218*E218),2)","v":16.260000000000002},{"$f":"L218-O218","v":0},null,{"$f":"'2011 Base Data'!K218","v":1},{"$f":"'2011 Base Data'!L218","v":0},{"$f":"'2011 Base Data'!M218","v":1},{"$f":"\"E\"&U217&\":\"&\"E\"&V217","v":"E218:E219"},{"$f":"\"H\"&U217&\":\"&\"H\"&V217","v":"H218:H219"},{"$f":"\"L\"&U217&\":\"&\"L\"&V217","v":"L218:L219"},null,"<TR VALIGN=BOTTOM>",{"$f":"\"<TD NOWRAP ALIGN=LEFT><FONT FACE=\"\"Times New Roman\"\" SIZE=-1 COLOR=#00AA00\"\">\"&A218&\"</FONT></TD>\"","v":"<TD NOWRAP ALIGN=LEFT><FONT FACE=\"Times New Roman\" SIZE=-1 COLOR=#00AA00\">Hudson Falls CSD</FONT></TD>"},"<TD NOWRAP ALIGN=RIGHT><FONT FACE=\"Times New Roman\" SIZE=-1>$2.07</FONT></TD>","<TD NOWRAP ALIGN=RIGHT><FONT FACE=\"Times New Roman\" SIZE=-1>$0.59</FONT></TD>","<TD NOWRAP ALIGN=RIGHT><FONT FACE=\"Times New Roman\" SIZE=-1><BR></FONT></TD>","<TD NOWRAP ALIGN=CENTER><FONT FACE=\"Times New Roman\" SIZE=-1>$13.60</FONT></TD>","<TD NOWRAP ALIGN=CENTER><FONT FACE=\"Times New Roman\" SIZE=-1>$16.26</FONT></TD>","<TD NOWRAP ALIGN=CENTER><FONT FACE=\"Times New Roman\" SIZE=-1>1.0000</FONT></TD>","<TD NOWRAP ALIGN=CENTER><FONT FACE=\"Times New Roman\" SIZE=-1>$16.26</FONT></TD>","</TR>"]
["South Glens Falls CSD",{"$f":"'2011 Base Data'!F219","v":2.0699999999999998},{"$f":"'2011 Base Data'!G219","v":0.59},null,{"$f":"'2011 Base Data'!I219","v":13.93},null,null,{"$f":"'2011 Base Data'!J219","v":16.59},null,null,{"$f":"'2011 Base Data'!K219","v":1},{"$f":"'2011 Base Data'!R219","v":16.59},null,null,{"$f":"ROUND(IF(S219<>0,R219*D219+S219*SUM(B219:C219)+T219*E219,R219*SUM(B219:D219)+T219*E219),2)","v":16.59},{"$f":"L219-O219","v":0},null,{"$f":"'2011 Base Data'!K219","v":1},{"$f":"'2011 Base Data'!L219","v":0},{"$f":"'2011 Base Data'!M219","v":1},null,null,null,null,"<TR VALIGN=BOTTOM>",{"$f":"\"<TD NOWRAP ALIGN=LEFT><FONT FACE=\"\"Times New Roman\"\" SIZE=-1 COLOR=#00AA00\"\">\"&A219&\"</FONT></TD>\"","v":"<TD NOWRAP ALIGN=LEFT><FONT FACE=\"Times New Roman\" SIZE=-1 COLOR=#00AA00\">South Glens Falls CSD</FONT></TD>"},"<TD NOWRAP ALIGN=RIGHT><FONT FACE=\"Times New Roman\" SIZE=-1>$2.07</FONT></TD>","<TD NOWRAP ALIGN=RIGHT><FONT FACE=\"Times New Roman\" SIZE=-1>$0.59</FONT></TD>","<TD NOWRAP ALIGN=RIGHT><FONT FACE=\"Times New Roman\" SIZE=-1><BR></FONT></TD>","<TD NOWRAP ALIGN=CENTER><FONT FACE=\"Times New Roman\" SIZE=-1>$13.93</FONT></TD>","<TD NOWRAP ALIGN=CENTER><FONT FACE=\"Times New Roman\" SIZE=-1>$16.59</FONT></TD>","<TD NOWRAP ALIGN=CENTER><FONT FACE=\"Times New Roman\" SIZE=-1>1.0000</FONT></TD>","<TD NOWRAP ALIGN=CENTER><FONT FACE=\"Times New Roman\" SIZE=-1>$16.59</FONT></TD>","</TR>"]
["Village of South Glens Falls",{"$f":"B221","v":2.27},{"$f":"C221","v":0.59},{"$f":"D221","v":15},{"$f":"MIN(INDIRECT(U221))","v":13.93},{"$f":"IF(G220<>0,\"to\",\"\")","v":""},{"$f":"IF(U220<>V220,MAX(INDIRECT(U221)),0)","v":0},{"$f":"MIN(INDIRECT(V221))","v":31.79},{"$f":"IF(J220<>0,\"to\",\"\")","v":""},{"$f":"IF(U220<>V220,MAX(INDIRECT(V221)),0)","v":0},{"$f":"K221","v":0.35120000000000001},{"$f":"MIN(INDIRECT(W221))","v":22.06},{"$f":"IF(N220<>0,\"to\",\"\")","v":""},{"$f":"IF(U220<>V220,MAX(INDIRECT(W221)),0)","v":0},null,null,null,null,null,null,{"$f":"CELL(\"row\",P221)","v":221},{"$f":"CELL(\"row\",P221)","v":221},null,null,"<TR VALIGN=BOTTOM BGCOLOR=\"#FFFFCC\">",{"$f":"\"<TH NOWRAP ALIGN=LEFT><FONT FACE=\"\"Times New Roman\"\" SIZE=-1 COLOR=\"\"#0000CC\"\">\"&A220&\"</FONT></TH>\"","v":"<TH NOWRAP ALIGN=LEFT><FONT FACE=\"Times New Roman\" SIZE=-1 COLOR=\"#0000CC\">Village of South Glens Falls</FONT></TH>"},"<TD NOWRAP ALIGN=RIGHT><FONT FACE=\"Times New Roman\" SIZE=-1>$2.27</FONT></TD>","<TD NOWRAP ALIGN=RIGHT><FONT FACE=\"Times New Roman\" SIZE=-1>$0.59</FONT></TD>","<TD NOWRAP ALIGN=RIGHT><FONT FACE=\"Times New Roman\" SIZE=-1>$15.00</FONT></TD>","<TD NOWRAP ALIGN=CENTER><FONT FACE=\"Times New Roman\" SIZE=-1>$13.93</FONT></TD>","<TD NOWRAP ALIGN=CENTER><FONT FACE=\"Times New Roman\" SIZE=-1>$31.79</FONT></TD>","<TD NOWRAP ALIGN=CENTER><FONT FACE=\"Times New Roman\" SIZE=-1>0.3512</FONT></TD>","<TD NOWRAP ALIGN=CENTER><FONT FACE=\"Times New Roman\" SIZE=-1>$22.06</FONT></TD>","</TR>"]
["South Glens Falls CSD",{"$f":"'2011 Base Data'!F221","v":2.27},{"$f":"'2011 Base Data'!G221","v":0.59},{"$f":"'2011 Base Data'!H221","v":15},{"$f":"'2011 Base Data'!I221","v":13.93},null,null,{"$f":"'2011 Base Data'!J221","v":31.79},null,null,{"$f":"'2011 Base Data'!K221","v":0.35120000000000001},{"$f":"'2011 Base Data'!R221","v":22.06},null,null,{"$f":"ROUND(IF(S221<>0,R221*D221+S221*SUM(B221:C221)+T221*E221,R221*SUM(B221:D221)+T221*E221),2)","v":22.06},{"$f":"L221-O221","v":0},null,{"$f":"'2011 Base Data'!K221","v":0.35120000000000001},{"$f":"'2011 Base Data'!L221","v":1},{"$f":"'2011 Base Data'!M221","v":1},{"$f":"\"E\"&U220&\":\"&\"E\"&V220","v":"E221:E221"},{"$f":"\"H\"&U220&\":\"&\"H\"&V220","v":"H221:H221"},{"$f":"\"L\"&U220&\":\"&\"L\"&V220","v":"L221:L221"},null,"<TR VALIGN=BOTTOM>",{"$f":"\"<TD NOWRAP ALIGN=LEFT><FONT FACE=\"\"Times New Roman\"\" SIZE=-1 COLOR=#00AA00\"\">\"&A221&\"</FONT></TD>\"","v":"<TD NOWRAP ALIGN=LEFT><FONT FACE=\"Times New Roman\" SIZE=-1 COLOR=#00AA00\">South Glens Falls CSD</FONT></TD>"},"<TD NOWRAP ALIGN=RIGHT><FONT FACE=\"Times New Roman\" SIZE=-1>$2.27</FONT></TD>","<TD NOWRAP ALIGN=RIGHT><FONT FACE=\"Times New Roman\" SIZE=-1>$0.59</FONT></TD>","<TD NOWRAP ALIGN=RIGHT><FONT FACE=\"Times New Roman\" SIZE=-1>$15.00</FONT></TD>","<TD NOWRAP ALIGN=CENTER><FONT FACE=\"Times New Roman\" SIZE=-1>$13.93</FONT></TD>","<TD NOWRAP ALIGN=CENTER><FONT FACE=\"Times New Roman\" SIZE=-1>$31.79</FONT></TD>","<TD NOWRAP ALIGN=CENTER><FONT FACE=\"Times New Roman\" SIZE=-1>0.3512</FONT></TD>","<TD NOWRAP ALIGN=CENTER><FONT FACE=\"Times New Roman\" SIZE=-1>$22.06</FONT></TD>","</TR>"]
["Town of Northumberland",{"$f":"B223","v":2.36},{"$f":"C223","v":1.37},null,{"$f":"MIN(INDIRECT(U223))","v":13.93},{"$f":"IF(G222<>0,\"to\",\"\")","v":"to"},{"$f":"IF(U222<>V222,MAX(INDIRECT(U223)),0)","v":19.23},{"$f":"MIN(INDIRECT(V223))","v":17.66},{"$f":"IF(J222<>0,\"to\",\"\")","v":"to"},{"$f":"IF(U222<>V222,MAX(INDIRECT(V223)),0)","v":22.96},{"$f":"K223","v":1},{"$f":"MIN(INDIRECT(W223))","v":17.66},{"$f":"IF(N222<>0,\"to\",\"\")","v":"to"},{"$f":"IF(U222<>V222,MAX(INDIRECT(W223)),0)","v":22.96},null,null,null,null,null,null,{"$f":"CELL(\"row\",P223)","v":223},{"$f":"CELL(\"row\",P224)","v":224},null,null,"<TR VALIGN=BOTTOM BGCOLOR=\"#FFFFCC\">",{"$f":"\"<TH NOWRAP ALIGN=LEFT><FONT FACE=\"\"Times New Roman\"\" SIZE=-1>\"&A222&\"</FONT></TH>\"","v":"<TH NOWRAP ALIGN=LEFT><FONT FACE=\"Times New Roman\" SIZE=-1>Town of Northumberland</FONT></TH>"},"<TD NOWRAP ALIGN=RIGHT><FONT FACE=\"Times New Roman\" SIZE=-1>$2.36</FONT></TD>","<TD NOWRAP ALIGN=RIGHT><FONT FACE=\"Times New Roman\" SIZE=-1>$1.37</FONT></TD>","<TD NOWRAP ALIGN=RIGHT><FONT FACE=\"Times New Roman\" SIZE=-1><BR></FONT></TD>","<TD NOWRAP ALIGN=CENTER><FONT FACE=\"Times New Roman\" SIZE=-1>$13.93 to $19.23</FONT></TD>","<TD NOWRAP ALIGN=CENTER><FONT FACE=\"Times New Roman\" SIZE=-1>$17.66 to $22.96</FONT></TD>","<TD NOWRAP ALIGN=CENTER><FONT FACE=\"Times New Roman\" SIZE=-1>1.0000</FONT></TD>","<TD NOWRAP ALIGN=CENTER><FONT FACE=\"Times New Roman\" SIZE=-1>$17.66 to $22.96</FONT></TD>","</TR>"]
["Schuylerville CSD",{"$f":"'2011 Base Data'!F223","v":2.36},{"$f":"'2011 Base Data'!G223","v":1.37},null,{"$f":"'2011 Base Data'!I223","v":19.23},null,null,{"$f":"'2011 Base Data'!J223","v":22.96},null,null,{"$f":"'2011 Base Data'!K223","v":1},{"$f":"'2011 Base Data'!R223","v":22.96},null,null,{"$f":"ROUND(IF(S223<>0,R223*D223+S223*SUM(B223:C223)+T223*E223,R223*SUM(B223:D223)+T223*E223),2)","v":22.96},{"$f":"L223-O223","v":0},null,{"$f":"'2011 Base Data'!K223","v":1},{"$f":"'2011 Base Data'!L223","v":0},{"$f":"'2011 Base Data'!M223","v":1},{"$f":"\"E\"&U222&\":\"&\"E\"&V222","v":"E223:E224"},{"$f":"\"H\"&U222&\":\"&\"H\"&V222","v":"H223:H224"},{"$f":"\"L\"&U222&\":\"&\"L\"&V222","v":"L223:L224"},null,"<TR VALIGN=BOTTOM>",{"$f":"\"<TD NOWRAP ALIGN=LEFT><FONT FACE=\"\"Times New Roman\"\" SIZE=-1 COLOR=#00AA00\"\">\"&A223&\"</FONT></TD>\"","v":"<TD NOWRAP ALIGN=LEFT><FONT FACE=\"Times New Roman\" SIZE=-1 COLOR=#00AA00\">Schuylerville CSD</FONT></TD>"},"<TD NOWRAP ALIGN=RIGHT><FONT FACE=\"Times New Roman\" SIZE=-1>$2.36</FONT></TD>","<TD NOWRAP ALIGN=RIGHT><FONT FACE=\"Times New Roman\" SIZE=-1>$1.37</FONT></TD>","<TD NOWRAP ALIGN=RIGHT><FONT FACE=\"Times New Roman\" SIZE=-1><BR></FONT></TD>","<TD NOWRAP ALIGN=CENTER><FONT FACE=\"Times New Roman\" SIZE=-1>$19.23</FONT></TD>","<TD NOWRAP ALIGN=CENTER><FONT FACE=\"Times New Roman\" SIZE=-1>$22.96</FONT></TD>","<TD NOWRAP ALIGN=CENTER><FONT FACE=\"Times New Roman\" SIZE=-1>1.0000</FONT></TD>","<TD NOWRAP ALIGN=CENTER><FONT FACE=\"Times New Roman\" SIZE=-1>$22.96</FONT></TD>","</TR>"]
["South Glens Falls CSD",{"$f":"'2011 Base Data'!F224","v":2.36},{"$f":"'2011 Base Data'!G224","v":1.37},null,{"$f":"'2011 Base Data'!I224","v":13.93},null,null,{"$f":"'2011 Base Data'!J224","v":17.66},null,null,{"$f":"'2011 Base Data'!K224","v":1},{"$f":"'2011 Base Data'!R224","v":17.66},null,null,{"$f":"ROUND(IF(S224<>0,R224*D224+S224*SUM(B224:C224)+T224*E224,R224*SUM(B224:D224)+T224*E224),2)","v":17.66},{"$f":"L224-O224","v":0},null,{"$f":"'2011 Base Data'!K224","v":1},{"$f":"'2011 Base Data'!L224","v":0},{"$f":"'2011 Base Data'!M224","v":1},null,null,null,null,"<TR VALIGN=BOTTOM>",{"$f":"\"<TD NOWRAP ALIGN=LEFT><FONT FACE=\"\"Times New Roman\"\" SIZE=-1 COLOR=#00AA00\"\">\"&A224&\"</FONT></TD>\"","v":"<TD NOWRAP ALIGN=LEFT><FONT FACE=\"Times New Roman\" SIZE=-1 COLOR=#00AA00\">South Glens Falls CSD</FONT></TD>"},"<TD NOWRAP ALIGN=RIGHT><FONT FACE=\"Times New Roman\" SIZE=-1>$2.36</FONT></TD>","<TD NOWRAP ALIGN=RIGHT><FONT FACE=\"Times New Roman\" SIZE=-1>$1.37</FONT></TD>","<TD NOWRAP ALIGN=RIGHT><FONT FACE=\"Times New Roman\" SIZE=-1><BR></FONT></TD>","<TD NOWRAP ALIGN=CENTER><FONT FACE=\"Times New Roman\" SIZE=-1>$13.93</FONT></TD>","<TD NOWRAP ALIGN=CENTER><FONT FACE=\"Times New Roman\" SIZE=-1>$17.66</FONT></TD>","<TD NOWRAP ALIGN=CENTER><FONT FACE=\"Times New Roman\" SIZE=-1>1.0000</FONT></TD>","<TD NOWRAP ALIGN=CENTER><FONT FACE=\"Times New Roman\" SIZE=-1>$17.66</FONT></TD>","</TR>"]
["Town of Providence",{"$f":"B226","v":11.41},{"$f":"C226","v":19.77},null,{"$f":"MIN(INDIRECT(U226))","v":60.03},{"$f":"IF(G225<>0,\"to\",\"\")","v":"to"},{"$f":"IF(U225<>V225,MAX(INDIRECT(U226)),0)","v":75.87},{"$f":"MIN(INDIRECT(V226))","v":91.21},{"$f":"IF(J225<>0,\"to\",\"\")","v":"to"},{"$f":"IF(U225<>V225,MAX(INDIRECT(V226)),0)","v":107.05},{"$f":"K226","v":0.20200000000000001},{"$f":"MIN(INDIRECT(W226))","v":18.420000000000002},{"$f":"IF(N225<>0,\"to\",\"\")","v":"to"},{"$f":"IF(U225<>V225,MAX(INDIRECT(W226)),0)","v":21.62},null,null,null,null,null,null,{"$f":"CELL(\"row\",P226)","v":226},{"$f":"CELL(\"row\",P227)","v":227},null,null,"<TR VALIGN=BOTTOM BGCOLOR=\"#FFFFCC\">",{"$f":"\"<TH NOWRAP ALIGN=LEFT><FONT FACE=\"\"Times New Roman\"\" SIZE=-1>\"&A225&\"</FONT></TH>\"","v":"<TH NOWRAP ALIGN=LEFT><FONT FACE=\"Times New Roman\" SIZE=-1>Town of Providence</FONT></TH>"},"<TD NOWRAP ALIGN=RIGHT><FONT FACE=\"Times New Roman\" SIZE=-1>$11.41</FONT></TD>","<TD NOWRAP ALIGN=RIGHT><FONT FACE=\"Times New Roman\" SIZE=-1>$19.77</FONT></TD>","<TD NOWRAP ALIGN=RIGHT><FONT FACE=\"Times New Roman\" SIZE=-1><BR></FONT></TD>","<TD NOWRAP ALIGN=CENTER><FONT FACE=\"Times New Roman\" SIZE=-1>$60.03 to $75.87</FONT></TD>","<TD NOWRAP ALIGN=CENTER><FONT FACE=\"Times New Roman\" SIZE=-1>$91.21 to $107.05</FONT></TD>","<TD NOWRAP ALIGN=CENTER><FONT FACE=\"Times New Roman\" SIZE=-1>0.2020</FONT></TD>","<TD NOWRAP ALIGN=CENTER><FONT FACE=\"Times New Roman\" SIZE=-1>$18.42 to $21.62</FONT></TD>","</TR>"]
["Broadalbin-Perth CSD",{"$f":"'2011 Base Data'!F226","v":11.41},{"$f":"'2011 Base Data'!G226","v":19.77},null,{"$f":"'2011 Base Data'!I226","v":75.87},null,null,{"$f":"'2011 Base Data'!J226","v":107.05},null,null,{"$f":"'2011 Base Data'!K226","v":0.20200000000000001},{"$f":"'2011 Base Data'!R226","v":21.62},null,null,{"$f":"ROUND(IF(S226<>0,R226*D226+S226*SUM(B226:C226)+T226*E226,R226*SUM(B226:D226)+T226*E226),2)","v":21.62},{"$f":"L226-O226","v":0},null,{"$f":"'2011 Base Data'!K226","v":0.20200000000000001},{"$f":"'2011 Base Data'!L226","v":0},{"$f":"'2011 Base Data'!M226","v":0.20200000000000001},{"$f":"\"E\"&U225&\":\"&\"E\"&V225","v":"E226:E227"},{"$f":"\"H\"&U225&\":\"&\"H\"&V225","v":"H226:H227"},{"$f":"\"L\"&U225&\":\"&\"L\"&V225","v":"L226:L227"},null,"<TR VALIGN=BOTTOM>",{"$f":"\"<TD NOWRAP ALIGN=LEFT><FONT FACE=\"\"Times New Roman\"\" SIZE=-1 COLOR=#00AA00\"\">\"&A226&\"</FONT></TD>\"","v":"<TD NOWRAP ALIGN=LEFT><FONT FACE=\"Times New Roman\" SIZE=-1 COLOR=#00AA00\">Broadalbin-Perth CSD</FONT></TD>"},"<TD NOWRAP ALIGN=RIGHT><FONT FACE=\"Times New Roman\" SIZE=-1>$11.41</FONT></TD>","<TD NOWRAP ALIGN=RIGHT><FONT FACE=\"Times New Roman\" SIZE=-1>$19.77</FONT></TD>","<TD NOWRAP ALIGN=RIGHT><FONT FACE=\"Times New Roman\" SIZE=-1><BR></FONT></TD>","<TD NOWRAP ALIGN=CENTER><FONT FACE=\"Times New Roman\" SIZE=-1>$75.87</FONT></TD>","<TD NOWRAP ALIGN=CENTER><FONT FACE=\"Times New Roman\" SIZE=-1>$107.05</FONT></TD>","<TD NOWRAP ALIGN=CENTER><FONT FACE=\"Times New Roman\" SIZE=-1>0.2020</FONT></TD>","<TD NOWRAP ALIGN=CENTER><FONT FACE=\"Times New Roman\" SIZE=-1>$21.62</FONT></TD>","</TR>"]
["Galway CSD",{"$f":"'2011 Base Data'!F227","v":11.41},{"$f":"'2011 Base Data'!G227","v":19.77},null,{"$f":"'2011 Base Data'!I227","v":60.03},null,null,{"$f":"'2011 Base Data'!J227","v":91.21},null,null,{"$f":"'2011 Base Data'!K227","v":0.20200000000000001},{"$f":"'2011 Base Data'!R227","v":18.420000000000002},null,null,{"$f":"ROUND(IF(S227<>0,R227*D227+S227*SUM(B227:C227)+T227*E227,R227*SUM(B227:D227)+T227*E227),2)","v":18.420000000000002},{"$f":"L227-O227","v":0},null,{"$f":"'2011 Base Data'!K227","v":0.20200000000000001},{"$f":"'2011 Base Data'!L227","v":0},{"$f":"'2011 Base Data'!M227","v":0.20200000000000001},null,null,null,null,"<TR VALIGN=BOTTOM>",{"$f":"\"<TD NOWRAP ALIGN=LEFT><FONT FACE=\"\"Times New Roman\"\" SIZE=-1 COLOR=#00AA00\"\">\"&A227&\"</FONT></TD>\"","v":"<TD NOWRAP ALIGN=LEFT><FONT FACE=\"Times New Roman\" SIZE=-1 COLOR=#00AA00\">Galway CSD</FONT></TD>"},"<TD NOWRAP ALIGN=RIGHT><FONT FACE=\"Times New Roman\" SIZE=-1>$11.41</FONT></TD>","<TD NOWRAP ALIGN=RIGHT><FONT FACE=\"Times New Roman\" SIZE=-1>$19.77</FONT></TD>","<TD NOWRAP ALIGN=RIGHT><FONT FACE=\"Times New Roman\" SIZE=-1><BR></FONT></TD>","<TD NOWRAP ALIGN=CENTER><FONT FACE=\"Times New Roman\" SIZE=-1>$60.03</FONT></TD>","<TD NOWRAP ALIGN=CENTER><FONT FACE=\"Times New Roman\" SIZE=-1>$91.21</FONT></TD>","<TD NOWRAP ALIGN=CENTER><FONT FACE=\"Times New Roman\" SIZE=-1>0.2020</FONT></TD>","<TD NOWRAP ALIGN=CENTER><FONT FACE=\"Times New Roman\" SIZE=-1>$18.42</FONT></TD>","</TR>"]
["Town of Saratoga",{"$f":"B229","v":3.52},{"$f":"C229","v":1.62},null,{"$f":"MIN(INDIRECT(U229))","v":18.43},{"$f":"IF(G228<>0,\"to\",\"\")","v":"to"},{"$f":"IF(U228<>V228,MAX(INDIRECT(U229)),0)","v":29.14},{"$f":"MIN(INDIRECT(V229))","v":23.57},{"$f":"IF(J228<>0,\"to\",\"\")","v":"to"},{"$f":"IF(U228<>V228,MAX(INDIRECT(V229)),0)","v":34.28},{"$f":"K229","v":0.66},{"$f":"MIN(INDIRECT(W229))","v":15.55},{"$f":"IF(N228<>0,\"to\",\"\")","v":"to"},{"$f":"IF(U228<>V228,MAX(INDIRECT(W229)),0)","v":22.62},null,null,null,null,null,null,{"$f":"CELL(\"row\",P229)","v":229},{"$f":"CELL(\"row\",P231)","v":231},null,null,"<TR VALIGN=BOTTOM BGCOLOR=\"#FFFFCC\">",{"$f":"\"<TH NOWRAP ALIGN=LEFT><FONT FACE=\"\"Times New Roman\"\" SIZE=-1>\"&A228&\"</FONT></TH>\"","v":"<TH NOWRAP ALIGN=LEFT><FONT FACE=\"Times New Roman\" SIZE=-1>Town of Saratoga</FONT></TH>"},"<TD NOWRAP ALIGN=RIGHT><FONT FACE=\"Times New Roman\" SIZE=-1>$3.52</FONT></TD>","<TD NOWRAP ALIGN=RIGHT><FONT FACE=\"Times New Roman\" SIZE=-1>$1.62</FONT></TD>","<TD NOWRAP ALIGN=RIGHT><FONT FACE=\"Times New Roman\" SIZE=-1><BR></FONT></TD>","<TD NOWRAP ALIGN=CENTER><FONT FACE=\"Times New Roman\" SIZE=-1>$18.43 to $29.14</FONT></TD>","<TD NOWRAP ALIGN=CENTER><FONT FACE=\"Times New Roman\" SIZE=-1>$23.57 to $34.28</FONT></TD>","<TD NOWRAP ALIGN=CENTER><FONT FACE=\"Times New Roman\" SIZE=-1>0.6600</FONT></TD>","<TD NOWRAP ALIGN=CENTER><FONT FACE=\"Times New Roman\" SIZE=-1>$15.55 to $22.62</FONT></TD>","</TR>"]
["Saratoga Springs City SD",{"$f":"'2011 Base Data'!F229","v":3.52},{"$f":"'2011 Base Data'!G229","v":1.62},null,{"$f":"'2011 Base Data'!I229","v":18.43},null,null,{"$f":"'2011 Base Data'!J229","v":23.57},null,null,{"$f":"'2011 Base Data'!K229","v":0.66},{"$f":"'2011 Base Data'!R229","v":15.55},null,null,{"$f":"ROUND(IF(S229<>0,R229*D229+S229*SUM(B229:C229)+T229*E229,R229*SUM(B229:D229)+T229*E229),2)","v":15.56},{"$f":"L229-O229","v":-9.9999999999997868E-3},null,{"$f":"'2011 Base Data'!K229","v":0.66},{"$f":"'2011 Base Data'!L229","v":0},{"$f":"'2011 Base Data'!M229","v":0.66},{"$f":"\"E\"&U228&\":\"&\"E\"&V228","v":"E229:E231"},{"$f":"\"H\"&U228&\":\"&\"H\"&V228","v":"H229:H231"},{"$f":"\"L\"&U228&\":\"&\"L\"&V228","v":"L229:L231"},null,"<TR VALIGN=BOTTOM>",{"$f":"\"<TD NOWRAP ALIGN=LEFT><FONT FACE=\"\"Times New Roman\"\" SIZE=-1 COLOR=#00AA00\"\">\"&A229&\"</FONT></TD>\"","v":"<TD NOWRAP ALIGN=LEFT><FONT FACE=\"Times New Roman\" SIZE=-1 COLOR=#00AA00\">Saratoga Springs City SD</FONT></TD>"},"<TD NOWRAP ALIGN=RIGHT><FONT FACE=\"Times New Roman\" SIZE=-1>$3.52</FONT></TD>","<TD NOWRAP ALIGN=RIGHT><FONT FACE=\"Times New Roman\" SIZE=-1>$1.62</FONT></TD>","<TD NOWRAP ALIGN=RIGHT><FONT FACE=\"Times New Roman\" SIZE=-1><BR></FONT></TD>","<TD NOWRAP ALIGN=CENTER><FONT FACE=\"Times New Roman\" SIZE=-1>$18.43</FONT></TD>","<TD NOWRAP ALIGN=CENTER><FONT FACE=\"Times New Roman\" SIZE=-1>$23.57</FONT></TD>","<TD NOWRAP ALIGN=CENTER><FONT FACE=\"Times New Roman\" SIZE=-1>0.6600</FONT></TD>","<TD NOWRAP ALIGN=CENTER><FONT FACE=\"Times New Roman\" SIZE=-1>$15.55</FONT></TD>","</TR>"]
["Schuylerville CSD",{"$f":"'2011 Base Data'!F230","v":3.52},{"$f":"'2011 Base Data'!G230","v":1.62},null,{"$f":"'2011 Base Data'!I230","v":29.14},null,null,{"$f":"'2011 Base Data'!J230","v":34.28},null,null,{"$f":"'2011 Base Data'!K230","v":0.66},{"$f":"'2011 Base Data'!R230","v":22.62},null,null,{"$f":"ROUND(IF(S230<>0,R230*D230+S230*SUM(B230:C230)+T230*E230,R230*SUM(B230:D230)+T230*E230),2)","v":22.62},{"$f":"L230-O230","v":0},null,{"$f":"'2011 Base Data'!K230","v":0.66},{"$f":"'2011 Base Data'!L230","v":0},{"$f":"'2011 Base Data'!M230","v":0.66},null,null,null,null,"<TR VALIGN=BOTTOM>",{"$f":"\"<TD NOWRAP ALIGN=LEFT><FONT FACE=\"\"Times New Roman\"\" SIZE=-1 COLOR=#00AA00\"\">\"&A230&\"</FONT></TD>\"","v":"<TD NOWRAP ALIGN=LEFT><FONT FACE=\"Times New Roman\" SIZE=-1 COLOR=#00AA00\">Schuylerville CSD</FONT></TD>"},{"$f":"\"<TD NOWRAP ALIGN=RIGHT><FONT FACE=\"\"Times New Roman\"\" SIZE=-1>\"&IF(B230=\"\",\"<BR>\",TEXT(B230,\"$#,##0.00\"))&\"</FONT></TD>\"","v":"<TD NOWRAP ALIGN=RIGHT><FONT FACE=\"Times New Roman\" SIZE=-1>$3.52</FONT></TD>"},{"$f":"\"<TD NOWRAP ALIGN=RIGHT><FONT FACE=\"\"Times New Roman\"\" SIZE=-1>\"&IF(C230=\"\",\"<BR>\",TEXT(C230,\"$#,##0.00\"))&\"</FONT></TD>\"","v":"<TD NOWRAP ALIGN=RIGHT><FONT FACE=\"Times New Roman\" SIZE=-1>$1.62</FONT></TD>"},{"$f":"\"<TD NOWRAP ALIGN=RIGHT><FONT FACE=\"\"Times New Roman\"\" SIZE=-1>\"&IF(D230=\"\",\"<BR>\",TEXT(D230,\"$#,##0.00\"))&\"</FONT></TD>\"","v":"<TD NOWRAP ALIGN=RIGHT><FONT FACE=\"Times New Roman\" SIZE=-1><BR></FONT></TD>"},{"$f":"\"<TD NOWRAP ALIGN=CENTER><FONT FACE=\"\"Times New Roman\"\" SIZE=-1>\"&TEXT(E230,\"$#,##0.00\")&IF(F230=\"\",\"\",\" to \")&IF(G230<=0,\"\",TEXT(G230,\"$#,##0.00\"))&\"</FONT></TD>\"","v":"<TD NOWRAP ALIGN=CENTER><FONT FACE=\"Times New Roman\" SIZE=-1>$29.14</FONT></TD>"},{"$f":"\"<TD NOWRAP ALIGN=CENTER><FONT FACE=\"\"Times New Roman\"\" SIZE=-1>\"&TEXT(H230,\"$#,##0.00\")&IF(I230=\"\",\"\",\" to \")&IF(J230<=0,\"\",TEXT(J230,\"$#,##0.00\"))&\"</FONT></TD>\"","v":"<TD NOWRAP ALIGN=CENTER><FONT FACE=\"Times New Roman\" SIZE=-1>$34.28</FONT></TD>"},{"$f":"\"<TD NOWRAP ALIGN=CENTER><FONT FACE=\"\"Times New Roman\"\" SIZE=-1>\"&IF(K230=\"\",\"<BR>\",TEXT(K230,\"0.0000\"))&\"</FONT></TD>\"","v":"<TD NOWRAP ALIGN=CENTER><FONT FACE=\"Times New Roman\" SIZE=-1>0.6600</FONT></TD>"},{"$f":"\"<TD NOWRAP ALIGN=CENTER><FONT FACE=\"\"Times New Roman\"\" SIZE=-1>\"&TEXT(L230,\"$#,##0.00\")&IF(M230=\"\",\"\",\" to \")&IF(N230<=0,\"\",TEXT(N230,\"$#,##0.00\"))&\"</FONT></TD>\"","v":"<TD NOWRAP ALIGN=CENTER><FONT FACE=\"Times New Roman\" SIZE=-1>$22.62</FONT></TD>"},"</TR>"]
["Stillwater CSD",{"$f":"'2011 Base Data'!F231","v":3.52},{"$f":"'2011 Base Data'!G231","v":1.62},null,{"$f":"'2011 Base Data'!I231","v":18.440000000000001},null,null,{"$f":"'2011 Base Data'!J231","v":23.58},null,null,{"$f":"'2011 Base Data'!K231","v":0.66},{"$f":"'2011 Base Data'!R231","v":15.56},null,null,{"$f":"ROUND(IF(S231<>0,R231*D231+S231*SUM(B231:C231)+T231*E231,R231*SUM(B231:D231)+T231*E231),2)","v":15.56},{"$f":"L231-O231","v":0},null,{"$f":"'2011 Base Data'!K231","v":0.66},{"$f":"'2011 Base Data'!L231","v":0},{"$f":"'2011 Base Data'!M231","v":0.66},null,null,null,null,"<TR VALIGN=BOTTOM>",{"$f":"\"<TD NOWRAP ALIGN=LEFT><FONT FACE=\"\"Times New Roman\"\" SIZE=-1 COLOR=#00AA00\"\">\"&A231&\"</FONT></TD>\"","v":"<TD NOWRAP ALIGN=LEFT><FONT FACE=\"Times New Roman\" SIZE=-1 COLOR=#00AA00\">Stillwater CSD</FONT></TD>"},"<TD NOWRAP ALIGN=RIGHT><FONT FACE=\"Times New Roman\" SIZE=-1>$3.52</FONT></TD>","<TD NOWRAP ALIGN=RIGHT><FONT FACE=\"Times New Roman\" SIZE=-1>$1.62</FONT></TD>","<TD NOWRAP ALIGN=RIGHT><FONT FACE=\"Times New Roman\" SIZE=-1><BR></FONT></TD>","<TD NOWRAP ALIGN=CENTER><FONT FACE=\"Times New Roman\" SIZE=-1>$18.44</FONT></TD>","<TD NOWRAP ALIGN=CENTER><FONT FACE=\"Times New Roman\" SIZE=-1>$23.58</FONT></TD>","<TD NOWRAP ALIGN=CENTER><FONT FACE=\"Times New Roman\" SIZE=-1>0.6600</FONT></TD>","<TD NOWRAP ALIGN=CENTER><FONT FACE=\"Times New Roman\" SIZE=-1>$15.56</FONT></TD>","</TR>"]
["Village of Schuylerville",{"$f":"B233","v":3.52},{"$f":"C233","v":1.62},{"$f":"D233","v":0},{"$f":"MIN(INDIRECT(U233))","v":29.14},{"$f":"IF(G232<>0,\"to\",\"\")","v":""},{"$f":"IF(U232<>V232,MAX(INDIRECT(U233)),0)","v":0},{"$f":"MIN(INDIRECT(V233))","v":34.28},{"$f":"IF(J232<>0,\"to\",\"\")","v":""},{"$f":"IF(U232<>V232,MAX(INDIRECT(V233)),0)","v":0},{"$f":"K233","v":0},{"$f":"MIN(INDIRECT(W233))","v":22.62},{"$f":"IF(N232<>0,\"to\",\"\")","v":""},{"$f":"IF(U232<>V232,MAX(INDIRECT(W233)),0)","v":0},null,null,null,null,null,null,{"$f":"CELL(\"row\",P233)","v":233},{"$f":"CELL(\"row\",P233)","v":233},null,null,"<TR VALIGN=BOTTOM BGCOLOR=\"#FFFFCC\">",{"$f":"\"<TH NOWRAP ALIGN=LEFT><FONT FACE=\"\"Times New Roman\"\" SIZE=-1 COLOR=\"\"#0000CC\"\">\"&A232&\"</FONT></TH>\"","v":"<TH NOWRAP ALIGN=LEFT><FONT FACE=\"Times New Roman\" SIZE=-1 COLOR=\"#0000CC\">Village of Schuylerville</FONT></TH>"},"<TD NOWRAP ALIGN=RIGHT><FONT FACE=\"Times New Roman\" SIZE=-1>$3.52</FONT></TD>","<TD NOWRAP ALIGN=RIGHT><FONT FACE=\"Times New Roman\" SIZE=-1>$1.62</FONT></TD>","<TD NOWRAP ALIGN=RIGHT><FONT FACE=\"Times New Roman\" SIZE=-1>$0.00</FONT></TD>","<TD NOWRAP ALIGN=CENTER><FONT FACE=\"Times New Roman\" SIZE=-1>$29.14</FONT></TD>","<TD NOWRAP ALIGN=CENTER><FONT FACE=\"Times New Roman\" SIZE=-1>$34.28</FONT></TD>","<TD NOWRAP ALIGN=CENTER><FONT FACE=\"Times New Roman\" SIZE=-1>0.0000</FONT></TD>","<TD NOWRAP ALIGN=CENTER><FONT FACE=\"Times New Roman\" SIZE=-1>$22.62</FONT></TD>","</TR>"]
["Schuylerville CSD",{"$f":"'2011 Base Data'!F233","v":3.52},{"$f":"'2011 Base Data'!G233","v":1.62},{"$f":"'2011 Base Data'!H233","v":0},{"$f":"'2011 Base Data'!I233","v":29.14},null,null,{"$f":"'2011 Base Data'!J233","v":34.28},null,null,{"$f":"'2011 Base Data'!K233","v":0},{"$f":"'2011 Base Data'!R233","v":22.62},null,null,{"$f":"ROUND(IF(S233<>0,R233*D233+S233*SUM(B233:C233)+T233*E233,R233*SUM(B233:D233)+T233*E233),2)","v":22.62},{"$f":"L233-O233","v":0},null,{"$f":"'2011 Base Data'!K233","v":0},{"$f":"'2011 Base Data'!L233","v":0.66},{"$f":"'2011 Base Data'!M233","v":0.66},{"$f":"\"E\"&U232&\":\"&\"E\"&V232","v":"E233:E233"},{"$f":"\"H\"&U232&\":\"&\"H\"&V232","v":"H233:H233"},{"$f":"\"L\"&U232&\":\"&\"L\"&V232","v":"L233:L233"},null,"<TR VALIGN=BOTTOM>",{"$f":"\"<TD NOWRAP ALIGN=LEFT><FONT FACE=\"\"Times New Roman\"\" SIZE=-1 COLOR=#00AA00\"\">\"&A233&\"</FONT></TD>\"","v":"<TD NOWRAP ALIGN=LEFT><FONT FACE=\"Times New Roman\" SIZE=-1 COLOR=#00AA00\">Schuylerville CSD</FONT></TD>"},"<TD NOWRAP ALIGN=RIGHT><FONT FACE=\"Times New Roman\" SIZE=-1>$3.52</FONT></TD>","<TD NOWRAP ALIGN=RIGHT><FONT FACE=\"Times New Roman\" SIZE=-1>$1.62</FONT></TD>","<TD NOWRAP ALIGN=RIGHT><FONT FACE=\"Times New Roman\" SIZE=-1>$0.00</FONT></TD>","<TD NOWRAP ALIGN=CENTER><FONT FACE=\"Times New Roman\" SIZE=-1>$29.14</FONT></TD>","<TD NOWRAP ALIGN=CENTER><FONT FACE=\"Times New Roman\" SIZE=-1>$34.28</FONT></TD>","<TD NOWRAP ALIGN=CENTER><FONT FACE=\"Times New Roman\" SIZE=-1>0.0000</FONT></TD>","<TD NOWRAP ALIGN=CENTER><FONT FACE=\"Times New Roman\" SIZE=-1>$22.62</FONT></TD>","</TR>"]
["Village of Victory",{"$f":"B235","v":3.52},{"$f":"C235","v":1.62},{"$f":"D235","v":0},{"$f":"MIN(INDIRECT(U235))","v":29.14},{"$f":"IF(G234<>0,\"to\",\"\")","v":""},{"$f":"IF(U234<>V234,MAX(INDIRECT(U235)),0)","v":0},{"$f":"MIN(INDIRECT(V235))","v":34.28},{"$f":"IF(J234<>0,\"to\",\"\")","v":""},{"$f":"IF(U234<>V234,MAX(INDIRECT(V235)),0)","v":0},{"$f":"K235","v":0},{"$f":"MIN(INDIRECT(W235))","v":22.62},{"$f":"IF(N234<>0,\"to\",\"\")","v":""},{"$f":"IF(U234<>V234,MAX(INDIRECT(W235)),0)","v":0},null,null,null,null,null,null,{"$f":"CELL(\"row\",P235)","v":235},{"$f":"CELL(\"row\",P235)","v":235},null,null,"<TR VALIGN=BOTTOM BGCOLOR=\"#FFFFCC\">",{"$f":"\"<TH NOWRAP ALIGN=LEFT><FONT FACE=\"\"Times New Roman\"\" SIZE=-1 COLOR=\"\"#0000CC\"\">\"&A234&\"</FONT></TH>\"","v":"<TH NOWRAP ALIGN=LEFT><FONT FACE=\"Times New Roman\" SIZE=-1 COLOR=\"#0000CC\">Village of Victory</FONT></TH>"},"<TD NOWRAP ALIGN=RIGHT><FONT FACE=\"Times New Roman\" SIZE=-1>$3.52</FONT></TD>","<TD NOWRAP ALIGN=RIGHT><FONT FACE=\"Times New Roman\" SIZE=-1>$1.62</FONT></TD>","<TD NOWRAP ALIGN=RIGHT><FONT FACE=\"Times New Roman\" SIZE=-1>$0.00</FONT></TD>","<TD NOWRAP ALIGN=CENTER><FONT FACE=\"Times New Roman\" SIZE=-1>$29.14</FONT></TD>","<TD NOWRAP ALIGN=CENTER><FONT FACE=\"Times New Roman\" SIZE=-1>$34.28</FONT></TD>","<TD NOWRAP ALIGN=CENTER><FONT FACE=\"Times New Roman\" SIZE=-1>0.0000</FONT></TD>","<TD NOWRAP ALIGN=CENTER><FONT FACE=\"Times New Roman\" SIZE=-1>$22.62</FONT></TD>","</TR>"]
["Schuylerville CSD",{"$f":"'2011 Base Data'!F235","v":3.52},{"$f":"'2011 Base Data'!G235","v":1.62},{"$f":"'2011 Base Data'!H235","v":0},{"$f":"'2011 Base Data'!I235","v":29.14},null,null,{"$f":"'2011 Base Data'!J235","v":34.28},null,null,{"$f":"'2011 Base Data'!K235","v":0},{"$f":"'2011 Base Data'!R235","v":22.62},null,null,{"$f":"ROUND(IF(S235<>0,R235*D235+S235*SUM(B235:C235)+T235*E235,R235*SUM(B235:D235)+T235*E235),2)","v":22.62},{"$f":"L235-O235","v":0},null,{"$f":"'2011 Base Data'!K235","v":0},{"$f":"'2011 Base Data'!L235","v":0.66},{"$f":"'2011 Base Data'!M235","v":0.66},{"$f":"\"E\"&U234&\":\"&\"E\"&V234","v":"E235:E235"},{"$f":"\"H\"&U234&\":\"&\"H\"&V234","v":"H235:H235"},{"$f":"\"L\"&U234&\":\"&\"L\"&V234","v":"L235:L235"},null,"<TR VALIGN=BOTTOM>",{"$f":"\"<TD NOWRAP ALIGN=LEFT><FONT FACE=\"\"Times New Roman\"\" SIZE=-1 COLOR=#00AA00\"\">\"&A235&\"</FONT></TD>\"","v":"<TD NOWRAP ALIGN=LEFT><FONT FACE=\"Times New Roman\" SIZE=-1 COLOR=#00AA00\">Schuylerville CSD</FONT></TD>"},"<TD NOWRAP ALIGN=RIGHT><FONT FACE=\"Times New Roman\" SIZE=-1>$3.52</FONT></TD>","<TD NOWRAP ALIGN=RIGHT><FONT FACE=\"Times New Roman\" SIZE=-1>$1.62</FONT></TD>","<TD NOWRAP ALIGN=RIGHT><FONT FACE=\"Times New Roman\" SIZE=-1>$0.00</FONT></TD>","<TD NOWRAP ALIGN=CENTER><FONT FACE=\"Times New Roman\" SIZE=-1>$29.14</FONT></TD>","<TD NOWRAP ALIGN=CENTER><FONT FACE=\"Times New Roman\" SIZE=-1>$34.28</FONT></TD>","<TD NOWRAP ALIGN=CENTER><FONT FACE=\"Times New Roman\" SIZE=-1>0.0000</FONT></TD>","<TD NOWRAP ALIGN=CENTER><FONT FACE=\"Times New Roman\" SIZE=-1>$22.62</FONT></TD>","</TR>"]
["City of Saratoga Springs",{"$f":"B237","v":2.86},null,{"$f":"D237","v":6.04},{"$f":"MIN(INDIRECT(U237))","v":14.87},{"$f":"IF(G236<>0,\"to\",\"\")","v":""},{"$f":"IF(U236<>V236,MAX(INDIRECT(U237)),0)","v":0},{"$f":"MIN(INDIRECT(V237))","v":23.77},{"$f":"IF(J236<>0,\"to\",\"\")","v":""},{"$f":"IF(U236<>V236,MAX(INDIRECT(V237)),0)","v":0},{"$f":"K237","v":0.82},{"$f":"MIN(INDIRECT(W237))","v":19.489999999999998},{"$f":"IF(N236<>0,\"to\",\"\")","v":""},{"$f":"IF(U236<>V236,MAX(INDIRECT(W237)),0)","v":0},null,null,null,null,null,null,{"$f":"CELL(\"row\",P237)","v":237},{"$f":"CELL(\"row\",P237)","v":237},null,null,"<TR VALIGN=BOTTOM BGCOLOR=\"#FFFFCC\">",{"$f":"\"<TH NOWRAP ALIGN=LEFT><FONT FACE=\"\"Times New Roman\"\" SIZE=-1 COLOR=#800000\"\">\"&A236&\"</FONT></TH>\"","v":"<TH NOWRAP ALIGN=LEFT><FONT FACE=\"Times New Roman\" SIZE=-1 COLOR=#800000\">City of Saratoga Springs</FONT></TH>"},"<TD NOWRAP ALIGN=RIGHT><FONT FACE=\"Times New Roman\" SIZE=-1>$2.86</FONT></TD>","<TD NOWRAP ALIGN=RIGHT><FONT FACE=\"Times New Roman\" SIZE=-1><BR></FONT></TD>","<TD NOWRAP ALIGN=RIGHT><FONT FACE=\"Times New Roman\" SIZE=-1>$6.04</FONT></TD>","<TD NOWRAP ALIGN=CENTER><FONT FACE=\"Times New Roman\" SIZE=-1>$14.87</FONT></TD>","<TD NOWRAP ALIGN=CENTER><FONT FACE=\"Times New Roman\" SIZE=-1>$23.77</FONT></TD>","<TD NOWRAP ALIGN=CENTER><FONT FACE=\"Times New Roman\" SIZE=-1>0.8200</FONT></TD>","<TD NOWRAP ALIGN=CENTER><FONT FACE=\"Times New Roman\" SIZE=-1>$19.49</FONT></TD>","</TR>"]
["Saratoga Springs City SD",{"$f":"'2011 Base Data'!F237","v":2.86},null,{"$f":"'2011 Base Data'!H237","v":6.04},{"$f":"'2011 Base Data'!I237","v":14.87},null,null,{"$f":"'2011 Base Data'!J237","v":23.77},null,null,{"$f":"'2011 Base Data'!K237","v":0.82},{"$f":"'2011 Base Data'!R237","v":19.489999999999998},null,null,{"$f":"ROUND(IF(S237<>0,R237*D237+S237*SUM(B237:C237)+T237*E237,R237*SUM(B237:D237)+T237*E237),2)","v":19.489999999999998},{"$f":"L237-O237","v":0},null,{"$f":"'2011 Base Data'!K237","v":0.82},{"$f":"'2011 Base Data'!L237","v":0},{"$f":"'2011 Base Data'!M237","v":0.82},{"$f":"\"E\"&U236&\":\"&\"E\"&V236","v":"E237:E237"},{"$f":"\"H\"&U236&\":\"&\"H\"&V236","v":"H237:H237"},{"$f":"\"L\"&U236&\":\"&\"L\"&V236","v":"L237:L237"},null,"<TR VALIGN=BOTTOM>",{"$f":"\"<TD NOWRAP ALIGN=LEFT><FONT FACE=\"\"Times New Roman\"\" SIZE=-1 COLOR=#00AA00\"\">\"&A237&\"</FONT></TD>\"","v":"<TD NOWRAP ALIGN=LEFT><FONT FACE=\"Times New Roman\" SIZE=-1 COLOR=#00AA00\">Saratoga Springs City SD</FONT></TD>"},"<TD NOWRAP ALIGN=RIGHT><FONT FACE=\"Times New Roman\" SIZE=-1>$2.86</FONT></TD>","<TD NOWRAP ALIGN=RIGHT><FONT FACE=\"Times New Roman\" SIZE=-1><BR></FONT></TD>","<TD NOWRAP ALIGN=RIGHT><FONT FACE=\"Times New Roman\" SIZE=-1>$6.04</FONT></TD>","<TD NOWRAP ALIGN=CENTER><FONT FACE=\"Times New Roman\" SIZE=-1>$14.87</FONT></TD>","<TD NOWRAP ALIGN=CENTER><FONT FACE=\"Times New Roman\" SIZE=-1>$23.77</FONT></TD>","<TD NOWRAP ALIGN=CENTER><FONT FACE=\"Times New Roman\" SIZE=-1>0.8200</FONT></TD>","<TD NOWRAP ALIGN=CENTER><FONT FACE=\"Times New Roman\" SIZE=-1>$19.49</FONT></TD>","</TR>"]
["Town of Stillwater",{"$f":"B239","v":2.46},{"$f":"C239","v":2.85},null,{"$f":"MIN(INDIRECT(U239))","v":12.81},{"$f":"IF(G238<>0,\"to\",\"\")","v":"to"},{"$f":"IF(U238<>V238,MAX(INDIRECT(U239)),0)","v":20.260000000000002},{"$f":"MIN(INDIRECT(V239))","v":18.12},{"$f":"IF(J238<>0,\"to\",\"\")","v":"to"},{"$f":"IF(U238<>V238,MAX(INDIRECT(V239)),0)","v":25.57},{"$f":"K239","v":0.95},{"$f":"MIN(INDIRECT(W239))","v":17.22},{"$f":"IF(N238<>0,\"to\",\"\")","v":"to"},{"$f":"IF(U238<>V238,MAX(INDIRECT(W239)),0)","v":24.3},null,null,null,null,null,null,{"$f":"CELL(\"row\",P239)","v":239},{"$f":"CELL(\"row\",P242)","v":242},null,null,"<TR VALIGN=BOTTOM BGCOLOR=\"#FFFFCC\">",{"$f":"\"<TH NOWRAP ALIGN=LEFT><FONT FACE=\"\"Times New Roman\"\" SIZE=-1>\"&A238&\"</FONT></TH>\"","v":"<TH NOWRAP ALIGN=LEFT><FONT FACE=\"Times New Roman\" SIZE=-1>Town of Stillwater</FONT></TH>"},"<TD NOWRAP ALIGN=RIGHT><FONT FACE=\"Times New Roman\" SIZE=-1>$2.46</FONT></TD>","<TD NOWRAP ALIGN=RIGHT><FONT FACE=\"Times New Roman\" SIZE=-1>$2.85</FONT></TD>","<TD NOWRAP ALIGN=RIGHT><FONT FACE=\"Times New Roman\" SIZE=-1><BR></FONT></TD>","<TD NOWRAP ALIGN=CENTER><FONT FACE=\"Times New Roman\" SIZE=-1>$12.81 to $20.26</FONT></TD>","<TD NOWRAP ALIGN=CENTER><FONT FACE=\"Times New Roman\" SIZE=-1>$18.12 to $25.57</FONT></TD>","<TD NOWRAP ALIGN=CENTER><FONT FACE=\"Times New Roman\" SIZE=-1>0.9500</FONT></TD>","<TD NOWRAP ALIGN=CENTER><FONT FACE=\"Times New Roman\" SIZE=-1>$17.22 to $24.30</FONT></TD>","</TR>"]
["Mechanicville City SD",{"$f":"'2011 Base Data'!F239","v":2.46},{"$f":"'2011 Base Data'!G239","v":2.85},null,{"$f":"'2011 Base Data'!I239","v":16.57},null,null,{"$f":"'2011 Base Data'!J239","v":21.88},null,null,{"$f":"'2011 Base Data'!K239","v":0.95},{"$f":"'2011 Base Data'!R239","v":20.79},null,null,{"$f":"ROUND(IF(S239<>0,R239*D239+S239*SUM(B239:C239)+T239*E239,R239*SUM(B239:D239)+T239*E239),2)","v":20.79},{"$f":"L239-O239","v":0},null,{"$f":"'2011 Base Data'!K239","v":0.95},{"$f":"'2011 Base Data'!L239","v":0},{"$f":"'2011 Base Data'!M239","v":0.95},{"$f":"\"E\"&U238&\":\"&\"E\"&V238","v":"E239:E242"},{"$f":"\"H\"&U238&\":\"&\"H\"&V238","v":"H239:H242"},{"$f":"\"L\"&U238&\":\"&\"L\"&V238","v":"L239:L242"},null,"<TR VALIGN=BOTTOM>",{"$f":"\"<TD NOWRAP ALIGN=LEFT><FONT FACE=\"\"Times New Roman\"\" SIZE=-1 COLOR=#00AA00\"\">\"&A239&\"</FONT></TD>\"","v":"<TD NOWRAP ALIGN=LEFT><FONT FACE=\"Times New Roman\" SIZE=-1 COLOR=#00AA00\">Mechanicville City SD</FONT></TD>"},"<TD NOWRAP ALIGN=RIGHT><FONT FACE=\"Times New Roman\" SIZE=-1>$2.46</FONT></TD>","<TD NOWRAP ALIGN=RIGHT><FONT FACE=\"Times New Roman\" SIZE=-1>$2.85</FONT></TD>","<TD NOWRAP ALIGN=RIGHT><FONT FACE=\"Times New Roman\" SIZE=-1><BR></FONT></TD>","<TD NOWRAP ALIGN=CENTER><FONT FACE=\"Times New Roman\" SIZE=-1>$16.57</FONT></TD>","<TD NOWRAP ALIGN=CENTER><FONT FACE=\"Times New Roman\" SIZE=-1>$21.88</FONT></TD>","<TD NOWRAP ALIGN=CENTER><FONT FACE=\"Times New Roman\" SIZE=-1>0.9500</FONT></TD>","<TD NOWRAP ALIGN=CENTER><FONT FACE=\"Times New Roman\" SIZE=-1>$20.79</FONT></TD>","</TR>"]
["Schuylerville CSD",{"$f":"'2011 Base Data'!F240","v":2.46},{"$f":"'2011 Base Data'!G240","v":2.85},null,{"$f":"'2011 Base Data'!I240","v":20.260000000000002},null,null,{"$f":"'2011 Base Data'!J240","v":25.57},null,null,{"$f":"'2011 Base Data'!K240","v":0.95},{"$f":"'2011 Base Data'!R240","v":24.3},null,null,{"$f":"ROUND(IF(S240<>0,R240*D240+S240*SUM(B240:C240)+T240*E240,R240*SUM(B240:D240)+T240*E240),2)","v":24.29},{"$f":"L240-O240","v":1.0000000000001563E-2},null,{"$f":"'2011 Base Data'!K240","v":0.95},{"$f":"'2011 Base Data'!L240","v":0},{"$f":"'2011 Base Data'!M240","v":0.95},null,null,null,null,"<TR VALIGN=BOTTOM>",{"$f":"\"<TD NOWRAP ALIGN=LEFT><FONT FACE=\"\"Times New Roman\"\" SIZE=-1 COLOR=#00AA00\"\">\"&A240&\"</FONT></TD>\"","v":"<TD NOWRAP ALIGN=LEFT><FONT FACE=\"Times New Roman\" SIZE=-1 COLOR=#00AA00\">Schuylerville CSD</FONT></TD>"},"<TD NOWRAP ALIGN=RIGHT><FONT FACE=\"Times New Roman\" SIZE=-1>$2.46</FONT></TD>","<TD NOWRAP ALIGN=RIGHT><FONT FACE=\"Times New Roman\" SIZE=-1>$2.85</FONT></TD>","<TD NOWRAP ALIGN=RIGHT><FONT FACE=\"Times New Roman\" SIZE=-1><BR></FONT></TD>","<TD NOWRAP ALIGN=CENTER><FONT FACE=\"Times New Roman\" SIZE=-1>$20.26</FONT></TD>","<TD NOWRAP ALIGN=CENTER><FONT FACE=\"Times New Roman\" SIZE=-1>$25.57</FONT></TD>","<TD NOWRAP ALIGN=CENTER><FONT FACE=\"Times New Roman\" SIZE=-1>0.9500</FONT></TD>","<TD NOWRAP ALIGN=CENTER><FONT FACE=\"Times New Roman\" SIZE=-1>$24.30</FONT></TD>","</TR>"]
["Shenendehowa CSD",{"$f":"'2011 Base Data'!F241","v":2.46},{"$f":"'2011 Base Data'!G241","v":2.85},null,{"$f":"'2011 Base Data'!I241","v":17.399999999999999},null,null,{"$f":"'2011 Base Data'!J241","v":22.71},null,null,{"$f":"'2011 Base Data'!K241","v":0.95},{"$f":"'2011 Base Data'!R241","v":21.58},null,null,{"$f":"ROUND(IF(S241<>0,R241*D241+S241*SUM(B241:C241)+T241*E241,R241*SUM(B241:D241)+T241*E241),2)","v":21.57},{"$f":"L241-O241","v":9.9999999999980105E-3},null,{"$f":"'2011 Base Data'!K241","v":0.95},{"$f":"'2011 Base Data'!L241","v":0},{"$f":"'2011 Base Data'!M241","v":0.95},null,null,null,null,"<TR VALIGN=BOTTOM>",{"$f":"\"<TD NOWRAP ALIGN=LEFT><FONT FACE=\"\"Times New Roman\"\" SIZE=-1 COLOR=#00AA00\"\">\"&A241&\"</FONT></TD>\"","v":"<TD NOWRAP ALIGN=LEFT><FONT FACE=\"Times New Roman\" SIZE=-1 COLOR=#00AA00\">Shenendehowa CSD</FONT></TD>"},"<TD NOWRAP ALIGN=RIGHT><FONT FACE=\"Times New Roman\" SIZE=-1>$2.46</FONT></TD>","<TD NOWRAP ALIGN=RIGHT><FONT FACE=\"Times New Roman\" SIZE=-1>$2.85</FONT></TD>","<TD NOWRAP ALIGN=RIGHT><FONT FACE=\"Times New Roman\" SIZE=-1><BR></FONT></TD>","<TD NOWRAP ALIGN=CENTER><FONT FACE=\"Times New Roman\" SIZE=-1>$17.40</FONT></TD>","<TD NOWRAP ALIGN=CENTER><FONT FACE=\"Times New Roman\" SIZE=-1>$22.71</FONT></TD>","<TD NOWRAP ALIGN=CENTER><FONT FACE=\"Times New Roman\" SIZE=-1>0.9500</FONT></TD>","<TD NOWRAP ALIGN=CENTER><FONT FACE=\"Times New Roman\" SIZE=-1>$21.58</FONT></TD>","</TR>"]
["Stillwater CSD",{"$f":"'2011 Base Data'!F242","v":2.46},{"$f":"'2011 Base Data'!G242","v":2.85},null,{"$f":"'2011 Base Data'!I242","v":12.81},null,null,{"$f":"'2011 Base Data'!J242","v":18.12},null,null,{"$f":"'2011 Base Data'!K242","v":0.95},{"$f":"'2011 Base Data'!R242","v":17.22},null,null,{"$f":"ROUND(IF(S242<>0,R242*D242+S242*SUM(B242:C242)+T242*E242,R242*SUM(B242:D242)+T242*E242),2)","v":17.21},{"$f":"L242-O242","v":9.9999999999980105E-3},null,{"$f":"'2011 Base Data'!K242","v":0.95},{"$f":"'2011 Base Data'!L242","v":0},{"$f":"'2011 Base Data'!M242","v":0.95},null,null,null,null,"<TR VALIGN=BOTTOM>",{"$f":"\"<TD NOWRAP ALIGN=LEFT><FONT FACE=\"\"Times New Roman\"\" SIZE=-1 COLOR=#00AA00\"\">\"&A242&\"</FONT></TD>\"","v":"<TD NOWRAP ALIGN=LEFT><FONT FACE=\"Times New Roman\" SIZE=-1 COLOR=#00AA00\">Stillwater CSD</FONT></TD>"},"<TD NOWRAP ALIGN=RIGHT><FONT FACE=\"Times New Roman\" SIZE=-1>$2.46</FONT></TD>","<TD NOWRAP ALIGN=RIGHT><FONT FACE=\"Times New Roman\" SIZE=-1>$2.85</FONT></TD>","<TD NOWRAP ALIGN=RIGHT><FONT FACE=\"Times New Roman\" SIZE=-1><BR></FONT></TD>","<TD NOWRAP ALIGN=CENTER><FONT FACE=\"Times New Roman\" SIZE=-1>$12.81</FONT></TD>","<TD NOWRAP ALIGN=CENTER><FONT FACE=\"Times New Roman\" SIZE=-1>$18.12</FONT></TD>","<TD NOWRAP ALIGN=CENTER><FONT FACE=\"Times New Roman\" SIZE=-1>0.9500</FONT></TD>","<TD NOWRAP ALIGN=CENTER><FONT FACE=\"Times New Roman\" SIZE=-1>$17.22</FONT></TD>","</TR>"]
["Village of Stillwater",{"$f":"B244","v":2.46},{"$f":"C244","v":1.44},{"$f":"D244","v":3.35},{"$f":"MIN(INDIRECT(U244))","v":12.81},{"$f":"IF(G243<>0,\"to\",\"\")","v":""},{"$f":"IF(U243<>V243,MAX(INDIRECT(U244)),0)","v":0},{"$f":"MIN(INDIRECT(V244))","v":20.059999999999999},{"$f":"IF(J243<>0,\"to\",\"\")","v":""},{"$f":"IF(U243<>V243,MAX(INDIRECT(V244)),0)","v":0},{"$f":"K244","v":0.91},{"$f":"MIN(INDIRECT(W244))","v":18.93},{"$f":"IF(N243<>0,\"to\",\"\")","v":""},{"$f":"IF(U243<>V243,MAX(INDIRECT(W244)),0)","v":0},null,null,null,null,null,null,{"$f":"CELL(\"row\",P244)","v":244},{"$f":"CELL(\"row\",P244)","v":244},null,null,"<TR VALIGN=BOTTOM BGCOLOR=\"#FFFFCC\">",{"$f":"\"<TH NOWRAP ALIGN=LEFT><FONT FACE=\"\"Times New Roman\"\" SIZE=-1 COLOR=\"\"#0000CC\"\">\"&A243&\"</FONT></TH>\"","v":"<TH NOWRAP ALIGN=LEFT><FONT FACE=\"Times New Roman\" SIZE=-1 COLOR=\"#0000CC\">Village of Stillwater</FONT></TH>"},"<TD NOWRAP ALIGN=RIGHT><FONT FACE=\"Times New Roman\" SIZE=-1>$2.46</FONT></TD>","<TD NOWRAP ALIGN=RIGHT><FONT FACE=\"Times New Roman\" SIZE=-1>$1.44</FONT></TD>","<TD NOWRAP ALIGN=RIGHT><FONT FACE=\"Times New Roman\" SIZE=-1>$3.35</FONT></TD>","<TD NOWRAP ALIGN=CENTER><FONT FACE=\"Times New Roman\" SIZE=-1>$12.81</FONT></TD>","<TD NOWRAP ALIGN=CENTER><FONT FACE=\"Times New Roman\" SIZE=-1>$20.06</FONT></TD>","<TD NOWRAP ALIGN=CENTER><FONT FACE=\"Times New Roman\" SIZE=-1>0.9100</FONT></TD>","<TD NOWRAP ALIGN=CENTER><FONT FACE=\"Times New Roman\" SIZE=-1>$18.93</FONT></TD>","</TR>"]
["Stillwater CSD",{"$f":"'2011 Base Data'!F244","v":2.46},{"$f":"'2011 Base Data'!G244","v":1.44},{"$f":"'2011 Base Data'!H244","v":3.35},{"$f":"'2011 Base Data'!I244","v":12.81},null,null,{"$f":"'2011 Base Data'!J244","v":20.059999999999999},null,null,{"$f":"'2011 Base Data'!K244","v":0.91},{"$f":"'2011 Base Data'!R244","v":18.93},null,null,{"$f":"ROUND(IF(S244<>0,R244*D244+S244*SUM(B244:C244)+T244*E244,R244*SUM(B244:D244)+T244*E244),2)","v":18.920000000000002},{"$f":"L244-O244","v":9.9999999999980105E-3},null,{"$f":"'2011 Base Data'!K244","v":0.91},{"$f":"'2011 Base Data'!L244","v":0.95},{"$f":"'2011 Base Data'!M244","v":0.95},{"$f":"\"E\"&U243&\":\"&\"E\"&V243","v":"E244:E244"},{"$f":"\"H\"&U243&\":\"&\"H\"&V243","v":"H244:H244"},{"$f":"\"L\"&U243&\":\"&\"L\"&V243","v":"L244:L244"},null,"<TR VALIGN=BOTTOM>",{"$f":"\"<TD NOWRAP ALIGN=LEFT><FONT FACE=\"\"Times New Roman\"\" SIZE=-1 COLOR=#00AA00\"\">\"&A244&\"</FONT></TD>\"","v":"<TD NOWRAP ALIGN=LEFT><FONT FACE=\"Times New Roman\" SIZE=-1 COLOR=#00AA00\">Stillwater CSD</FONT></TD>"},"<TD NOWRAP ALIGN=RIGHT><FONT FACE=\"Times New Roman\" SIZE=-1>$2.46</FONT></TD>","<TD NOWRAP ALIGN=RIGHT><FONT FACE=\"Times New Roman\" SIZE=-1>$1.44</FONT></TD>","<TD NOWRAP ALIGN=RIGHT><FONT FACE=\"Times New Roman\" SIZE=-1>$3.35</FONT></TD>","<TD NOWRAP ALIGN=CENTER><FONT FACE=\"Times New Roman\" SIZE=-1>$12.81</FONT></TD>","<TD NOWRAP ALIGN=CENTER><FONT FACE=\"Times New Roman\" SIZE=-1>$20.06</FONT></TD>","<TD NOWRAP ALIGN=CENTER><FONT FACE=\"Times New Roman\" SIZE=-1>0.9100</FONT></TD>","<TD NOWRAP ALIGN=CENTER><FONT FACE=\"Times New Roman\" SIZE=-1>$18.93</FONT></TD>","</TR>"]
["Town of Waterford",{"$f":"B246","v":7.04},{"$f":"C246","v":11.29},null,{"$f":"MIN(INDIRECT(U246))","v":48.62},{"$f":"IF(G245<>0,\"to\",\"\")","v":"to"},{"$f":"IF(U245<>V245,MAX(INDIRECT(U246)),0)","v":63.63},{"$f":"MIN(INDIRECT(V246))","v":66.95},{"$f":"IF(J245<>0,\"to\",\"\")","v":"to"},{"$f":"IF(U245<>V245,MAX(INDIRECT(V246)),0)","v":81.96},{"$f":"K246","v":0.34},{"$f":"MIN(INDIRECT(W246))","v":22.76},{"$f":"IF(N245<>0,\"to\",\"\")","v":"to"},{"$f":"IF(U245<>V245,MAX(INDIRECT(W246)),0)","v":27.86},null,null,null,null,null,null,{"$f":"CELL(\"row\",P246)","v":246},{"$f":"CELL(\"row\",P247)","v":247},null,null,"<TR VALIGN=BOTTOM BGCOLOR=\"#FFFFCC\">",{"$f":"\"<TH NOWRAP ALIGN=LEFT><FONT FACE=\"\"Times New Roman\"\" SIZE=-1>\"&A245&\"</FONT></TH>\"","v":"<TH NOWRAP ALIGN=LEFT><FONT FACE=\"Times New Roman\" SIZE=-1>Town of Waterford</FONT></TH>"},"<TD NOWRAP ALIGN=RIGHT><FONT FACE=\"Times New Roman\" SIZE=-1>$7.04</FONT></TD>","<TD NOWRAP ALIGN=RIGHT><FONT FACE=\"Times New Roman\" SIZE=-1>$11.29</FONT></TD>","<TD NOWRAP ALIGN=RIGHT><FONT FACE=\"Times New Roman\" SIZE=-1><BR></FONT></TD>","<TD NOWRAP ALIGN=CENTER><FONT FACE=\"Times New Roman\" SIZE=-1>$48.62 to $63.63</FONT></TD>","<TD NOWRAP ALIGN=CENTER><FONT FACE=\"Times New Roman\" SIZE=-1>$66.95 to $81.96</FONT></TD>","<TD NOWRAP ALIGN=CENTER><FONT FACE=\"Times New Roman\" SIZE=-1>0.3400</FONT></TD>","<TD NOWRAP ALIGN=CENTER><FONT FACE=\"Times New Roman\" SIZE=-1>$22.76 to $27.86</FONT></TD>","</TR>"]
["Shenendehowa CSD",{"$f":"'2011 Base Data'!F246","v":7.04},{"$f":"'2011 Base Data'!G246","v":11.29},null,{"$f":"'2011 Base Data'!I246","v":48.62},null,null,{"$f":"'2011 Base Data'!J246","v":66.95},null,null,{"$f":"'2011 Base Data'!K246","v":0.34},{"$f":"'2011 Base Data'!R246","v":22.76},null,null,{"$f":"ROUND(IF(S246<>0,R246*D246+S246*SUM(B246:C246)+T246*E246,R246*SUM(B246:D246)+T246*E246),2)","v":22.76},{"$f":"L246-O246","v":0},null,{"$f":"'2011 Base Data'!K246","v":0.34},{"$f":"'2011 Base Data'!L246","v":0},{"$f":"'2011 Base Data'!M246","v":0.34},{"$f":"\"E\"&U245&\":\"&\"E\"&V245","v":"E246:E247"},{"$f":"\"H\"&U245&\":\"&\"H\"&V245","v":"H246:H247"},{"$f":"\"L\"&U245&\":\"&\"L\"&V245","v":"L246:L247"},null,"<TR VALIGN=BOTTOM>",{"$f":"\"<TD NOWRAP ALIGN=LEFT><FONT FACE=\"\"Times New Roman\"\" SIZE=-1 COLOR=#00AA00\"\">\"&A246&\"</FONT></TD>\"","v":"<TD NOWRAP ALIGN=LEFT><FONT FACE=\"Times New Roman\" SIZE=-1 COLOR=#00AA00\">Shenendehowa CSD</FONT></TD>"},"<TD NOWRAP ALIGN=RIGHT><FONT FACE=\"Times New Roman\" SIZE=-1>$7.04</FONT></TD>","<TD NOWRAP ALIGN=RIGHT><FONT FACE=\"Times New Roman\" SIZE=-1>$11.29</FONT></TD>","<TD NOWRAP ALIGN=RIGHT><FONT FACE=\"Times New Roman\" SIZE=-1><BR></FONT></TD>","<TD NOWRAP ALIGN=CENTER><FONT FACE=\"Times New Roman\" SIZE=-1>$48.62</FONT></TD>","<TD NOWRAP ALIGN=CENTER><FONT FACE=\"Times New Roman\" SIZE=-1>$66.95</FONT></TD>","<TD NOWRAP ALIGN=CENTER><FONT FACE=\"Times New Roman\" SIZE=-1>0.3400</FONT></TD>","<TD NOWRAP ALIGN=CENTER><FONT FACE=\"Times New Roman\" SIZE=-1>$22.76</FONT></TD>","</TR>"]
["Waterford-Halfmoon UFSD",{"$f":"'2011 Base Data'!F247","v":7.04},{"$f":"'2011 Base Data'!G247","v":11.29},null,{"$f":"'2011 Base Data'!I247","v":63.63},null,null,{"$f":"'2011 Base Data'!J247","v":81.96},null,null,{"$f":"'2011 Base Data'!K247","v":0.34},{"$f":"'2011 Base Data'!R247","v":27.86},null,null,{"$f":"ROUND(IF(S247<>0,R247*D247+S247*SUM(B247:C247)+T247*E247,R247*SUM(B247:D247)+T247*E247),2)","v":27.87},{"$f":"L247-O247","v":-1.0000000000001563E-2},null,{"$f":"'2011 Base Data'!K247","v":0.34},{"$f":"'2011 Base Data'!L247","v":0},{"$f":"'2011 Base Data'!M247","v":0.34},null,null,null,null,"<TR VALIGN=BOTTOM>",{"$f":"\"<TD NOWRAP ALIGN=LEFT><FONT FACE=\"\"Times New Roman\"\" SIZE=-1 COLOR=#00AA00\"\">\"&A247&\"</FONT></TD>\"","v":"<TD NOWRAP ALIGN=LEFT><FONT FACE=\"Times New Roman\" SIZE=-1 COLOR=#00AA00\">Waterford-Halfmoon UFSD</FONT></TD>"},"<TD NOWRAP ALIGN=RIGHT><FONT FACE=\"Times New Roman\" SIZE=-1>$7.04</FONT></TD>","<TD NOWRAP ALIGN=RIGHT><FONT FACE=\"Times New Roman\" SIZE=-1>$11.29</FONT></TD>","<TD NOWRAP ALIGN=RIGHT><FONT FACE=\"Times New Roman\" SIZE=-1><BR></FONT></TD>","<TD NOWRAP ALIGN=CENTER><FONT FACE=\"Times New Roman\" SIZE=-1>$63.63</FONT></TD>","<TD NOWRAP ALIGN=CENTER><FONT FACE=\"Times New Roman\" SIZE=-1>$81.96</FONT></TD>","<TD NOWRAP ALIGN=CENTER><FONT FACE=\"Times New Roman\" SIZE=-1>0.3400</FONT></TD>","<TD NOWRAP ALIGN=CENTER><FONT FACE=\"Times New Roman\" SIZE=-1>$27.86</FONT></TD>","</TR>"]
["Village of Waterford",{"$f":"B249","v":7.04},{"$f":"C249","v":11.29},{"$f":"D249","v":138.99},{"$f":"MIN(INDIRECT(U249))","v":63.63},{"$f":"IF(G248<>0,\"to\",\"\")","v":""},{"$f":"IF(U248<>V248,MAX(INDIRECT(U249)),0)","v":0},{"$f":"MIN(INDIRECT(V249))","v":220.95},{"$f":"IF(J248<>0,\"to\",\"\")","v":""},{"$f":"IF(U248<>V248,MAX(INDIRECT(V249)),0)","v":0},{"$f":"K249","v":2.98E-2},{"$f":"MIN(INDIRECT(W249))","v":32},{"$f":"IF(N248<>0,\"to\",\"\")","v":""},{"$f":"IF(U248<>V248,MAX(INDIRECT(W249)),0)","v":0},null,null,null,null,null,null,{"$f":"CELL(\"row\",P249)","v":249},{"$f":"CELL(\"row\",P249)","v":249},null,null,"<TR VALIGN=BOTTOM BGCOLOR=\"#FFFFCC\">",{"$f":"\"<TH NOWRAP ALIGN=LEFT><FONT FACE=\"\"Times New Roman\"\" SIZE=-1 COLOR=\"\"#0000CC\"\">\"&A248&\"</FONT></TH>\"","v":"<TH NOWRAP ALIGN=LEFT><FONT FACE=\"Times New Roman\" SIZE=-1 COLOR=\"#0000CC\">Village of Waterford</FONT></TH>"},"<TD NOWRAP ALIGN=RIGHT><FONT FACE=\"Times New Roman\" SIZE=-1>$7.04</FONT></TD>","<TD NOWRAP ALIGN=RIGHT><FONT FACE=\"Times New Roman\" SIZE=-1>$11.29</FONT></TD>","<TD NOWRAP ALIGN=RIGHT><FONT FACE=\"Times New Roman\" SIZE=-1>$138.99</FONT></TD>","<TD NOWRAP ALIGN=CENTER><FONT FACE=\"Times New Roman\" SIZE=-1>$63.63</FONT></TD>","<TD NOWRAP ALIGN=CENTER><FONT FACE=\"Times New Roman\" SIZE=-1>$220.95</FONT></TD>","<TD NOWRAP ALIGN=CENTER><FONT FACE=\"Times New Roman\" SIZE=-1>0.0298</FONT></TD>","<TD NOWRAP ALIGN=CENTER><FONT FACE=\"Times New Roman\" SIZE=-1>$32.00</FONT></TD>","</TR>"]
["Waterford-Halfmoon UFSD",{"$f":"'2011 Base Data'!F249","v":7.04},{"$f":"'2011 Base Data'!G249","v":11.29},{"$f":"'2011 Base Data'!H249","v":138.99},{"$f":"'2011 Base Data'!I249","v":63.63},null,null,{"$f":"'2011 Base Data'!J249","v":220.95},null,null,{"$f":"'2011 Base Data'!K249","v":2.98E-2},{"$f":"'2011 Base Data'!R249","v":32},null,null,{"$f":"ROUND(IF(S249<>0,R249*D249+S249*SUM(B249:C249)+T249*E249,R249*SUM(B249:D249)+T249*E249),2)","v":32.01},{"$f":"L249-O249","v":-9.9999999999980105E-3},null,{"$f":"'2011 Base Data'!K249","v":2.98E-2},{"$f":"'2011 Base Data'!L249","v":0.34},{"$f":"'2011 Base Data'!M249","v":0.34},{"$f":"\"E\"&U248&\":\"&\"E\"&V248","v":"E249:E249"},{"$f":"\"H\"&U248&\":\"&\"H\"&V248","v":"H249:H249"},{"$f":"\"L\"&U248&\":\"&\"L\"&V248","v":"L249:L249"},null,"<TR VALIGN=BOTTOM>",{"$f":"\"<TD NOWRAP ALIGN=LEFT><FONT FACE=\"\"Times New Roman\"\" SIZE=-1 COLOR=#00AA00\"\">\"&A249&\"</FONT></TD>\"","v":"<TD NOWRAP ALIGN=LEFT><FONT FACE=\"Times New Roman\" SIZE=-1 COLOR=#00AA00\">Waterford-Halfmoon UFSD</FONT></TD>"},"<TD NOWRAP ALIGN=RIGHT><FONT FACE=\"Times New Roman\" SIZE=-1>$7.04</FONT></TD>","<TD NOWRAP ALIGN=RIGHT><FONT FACE=\"Times New Roman\" SIZE=-1>$11.29</FONT></TD>","<TD NOWRAP ALIGN=RIGHT><FONT FACE=\"Times New Roman\" SIZE=-1>$138.99</FONT></TD>","<TD NOWRAP ALIGN=CENTER><FONT FACE=\"Times New Roman\" SIZE=-1>$63.63</FONT></TD>","<TD NOWRAP ALIGN=CENTER><FONT FACE=\"Times New Roman\" SIZE=-1>$220.95</FONT></TD>","<TD NOWRAP ALIGN=CENTER><FONT FACE=\"Times New Roman\" SIZE=-1>0.0298</FONT></TD>","<TD NOWRAP ALIGN=CENTER><FONT FACE=\"Times New Roman\" SIZE=-1>$32.00</FONT></TD>","</TR>"]
["Town of Wilton",{"$f":"B251","v":2.2599999999999998},null,null,{"$f":"MIN(INDIRECT(U251))","v":11.15},{"$f":"IF(G250<>0,\"to\",\"\")","v":"to"},{"$f":"IF(U250<>V250,MAX(INDIRECT(U251)),0)","v":19.22},{"$f":"MIN(INDIRECT(V251))","v":13.41},{"$f":"IF(J250<>0,\"to\",\"\")","v":"to"},{"$f":"IF(U250<>V250,MAX(INDIRECT(V251)),0)","v":21.48},{"$f":"K251","v":1},{"$f":"MIN(INDIRECT(W251))","v":13.41},{"$f":"IF(N250<>0,\"to\",\"\")","v":"to"},{"$f":"IF(U250<>V250,MAX(INDIRECT(W251)),0)","v":21.48},null,null,null,null,null,null,{"$f":"CELL(\"row\",P251)","v":251},{"$f":"CELL(\"row\",P254)","v":254},null,null,"<TR VALIGN=BOTTOM BGCOLOR=\"#FFFFCC\">",{"$f":"\"<TH NOWRAP ALIGN=LEFT><FONT FACE=\"\"Times New Roman\"\" SIZE=-1>\"&A250&\"</FONT></TH>\"","v":"<TH NOWRAP ALIGN=LEFT><FONT FACE=\"Times New Roman\" SIZE=-1>Town of Wilton</FONT></TH>"},"<TD NOWRAP ALIGN=RIGHT><FONT FACE=\"Times New Roman\" SIZE=-1>$2.26</FONT></TD>","<TD NOWRAP ALIGN=RIGHT><FONT FACE=\"Times New Roman\" SIZE=-1><BR></FONT></TD>","<TD NOWRAP ALIGN=RIGHT><FONT FACE=\"Times New Roman\" SIZE=-1><BR></FONT></TD>","<TD NOWRAP ALIGN=CENTER><FONT FACE=\"Times New Roman\" SIZE=-1>$11.15 to $19.22</FONT></TD>","<TD NOWRAP ALIGN=CENTER><FONT FACE=\"Times New Roman\" SIZE=-1>$13.41 to $21.48</FONT></TD>","<TD NOWRAP ALIGN=CENTER><FONT FACE=\"Times New Roman\" SIZE=-1>1.0000</FONT></TD>","<TD NOWRAP ALIGN=CENTER><FONT FACE=\"Times New Roman\" SIZE=-1>$13.41 to $21.48</FONT></TD>","</TR>"]
["Corinth CSD",{"$f":"'2011 Base Data'!F251","v":2.2599999999999998},null,null,{"$f":"'2011 Base Data'!I251","v":11.15},null,null,{"$f":"'2011 Base Data'!J251","v":13.41},null,null,{"$f":"'2011 Base Data'!K251","v":1},{"$f":"'2011 Base Data'!R251","v":13.41},null,null,{"$f":"ROUND(IF(S251<>0,R251*D251+S251*SUM(B251:C251)+T251*E251,R251*SUM(B251:D251)+T251*E251),2)","v":13.41},{"$f":"L251-O251","v":0},null,{"$f":"'2011 Base Data'!K251","v":1},{"$f":"'2011 Base Data'!L251","v":0},{"$f":"'2011 Base Data'!M251","v":1},{"$f":"\"E\"&U250&\":\"&\"E\"&V250","v":"E251:E254"},{"$f":"\"H\"&U250&\":\"&\"H\"&V250","v":"H251:H254"},{"$f":"\"L\"&U250&\":\"&\"L\"&V250","v":"L251:L254"},null,"<TR VALIGN=BOTTOM>",{"$f":"\"<TD NOWRAP ALIGN=LEFT><FONT FACE=\"\"Times New Roman\"\" SIZE=-1 COLOR=#00AA00\"\">\"&A251&\"</FONT></TD>\"","v":"<TD NOWRAP ALIGN=LEFT><FONT FACE=\"Times New Roman\" SIZE=-1 COLOR=#00AA00\">Corinth CSD</FONT></TD>"},"<TD NOWRAP ALIGN=RIGHT><FONT FACE=\"Times New Roman\" SIZE=-1>$2.26</FONT></TD>","<TD NOWRAP ALIGN=RIGHT><FONT FACE=\"Times New Roman\" SIZE=-1><BR></FONT></TD>","<TD NOWRAP ALIGN=RIGHT><FONT FACE=\"Times New Roman\" SIZE=-1><BR></FONT></TD>","<TD NOWRAP ALIGN=CENTER><FONT FACE=\"Times New Roman\" SIZE=-1>$11.15</FONT></TD>","<TD NOWRAP ALIGN=CENTER><FONT FACE=\"Times New Roman\" SIZE=-1>$13.41</FONT></TD>","<TD NOWRAP ALIGN=CENTER><FONT FACE=\"Times New Roman\" SIZE=-1>1.0000</FONT></TD>","<TD NOWRAP ALIGN=CENTER><FONT FACE=\"Times New Roman\" SIZE=-1>$13.41</FONT></TD>","</TR>"]
["Saratoga Springs City SD",{"$f":"'2011 Base Data'!F252","v":2.2599999999999998},null,null,{"$f":"'2011 Base Data'!I252","v":12.11},null,null,{"$f":"'2011 Base Data'!J252","v":14.37},null,null,{"$f":"'2011 Base Data'!K252","v":1},{"$f":"'2011 Base Data'!R252","v":14.37},null,null,{"$f":"ROUND(IF(S252<>0,R252*D252+S252*SUM(B252:C252)+T252*E252,R252*SUM(B252:D252)+T252*E252),2)","v":14.37},{"$f":"L252-O252","v":0},null,{"$f":"'2011 Base Data'!K252","v":1},{"$f":"'2011 Base Data'!L252","v":0},{"$f":"'2011 Base Data'!M252","v":1},null,null,null,null,"<TR VALIGN=BOTTOM>",{"$f":"\"<TD NOWRAP ALIGN=LEFT><FONT FACE=\"\"Times New Roman\"\" SIZE=-1 COLOR=#00AA00\"\">\"&A252&\"</FONT></TD>\"","v":"<TD NOWRAP ALIGN=LEFT><FONT FACE=\"Times New Roman\" SIZE=-1 COLOR=#00AA00\">Saratoga Springs City SD</FONT></TD>"},"<TD NOWRAP ALIGN=RIGHT><FONT FACE=\"Times New Roman\" SIZE=-1>$2.26</FONT></TD>","<TD NOWRAP ALIGN=RIGHT><FONT FACE=\"Times New Roman\" SIZE=-1><BR></FONT></TD>","<TD NOWRAP ALIGN=RIGHT><FONT FACE=\"Times New Roman\" SIZE=-1><BR></FONT></TD>","<TD NOWRAP ALIGN=CENTER><FONT FACE=\"Times New Roman\" SIZE=-1>$12.11</FONT></TD>","<TD NOWRAP ALIGN=CENTER><FONT FACE=\"Times New Roman\" SIZE=-1>$14.37</FONT></TD>","<TD NOWRAP ALIGN=CENTER><FONT FACE=\"Times New Roman\" SIZE=-1>1.0000</FONT></TD>","<TD NOWRAP ALIGN=CENTER><FONT FACE=\"Times New Roman\" SIZE=-1>$14.37</FONT></TD>","</TR>"]
["Schuylerville CSD",{"$f":"'2011 Base Data'!F253","v":2.2599999999999998},null,null,{"$f":"'2011 Base Data'!I253","v":19.22},null,null,{"$f":"'2011 Base Data'!J253","v":21.48},null,null,{"$f":"'2011 Base Data'!K253","v":1},{"$f":"'2011 Base Data'!R253","v":21.48},null,null,{"$f":"ROUND(IF(S253<>0,R253*D253+S253*SUM(B253:C253)+T253*E253,R253*SUM(B253:D253)+T253*E253),2)","v":21.48},{"$f":"L253-O253","v":0},null,{"$f":"'2011 Base Data'!K253","v":1},{"$f":"'2011 Base Data'!L253","v":0},{"$f":"'2011 Base Data'!M253","v":1},null,null,null,null,"<TR VALIGN=BOTTOM>",{"$f":"\"<TD NOWRAP ALIGN=LEFT><FONT FACE=\"\"Times New Roman\"\" SIZE=-1 COLOR=#00AA00\"\">\"&A253&\"</FONT></TD>\"","v":"<TD NOWRAP ALIGN=LEFT><FONT FACE=\"Times New Roman\" SIZE=-1 COLOR=#00AA00\">Schuylerville CSD</FONT></TD>"},"<TD NOWRAP ALIGN=RIGHT><FONT FACE=\"Times New Roman\" SIZE=-1>$2.26</FONT></TD>","<TD NOWRAP ALIGN=RIGHT><FONT FACE=\"Times New Roman\" SIZE=-1><BR></FONT></TD>","<TD NOWRAP ALIGN=RIGHT><FONT FACE=\"Times New Roman\" SIZE=-1><BR></FONT></TD>","<TD NOWRAP ALIGN=CENTER><FONT FACE=\"Times New Roman\" SIZE=-1>$19.22</FONT></TD>","<TD NOWRAP ALIGN=CENTER><FONT FACE=\"Times New Roman\" SIZE=-1>$21.48</FONT></TD>","<TD NOWRAP ALIGN=CENTER><FONT FACE=\"Times New Roman\" SIZE=-1>1.0000</FONT></TD>","<TD NOWRAP ALIGN=CENTER><FONT FACE=\"Times New Roman\" SIZE=-1>$21.48</FONT></TD>","</TR>"]
["South Glens Falls CSD",{"$f":"'2011 Base Data'!F254","v":2.2599999999999998},null,null,{"$f":"'2011 Base Data'!I254","v":13.93},null,null,{"$f":"'2011 Base Data'!J254","v":16.190000000000001},null,null,{"$f":"'2011 Base Data'!K254","v":1},{"$f":"'2011 Base Data'!R254","v":16.190000000000001},null,null,{"$f":"ROUND(IF(S254<>0,R254*D254+S254*SUM(B254:C254)+T254*E254,R254*SUM(B254:D254)+T254*E254),2)","v":16.190000000000001},{"$f":"L254-O254","v":0},null,{"$f":"'2011 Base Data'!K254","v":1},{"$f":"'2011 Base Data'!L254","v":0},{"$f":"'2011 Base Data'!M254","v":1},null,null,null,null,"<TR VALIGN=BOTTOM>",{"$f":"\"<TD NOWRAP ALIGN=LEFT><FONT FACE=\"\"Times New Roman\"\" SIZE=-1 COLOR=#00AA00\"\">\"&A254&\"</FONT></TD>\"","v":"<TD NOWRAP ALIGN=LEFT><FONT FACE=\"Times New Roman\" SIZE=-1 COLOR=#00AA00\">South Glens Falls CSD</FONT></TD>"},"<TD NOWRAP ALIGN=RIGHT><FONT FACE=\"Times New Roman\" SIZE=-1>$2.26</FONT></TD>","<TD NOWRAP ALIGN=RIGHT><FONT FACE=\"Times New Roman\" SIZE=-1><BR></FONT></TD>","<TD NOWRAP ALIGN=RIGHT><FONT FACE=\"Times New Roman\" SIZE=-1><BR></FONT></TD>","<TD NOWRAP ALIGN=CENTER><FONT FACE=\"Times New Roman\" SIZE=-1>$13.93</FONT></TD>","<TD NOWRAP ALIGN=CENTER><FONT FACE=\"Times New Roman\" SIZE=-1>$16.19</FONT></TD>","<TD NOWRAP ALIGN=CENTER><FONT FACE=\"Times New Roman\" SIZE=-1>1.0000</FONT></TD>","<TD NOWRAP ALIGN=CENTER><FONT FACE=\"Times New Roman\" SIZE=-1>$16.19</FONT></TD>","</TR>"]
["Schenectady County",null,null,null,{"$f":"MIN(E256:E281)","v":13.32},{"$f":"IF(G255<>0,\"to\",\"\")","v":"to"},{"$f":"MAX(E256:G281)","v":63.41},{"$f":"MIN(H256:H281)","v":23.53},{"$f":"IF(J255<>0,\"to\",\"\")","v":"to"},{"$f":"MAX(H256:J281)","v":89.39},null,{"$f":"MIN(L256:L281)","v":21.41},{"$f":"IF(N255<>0,\"to\",\"\")","v":"to"},{"$f":"MAX(L256:N281)","v":40.75},null,null,null,null,null,null,null,null,null,null,"<TR VALIGN=BOTTOM BGCOLOR=\"#CCCCFF\">",{"$f":"\"<TH NOWRAP ALIGN=LEFT><FONT FACE=\"\"Times New Roman\"\" COLOR=\"\"#AA00AA\"\">\"&A255&\"</FONT></TH>\"","v":"<TH NOWRAP ALIGN=LEFT><FONT FACE=\"Times New Roman\" COLOR=\"#AA00AA\">Schenectady County</FONT></TH>"},"<TD NOWRAP ALIGN=RIGHT><FONT FACE=\"Times New Roman\" SIZE=-1><BR></FONT></TD>","<TD NOWRAP ALIGN=RIGHT><FONT FACE=\"Times New Roman\" SIZE=-1><BR></FONT></TD>","<TD NOWRAP ALIGN=RIGHT><FONT FACE=\"Times New Roman\" SIZE=-1><BR></FONT></TD>","<TD NOWRAP ALIGN=CENTER><FONT FACE=\"Times New Roman\" SIZE=-1>$13.32 to $63.41</FONT></TD>","<TD NOWRAP ALIGN=CENTER><FONT FACE=\"Times New Roman\" SIZE=-1>$23.53 to $89.39</FONT></TD>","<TD NOWRAP ALIGN=CENTER><FONT FACE=\"Times New Roman\" SIZE=-1><BR></FONT></TD>","<TD NOWRAP ALIGN=CENTER><FONT FACE=\"Times New Roman\" SIZE=-1>$21.41 to $40.75</FONT></TD>","</TR>"]
["Town of Duanesburg",{"$f":"B257","v":19.760000000000002},{"$f":"C257","v":4.0599999999999996},null,{"$f":"MIN(INDIRECT(U257))","v":54},{"$f":"IF(G256<>0,\"to\",\"\")","v":"to"},{"$f":"IF(U256<>V256,MAX(INDIRECT(U257)),0)","v":63.41},{"$f":"MIN(INDIRECT(V257))","v":77.819999999999993},{"$f":"IF(J256<>0,\"to\",\"\")","v":"to"},{"$f":"IF(U256<>V256,MAX(INDIRECT(V257)),0)","v":87.23},{"$f":"K257","v":0.3145},{"$f":"MIN(INDIRECT(W257))","v":24.36},{"$f":"IF(N256<>0,\"to\",\"\")","v":"to"},{"$f":"IF(U256<>V256,MAX(INDIRECT(W257)),0)","v":26.69},null,null,null,null,null,null,{"$f":"CELL(\"row\",P257)","v":257},{"$f":"CELL(\"row\",P260)","v":260},null,null,"<TR VALIGN=BOTTOM BGCOLOR=\"#FFFFCC\">",{"$f":"\"<TH NOWRAP ALIGN=LEFT><FONT FACE=\"\"Times New Roman\"\" SIZE=-1>\"&A256&\"</FONT></TH>\"","v":"<TH NOWRAP ALIGN=LEFT><FONT FACE=\"Times New Roman\" SIZE=-1>Town of Duanesburg</FONT></TH>"},"<TD NOWRAP ALIGN=RIGHT><FONT FACE=\"Times New Roman\" SIZE=-1>$19.76</FONT></TD>","<TD NOWRAP ALIGN=RIGHT><FONT FACE=\"Times New Roman\" SIZE=-1>$4.06</FONT></TD>","<TD NOWRAP ALIGN=RIGHT><FONT FACE=\"Times New Roman\" SIZE=-1><BR></FONT></TD>","<TD NOWRAP ALIGN=CENTER><FONT FACE=\"Times New Roman\" SIZE=-1>$54.00 to $63.41</FONT></TD>","<TD NOWRAP ALIGN=CENTER><FONT FACE=\"Times New Roman\" SIZE=-1>$77.82 to $87.23</FONT></TD>","<TD NOWRAP ALIGN=CENTER><FONT FACE=\"Times New Roman\" SIZE=-1>0.3145</FONT></TD>","<TD NOWRAP ALIGN=CENTER><FONT FACE=\"Times New Roman\" SIZE=-1>$24.36 to $26.69</FONT></TD>","</TR>"]
["Amsterdam City SD",{"$f":"'2011 Base Data'!F257","v":19.760000000000002},{"$f":"'2011 Base Data'!G257","v":4.0599999999999996},null,{"$f":"'2011 Base Data'!I257","v":63.41},null,null,{"$f":"'2011 Base Data'!J257","v":87.23},null,null,{"$f":"'2011 Base Data'!K257","v":0.3145},{"$f":"'2011 Base Data'!R257","v":24.36},null,null,{"$f":"ROUND(IF(S257<>0,R257*D257+S257*SUM(B257:C257)+T257*E257,R257*SUM(B257:D257)+T257*E257),2)","v":24.36},{"$f":"L257-O257","v":0},null,{"$f":"'2011 Base Data'!K257","v":0.3145},{"$f":"'2011 Base Data'!L257","v":0},{"$f":"'2011 Base Data'!M257","v":0.2661},{"$f":"\"E\"&U256&\":\"&\"E\"&V256","v":"E257:E260"},{"$f":"\"H\"&U256&\":\"&\"H\"&V256","v":"H257:H260"},{"$f":"\"L\"&U256&\":\"&\"L\"&V256","v":"L257:L260"},null,"<TR VALIGN=BOTTOM>",{"$f":"\"<TD NOWRAP ALIGN=LEFT><FONT FACE=\"\"Times New Roman\"\" SIZE=-1 COLOR=#00AA00\"\">\"&A257&\"</FONT></TD>\"","v":"<TD NOWRAP ALIGN=LEFT><FONT FACE=\"Times New Roman\" SIZE=-1 COLOR=#00AA00\">Amsterdam City SD</FONT></TD>"},"<TD NOWRAP ALIGN=RIGHT><FONT FACE=\"Times New Roman\" SIZE=-1>$19.76</FONT></TD>","<TD NOWRAP ALIGN=RIGHT><FONT FACE=\"Times New Roman\" SIZE=-1>$4.06</FONT></TD>","<TD NOWRAP ALIGN=RIGHT><FONT FACE=\"Times New Roman\" SIZE=-1><BR></FONT></TD>","<TD NOWRAP ALIGN=CENTER><FONT FACE=\"Times New Roman\" SIZE=-1>$63.41</FONT></TD>","<TD NOWRAP ALIGN=CENTER><FONT FACE=\"Times New Roman\" SIZE=-1>$87.23</FONT></TD>","<TD NOWRAP ALIGN=CENTER><FONT FACE=\"Times New Roman\" SIZE=-1>0.3145</FONT></TD>","<TD NOWRAP ALIGN=CENTER><FONT FACE=\"Times New Roman\" SIZE=-1>$24.36</FONT></TD>","</TR>"]
["Duanesburg CSD",{"$f":"'2011 Base Data'!F258","v":19.760000000000002},{"$f":"'2011 Base Data'!G258","v":4.0599999999999996},null,{"$f":"'2011 Base Data'!I258","v":54},null,null,{"$f":"'2011 Base Data'!J258","v":77.819999999999993},null,null,{"$f":"'2011 Base Data'!K258","v":0.3145},{"$f":"'2011 Base Data'!R258","v":24.47},null,null,{"$f":"ROUND(IF(S258<>0,R258*D258+S258*SUM(B258:C258)+T258*E258,R258*SUM(B258:D258)+T258*E258),2)","v":24.47},{"$f":"L258-O258","v":0},null,{"$f":"'2011 Base Data'!K258","v":0.3145},{"$f":"'2011 Base Data'!L258","v":0},{"$f":"'2011 Base Data'!M258","v":0.3145},null,null,null,null,"<TR VALIGN=BOTTOM>",{"$f":"\"<TD NOWRAP ALIGN=LEFT><FONT FACE=\"\"Times New Roman\"\" SIZE=-1 COLOR=#00AA00\"\">\"&A258&\"</FONT></TD>\"","v":"<TD NOWRAP ALIGN=LEFT><FONT FACE=\"Times New Roman\" SIZE=-1 COLOR=#00AA00\">Duanesburg CSD</FONT></TD>"},"<TD NOWRAP ALIGN=RIGHT><FONT FACE=\"Times New Roman\" SIZE=-1>$19.76</FONT></TD>","<TD NOWRAP ALIGN=RIGHT><FONT FACE=\"Times New Roman\" SIZE=-1>$4.06</FONT></TD>","<TD NOWRAP ALIGN=RIGHT><FONT FACE=\"Times New Roman\" SIZE=-1><BR></FONT></TD>","<TD NOWRAP ALIGN=CENTER><FONT FACE=\"Times New Roman\" SIZE=-1>$54.00</FONT></TD>","<TD NOWRAP ALIGN=CENTER><FONT FACE=\"Times New Roman\" SIZE=-1>$77.82</FONT></TD>","<TD NOWRAP ALIGN=CENTER><FONT FACE=\"Times New Roman\" SIZE=-1>0.3145</FONT></TD>","<TD NOWRAP ALIGN=CENTER><FONT FACE=\"Times New Roman\" SIZE=-1>$24.47</FONT></TD>","</TR>"]
["Schalmont CSD",{"$f":"'2011 Base Data'!F259","v":19.760000000000002},{"$f":"'2011 Base Data'!G259","v":4.0599999999999996},null,{"$f":"'2011 Base Data'!I259","v":57.51},null,null,{"$f":"'2011 Base Data'!J259","v":81.33},null,null,{"$f":"'2011 Base Data'!K259","v":0.3145},{"$f":"'2011 Base Data'!R259","v":25.58},null,null,{"$f":"ROUND(IF(S259<>0,R259*D259+S259*SUM(B259:C259)+T259*E259,R259*SUM(B259:D259)+T259*E259),2)","v":25.58},{"$f":"L259-O259","v":0},null,{"$f":"'2011 Base Data'!K259","v":0.3145},{"$f":"'2011 Base Data'!L259","v":0},{"$f":"'2011 Base Data'!M259","v":0.3145},null,null,null,null,"<TR VALIGN=BOTTOM>",{"$f":"\"<TD NOWRAP ALIGN=LEFT><FONT FACE=\"\"Times New Roman\"\" SIZE=-1 COLOR=#00AA00\"\">\"&A259&\"</FONT></TD>\"","v":"<TD NOWRAP ALIGN=LEFT><FONT FACE=\"Times New Roman\" SIZE=-1 COLOR=#00AA00\">Schalmont CSD</FONT></TD>"},"<TD NOWRAP ALIGN=RIGHT><FONT FACE=\"Times New Roman\" SIZE=-1>$19.76</FONT></TD>","<TD NOWRAP ALIGN=RIGHT><FONT FACE=\"Times New Roman\" SIZE=-1>$4.06</FONT></TD>","<TD NOWRAP ALIGN=RIGHT><FONT FACE=\"Times New Roman\" SIZE=-1><BR></FONT></TD>","<TD NOWRAP ALIGN=CENTER><FONT FACE=\"Times New Roman\" SIZE=-1>$57.51</FONT></TD>","<TD NOWRAP ALIGN=CENTER><FONT FACE=\"Times New Roman\" SIZE=-1>$81.33</FONT></TD>","<TD NOWRAP ALIGN=CENTER><FONT FACE=\"Times New Roman\" SIZE=-1>0.3145</FONT></TD>","<TD NOWRAP ALIGN=CENTER><FONT FACE=\"Times New Roman\" SIZE=-1>$25.58</FONT></TD>","</TR>"]
["Schoharie CSD",{"$f":"'2011 Base Data'!F260","v":19.760000000000002},{"$f":"'2011 Base Data'!G260","v":4.0599999999999996},null,{"$f":"'2011 Base Data'!I260","v":61.05},null,null,{"$f":"'2011 Base Data'!J260","v":84.87},null,null,{"$f":"'2011 Base Data'!K260","v":0.3145},{"$f":"'2011 Base Data'!R260","v":26.69},null,null,{"$f":"ROUND(IF(S260<>0,R260*D260+S260*SUM(B260:C260)+T260*E260,R260*SUM(B260:D260)+T260*E260),2)","v":26.69},{"$f":"L260-O260","v":0},null,{"$f":"'2011 Base Data'!K260","v":0.3145},{"$f":"'2011 Base Data'!L260","v":0},{"$f":"'2011 Base Data'!M260","v":0.3145},null,null,null,null,"<TR VALIGN=BOTTOM>",{"$f":"\"<TD NOWRAP ALIGN=LEFT><FONT FACE=\"\"Times New Roman\"\" SIZE=-1 COLOR=#00AA00\"\">\"&A260&\"</FONT></TD>\"","v":"<TD NOWRAP ALIGN=LEFT><FONT FACE=\"Times New Roman\" SIZE=-1 COLOR=#00AA00\">Schoharie CSD</FONT></TD>"},"<TD NOWRAP ALIGN=RIGHT><FONT FACE=\"Times New Roman\" SIZE=-1>$19.76</FONT></TD>","<TD NOWRAP ALIGN=RIGHT><FONT FACE=\"Times New Roman\" SIZE=-1>$4.06</FONT></TD>","<TD NOWRAP ALIGN=RIGHT><FONT FACE=\"Times New Roman\" SIZE=-1><BR></FONT></TD>","<TD NOWRAP ALIGN=CENTER><FONT FACE=\"Times New Roman\" SIZE=-1>$61.05</FONT></TD>","<TD NOWRAP ALIGN=CENTER><FONT FACE=\"Times New Roman\" SIZE=-1>$84.87</FONT></TD>","<TD NOWRAP ALIGN=CENTER><FONT FACE=\"Times New Roman\" SIZE=-1>0.3145</FONT></TD>","<TD NOWRAP ALIGN=CENTER><FONT FACE=\"Times New Roman\" SIZE=-1>$26.69</FONT></TD>","</TR>"]
["Village of Delanson",{"$f":"B262","v":19.760000000000002},{"$f":"C262","v":4.0599999999999996},{"$f":"D262","v":11.57},{"$f":"MIN(INDIRECT(U262))","v":54},{"$f":"IF(G261<>0,\"to\",\"\")","v":""},{"$f":"IF(U261<>V261,MAX(INDIRECT(U262)),0)","v":0},{"$f":"MIN(INDIRECT(V262))","v":89.39},{"$f":"IF(J261<>0,\"to\",\"\")","v":""},{"$f":"IF(U261<>V261,MAX(INDIRECT(V262)),0)","v":0},{"$f":"K262","v":0.2661},{"$f":"MIN(INDIRECT(W262))","v":24.94},{"$f":"IF(N261<>0,\"to\",\"\")","v":""},{"$f":"IF(U261<>V261,MAX(INDIRECT(W262)),0)","v":0},null,null,null,null,null,null,{"$f":"CELL(\"row\",P262)","v":262},{"$f":"CELL(\"row\",P262)","v":262},null,null,"<TR VALIGN=BOTTOM BGCOLOR=\"#FFFFCC\">",{"$f":"\"<TH NOWRAP ALIGN=LEFT><FONT FACE=\"\"Times New Roman\"\" SIZE=-1 COLOR=\"\"#0000CC\"\">\"&A261&\"</FONT></TH>\"","v":"<TH NOWRAP ALIGN=LEFT><FONT FACE=\"Times New Roman\" SIZE=-1 COLOR=\"#0000CC\">Village of Delanson</FONT></TH>"},"<TD NOWRAP ALIGN=RIGHT><FONT FACE=\"Times New Roman\" SIZE=-1>$19.76</FONT></TD>","<TD NOWRAP ALIGN=RIGHT><FONT FACE=\"Times New Roman\" SIZE=-1>$4.06</FONT></TD>","<TD NOWRAP ALIGN=RIGHT><FONT FACE=\"Times New Roman\" SIZE=-1>$11.57</FONT></TD>","<TD NOWRAP ALIGN=CENTER><FONT FACE=\"Times New Roman\" SIZE=-1>$54.00</FONT></TD>","<TD NOWRAP ALIGN=CENTER><FONT FACE=\"Times New Roman\" SIZE=-1>$89.39</FONT></TD>","<TD NOWRAP ALIGN=CENTER><FONT FACE=\"Times New Roman\" SIZE=-1>0.2661</FONT></TD>","<TD NOWRAP ALIGN=CENTER><FONT FACE=\"Times New Roman\" SIZE=-1>$24.94</FONT></TD>","</TR>"]
["Duanesburg CSD",{"$f":"'2011 Base Data'!F262","v":19.760000000000002},{"$f":"'2011 Base Data'!G262","v":4.0599999999999996},{"$f":"'2011 Base Data'!H262","v":11.57},{"$f":"'2011 Base Data'!I262","v":54},null,null,{"$f":"'2011 Base Data'!J262","v":89.39},null,null,{"$f":"'2011 Base Data'!K262","v":0.2661},{"$f":"'2011 Base Data'!R262","v":24.94},null,null,{"$f":"ROUND(IF(S262<>0,R262*D262+S262*SUM(B262:C262)+T262*E262,R262*SUM(B262:D262)+T262*E262),2)","v":24.94},{"$f":"L262-O262","v":0},null,{"$f":"'2011 Base Data'!K262","v":0.2661},{"$f":"'2011 Base Data'!L262","v":0.3145},{"$f":"'2011 Base Data'!M262","v":0.2661},{"$f":"\"E\"&U261&\":\"&\"E\"&V261","v":"E262:E262"},{"$f":"\"H\"&U261&\":\"&\"H\"&V261","v":"H262:H262"},{"$f":"\"L\"&U261&\":\"&\"L\"&V261","v":"L262:L262"},null,"<TR VALIGN=BOTTOM>",{"$f":"\"<TD NOWRAP ALIGN=LEFT><FONT FACE=\"\"Times New Roman\"\" SIZE=-1 COLOR=#00AA00\"\">\"&A262&\"</FONT></TD>\"","v":"<TD NOWRAP ALIGN=LEFT><FONT FACE=\"Times New Roman\" SIZE=-1 COLOR=#00AA00\">Duanesburg CSD</FONT></TD>"},"<TD NOWRAP ALIGN=RIGHT><FONT FACE=\"Times New Roman\" SIZE=-1>$19.76</FONT></TD>","<TD NOWRAP ALIGN=RIGHT><FONT FACE=\"Times New Roman\" SIZE=-1>$4.06</FONT></TD>","<TD NOWRAP ALIGN=RIGHT><FONT FACE=\"Times New Roman\" SIZE=-1>$11.57</FONT></TD>","<TD NOWRAP ALIGN=CENTER><FONT FACE=\"Times New Roman\" SIZE=-1>$54.00</FONT></TD>","<TD NOWRAP ALIGN=CENTER><FONT FACE=\"Times New Roman\" SIZE=-1>$89.39</FONT></TD>","<TD NOWRAP ALIGN=CENTER><FONT FACE=\"Times New Roman\" SIZE=-1>0.2661</FONT></TD>","<TD NOWRAP ALIGN=CENTER><FONT FACE=\"Times New Roman\" SIZE=-1>$24.94</FONT></TD>","</TR>"]
["Town of Glenville",{"$f":"B264","v":6.85},{"$f":"C264","v":3.36},null,{"$f":"MIN(INDIRECT(U264))","v":13.32},{"$f":"IF(G263<>0,\"to\",\"\")","v":"to"},{"$f":"IF(U263<>V263,MAX(INDIRECT(U264)),0)","v":20.32},{"$f":"MIN(INDIRECT(V264))","v":23.53},{"$f":"IF(J263<>0,\"to\",\"\")","v":"to"},{"$f":"IF(U263<>V263,MAX(INDIRECT(V264)),0)","v":30.53},{"$f":"K264","v":0.91},{"$f":"MIN(INDIRECT(W264))","v":21.41},{"$f":"IF(N263<>0,\"to\",\"\")","v":"to"},{"$f":"IF(U263<>V263,MAX(INDIRECT(W264)),0)","v":27.78},null,null,null,null,null,null,{"$f":"CELL(\"row\",P264)","v":264},{"$f":"CELL(\"row\",P268)","v":268},null,null,"<TR VALIGN=BOTTOM BGCOLOR=\"#FFFFCC\">",{"$f":"\"<TH NOWRAP ALIGN=LEFT><FONT FACE=\"\"Times New Roman\"\" SIZE=-1>\"&A263&\"</FONT></TH>\"","v":"<TH NOWRAP ALIGN=LEFT><FONT FACE=\"Times New Roman\" SIZE=-1>Town of Glenville</FONT></TH>"},"<TD NOWRAP ALIGN=RIGHT><FONT FACE=\"Times New Roman\" SIZE=-1>$6.85</FONT></TD>","<TD NOWRAP ALIGN=RIGHT><FONT FACE=\"Times New Roman\" SIZE=-1>$3.36</FONT></TD>","<TD NOWRAP ALIGN=RIGHT><FONT FACE=\"Times New Roman\" SIZE=-1><BR></FONT></TD>","<TD NOWRAP ALIGN=CENTER><FONT FACE=\"Times New Roman\" SIZE=-1>$13.32 to $20.32</FONT></TD>","<TD NOWRAP ALIGN=CENTER><FONT FACE=\"Times New Roman\" SIZE=-1>$23.53 to $30.53</FONT></TD>","<TD NOWRAP ALIGN=CENTER><FONT FACE=\"Times New Roman\" SIZE=-1>0.9100</FONT></TD>","<TD NOWRAP ALIGN=CENTER><FONT FACE=\"Times New Roman\" SIZE=-1>$21.41 to $27.78</FONT></TD>","</TR>"]
["Amsterdam City SD",{"$f":"'2011 Base Data'!F264","v":6.85},{"$f":"'2011 Base Data'!G264","v":3.36},null,{"$f":"'2011 Base Data'!I264","v":19.850000000000001},null,null,{"$f":"'2011 Base Data'!J264","v":30.06},null,null,{"$f":"'2011 Base Data'!K264","v":0.91},{"$f":"'2011 Base Data'!R264","v":26.16},null,null,{"$f":"ROUND(IF(S264<>0,R264*D264+S264*SUM(B264:C264)+T264*E264,R264*SUM(B264:D264)+T264*E264),2)","v":26.16},{"$f":"L264-O264","v":0},null,{"$f":"'2011 Base Data'!K264","v":0.91},{"$f":"'2011 Base Data'!L264","v":0},{"$f":"'2011 Base Data'!M264","v":0.85},{"$f":"\"E\"&U263&\":\"&\"E\"&V263","v":"E264:E268"},{"$f":"\"H\"&U263&\":\"&\"H\"&V263","v":"H264:H268"},{"$f":"\"L\"&U263&\":\"&\"L\"&V263","v":"L264:L268"},null,"<TR VALIGN=BOTTOM>",{"$f":"\"<TD NOWRAP ALIGN=LEFT><FONT FACE=\"\"Times New Roman\"\" SIZE=-1 COLOR=#00AA00\"\">\"&A264&\"</FONT></TD>\"","v":"<TD NOWRAP ALIGN=LEFT><FONT FACE=\"Times New Roman\" SIZE=-1 COLOR=#00AA00\">Amsterdam City SD</FONT></TD>"},"<TD NOWRAP ALIGN=RIGHT><FONT FACE=\"Times New Roman\" SIZE=-1>$6.85</FONT></TD>","<TD NOWRAP ALIGN=RIGHT><FONT FACE=\"Times New Roman\" SIZE=-1>$3.36</FONT></TD>","<TD NOWRAP ALIGN=RIGHT><FONT FACE=\"Times New Roman\" SIZE=-1><BR></FONT></TD>","<TD NOWRAP ALIGN=CENTER><FONT FACE=\"Times New Roman\" SIZE=-1>$19.85</FONT></TD>","<TD NOWRAP ALIGN=CENTER><FONT FACE=\"Times New Roman\" SIZE=-1>$30.06</FONT></TD>","<TD NOWRAP ALIGN=CENTER><FONT FACE=\"Times New Roman\" SIZE=-1>0.9100</FONT></TD>","<TD NOWRAP ALIGN=CENTER><FONT FACE=\"Times New Roman\" SIZE=-1>$26.16</FONT></TD>","</TR>"]
["Burnt Hills-Ballston Lake CSD",{"$f":"'2011 Base Data'!F265","v":6.85},{"$f":"'2011 Base Data'!G265","v":3.36},null,{"$f":"'2011 Base Data'!I265","v":20.32},null,null,{"$f":"'2011 Base Data'!J265","v":30.53},null,null,{"$f":"'2011 Base Data'!K265","v":0.91},{"$f":"'2011 Base Data'!R265","v":27.78},null,null,{"$f":"ROUND(IF(S265<>0,R265*D265+S265*SUM(B265:C265)+T265*E265,R265*SUM(B265:D265)+T265*E265),2)","v":27.78},{"$f":"L265-O265","v":0},null,{"$f":"'2011 Base Data'!K265","v":0.91},{"$f":"'2011 Base Data'!L265","v":0},{"$f":"'2011 Base Data'!M265","v":0.91},null,null,null,null,"<TR VALIGN=BOTTOM>",{"$f":"\"<TD NOWRAP ALIGN=LEFT><FONT FACE=\"\"Times New Roman\"\" SIZE=-1 COLOR=#00AA00\"\">\"&A265&\"</FONT></TD>\"","v":"<TD NOWRAP ALIGN=LEFT><FONT FACE=\"Times New Roman\" SIZE=-1 COLOR=#00AA00\">Burnt Hills-Ballston Lake CSD</FONT></TD>"},"<TD NOWRAP ALIGN=RIGHT><FONT FACE=\"Times New Roman\" SIZE=-1>$6.85</FONT></TD>","<TD NOWRAP ALIGN=RIGHT><FONT FACE=\"Times New Roman\" SIZE=-1>$3.36</FONT></TD>","<TD NOWRAP ALIGN=RIGHT><FONT FACE=\"Times New Roman\" SIZE=-1><BR></FONT></TD>","<TD NOWRAP ALIGN=CENTER><FONT FACE=\"Times New Roman\" SIZE=-1>$20.32</FONT></TD>","<TD NOWRAP ALIGN=CENTER><FONT FACE=\"Times New Roman\" SIZE=-1>$30.53</FONT></TD>","<TD NOWRAP ALIGN=CENTER><FONT FACE=\"Times New Roman\" SIZE=-1>0.9100</FONT></TD>","<TD NOWRAP ALIGN=CENTER><FONT FACE=\"Times New Roman\" SIZE=-1>$27.78</FONT></TD>","</TR>"]
["Galway CSD",{"$f":"'2011 Base Data'!F266","v":6.85},{"$f":"'2011 Base Data'!G266","v":3.36},null,{"$f":"'2011 Base Data'!I266","v":13.32},null,null,{"$f":"'2011 Base Data'!J266","v":23.53},null,null,{"$f":"'2011 Base Data'!K266","v":0.91},{"$f":"'2011 Base Data'!R266","v":21.41},null,null,{"$f":"ROUND(IF(S266<>0,R266*D266+S266*SUM(B266:C266)+T266*E266,R266*SUM(B266:D266)+T266*E266),2)","v":21.41},{"$f":"L266-O266","v":0},null,{"$f":"'2011 Base Data'!K266","v":0.91},{"$f":"'2011 Base Data'!L266","v":0},{"$f":"'2011 Base Data'!M266","v":0.91},null,null,null,null,"<TR VALIGN=BOTTOM>",{"$f":"\"<TD NOWRAP ALIGN=LEFT><FONT FACE=\"\"Times New Roman\"\" SIZE=-1 COLOR=#00AA00\"\">\"&A266&\"</FONT></TD>\"","v":"<TD NOWRAP ALIGN=LEFT><FONT FACE=\"Times New Roman\" SIZE=-1 COLOR=#00AA00\">Galway CSD</FONT></TD>"},"<TD NOWRAP ALIGN=RIGHT><FONT FACE=\"Times New Roman\" SIZE=-1>$6.85</FONT></TD>","<TD NOWRAP ALIGN=RIGHT><FONT FACE=\"Times New Roman\" SIZE=-1>$3.36</FONT></TD>","<TD NOWRAP ALIGN=RIGHT><FONT FACE=\"Times New Roman\" SIZE=-1><BR></FONT></TD>","<TD NOWRAP ALIGN=CENTER><FONT FACE=\"Times New Roman\" SIZE=-1>$13.32</FONT></TD>","<TD NOWRAP ALIGN=CENTER><FONT FACE=\"Times New Roman\" SIZE=-1>$23.53</FONT></TD>","<TD NOWRAP ALIGN=CENTER><FONT FACE=\"Times New Roman\" SIZE=-1>0.9100</FONT></TD>","<TD NOWRAP ALIGN=CENTER><FONT FACE=\"Times New Roman\" SIZE=-1>$21.41</FONT></TD>","</TR>"]
["Niskayuna CSD",{"$f":"'2011 Base Data'!F267","v":6.85},{"$f":"'2011 Base Data'!G267","v":3.36},null,{"$f":"'2011 Base Data'!I267","v":18.829999999999998},null,null,{"$f":"'2011 Base Data'!J267","v":29.04},null,null,{"$f":"'2011 Base Data'!K267","v":0.91},{"$f":"'2011 Base Data'!R267","v":26.43},null,null,{"$f":"ROUND(IF(S267<>0,R267*D267+S267*SUM(B267:C267)+T267*E267,R267*SUM(B267:D267)+T267*E267),2)","v":26.43},{"$f":"L267-O267","v":0},null,{"$f":"'2011 Base Data'!K267","v":0.91},{"$f":"'2011 Base Data'!L267","v":0},{"$f":"'2011 Base Data'!M267","v":0.91},null,null,null,null,"<TR VALIGN=BOTTOM>",{"$f":"\"<TD NOWRAP ALIGN=LEFT><FONT FACE=\"\"Times New Roman\"\" SIZE=-1 COLOR=#00AA00\"\">\"&A267&\"</FONT></TD>\"","v":"<TD NOWRAP ALIGN=LEFT><FONT FACE=\"Times New Roman\" SIZE=-1 COLOR=#00AA00\">Niskayuna CSD</FONT></TD>"},"<TD NOWRAP ALIGN=RIGHT><FONT FACE=\"Times New Roman\" SIZE=-1>$6.85</FONT></TD>","<TD NOWRAP ALIGN=RIGHT><FONT FACE=\"Times New Roman\" SIZE=-1>$3.36</FONT></TD>","<TD NOWRAP ALIGN=RIGHT><FONT FACE=\"Times New Roman\" SIZE=-1><BR></FONT></TD>","<TD NOWRAP ALIGN=CENTER><FONT FACE=\"Times New Roman\" SIZE=-1>$18.83</FONT></TD>","<TD NOWRAP ALIGN=CENTER><FONT FACE=\"Times New Roman\" SIZE=-1>$29.04</FONT></TD>","<TD NOWRAP ALIGN=CENTER><FONT FACE=\"Times New Roman\" SIZE=-1>0.9100</FONT></TD>","<TD NOWRAP ALIGN=CENTER><FONT FACE=\"Times New Roman\" SIZE=-1>$26.43</FONT></TD>","</TR>"]
["Scotia-Glenville CSD",{"$f":"'2011 Base Data'!F268","v":6.85},{"$f":"'2011 Base Data'!G268","v":3.36},null,{"$f":"'2011 Base Data'!I268","v":20.010000000000002},null,null,{"$f":"'2011 Base Data'!J268","v":30.22},null,null,{"$f":"'2011 Base Data'!K268","v":0.91},{"$f":"'2011 Base Data'!R268","v":27.5},null,null,{"$f":"ROUND(IF(S268<>0,R268*D268+S268*SUM(B268:C268)+T268*E268,R268*SUM(B268:D268)+T268*E268),2)","v":27.5},{"$f":"L268-O268","v":0},null,{"$f":"'2011 Base Data'!K268","v":0.91},{"$f":"'2011 Base Data'!L268","v":0},{"$f":"'2011 Base Data'!M268","v":0.91},null,null,null,null,"<TR VALIGN=BOTTOM>",{"$f":"\"<TD NOWRAP ALIGN=LEFT><FONT FACE=\"\"Times New Roman\"\" SIZE=-1 COLOR=#00AA00\"\">\"&A268&\"</FONT></TD>\"","v":"<TD NOWRAP ALIGN=LEFT><FONT FACE=\"Times New Roman\" SIZE=-1 COLOR=#00AA00\">Scotia-Glenville CSD</FONT></TD>"},"<TD NOWRAP ALIGN=RIGHT><FONT FACE=\"Times New Roman\" SIZE=-1>$6.85</FONT></TD>","<TD NOWRAP ALIGN=RIGHT><FONT FACE=\"Times New Roman\" SIZE=-1>$3.36</FONT></TD>","<TD NOWRAP ALIGN=RIGHT><FONT FACE=\"Times New Roman\" SIZE=-1><BR></FONT></TD>","<TD NOWRAP ALIGN=CENTER><FONT FACE=\"Times New Roman\" SIZE=-1>$20.01</FONT></TD>","<TD NOWRAP ALIGN=CENTER><FONT FACE=\"Times New Roman\" SIZE=-1>$30.22</FONT></TD>","<TD NOWRAP ALIGN=CENTER><FONT FACE=\"Times New Roman\" SIZE=-1>0.9100</FONT></TD>","<TD NOWRAP ALIGN=CENTER><FONT FACE=\"Times New Roman\" SIZE=-1>$27.50</FONT></TD>","</TR>"]
["Village of Scotia",{"$f":"B270","v":6.85},{"$f":"C270","v":1.01},{"$f":"D270","v":10.37},{"$f":"MIN(INDIRECT(U270))","v":20.010000000000002},{"$f":"IF(G269<>0,\"to\",\"\")","v":""},{"$f":"IF(U269<>V269,MAX(INDIRECT(U270)),0)","v":0},{"$f":"MIN(INDIRECT(V270))","v":38.24},{"$f":"IF(J269<>0,\"to\",\"\")","v":""},{"$f":"IF(U269<>V269,MAX(INDIRECT(V270)),0)","v":0},{"$f":"K270","v":0.85},{"$f":"MIN(INDIRECT(W270))","v":32.97},{"$f":"IF(N269<>0,\"to\",\"\")","v":""},{"$f":"IF(U269<>V269,MAX(INDIRECT(W270)),0)","v":0},null,null,null,null,null,null,{"$f":"CELL(\"row\",P270)","v":270},{"$f":"CELL(\"row\",P270)","v":270},null,null,"<TR VALIGN=BOTTOM BGCOLOR=\"#FFFFCC\">",{"$f":"\"<TH NOWRAP ALIGN=LEFT><FONT FACE=\"\"Times New Roman\"\" SIZE=-1 COLOR=\"\"#0000CC\"\">\"&A269&\"</FONT></TH>\"","v":"<TH NOWRAP ALIGN=LEFT><FONT FACE=\"Times New Roman\" SIZE=-1 COLOR=\"#0000CC\">Village of Scotia</FONT></TH>"},"<TD NOWRAP ALIGN=RIGHT><FONT FACE=\"Times New Roman\" SIZE=-1>$6.85</FONT></TD>","<TD NOWRAP ALIGN=RIGHT><FONT FACE=\"Times New Roman\" SIZE=-1>$1.01</FONT></TD>","<TD NOWRAP ALIGN=RIGHT><FONT FACE=\"Times New Roman\" SIZE=-1>$10.37</FONT></TD>","<TD NOWRAP ALIGN=CENTER><FONT FACE=\"Times New Roman\" SIZE=-1>$20.01</FONT></TD>","<TD NOWRAP ALIGN=CENTER><FONT FACE=\"Times New Roman\" SIZE=-1>$38.24</FONT></TD>","<TD NOWRAP ALIGN=CENTER><FONT FACE=\"Times New Roman\" SIZE=-1>0.8500</FONT></TD>","<TD NOWRAP ALIGN=CENTER><FONT FACE=\"Times New Roman\" SIZE=-1>$32.97</FONT></TD>","</TR>"]
["Scotia-Glenville CSD",{"$f":"'2011 Base Data'!F270","v":6.85},{"$f":"'2011 Base Data'!G270","v":1.01},{"$f":"'2011 Base Data'!H270","v":10.37},{"$f":"'2011 Base Data'!I270","v":20.010000000000002},null,null,{"$f":"'2011 Base Data'!J270","v":38.24},null,null,{"$f":"'2011 Base Data'!K270","v":0.85},{"$f":"'2011 Base Data'!R270","v":32.97},null,null,{"$f":"ROUND(IF(S270<>0,R270*D270+S270*SUM(B270:C270)+T270*E270,R270*SUM(B270:D270)+T270*E270),2)","v":32.979999999999997},{"$f":"L270-O270","v":-9.9999999999980105E-3},null,{"$f":"'2011 Base Data'!K270","v":0.85},{"$f":"'2011 Base Data'!L270","v":0.91},{"$f":"'2011 Base Data'!M270","v":0.85},{"$f":"\"E\"&U269&\":\"&\"E\"&V269","v":"E270:E270"},{"$f":"\"H\"&U269&\":\"&\"H\"&V269","v":"H270:H270"},{"$f":"\"L\"&U269&\":\"&\"L\"&V269","v":"L270:L270"},null,"<TR VALIGN=BOTTOM>",{"$f":"\"<TD NOWRAP ALIGN=LEFT><FONT FACE=\"\"Times New Roman\"\" SIZE=-1 COLOR=#00AA00\"\">\"&A270&\"</FONT></TD>\"","v":"<TD NOWRAP ALIGN=LEFT><FONT FACE=\"Times New Roman\" SIZE=-1 COLOR=#00AA00\">Scotia-Glenville CSD</FONT></TD>"},"<TD NOWRAP ALIGN=RIGHT><FONT FACE=\"Times New Roman\" SIZE=-1>$6.85</FONT></TD>","<TD NOWRAP ALIGN=RIGHT><FONT FACE=\"Times New Roman\" SIZE=-1>$1.01</FONT></TD>","<TD NOWRAP ALIGN=RIGHT><FONT FACE=\"Times New Roman\" SIZE=-1>$10.37</FONT></TD>","<TD NOWRAP ALIGN=CENTER><FONT FACE=\"Times New Roman\" SIZE=-1>$20.01</FONT></TD>","<TD NOWRAP ALIGN=CENTER><FONT FACE=\"Times New Roman\" SIZE=-1>$38.24</FONT></TD>","<TD NOWRAP ALIGN=CENTER><FONT FACE=\"Times New Roman\" SIZE=-1>0.8500</FONT></TD>","<TD NOWRAP ALIGN=CENTER><FONT FACE=\"Times New Roman\" SIZE=-1>$32.97</FONT></TD>","</TR>"]
["Town of Niskayuna",{"$f":"B272","v":6.14},{"$f":"C272","v":2.87},null,{"$f":"MIN(INDIRECT(U272))","v":16.11},{"$f":"IF(G271<>0,\"to\",\"\")","v":"to"},{"$f":"IF(U271<>V271,MAX(INDIRECT(U272)),0)","v":17.62},{"$f":"MIN(INDIRECT(V272))","v":25.12},{"$f":"IF(J271<>0,\"to\",\"\")","v":"to"},{"$f":"IF(U271<>V271,MAX(INDIRECT(V272)),0)","v":26.63},{"$f":"K272","v":1},{"$f":"MIN(INDIRECT(W272))","v":25.12},{"$f":"IF(N271<>0,\"to\",\"\")","v":"to"},{"$f":"IF(U271<>V271,MAX(INDIRECT(W272)),0)","v":26.63},null,null,null,null,null,null,{"$f":"CELL(\"row\",P272)","v":272},{"$f":"CELL(\"row\",P273)","v":273},null,null,"<TR VALIGN=BOTTOM BGCOLOR=\"#FFFFCC\">",{"$f":"\"<TH NOWRAP ALIGN=LEFT><FONT FACE=\"\"Times New Roman\"\" SIZE=-1>\"&A271&\"</FONT></TH>\"","v":"<TH NOWRAP ALIGN=LEFT><FONT FACE=\"Times New Roman\" SIZE=-1>Town of Niskayuna</FONT></TH>"},"<TD NOWRAP ALIGN=RIGHT><FONT FACE=\"Times New Roman\" SIZE=-1>$6.14</FONT></TD>","<TD NOWRAP ALIGN=RIGHT><FONT FACE=\"Times New Roman\" SIZE=-1>$2.87</FONT></TD>","<TD NOWRAP ALIGN=RIGHT><FONT FACE=\"Times New Roman\" SIZE=-1><BR></FONT></TD>","<TD NOWRAP ALIGN=CENTER><FONT FACE=\"Times New Roman\" SIZE=-1>$16.11 to $17.62</FONT></TD>","<TD NOWRAP ALIGN=CENTER><FONT FACE=\"Times New Roman\" SIZE=-1>$25.12 to $26.63</FONT></TD>","<TD NOWRAP ALIGN=CENTER><FONT FACE=\"Times New Roman\" SIZE=-1>1.0000</FONT></TD>","<TD NOWRAP ALIGN=CENTER><FONT FACE=\"Times New Roman\" SIZE=-1>$25.12 to $26.63</FONT></TD>","</TR>"]
["Niskayuna CSD",{"$f":"'2011 Base Data'!F272","v":6.14},{"$f":"'2011 Base Data'!G272","v":2.87},null,{"$f":"'2011 Base Data'!I272","v":17.62},null,null,{"$f":"'2011 Base Data'!J272","v":26.63},null,null,{"$f":"'2011 Base Data'!K272","v":1},{"$f":"'2011 Base Data'!R272","v":26.63},null,null,{"$f":"ROUND(IF(S272<>0,R272*D272+S272*SUM(B272:C272)+T272*E272,R272*SUM(B272:D272)+T272*E272),2)","v":26.63},{"$f":"L272-O272","v":0},null,{"$f":"'2011 Base Data'!K272","v":1},{"$f":"'2011 Base Data'!L272","v":0},{"$f":"'2011 Base Data'!M272","v":1},{"$f":"\"E\"&U271&\":\"&\"E\"&V271","v":"E272:E273"},{"$f":"\"H\"&U271&\":\"&\"H\"&V271","v":"H272:H273"},{"$f":"\"L\"&U271&\":\"&\"L\"&V271","v":"L272:L273"},null,"<TR VALIGN=BOTTOM>",{"$f":"\"<TD NOWRAP ALIGN=LEFT><FONT FACE=\"\"Times New Roman\"\" SIZE=-1 COLOR=#00AA00\"\">\"&A272&\"</FONT></TD>\"","v":"<TD NOWRAP ALIGN=LEFT><FONT FACE=\"Times New Roman\" SIZE=-1 COLOR=#00AA00\">Niskayuna CSD</FONT></TD>"},"<TD NOWRAP ALIGN=RIGHT><FONT FACE=\"Times New Roman\" SIZE=-1>$6.14</FONT></TD>","<TD NOWRAP ALIGN=RIGHT><FONT FACE=\"Times New Roman\" SIZE=-1>$2.87</FONT></TD>","<TD NOWRAP ALIGN=RIGHT><FONT FACE=\"Times New Roman\" SIZE=-1><BR></FONT></TD>","<TD NOWRAP ALIGN=CENTER><FONT FACE=\"Times New Roman\" SIZE=-1>$17.62</FONT></TD>","<TD NOWRAP ALIGN=CENTER><FONT FACE=\"Times New Roman\" SIZE=-1>$26.63</FONT></TD>","<TD NOWRAP ALIGN=CENTER><FONT FACE=\"Times New Roman\" SIZE=-1>1.0000</FONT></TD>","<TD NOWRAP ALIGN=CENTER><FONT FACE=\"Times New Roman\" SIZE=-1>$26.63</FONT></TD>","</TR>"]
["South Colonie CSD",{"$f":"'2011 Base Data'!F273","v":6.14},{"$f":"'2011 Base Data'!G273","v":2.87},null,{"$f":"'2011 Base Data'!I273","v":16.11},null,null,{"$f":"'2011 Base Data'!J273","v":25.12},null,null,{"$f":"'2011 Base Data'!K273","v":1},{"$f":"'2011 Base Data'!R273","v":25.12},null,null,{"$f":"ROUND(IF(S273<>0,R273*D273+S273*SUM(B273:C273)+T273*E273,R273*SUM(B273:D273)+T273*E273),2)","v":25.12},{"$f":"L273-O273","v":0},null,{"$f":"'2011 Base Data'!K273","v":1},{"$f":"'2011 Base Data'!L273","v":0},{"$f":"'2011 Base Data'!M273","v":1},null,null,null,null,"<TR VALIGN=BOTTOM>",{"$f":"\"<TD NOWRAP ALIGN=LEFT><FONT FACE=\"\"Times New Roman\"\" SIZE=-1 COLOR=#00AA00\"\">\"&A273&\"</FONT></TD>\"","v":"<TD NOWRAP ALIGN=LEFT><FONT FACE=\"Times New Roman\" SIZE=-1 COLOR=#00AA00\">South Colonie CSD</FONT></TD>"},"<TD NOWRAP ALIGN=RIGHT><FONT FACE=\"Times New Roman\" SIZE=-1>$6.14</FONT></TD>","<TD NOWRAP ALIGN=RIGHT><FONT FACE=\"Times New Roman\" SIZE=-1>$2.87</FONT></TD>","<TD NOWRAP ALIGN=RIGHT><FONT FACE=\"Times New Roman\" SIZE=-1><BR></FONT></TD>","<TD NOWRAP ALIGN=CENTER><FONT FACE=\"Times New Roman\" SIZE=-1>$16.11</FONT></TD>","<TD NOWRAP ALIGN=CENTER><FONT FACE=\"Times New Roman\" SIZE=-1>$25.12</FONT></TD>","<TD NOWRAP ALIGN=CENTER><FONT FACE=\"Times New Roman\" SIZE=-1>1.0000</FONT></TD>","<TD NOWRAP ALIGN=CENTER><FONT FACE=\"Times New Roman\" SIZE=-1>$25.12</FONT></TD>","</TR>"]
["Town of Princetown",{"$f":"B275","v":19.32},{"$f":"C275","v":0.43},null,{"$f":"MIN(INDIRECT(U275))","v":52.66},{"$f":"IF(G274<>0,\"to\",\"\")","v":"to"},{"$f":"IF(U274<>V274,MAX(INDIRECT(U275)),0)","v":57.19},{"$f":"MIN(INDIRECT(V275))","v":72.41},{"$f":"IF(J274<>0,\"to\",\"\")","v":"to"},{"$f":"IF(U274<>V274,MAX(INDIRECT(V275)),0)","v":76.94},{"$f":"K275","v":0.32250000000000001},{"$f":"MIN(INDIRECT(W275))","v":23.35},{"$f":"IF(N274<>0,\"to\",\"\")","v":"to"},{"$f":"IF(U274<>V274,MAX(INDIRECT(W275)),0)","v":24.81},null,null,null,null,null,null,{"$f":"CELL(\"row\",P275)","v":275},{"$f":"CELL(\"row\",P276)","v":276},null,null,"<TR VALIGN=BOTTOM BGCOLOR=\"#FFFFCC\">",{"$f":"\"<TH NOWRAP ALIGN=LEFT><FONT FACE=\"\"Times New Roman\"\" SIZE=-1>\"&A274&\"</FONT></TH>\"","v":"<TH NOWRAP ALIGN=LEFT><FONT FACE=\"Times New Roman\" SIZE=-1>Town of Princetown</FONT></TH>"},"<TD NOWRAP ALIGN=RIGHT><FONT FACE=\"Times New Roman\" SIZE=-1>$19.32</FONT></TD>","<TD NOWRAP ALIGN=RIGHT><FONT FACE=\"Times New Roman\" SIZE=-1>$0.43</FONT></TD>","<TD NOWRAP ALIGN=RIGHT><FONT FACE=\"Times New Roman\" SIZE=-1><BR></FONT></TD>","<TD NOWRAP ALIGN=CENTER><FONT FACE=\"Times New Roman\" SIZE=-1>$52.66 to $57.19</FONT></TD>","<TD NOWRAP ALIGN=CENTER><FONT FACE=\"Times New Roman\" SIZE=-1>$72.41 to $76.94</FONT></TD>","<TD NOWRAP ALIGN=CENTER><FONT FACE=\"Times New Roman\" SIZE=-1>0.3225</FONT></TD>","<TD NOWRAP ALIGN=CENTER><FONT FACE=\"Times New Roman\" SIZE=-1>$23.35 to $24.81</FONT></TD>","</TR>"]
["Duanesburg CSD",{"$f":"'2011 Base Data'!F275","v":19.32},{"$f":"'2011 Base Data'!G275","v":0.43},null,{"$f":"'2011 Base Data'!I275","v":52.66},null,null,{"$f":"'2011 Base Data'!J275","v":72.41},null,null,{"$f":"'2011 Base Data'!K275","v":0.32250000000000001},{"$f":"'2011 Base Data'!R275","v":23.35},null,null,{"$f":"ROUND(IF(S275<>0,R275*D275+S275*SUM(B275:C275)+T275*E275,R275*SUM(B275:D275)+T275*E275),2)","v":23.35},{"$f":"L275-O275","v":0},null,{"$f":"'2011 Base Data'!K275","v":0.32250000000000001},{"$f":"'2011 Base Data'!L275","v":0},{"$f":"'2011 Base Data'!M275","v":0.32250000000000001},{"$f":"\"E\"&U274&\":\"&\"E\"&V274","v":"E275:E276"},{"$f":"\"H\"&U274&\":\"&\"H\"&V274","v":"H275:H276"},{"$f":"\"L\"&U274&\":\"&\"L\"&V274","v":"L275:L276"},null,"<TR VALIGN=BOTTOM>",{"$f":"\"<TD NOWRAP ALIGN=LEFT><FONT FACE=\"\"Times New Roman\"\" SIZE=-1 COLOR=#00AA00\"\">\"&A275&\"</FONT></TD>\"","v":"<TD NOWRAP ALIGN=LEFT><FONT FACE=\"Times New Roman\" SIZE=-1 COLOR=#00AA00\">Duanesburg CSD</FONT></TD>"},"<TD NOWRAP ALIGN=RIGHT><FONT FACE=\"Times New Roman\" SIZE=-1>$19.32</FONT></TD>","<TD NOWRAP ALIGN=RIGHT><FONT FACE=\"Times New Roman\" SIZE=-1>$0.43</FONT></TD>","<TD NOWRAP ALIGN=RIGHT><FONT FACE=\"Times New Roman\" SIZE=-1><BR></FONT></TD>","<TD NOWRAP ALIGN=CENTER><FONT FACE=\"Times New Roman\" SIZE=-1>$52.66</FONT></TD>","<TD NOWRAP ALIGN=CENTER><FONT FACE=\"Times New Roman\" SIZE=-1>$72.41</FONT></TD>","<TD NOWRAP ALIGN=CENTER><FONT FACE=\"Times New Roman\" SIZE=-1>0.3225</FONT></TD>","<TD NOWRAP ALIGN=CENTER><FONT FACE=\"Times New Roman\" SIZE=-1>$23.35</FONT></TD>","</TR>"]
["Schalmont CSD",{"$f":"'2011 Base Data'!F276","v":19.32},{"$f":"'2011 Base Data'!G276","v":0.43},null,{"$f":"'2011 Base Data'!I276","v":57.19},null,null,{"$f":"'2011 Base Data'!J276","v":76.94},null,null,{"$f":"'2011 Base Data'!K276","v":0.32250000000000001},{"$f":"'2011 Base Data'!R276","v":24.81},null,null,{"$f":"ROUND(IF(S276<>0,R276*D276+S276*SUM(B276:C276)+T276*E276,R276*SUM(B276:D276)+T276*E276),2)","v":24.81},{"$f":"L276-O276","v":0},null,{"$f":"'2011 Base Data'!K276","v":0.32250000000000001},{"$f":"'2011 Base Data'!L276","v":0},{"$f":"'2011 Base Data'!M276","v":0.32250000000000001},null,null,null,null,"<TR VALIGN=BOTTOM>",{"$f":"\"<TD NOWRAP ALIGN=LEFT><FONT FACE=\"\"Times New Roman\"\" SIZE=-1 COLOR=#00AA00\"\">\"&A276&\"</FONT></TD>\"","v":"<TD NOWRAP ALIGN=LEFT><FONT FACE=\"Times New Roman\" SIZE=-1 COLOR=#00AA00\">Schalmont CSD</FONT></TD>"},"<TD NOWRAP ALIGN=RIGHT><FONT FACE=\"Times New Roman\" SIZE=-1>$19.32</FONT></TD>","<TD NOWRAP ALIGN=RIGHT><FONT FACE=\"Times New Roman\" SIZE=-1>$0.43</FONT></TD>","<TD NOWRAP ALIGN=RIGHT><FONT FACE=\"Times New Roman\" SIZE=-1><BR></FONT></TD>","<TD NOWRAP ALIGN=CENTER><FONT FACE=\"Times New Roman\" SIZE=-1>$57.19</FONT></TD>","<TD NOWRAP ALIGN=CENTER><FONT FACE=\"Times New Roman\" SIZE=-1>$76.94</FONT></TD>","<TD NOWRAP ALIGN=CENTER><FONT FACE=\"Times New Roman\" SIZE=-1>0.3225</FONT></TD>","<TD NOWRAP ALIGN=CENTER><FONT FACE=\"Times New Roman\" SIZE=-1>$24.81</FONT></TD>","</TR>"]
["Town of Rotterdam",{"$f":"B278","v":6.33},{"$f":"C278","v":4.32},null,{"$f":"MIN(INDIRECT(U278))","v":15.19},{"$f":"IF(G277<>0,\"to\",\"\")","v":"to"},{"$f":"IF(U277<>V277,MAX(INDIRECT(U278)),0)","v":20.9},{"$f":"MIN(INDIRECT(V278))","v":25.84},{"$f":"IF(J277<>0,\"to\",\"\")","v":"to"},{"$f":"IF(U277<>V277,MAX(INDIRECT(V278)),0)","v":31.55},{"$f":"K278","v":1},{"$f":"MIN(INDIRECT(W278))","v":25.84},{"$f":"IF(N277<>0,\"to\",\"\")","v":"to"},{"$f":"IF(U277<>V277,MAX(INDIRECT(W278)),0)","v":31.55},null,null,null,null,null,null,{"$f":"CELL(\"row\",P278)","v":278},{"$f":"CELL(\"row\",P280)","v":280},null,null,"<TR VALIGN=BOTTOM BGCOLOR=\"#FFFFCC\">",{"$f":"\"<TH NOWRAP ALIGN=LEFT><FONT FACE=\"\"Times New Roman\"\" SIZE=-1>\"&A277&\"</FONT></TH>\"","v":"<TH NOWRAP ALIGN=LEFT><FONT FACE=\"Times New Roman\" SIZE=-1>Town of Rotterdam</FONT></TH>"},"<TD NOWRAP ALIGN=RIGHT><FONT FACE=\"Times New Roman\" SIZE=-1>$6.33</FONT></TD>","<TD NOWRAP ALIGN=RIGHT><FONT FACE=\"Times New Roman\" SIZE=-1>$4.32</FONT></TD>","<TD NOWRAP ALIGN=RIGHT><FONT FACE=\"Times New Roman\" SIZE=-1><BR></FONT></TD>","<TD NOWRAP ALIGN=CENTER><FONT FACE=\"Times New Roman\" SIZE=-1>$15.19 to $20.90</FONT></TD>","<TD NOWRAP ALIGN=CENTER><FONT FACE=\"Times New Roman\" SIZE=-1>$25.84 to $31.55</FONT></TD>","<TD NOWRAP ALIGN=CENTER><FONT FACE=\"Times New Roman\" SIZE=-1>1.0000</FONT></TD>","<TD NOWRAP ALIGN=CENTER><FONT FACE=\"Times New Roman\" SIZE=-1>$25.84 to $31.55</FONT></TD>","</TR>"]
["Rotterdam-Mohonasen CSD",{"$f":"'2011 Base Data'!F278","v":6.33},{"$f":"'2011 Base Data'!G278","v":4.32},null,{"$f":"'2011 Base Data'!I278","v":15.19},null,null,{"$f":"'2011 Base Data'!J278","v":25.84},null,null,{"$f":"'2011 Base Data'!K278","v":1},{"$f":"'2011 Base Data'!R278","v":25.84},null,null,{"$f":"ROUND(IF(S278<>0,R278*D278+S278*SUM(B278:C278)+T278*E278,R278*SUM(B278:D278)+T278*E278),2)","v":25.84},{"$f":"L278-O278","v":0},null,{"$f":"'2011 Base Data'!K278","v":1},{"$f":"'2011 Base Data'!L278","v":0},{"$f":"'2011 Base Data'!M278","v":1},{"$f":"\"E\"&U277&\":\"&\"E\"&V277","v":"E278:E280"},{"$f":"\"H\"&U277&\":\"&\"H\"&V277","v":"H278:H280"},{"$f":"\"L\"&U277&\":\"&\"L\"&V277","v":"L278:L280"},null,"<TR VALIGN=BOTTOM>",{"$f":"\"<TD NOWRAP ALIGN=LEFT><FONT FACE=\"\"Times New Roman\"\" SIZE=-1 COLOR=#00AA00\"\">\"&A278&\"</FONT></TD>\"","v":"<TD NOWRAP ALIGN=LEFT><FONT FACE=\"Times New Roman\" SIZE=-1 COLOR=#00AA00\">Rotterdam-Mohonasen CSD</FONT></TD>"},"<TD NOWRAP ALIGN=RIGHT><FONT FACE=\"Times New Roman\" SIZE=-1>$6.33</FONT></TD>","<TD NOWRAP ALIGN=RIGHT><FONT FACE=\"Times New Roman\" SIZE=-1>$4.32</FONT></TD>","<TD NOWRAP ALIGN=RIGHT><FONT FACE=\"Times New Roman\" SIZE=-1><BR></FONT></TD>","<TD NOWRAP ALIGN=CENTER><FONT FACE=\"Times New Roman\" SIZE=-1>$15.19</FONT></TD>","<TD NOWRAP ALIGN=CENTER><FONT FACE=\"Times New Roman\" SIZE=-1>$25.84</FONT></TD>","<TD NOWRAP ALIGN=CENTER><FONT FACE=\"Times New Roman\" SIZE=-1>1.0000</FONT></TD>","<TD NOWRAP ALIGN=CENTER><FONT FACE=\"Times New Roman\" SIZE=-1>$25.84</FONT></TD>","</TR>"]
["Schalmont CSD",{"$f":"'2011 Base Data'!F279","v":6.33},{"$f":"'2011 Base Data'!G279","v":4.32},null,{"$f":"'2011 Base Data'!I279","v":19.43},null,null,{"$f":"'2011 Base Data'!J279","v":30.08},null,null,{"$f":"'2011 Base Data'!K279","v":1},{"$f":"'2011 Base Data'!R279","v":30.08},null,null,{"$f":"ROUND(IF(S279<>0,R279*D279+S279*SUM(B279:C279)+T279*E279,R279*SUM(B279:D279)+T279*E279),2)","v":30.08},{"$f":"L279-O279","v":0},null,{"$f":"'2011 Base Data'!K279","v":1},{"$f":"'2011 Base Data'!L279","v":0},{"$f":"'2011 Base Data'!M279","v":1},null,null,null,null,"<TR VALIGN=BOTTOM>",{"$f":"\"<TD NOWRAP ALIGN=LEFT><FONT FACE=\"\"Times New Roman\"\" SIZE=-1 COLOR=#00AA00\"\">\"&A279&\"</FONT></TD>\"","v":"<TD NOWRAP ALIGN=LEFT><FONT FACE=\"Times New Roman\" SIZE=-1 COLOR=#00AA00\">Schalmont CSD</FONT></TD>"},"<TD NOWRAP ALIGN=RIGHT><FONT FACE=\"Times New Roman\" SIZE=-1>$6.33</FONT></TD>","<TD NOWRAP ALIGN=RIGHT><FONT FACE=\"Times New Roman\" SIZE=-1>$4.32</FONT></TD>","<TD NOWRAP ALIGN=RIGHT><FONT FACE=\"Times New Roman\" SIZE=-1><BR></FONT></TD>","<TD NOWRAP ALIGN=CENTER><FONT FACE=\"Times New Roman\" SIZE=-1>$19.43</FONT></TD>","<TD NOWRAP ALIGN=CENTER><FONT FACE=\"Times New Roman\" SIZE=-1>$30.08</FONT></TD>","<TD NOWRAP ALIGN=CENTER><FONT FACE=\"Times New Roman\" SIZE=-1>1.0000</FONT></TD>","<TD NOWRAP ALIGN=CENTER><FONT FACE=\"Times New Roman\" SIZE=-1>$30.08</FONT></TD>","</TR>"]
["Schenectady City SD",{"$f":"'2011 Base Data'!F280","v":6.33},{"$f":"'2011 Base Data'!G280","v":4.32},null,{"$f":"'2011 Base Data'!I280","v":20.9},null,null,{"$f":"'2011 Base Data'!J280","v":31.55},null,null,{"$f":"'2011 Base Data'!K280","v":1},{"$f":"'2011 Base Data'!R280","v":31.55},null,null,{"$f":"ROUND(IF(S280<>0,R280*D280+S280*SUM(B280:C280)+T280*E280,R280*SUM(B280:D280)+T280*E280),2)","v":31.55},{"$f":"L280-O280","v":0},null,{"$f":"'2011 Base Data'!K280","v":1},{"$f":"'2011 Base Data'!L280","v":0},{"$f":"'2011 Base Data'!M280","v":1},null,null,null,null,"<TR VALIGN=BOTTOM>",{"$f":"\"<TD NOWRAP ALIGN=LEFT><FONT FACE=\"\"Times New Roman\"\" SIZE=-1 COLOR=#00AA00\"\">\"&A280&\"</FONT></TD>\"","v":"<TD NOWRAP ALIGN=LEFT><FONT FACE=\"Times New Roman\" SIZE=-1 COLOR=#00AA00\">Schenectady City SD</FONT></TD>"},"<TD NOWRAP ALIGN=RIGHT><FONT FACE=\"Times New Roman\" SIZE=-1>$6.33</FONT></TD>","<TD NOWRAP ALIGN=RIGHT><FONT FACE=\"Times New Roman\" SIZE=-1>$4.32</FONT></TD>","<TD NOWRAP ALIGN=RIGHT><FONT FACE=\"Times New Roman\" SIZE=-1><BR></FONT></TD>","<TD NOWRAP ALIGN=CENTER><FONT FACE=\"Times New Roman\" SIZE=-1>$20.90</FONT></TD>","<TD NOWRAP ALIGN=CENTER><FONT FACE=\"Times New Roman\" SIZE=-1>$31.55</FONT></TD>","<TD NOWRAP ALIGN=CENTER><FONT FACE=\"Times New Roman\" SIZE=-1>1.0000</FONT></TD>","<TD NOWRAP ALIGN=CENTER><FONT FACE=\"Times New Roman\" SIZE=-1>$31.55</FONT></TD>","</TR>"]
["City of Schenectady",{"$f":"B282","v":6.66},null,{"$f":"D282","v":13.19},{"$f":"MIN(INDIRECT(U282))","v":20.9},{"$f":"IF(G281<>0,\"to\",\"\")","v":""},{"$f":"IF(U281<>V281,MAX(INDIRECT(U282)),0)","v":0},{"$f":"MIN(INDIRECT(V282))","v":40.75},{"$f":"IF(J281<>0,\"to\",\"\")","v":""},{"$f":"IF(U281<>V281,MAX(INDIRECT(V282)),0)","v":0},{"$f":"K282","v":1},{"$f":"MIN(INDIRECT(W282))","v":40.75},{"$f":"IF(N281<>0,\"to\",\"\")","v":""},{"$f":"IF(U281<>V281,MAX(INDIRECT(W282)),0)","v":0},null,null,null,null,null,null,{"$f":"CELL(\"row\",P282)","v":282},{"$f":"CELL(\"row\",P282)","v":282},null,null,"<TR VALIGN=BOTTOM BGCOLOR=\"#FFFFCC\">",{"$f":"\"<TH NOWRAP ALIGN=LEFT><FONT FACE=\"\"Times New Roman\"\" SIZE=-1 COLOR=#800000\"\">\"&A281&\"</FONT></TH>\"","v":"<TH NOWRAP ALIGN=LEFT><FONT FACE=\"Times New Roman\" SIZE=-1 COLOR=#800000\">City of Schenectady</FONT></TH>"},"<TD NOWRAP ALIGN=RIGHT><FONT FACE=\"Times New Roman\" SIZE=-1>$6.66</FONT></TD>","<TD NOWRAP ALIGN=RIGHT><FONT FACE=\"Times New Roman\" SIZE=-1><BR></FONT></TD>","<TD NOWRAP ALIGN=RIGHT><FONT FACE=\"Times New Roman\" SIZE=-1>$13.19</FONT></TD>","<TD NOWRAP ALIGN=CENTER><FONT FACE=\"Times New Roman\" SIZE=-1>$20.90</FONT></TD>","<TD NOWRAP ALIGN=CENTER><FONT FACE=\"Times New Roman\" SIZE=-1>$40.75</FONT></TD>","<TD NOWRAP ALIGN=CENTER><FONT FACE=\"Times New Roman\" SIZE=-1>1.0000</FONT></TD>","<TD NOWRAP ALIGN=CENTER><FONT FACE=\"Times New Roman\" SIZE=-1>$40.75</FONT></TD>","</TR>"]
["Schenectady City SD",{"$f":"'2011 Base Data'!F282","v":6.66},null,{"$f":"'2011 Base Data'!H282","v":13.19},{"$f":"'2011 Base Data'!I282","v":20.9},null,null,{"$f":"'2011 Base Data'!J282","v":40.75},null,null,{"$f":"'2011 Base Data'!K282","v":1},{"$f":"'2011 Base Data'!R282","v":40.75},null,null,{"$f":"ROUND(IF(S282<>0,R282*D282+S282*SUM(B282:C282)+T282*E282,R282*SUM(B282:D282)+T282*E282),2)","v":40.75},{"$f":"L282-O282","v":0},null,{"$f":"'2011 Base Data'!K282","v":1},{"$f":"'2011 Base Data'!L282","v":0},{"$f":"'2011 Base Data'!M282","v":1},{"$f":"\"E\"&U281&\":\"&\"E\"&V281","v":"E282:E282"},{"$f":"\"H\"&U281&\":\"&\"H\"&V281","v":"H282:H282"},{"$f":"\"L\"&U281&\":\"&\"L\"&V281","v":"L282:L282"},null,"<TR VALIGN=BOTTOM>",{"$f":"\"<TD NOWRAP ALIGN=LEFT><FONT FACE=\"\"Times New Roman\"\" SIZE=-1 COLOR=#00AA00\"\">\"&A282&\"</FONT></TD>\"","v":"<TD NOWRAP ALIGN=LEFT><FONT FACE=\"Times New Roman\" SIZE=-1 COLOR=#00AA00\">Schenectady City SD</FONT></TD>"},"<TD NOWRAP ALIGN=RIGHT><FONT FACE=\"Times New Roman\" SIZE=-1>$6.66</FONT></TD>","<TD NOWRAP ALIGN=RIGHT><FONT FACE=\"Times New Roman\" SIZE=-1><BR></FONT></TD>","<TD NOWRAP ALIGN=RIGHT><FONT FACE=\"Times New Roman\" SIZE=-1>$13.19</FONT></TD>","<TD NOWRAP ALIGN=CENTER><FONT FACE=\"Times New Roman\" SIZE=-1>$20.90</FONT></TD>","<TD NOWRAP ALIGN=CENTER><FONT FACE=\"Times New Roman\" SIZE=-1>$40.75</FONT></TD>","<TD NOWRAP ALIGN=CENTER><FONT FACE=\"Times New Roman\" SIZE=-1>1.0000</FONT></TD>","<TD NOWRAP ALIGN=CENTER><FONT FACE=\"Times New Roman\" SIZE=-1>$40.75</FONT></TD>","</TR>"]
["Capital District",null,null,null,{"$f":"MIN(E7:E281)","v":6.91},{"$f":"IF(G283<>0,\"to\",\"\")","v":"to"},{"$f":"MAX(E7:G281)","v":2048.92},{"$f":"MIN(H7:H281)","v":12.27},{"$f":"IF(J283<>0,\"to\",\"\")","v":"to"},{"$f":"MAX(H7:J281)","v":2689.43},null,{"$f":"MIN(L7:L281)","v":7.47},{"$f":"IF(N283<>0,\"to\",\"\")","v":"to"},{"$f":"MAX(L7:N281)","v":40.75},null,null,null,null,null,null,null,null,null,null,"<TR VALIGN=BOTTOM BGCOLOR=\"#CCCCFF\">",{"$f":"\"<TH NOWRAP ALIGN=LEFT><FONT FACE=\"\"Times New Roman\"\" COLOR=##AA00AA\"\">\"&A283&\"</FONT></TH>\"","v":"<TH NOWRAP ALIGN=LEFT><FONT FACE=\"Times New Roman\" COLOR=##AA00AA\">Capital District</FONT></TH>"},"<TD NOWRAP ALIGN=RIGHT><FONT FACE=\"Times New Roman\" SIZE=-1><BR></FONT></TD>","<TD NOWRAP ALIGN=RIGHT><FONT FACE=\"Times New Roman\" SIZE=-1><BR></FONT></TD>","<TD NOWRAP ALIGN=RIGHT><FONT FACE=\"Times New Roman\" SIZE=-1><BR></FONT></TD>","<TD NOWRAP ALIGN=CENTER><FONT FACE=\"Times New Roman\" SIZE=-1>$6.91 to $2,048.92</FONT></TD>","<TD NOWRAP ALIGN=CENTER><FONT FACE=\"Times New Roman\" SIZE=-1>$12.27 to $2,689.43</FONT></TD>","<TD NOWRAP ALIGN=CENTER><FONT FACE=\"Times New Roman\" SIZE=-1><BR></FONT></TD>","<TD NOWRAP ALIGN=CENTER><FONT FACE=\"Times New Roman\" SIZE=-1>$7.47 to $40.75</FONT></TD>","</TR>"]

{"sheet":"2011","index":21,"n_rows":90,"n_cols":25,"rows_kept":90,"cut":false,"hidden":false,"merged":[]}
[null,{"$f":"'2011 Base Data'!A1&\" Tax Rates per $1,000 in Assessed Valuation\"","v":"2011 Tax Rates per $1,000 in Assessed Valuation"},null,null,null,null,null,null,null,null,null,"Total Overall"]
[null,null,null,"City or",null,null,null,null,null,null,"Equal.","Full Value Range:",null,null,null,"HTML Code"]
["City, Town, or Village","County","Town","Village","School District Range",null,null,"Total Overall Range",null,null,"Rate","Rate per $1,000"]
["Albany County",null,null,null,{"$f":"MIN(E5:E23)","v":17.38},{"$f":"IF(G4<>0,\"to\",\"\")","v":"to"},{"$f":"MAX(E5:G23)","v":2048.92},{"$f":"MIN(H5:H23)","v":22.82},{"$f":"IF(J4<>0,\"to\",\"\")","v":"to"},{"$f":"MAX(H5:J23)","v":2689.43},null,{"$f":"MIN(L5:L23)","v":17.61},{"$f":"IF(N4<>0,\"to\",\"\")","v":"to"},{"$f":"MAX(L5:N23)","v":36.4},null,"<TR VALIGN=BOTTOM BGCOLOR=\"#CCCCFF\">",{"$f":"\"<TH NOWRAP ALIGN=LEFT><FONT FACE=\"\"Times New Roman\"\" COLOR=\"\"#AA00AA\"\">\"&A4&\"</FONT></TH>\"","v":"<TH NOWRAP ALIGN=LEFT><FONT FACE=\"Times New Roman\" COLOR=\"#AA00AA\">Albany County</FONT></TH>"},{"$f":"\"<TD NOWRAP ALIGN=RIGHT><FONT FACE=\"\"Times New Roman\"\" SIZE=-1>\"&IF(B4=\"\",\"<BR>\",TEXT(B4,\"$#,##0.00\"))&\"</FONT></TD>\"","v":"<TD NOWRAP ALIGN=RIGHT><FONT FACE=\"Times New Roman\" SIZE=-1><BR></FONT></TD>"},{"$f":"\"<TD NOWRAP ALIGN=RIGHT><FONT FACE=\"\"Times New Roman\"\" SIZE=-1>\"&IF(C4=\"\",\"<BR>\",TEXT(C4,\"$#,##0.00\"))&\"</FONT></TD>\"","v":"<TD NOWRAP ALIGN=RIGHT><FONT FACE=\"Times New Roman\" SIZE=-1><BR></FONT></TD>"},{"$f":"\"<TD NOWRAP ALIGN=RIGHT><FONT FACE=\"\"Times New Roman\"\" SIZE=-1>\"&IF(D4=\"\",\"<BR>\",TEXT(D4,\"$#,##0.00\"))&\"</FONT></TD>\"","v":"<TD NOWRAP ALIGN=RIGHT><FONT FACE=\"Times New Roman\" SIZE=-1><BR></FONT></TD>"},{"$f":"\"<TD NOWRAP ALIGN=CENTER><FONT FACE=\"\"Times New Roman\"\" SIZE=-1>\"&TEXT(E4,\"$#,##0.00\")&IF(F4=\"\",\"\",\" to \")&IF(G4=\"\",\"\",TEXT(G4,\"$#,##0.00\"))&\"</FONT></TD>\"","v":"<TD NOWRAP ALIGN=CENTER><FONT FACE=\"Times New Roman\" SIZE=-1>$17.38 to $2,048.92</FONT></TD>"},{"$f":"\"<TD NOWRAP ALIGN=CENTER><FONT FACE=\"\"Times New Roman\"\" SIZE=-1>\"&TEXT(H4,\"$#,##0.00\")&IF(I4=\"\",\"\",\" to \")&IF(J4=\"\",\"\",TEXT(J4,\"$#,##0.00\"))&\"</FONT></TD>\"","v":"<TD NOWRAP ALIGN=CENTER><FONT FACE=\"Times New Roman\" SIZE=-1>$22.82 to $2,689.43</FONT></TD>"},{"$f":"\"<TD NOWRAP ALIGN=CENTER><FONT FACE=\"\"Times New Roman\"\" SIZE=-1>\"&IF(K4=\"\",\"<BR>\",TEXT(K4,\"0.0000\"))&\"</FONT></TD>\"","v":"<TD NOWRAP ALIGN=CENTER><FONT FACE=\"Times New Roman\" SIZE=-1><BR></FONT></TD>"},{"$f":"\"<TD NOWRAP ALIGN=CENTER><FONT FACE=\"\"Times New Roman\"\" SIZE=-1>\"&TEXT(L4,\"$#,##0.00\")&IF(M4=\"\",\"\",\" to \")&IF(N4=\"\",\"\",TEXT(N4,\"$#,##0.00\"))&\"</FONT></TD>\"","v":"<TD NOWRAP ALIGN=CENTER><FONT FACE=\"Times New Roman\" SIZE=-1>$17.61 to $36.40</FONT></TD>"},"</TR>"]
[{"$f":"'2011 SD'!A8","v":"City of Albany"},{"$f":"'2011 SD'!B8","v":3.26},null,{"$f":"'2011 SD'!D8","v":10.96},{"$f":"'2011 SD'!E8","v":22.4},null,null,{"$f":"'2011 SD'!H8","v":36.619999999999997},null,null,{"$f":"'2011 SD'!K8","v":0.99399999999999999},{"$f":"'2011 SD'!L8","v":36.4},null,null,null,"<TR VALIGN=BOTTOM>",{"$f":"\"<TD NOWRAP ALIGN=LEFT><FONT FACE=\"\"Times New Roman\"\" SIZE=-1 COLOR=#800000\"\">\"&A5&\"</FONT></TD>\"","v":"<TD NOWRAP ALIGN=LEFT><FONT FACE=\"Times New Roman\" SIZE=-1 COLOR=#800000\">City of Albany</FONT></TD>"},"<TD NOWRAP ALIGN=RIGHT><FONT FACE=\"Times New Roman\" SIZE=-1>$3.26</FONT></TD>","<TD NOWRAP ALIGN=RIGHT><FONT FACE=\"Times New Roman\" SIZE=-1><BR></FONT></TD>","<TD NOWRAP ALIGN=RIGHT><FONT FACE=\"Times New Roman\" SIZE=-1>$10.96</FONT></TD>","<TD NOWRAP ALIGN=CENTER><FONT FACE=\"Times New Roman\" SIZE=-1>$22.40</FONT></TD>","<TD NOWRAP ALIGN=CENTER><FONT FACE=\"Times New Roman\" SIZE=-1>$36.62</FONT></TD>","<TD NOWRAP ALIGN=CENTER><FONT FACE=\"Times New Roman\" SIZE=-1>0.9940</FONT></TD>","<TD NOWRAP ALIGN=CENTER><FONT FACE=\"Times New Roman\" SIZE=-1>$36.40</FONT></TD>","</TR>"]
["Town of Berne",{"$f":"'2011 SD'!B10","v":5.13},{"$f":"'2011 SD'!C10","v":4.74},null,{"$f":"'2011 SD'!E10","v":28.04},{"$f":"'2011 SD'!F10","v":"to"},{"$f":"'2011 SD'!G10","v":29.49},{"$f":"'2011 SD'!H10","v":37.909999999999997},{"$f":"'2011 SD'!I10","v":"to"},{"$f":"'2011 SD'!J10","v":39.36},{"$f":"'2011 SD'!K10","v":0.62},{"$f":"'2011 SD'!L10","v":23.5},{"$f":"'2011 SD'!M10","v":"to"},{"$f":"'2011 SD'!N10","v":24.4},null,"<TR VALIGN=BOTTOM>",{"$f":"\"<TD NOWRAP ALIGN=LEFT><FONT FACE=\"\"Times New Roman\"\" SIZE=-1>\"&A6&\"</FONT></TD>\"","v":"<TD NOWRAP ALIGN=LEFT><FONT FACE=\"Times New Roman\" SIZE=-1>Town of Berne</FONT></TD>"},"<TD NOWRAP ALIGN=RIGHT><FONT FACE=\"Times New Roman\" SIZE=-1>$5.13</FONT></TD>","<TD NOWRAP ALIGN=RIGHT><FONT FACE=\"Times New Roman\" SIZE=-1>$4.74</FONT></TD>","<TD NOWRAP ALIGN=RIGHT><FONT FACE=\"Times New Roman\" SIZE=-1><BR></FONT></TD>","<TD NOWRAP ALIGN=CENTER><FONT FACE=\"Times New Roman\" SIZE=-1>$28.04 to $29.49</FONT></TD>","<TD NOWRAP ALIGN=CENTER><FONT FACE=\"Times New Roman\" SIZE=-1>$37.91 to $39.36</FONT></TD>","<TD NOWRAP ALIGN=CENTER><FONT FACE=\"Times New Roman\" SIZE=-1>0.6200</FONT></TD>","<TD NOWRAP ALIGN=CENTER><FONT FACE=\"Times New Roman\" SIZE=-1>$23.50 to $24.40</FONT></TD>","</TR>"]
["Town of Bethlehem",{"$f":"'2011 SD'!B15","v":3.25},{"$f":"'2011 SD'!C15","v":1.9},null,{"$f":"'2011 SD'!E15","v":18.5},{"$f":"'2011 SD'!F15","v":"to"},{"$f":"'2011 SD'!G15","v":20.87},{"$f":"'2011 SD'!H15","v":23.65},{"$f":"'2011 SD'!I15","v":"to"},{"$f":"'2011 SD'!J15","v":26.02},{"$f":"'2011 SD'!K15","v":0.97},{"$f":"'2011 SD'!L15","v":22.94},{"$f":"'2011 SD'!M15","v":"to"},{"$f":"'2011 SD'!N15","v":25.23},null,"<TR VALIGN=BOTTOM>",{"$f":"\"<TD NOWRAP ALIGN=LEFT><FONT FACE=\"\"Times New Roman\"\" SIZE=-1>\"&A7&\"</FONT></TD>\"","v":"<TD NOWRAP ALIGN=LEFT><FONT FACE=\"Times New Roman\" SIZE=-1>Town of Bethlehem</FONT></TD>"},"<TD NOWRAP ALIGN=RIGHT><FONT FACE=\"Times New Roman\" SIZE=-1>$3.25</FONT></TD>","<TD NOWRAP ALIGN=RIGHT><FONT FACE=\"Times New Roman\" SIZE=-1>$1.90</FONT></TD>","<TD NOWRAP ALIGN=RIGHT><FONT FACE=\"Times New Roman\" SIZE=-1><BR></FONT></TD>","<TD NOWRAP ALIGN=CENTER><FONT FACE=\"Times New Roman\" SIZE=-1>$18.50 to $20.87</FONT></TD>","<TD NOWRAP ALIGN=CENTER><FONT FACE=\"Times New Roman\" SIZE=-1>$23.65 to $26.02</FONT></TD>","<TD NOWRAP ALIGN=CENTER><FONT FACE=\"Times New Roman\" SIZE=-1>0.9700</FONT></TD>","<TD NOWRAP ALIGN=CENTER><FONT FACE=\"Times New Roman\" SIZE=-1>$22.94 to $25.23</FONT></TD>","</TR>"]
["Town of Coeymans",{"$f":"'2011 SD'!B19","v":3.17},{"$f":"'2011 SD'!C19","v":2.96},null,{"$f":"'2011 SD'!E19","v":17.38},{"$f":"'2011 SD'!F19","v":"to"},{"$f":"'2011 SD'!G19","v":18.72},{"$f":"'2011 SD'!H19","v":23.51},{"$f":"'2011 SD'!I19","v":"to"},{"$f":"'2011 SD'!J19","v":24.85},{"$f":"'2011 SD'!K19","v":1},{"$f":"'2011 SD'!L19","v":23.51},{"$f":"'2011 SD'!M19","v":"to"},{"$f":"'2011 SD'!N19","v":24.85},null,"<TR VALIGN=BOTTOM>",{"$f":"\"<TD NOWRAP ALIGN=LEFT><FONT FACE=\"\"Times New Roman\"\" SIZE=-1>\"&A8&\"</FONT></TD>\"","v":"<TD NOWRAP ALIGN=LEFT><FONT FACE=\"Times New Roman\" SIZE=-1>Town of Coeymans</FONT></TD>"},"<TD NOWRAP ALIGN=RIGHT><FONT FACE=\"Times New Roman\" SIZE=-1>$3.17</FONT></TD>","<TD NOWRAP ALIGN=RIGHT><FONT FACE=\"Times New Roman\" SIZE=-1>$2.96</FONT></TD>","<TD NOWRAP ALIGN=RIGHT><FONT FACE=\"Times New Roman\" SIZE=-1><BR></FONT></TD>","<TD NOWRAP ALIGN=CENTER><FONT FACE=\"Times New Roman\" SIZE=-1>$17.38 to $18.72</FONT></TD>","<TD NOWRAP ALIGN=CENTER><FONT FACE=\"Times New Roman\" SIZE=-1>$23.51 to $24.85</FONT></TD>","<TD NOWRAP ALIGN=CENTER><FONT FACE=\"Times New Roman\" SIZE=-1>1.0000</FONT></TD>","<TD NOWRAP ALIGN=CENTER><FONT FACE=\"Times New Roman\" SIZE=-1>$23.51 to $24.85</FONT></TD>","</TR>"]
["Village of Ravena",{"$f":"'2011 SD'!B22","v":3.17},{"$f":"'2011 SD'!C22","v":2.96},{"$f":"'2011 SD'!D22","v":4.49},{"$f":"'2011 SD'!E22","v":18.72},null,null,{"$f":"'2011 SD'!H22","v":29.34},null,null,{"$f":"'2011 SD'!K22","v":0.99250000000000005},{"$f":"'2011 SD'!L22","v":29.31},null,null,null,"<TR VALIGN=BOTTOM>",{"$f":"\"<TD NOWRAP ALIGN=LEFT><FONT FACE=\"\"Times New Roman\"\" SIZE=-1 COLOR=\"\"#008000\"\">\"&A9&\"</FONT></TD>\"","v":"<TD NOWRAP ALIGN=LEFT><FONT FACE=\"Times New Roman\" SIZE=-1 COLOR=\"#008000\">Village of Ravena</FONT></TD>"},"<TD NOWRAP ALIGN=RIGHT><FONT FACE=\"Times New Roman\" SIZE=-1>$3.17</FONT></TD>","<TD NOWRAP ALIGN=RIGHT><FONT FACE=\"Times New Roman\" SIZE=-1>$2.96</FONT></TD>","<TD NOWRAP ALIGN=RIGHT><FONT FACE=\"Times New Roman\" SIZE=-1>$4.49</FONT></TD>","<TD NOWRAP ALIGN=CENTER><FONT FACE=\"Times New Roman\" SIZE=-1>$18.72</FONT></TD>","<TD NOWRAP ALIGN=CENTER><FONT FACE=\"Times New Roman\" SIZE=-1>$29.34</FONT></TD>","<TD NOWRAP ALIGN=CENTER><FONT FACE=\"Times New Roman\" SIZE=-1>0.9925</FONT></TD>","<TD NOWRAP ALIGN=CENTER><FONT FACE=\"Times New Roman\" SIZE=-1>$29.31</FONT></TD>","</TR>"]
["City of Cohoes",{"$f":"'2011 SD'!B24","v":5.9},null,{"$f":"'2011 SD'!D24","v":16.989999999999998},{"$f":"'2011 SD'!E24","v":32.72},null,null,{"$f":"'2011 SD'!H24","v":55.61},null,null,{"$f":"'2011 SD'!K24","v":0.54},{"$f":"'2011 SD'!L24","v":30.03},null,null,null,"<TR VALIGN=BOTTOM>",{"$f":"\"<TD NOWRAP ALIGN=LEFT><FONT FACE=\"\"Times New Roman\"\" SIZE=-1 COLOR=#800000\"\">\"&A10&\"</FONT></TD>\"","v":"<TD NOWRAP ALIGN=LEFT><FONT FACE=\"Times New Roman\" SIZE=-1 COLOR=#800000\">City of Cohoes</FONT></TD>"},"<TD NOWRAP ALIGN=RIGHT><FONT FACE=\"Times New Roman\" SIZE=-1>$5.90</FONT></TD>","<TD NOWRAP ALIGN=RIGHT><FONT FACE=\"Times New Roman\" SIZE=-1><BR></FONT></TD>","<TD NOWRAP ALIGN=RIGHT><FONT FACE=\"Times New Roman\" SIZE=-1>$16.99</FONT></TD>","<TD NOWRAP ALIGN=CENTER><FONT FACE=\"Times New Roman\" SIZE=-1>$32.72</FONT></TD>","<TD NOWRAP ALIGN=CENTER><FONT FACE=\"Times New Roman\" SIZE=-1>$55.61</FONT></TD>","<TD NOWRAP ALIGN=CENTER><FONT FACE=\"Times New Roman\" SIZE=-1>0.5400</FONT></TD>","<TD NOWRAP ALIGN=CENTER><FONT FACE=\"Times New Roman\" SIZE=-1>$30.03</FONT></TD>","</TR>"]
["Town of Colonie",{"$f":"'2011 SD'!B26","v":4.7},{"$f":"'2011 SD'!C26","v":3.07},null,{"$f":"'2011 SD'!E26","v":18.5},{"$f":"'2011 SD'!F26","v":"to"},{"$f":"'2011 SD'!G26","v":30.15},{"$f":"'2011 SD'!H26","v":26.27},{"$f":"'2011 SD'!I26","v":"to"},{"$f":"'2011 SD'!J26","v":37.92},{"$f":"'2011 SD'!K26","v":0.67},{"$f":"'2011 SD'!L26","v":17.61},{"$f":"'2011 SD'!M26","v":"to"},{"$f":"'2011 SD'!N26","v":25.41},null,"<TR VALIGN=BOTTOM>",{"$f":"\"<TD NOWRAP ALIGN=LEFT><FONT FACE=\"\"Times New Roman\"\" SIZE=-1>\"&A11&\"</FONT></TD>\"","v":"<TD NOWRAP ALIGN=LEFT><FONT FACE=\"Times New Roman\" SIZE=-1>Town of Colonie</FONT></TD>"},"<TD NOWRAP ALIGN=RIGHT><FONT FACE=\"Times New Roman\" SIZE=-1>$4.70</FONT></TD>","<TD NOWRAP ALIGN=RIGHT><FONT FACE=\"Times New Roman\" SIZE=-1>$3.07</FONT></TD>","<TD NOWRAP ALIGN=RIGHT><FONT FACE=\"Times New Roman\" SIZE=-1><BR></FONT></TD>","<TD NOWRAP ALIGN=CENTER><FONT FACE=\"Times New Roman\" SIZE=-1>$18.50 to $30.15</FONT></TD>","<TD NOWRAP ALIGN=CENTER><FONT FACE=\"Times New Roman\" SIZE=-1>$26.27 to $37.92</FONT></TD>","<TD NOWRAP ALIGN=CENTER><FONT FACE=\"Times New Roman\" SIZE=-1>0.6700</FONT></TD>","<TD NOWRAP ALIGN=CENTER><FONT FACE=\"Times New Roman\" SIZE=-1>$17.61 to $25.41</FONT></TD>","</TR>"]
["Village of Colonie",{"$f":"'2011 SD'!B33","v":4.7},{"$f":"'2011 SD'!C33","v":3.07},{"$f":"'2011 SD'!D33","v":38},{"$f":"'2011 SD'!E33","v":24.05},null,null,{"$f":"'2011 SD'!H33","v":69.819999999999993},null,null,{"$f":"'2011 SD'!K33","v":3.5299999999999998E-2},{"$f":"'2011 SD'!L33","v":22.66},null,null,null,"<TR VALIGN=BOTTOM>",{"$f":"\"<TD NOWRAP ALIGN=LEFT><FONT FACE=\"\"Times New Roman\"\" SIZE=-1 COLOR=\"\"#008000\"\">\"&A12&\"</FONT></TD>\"","v":"<TD NOWRAP ALIGN=LEFT><FONT FACE=\"Times New Roman\" SIZE=-1 COLOR=\"#008000\">Village of Colonie</FONT></TD>"},"<TD NOWRAP ALIGN=RIGHT><FONT FACE=\"Times New Roman\" SIZE=-1>$4.70</FONT></TD>","<TD NOWRAP ALIGN=RIGHT><FONT FACE=\"Times New Roman\" SIZE=-1>$3.07</FONT></TD>","<TD NOWRAP ALIGN=RIGHT><FONT FACE=\"Times New Roman\" SIZE=-1>$38.00</FONT></TD>","<TD NOWRAP ALIGN=CENTER><FONT FACE=\"Times New Roman\" SIZE=-1>$24.05</FONT></TD>","<TD NOWRAP ALIGN=CENTER><FONT FACE=\"Times New Roman\" SIZE=-1>$69.82</FONT></TD>","<TD NOWRAP ALIGN=CENTER><FONT FACE=\"Times New Roman\" SIZE=-1>0.0353</FONT></TD>","<TD NOWRAP ALIGN=CENTER><FONT FACE=\"Times New Roman\" SIZE=-1>$22.66</FONT></TD>","</TR>"]
["Village of Menands",{"$f":"'2011 SD'!B35","v":4.7},{"$f":"'2011 SD'!C35","v":3.07},{"$f":"'2011 SD'!D35","v":6.26},{"$f":"'2011 SD'!E35","v":23.92},null,null,{"$f":"'2011 SD'!H35","v":37.950000000000003},null,null,{"$f":"'2011 SD'!K35","v":0.65749999999999997},{"$f":"'2011 SD'!L35","v":25.36},null,null,null,"<TR VALIGN=BOTTOM>",{"$f":"\"<TD NOWRAP ALIGN=LEFT><FONT FACE=\"\"Times New Roman\"\" SIZE=-1 COLOR=\"\"#008000\"\">\"&A13&\"</FONT></TD>\"","v":"<TD NOWRAP ALIGN=LEFT><FONT FACE=\"Times New Roman\" SIZE=-1 COLOR=\"#008000\">Village of Menands</FONT></TD>"},"<TD NOWRAP ALIGN=RIGHT><FONT FACE=\"Times New Roman\" SIZE=-1>$4.70</FONT></TD>","<TD NOWRAP ALIGN=RIGHT><FONT FACE=\"Times New Roman\" SIZE=-1>$3.07</FONT></TD>","<TD NOWRAP ALIGN=RIGHT><FONT FACE=\"Times New Roman\" SIZE=-1>$6.26</FONT></TD>","<TD NOWRAP ALIGN=CENTER><FONT FACE=\"Times New Roman\" SIZE=-1>$23.92</FONT></TD>","<TD NOWRAP ALIGN=CENTER><FONT FACE=\"Times New Roman\" SIZE=-1>$37.95</FONT></TD>","<TD NOWRAP ALIGN=CENTER><FONT FACE=\"Times New Roman\" SIZE=-1>0.6575</FONT></TD>","<TD NOWRAP ALIGN=CENTER><FONT FACE=\"Times New Roman\" SIZE=-1>$25.36</FONT></TD>","</TR>"]
["Town of Green Island","COTERMINUS TOWN/VILLAGE – SEE LINE BELOW",null,null,null,null,null,null,null,null,null,null,null,null,null,"<TR VALIGN=BOTTOM>","<TD NOWRAP><FONT FACE=\"Times New Roman\" SIZE=-1>Town of Green Island</FONT></TD>","<TH NOWRAP COLSPAN=7><FONT FACE=\"Times New Roman\" SIZE=-1>Coterminous Town/Village - Taxes Are Levied by the Village Only - see Village below</FONT></TH>","</TR>"]
["Village of Green Island",{"$f":"'2011 SD'!B38","v":54.3},null,{"$f":"'2011 SD'!D38","v":208.85},{"$f":"'2011 SD'!E38","v":336.63},null,null,{"$f":"'2011 SD'!H38","v":599.78},null,null,{"$f":"'2011 SD'!K38","v":5.3800000000000001E-2},{"$f":"'2011 SD'!L38","v":32.270000000000003},null,null,null,"<TR VALIGN=BOTTOM>",{"$f":"\"<TD NOWRAP ALIGN=LEFT><FONT FACE=\"\"Times New Roman\"\" SIZE=-1 COLOR=\"\"#008000\"\">\"&A15&\"</FONT></TD>\"","v":"<TD NOWRAP ALIGN=LEFT><FONT FACE=\"Times New Roman\" SIZE=-1 COLOR=\"#008000\">Village of Green Island</FONT></TD>"},{"$f":"\"<TD NOWRAP ALIGN=RIGHT><FONT FACE=\"\"Times New Roman\"\" SIZE=-1>\"&IF(B15=\"\",\"<BR>\",TEXT(B15,\"$#,##0.00\"))&\"</FONT></TD>\"","v":"<TD NOWRAP ALIGN=RIGHT><FONT FACE=\"Times New Roman\" SIZE=-1>$54.30</FONT></TD>"},{"$f":"\"<TD NOWRAP ALIGN=RIGHT><FONT FACE=\"\"Times New Roman\"\" SIZE=-1>\"&IF(C15=\"\",\"<BR>\",TEXT(C15,\"$#,##0.00\"))&\"</FONT></TD>\"","v":"<TD NOWRAP ALIGN=RIGHT><FONT FACE=\"Times New Roman\" SIZE=-1><BR></FONT></TD>"},{"$f":"\"<TD NOWRAP ALIGN=RIGHT><FONT FACE=\"\"Times New Roman\"\" SIZE=-1>\"&IF(D15=\"\",\"<BR>\",TEXT(D15,\"$#,##0.00\"))&\"</FONT></TD>\"","v":"<TD NOWRAP ALIGN=RIGHT><FONT FACE=\"Times New Roman\" SIZE=-1>$208.85</FONT></TD>"},{"$f":"\"<TD NOWRAP ALIGN=CENTER><FONT FACE=\"\"Times New Roman\"\" SIZE=-1>\"&TEXT(E15,\"$#,##0.00\")&IF(F15=\"\",\"\",\" to \")&IF(G15=\"\",\"\",TEXT(G15,\"$#,##0.00\"))&\"</FONT></TD>\"","v":"<TD NOWRAP ALIGN=CENTER><FONT FACE=\"Times New Roman\" SIZE=-1>$336.63</FONT></TD>"},{"$f":"\"<TD NOWRAP ALIGN=CENTER><FONT FACE=\"\"Times New Roman\"\" SIZE=-1>\"&TEXT(H15,\"$#,##0.00\")&IF(I15=\"\",\"\",\" to \")&IF(J15=\"\",\"\",TEXT(J15,\"$#,##0.00\"))&\"</FONT></TD>\"","v":"<TD NOWRAP ALIGN=CENTER><FONT FACE=\"Times New Roman\" SIZE=-1>$599.78</FONT></TD>"},{"$f":"\"<TD NOWRAP ALIGN=CENTER><FONT FACE=\"\"Times New Roman\"\" SIZE=-1>\"&IF(K15=\"\",\"<BR>\",TEXT(K15,\"0.0000\"))&\"</FONT></TD>\"","v":"<TD NOWRAP ALIGN=CENTER><FONT FACE=\"Times New Roman\" SIZE=-1>0.0538</FONT></TD>"},{"$f":"\"<TD NOWRAP ALIGN=CENTER><FONT FACE=\"\"Times New Roman\"\" SIZE=-1>\"&TEXT(L15,\"$#,##0.00\")&IF(M15=\"\",\"\",\" to \")&IF(N15=\"\",\"\",TEXT(N15,\"$#,##0.00\"))&\"</FONT></TD>\"","v":"<TD NOWRAP ALIGN=CENTER><FONT FACE=\"Times New Roman\" SIZE=-1>$32.27</FONT></TD>"},"</TR>"]
["Town of Guilderland",{"$f":"'2011 SD'!B40","v":3.68},{"$f":"'2011 SD'!C40","v":1.28},null,{"$f":"'2011 SD'!E40","v":17.86},{"$f":"'2011 SD'!F40","v":"to"},{"$f":"'2011 SD'!G40","v":21.11},{"$f":"'2011 SD'!H40","v":22.82},{"$f":"'2011 SD'!I40","v":"to"},{"$f":"'2011 SD'!J40","v":26.07},{"$f":"'2011 SD'!K40","v":0.85050000000000003},{"$f":"'2011 SD'!L40","v":19.41},{"$f":"'2011 SD'!M40","v":"to"},{"$f":"'2011 SD'!N40","v":22.17},null,"<TR VALIGN=BOTTOM>",{"$f":"\"<TD NOWRAP ALIGN=LEFT><FONT FACE=\"\"Times New Roman\"\" SIZE=-1>\"&A16&\"</FONT></TD>\"","v":"<TD NOWRAP ALIGN=LEFT><FONT FACE=\"Times New Roman\" SIZE=-1>Town of Guilderland</FONT></TD>"},"<TD NOWRAP ALIGN=RIGHT><FONT FACE=\"Times New Roman\" SIZE=-1>$3.68</FONT></TD>","<TD NOWRAP ALIGN=RIGHT><FONT FACE=\"Times New Roman\" SIZE=-1>$1.28</FONT></TD>","<TD NOWRAP ALIGN=RIGHT><FONT FACE=\"Times New Roman\" SIZE=-1><BR></FONT></TD>","<TD NOWRAP ALIGN=CENTER><FONT FACE=\"Times New Roman\" SIZE=-1>$17.86 to $21.11</FONT></TD>","<TD NOWRAP ALIGN=CENTER><FONT FACE=\"Times New Roman\" SIZE=-1>$22.82 to $26.07</FONT></TD>","<TD NOWRAP ALIGN=CENTER><FONT FACE=\"Times New Roman\" SIZE=-1>0.8505</FONT></TD>","<TD NOWRAP ALIGN=CENTER><FONT FACE=\"Times New Roman\" SIZE=-1>$19.41 to $22.17</FONT></TD>","</TR>"]
["Village of Altamont",{"$f":"'2011 SD'!B46","v":3.68},{"$f":"'2011 SD'!C46","v":0.28999999999999998},{"$f":"'2011 SD'!D46","v":2.68},{"$f":"'2011 SD'!E46","v":21.1},null,null,{"$f":"'2011 SD'!H46","v":27.75},null,null,{"$f":"'2011 SD'!K46","v":0.79090000000000005},{"$f":"'2011 SD'!L46","v":23.45},null,null,null,"<TR VALIGN=BOTTOM>",{"$f":"\"<TD NOWRAP ALIGN=LEFT><FONT FACE=\"\"Times New Roman\"\" SIZE=-1 COLOR=\"\"#008000\"\">\"&A17&\"</FONT></TD>\"","v":"<TD NOWRAP ALIGN=LEFT><FONT FACE=\"Times New Roman\" SIZE=-1 COLOR=\"#008000\">Village of Altamont</FONT></TD>"},"<TD NOWRAP ALIGN=RIGHT><FONT FACE=\"Times New Roman\" SIZE=-1>$3.68</FONT></TD>","<TD NOWRAP ALIGN=RIGHT><FONT FACE=\"Times New Roman\" SIZE=-1>$0.29</FONT></TD>","<TD NOWRAP ALIGN=RIGHT><FONT FACE=\"Times New Roman\" SIZE=-1>$2.68</FONT></TD>","<TD NOWRAP ALIGN=CENTER><FONT FACE=\"Times New Roman\" SIZE=-1>$21.10</FONT></TD>","<TD NOWRAP ALIGN=CENTER><FONT FACE=\"Times New Roman\" SIZE=-1>$27.75</FONT></TD>","<TD NOWRAP ALIGN=CENTER><FONT FACE=\"Times New Roman\" SIZE=-1>0.7909</FONT></TD>","<TD NOWRAP ALIGN=CENTER><FONT FACE=\"Times New Roman\" SIZE=-1>$23.45</FONT></TD>","</TR>"]
["Town of Knox",{"$f":"'2011 SD'!B48","v":5.55},{"$f":"'2011 SD'!C48","v":1.85},null,{"$f":"'2011 SD'!E48","v":29.79},{"$f":"'2011 SD'!F48","v":"to"},{"$f":"'2011 SD'!G48","v":33.68},{"$f":"'2011 SD'!H48","v":37.19},{"$f":"'2011 SD'!I48","v":"to"},{"$f":"'2011 SD'!J48","v":41.08},{"$f":"'2011 SD'!K48","v":0.56999999999999995},{"$f":"'2011 SD'!L48","v":21.19},{"$f":"'2011 SD'!M48","v":"to"},{"$f":"'2011 SD'!N48","v":23.41},null,"<TR VALIGN=BOTTOM>",{"$f":"\"<TD NOWRAP ALIGN=LEFT><FONT FACE=\"\"Times New Roman\"\" SIZE=-1>\"&A18&\"</FONT></TD>\"","v":"<TD NOWRAP ALIGN=LEFT><FONT FACE=\"Times New Roman\" SIZE=-1>Town of Knox</FONT></TD>"},"<TD NOWRAP ALIGN=RIGHT><FONT FACE=\"Times New Roman\" SIZE=-1>$5.55</FONT></TD>","<TD NOWRAP ALIGN=RIGHT><FONT FACE=\"Times New Roman\" SIZE=-1>$1.85</FONT></TD>","<TD NOWRAP ALIGN=RIGHT><FONT FACE=\"Times New Roman\" SIZE=-1><BR></FONT></TD>","<TD NOWRAP ALIGN=CENTER><FONT FACE=\"Times New Roman\" SIZE=-1>$29.79 to $33.68</FONT></TD>","<TD NOWRAP ALIGN=CENTER><FONT FACE=\"Times New Roman\" SIZE=-1>$37.19 to $41.08</FONT></TD>","<TD NOWRAP ALIGN=CENTER><FONT FACE=\"Times New Roman\" SIZE=-1>0.5700</FONT></TD>","<TD NOWRAP ALIGN=CENTER><FONT FACE=\"Times New Roman\" SIZE=-1>$21.19 to $23.41</FONT></TD>","</TR>"]
["Town of New Scotland",{"$f":"'2011 SD'!B53","v":3.36},{"$f":"'2011 SD'!C53","v":1.71},null,{"$f":"'2011 SD'!E53","v":18.489999999999998},{"$f":"'2011 SD'!F53","v":"to"},{"$f":"'2011 SD'!G53","v":21.53},{"$f":"'2011 SD'!H53","v":23.56},{"$f":"'2011 SD'!I53","v":"to"},{"$f":"'2011 SD'!J53","v":26.6},{"$f":"'2011 SD'!K53","v":0.94},{"$f":"'2011 SD'!L53","v":22.15},{"$f":"'2011 SD'!M53","v":"to"},{"$f":"'2011 SD'!N53","v":25.01},null,"<TR VALIGN=BOTTOM>",{"$f":"\"<TD NOWRAP ALIGN=LEFT><FONT FACE=\"\"Times New Roman\"\" SIZE=-1>\"&A19&\"</FONT></TD>\"","v":"<TD NOWRAP ALIGN=LEFT><FONT FACE=\"Times New Roman\" SIZE=-1>Town of New Scotland</FONT></TD>"},"<TD NOWRAP ALIGN=RIGHT><FONT FACE=\"Times New Roman\" SIZE=-1>$3.36</FONT></TD>","<TD NOWRAP ALIGN=RIGHT><FONT FACE=\"Times New Roman\" SIZE=-1>$1.71</FONT></TD>","<TD NOWRAP ALIGN=RIGHT><FONT FACE=\"Times New Roman\" SIZE=-1><BR></FONT></TD>","<TD NOWRAP ALIGN=CENTER><FONT FACE=\"Times New Roman\" SIZE=-1>$18.49 to $21.53</FONT></TD>","<TD NOWRAP ALIGN=CENTER><FONT FACE=\"Times New Roman\" SIZE=-1>$23.56 to $26.60</FONT></TD>","<TD NOWRAP ALIGN=CENTER><FONT FACE=\"Times New Roman\" SIZE=-1>0.9400</FONT></TD>","<TD NOWRAP ALIGN=CENTER><FONT FACE=\"Times New Roman\" SIZE=-1>$22.15 to $25.01</FONT></TD>","</TR>"]
["Village of Voorheesville",{"$f":"'2011 SD'!B60","v":3.36},{"$f":"'2011 SD'!C60","v":1.25},{"$f":"'2011 SD'!D60","v":1.1000000000000001},{"$f":"'2011 SD'!E60","v":18.91},null,null,{"$f":"'2011 SD'!H60","v":24.62},null,null,{"$f":"'2011 SD'!K60","v":0.94},{"$f":"'2011 SD'!L60","v":23.15},null,null,null,"<TR VALIGN=BOTTOM>",{"$f":"\"<TD NOWRAP ALIGN=LEFT><FONT FACE=\"\"Times New Roman\"\" SIZE=-1 COLOR=\"\"#008000\"\">\"&A20&\"</FONT></TD>\"","v":"<TD NOWRAP ALIGN=LEFT><FONT FACE=\"Times New Roman\" SIZE=-1 COLOR=\"#008000\">Village of Voorheesville</FONT></TD>"},"<TD NOWRAP ALIGN=RIGHT><FONT FACE=\"Times New Roman\" SIZE=-1>$3.36</FONT></TD>","<TD NOWRAP ALIGN=RIGHT><FONT FACE=\"Times New Roman\" SIZE=-1>$1.25</FONT></TD>","<TD NOWRAP ALIGN=RIGHT><FONT FACE=\"Times New Roman\" SIZE=-1>$1.10</FONT></TD>","<TD NOWRAP ALIGN=CENTER><FONT FACE=\"Times New Roman\" SIZE=-1>$18.91</FONT></TD>","<TD NOWRAP ALIGN=CENTER><FONT FACE=\"Times New Roman\" SIZE=-1>$24.62</FONT></TD>","<TD NOWRAP ALIGN=CENTER><FONT FACE=\"Times New Roman\" SIZE=-1>0.9400</FONT></TD>","<TD NOWRAP ALIGN=CENTER><FONT FACE=\"Times New Roman\" SIZE=-1>$23.15</FONT></TD>","</TR>"]
["Town of Rensselaerville",{"$f":"'2011 SD'!B62","v":5.79},{"$f":"'2011 SD'!C62","v":7.76},null,{"$f":"'2011 SD'!E62","v":22.01},{"$f":"'2011 SD'!F62","v":"to"},{"$f":"'2011 SD'!G62","v":33.74},{"$f":"'2011 SD'!H62","v":35.56},{"$f":"'2011 SD'!I62","v":"to"},{"$f":"'2011 SD'!J62","v":47.29},{"$f":"'2011 SD'!K62","v":0.54200000000000004},{"$f":"'2011 SD'!L62","v":19.28},{"$f":"'2011 SD'!M62","v":"to"},{"$f":"'2011 SD'!N62","v":25.64},null,"<TR VALIGN=BOTTOM>",{"$f":"\"<TD NOWRAP ALIGN=LEFT><FONT FACE=\"\"Times New Roman\"\" SIZE=-1>\"&A21&\"</FONT></TD>\"","v":"<TD NOWRAP ALIGN=LEFT><FONT FACE=\"Times New Roman\" SIZE=-1>Town of Rensselaerville</FONT></TD>"},"<TD NOWRAP ALIGN=RIGHT><FONT FACE=\"Times New Roman\" SIZE=-1>$5.79</FONT></TD>","<TD NOWRAP ALIGN=RIGHT><FONT FACE=\"Times New Roman\" SIZE=-1>$7.76</FONT></TD>","<TD NOWRAP ALIGN=RIGHT><FONT FACE=\"Times New Roman\" SIZE=-1><BR></FONT></TD>","<TD NOWRAP ALIGN=CENTER><FONT FACE=\"Times New Roman\" SIZE=-1>$22.01 to $33.74</FONT></TD>","<TD NOWRAP ALIGN=CENTER><FONT FACE=\"Times New Roman\" SIZE=-1>$35.56 to $47.29</FONT></TD>","<TD NOWRAP ALIGN=CENTER><FONT FACE=\"Times New Roman\" SIZE=-1>0.5420</FONT></TD>","<TD NOWRAP ALIGN=CENTER><FONT FACE=\"Times New Roman\" SIZE=-1>$19.28 to $25.64</FONT></TD>","</TR>"]
["City of Watervliet",{"$f":"'2011 SD'!B67","v":5.1100000000000003},null,{"$f":"'2011 SD'!D67","v":15.54},{"$f":"'2011 SD'!E67","v":19.91},null,null,{"$f":"'2011 SD'!H67","v":40.56},null,null,{"$f":"'2011 SD'!K67","v":0.62250000000000005},{"$f":"'2011 SD'!L67","v":25.24},null,null,null,"<TR VALIGN=BOTTOM>",{"$f":"\"<TD NOWRAP ALIGN=LEFT><FONT FACE=\"\"Times New Roman\"\" SIZE=-1 COLOR=#800000\"\">\"&A22&\"</FONT></TD>\"","v":"<TD NOWRAP ALIGN=LEFT><FONT FACE=\"Times New Roman\" SIZE=-1 COLOR=#800000\">City of Watervliet</FONT></TD>"},"<TD NOWRAP ALIGN=RIGHT><FONT FACE=\"Times New Roman\" SIZE=-1>$5.11</FONT></TD>","<TD NOWRAP ALIGN=RIGHT><FONT FACE=\"Times New Roman\" SIZE=-1><BR></FONT></TD>","<TD NOWRAP ALIGN=RIGHT><FONT FACE=\"Times New Roman\" SIZE=-1>$15.54</FONT></TD>","<TD NOWRAP ALIGN=CENTER><FONT FACE=\"Times New Roman\" SIZE=-1>$19.91</FONT></TD>","<TD NOWRAP ALIGN=CENTER><FONT FACE=\"Times New Roman\" SIZE=-1>$40.56</FONT></TD>","<TD NOWRAP ALIGN=CENTER><FONT FACE=\"Times New Roman\" SIZE=-1>0.6225</FONT></TD>","<TD NOWRAP ALIGN=CENTER><FONT FACE=\"Times New Roman\" SIZE=-1>$25.24</FONT></TD>","</TR>"]
["Town of Westerlo",{"$f":"'2011 SD'!B69","v":379.91},{"$f":"'2011 SD'!C69","v":260.60000000000002},null,{"$f":"'2011 SD'!E69","v":2045.22},{"$f":"'2011 SD'!F69","v":"to"},{"$f":"'2011 SD'!G69","v":2048.92},{"$f":"'2011 SD'!H69","v":2685.73},{"$f":"'2011 SD'!I69","v":"to"},{"$f":"'2011 SD'!J69","v":2689.43},{"$f":"'2011 SD'!K69","v":8.5000000000000006E-3},{"$f":"'2011 SD'!L69","v":22.83},{"$f":"'2011 SD'!M69","v":"to"},{"$f":"'2011 SD'!N69","v":22.87},null,"<TR VALIGN=BOTTOM>",{"$f":"\"<TD NOWRAP ALIGN=LEFT><FONT FACE=\"\"Times New Roman\"\" SIZE=-1>\"&A23&\"</FONT></TD>\"","v":"<TD NOWRAP ALIGN=LEFT><FONT FACE=\"Times New Roman\" SIZE=-1>Town of Westerlo</FONT></TD>"},"<TD NOWRAP ALIGN=RIGHT><FONT FACE=\"Times New Roman\" SIZE=-1>$379.91</FONT></TD>","<TD NOWRAP ALIGN=RIGHT><FONT FACE=\"Times New Roman\" SIZE=-1>$260.60</FONT></TD>","<TD NOWRAP ALIGN=RIGHT><FONT FACE=\"Times New Roman\" SIZE=-1><BR></FONT></TD>","<TD NOWRAP ALIGN=CENTER><FONT FACE=\"Times New Roman\" SIZE=-1>$2,045.22 to $2,048.92</FONT></TD>","<TD NOWRAP ALIGN=CENTER><FONT FACE=\"Times New Roman\" SIZE=-1>$2,685.73 to $2,689.43</FONT></TD>","<TD NOWRAP ALIGN=CENTER><FONT FACE=\"Times New Roman\" SIZE=-1>0.0085</FONT></TD>","<TD NOWRAP ALIGN=CENTER><FONT FACE=\"Times New Roman\" SIZE=-1>$22.83 to $22.87</FONT></TD>","</TR>"]
["Rensselaer County",null,null,null,{"$f":"MIN(E25:E48)","v":13.65},{"$f":"IF(G24<>0,\"to\",\"\")","v":"to"},{"$f":"MAX(E25:G48)","v":205.6},{"$f":"MIN(H25:H48)","v":23},{"$f":"IF(J24<>0,\"to\",\"\")","v":"to"},{"$f":"MAX(H25:J48)","v":311.63},null,{"$f":"MIN(L25:L48)","v":14.6},{"$f":"IF(N24<>0,\"to\",\"\")","v":"to"},{"$f":"MAX(L25:N48)","v":35.57},null,"<TR VALIGN=BOTTOM BGCOLOR=\"#CCCCFF\">",{"$f":"\"<TH NOWRAP ALIGN=LEFT><FONT FACE=\"\"Times New Roman\"\" COLOR=\"\"#AA00AA\"\">\"&A24&\"</FONT></TH>\"","v":"<TH NOWRAP ALIGN=LEFT><FONT FACE=\"Times New Roman\" COLOR=\"#AA00AA\">Rensselaer County</FONT></TH>"},"<TD NOWRAP ALIGN=RIGHT><FONT FACE=\"Times New Roman\" SIZE=-1><BR></FONT></TD>","<TD NOWRAP ALIGN=RIGHT><FONT FACE=\"Times New Roman\" SIZE=-1><BR></FONT></TD>","<TD NOWRAP ALIGN=RIGHT><FONT FACE=\"Times New Roman\" SIZE=-1><BR></FONT></TD>","<TD NOWRAP ALIGN=CENTER><FONT FACE=\"Times New Roman\" SIZE=-1>$13.65 to $205.60</FONT></TD>","<TD NOWRAP ALIGN=CENTER><FONT FACE=\"Times New Roman\" SIZE=-1>$23.00 to $311.63</FONT></TD>","<TD NOWRAP ALIGN=CENTER><FONT FACE=\"Times New Roman\" SIZE=-1><BR></FONT></TD>","<TD NOWRAP ALIGN=CENTER><FONT FACE=\"Times New Roman\" SIZE=-1>$14.60 to $35.57</FONT></TD>","</TR>"]
["Town of Berlin",{"$f":"'2011 SD'!B73","v":22.16},{"$f":"'2011 SD'!C73","v":9.43},null,{"$f":"'2011 SD'!E73","v":57.6},{"$f":"'2011 SD'!F73","v":"to"},{"$f":"'2011 SD'!G73","v":64.34},{"$f":"'2011 SD'!H73","v":89.19},{"$f":"'2011 SD'!I73","v":"to"},{"$f":"'2011 SD'!J73","v":95.93},{"$f":"'2011 SD'!K73","v":0.246},{"$f":"'2011 SD'!L73","v":21.94},{"$f":"'2011 SD'!M73","v":"to"},{"$f":"'2011 SD'!N73","v":23.6},null,"<TR VALIGN=BOTTOM>",{"$f":"\"<TD NOWRAP ALIGN=LEFT><FONT FACE=\"\"Times New Roman\"\" SIZE=-1>\"&A25&\"</FONT></TD>\"","v":"<TD NOWRAP ALIGN=LEFT><FONT FACE=\"Times New Roman\" SIZE=-1>Town of Berlin</FONT></TD>"},"<TD NOWRAP ALIGN=RIGHT><FONT FACE=\"Times New Roman\" SIZE=-1>$22.16</FONT></TD>","<TD NOWRAP ALIGN=RIGHT><FONT FACE=\"Times New Roman\" SIZE=-1>$9.43</FONT></TD>","<TD NOWRAP ALIGN=RIGHT><FONT FACE=\"Times New Roman\" SIZE=-1><BR></FONT></TD>","<TD NOWRAP ALIGN=CENTER><FONT FACE=\"Times New Roman\" SIZE=-1>$57.60 to $64.34</FONT></TD>","<TD NOWRAP ALIGN=CENTER><FONT FACE=\"Times New Roman\" SIZE=-1>$89.19 to $95.93</FONT></TD>","<TD NOWRAP ALIGN=CENTER><FONT FACE=\"Times New Roman\" SIZE=-1>0.2460</FONT></TD>","<TD NOWRAP ALIGN=CENTER><FONT FACE=\"Times New Roman\" SIZE=-1>$21.94 to $23.60</FONT></TD>","</TR>"]
["Town of Brunswick",{"$f":"'2011 SD'!B76","v":21.58},{"$f":"'2011 SD'!C76","v":7.91},null,{"$f":"'2011 SD'!E76","v":62.22},{"$f":"'2011 SD'!F76","v":"to"},{"$f":"'2011 SD'!G76","v":75.510000000000005},{"$f":"'2011 SD'!H76","v":91.71},{"$f":"'2011 SD'!I76","v":"to"},{"$f":"'2011 SD'!J76","v":105},{"$f":"'2011 SD'!K76","v":0.253},{"$f":"'2011 SD'!L76","v":23.2},{"$f":"'2011 SD'!M76","v":"to"},{"$f":"'2011 SD'!N76","v":26.56},null,"<TR VALIGN=BOTTOM>",{"$f":"\"<TD NOWRAP ALIGN=LEFT><FONT FACE=\"\"Times New Roman\"\" SIZE=-1>\"&A26&\"</FONT></TD>\"","v":"<TD NOWRAP ALIGN=LEFT><FONT FACE=\"Times New Roman\" SIZE=-1>Town of Brunswick</FONT></TD>"},"<TD NOWRAP ALIGN=RIGHT><FONT FACE=\"Times New Roman\" SIZE=-1>$21.58</FONT></TD>","<TD NOWRAP ALIGN=RIGHT><FONT FACE=\"Times New Roman\" SIZE=-1>$7.91</FONT></TD>","<TD NOWRAP ALIGN=RIGHT><FONT FACE=\"Times New Roman\" SIZE=-1><BR></FONT></TD>","<TD NOWRAP ALIGN=CENTER><FONT FACE=\"Times New Roman\" SIZE=-1>$62.22 to $75.51</FONT></TD>","<TD NOWRAP ALIGN=CENTER><FONT FACE=\"Times New Roman\" SIZE=-1>$91.71 to $105.00</FONT></TD>","<TD NOWRAP ALIGN=CENTER><FONT FACE=\"Times New Roman\" SIZE=-1>0.2530</FONT></TD>","<TD NOWRAP ALIGN=CENTER><FONT FACE=\"Times New Roman\" SIZE=-1>$23.20 to $26.56</FONT></TD>","</TR>"]
["Town of East Greenbush",{"$f":"'2011 SD'!B82","v":5.4},{"$f":"'2011 SD'!C82","v":4.01},null,{"$f":"'2011 SD'!E82","v":15.82},{"$f":"'2011 SD'!F82","v":"to"},{"$f":"'2011 SD'!G82","v":17.68},{"$f":"'2011 SD'!H82","v":25.23},{"$f":"'2011 SD'!I82","v":"to"},{"$f":"'2011 SD'!J82","v":27.09},{"$f":"'2011 SD'!K82","v":1},{"$f":"'2011 SD'!L82","v":25.23},{"$f":"'2011 SD'!M82","v":"to"},{"$f":"'2011 SD'!N82","v":27.09},null,"<TR VALIGN=BOTTOM>",{"$f":"\"<TD NOWRAP ALIGN=LEFT><FONT FACE=\"\"Times New Roman\"\" SIZE=-1>\"&A27&\"</FONT></TD>\"","v":"<TD NOWRAP ALIGN=LEFT><FONT FACE=\"Times New Roman\" SIZE=-1>Town of East Greenbush</FONT></TD>"},"<TD NOWRAP ALIGN=RIGHT><FONT FACE=\"Times New Roman\" SIZE=-1>$5.40</FONT></TD>","<TD NOWRAP ALIGN=RIGHT><FONT FACE=\"Times New Roman\" SIZE=-1>$4.01</FONT></TD>","<TD NOWRAP ALIGN=RIGHT><FONT FACE=\"Times New Roman\" SIZE=-1><BR></FONT></TD>","<TD NOWRAP ALIGN=CENTER><FONT FACE=\"Times New Roman\" SIZE=-1>$15.82 to $17.68</FONT></TD>","<TD NOWRAP ALIGN=CENTER><FONT FACE=\"Times New Roman\" SIZE=-1>$25.23 to $27.09</FONT></TD>","<TD NOWRAP ALIGN=CENTER><FONT FACE=\"Times New Roman\" SIZE=-1>1.0000</FONT></TD>","<TD NOWRAP ALIGN=CENTER><FONT FACE=\"Times New Roman\" SIZE=-1>$25.23 to $27.09</FONT></TD>","</TR>"]
["Town of Grafton",{"$f":"'2011 SD'!B85","v":65.05},{"$f":"'2011 SD'!C85","v":40.98},null,{"$f":"'2011 SD'!E85","v":169.7},{"$f":"'2011 SD'!F85","v":"to"},{"$f":"'2011 SD'!G85","v":205.6},{"$f":"'2011 SD'!H85","v":275.73},{"$f":"'2011 SD'!I85","v":"to"},{"$f":"'2011 SD'!J85","v":311.63},{"$f":"'2011 SD'!K85","v":8.3500000000000005E-2},{"$f":"'2011 SD'!L85","v":23.02},{"$f":"'2011 SD'!M85","v":"to"},{"$f":"'2011 SD'!N85","v":26.02},null,"<TR VALIGN=BOTTOM>",{"$f":"\"<TD NOWRAP ALIGN=LEFT><FONT FACE=\"\"Times New Roman\"\" SIZE=-1>\"&A28&\"</FONT></TD>\"","v":"<TD NOWRAP ALIGN=LEFT><FONT FACE=\"Times New Roman\" SIZE=-1>Town of Grafton</FONT></TD>"},"<TD NOWRAP ALIGN=RIGHT><FONT FACE=\"Times New Roman\" SIZE=-1>$65.05</FONT></TD>","<TD NOWRAP ALIGN=RIGHT><FONT FACE=\"Times New Roman\" SIZE=-1>$40.98</FONT></TD>","<TD NOWRAP ALIGN=RIGHT><FONT FACE=\"Times New Roman\" SIZE=-1><BR></FONT></TD>","<TD NOWRAP ALIGN=CENTER><FONT FACE=\"Times New Roman\" SIZE=-1>$169.70 to $205.60</FONT></TD>","<TD NOWRAP ALIGN=CENTER><FONT FACE=\"Times New Roman\" SIZE=-1>$275.73 to $311.63</FONT></TD>","<TD NOWRAP ALIGN=CENTER><FONT FACE=\"Times New Roman\" SIZE=-1>0.0835</FONT></TD>","<TD NOWRAP ALIGN=CENTER><FONT FACE=\"Times New Roman\" SIZE=-1>$23.02 to $26.02</FONT></TD>","</TR>"]
["Town of Hoosick",{"$f":"'2011 SD'!B89","v":20.69},{"$f":"'2011 SD'!C89","v":11.56},null,{"$f":"'2011 SD'!E89","v":46.18},{"$f":"'2011 SD'!F89","v":"to"},{"$f":"'2011 SD'!G89","v":62.36},{"$f":"'2011 SD'!H89","v":78.430000000000007},{"$f":"'2011 SD'!I89","v":"to"},{"$f":"'2011 SD'!J89","v":94.61},{"$f":"'2011 SD'!K89","v":0.27500000000000002},{"$f":"'2011 SD'!L89","v":21.57},{"$f":"'2011 SD'!M89","v":"to"},{"$f":"'2011 SD'!N89","v":26.02},null,"<TR VALIGN=BOTTOM>",{"$f":"\"<TD NOWRAP ALIGN=LEFT><FONT FACE=\"\"Times New Roman\"\" SIZE=-1>\"&A29&\"</FONT></TD>\"","v":"<TD NOWRAP ALIGN=LEFT><FONT FACE=\"Times New Roman\" SIZE=-1>Town of Hoosick</FONT></TD>"},"<TD NOWRAP ALIGN=RIGHT><FONT FACE=\"Times New Roman\" SIZE=-1>$20.69</FONT></TD>","<TD NOWRAP ALIGN=RIGHT><FONT FACE=\"Times New Roman\" SIZE=-1>$11.56</FONT></TD>","<TD NOWRAP ALIGN=RIGHT><FONT FACE=\"Times New Roman\" SIZE=-1><BR></FONT></TD>","<TD NOWRAP ALIGN=CENTER><FONT FACE=\"Times New Roman\" SIZE=-1>$46.18 to $62.36</FONT></TD>","<TD NOWRAP ALIGN=CENTER><FONT FACE=\"Times New Roman\" SIZE=-1>$78.43 to $94.61</FONT></TD>","<TD NOWRAP ALIGN=CENTER><FONT FACE=\"Times New Roman\" SIZE=-1>0.2750</FONT></TD>","<TD NOWRAP ALIGN=CENTER><FONT FACE=\"Times New Roman\" SIZE=-1>$21.57 to $26.02</FONT></TD>","</TR>"]
["Village of Hoosick Falls",{"$f":"'2011 SD'!B92","v":20.69},{"$f":"'2011 SD'!C92","v":8.41},{"$f":"'2011 SD'!D92","v":56.92},{"$f":"'2011 SD'!E92","v":62.36},null,null,{"$f":"'2011 SD'!H92","v":148.38},null,null,{"$f":"'2011 SD'!K92","v":0.12970000000000001},{"$f":"'2011 SD'!L92","v":32.53},null,null,null,"<TR VALIGN=BOTTOM>",{"$f":"\"<TD NOWRAP ALIGN=LEFT><FONT FACE=\"\"Times New Roman\"\" SIZE=-1 COLOR=\"\"#008000\"\">\"&A30&\"</FONT></TD>\"","v":"<TD NOWRAP ALIGN=LEFT><FONT FACE=\"Times New Roman\" SIZE=-1 COLOR=\"#008000\">Village of Hoosick Falls</FONT></TD>"},"<TD NOWRAP ALIGN=RIGHT><FONT FACE=\"Times New Roman\" SIZE=-1>$20.69</FONT></TD>","<TD NOWRAP ALIGN=RIGHT><FONT FACE=\"Times New Roman\" SIZE=-1>$8.41</FONT></TD>","<TD NOWRAP ALIGN=RIGHT><FONT FACE=\"Times New Roman\" SIZE=-1>$56.92</FONT></TD>","<TD NOWRAP ALIGN=CENTER><FONT FACE=\"Times New Roman\" SIZE=-1>$62.36</FONT></TD>","<TD NOWRAP ALIGN=CENTER><FONT FACE=\"Times New Roman\" SIZE=-1>$148.38</FONT></TD>","<TD NOWRAP ALIGN=CENTER><FONT FACE=\"Times New Roman\" SIZE=-1>0.1297</FONT></TD>","<TD NOWRAP ALIGN=CENTER><FONT FACE=\"Times New Roman\" SIZE=-1>$32.53</FONT></TD>","</TR>"]
["Town of Nassau",{"$f":"'2011 SD'!B94","v":7.77},{"$f":"'2011 SD'!C94","v":4.07},null,{"$f":"'2011 SD'!E94","v":16.96},{"$f":"'2011 SD'!F94","v":"to"},{"$f":"'2011 SD'!G94","v":24.76},{"$f":"'2011 SD'!H94","v":28.8},{"$f":"'2011 SD'!I94","v":"to"},{"$f":"'2011 SD'!J94","v":36.6},{"$f":"'2011 SD'!K94","v":0.7},{"$f":"'2011 SD'!L94","v":20.16},{"$f":"'2011 SD'!M94","v":"to"},{"$f":"'2011 SD'!N94","v":25.62},null,"<TR VALIGN=BOTTOM>",{"$f":"\"<TD NOWRAP ALIGN=LEFT><FONT FACE=\"\"Times New Roman\"\" SIZE=-1>\"&A31&\"</FONT></TD>\"","v":"<TD NOWRAP ALIGN=LEFT><FONT FACE=\"Times New Roman\" SIZE=-1>Town of Nassau</FONT></TD>"},"<TD NOWRAP ALIGN=RIGHT><FONT FACE=\"Times New Roman\" SIZE=-1>$7.77</FONT></TD>","<TD NOWRAP ALIGN=RIGHT><FONT FACE=\"Times New Roman\" SIZE=-1>$4.07</FONT></TD>","<TD NOWRAP ALIGN=RIGHT><FONT FACE=\"Times New Roman\" SIZE=-1><BR></FONT></TD>","<TD NOWRAP ALIGN=CENTER><FONT FACE=\"Times New Roman\" SIZE=-1>$16.96 to $24.76</FONT></TD>","<TD NOWRAP ALIGN=CENTER><FONT FACE=\"Times New Roman\" SIZE=-1>$28.80 to $36.60</FONT></TD>","<TD NOWRAP ALIGN=CENTER><FONT FACE=\"Times New Roman\" SIZE=-1>0.7000</FONT></TD>","<TD NOWRAP ALIGN=CENTER><FONT FACE=\"Times New Roman\" SIZE=-1>$20.16 to $25.62</FONT></TD>","</TR>"]
["Village of East Nassau",{"$f":"'2011 SD'!B99","v":7.77},{"$f":"'2011 SD'!C99","v":1.01},{"$f":"'2011 SD'!D99","v":1.78},{"$f":"'2011 SD'!E99","v":16.96},{"$f":"'2011 SD'!F99","v":"to"},{"$f":"'2011 SD'!G99","v":24.76},{"$f":"'2011 SD'!H99","v":27.52},{"$f":"'2011 SD'!I99","v":"to"},{"$f":"'2011 SD'!J99","v":35.32},{"$f":"'2011 SD'!K99","v":0.69499999999999995},{"$f":"'2011 SD'!L99","v":19.260000000000002},{"$f":"'2011 SD'!M99","v":"to"},{"$f":"'2011 SD'!N99","v":24.72},null,"<TR VALIGN=BOTTOM>",{"$f":"\"<TD NOWRAP ALIGN=LEFT><FONT FACE=\"\"Times New Roman\"\" SIZE=-1 COLOR=\"\"#008000\"\">\"&A32&\"</FONT></TD>\"","v":"<TD NOWRAP ALIGN=LEFT><FONT FACE=\"Times New Roman\" SIZE=-1 COLOR=\"#008000\">Village of East Nassau</FONT></TD>"},"<TD NOWRAP ALIGN=RIGHT><FONT FACE=\"Times New Roman\" SIZE=-1>$7.77</FONT></TD>","<TD NOWRAP ALIGN=RIGHT><FONT FACE=\"Times New Roman\" SIZE=-1>$1.01</FONT></TD>","<TD NOWRAP ALIGN=RIGHT><FONT FACE=\"Times New Roman\" SIZE=-1>$1.78</FONT></TD>","<TD NOWRAP ALIGN=CENTER><FONT FACE=\"Times New Roman\" SIZE=-1>$16.96 to $24.76</FONT></TD>","<TD NOWRAP ALIGN=CENTER><FONT FACE=\"Times New Roman\" SIZE=-1>$27.52 to $35.32</FONT></TD>","<TD NOWRAP ALIGN=CENTER><FONT FACE=\"Times New Roman\" SIZE=-1>0.6950</FONT></TD>","<TD NOWRAP ALIGN=CENTER><FONT FACE=\"Times New Roman\" SIZE=-1>$19.26 to $24.72</FONT></TD>","</TR>"]
["Village of Nassau (part)",{"$f":"'2011 SD'!B103","v":7.77},{"$f":"'2011 SD'!C103","v":1.01},{"$f":"'2011 SD'!D103","v":9.6199999999999992},{"$f":"'2011 SD'!E103","v":24.76},null,null,{"$f":"'2011 SD'!H103","v":43.16},null,null,{"$f":"'2011 SD'!K103","v":0.50019999999999998},{"$f":"'2011 SD'!L103","v":28.29},null,null,null,"<TR VALIGN=BOTTOM>",{"$f":"\"<TD NOWRAP ALIGN=LEFT><FONT FACE=\"\"Times New Roman\"\" SIZE=-1 COLOR=\"\"#808000\"\">\"&A33&\"</FONT></TD>\"","v":"<TD NOWRAP ALIGN=LEFT><FONT FACE=\"Times New Roman\" SIZE=-1 COLOR=\"#808000\">Village of Nassau (part)</FONT></TD>"},"<TD NOWRAP ALIGN=RIGHT><FONT FACE=\"Times New Roman\" SIZE=-1>$7.77</FONT></TD>","<TD NOWRAP ALIGN=RIGHT><FONT FACE=\"Times New Roman\" SIZE=-1>$1.01</FONT></TD>","<TD NOWRAP ALIGN=RIGHT><FONT FACE=\"Times New Roman\" SIZE=-1>$9.62</FONT></TD>","<TD NOWRAP ALIGN=CENTER><FONT FACE=\"Times New Roman\" SIZE=-1>$24.76</FONT></TD>","<TD NOWRAP ALIGN=CENTER><FONT FACE=\"Times New Roman\" SIZE=-1>$43.16</FONT></TD>","<TD NOWRAP ALIGN=CENTER><FONT FACE=\"Times New Roman\" SIZE=-1>0.5002</FONT></TD>","<TD NOWRAP ALIGN=CENTER><FONT FACE=\"Times New Roman\" SIZE=-1>$28.29</FONT></TD>","</TR>"]
["Town of North Greenbush",{"$f":"'2011 SD'!B105","v":20.78},{"$f":"'2011 SD'!C105","v":10.85},null,{"$f":"'2011 SD'!E105","v":24},{"$f":"'2011 SD'!F105","v":"to"},{"$f":"'2011 SD'!G105","v":72.930000000000007},{"$f":"'2011 SD'!H105","v":55.63},{"$f":"'2011 SD'!I105","v":"to"},{"$f":"'2011 SD'!J105","v":104.56},{"$f":"'2011 SD'!K105","v":0.26250000000000001},{"$f":"'2011 SD'!L105","v":14.6},{"$f":"'2011 SD'!M105","v":"to"},{"$f":"'2011 SD'!N105","v":27.44},null,"<TR VALIGN=BOTTOM>",{"$f":"\"<TD NOWRAP ALIGN=LEFT><FONT FACE=\"\"Times New Roman\"\" SIZE=-1>\"&A34&\"</FONT></TD>\"","v":"<TD NOWRAP ALIGN=LEFT><FONT FACE=\"Times New Roman\" SIZE=-1>Town of North Greenbush</FONT></TD>"},"<TD NOWRAP ALIGN=RIGHT><FONT FACE=\"Times New Roman\" SIZE=-1>$20.78</FONT></TD>","<TD NOWRAP ALIGN=RIGHT><FONT FACE=\"Times New Roman\" SIZE=-1>$10.85</FONT></TD>","<TD NOWRAP ALIGN=RIGHT><FONT FACE=\"Times New Roman\" SIZE=-1><BR></FONT></TD>","<TD NOWRAP ALIGN=CENTER><FONT FACE=\"Times New Roman\" SIZE=-1>$24.00 to $72.93</FONT></TD>","<TD NOWRAP ALIGN=CENTER><FONT FACE=\"Times New Roman\" SIZE=-1>$55.63 to $104.56</FONT></TD>","<TD NOWRAP ALIGN=CENTER><FONT FACE=\"Times New Roman\" SIZE=-1>0.2625</FONT></TD>","<TD NOWRAP ALIGN=CENTER><FONT FACE=\"Times New Roman\" SIZE=-1>$14.60 to $27.44</FONT></TD>","</TR>"]
["Town of Petersburgh",{"$f":"'2011 SD'!B110","v":10.039999999999999},{"$f":"'2011 SD'!C110","v":7.6},null,{"$f":"'2011 SD'!E110","v":25.07},{"$f":"'2011 SD'!F110","v":"to"},{"$f":"'2011 SD'!G110","v":30.35},{"$f":"'2011 SD'!H110","v":42.71},{"$f":"'2011 SD'!I110","v":"to"},{"$f":"'2011 SD'!J110","v":47.99},{"$f":"'2011 SD'!K110","v":0.56499999999999995},{"$f":"'2011 SD'!L110","v":24.12},{"$f":"'2011 SD'!M110","v":"to"},{"$f":"'2011 SD'!N110","v":27.11},null,"<TR VALIGN=BOTTOM>",{"$f":"\"<TD NOWRAP ALIGN=LEFT><FONT FACE=\"\"Times New Roman\"\" SIZE=-1>\"&A35&\"</FONT></TD>\"","v":"<TD NOWRAP ALIGN=LEFT><FONT FACE=\"Times New Roman\" SIZE=-1>Town of Petersburgh</FONT></TD>"},"<TD NOWRAP ALIGN=RIGHT><FONT FACE=\"Times New Roman\" SIZE=-1>$10.04</FONT></TD>","<TD NOWRAP ALIGN=RIGHT><FONT FACE=\"Times New Roman\" SIZE=-1>$7.60</FONT></TD>","<TD NOWRAP ALIGN=RIGHT><FONT FACE=\"Times New Roman\" SIZE=-1><BR></FONT></TD>","<TD NOWRAP ALIGN=CENTER><FONT FACE=\"Times New Roman\" SIZE=-1>$25.07 to $30.35</FONT></TD>","<TD NOWRAP ALIGN=CENTER><FONT FACE=\"Times New Roman\" SIZE=-1>$42.71 to $47.99</FONT></TD>","<TD NOWRAP ALIGN=CENTER><FONT FACE=\"Times New Roman\" SIZE=-1>0.5650</FONT></TD>","<TD NOWRAP ALIGN=CENTER><FONT FACE=\"Times New Roman\" SIZE=-1>$24.12 to $27.11</FONT></TD>","</TR>"]
["Town of Pittstown",{"$f":"'2011 SD'!B113","v":9.2200000000000006},{"$f":"'2011 SD'!C113","v":6.09},null,{"$f":"'2011 SD'!E113","v":20.65},{"$f":"'2011 SD'!F113","v":"to"},{"$f":"'2011 SD'!G113","v":27.88},{"$f":"'2011 SD'!H113","v":35.96},{"$f":"'2011 SD'!I113","v":"to"},{"$f":"'2011 SD'!J113","v":43.19},{"$f":"'2011 SD'!K113","v":0.61499999999999999},{"$f":"'2011 SD'!L113","v":22.12},{"$f":"'2011 SD'!M113","v":"to"},{"$f":"'2011 SD'!N113","v":26.57},null,"<TR VALIGN=BOTTOM>",{"$f":"\"<TD NOWRAP ALIGN=LEFT><FONT FACE=\"\"Times New Roman\"\" SIZE=-1>\"&A36&\"</FONT></TD>\"","v":"<TD NOWRAP ALIGN=LEFT><FONT FACE=\"Times New Roman\" SIZE=-1>Town of Pittstown</FONT></TD>"},"<TD NOWRAP ALIGN=RIGHT><FONT FACE=\"Times New Roman\" SIZE=-1>$9.22</FONT></TD>","<TD NOWRAP ALIGN=RIGHT><FONT FACE=\"Times New Roman\" SIZE=-1>$6.09</FONT></TD>","<TD NOWRAP ALIGN=RIGHT><FONT FACE=\"Times New Roman\" SIZE=-1><BR></FONT></TD>","<TD NOWRAP ALIGN=CENTER><FONT FACE=\"Times New Roman\" SIZE=-1>$20.65 to $27.88</FONT></TD>","<TD NOWRAP ALIGN=CENTER><FONT FACE=\"Times New Roman\" SIZE=-1>$35.96 to $43.19</FONT></TD>","<TD NOWRAP ALIGN=CENTER><FONT FACE=\"Times New Roman\" SIZE=-1>0.6150</FONT></TD>","<TD NOWRAP ALIGN=CENTER><FONT FACE=\"Times New Roman\" SIZE=-1>$22.12 to $26.57</FONT></TD>","</TR>"]
["Village of Valley Falls (part)",{"$f":"'2011 SD'!B119","v":9.2200000000000006},{"$f":"'2011 SD'!C119","v":4.0199999999999996},{"$f":"'2011 SD'!D119","v":3.27},{"$f":"'2011 SD'!E119","v":26.39},null,null,{"$f":"'2011 SD'!H119","v":42.9},null,null,{"$f":"'2011 SD'!K119","v":0.54320000000000002},{"$f":"'2011 SD'!L119","v":26.15},null,null,null,"<TR VALIGN=BOTTOM>",{"$f":"\"<TD NOWRAP ALIGN=LEFT><FONT FACE=\"\"Times New Roman\"\" SIZE=-1 COLOR=\"\"#808000\"\">\"&A37&\"</FONT></TD>\"","v":"<TD NOWRAP ALIGN=LEFT><FONT FACE=\"Times New Roman\" SIZE=-1 COLOR=\"#808000\">Village of Valley Falls (part)</FONT></TD>"},"<TD NOWRAP ALIGN=RIGHT><FONT FACE=\"Times New Roman\" SIZE=-1>$9.22</FONT></TD>","<TD NOWRAP ALIGN=RIGHT><FONT FACE=\"Times New Roman\" SIZE=-1>$4.02</FONT></TD>","<TD NOWRAP ALIGN=RIGHT><FONT FACE=\"Times New Roman\" SIZE=-1>$3.27</FONT></TD>","<TD NOWRAP ALIGN=CENTER><FONT FACE=\"Times New Roman\" SIZE=-1>$26.39</FONT></TD>","<TD NOWRAP ALIGN=CENTER><FONT FACE=\"Times New Roman\" SIZE=-1>$42.90</FONT></TD>","<TD NOWRAP ALIGN=CENTER><FONT FACE=\"Times New Roman\" SIZE=-1>0.5432</FONT></TD>","<TD NOWRAP ALIGN=CENTER><FONT FACE=\"Times New Roman\" SIZE=-1>$26.15</FONT></TD>","</TR>"]
["Town of Poestenkill",{"$f":"'2011 SD'!B121","v":21.85},{"$f":"'2011 SD'!C121","v":10.64},null,{"$f":"'2011 SD'!E121","v":57.25},{"$f":"'2011 SD'!F121","v":"to"},{"$f":"'2011 SD'!G121","v":77.349999999999994},{"$f":"'2011 SD'!H121","v":89.74},{"$f":"'2011 SD'!I121","v":"to"},{"$f":"'2011 SD'!J121","v":109.84},{"$f":"'2011 SD'!K121","v":0.2475},{"$f":"'2011 SD'!L121","v":22.21},{"$f":"'2011 SD'!M121","v":"to"},{"$f":"'2011 SD'!N121","v":27.18},null,"<TR VALIGN=BOTTOM>",{"$f":"\"<TD NOWRAP ALIGN=LEFT><FONT FACE=\"\"Times New Roman\"\" SIZE=-1>\"&A38&\"</FONT></TD>\"","v":"<TD NOWRAP ALIGN=LEFT><FONT FACE=\"Times New Roman\" SIZE=-1>Town of Poestenkill</FONT></TD>"},"<TD NOWRAP ALIGN=RIGHT><FONT FACE=\"Times New Roman\" SIZE=-1>$21.85</FONT></TD>","<TD NOWRAP ALIGN=RIGHT><FONT FACE=\"Times New Roman\" SIZE=-1>$10.64</FONT></TD>","<TD NOWRAP ALIGN=RIGHT><FONT FACE=\"Times New Roman\" SIZE=-1><BR></FONT></TD>","<TD NOWRAP ALIGN=CENTER><FONT FACE=\"Times New Roman\" SIZE=-1>$57.25 to $77.35</FONT></TD>","<TD NOWRAP ALIGN=CENTER><FONT FACE=\"Times New Roman\" SIZE=-1>$89.74 to $109.84</FONT></TD>","<TD NOWRAP ALIGN=CENTER><FONT FACE=\"Times New Roman\" SIZE=-1>0.2475</FONT></TD>","<TD NOWRAP ALIGN=CENTER><FONT FACE=\"Times New Roman\" SIZE=-1>$22.21 to $27.18</FONT></TD>","</TR>"]
["City of Rensselaer",{"$f":"'2011 SD'!B126","v":18.11},null,{"$f":"'2011 SD'!D126","v":48.12},{"$f":"'2011 SD'!E126","v":54.75},null,null,{"$f":"'2011 SD'!H126","v":120.98},null,null,{"$f":"'2011 SD'!K126","v":0.29399999999999998},{"$f":"'2011 SD'!L126","v":35.57},null,null,null,"<TR VALIGN=BOTTOM>",{"$f":"\"<TD NOWRAP ALIGN=LEFT><FONT FACE=\"\"Times New Roman\"\" SIZE=-1 COLOR=#800000\"\">\"&A39&\"</FONT></TD>\"","v":"<TD NOWRAP ALIGN=LEFT><FONT FACE=\"Times New Roman\" SIZE=-1 COLOR=#800000\">City of Rensselaer</FONT></TD>"},"<TD NOWRAP ALIGN=RIGHT><FONT FACE=\"Times New Roman\" SIZE=-1>$18.11</FONT></TD>","<TD NOWRAP ALIGN=RIGHT><FONT FACE=\"Times New Roman\" SIZE=-1><BR></FONT></TD>","<TD NOWRAP ALIGN=RIGHT><FONT FACE=\"Times New Roman\" SIZE=-1>$48.12</FONT></TD>","<TD NOWRAP ALIGN=CENTER><FONT FACE=\"Times New Roman\" SIZE=-1>$54.75</FONT></TD>","<TD NOWRAP ALIGN=CENTER><FONT FACE=\"Times New Roman\" SIZE=-1>$120.98</FONT></TD>","<TD NOWRAP ALIGN=CENTER><FONT FACE=\"Times New Roman\" SIZE=-1>0.2940</FONT></TD>","<TD NOWRAP ALIGN=CENTER><FONT FACE=\"Times New Roman\" SIZE=-1>$35.57</FONT></TD>","</TR>"]
["Town of Sand Lake",{"$f":"'2011 SD'!B128","v":5.38},{"$f":"'2011 SD'!C128","v":1.8},null,{"$f":"'2011 SD'!E128","v":15.82},{"$f":"'2011 SD'!F128","v":"to"},{"$f":"'2011 SD'!G128","v":16.510000000000002},{"$f":"'2011 SD'!H128","v":23},{"$f":"'2011 SD'!I128","v":"to"},{"$f":"'2011 SD'!J128","v":23.69},{"$f":"'2011 SD'!K128","v":1},{"$f":"'2011 SD'!L128","v":23},{"$f":"'2011 SD'!M128","v":"to"},{"$f":"'2011 SD'!N128","v":23.69},null,"<TR VALIGN=BOTTOM>",{"$f":"\"<TD NOWRAP ALIGN=LEFT><FONT FACE=\"\"Times New Roman\"\" SIZE=-1>\"&A40&\"</FONT></TD>\"","v":"<TD NOWRAP ALIGN=LEFT><FONT FACE=\"Times New Roman\" SIZE=-1>Town of Sand Lake</FONT></TD>"},"<TD NOWRAP ALIGN=RIGHT><FONT FACE=\"Times New Roman\" SIZE=-1>$5.38</FONT></TD>","<TD NOWRAP ALIGN=RIGHT><FONT FACE=\"Times New Roman\" SIZE=-1>$1.80</FONT></TD>","<TD NOWRAP ALIGN=RIGHT><FONT FACE=\"Times New Roman\" SIZE=-1><BR></FONT></TD>","<TD NOWRAP ALIGN=CENTER><FONT FACE=\"Times New Roman\" SIZE=-1>$15.82 to $16.51</FONT></TD>","<TD NOWRAP ALIGN=CENTER><FONT FACE=\"Times New Roman\" SIZE=-1>$23.00 to $23.69</FONT></TD>","<TD NOWRAP ALIGN=CENTER><FONT FACE=\"Times New Roman\" SIZE=-1>1.0000</FONT></TD>","<TD NOWRAP ALIGN=CENTER><FONT FACE=\"Times New Roman\" SIZE=-1>$23.00 to $23.69</FONT></TD>","</TR>"]
["Town of Schaghticoke",{"$f":"'2011 SD'!B131","v":24.02},{"$f":"'2011 SD'!C131","v":7.51},null,{"$f":"'2011 SD'!E131","v":51.8},{"$f":"'2011 SD'!F131","v":"to"},{"$f":"'2011 SD'!G131","v":72.02},{"$f":"'2011 SD'!H131","v":83.33},{"$f":"'2011 SD'!I131","v":"to"},{"$f":"'2011 SD'!J131","v":103.55},{"$f":"'2011 SD'!K131","v":0.23499999999999999},{"$f":"'2011 SD'!L131","v":19.57},{"$f":"'2011 SD'!M131","v":"to"},{"$f":"'2011 SD'!N131","v":24.32},null,"<TR VALIGN=BOTTOM>",{"$f":"\"<TD NOWRAP ALIGN=LEFT><FONT FACE=\"\"Times New Roman\"\" SIZE=-1>\"&A41&\"</FONT></TD>\"","v":"<TD NOWRAP ALIGN=LEFT><FONT FACE=\"Times New Roman\" SIZE=-1>Town of Schaghticoke</FONT></TD>"},"<TD NOWRAP ALIGN=RIGHT><FONT FACE=\"Times New Roman\" SIZE=-1>$24.02</FONT></TD>","<TD NOWRAP ALIGN=RIGHT><FONT FACE=\"Times New Roman\" SIZE=-1>$7.51</FONT></TD>","<TD NOWRAP ALIGN=RIGHT><FONT FACE=\"Times New Roman\" SIZE=-1><BR></FONT></TD>","<TD NOWRAP ALIGN=CENTER><FONT FACE=\"Times New Roman\" SIZE=-1>$51.80 to $72.02</FONT></TD>","<TD NOWRAP ALIGN=CENTER><FONT FACE=\"Times New Roman\" SIZE=-1>$83.33 to $103.55</FONT></TD>","<TD NOWRAP ALIGN=CENTER><FONT FACE=\"Times New Roman\" SIZE=-1>0.2350</FONT></TD>","<TD NOWRAP ALIGN=CENTER><FONT FACE=\"Times New Roman\" SIZE=-1>$19.57 to $24.32</FONT></TD>","</TR>"]
["Village of Schaghticoke",{"$f":"'2011 SD'!B138","v":24.02},{"$f":"'2011 SD'!C138","v":5.86},{"$f":"'2011 SD'!D138","v":14.68},{"$f":"'2011 SD'!E138","v":69.06},null,null,{"$f":"'2011 SD'!H138","v":113.62},null,null,{"$f":"'2011 SD'!K138","v":0.23},{"$f":"'2011 SD'!L138","v":26.63},null,null,null,"<TR VALIGN=BOTTOM>",{"$f":"\"<TD NOWRAP ALIGN=LEFT><FONT FACE=\"\"Times New Roman\"\" SIZE=-1 COLOR=\"\"#008000\"\">\"&A42&\"</FONT></TD>\"","v":"<TD NOWRAP ALIGN=LEFT><FONT FACE=\"Times New Roman\" SIZE=-1 COLOR=\"#008000\">Village of Schaghticoke</FONT></TD>"},"<TD NOWRAP ALIGN=RIGHT><FONT FACE=\"Times New Roman\" SIZE=-1>$24.02</FONT></TD>","<TD NOWRAP ALIGN=RIGHT><FONT FACE=\"Times New Roman\" SIZE=-1>$5.86</FONT></TD>","<TD NOWRAP ALIGN=RIGHT><FONT FACE=\"Times New Roman\" SIZE=-1>$14.68</FONT></TD>","<TD NOWRAP ALIGN=CENTER><FONT FACE=\"Times New Roman\" SIZE=-1>$69.06</FONT></TD>","<TD NOWRAP ALIGN=CENTER><FONT FACE=\"Times New Roman\" SIZE=-1>$113.62</FONT></TD>","<TD NOWRAP ALIGN=CENTER><FONT FACE=\"Times New Roman\" SIZE=-1>0.2300</FONT></TD>","<TD NOWRAP ALIGN=CENTER><FONT FACE=\"Times New Roman\" SIZE=-1>$26.63</FONT></TD>","</TR>"]
["Village of Valley Falls (part)",{"$f":"'2011 SD'!B140","v":24.02},{"$f":"'2011 SD'!C140","v":5.86},{"$f":"'2011 SD'!D140","v":3.27},{"$f":"'2011 SD'!E140","v":69.06},null,null,{"$f":"'2011 SD'!H140","v":102.21},null,null,{"$f":"'2011 SD'!K140","v":0.54320000000000002},{"$f":"'2011 SD'!L140","v":25.03},null,null,null,"<TR VALIGN=BOTTOM>",{"$f":"\"<TD NOWRAP ALIGN=LEFT><FONT FACE=\"\"Times New Roman\"\" SIZE=-1 COLOR=\"\"#808000\"\">\"&A43&\"</FONT></TD>\"","v":"<TD NOWRAP ALIGN=LEFT><FONT FACE=\"Times New Roman\" SIZE=-1 COLOR=\"#808000\">Village of Valley Falls (part)</FONT></TD>"},"<TD NOWRAP ALIGN=RIGHT><FONT FACE=\"Times New Roman\" SIZE=-1>$24.02</FONT></TD>","<TD NOWRAP ALIGN=RIGHT><FONT FACE=\"Times New Roman\" SIZE=-1>$5.86</FONT></TD>","<TD NOWRAP ALIGN=RIGHT><FONT FACE=\"Times New Roman\" SIZE=-1>$3.27</FONT></TD>","<TD NOWRAP ALIGN=CENTER><FONT FACE=\"Times New Roman\" SIZE=-1>$69.06</FONT></TD>","<TD NOWRAP ALIGN=CENTER><FONT FACE=\"Times New Roman\" SIZE=-1>$102.21</FONT></TD>","<TD NOWRAP ALIGN=CENTER><FONT FACE=\"Times New Roman\" SIZE=-1>0.5432</FONT></TD>","<TD NOWRAP ALIGN=CENTER><FONT FACE=\"Times New Roman\" SIZE=-1>$25.03</FONT></TD>","</TR>"]
["Town of Schodack",{"$f":"'2011 SD'!B142","v":5.49},{"$f":"'2011 SD'!C142","v":4.2300000000000004},null,{"$f":"'2011 SD'!E142","v":13.65},{"$f":"'2011 SD'!F142","v":"to"},{"$f":"'2011 SD'!G142","v":18.829999999999998},{"$f":"'2011 SD'!H142","v":23.37},{"$f":"'2011 SD'!I142","v":"to"},{"$f":"'2011 SD'!J142","v":28.55},{"$f":"'2011 SD'!K142","v":1},{"$f":"'2011 SD'!L142","v":23.37},{"$f":"'2011 SD'!M142","v":"to"},{"$f":"'2011 SD'!N142","v":28.55},null,"<TR VALIGN=BOTTOM>",{"$f":"\"<TD NOWRAP ALIGN=LEFT><FONT FACE=\"\"Times New Roman\"\" SIZE=-1>\"&A44&\"</FONT></TD>\"","v":"<TD NOWRAP ALIGN=LEFT><FONT FACE=\"Times New Roman\" SIZE=-1>Town of Schodack</FONT></TD>"},"<TD NOWRAP ALIGN=RIGHT><FONT FACE=\"Times New Roman\" SIZE=-1>$5.49</FONT></TD>","<TD NOWRAP ALIGN=RIGHT><FONT FACE=\"Times New Roman\" SIZE=-1>$4.23</FONT></TD>","<TD NOWRAP ALIGN=RIGHT><FONT FACE=\"Times New Roman\" SIZE=-1><BR></FONT></TD>","<TD NOWRAP ALIGN=CENTER><FONT FACE=\"Times New Roman\" SIZE=-1>$13.65 to $18.83</FONT></TD>","<TD NOWRAP ALIGN=CENTER><FONT FACE=\"Times New Roman\" SIZE=-1>$23.37 to $28.55</FONT></TD>","<TD NOWRAP ALIGN=CENTER><FONT FACE=\"Times New Roman\" SIZE=-1>1.0000</FONT></TD>","<TD NOWRAP ALIGN=CENTER><FONT FACE=\"Times New Roman\" SIZE=-1>$23.37 to $28.55</FONT></TD>","</TR>"]
["Village of Castleton-on-Hudson",{"$f":"'2011 SD'!B147","v":5.49},{"$f":"'2011 SD'!C147","v":2.96},{"$f":"'2011 SD'!D148","v":6.63},{"$f":"'2011 SD'!E147","v":18.829999999999998},null,null,{"$f":"'2011 SD'!H147","v":33.909999999999997},null,null,{"$f":"'2011 SD'!K147","v":0.61170000000000002},{"$f":"'2011 SD'!L147","v":31.34},null,null,null,"<TR VALIGN=BOTTOM>",{"$f":"\"<TD NOWRAP ALIGN=LEFT><FONT FACE=\"\"Times New Roman\"\" SIZE=-1 COLOR=\"\"#008000\"\">\"&A45&\"</FONT></TD>\"","v":"<TD NOWRAP ALIGN=LEFT><FONT FACE=\"Times New Roman\" SIZE=-1 COLOR=\"#008000\">Village of Castleton-on-Hudson</FONT></TD>"},"<TD NOWRAP ALIGN=RIGHT><FONT FACE=\"Times New Roman\" SIZE=-1>$5.49</FONT></TD>","<TD NOWRAP ALIGN=RIGHT><FONT FACE=\"Times New Roman\" SIZE=-1>$2.96</FONT></TD>","<TD NOWRAP ALIGN=RIGHT><FONT FACE=\"Times New Roman\" SIZE=-1>$6.63</FONT></TD>","<TD NOWRAP ALIGN=CENTER><FONT FACE=\"Times New Roman\" SIZE=-1>$18.83</FONT></TD>","<TD NOWRAP ALIGN=CENTER><FONT FACE=\"Times New Roman\" SIZE=-1>$33.91</FONT></TD>","<TD NOWRAP ALIGN=CENTER><FONT FACE=\"Times New Roman\" SIZE=-1>0.6117</FONT></TD>","<TD NOWRAP ALIGN=CENTER><FONT FACE=\"Times New Roman\" SIZE=-1>$31.34</FONT></TD>","</TR>"]
["Village of Nassau (part)",{"$f":"'2011 SD'!B149","v":5.49},{"$f":"'2011 SD'!C149","v":2.96},{"$f":"'2011 SD'!D149","v":9.6199999999999992},{"$f":"'2011 SD'!E149","v":17.239999999999998},null,null,{"$f":"'2011 SD'!H149","v":35.31},null,null,{"$f":"'2011 SD'!K149","v":0.50019999999999998},{"$f":"'2011 SD'!L149","v":30.5},null,null,null,"<TR VALIGN=BOTTOM>",{"$f":"\"<TD NOWRAP ALIGN=LEFT><FONT FACE=\"\"Times New Roman\"\" SIZE=-1 COLOR=\"\"#808000\"\">\"&A46&\"</FONT></TD>\"","v":"<TD NOWRAP ALIGN=LEFT><FONT FACE=\"Times New Roman\" SIZE=-1 COLOR=\"#808000\">Village of Nassau (part)</FONT></TD>"},"<TD NOWRAP ALIGN=RIGHT><FONT FACE=\"Times New Roman\" SIZE=-1>$5.49</FONT></TD>","<TD NOWRAP ALIGN=RIGHT><FONT FACE=\"Times New Roman\" SIZE=-1>$2.96</FONT></TD>","<TD NOWRAP ALIGN=RIGHT><FONT FACE=\"Times New Roman\" SIZE=-1>$9.62</FONT></TD>","<TD NOWRAP ALIGN=CENTER><FONT FACE=\"Times New Roman\" SIZE=-1>$17.24</FONT></TD>","<TD NOWRAP ALIGN=CENTER><FONT FACE=\"Times New Roman\" SIZE=-1>$35.31</FONT></TD>","<TD NOWRAP ALIGN=CENTER><FONT FACE=\"Times New Roman\" SIZE=-1>0.5002</FONT></TD>","<TD NOWRAP ALIGN=CENTER><FONT FACE=\"Times New Roman\" SIZE=-1>$30.50</FONT></TD>","</TR>"]
["Town of Stephentown",{"$f":"'2011 SD'!B151","v":17.97},{"$f":"'2011 SD'!C151","v":8.27},null,{"$f":"'2011 SD'!E151","v":39.57},{"$f":"'2011 SD'!F151","v":"to"},{"$f":"'2011 SD'!G151","v":52.75},{"$f":"'2011 SD'!H151","v":65.81},{"$f":"'2011 SD'!I151","v":"to"},{"$f":"'2011 SD'!J151","v":78.989999999999995},{"$f":"'2011 SD'!K151","v":0.3},{"$f":"'2011 SD'!L151","v":19.739999999999998},{"$f":"'2011 SD'!M151","v":"to"},{"$f":"'2011 SD'!N151","v":23.7},null,"<TR VALIGN=BOTTOM>",{"$f":"\"<TD NOWRAP ALIGN=LEFT><FONT FACE=\"\"Times New Roman\"\" SIZE=-1>\"&A47&\"</FONT></TD>\"","v":"<TD NOWRAP ALIGN=LEFT><FONT FACE=\"Times New Roman\" SIZE=-1>Town of Stephentown</FONT></TD>"},{"$f":"\"<TD NOWRAP ALIGN=RIGHT><FONT FACE=\"\"Times New Roman\"\" SIZE=-1>\"&IF(B47=\"\",\"<BR>\",TEXT(B47,\"$#,##0.00\"))&\"</FONT></TD>\"","v":"<TD NOWRAP ALIGN=RIGHT><FONT FACE=\"Times New Roman\" SIZE=-1>$17.97</FONT></TD>"},{"$f":"\"<TD NOWRAP ALIGN=RIGHT><FONT FACE=\"\"Times New Roman\"\" SIZE=-1>\"&IF(C47=\"\",\"<BR>\",TEXT(C47,\"$#,##0.00\"))&\"</FONT></TD>\"","v":"<TD NOWRAP ALIGN=RIGHT><FONT FACE=\"Times New Roman\" SIZE=-1>$8.27</FONT></TD>"},{"$f":"\"<TD NOWRAP ALIGN=RIGHT><FONT FACE=\"\"Times New Roman\"\" SIZE=-1>\"&IF(D47=\"\",\"<BR>\",TEXT(D47,\"$#,##0.00\"))&\"</FONT></TD>\"","v":"<TD NOWRAP ALIGN=RIGHT><FONT FACE=\"Times New Roman\" SIZE=-1><BR></FONT></TD>"},{"$f":"\"<TD NOWRAP ALIGN=CENTER><FONT FACE=\"\"Times New Roman\"\" SIZE=-1>\"&TEXT(E47,\"$#,##0.00\")&IF(F47=\"\",\"\",\" to \")&IF(G47=\"\",\"\",TEXT(G47,\"$#,##0.00\"))&\"</FONT></TD>\"","v":"<TD NOWRAP ALIGN=CENTER><FONT FACE=\"Times New Roman\" SIZE=-1>$39.57 to $52.75</FONT></TD>"},{"$f":"\"<TD NOWRAP ALIGN=CENTER><FONT FACE=\"\"Times New Roman\"\" SIZE=-1>\"&TEXT(H47,\"$#,##0.00\")&IF(I47=\"\",\"\",\" to \")&IF(J47=\"\",\"\",TEXT(J47,\"$#,##0.00\"))&\"</FONT></TD>\"","v":"<TD NOWRAP ALIGN=CENTER><FONT FACE=\"Times New Roman\" SIZE=-1>$65.81 to $78.99</FONT></TD>"},{"$f":"\"<TD NOWRAP ALIGN=CENTER><FONT FACE=\"\"Times New Roman\"\" SIZE=-1>\"&IF(K47=\"\",\"<BR>\",TEXT(K47,\"0.0000\"))&\"</FONT></TD>\"","v":"<TD NOWRAP ALIGN=CENTER><FONT FACE=\"Times New Roman\" SIZE=-1>0.3000</FONT></TD>"},{"$f":"\"<TD NOWRAP ALIGN=CENTER><FONT FACE=\"\"Times New Roman\"\" SIZE=-1>\"&TEXT(L47,\"$#,##0.00\")&IF(M47=\"\",\"\",\" to \")&IF(N47=\"\",\"\",TEXT(N47,\"$#,##0.00\"))&\"</FONT></TD>\"","v":"<TD NOWRAP ALIGN=CENTER><FONT FACE=\"Times New Roman\" SIZE=-1>$19.74 to $23.70</FONT></TD>"},"</TR>"]
["City of Troy",{"$f":"'2011 SD'!B155","v":42.28},null,{"$f":"'2011 SD'!D155","v":76.08},{"$f":"'2011 SD'!E155","v":118.74},{"$f":"'2011 SD'!F155","v":"to"},{"$f":"'2011 SD'!G155","v":136.29},{"$f":"'2011 SD'!H155","v":237.1},{"$f":"'2011 SD'!I155","v":"to"},{"$f":"'2011 SD'!J155","v":254.65},{"$f":"'2011 SD'!K155","v":0.13250000000000001},{"$f":"'2011 SD'!L155","v":31.41},{"$f":"'2011 SD'!M155","v":"to"},{"$f":"'2011 SD'!N155","v":33.74},null,"<TR VALIGN=BOTTOM>",{"$f":"\"<TD NOWRAP ALIGN=LEFT><FONT FACE=\"\"Times New Roman\"\" SIZE=-1 COLOR=#800000\"\">\"&A48&\"</FONT></TD>\"","v":"<TD NOWRAP ALIGN=LEFT><FONT FACE=\"Times New Roman\" SIZE=-1 COLOR=#800000\">City of Troy</FONT></TD>"},"<TD NOWRAP ALIGN=RIGHT><FONT FACE=\"Times New Roman\" SIZE=-1>$42.28</FONT></TD>","<TD NOWRAP ALIGN=RIGHT><FONT FACE=\"Times New Roman\" SIZE=-1><BR></FONT></TD>","<TD NOWRAP ALIGN=RIGHT><FONT FACE=\"Times New Roman\" SIZE=-1>$76.08</FONT></TD>","<TD NOWRAP ALIGN=CENTER><FONT FACE=\"Times New Roman\" SIZE=-1>$118.74 to $136.29</FONT></TD>","<TD NOWRAP ALIGN=CENTER><FONT FACE=\"Times New Roman\" SIZE=-1>$237.10 to $254.65</FONT></TD>","<TD NOWRAP ALIGN=CENTER><FONT FACE=\"Times New Roman\" SIZE=-1>0.1325</FONT></TD>","<TD NOWRAP ALIGN=CENTER><FONT FACE=\"Times New Roman\" SIZE=-1>$31.41 to $33.74</FONT></TD>","</TR>"]
["Saratoga County",null,null,null,{"$f":"MIN(E50:E80)","v":6.91},{"$f":"IF(G49<>0,\"to\",\"\")","v":"to"},{"$f":"MAX(E50:G80)","v":75.87},{"$f":"MIN(H50:H80)","v":12.27},{"$f":"IF(J49<>0,\"to\",\"\")","v":"to"},{"$f":"MAX(H50:J80)","v":220.95},null,{"$f":"MIN(L50:L80)","v":7.47},{"$f":"IF(N49<>0,\"to\",\"\")","v":"to"},{"$f":"MAX(L50:N80)","v":32},null,"<TR VALIGN=BOTTOM BGCOLOR=\"#CCCCFF\">",{"$f":"\"<TH NOWRAP ALIGN=LEFT><FONT FACE=\"\"Times New Roman\"\" COLOR=\"\"#AA00AA\"\">\"&A49&\"</FONT></TH>\"","v":"<TH NOWRAP ALIGN=LEFT><FONT FACE=\"Times New Roman\" COLOR=\"#AA00AA\">Saratoga County</FONT></TH>"},"<TD NOWRAP ALIGN=RIGHT><FONT FACE=\"Times New Roman\" SIZE=-1><BR></FONT></TD>","<TD NOWRAP ALIGN=RIGHT><FONT FACE=\"Times New Roman\" SIZE=-1><BR></FONT></TD>","<TD NOWRAP ALIGN=RIGHT><FONT FACE=\"Times New Roman\" SIZE=-1><BR></FONT></TD>","<TD NOWRAP ALIGN=CENTER><FONT FACE=\"Times New Roman\" SIZE=-1>$6.91 to $75.87</FONT></TD>","<TD NOWRAP ALIGN=CENTER><FONT FACE=\"Times New Roman\" SIZE=-1>$12.27 to $220.95</FONT></TD>","<TD NOWRAP ALIGN=CENTER><FONT FACE=\"Times New Roman\" SIZE=-1><BR></FONT></TD>","<TD NOWRAP ALIGN=CENTER><FONT FACE=\"Times New Roman\" SIZE=-1>$7.47 to $32.00</FONT></TD>","</TR>"]
["Town of Ballston",{"$f":"'2011 SD'!B159","v":2.48},null,null,{"$f":"'2011 SD'!E159","v":17.97},{"$f":"'2011 SD'!F159","v":"to"},{"$f":"'2011 SD'!G159","v":20.100000000000001},{"$f":"'2011 SD'!H159","v":20.45},{"$f":"'2011 SD'!I159","v":"to"},{"$f":"'2011 SD'!J159","v":22.58},{"$f":"'2011 SD'!K159","v":0.92},{"$f":"'2011 SD'!L159","v":18.809999999999999},{"$f":"'2011 SD'!M159","v":"to"},{"$f":"'2011 SD'!N159","v":20.77},null,"<TR VALIGN=BOTTOM>",{"$f":"\"<TD NOWRAP ALIGN=LEFT><FONT FACE=\"\"Times New Roman\"\" SIZE=-1>\"&A50&\"</FONT></TD>\"","v":"<TD NOWRAP ALIGN=LEFT><FONT FACE=\"Times New Roman\" SIZE=-1>Town of Ballston</FONT></TD>"},"<TD NOWRAP ALIGN=RIGHT><FONT FACE=\"Times New Roman\" SIZE=-1>$2.48</FONT></TD>","<TD NOWRAP ALIGN=RIGHT><FONT FACE=\"Times New Roman\" SIZE=-1><BR></FONT></TD>","<TD NOWRAP ALIGN=RIGHT><FONT FACE=\"Times New Roman\" SIZE=-1><BR></FONT></TD>","<TD NOWRAP ALIGN=CENTER><FONT FACE=\"Times New Roman\" SIZE=-1>$17.97 to $20.10</FONT></TD>","<TD NOWRAP ALIGN=CENTER><FONT FACE=\"Times New Roman\" SIZE=-1>$20.45 to $22.58</FONT></TD>","<TD NOWRAP ALIGN=CENTER><FONT FACE=\"Times New Roman\" SIZE=-1>0.9200</FONT></TD>","<TD NOWRAP ALIGN=CENTER><FONT FACE=\"Times New Roman\" SIZE=-1>$18.81 to $20.77</FONT></TD>","</TR>"]
["Village of Ballston Spa (part)",{"$f":"'2011 SD'!B163","v":2.48},null,{"$f":"'2011 SD'!D163","v":73.040000000000006},{"$f":"'2011 SD'!E163","v":19.64},null,null,{"$f":"'2011 SD'!H163","v":95.16},null,null,{"$f":"'2011 SD'!K163","v":4.7300000000000002E-2},{"$f":"'2011 SD'!L163","v":23.8},null,null,null,"<TR VALIGN=BOTTOM>",{"$f":"\"<TD NOWRAP ALIGN=LEFT><FONT FACE=\"\"Times New Roman\"\" SIZE=-1 COLOR=\"\"#808000\"\">\"&A51&\"</FONT></TD>\"","v":"<TD NOWRAP ALIGN=LEFT><FONT FACE=\"Times New Roman\" SIZE=-1 COLOR=\"#808000\">Village of Ballston Spa (part)</FONT></TD>"},"<TD NOWRAP ALIGN=RIGHT><FONT FACE=\"Times New Roman\" SIZE=-1>$2.48</FONT></TD>","<TD NOWRAP ALIGN=RIGHT><FONT FACE=\"Times New Roman\" SIZE=-1><BR></FONT></TD>","<TD NOWRAP ALIGN=RIGHT><FONT FACE=\"Times New Roman\" SIZE=-1>$73.04</FONT></TD>","<TD NOWRAP ALIGN=CENTER><FONT FACE=\"Times New Roman\" SIZE=-1>$19.64</FONT></TD>","<TD NOWRAP ALIGN=CENTER><FONT FACE=\"Times New Roman\" SIZE=-1>$95.16</FONT></TD>","<TD NOWRAP ALIGN=CENTER><FONT FACE=\"Times New Roman\" SIZE=-1>0.0473</FONT></TD>","<TD NOWRAP ALIGN=CENTER><FONT FACE=\"Times New Roman\" SIZE=-1>$23.80</FONT></TD>","</TR>"]
["Town of Charlton",{"$f":"'2011 SD'!B165","v":3.5},null,null,{"$f":"'2011 SD'!E165","v":17.32},{"$f":"'2011 SD'!F165","v":"to"},{"$f":"'2011 SD'!G165","v":26.42},{"$f":"'2011 SD'!H165","v":20.82},{"$f":"'2011 SD'!I165","v":"to"},{"$f":"'2011 SD'!J165","v":29.92},{"$f":"'2011 SD'!K165","v":0.7},{"$f":"'2011 SD'!L165","v":14.57},{"$f":"'2011 SD'!M165","v":"to"},{"$f":"'2011 SD'!N165","v":20.94},null,"<TR VALIGN=BOTTOM>",{"$f":"\"<TD NOWRAP ALIGN=LEFT><FONT FACE=\"\"Times New Roman\"\" SIZE=-1>\"&A52&\"</FONT></TD>\"","v":"<TD NOWRAP ALIGN=LEFT><FONT FACE=\"Times New Roman\" SIZE=-1>Town of Charlton</FONT></TD>"},"<TD NOWRAP ALIGN=RIGHT><FONT FACE=\"Times New Roman\" SIZE=-1>$3.50</FONT></TD>","<TD NOWRAP ALIGN=RIGHT><FONT FACE=\"Times New Roman\" SIZE=-1><BR></FONT></TD>","<TD NOWRAP ALIGN=RIGHT><FONT FACE=\"Times New Roman\" SIZE=-1><BR></FONT></TD>","<TD NOWRAP ALIGN=CENTER><FONT FACE=\"Times New Roman\" SIZE=-1>$17.32 to $26.42</FONT></TD>","<TD NOWRAP ALIGN=CENTER><FONT FACE=\"Times New Roman\" SIZE=-1>$20.82 to $29.92</FONT></TD>","<TD NOWRAP ALIGN=CENTER><FONT FACE=\"Times New Roman\" SIZE=-1>0.7000</FONT></TD>","<TD NOWRAP ALIGN=CENTER><FONT FACE=\"Times New Roman\" SIZE=-1>$14.57 to $20.94</FONT></TD>","</TR>"]
["Town of Clifton Park",{"$f":"'2011 SD'!B171","v":3.9},{"$f":"'2011 SD'!C171","v":0.19},null,{"$f":"'2011 SD'!E171","v":28.5},{"$f":"'2011 SD'!F171","v":"to"},{"$f":"'2011 SD'!G171","v":31.88},{"$f":"'2011 SD'!H171","v":32.590000000000003},{"$f":"'2011 SD'!I171","v":"to"},{"$f":"'2011 SD'!J171","v":35.97},{"$f":"'2011 SD'!K171","v":0.57999999999999996},{"$f":"'2011 SD'!L171","v":18.899999999999999},{"$f":"'2011 SD'!M171","v":"to"},{"$f":"'2011 SD'!N171","v":20.86},null,"<TR VALIGN=BOTTOM>",{"$f":"\"<TD NOWRAP ALIGN=LEFT><FONT FACE=\"\"Times New Roman\"\" SIZE=-1>\"&A53&\"</FONT></TD>\"","v":"<TD NOWRAP ALIGN=LEFT><FONT FACE=\"Times New Roman\" SIZE=-1>Town of Clifton Park</FONT></TD>"},"<TD NOWRAP ALIGN=RIGHT><FONT FACE=\"Times New Roman\" SIZE=-1>$3.90</FONT></TD>","<TD NOWRAP ALIGN=RIGHT><FONT FACE=\"Times New Roman\" SIZE=-1>$0.19</FONT></TD>","<TD NOWRAP ALIGN=RIGHT><FONT FACE=\"Times New Roman\" SIZE=-1><BR></FONT></TD>","<TD NOWRAP ALIGN=CENTER><FONT FACE=\"Times New Roman\" SIZE=-1>$28.50 to $31.88</FONT></TD>","<TD NOWRAP ALIGN=CENTER><FONT FACE=\"Times New Roman\" SIZE=-1>$32.59 to $35.97</FONT></TD>","<TD NOWRAP ALIGN=CENTER><FONT FACE=\"Times New Roman\" SIZE=-1>0.5800</FONT></TD>","<TD NOWRAP ALIGN=CENTER><FONT FACE=\"Times New Roman\" SIZE=-1>$18.90 to $20.86</FONT></TD>","</TR>"]
["Town of Corinth",{"$f":"'2011 SD'!B175","v":2.33},{"$f":"'2011 SD'!C175","v":3.63},null,{"$f":"'2011 SD'!E175","v":11.02},null,null,{"$f":"'2011 SD'!H175","v":16.98},null,null,{"$f":"'2011 SD'!K175","v":1},{"$f":"'2011 SD'!L175","v":16.98},null,null,null,"<TR VALIGN=BOTTOM>",{"$f":"\"<TD NOWRAP ALIGN=LEFT><FONT FACE=\"\"Times New Roman\"\" SIZE=-1>\"&A54&\"</FONT></TD>\"","v":"<TD NOWRAP ALIGN=LEFT><FONT FACE=\"Times New Roman\" SIZE=-1>Town of Corinth</FONT></TD>"},"<TD NOWRAP ALIGN=RIGHT><FONT FACE=\"Times New Roman\" SIZE=-1>$2.33</FONT></TD>","<TD NOWRAP ALIGN=RIGHT><FONT FACE=\"Times New Roman\" SIZE=-1>$3.63</FONT></TD>","<TD NOWRAP ALIGN=RIGHT><FONT FACE=\"Times New Roman\" SIZE=-1><BR></FONT></TD>","<TD NOWRAP ALIGN=CENTER><FONT FACE=\"Times New Roman\" SIZE=-1>$11.02</FONT></TD>","<TD NOWRAP ALIGN=CENTER><FONT FACE=\"Times New Roman\" SIZE=-1>$16.98</FONT></TD>","<TD NOWRAP ALIGN=CENTER><FONT FACE=\"Times New Roman\" SIZE=-1>1.0000</FONT></TD>","<TD NOWRAP ALIGN=CENTER><FONT FACE=\"Times New Roman\" SIZE=-1>$16.98</FONT></TD>","</TR>"]
["Village of Corinth",{"$f":"'2011 SD'!B177","v":2.33},{"$f":"'2011 SD'!C177","v":1.54},{"$f":"'2011 SD'!D177","v":6.03},{"$f":"'2011 SD'!E177","v":11.02},null,null,{"$f":"'2011 SD'!H177","v":20.92},null,null,{"$f":"'2011 SD'!K177","v":0.97},{"$f":"'2011 SD'!L177","v":20.74},null,null,null,"<TR VALIGN=BOTTOM>",{"$f":"\"<TD NOWRAP ALIGN=LEFT><FONT FACE=\"\"Times New Roman\"\" SIZE=-1 COLOR=\"\"#008000\"\">\"&A55&\"</FONT></TD>\"","v":"<TD NOWRAP ALIGN=LEFT><FONT FACE=\"Times New Roman\" SIZE=-1 COLOR=\"#008000\">Village of Corinth</FONT></TD>"},"<TD NOWRAP ALIGN=RIGHT><FONT FACE=\"Times New Roman\" SIZE=-1>$2.33</FONT></TD>","<TD NOWRAP ALIGN=RIGHT><FONT FACE=\"Times New Roman\" SIZE=-1>$1.54</FONT></TD>","<TD NOWRAP ALIGN=RIGHT><FONT FACE=\"Times New Roman\" SIZE=-1>$6.03</FONT></TD>","<TD NOWRAP ALIGN=CENTER><FONT FACE=\"Times New Roman\" SIZE=-1>$11.02</FONT></TD>","<TD NOWRAP ALIGN=CENTER><FONT FACE=\"Times New Roman\" SIZE=-1>$20.92</FONT></TD>","<TD NOWRAP ALIGN=CENTER><FONT FACE=\"Times New Roman\" SIZE=-1>0.9700</FONT></TD>","<TD NOWRAP ALIGN=CENTER><FONT FACE=\"Times New Roman\" SIZE=-1>$20.74</FONT></TD>","</TR>"]
["Town of Day",{"$f":"'2011 SD'!B179","v":3.33},{"$f":"'2011 SD'!C179","v":2.0299999999999998},null,{"$f":"'2011 SD'!E179","v":6.91},{"$f":"'2011 SD'!F179","v":"to"},{"$f":"'2011 SD'!G179","v":16.399999999999999},{"$f":"'2011 SD'!H179","v":12.27},{"$f":"'2011 SD'!I179","v":"to"},{"$f":"'2011 SD'!J179","v":21.76},{"$f":"'2011 SD'!K179","v":0.68049999999999999},{"$f":"'2011 SD'!L179","v":8.35},{"$f":"'2011 SD'!M179","v":"to"},{"$f":"'2011 SD'!N179","v":14.81},null,"<TR VALIGN=BOTTOM>",{"$f":"\"<TD NOWRAP ALIGN=LEFT><FONT FACE=\"\"Times New Roman\"\" SIZE=-1>\"&A56&\"</FONT></TD>\"","v":"<TD NOWRAP ALIGN=LEFT><FONT FACE=\"Times New Roman\" SIZE=-1>Town of Day</FONT></TD>"},"<TD NOWRAP ALIGN=RIGHT><FONT FACE=\"Times New Roman\" SIZE=-1>$3.33</FONT></TD>","<TD NOWRAP ALIGN=RIGHT><FONT FACE=\"Times New Roman\" SIZE=-1>$2.03</FONT></TD>","<TD NOWRAP ALIGN=RIGHT><FONT FACE=\"Times New Roman\" SIZE=-1><BR></FONT></TD>","<TD NOWRAP ALIGN=CENTER><FONT FACE=\"Times New Roman\" SIZE=-1>$6.91 to $16.40</FONT></TD>","<TD NOWRAP ALIGN=CENTER><FONT FACE=\"Times New Roman\" SIZE=-1>$12.27 to $21.76</FONT></TD>","<TD NOWRAP ALIGN=CENTER><FONT FACE=\"Times New Roman\" SIZE=-1>0.6805</FONT></TD>","<TD NOWRAP ALIGN=CENTER><FONT FACE=\"Times New Roman\" SIZE=-1>$8.35 to $14.81</FONT></TD>","</TR>"]
["Town of Edinburg",{"$f":"'2011 SD'!B183","v":4.1900000000000004},{"$f":"'2011 SD'!C183","v":1.01},null,{"$f":"'2011 SD'!E183","v":8.8800000000000008},{"$f":"'2011 SD'!F183","v":"to"},{"$f":"'2011 SD'!G183","v":28.91},{"$f":"'2011 SD'!H183","v":14.08},{"$f":"'2011 SD'!I183","v":"to"},{"$f":"'2011 SD'!J183","v":34.11},{"$f":"'2011 SD'!K183","v":0.53},{"$f":"'2011 SD'!L183","v":7.47},{"$f":"'2011 SD'!M183","v":"to"},{"$f":"'2011 SD'!N183","v":18.079999999999998},null,"<TR VALIGN=BOTTOM>",{"$f":"\"<TD NOWRAP ALIGN=LEFT><FONT FACE=\"\"Times New Roman\"\" SIZE=-1>\"&A57&\"</FONT></TD>\"","v":"<TD NOWRAP ALIGN=LEFT><FONT FACE=\"Times New Roman\" SIZE=-1>Town of Edinburg</FONT></TD>"},"<TD NOWRAP ALIGN=RIGHT><FONT FACE=\"Times New Roman\" SIZE=-1>$4.19</FONT></TD>","<TD NOWRAP ALIGN=RIGHT><FONT FACE=\"Times New Roman\" SIZE=-1>$1.01</FONT></TD>","<TD NOWRAP ALIGN=RIGHT><FONT FACE=\"Times New Roman\" SIZE=-1><BR></FONT></TD>","<TD NOWRAP ALIGN=CENTER><FONT FACE=\"Times New Roman\" SIZE=-1>$8.88 to $28.91</FONT></TD>","<TD NOWRAP ALIGN=CENTER><FONT FACE=\"Times New Roman\" SIZE=-1>$14.08 to $34.11</FONT></TD>","<TD NOWRAP ALIGN=CENTER><FONT FACE=\"Times New Roman\" SIZE=-1>0.5300</FONT></TD>","<TD NOWRAP ALIGN=CENTER><FONT FACE=\"Times New Roman\" SIZE=-1>$7.47 to $18.08</FONT></TD>","</TR>"]
["Town of Galway",{"$f":"'2011 SD'!B188","v":4.29},{"$f":"'2011 SD'!C188","v":1.46},null,{"$f":"'2011 SD'!E188","v":22.88},{"$f":"'2011 SD'!F188","v":"to"},{"$f":"'2011 SD'!G188","v":28.92},{"$f":"'2011 SD'!H188","v":28.63},{"$f":"'2011 SD'!I188","v":"to"},{"$f":"'2011 SD'!J188","v":34.67},{"$f":"'2011 SD'!K188","v":0.53},{"$f":"'2011 SD'!L188","v":15.17},{"$f":"'2011 SD'!M188","v":"to"},{"$f":"'2011 SD'!N188","v":18.37},null,"<TR VALIGN=BOTTOM>",{"$f":"\"<TD NOWRAP ALIGN=LEFT><FONT FACE=\"\"Times New Roman\"\" SIZE=-1>\"&A58&\"</FONT></TD>\"","v":"<TD NOWRAP ALIGN=LEFT><FONT FACE=\"Times New Roman\" SIZE=-1>Town of Galway</FONT></TD>"},"<TD NOWRAP ALIGN=RIGHT><FONT FACE=\"Times New Roman\" SIZE=-1>$4.29</FONT></TD>","<TD NOWRAP ALIGN=RIGHT><FONT FACE=\"Times New Roman\" SIZE=-1>$1.46</FONT></TD>","<TD NOWRAP ALIGN=RIGHT><FONT FACE=\"Times New Roman\" SIZE=-1><BR></FONT></TD>","<TD NOWRAP ALIGN=CENTER><FONT FACE=\"Times New Roman\" SIZE=-1>$22.88 to $28.92</FONT></TD>","<TD NOWRAP ALIGN=CENTER><FONT FACE=\"Times New Roman\" SIZE=-1>$28.63 to $34.67</FONT></TD>","<TD NOWRAP ALIGN=CENTER><FONT FACE=\"Times New Roman\" SIZE=-1>0.5300</FONT></TD>","<TD NOWRAP ALIGN=CENTER><FONT FACE=\"Times New Roman\" SIZE=-1>$15.17 to $18.37</FONT></TD>","</TR>"]
["Village of Galway",{"$f":"'2011 SD'!B191","v":4.29},{"$f":"'2011 SD'!C191","v":0.33},{"$f":"'2011 SD'!D191","v":0},{"$f":"'2011 SD'!E191","v":22.88},null,null,{"$f":"'2011 SD'!H191","v":27.5},null,null,{"$f":"'2011 SD'!K191","v":0.53},{"$f":"'2011 SD'!L191","v":14.57},null,null,null,"<TR VALIGN=BOTTOM>",{"$f":"\"<TD NOWRAP ALIGN=LEFT><FONT FACE=\"\"Times New Roman\"\" SIZE=-1 COLOR=\"\"#008000\"\">\"&A59&\"</FONT></TD>\"","v":"<TD NOWRAP ALIGN=LEFT><FONT FACE=\"Times New Roman\" SIZE=-1 COLOR=\"#008000\">Village of Galway</FONT></TD>"},"<TD NOWRAP ALIGN=RIGHT><FONT FACE=\"Times New Roman\" SIZE=-1>$4.29</FONT></TD>","<TD NOWRAP ALIGN=RIGHT><FONT FACE=\"Times New Roman\" SIZE=-1>$0.33</FONT></TD>","<TD NOWRAP ALIGN=RIGHT><FONT FACE=\"Times New Roman\" SIZE=-1>$0.00</FONT></TD>","<TD NOWRAP ALIGN=CENTER><FONT FACE=\"Times New Roman\" SIZE=-1>$22.88</FONT></TD>","<TD NOWRAP ALIGN=CENTER><FONT FACE=\"Times New Roman\" SIZE=-1>$27.50</FONT></TD>","<TD NOWRAP ALIGN=CENTER><FONT FACE=\"Times New Roman\" SIZE=-1>0.5300</FONT></TD>","<TD NOWRAP ALIGN=CENTER><FONT FACE=\"Times New Roman\" SIZE=-1>$14.57</FONT></TD>","</TR>"]
["Town of Greenfield",{"$f":"'2011 SD'!B193","v":2.2999999999999998},{"$f":"'2011 SD'!C193","v":1.18},null,{"$f":"'2011 SD'!E193","v":11.16},{"$f":"'2011 SD'!F193","v":"to"},{"$f":"'2011 SD'!G193","v":12.26},{"$f":"'2011 SD'!H193","v":14.64},{"$f":"'2011 SD'!I193","v":"to"},{"$f":"'2011 SD'!J193","v":15.74},{"$f":"'2011 SD'!K193","v":1},{"$f":"'2011 SD'!L193","v":14.64},{"$f":"'2011 SD'!M193","v":"to"},{"$f":"'2011 SD'!N193","v":15.74},null,"<TR VALIGN=BOTTOM>",{"$f":"\"<TD NOWRAP ALIGN=LEFT><FONT FACE=\"\"Times New Roman\"\" SIZE=-1>\"&A60&\"</FONT></TD>\"","v":"<TD NOWRAP ALIGN=LEFT><FONT FACE=\"Times New Roman\" SIZE=-1>Town of Greenfield</FONT></TD>"},"<TD NOWRAP ALIGN=RIGHT><FONT FACE=\"Times New Roman\" SIZE=-1>$2.30</FONT></TD>","<TD NOWRAP ALIGN=RIGHT><FONT FACE=\"Times New Roman\" SIZE=-1>$1.18</FONT></TD>","<TD NOWRAP ALIGN=RIGHT><FONT FACE=\"Times New Roman\" SIZE=-1><BR></FONT></TD>","<TD NOWRAP ALIGN=CENTER><FONT FACE=\"Times New Roman\" SIZE=-1>$11.16 to $12.26</FONT></TD>","<TD NOWRAP ALIGN=CENTER><FONT FACE=\"Times New Roman\" SIZE=-1>$14.64 to $15.74</FONT></TD>","<TD NOWRAP ALIGN=CENTER><FONT FACE=\"Times New Roman\" SIZE=-1>1.0000</FONT></TD>","<TD NOWRAP ALIGN=CENTER><FONT FACE=\"Times New Roman\" SIZE=-1>$14.64 to $15.74</FONT></TD>","</TR>"]
["Town of Hadley",{"$f":"'2011 SD'!B196","v":3},{"$f":"'2011 SD'!C196","v":5.38},null,{"$f":"'2011 SD'!E196","v":12.5},{"$f":"'2011 SD'!F196","v":"to"},{"$f":"'2011 SD'!G196","v":14.88},{"$f":"'2011 SD'!H196","v":20.88},{"$f":"'2011 SD'!I196","v":"to"},{"$f":"'2011 SD'!J196","v":23.26},{"$f":"'2011 SD'!K196","v":0.75},{"$f":"'2011 SD'!L196","v":15.67},{"$f":"'2011 SD'!M196","v":"to"},{"$f":"'2011 SD'!N196","v":17.45},null,"<TR VALIGN=BOTTOM>",{"$f":"\"<TD NOWRAP ALIGN=LEFT><FONT FACE=\"\"Times New Roman\"\" SIZE=-1>\"&A61&\"</FONT></TD>\"","v":"<TD NOWRAP ALIGN=LEFT><FONT FACE=\"Times New Roman\" SIZE=-1>Town of Hadley</FONT></TD>"},"<TD NOWRAP ALIGN=RIGHT><FONT FACE=\"Times New Roman\" SIZE=-1>$3.00</FONT></TD>","<TD NOWRAP ALIGN=RIGHT><FONT FACE=\"Times New Roman\" SIZE=-1>$5.38</FONT></TD>","<TD NOWRAP ALIGN=RIGHT><FONT FACE=\"Times New Roman\" SIZE=-1><BR></FONT></TD>","<TD NOWRAP ALIGN=CENTER><FONT FACE=\"Times New Roman\" SIZE=-1>$12.50 to $14.88</FONT></TD>","<TD NOWRAP ALIGN=CENTER><FONT FACE=\"Times New Roman\" SIZE=-1>$20.88 to $23.26</FONT></TD>","<TD NOWRAP ALIGN=CENTER><FONT FACE=\"Times New Roman\" SIZE=-1>0.7500</FONT></TD>","<TD NOWRAP ALIGN=CENTER><FONT FACE=\"Times New Roman\" SIZE=-1>$15.67 to $17.45</FONT></TD>","</TR>"]
["Town of Halfmoon",{"$f":"'2011 SD'!B199","v":3.75},null,null,{"$f":"'2011 SD'!E199","v":26.23},{"$f":"'2011 SD'!F199","v":"to"},{"$f":"'2011 SD'!G199","v":36.06},{"$f":"'2011 SD'!H199","v":29.98},{"$f":"'2011 SD'!I199","v":"to"},{"$f":"'2011 SD'!J199","v":39.81},{"$f":"'2011 SD'!K199","v":0.6},{"$f":"'2011 SD'!L199","v":17.989999999999998},{"$f":"'2011 SD'!M199","v":"to"},{"$f":"'2011 SD'!N199","v":23.89},null,"<TR VALIGN=BOTTOM>",{"$f":"\"<TD NOWRAP ALIGN=LEFT><FONT FACE=\"\"Times New Roman\"\" SIZE=-1>\"&A62&\"</FONT></TD>\"","v":"<TD NOWRAP ALIGN=LEFT><FONT FACE=\"Times New Roman\" SIZE=-1>Town of Halfmoon</FONT></TD>"},"<TD NOWRAP ALIGN=RIGHT><FONT FACE=\"Times New Roman\" SIZE=-1>$3.75</FONT></TD>","<TD NOWRAP ALIGN=RIGHT><FONT FACE=\"Times New Roman\" SIZE=-1><BR></FONT></TD>","<TD NOWRAP ALIGN=RIGHT><FONT FACE=\"Times New Roman\" SIZE=-1><BR></FONT></TD>","<TD NOWRAP ALIGN=CENTER><FONT FACE=\"Times New Roman\" SIZE=-1>$26.23 to $36.06</FONT></TD>","<TD NOWRAP ALIGN=CENTER><FONT FACE=\"Times New Roman\" SIZE=-1>$29.98 to $39.81</FONT></TD>","<TD NOWRAP ALIGN=CENTER><FONT FACE=\"Times New Roman\" SIZE=-1>0.6000</FONT></TD>","<TD NOWRAP ALIGN=CENTER><FONT FACE=\"Times New Roman\" SIZE=-1>$17.99 to $23.89</FONT></TD>","</TR>"]
["Town of Malta",{"$f":"'2011 SD'!B203","v":2.25},{"$f":"'2011 SD'!C203","v":0.02},null,{"$f":"'2011 SD'!E203","v":12.01},{"$f":"'2011 SD'!F203","v":"to"},{"$f":"'2011 SD'!G203","v":18.07},{"$f":"'2011 SD'!H203","v":14.28},{"$f":"'2011 SD'!I203","v":"to"},{"$f":"'2011 SD'!J203","v":20.34},{"$f":"'2011 SD'!K203","v":1},{"$f":"'2011 SD'!L203","v":14.28},{"$f":"'2011 SD'!M203","v":"to"},{"$f":"'2011 SD'!N203","v":20.34},null,"<TR VALIGN=BOTTOM>",{"$f":"\"<TD NOWRAP ALIGN=LEFT><FONT FACE=\"\"Times New Roman\"\" SIZE=-1>\"&A63&\"</FONT></TD>\"","v":"<TD NOWRAP ALIGN=LEFT><FONT FACE=\"Times New Roman\" SIZE=-1>Town of Malta</FONT></TD>"},"<TD NOWRAP ALIGN=RIGHT><FONT FACE=\"Times New Roman\" SIZE=-1>$2.25</FONT></TD>","<TD NOWRAP ALIGN=RIGHT><FONT FACE=\"Times New Roman\" SIZE=-1>$0.02</FONT></TD>","<TD NOWRAP ALIGN=RIGHT><FONT FACE=\"Times New Roman\" SIZE=-1><BR></FONT></TD>","<TD NOWRAP ALIGN=CENTER><FONT FACE=\"Times New Roman\" SIZE=-1>$12.01 to $18.07</FONT></TD>","<TD NOWRAP ALIGN=CENTER><FONT FACE=\"Times New Roman\" SIZE=-1>$14.28 to $20.34</FONT></TD>","<TD NOWRAP ALIGN=CENTER><FONT FACE=\"Times New Roman\" SIZE=-1>1.0000</FONT></TD>","<TD NOWRAP ALIGN=CENTER><FONT FACE=\"Times New Roman\" SIZE=-1>$14.28 to $20.34</FONT></TD>","</TR>"]
["Village of Round Lake",{"$f":"'2011 SD'!B207","v":2.25},{"$f":"'2011 SD'!C207","v":0.02},{"$f":"'2011 SD'!D207","v":4.32},{"$f":"'2011 SD'!E207","v":16.53},null,null,{"$f":"'2011 SD'!H207","v":23.12},null,null,{"$f":"'2011 SD'!K207","v":1},{"$f":"'2011 SD'!L207","v":23.12},null,null,null,"<TR VALIGN=BOTTOM>",{"$f":"\"<TD NOWRAP ALIGN=LEFT><FONT FACE=\"\"Times New Roman\"\" SIZE=-1 COLOR=\"\"#008000\"\">\"&A64&\"</FONT></TD>\"","v":"<TD NOWRAP ALIGN=LEFT><FONT FACE=\"Times New Roman\" SIZE=-1 COLOR=\"#008000\">Village of Round Lake</FONT></TD>"},"<TD NOWRAP ALIGN=RIGHT><FONT FACE=\"Times New Roman\" SIZE=-1>$2.25</FONT></TD>","<TD NOWRAP ALIGN=RIGHT><FONT FACE=\"Times New Roman\" SIZE=-1>$0.02</FONT></TD>","<TD NOWRAP ALIGN=RIGHT><FONT FACE=\"Times New Roman\" SIZE=-1>$4.32</FONT></TD>","<TD NOWRAP ALIGN=CENTER><FONT FACE=\"Times New Roman\" SIZE=-1>$16.53</FONT></TD>","<TD NOWRAP ALIGN=CENTER><FONT FACE=\"Times New Roman\" SIZE=-1>$23.12</FONT></TD>","<TD NOWRAP ALIGN=CENTER><FONT FACE=\"Times New Roman\" SIZE=-1>1.0000</FONT></TD>","<TD NOWRAP ALIGN=CENTER><FONT FACE=\"Times New Roman\" SIZE=-1>$23.12</FONT></TD>","</TR>"]
["City of Mechanicville",{"$f":"'2011 SD'!B209","v":3.55},null,{"$f":"'2011 SD'!D209","v":13.28},{"$f":"'2011 SD'!E209","v":22.48},null,null,{"$f":"'2011 SD'!H209","v":39.31},null,null,{"$f":"'2011 SD'!K209","v":0.7},{"$f":"'2011 SD'!L209","v":27.53},null,null,null,"<TR VALIGN=BOTTOM>",{"$f":"\"<TD NOWRAP ALIGN=LEFT><FONT FACE=\"\"Times New Roman\"\" SIZE=-1 COLOR=#800000\"\">\"&A65&\"</FONT></TD>\"","v":"<TD NOWRAP ALIGN=LEFT><FONT FACE=\"Times New Roman\" SIZE=-1 COLOR=#800000\">City of Mechanicville</FONT></TD>"},"<TD NOWRAP ALIGN=RIGHT><FONT FACE=\"Times New Roman\" SIZE=-1>$3.55</FONT></TD>","<TD NOWRAP ALIGN=RIGHT><FONT FACE=\"Times New Roman\" SIZE=-1><BR></FONT></TD>","<TD NOWRAP ALIGN=RIGHT><FONT FACE=\"Times New Roman\" SIZE=-1>$13.28</FONT></TD>","<TD NOWRAP ALIGN=CENTER><FONT FACE=\"Times New Roman\" SIZE=-1>$22.48</FONT></TD>","<TD NOWRAP ALIGN=CENTER><FONT FACE=\"Times New Roman\" SIZE=-1>$39.31</FONT></TD>","<TD NOWRAP ALIGN=CENTER><FONT FACE=\"Times New Roman\" SIZE=-1>0.7000</FONT></TD>","<TD NOWRAP ALIGN=CENTER><FONT FACE=\"Times New Roman\" SIZE=-1>$27.53</FONT></TD>","</TR>"]
["Town of Milton",{"$f":"'2011 SD'!B211","v":2.4900000000000002},{"$f":"'2011 SD'!C211","v":0.27},null,{"$f":"'2011 SD'!E211","v":13.02},{"$f":"'2011 SD'!F211","v":"to"},{"$f":"'2011 SD'!G211","v":19.43},{"$f":"'2011 SD'!H211","v":15.78},{"$f":"'2011 SD'!I211","v":"to"},{"$f":"'2011 SD'!J211","v":22.19},{"$f":"'2011 SD'!K211","v":0.93},{"$f":"'2011 SD'!L211","v":14.68},{"$f":"'2011 SD'!M211","v":"to"},{"$f":"'2011 SD'!N211","v":20.64},null,"<TR VALIGN=BOTTOM>",{"$f":"\"<TD NOWRAP ALIGN=LEFT><FONT FACE=\"\"Times New Roman\"\" SIZE=-1>\"&A66&\"</FONT></TD>\"","v":"<TD NOWRAP ALIGN=LEFT><FONT FACE=\"Times New Roman\" SIZE=-1>Town of Milton</FONT></TD>"},"<TD NOWRAP ALIGN=RIGHT><FONT FACE=\"Times New Roman\" SIZE=-1>$2.49</FONT></TD>","<TD NOWRAP ALIGN=RIGHT><FONT FACE=\"Times New Roman\" SIZE=-1>$0.27</FONT></TD>","<TD NOWRAP ALIGN=RIGHT><FONT FACE=\"Times New Roman\" SIZE=-1><BR></FONT></TD>","<TD NOWRAP ALIGN=CENTER><FONT FACE=\"Times New Roman\" SIZE=-1>$13.02 to $19.43</FONT></TD>","<TD NOWRAP ALIGN=CENTER><FONT FACE=\"Times New Roman\" SIZE=-1>$15.78 to $22.19</FONT></TD>","<TD NOWRAP ALIGN=CENTER><FONT FACE=\"Times New Roman\" SIZE=-1>0.9300</FONT></TD>","<TD NOWRAP ALIGN=CENTER><FONT FACE=\"Times New Roman\" SIZE=-1>$14.68 to $20.64</FONT></TD>","</TR>"]
["Village of Ballston Spa (part)",{"$f":"'2011 SD'!B215","v":2.4900000000000002},{"$f":"'2011 SD'!C215","v":0.19},{"$f":"'2011 SD'!D215","v":73.040000000000006},{"$f":"'2011 SD'!E215","v":19.43},null,null,{"$f":"'2011 SD'!H215","v":95.15},null,null,{"$f":"'2011 SD'!K215","v":4.7300000000000002E-2},{"$f":"'2011 SD'!L215","v":24.02},null,null,null,"<TR VALIGN=BOTTOM>",{"$f":"\"<TD NOWRAP ALIGN=LEFT><FONT FACE=\"\"Times New Roman\"\" SIZE=-1 COLOR=\"\"#808000\"\">\"&A67&\"</FONT></TD>\"","v":"<TD NOWRAP ALIGN=LEFT><FONT FACE=\"Times New Roman\" SIZE=-1 COLOR=\"#808000\">Village of Ballston Spa (part)</FONT></TD>"},"<TD NOWRAP ALIGN=RIGHT><FONT FACE=\"Times New Roman\" SIZE=-1>$2.49</FONT></TD>","<TD NOWRAP ALIGN=RIGHT><FONT FACE=\"Times New Roman\" SIZE=-1>$0.19</FONT></TD>","<TD NOWRAP ALIGN=RIGHT><FONT FACE=\"Times New Roman\" SIZE=-1>$73.04</FONT></TD>","<TD NOWRAP ALIGN=CENTER><FONT FACE=\"Times New Roman\" SIZE=-1>$19.43</FONT></TD>","<TD NOWRAP ALIGN=CENTER><FONT FACE=\"Times New Roman\" SIZE=-1>$95.15</FONT></TD>","<TD NOWRAP ALIGN=CENTER><FONT FACE=\"Times New Roman\" SIZE=-1>0.0473</FONT></TD>","<TD NOWRAP ALIGN=CENTER><FONT FACE=\"Times New Roman\" SIZE=-1>$24.02</FONT></TD>","</TR>"]
["Town of Moreau",{"$f":"'2011 SD'!B217","v":2.0699999999999998},{"$f":"'2011 SD'!C217","v":0.59},null,{"$f":"'2011 SD'!E217","v":13.6},{"$f":"'2011 SD'!F217","v":"to"},{"$f":"'2011 SD'!G217","v":13.93},{"$f":"'2011 SD'!H217","v":16.260000000000002},{"$f":"'2011 SD'!I217","v":"to"},{"$f":"'2011 SD'!J217","v":16.59},{"$f":"'2011 SD'!K217","v":1},{"$f":"'2011 SD'!L217","v":16.260000000000002},{"$f":"'2011 SD'!M217","v":"to"},{"$f":"'2011 SD'!N217","v":16.59},null,"<TR VALIGN=BOTTOM>",{"$f":"\"<TD NOWRAP ALIGN=LEFT><FONT FACE=\"\"Times New Roman\"\" SIZE=-1>\"&A68&\"</FONT></TD>\"","v":"<TD NOWRAP ALIGN=LEFT><FONT FACE=\"Times New Roman\" SIZE=-1>Town of Moreau</FONT></TD>"},"<TD NOWRAP ALIGN=RIGHT><FONT FACE=\"Times New Roman\" SIZE=-1>$2.07</FONT></TD>","<TD NOWRAP ALIGN=RIGHT><FONT FACE=\"Times New Roman\" SIZE=-1>$0.59</FONT></TD>","<TD NOWRAP ALIGN=RIGHT><FONT FACE=\"Times New Roman\" SIZE=-1><BR></FONT></TD>","<TD NOWRAP ALIGN=CENTER><FONT FACE=\"Times New Roman\" SIZE=-1>$13.60 to $13.93</FONT></TD>","<TD NOWRAP ALIGN=CENTER><FONT FACE=\"Times New Roman\" SIZE=-1>$16.26 to $16.59</FONT></TD>","<TD NOWRAP ALIGN=CENTER><FONT FACE=\"Times New Roman\" SIZE=-1>1.0000</FONT></TD>","<TD NOWRAP ALIGN=CENTER><FONT FACE=\"Times New Roman\" SIZE=-1>$16.26 to $16.59</FONT></TD>","</TR>"]
["Village of South Glens Falls",{"$f":"'2011 SD'!B220","v":2.27},{"$f":"'2011 SD'!C220","v":0.59},{"$f":"'2011 SD'!D220","v":15},{"$f":"'2011 SD'!E220","v":13.93},null,null,{"$f":"'2011 SD'!H220","v":31.79},null,null,{"$f":"'2011 SD'!K220","v":0.35120000000000001},{"$f":"'2011 SD'!L220","v":22.06},null,null,null,"<TR VALIGN=BOTTOM>",{"$f":"\"<TD NOWRAP ALIGN=LEFT><FONT FACE=\"\"Times New Roman\"\" SIZE=-1 COLOR=\"\"#008000\"\">\"&A69&\"</FONT></TD>\"","v":"<TD NOWRAP ALIGN=LEFT><FONT FACE=\"Times New Roman\" SIZE=-1 COLOR=\"#008000\">Village of South Glens Falls</FONT></TD>"},"<TD NOWRAP ALIGN=RIGHT><FONT FACE=\"Times New Roman\" SIZE=-1>$2.27</FONT></TD>","<TD NOWRAP ALIGN=RIGHT><FONT FACE=\"Times New Roman\" SIZE=-1>$0.59</FONT></TD>","<TD NOWRAP ALIGN=RIGHT><FONT FACE=\"Times New Roman\" SIZE=-1>$15.00</FONT></TD>","<TD NOWRAP ALIGN=CENTER><FONT FACE=\"Times New Roman\" SIZE=-1>$13.93</FONT></TD>","<TD NOWRAP ALIGN=CENTER><FONT FACE=\"Times New Roman\" SIZE=-1>$31.79</FONT></TD>","<TD NOWRAP ALIGN=CENTER><FONT FACE=\"Times New Roman\" SIZE=-1>0.3512</FONT></TD>","<TD NOWRAP ALIGN=CENTER><FONT FACE=\"Times New Roman\" SIZE=-1>$22.06</FONT></TD>","</TR>"]
["Town of Northumberland",{"$f":"'2011 SD'!B222","v":2.36},{"$f":"'2011 SD'!C222","v":1.37},null,{"$f":"'2011 SD'!E222","v":13.93},{"$f":"'2011 SD'!F222","v":"to"},{"$f":"'2011 SD'!G222","v":19.23},{"$f":"'2011 SD'!H222","v":17.66},{"$f":"'2011 SD'!I222","v":"to"},{"$f":"'2011 SD'!J222","v":22.96},{"$f":"'2011 SD'!K222","v":1},{"$f":"'2011 SD'!L222","v":17.66},{"$f":"'2011 SD'!M222","v":"to"},{"$f":"'2011 SD'!N222","v":22.96},null,"<TR VALIGN=BOTTOM>",{"$f":"\"<TD NOWRAP ALIGN=LEFT><FONT FACE=\"\"Times New Roman\"\" SIZE=-1>\"&A70&\"</FONT></TD>\"","v":"<TD NOWRAP ALIGN=LEFT><FONT FACE=\"Times New Roman\" SIZE=-1>Town of Northumberland</FONT></TD>"},"<TD NOWRAP ALIGN=RIGHT><FONT FACE=\"Times New Roman\" SIZE=-1>$2.36</FONT></TD>","<TD NOWRAP ALIGN=RIGHT><FONT FACE=\"Times New Roman\" SIZE=-1>$1.37</FONT></TD>","<TD NOWRAP ALIGN=RIGHT><FONT FACE=\"Times New Roman\" SIZE=-1><BR></FONT></TD>","<TD NOWRAP ALIGN=CENTER><FONT FACE=\"Times New Roman\" SIZE=-1>$13.93 to $19.23</FONT></TD>","<TD NOWRAP ALIGN=CENTER><FONT FACE=\"Times New Roman\" SIZE=-1>$17.66 to $22.96</FONT></TD>","<TD NOWRAP ALIGN=CENTER><FONT FACE=\"Times New Roman\" SIZE=-1>1.0000</FONT></TD>","<TD NOWRAP ALIGN=CENTER><FONT FACE=\"Times New Roman\" SIZE=-1>$17.66 to $22.96</FONT></TD>","</TR>"]
["Town of Providence",{"$f":"'2011 SD'!B225","v":11.41},{"$f":"'2011 SD'!C225","v":19.77},null,{"$f":"'2011 SD'!E225","v":60.03},{"$f":"'2011 SD'!F225","v":"to"},{"$f":"'2011 SD'!G225","v":75.87},{"$f":"'2011 SD'!H225","v":91.21},{"$f":"'2011 SD'!I225","v":"to"},{"$f":"'2011 SD'!J225","v":107.05},{"$f":"'2011 SD'!K225","v":0.20200000000000001},{"$f":"'2011 SD'!L225","v":18.420000000000002},{"$f":"'2011 SD'!M225","v":"to"},{"$f":"'2011 SD'!N225","v":21.62},null,"<TR VALIGN=BOTTOM>",{"$f":"\"<TD NOWRAP ALIGN=LEFT><FONT FACE=\"\"Times New Roman\"\" SIZE=-1>\"&A71&\"</FONT></TD>\"","v":"<TD NOWRAP ALIGN=LEFT><FONT FACE=\"Times New Roman\" SIZE=-1>Town of Providence</FONT></TD>"},"<TD NOWRAP ALIGN=RIGHT><FONT FACE=\"Times New Roman\" SIZE=-1>$11.41</FONT></TD>","<TD NOWRAP ALIGN=RIGHT><FONT FACE=\"Times New Roman\" SIZE=-1>$19.77</FONT></TD>","<TD NOWRAP ALIGN=RIGHT><FONT FACE=\"Times New Roman\" SIZE=-1><BR></FONT></TD>","<TD NOWRAP ALIGN=CENTER><FONT FACE=\"Times New Roman\" SIZE=-1>$60.03 to $75.87</FONT></TD>","<TD NOWRAP ALIGN=CENTER><FONT FACE=\"Times New Roman\" SIZE=-1>$91.21 to $107.05</FONT></TD>","<TD NOWRAP ALIGN=CENTER><FONT FACE=\"Times New Roman\" SIZE=-1>0.2020</FONT></TD>","<TD NOWRAP ALIGN=CENTER><FONT FACE=\"Times New Roman\" SIZE=-1>$18.42 to $21.62</FONT></TD>","</TR>"]
["Town of Saratoga",{"$f":"'2011 SD'!B228","v":3.52},{"$f":"'2011 SD'!C228","v":1.62},null,{"$f":"'2011 SD'!E228","v":18.43},{"$f":"'2011 SD'!F228","v":"to"},{"$f":"'2011 SD'!G228","v":29.14},{"$f":"'2011 SD'!H228","v":23.57},{"$f":"'2011 SD'!I228","v":"to"},{"$f":"'2011 SD'!J228","v":34.28},{"$f":"'2011 SD'!K228","v":0.66},{"$f":"'2011 SD'!L228","v":15.55},{"$f":"'2011 SD'!M228","v":"to"},{"$f":"'2011 SD'!N228","v":22.62},null,"<TR VALIGN=BOTTOM>",{"$f":"\"<TD NOWRAP ALIGN=LEFT><FONT FACE=\"\"Times New Roman\"\" SIZE=-1>\"&A72&\"</FONT></TD>\"","v":"<TD NOWRAP ALIGN=LEFT><FONT FACE=\"Times New Roman\" SIZE=-1>Town of Saratoga</FONT></TD>"},"<TD NOWRAP ALIGN=RIGHT><FONT FACE=\"Times New Roman\" SIZE=-1>$3.52</FONT></TD>","<TD NOWRAP ALIGN=RIGHT><FONT FACE=\"Times New Roman\" SIZE=-1>$1.62</FONT></TD>","<TD NOWRAP ALIGN=RIGHT><FONT FACE=\"Times New Roman\" SIZE=-1><BR></FONT></TD>","<TD NOWRAP ALIGN=CENTER><FONT FACE=\"Times New Roman\" SIZE=-1>$18.43 to $29.14</FONT></TD>","<TD NOWRAP ALIGN=CENTER><FONT FACE=\"Times New Roman\" SIZE=-1>$23.57 to $34.28</FONT></TD>","<TD NOWRAP ALIGN=CENTER><FONT FACE=\"Times New Roman\" SIZE=-1>0.6600</FONT></TD>","<TD NOWRAP ALIGN=CENTER><FONT FACE=\"Times New Roman\" SIZE=-1>$15.55 to $22.62</FONT></TD>","</TR>"]
["Village of Schuylerville",{"$f":"'2011 SD'!B232","v":3.52},{"$f":"'2011 SD'!C232","v":1.62},{"$f":"'2011 SD'!D232","v":0},{"$f":"'2011 SD'!E232","v":29.14},null,null,{"$f":"'2011 SD'!H232","v":34.28},null,null,{"$f":"'2011 SD'!K232","v":0},{"$f":"'2011 SD'!L232","v":22.62},null,null,null,"<TR VALIGN=BOTTOM>",{"$f":"\"<TD NOWRAP ALIGN=LEFT><FONT FACE=\"\"Times New Roman\"\" SIZE=-1 COLOR=\"\"#008000\"\">\"&A73&\"</FONT></TD>\"","v":"<TD NOWRAP ALIGN=LEFT><FONT FACE=\"Times New Roman\" SIZE=-1 COLOR=\"#008000\">Village of Schuylerville</FONT></TD>"},"<TD NOWRAP ALIGN=RIGHT><FONT FACE=\"Times New Roman\" SIZE=-1>$3.52</FONT></TD>","<TD NOWRAP ALIGN=RIGHT><FONT FACE=\"Times New Roman\" SIZE=-1>$1.62</FONT></TD>","<TD NOWRAP ALIGN=RIGHT><FONT FACE=\"Times New Roman\" SIZE=-1>$0.00</FONT></TD>","<TD NOWRAP ALIGN=CENTER><FONT FACE=\"Times New Roman\" SIZE=-1>$29.14</FONT></TD>","<TD NOWRAP ALIGN=CENTER><FONT FACE=\"Times New Roman\" SIZE=-1>$34.28</FONT></TD>","<TD NOWRAP ALIGN=CENTER><FONT FACE=\"Times New Roman\" SIZE=-1>0.0000</FONT></TD>","<TD NOWRAP ALIGN=CENTER><FONT FACE=\"Times New Roman\" SIZE=-1>$22.62</FONT></TD>","</TR>"]
["Village of Victory",{"$f":"'2011 SD'!B234","v":3.52},{"$f":"'2011 SD'!C234","v":1.62},{"$f":"'2011 SD'!D234","v":0},{"$f":"'2011 SD'!E234","v":29.14},null,null,{"$f":"'2011 SD'!H234","v":34.28},null,null,{"$f":"'2011 SD'!K234","v":0},{"$f":"'2011 SD'!L234","v":22.62},null,null,null,"<TR VALIGN=BOTTOM>",{"$f":"\"<TD NOWRAP ALIGN=LEFT><FONT FACE=\"\"Times New Roman\"\" SIZE=-1 COLOR=\"\"#008000\"\">\"&A74&\"</FONT></TD>\"","v":"<TD NOWRAP ALIGN=LEFT><FONT FACE=\"Times New Roman\" SIZE=-1 COLOR=\"#008000\">Village of Victory</FONT></TD>"},"<TD NOWRAP ALIGN=RIGHT><FONT FACE=\"Times New Roman\" SIZE=-1>$3.52</FONT></TD>","<TD NOWRAP ALIGN=RIGHT><FONT FACE=\"Times New Roman\" SIZE=-1>$1.62</FONT></TD>","<TD NOWRAP ALIGN=RIGHT><FONT FACE=\"Times New Roman\" SIZE=-1>$0.00</FONT></TD>","<TD NOWRAP ALIGN=CENTER><FONT FACE=\"Times New Roman\" SIZE=-1>$29.14</FONT></TD>","<TD NOWRAP ALIGN=CENTER><FONT FACE=\"Times New Roman\" SIZE=-1>$34.28</FONT></TD>","<TD NOWRAP ALIGN=CENTER><FONT FACE=\"Times New Roman\" SIZE=-1>0.0000</FONT></TD>","<TD NOWRAP ALIGN=CENTER><FONT FACE=\"Times New Roman\" SIZE=-1>$22.62</FONT></TD>","</TR>"]
["City of Saratoga Springs",{"$f":"'2011 SD'!B236","v":2.86},null,{"$f":"'2011 SD'!D236","v":6.04},{"$f":"'2011 SD'!E236","v":14.87},null,null,{"$f":"'2011 SD'!H236","v":23.77},null,null,{"$f":"'2011 SD'!K236","v":0.82},{"$f":"'2011 SD'!L236","v":19.489999999999998},null,null,null,"<TR VALIGN=BOTTOM>",{"$f":"\"<TD NOWRAP ALIGN=LEFT><FONT FACE=\"\"Times New Roman\"\" SIZE=-1 COLOR=#800000\"\">\"&A75&\"</FONT></TD>\"","v":"<TD NOWRAP ALIGN=LEFT><FONT FACE=\"Times New Roman\" SIZE=-1 COLOR=#800000\">City of Saratoga Springs</FONT></TD>"},"<TD NOWRAP ALIGN=RIGHT><FONT FACE=\"Times New Roman\" SIZE=-1>$2.86</FONT></TD>","<TD NOWRAP ALIGN=RIGHT><FONT FACE=\"Times New Roman\" SIZE=-1><BR></FONT></TD>","<TD NOWRAP ALIGN=RIGHT><FONT FACE=\"Times New Roman\" SIZE=-1>$6.04</FONT></TD>","<TD NOWRAP ALIGN=CENTER><FONT FACE=\"Times New Roman\" SIZE=-1>$14.87</FONT></TD>","<TD NOWRAP ALIGN=CENTER><FONT FACE=\"Times New Roman\" SIZE=-1>$23.77</FONT></TD>","<TD NOWRAP ALIGN=CENTER><FONT FACE=\"Times New Roman\" SIZE=-1>0.8200</FONT></TD>","<TD NOWRAP ALIGN=CENTER><FONT FACE=\"Times New Roman\" SIZE=-1>$19.49</FONT></TD>","</TR>"]
["Town of Stillwater",{"$f":"'2011 SD'!B238","v":2.46},{"$f":"'2011 SD'!C238","v":2.85},null,{"$f":"'2011 SD'!E238","v":12.81},{"$f":"'2011 SD'!F238","v":"to"},{"$f":"'2011 SD'!G238","v":20.260000000000002},{"$f":"'2011 SD'!H238","v":18.12},{"$f":"'2011 SD'!I238","v":"to"},{"$f":"'2011 SD'!J238","v":25.57},{"$f":"'2011 SD'!K238","v":0.95},{"$f":"'2011 SD'!L238","v":17.22},{"$f":"'2011 SD'!M238","v":"to"},{"$f":"'2011 SD'!N238","v":24.3},null,"<TR VALIGN=BOTTOM>",{"$f":"\"<TD NOWRAP ALIGN=LEFT><FONT FACE=\"\"Times New Roman\"\" SIZE=-1>\"&A76&\"</FONT></TD>\"","v":"<TD NOWRAP ALIGN=LEFT><FONT FACE=\"Times New Roman\" SIZE=-1>Town of Stillwater</FONT></TD>"},"<TD NOWRAP ALIGN=RIGHT><FONT FACE=\"Times New Roman\" SIZE=-1>$2.46</FONT></TD>","<TD NOWRAP ALIGN=RIGHT><FONT FACE=\"Times New Roman\" SIZE=-1>$2.85</FONT></TD>","<TD NOWRAP ALIGN=RIGHT><FONT FACE=\"Times New Roman\" SIZE=-1><BR></FONT></TD>","<TD NOWRAP ALIGN=CENTER><FONT FACE=\"Times New Roman\" SIZE=-1>$12.81 to $20.26</FONT></TD>","<TD NOWRAP ALIGN=CENTER><FONT FACE=\"Times New Roman\" SIZE=-1>$18.12 to $25.57</FONT></TD>","<TD NOWRAP ALIGN=CENTER><FONT FACE=\"Times New Roman\" SIZE=-1>0.9500</FONT></TD>","<TD NOWRAP ALIGN=CENTER><FONT FACE=\"Times New Roman\" SIZE=-1>$17.22 to $24.30</FONT></TD>","</TR>"]
["Village of Stillwater",{"$f":"'2011 SD'!B243","v":2.46},{"$f":"'2011 SD'!C243","v":1.44},{"$f":"'2011 SD'!D243","v":3.35},{"$f":"'2011 SD'!E243","v":12.81},null,null,{"$f":"'2011 SD'!H243","v":20.059999999999999},null,null,{"$f":"'2011 SD'!K243","v":0.91},{"$f":"'2011 SD'!L243","v":18.93},null,null,null,"<TR VALIGN=BOTTOM>",{"$f":"\"<TD NOWRAP ALIGN=LEFT><FONT FACE=\"\"Times New Roman\"\" SIZE=-1 COLOR=\"\"#008000\"\">\"&A77&\"</FONT></TD>\"","v":"<TD NOWRAP ALIGN=LEFT><FONT FACE=\"Times New Roman\" SIZE=-1 COLOR=\"#008000\">Village of Stillwater</FONT></TD>"},"<TD NOWRAP ALIGN=RIGHT><FONT FACE=\"Times New Roman\" SIZE=-1>$2.46</FONT></TD>","<TD NOWRAP ALIGN=RIGHT><FONT FACE=\"Times New Roman\" SIZE=-1>$1.44</FONT></TD>","<TD NOWRAP ALIGN=RIGHT><FONT FACE=\"Times New Roman\" SIZE=-1>$3.35</FONT></TD>","<TD NOWRAP ALIGN=CENTER><FONT FACE=\"Times New Roman\" SIZE=-1>$12.81</FONT></TD>","<TD NOWRAP ALIGN=CENTER><FONT FACE=\"Times New Roman\" SIZE=-1>$20.06</FONT></TD>","<TD NOWRAP ALIGN=CENTER><FONT FACE=\"Times New Roman\" SIZE=-1>0.9100</FONT></TD>","<TD NOWRAP ALIGN=CENTER><FONT FACE=\"Times New Roman\" SIZE=-1>$18.93</FONT></TD>","</TR>"]
["Town of Waterford",{"$f":"'2011 SD'!B245","v":7.04},{"$f":"'2011 SD'!C245","v":11.29},null,{"$f":"'2011 SD'!E245","v":48.62},{"$f":"'2011 SD'!F245","v":"to"},{"$f":"'2011 SD'!G245","v":63.63},{"$f":"'2011 SD'!H245","v":66.95},{"$f":"'2011 SD'!I245","v":"to"},{"$f":"'2011 SD'!J245","v":81.96},{"$f":"'2011 SD'!K245","v":0.34},{"$f":"'2011 SD'!L245","v":22.76},{"$f":"'2011 SD'!M245","v":"to"},{"$f":"'2011 SD'!N245","v":27.86},null,"<TR VALIGN=BOTTOM>",{"$f":"\"<TD NOWRAP ALIGN=LEFT><FONT FACE=\"\"Times New Roman\"\" SIZE=-1>\"&A78&\"</FONT></TD>\"","v":"<TD NOWRAP ALIGN=LEFT><FONT FACE=\"Times New Roman\" SIZE=-1>Town of Waterford</FONT></TD>"},"<TD NOWRAP ALIGN=RIGHT><FONT FACE=\"Times New Roman\" SIZE=-1>$7.04</FONT></TD>","<TD NOWRAP ALIGN=RIGHT><FONT FACE=\"Times New Roman\" SIZE=-1>$11.29</FONT></TD>","<TD NOWRAP ALIGN=RIGHT><FONT FACE=\"Times New Roman\" SIZE=-1><BR></FONT></TD>","<TD NOWRAP ALIGN=CENTER><FONT FACE=\"Times New Roman\" SIZE=-1>$48.62 to $63.63</FONT></TD>","<TD NOWRAP ALIGN=CENTER><FONT FACE=\"Times New Roman\" SIZE=-1>$66.95 to $81.96</FONT></TD>","<TD NOWRAP ALIGN=CENTER><FONT FACE=\"Times New Roman\" SIZE=-1>0.3400</FONT></TD>","<TD NOWRAP ALIGN=CENTER><FONT FACE=\"Times New Roman\" SIZE=-1>$22.76 to $27.86</FONT></TD>","</TR>"]
["Village of Waterford",{"$f":"'2011 SD'!B248","v":7.04},{"$f":"'2011 SD'!C248","v":11.29},{"$f":"'2011 SD'!D248","v":138.99},{"$f":"'2011 SD'!E248","v":63.63},null,null,{"$f":"'2011 SD'!H248","v":220.95},null,null,{"$f":"'2011 SD'!K248","v":2.98E-2},{"$f":"'2011 SD'!L248","v":32},null,null,null,"<TR VALIGN=BOTTOM>",{"$f":"\"<TD NOWRAP ALIGN=LEFT><FONT FACE=\"\"Times New Roman\"\" SIZE=-1 COLOR=\"\"#008000\"\">\"&A79&\"</FONT></TD>\"","v":"<TD NOWRAP ALIGN=LEFT><FONT FACE=\"Times New Roman\" SIZE=-1 COLOR=\"#008000\">Village of Waterford</FONT></TD>"},{"$f":"\"<TD NOWRAP ALIGN=RIGHT><FONT FACE=\"\"Times New Roman\"\" SIZE=-1>\"&IF(B79=\"\",\"<BR>\",TEXT(B79,\"$#,##0.00\"))&\"</FONT></TD>\"","v":"<TD NOWRAP ALIGN=RIGHT><FONT FACE=\"Times New Roman\" SIZE=-1>$7.04</FONT></TD>"},{"$f":"\"<TD NOWRAP ALIGN=RIGHT><FONT FACE=\"\"Times New Roman\"\" SIZE=-1>\"&IF(C79=\"\",\"<BR>\",TEXT(C79,\"$#,##0.00\"))&\"</FONT></TD>\"","v":"<TD NOWRAP ALIGN=RIGHT><FONT FACE=\"Times New Roman\" SIZE=-1>$11.29</FONT></TD>"},{"$f":"\"<TD NOWRAP ALIGN=RIGHT><FONT FACE=\"\"Times New Roman\"\" SIZE=-1>\"&IF(D79=\"\",\"<BR>\",TEXT(D79,\"$#,##0.00\"))&\"</FONT></TD>\"","v":"<TD NOWRAP ALIGN=RIGHT><FONT FACE=\"Times New Roman\" SIZE=-1>$138.99</FONT></TD>"},{"$f":"\"<TD NOWRAP ALIGN=CENTER><FONT FACE=\"\"Times New Roman\"\" SIZE=-1>\"&TEXT(E79,\"$#,##0.00\")&IF(F79=\"\",\"\",\" to \")&IF(G79=\"\",\"\",TEXT(G79,\"$#,##0.00\"))&\"</FONT></TD>\"","v":"<TD NOWRAP ALIGN=CENTER><FONT FACE=\"Times New Roman\" SIZE=-1>$63.63</FONT></TD>"},{"$f":"\"<TD NOWRAP ALIGN=CENTER><FONT FACE=\"\"Times New Roman\"\" SIZE=-1>\"&TEXT(H79,\"$#,##0.00\")&IF(I79=\"\",\"\",\" to \")&IF(J79=\"\",\"\",TEXT(J79,\"$#,##0.00\"))&\"</FONT></TD>\"","v":"<TD NOWRAP ALIGN=CENTER><FONT FACE=\"Times New Roman\" SIZE=-1>$220.95</FONT></TD>"},{"$f":"\"<TD NOWRAP ALIGN=CENTER><FONT FACE=\"\"Times New Roman\"\" SIZE=-1>\"&IF(K79=\"\",\"<BR>\",TEXT(K79,\"0.0000\"))&\"</FONT></TD>\"","v":"<TD NOWRAP ALIGN=CENTER><FONT FACE=\"Times New Roman\" SIZE=-1>0.0298</FONT></TD>"},{"$f":"\"<TD NOWRAP ALIGN=CENTER><FONT FACE=\"\"Times New Roman\"\" SIZE=-1>\"&TEXT(L79,\"$#,##0.00\")&IF(M79=\"\",\"\",\" to \")&IF(N79=\"\",\"\",TEXT(N79,\"$#,##0.00\"))&\"</FONT></TD>\"","v":"<TD NOWRAP ALIGN=CENTER><FONT FACE=\"Times New Roman\" SIZE=-1>$32.00</FONT></TD>"},"</TR>"]
["Town of Wilton",{"$f":"'2011 SD'!B250","v":2.2599999999999998},null,null,{"$f":"'2011 SD'!E250","v":11.15},{"$f":"'2011 SD'!F250","v":"to"},{"$f":"'2011 SD'!G250","v":19.22},{"$f":"'2011 SD'!H250","v":13.41},{"$f":"'2011 SD'!I250","v":"to"},{"$f":"'2011 SD'!J250","v":21.48},{"$f":"'2011 SD'!K250","v":1},{"$f":"'2011 SD'!L250","v":13.41},{"$f":"'2011 SD'!M250","v":"to"},{"$f":"'2011 SD'!N250","v":21.48},null,"<TR VALIGN=BOTTOM>",{"$f":"\"<TD NOWRAP ALIGN=LEFT><FONT FACE=\"\"Times New Roman\"\" SIZE=-1>\"&A80&\"</FONT></TD>\"","v":"<TD NOWRAP ALIGN=LEFT><FONT FACE=\"Times New Roman\" SIZE=-1>Town of Wilton</FONT></TD>"},"<TD NOWRAP ALIGN=RIGHT><FONT FACE=\"Times New Roman\" SIZE=-1>$2.26</FONT></TD>","<TD NOWRAP ALIGN=RIGHT><FONT FACE=\"Times New Roman\" SIZE=-1><BR></FONT></TD>","<TD NOWRAP ALIGN=RIGHT><FONT FACE=\"Times New Roman\" SIZE=-1><BR></FONT></TD>","<TD NOWRAP ALIGN=CENTER><FONT FACE=\"Times New Roman\" SIZE=-1>$11.15 to $19.22</FONT></TD>","<TD NOWRAP ALIGN=CENTER><FONT FACE=\"Times New Roman\" SIZE=-1>$13.41 to $21.48</FONT></TD>","<TD NOWRAP ALIGN=CENTER><FONT FACE=\"Times New Roman\" SIZE=-1>1.0000</FONT></TD>","<TD NOWRAP ALIGN=CENTER><FONT FACE=\"Times New Roman\" SIZE=-1>$13.41 to $21.48</FONT></TD>","</TR>"]
["Schenectady County",null,null,null,{"$f":"MIN(E82:E89)","v":13.32},{"$f":"IF(G81<>0,\"to\",\"\")","v":"to"},{"$f":"MAX(E82:G89)","v":63.41},{"$f":"MIN(H82:H89)","v":23.53},{"$f":"IF(J81<>0,\"to\",\"\")","v":"to"},{"$f":"MAX(H82:J89)","v":89.39},null,{"$f":"MIN(L82:L89)","v":21.41},{"$f":"IF(N81<>0,\"to\",\"\")","v":"to"},{"$f":"MAX(L82:N89)","v":40.75},null,"<TR VALIGN=BOTTOM BGCOLOR=\"#CCCCFF\">",{"$f":"\"<TH NOWRAP ALIGN=LEFT><FONT FACE=\"\"Times New Roman\"\" COLOR=\"\"#AA00AA\"\">\"&A81&\"</FONT></TH>\"","v":"<TH NOWRAP ALIGN=LEFT><FONT FACE=\"Times New Roman\" COLOR=\"#AA00AA\">Schenectady County</FONT></TH>"},"<TD NOWRAP ALIGN=RIGHT><FONT FACE=\"Times New Roman\" SIZE=-1><BR></FONT></TD>","<TD NOWRAP ALIGN=RIGHT><FONT FACE=\"Times New Roman\" SIZE=-1><BR></FONT></TD>","<TD NOWRAP ALIGN=RIGHT><FONT FACE=\"Times New Roman\" SIZE=-1><BR></FONT></TD>","<TD NOWRAP ALIGN=CENTER><FONT FACE=\"Times New Roman\" SIZE=-1>$13.32 to $63.41</FONT></TD>","<TD NOWRAP ALIGN=CENTER><FONT FACE=\"Times New Roman\" SIZE=-1>$23.53 to $89.39</FONT></TD>","<TD NOWRAP ALIGN=CENTER><FONT FACE=\"Times New Roman\" SIZE=-1><BR></FONT></TD>","<TD NOWRAP ALIGN=CENTER><FONT FACE=\"Times New Roman\" SIZE=-1>$21.41 to $40.75</FONT></TD>","</TR>"]
["Town of Duanesburg",{"$f":"'2011 SD'!B256","v":19.760000000000002},{"$f":"'2011 SD'!C256","v":4.0599999999999996},null,{"$f":"'2011 SD'!E256","v":54},{"$f":"'2011 SD'!F256","v":"to"},{"$f":"'2011 SD'!G256","v":63.41},{"$f":"'2011 SD'!H256","v":77.819999999999993},{"$f":"'2011 SD'!I256","v":"to"},{"$f":"'2011 SD'!J256","v":87.23},{"$f":"'2011 SD'!K256","v":0.3145},{"$f":"'2011 SD'!L256","v":24.36},{"$f":"'2011 SD'!M256","v":"to"},{"$f":"'2011 SD'!N256","v":26.69},null,"<TR VALIGN=BOTTOM>",{"$f":"\"<TD NOWRAP ALIGN=LEFT><FONT FACE=\"\"Times New Roman\"\" SIZE=-1>\"&A82&\"</FONT></TD>\"","v":"<TD NOWRAP ALIGN=LEFT><FONT FACE=\"Times New Roman\" SIZE=-1>Town of Duanesburg</FONT></TD>"},"<TD NOWRAP ALIGN=RIGHT><FONT FACE=\"Times New Roman\" SIZE=-1>$19.76</FONT></TD>","<TD NOWRAP ALIGN=RIGHT><FONT FACE=\"Times New Roman\" SIZE=-1>$4.06</FONT></TD>","<TD NOWRAP ALIGN=RIGHT><FONT FACE=\"Times New Roman\" SIZE=-1><BR></FONT></TD>","<TD NOWRAP ALIGN=CENTER><FONT FACE=\"Times New Roman\" SIZE=-1>$54.00 to $63.41</FONT></TD>","<TD NOWRAP ALIGN=CENTER><FONT FACE=\"Times New Roman\" SIZE=-1>$77.82 to $87.23</FONT></TD>","<TD NOWRAP ALIGN=CENTER><FONT FACE=\"Times New Roman\" SIZE=-1>0.3145</FONT></TD>","<TD NOWRAP ALIGN=CENTER><FONT FACE=\"Times New Roman\" SIZE=-1>$24.36 to $26.69</FONT></TD>","</TR>"]
["Village of Delanson",{"$f":"'2011 SD'!B261","v":19.760000000000002},{"$f":"'2011 SD'!C261","v":4.0599999999999996},{"$f":"'2011 SD'!D261","v":11.57},{"$f":"'2011 SD'!E261","v":54},null,null,{"$f":"'2011 SD'!H261","v":89.39},null,null,{"$f":"'2011 SD'!K261","v":0.2661},{"$f":"'2011 SD'!L261","v":24.94},null,null,null,"<TR VALIGN=BOTTOM>",{"$f":"\"<TD NOWRAP ALIGN=LEFT><FONT FACE=\"\"Times New Roman\"\" SIZE=-1 COLOR=\"\"#008000\"\">\"&A83&\"</FONT></TD>\"","v":"<TD NOWRAP ALIGN=LEFT><FONT FACE=\"Times New Roman\" SIZE=-1 COLOR=\"#008000\">Village of Delanson</FONT></TD>"},"<TD NOWRAP ALIGN=RIGHT><FONT FACE=\"Times New Roman\" SIZE=-1>$19.76</FONT></TD>","<TD NOWRAP ALIGN=RIGHT><FONT FACE=\"Times New Roman\" SIZE=-1>$4.06</FONT></TD>","<TD NOWRAP ALIGN=RIGHT><FONT FACE=\"Times New Roman\" SIZE=-1>$11.57</FONT></TD>","<TD NOWRAP ALIGN=CENTER><FONT FACE=\"Times New Roman\" SIZE=-1>$54.00</FONT></TD>","<TD NOWRAP ALIGN=CENTER><FONT FACE=\"Times New Roman\" SIZE=-1>$89.39</FONT></TD>","<TD NOWRAP ALIGN=CENTER><FONT FACE=\"Times New Roman\" SIZE=-1>0.2661</FONT></TD>","<TD NOWRAP ALIGN=CENTER><FONT FACE=\"Times New Roman\" SIZE=-1>$24.94</FONT></TD>","</TR>"]
["Town of Glenville",{"$f":"'2011 SD'!B263","v":6.85},{"$f":"'2011 SD'!C263","v":3.36},null,{"$f":"'2011 SD'!E263","v":13.32},{"$f":"'2011 SD'!F263","v":"to"},{"$f":"'2011 SD'!G263","v":20.32},{"$f":"'2011 SD'!H263","v":23.53},{"$f":"'2011 SD'!I263","v":"to"},{"$f":"'2011 SD'!J263","v":30.53},{"$f":"'2011 SD'!K263","v":0.91},{"$f":"'2011 SD'!L263","v":21.41},{"$f":"'2011 SD'!M263","v":"to"},{"$f":"'2011 SD'!N263","v":27.78},null,"<TR VALIGN=BOTTOM>",{"$f":"\"<TD NOWRAP ALIGN=LEFT><FONT FACE=\"\"Times New Roman\"\" SIZE=-1>\"&A84&\"</FONT></TD>\"","v":"<TD NOWRAP ALIGN=LEFT><FONT FACE=\"Times New Roman\" SIZE=-1>Town of Glenville</FONT></TD>"},"<TD NOWRAP ALIGN=RIGHT><FONT FACE=\"Times New Roman\" SIZE=-1>$6.85</FONT></TD>","<TD NOWRAP ALIGN=RIGHT><FONT FACE=\"Times New Roman\" SIZE=-1>$3.36</FONT></TD>","<TD NOWRAP ALIGN=RIGHT><FONT FACE=\"Times New Roman\" SIZE=-1><BR></FONT></TD>","<TD NOWRAP ALIGN=CENTER><FONT FACE=\"Times New Roman\" SIZE=-1>$13.32 to $20.32</FONT></TD>","<TD NOWRAP ALIGN=CENTER><FONT FACE=\"Times New Roman\" SIZE=-1>$23.53 to $30.53</FONT></TD>","<TD NOWRAP ALIGN=CENTER><FONT FACE=\"Times New Roman\" SIZE=-1>0.9100</FONT></TD>","<TD NOWRAP ALIGN=CENTER><FONT FACE=\"Times New Roman\" SIZE=-1>$21.41 to $27.78</FONT></TD>","</TR>"]
["Village of Scotia",{"$f":"'2011 SD'!B269","v":6.85},{"$f":"'2011 SD'!C269","v":1.01},{"$f":"'2011 SD'!D269","v":10.37},{"$f":"'2011 SD'!E269","v":20.010000000000002},null,null,{"$f":"'2011 SD'!H269","v":38.24},null,null,{"$f":"'2011 SD'!K269","v":0.85},{"$f":"'2011 SD'!L269","v":32.97},null,null,null,"<TR VALIGN=BOTTOM>",{"$f":"\"<TD NOWRAP ALIGN=LEFT><FONT FACE=\"\"Times New Roman\"\" SIZE=-1 COLOR=\"\"#008000\"\">\"&A85&\"</FONT></TD>\"","v":"<TD NOWRAP ALIGN=LEFT><FONT FACE=\"Times New Roman\" SIZE=-1 COLOR=\"#008000\">Village of Scotia</FONT></TD>"},"<TD NOWRAP ALIGN=RIGHT><FONT FACE=\"Times New Roman\" SIZE=-1>$6.85</FONT></TD>","<TD NOWRAP ALIGN=RIGHT><FONT FACE=\"Times New Roman\" SIZE=-1>$1.01</FONT></TD>","<TD NOWRAP ALIGN=RIGHT><FONT FACE=\"Times New Roman\" SIZE=-1>$10.37</FONT></TD>","<TD NOWRAP ALIGN=CENTER><FONT FACE=\"Times New Roman\" SIZE=-1>$20.01</FONT></TD>","<TD NOWRAP ALIGN=CENTER><FONT FACE=\"Times New Roman\" SIZE=-1>$38.24</FONT></TD>","<TD NOWRAP ALIGN=CENTER><FONT FACE=\"Times New Roman\" SIZE=-1>0.8500</FONT></TD>","<TD NOWRAP ALIGN=CENTER><FONT FACE=\"Times New Roman\" SIZE=-1>$32.97</FONT></TD>","</TR>"]
["Town of Niskayuna",{"$f":"'2011 SD'!B271","v":6.14},{"$f":"'2011 SD'!C271","v":2.87},null,{"$f":"'2011 SD'!E271","v":16.11},{"$f":"'2011 SD'!F271","v":"to"},{"$f":"'2011 SD'!G271","v":17.62},{"$f":"'2011 SD'!H271","v":25.12},{"$f":"'2011 SD'!I271","v":"to"},{"$f":"'2011 SD'!J271","v":26.63},{"$f":"'2011 SD'!K271","v":1},{"$f":"'2011 SD'!L271","v":25.12},{"$f":"'2011 SD'!M271","v":"to"},{"$f":"'2011 SD'!N271","v":26.63},null,"<TR VALIGN=BOTTOM>",{"$f":"\"<TD NOWRAP ALIGN=LEFT><FONT FACE=\"\"Times New Roman\"\" SIZE=-1>\"&A86&\"</FONT></TD>\"","v":"<TD NOWRAP ALIGN=LEFT><FONT FACE=\"Times New Roman\" SIZE=-1>Town of Niskayuna</FONT></TD>"},"<TD NOWRAP ALIGN=RIGHT><FONT FACE=\"Times New Roman\" SIZE=-1>$6.14</FONT></TD>","<TD NOWRAP ALIGN=RIGHT><FONT FACE=\"Times New Roman\" SIZE=-1>$2.87</FONT></TD>","<TD NOWRAP ALIGN=RIGHT><FONT FACE=\"Times New Roman\" SIZE=-1><BR></FONT></TD>","<TD NOWRAP ALIGN=CENTER><FONT FACE=\"Times New Roman\" SIZE=-1>$16.11 to $17.62</FONT></TD>","<TD NOWRAP ALIGN=CENTER><FONT FACE=\"Times New Roman\" SIZE=-1>$25.12 to $26.63</FONT></TD>","<TD NOWRAP ALIGN=CENTER><FONT FACE=\"Times New Roman\" SIZE=-1>1.0000</FONT></TD>","<TD NOWRAP ALIGN=CENTER><FONT FACE=\"Times New Roman\" SIZE=-1>$25.12 to $26.63</FONT></TD>","</TR>"]
["Town of Princetown",{"$f":"'2011 SD'!B274","v":19.32},{"$f":"'2011 SD'!C274","v":0.43},null,{"$f":"'2011 SD'!E274","v":52.66},{"$f":"'2011 SD'!F274","v":"to"},{"$f":"'2011 SD'!G274","v":57.19},{"$f":"'2011 SD'!H274","v":72.41},{"$f":"'2011 SD'!I274","v":"to"},{"$f":"'2011 SD'!J274","v":76.94},{"$f":"'2011 SD'!K274","v":0.32250000000000001},{"$f":"'2011 SD'!L274","v":23.35},{"$f":"'2011 SD'!M274","v":"to"},{"$f":"'2011 SD'!N274","v":24.81},null,"<TR VALIGN=BOTTOM>",{"$f":"\"<TD NOWRAP ALIGN=LEFT><FONT FACE=\"\"Times New Roman\"\" SIZE=-1>\"&A87&\"</FONT></TD>\"","v":"<TD NOWRAP ALIGN=LEFT><FONT FACE=\"Times New Roman\" SIZE=-1>Town of Princetown</FONT></TD>"},"<TD NOWRAP ALIGN=RIGHT><FONT FACE=\"Times New Roman\" SIZE=-1>$19.32</FONT></TD>","<TD NOWRAP ALIGN=RIGHT><FONT FACE=\"Times New Roman\" SIZE=-1>$0.43</FONT></TD>","<TD NOWRAP ALIGN=RIGHT><FONT FACE=\"Times New Roman\" SIZE=-1><BR></FONT></TD>","<TD NOWRAP ALIGN=CENTER><FONT FACE=\"Times New Roman\" SIZE=-1>$52.66 to $57.19</FONT></TD>","<TD NOWRAP ALIGN=CENTER><FONT FACE=\"Times New Roman\" SIZE=-1>$72.41 to $76.94</FONT></TD>","<TD NOWRAP ALIGN=CENTER><FONT FACE=\"Times New Roman\" SIZE=-1>0.3225</FONT></TD>","<TD NOWRAP ALIGN=CENTER><FONT FACE=\"Times New Roman\" SIZE=-1>$23.35 to $24.81</FONT></TD>","</TR>"]
["Town of Rotterdam",{"$f":"'2011 SD'!B277","v":6.33},{"$f":"'2011 SD'!C277","v":4.32},null,{"$f":"'2011 SD'!E277","v":15.19},{"$f":"'2011 SD'!F277","v":"to"},{"$f":"'2011 SD'!G277","v":20.9},{"$f":"'2011 SD'!H277","v":25.84},{"$f":"'2011 SD'!I277","v":"to"},{"$f":"'2011 SD'!J277","v":31.55},{"$f":"'2011 SD'!K277","v":1},{"$f":"'2011 SD'!L277","v":25.84},{"$f":"'2011 SD'!M277","v":"to"},{"$f":"'2011 SD'!N277","v":31.55},null,"<TR VALIGN=BOTTOM>",{"$f":"\"<TD NOWRAP ALIGN=LEFT><FONT FACE=\"\"Times New Roman\"\" SIZE=-1>\"&A88&\"</FONT></TD>\"","v":"<TD NOWRAP ALIGN=LEFT><FONT FACE=\"Times New Roman\" SIZE=-1>Town of Rotterdam</FONT></TD>"},"<TD NOWRAP ALIGN=RIGHT><FONT FACE=\"Times New Roman\" SIZE=-1>$6.33</FONT></TD>","<TD NOWRAP ALIGN=RIGHT><FONT FACE=\"Times New Roman\" SIZE=-1>$4.32</FONT></TD>","<TD NOWRAP ALIGN=RIGHT><FONT FACE=\"Times New Roman\" SIZE=-1><BR></FONT></TD>","<TD NOWRAP ALIGN=CENTER><FONT FACE=\"Times New Roman\" SIZE=-1>$15.19 to $20.90</FONT></TD>","<TD NOWRAP ALIGN=CENTER><FONT FACE=\"Times New Roman\" SIZE=-1>$25.84 to $31.55</FONT></TD>","<TD NOWRAP ALIGN=CENTER><FONT FACE=\"Times New Roman\" SIZE=-1>1.0000</FONT></TD>","<TD NOWRAP ALIGN=CENTER><FONT FACE=\"Times New Roman\" SIZE=-1>$25.84 to $31.55</FONT></TD>","</TR>"]
["City of Schenectady",{"$f":"'2011 SD'!B281","v":6.66},null,{"$f":"'2011 SD'!D281","v":13.19},{"$f":"'2011 SD'!E281","v":20.9},null,null,{"$f":"'2011 SD'!H281","v":40.75},null,null,{"$f":"'2011 SD'!K281","v":1},{"$f":"'2011 SD'!L281","v":40.75},null,null,null,"<TR VALIGN=BOTTOM>",{"$f":"\"<TD NOWRAP ALIGN=LEFT><FONT FACE=\"\"Times New Roman\"\" SIZE=-1 COLOR=#800000\"\">\"&A89&\"</FONT></TD>\"","v":"<TD NOWRAP ALIGN=LEFT><FONT FACE=\"Times New Roman\" SIZE=-1 COLOR=#800000\">City of Schenectady</FONT></TD>"},"<TD NOWRAP ALIGN=RIGHT><FONT FACE=\"Times New Roman\" SIZE=-1>$6.66</FONT></TD>","<TD NOWRAP ALIGN=RIGHT><FONT FACE=\"Times New Roman\" SIZE=-1><BR></FONT></TD>","<TD NOWRAP ALIGN=RIGHT><FONT FACE=\"Times New Roman\" SIZE=-1>$13.19</FONT></TD>","<TD NOWRAP ALIGN=CENTER><FONT FACE=\"Times New Roman\" SIZE=-1>$20.90</FONT></TD>","<TD NOWRAP ALIGN=CENTER><FONT FACE=\"Times New Roman\" SIZE=-1>$40.75</FONT></TD>","<TD NOWRAP ALIGN=CENTER><FONT FACE=\"Times New Roman\" SIZE=-1>1.0000</FONT></TD>","<TD NOWRAP ALIGN=CENTER><FONT FACE=\"Times New Roman\" SIZE=-1>$40.75</FONT></TD>","</TR>"]
["Capital District",null,null,null,{"$f":"MIN(E4:E89)","v":6.91},{"$f":"IF(G90<>0,\"to\",\"\")","v":"to"},{"$f":"MAX(E4:G89)","v":2048.92},{"$f":"MIN(H4:H89)","v":12.27},{"$f":"IF(J90<>0,\"to\",\"\")","v":"to"},{"$f":"MAX(H4:J89)","v":2689.43},null,{"$f":"MIN(L4:L89)","v":7.47},{"$f":"IF(N90<>0,\"to\",\"\")","v":"to"},{"$f":"MAX(L4:N89)","v":40.75},null,"<TR VALIGN=BOTTOM BGCOLOR=\"#CCCCFF\">",{"$f":"\"<TH NOWRAP ALIGN=LEFT><FONT FACE=\"\"Times New Roman\"\" COLOR=##AA00AA\"\">\"&A90&\"</FONT></TH>\"","v":"<TH NOWRAP ALIGN=LEFT><FONT FACE=\"Times New Roman\" COLOR=##AA00AA\">Capital District</FONT></TH>"},"<TD NOWRAP ALIGN=RIGHT><FONT FACE=\"Times New Roman\" SIZE=-1><BR></FONT></TD>","<TD NOWRAP ALIGN=RIGHT><FONT FACE=\"Times New Roman\" SIZE=-1><BR></FONT></TD>","<TD NOWRAP ALIGN=RIGHT><FONT FACE=\"Times New Roman\" SIZE=-1><BR></FONT></TD>","<TD NOWRAP ALIGN=CENTER><FONT FACE=\"Times New Roman\" SIZE=-1>$6.91 to $2,048.92</FONT></TD>","<TD NOWRAP ALIGN=CENTER><FONT FACE=\"Times New Roman\" SIZE=-1>$12.27 to $2,689.43</FONT></TD>","<TD NOWRAP ALIGN=CENTER><FONT FACE=\"Times New Roman\" SIZE=-1><BR></FONT></TD>","<TD NOWRAP ALIGN=CENTER><FONT FACE=\"Times New Roman\" SIZE=-1>$7.47 to $40.75</FONT></TD>","</TR>"]

{"sheet":"DN_Table11","index":22,"n_rows":86,"n_cols":30,"rows_kept":86,"cut":false,"hidden":false,"merged":[]}
[{"$f":"\"Capital District \"&LEFT(TEXT(C2,\"0000\"),4)&\" Real Property Tax Rates\"","v":"Capital District 2011 Real Property Tax Rates"},null,null,null,null,null,null,null,null,null,null,null,null,null,null,null,"CHECK"]
[null,null,{"$f":"'2011'!B1","v":"2011 Tax Rates per $1,000 in Assessed Valuation"},null,null,null,null,null,null,null,null,null,"Total Overall",null,null,null,null,"2010 Tax Rates per $1,000 in Assessed Valuation",null,null,null,null,null,null,null,null,null,"Total Overall"]
[null,null,null,null,"City or",null,null,null,null,null,null,"Equalization","Full Value Range:",null,null,null,null,null,null,"City or",null,null,null,null,null,null,"Equalization","Full Value Range:"]
[null,"City, Town, or Village","County","Town","Village","School District Range",null,null,"Total Overall Range",null,null,"Rate","Rate per $1,000",null,null,null,"City, Town, or Village","County","Town","Village","School District Range",null,null,"Total Overall Range",null,null,"Rate","Rate per $1,000"]
[null,"City of Albany ",{"$f":"'2011'!B5","v":3.26},{"$f":"'2011'!C5","v":0},{"$f":"'2011'!D5","v":10.96},{"$f":"'2011'!E5","v":22.4},{"$f":"'2011'!F5","v":0},{"$f":"'2011'!G5","v":0},{"$f":"'2011'!H5","v":36.619999999999997},{"$f":"'2011'!I5","v":0},{"$f":"'2011'!J5","v":0},{"$f":"'2011'!K5","v":0.99399999999999999},{"$f":"'2011'!L5","v":36.4},{"$f":"'2011'!M5","v":0},{"$f":"'2011'!N5","v":0},null,{"$f":"B5","v":"City of Albany "},{"$f":"IF(C5<>'2011'!B5,1,0)","v":0},{"$f":"IF(D5<>'2011'!C5,1,0)","v":0},{"$f":"IF(E5<>'2011'!D5,1,0)","v":0},{"$f":"IF(F5<>'2011'!E5,1,0)","v":0},{"$f":"IF(G5<>'2011'!F5,1,0)","v":0},{"$f":"IF(H5<>'2011'!G5,1,0)","v":0},{"$f":"IF(I5<>'2011'!H5,1,0)","v":0},{"$f":"IF(J5<>'2011'!I5,1,0)","v":0},{"$f":"IF(K5<>'2011'!J5,1,0)","v":0},{"$f":"IF(L5<>'2011'!K5,1,0)","v":0},{"$f":"IF(M5<>'2011'!L5,1,0)","v":0},{"$f":"IF(N5<>'2011'!M5,1,0)","v":0},{"$f":"IF(O5<>'2011'!N5,1,0)","v":0}]
[null,"Town of Berne ",{"$f":"'2011'!B6","v":5.13},{"$f":"'2011'!C6","v":4.74},{"$f":"'2011'!D6","v":0},{"$f":"'2011'!E6","v":28.04},{"$f":"'2011'!F6","v":"to"},{"$f":"'2011'!G6","v":29.49},{"$f":"'2011'!H6","v":37.909999999999997},{"$f":"'2011'!I6","v":"to"},{"$f":"'2011'!J6","v":39.36},{"$f":"'2011'!K6","v":0.62},{"$f":"'2011'!L6","v":23.5},{"$f":"'2011'!M6","v":"to"},{"$f":"'2011'!N6","v":24.4},null,"Town of Berne ",{"$f":"IF(C6<>'2011'!B6,1,0)","v":0},{"$f":"IF(D6<>'2011'!C6,1,0)","v":0},{"$f":"IF(E6<>'2011'!D6,1,0)","v":0},{"$f":"IF(F6<>'2011'!E6,1,0)","v":0},{"$f":"IF(G6<>'2011'!F6,1,0)","v":0},{"$f":"IF(H6<>'2011'!G6,1,0)","v":0},{"$f":"IF(I6<>'2011'!H6,1,0)","v":0},{"$f":"IF(J6<>'2011'!I6,1,0)","v":0},{"$f":"IF(K6<>'2011'!J6,1,0)","v":0},{"$f":"IF(L6<>'2011'!K6,1,0)","v":0},{"$f":"IF(M6<>'2011'!L6,1,0)","v":0},{"$f":"IF(N6<>'2011'!M6,1,0)","v":0},{"$f":"IF(O6<>'2011'!N6,1,0)","v":0}]
[null,"Town of Bethlehem ",{"$f":"'2011'!B7","v":3.25},{"$f":"'2011'!C7","v":1.9},{"$f":"'2011'!D7","v":0},{"$f":"'2011'!E7","v":18.5},{"$f":"'2011'!F7","v":"to"},{"$f":"'2011'!G7","v":20.87},{"$f":"'2011'!H7","v":23.65},{"$f":"'2011'!I7","v":"to"},{"$f":"'2011'!J7","v":26.02},{"$f":"'2011'!K7","v":0.97},{"$f":"'2011'!L7","v":22.94},{"$f":"'2011'!M7","v":"to"},{"$f":"'2011'!N7","v":25.23},null,"Town of Bethlehem ",{"$f":"IF(C7<>'2011'!B7,1,0)","v":0},{"$f":"IF(D7<>'2011'!C7,1,0)","v":0},{"$f":"IF(E7<>'2011'!D7,1,0)","v":0},{"$f":"IF(F7<>'2011'!E7,1,0)","v":0},{"$f":"IF(G7<>'2011'!F7,1,0)","v":0},{"$f":"IF(H7<>'2011'!G7,1,0)","v":0},{"$f":"IF(I7<>'2011'!H7,1,0)","v":0},{"$f":"IF(J7<>'2011'!I7,1,0)","v":0},{"$f":"IF(K7<>'2011'!J7,1,0)","v":0},{"$f":"IF(L7<>'2011'!K7,1,0)","v":0},{"$f":"IF(M7<>'2011'!L7,1,0)","v":0},{"$f":"IF(N7<>'2011'!M7,1,0)","v":0},{"$f":"IF(O7<>'2011'!N7,1,0)","v":0}]
[null,"Town of Coeymans ",{"$f":"'2011'!B8","v":3.17},{"$f":"'2011'!C8","v":2.96},{"$f":"'2011'!D8","v":0},{"$f":"'2011'!E8","v":17.38},{"$f":"'2011'!F8","v":"to"},{"$f":"'2011'!G8","v":18.72},{"$f":"'2011'!H8","v":23.51},{"$f":"'2011'!I8","v":"to"},{"$f":"'2011'!J8","v":24.85},{"$f":"'2011'!K8","v":1},{"$f":"'2011'!L8","v":23.51},{"$f":"'2011'!M8","v":"to"},{"$f":"'2011'!N8","v":24.85},null,"Town of Coeymans ",{"$f":"IF(C8<>'2011'!B8,1,0)","v":0},{"$f":"IF(D8<>'2011'!C8,1,0)","v":0},{"$f":"IF(E8<>'2011'!D8,1,0)","v":0},{"$f":"IF(F8<>'2011'!E8,1,0)","v":0},{"$f":"IF(G8<>'2011'!F8,1,0)","v":0},{"$f":"IF(H8<>'2011'!G8,1,0)","v":0},{"$f":"IF(I8<>'2011'!H8,1,0)","v":0},{"$f":"IF(J8<>'2011'!I8,1,0)","v":0},{"$f":"IF(K8<>'2011'!J8,1,0)","v":0},{"$f":"IF(L8<>'2011'!K8,1,0)","v":0},{"$f":"IF(M8<>'2011'!L8,1,0)","v":0},{"$f":"IF(N8<>'2011'!M8,1,0)","v":0},{"$f":"IF(O8<>'2011'!N8,1,0)","v":0}]
[null,"Village of Ravena ",{"$f":"'2011'!B9","v":3.17},{"$f":"'2011'!C9","v":2.96},{"$f":"'2011'!D9","v":4.49},{"$f":"'2011'!E9","v":18.72},{"$f":"'2011'!F9","v":0},{"$f":"'2011'!G9","v":0},{"$f":"'2011'!H9","v":29.34},{"$f":"'2011'!I9","v":0},{"$f":"'2011'!J9","v":0},{"$f":"'2011'!K9","v":0.99250000000000005},{"$f":"'2011'!L9","v":29.31},{"$f":"'2011'!M9","v":0},{"$f":"'2011'!N9","v":0},null,"Village of Ravena ",{"$f":"IF(C9<>'2011'!B9,1,0)","v":0},{"$f":"IF(D9<>'2011'!C9,1,0)","v":0},{"$f":"IF(E9<>'2011'!D9,1,0)","v":0},{"$f":"IF(F9<>'2011'!E9,1,0)","v":0},{"$f":"IF(G9<>'2011'!F9,1,0)","v":0},{"$f":"IF(H9<>'2011'!G9,1,0)","v":0},{"$f":"IF(I9<>'2011'!H9,1,0)","v":0},{"$f":"IF(J9<>'2011'!I9,1,0)","v":0},{"$f":"IF(K9<>'2011'!J9,1,0)","v":0},{"$f":"IF(L9<>'2011'!K9,1,0)","v":0},{"$f":"IF(M9<>'2011'!L9,1,0)","v":0},{"$f":"IF(N9<>'2011'!M9,1,0)","v":0},{"$f":"IF(O9<>'2011'!N9,1,0)","v":0}]
[null,"City of Cohoes ",{"$f":"'2011'!B10","v":5.9},{"$f":"'2011'!C10","v":0},{"$f":"'2011'!D10","v":16.989999999999998},{"$f":"'2011'!E10","v":32.72},{"$f":"'2011'!F10","v":0},{"$f":"'2011'!G10","v":0},{"$f":"'2011'!H10","v":55.61},{"$f":"'2011'!I10","v":0},{"$f":"'2011'!J10","v":0},{"$f":"'2011'!K10","v":0.54},{"$f":"'2011'!L10","v":30.03},{"$f":"'2011'!M10","v":0},{"$f":"'2011'!N10","v":0},null,"City of Cohoes ",{"$f":"IF(C10<>'2011'!B10,1,0)","v":0},{"$f":"IF(D10<>'2011'!C10,1,0)","v":0},{"$f":"IF(E10<>'2011'!D10,1,0)","v":0},{"$f":"IF(F10<>'2011'!E10,1,0)","v":0},{"$f":"IF(G10<>'2011'!F10,1,0)","v":0},{"$f":"IF(H10<>'2011'!G10,1,0)","v":0},{"$f":"IF(I10<>'2011'!H10,1,0)","v":0},{"$f":"IF(J10<>'2011'!I10,1,0)","v":0},{"$f":"IF(K10<>'2011'!J10,1,0)","v":0},{"$f":"IF(L10<>'2011'!K10,1,0)","v":0},{"$f":"IF(M10<>'2011'!L10,1,0)","v":0},{"$f":"IF(N10<>'2011'!M10,1,0)","v":0},{"$f":"IF(O10<>'2011'!N10,1,0)","v":0}]
[null,"Town of Colonie ",{"$f":"'2011'!B11","v":4.7},{"$f":"'2011'!C11","v":3.07},{"$f":"'2011'!D11","v":0},{"$f":"'2011'!E11","v":18.5},{"$f":"'2011'!F11","v":"to"},{"$f":"'2011'!G11","v":30.15},{"$f":"'2011'!H11","v":26.27},{"$f":"'2011'!I11","v":"to"},{"$f":"'2011'!J11","v":37.92},{"$f":"'2011'!K11","v":0.67},{"$f":"'2011'!L11","v":17.61},{"$f":"'2011'!M11","v":"to"},{"$f":"'2011'!N11","v":25.41},null,"Town of Colonie ",{"$f":"IF(C11<>'2011'!B11,1,0)","v":0},{"$f":"IF(D11<>'2011'!C11,1,0)","v":0},{"$f":"IF(E11<>'2011'!D11,1,0)","v":0},{"$f":"IF(F11<>'2011'!E11,1,0)","v":0},{"$f":"IF(G11<>'2011'!F11,1,0)","v":0},{"$f":"IF(H11<>'2011'!G11,1,0)","v":0},{"$f":"IF(I11<>'2011'!H11,1,0)","v":0},{"$f":"IF(J11<>'2011'!I11,1,0)","v":0},{"$f":"IF(K11<>'2011'!J11,1,0)","v":0},{"$f":"IF(L11<>'2011'!K11,1,0)","v":0},{"$f":"IF(M11<>'2011'!L11,1,0)","v":0},{"$f":"IF(N11<>'2011'!M11,1,0)","v":0},{"$f":"IF(O11<>'2011'!N11,1,0)","v":0}]
[null,"Village of Colonie ",{"$f":"'2011'!B12","v":4.7},{"$f":"'2011'!C12","v":3.07},{"$f":"'2011'!D12","v":38},{"$f":"'2011'!E12","v":24.05},{"$f":"'2011'!F12","v":0},{"$f":"'2011'!G12","v":0},{"$f":"'2011'!H12","v":69.819999999999993},{"$f":"'2011'!I12","v":0},{"$f":"'2011'!J12","v":0},{"$f":"'2011'!K12","v":3.5299999999999998E-2},{"$f":"'2011'!L12","v":22.66},{"$f":"'2011'!M12","v":0},{"$f":"'2011'!N12","v":0},null,"Village of Colonie ",{"$f":"IF(C12<>'2011'!B12,1,0)","v":0},{"$f":"IF(D12<>'2011'!C12,1,0)","v":0},{"$f":"IF(E12<>'2011'!D12,1,0)","v":0},{"$f":"IF(F12<>'2011'!E12,1,0)","v":0},{"$f":"IF(G12<>'2011'!F12,1,0)","v":0},{"$f":"IF(H12<>'2011'!G12,1,0)","v":0},{"$f":"IF(I12<>'2011'!H12,1,0)","v":0},{"$f":"IF(J12<>'2011'!I12,1,0)","v":0},{"$f":"IF(K12<>'2011'!J12,1,0)","v":0},{"$f":"IF(L12<>'2011'!K12,1,0)","v":0},{"$f":"IF(M12<>'2011'!L12,1,0)","v":0},{"$f":"IF(N12<>'2011'!M12,1,0)","v":0},{"$f":"IF(O12<>'2011'!N12,1,0)","v":0}]
[null,"Village of Menands ",{"$f":"'2011'!B13","v":4.7},{"$f":"'2011'!C13","v":3.07},{"$f":"'2011'!D13","v":6.26},{"$f":"'2011'!E13","v":23.92},{"$f":"'2011'!F13","v":0},{"$f":"'2011'!G13","v":0},{"$f":"'2011'!H13","v":37.950000000000003},{"$f":"'2011'!I13","v":0},{"$f":"'2011'!J13","v":0},{"$f":"'2011'!K13","v":0.65749999999999997},{"$f":"'2011'!L13","v":25.36},{"$f":"'2011'!M13","v":0},{"$f":"'2011'!N13","v":0},null,"Village of Menands ",{"$f":"IF(C13<>'2011'!B13,1,0)","v":0},{"$f":"IF(D13<>'2011'!C13,1,0)","v":0},{"$f":"IF(E13<>'2011'!D13,1,0)","v":0},{"$f":"IF(F13<>'2011'!E13,1,0)","v":0},{"$f":"IF(G13<>'2011'!F13,1,0)","v":0},{"$f":"IF(H13<>'2011'!G13,1,0)","v":0},{"$f":"IF(I13<>'2011'!H13,1,0)","v":0},{"$f":"IF(J13<>'2011'!I13,1,0)","v":0},{"$f":"IF(K13<>'2011'!J13,1,0)","v":0},{"$f":"IF(L13<>'2011'!K13,1,0)","v":0},{"$f":"IF(M13<>'2011'!L13,1,0)","v":0},{"$f":"IF(N13<>'2011'!M13,1,0)","v":0},{"$f":"IF(O13<>'2011'!N13,1,0)","v":0}]
[null,"Town/Village of Green Island ",{"$f":"'2011'!B15","v":54.3},{"$f":"'2011'!C15","v":0},{"$f":"'2011'!D15","v":208.85},{"$f":"'2011'!E15","v":336.63},{"$f":"'2011'!F15","v":0},{"$f":"'2011'!G15","v":0},{"$f":"'2011'!H15","v":599.78},{"$f":"'2011'!I15","v":0},{"$f":"'2011'!J15","v":0},{"$f":"'2011'!K15","v":5.3800000000000001E-2},{"$f":"'2011'!L15","v":32.270000000000003},{"$f":"'2011'!M15","v":0},{"$f":"'2011'!N15","v":0},null,"Town/Village of Green Island ",{"$f":"IF(C14<>'2011'!B15,1,0)","v":0},{"$f":"IF(D14<>'2011'!C15,1,0)","v":0},{"$f":"IF(E14<>'2011'!D15,1,0)","v":0},{"$f":"IF(F14<>'2011'!E15,1,0)","v":0},{"$f":"IF(G14<>'2011'!F15,1,0)","v":0},{"$f":"IF(H14<>'2011'!G15,1,0)","v":0},{"$f":"IF(I14<>'2011'!H15,1,0)","v":0},{"$f":"IF(J14<>'2011'!I15,1,0)","v":0},{"$f":"IF(K14<>'2011'!J15,1,0)","v":0},{"$f":"IF(L14<>'2011'!K15,1,0)","v":0},{"$f":"IF(M14<>'2011'!L15,1,0)","v":0},{"$f":"IF(N14<>'2011'!M15,1,0)","v":0},{"$f":"IF(O14<>'2011'!N15,1,0)","v":0}]
[null,"Town of Guilderland ",{"$f":"'2011'!B16","v":3.68},{"$f":"'2011'!C16","v":1.28},{"$f":"'2011'!D16","v":0},{"$f":"'2011'!E16","v":17.86},{"$f":"'2011'!F16","v":"to"},{"$f":"'2011'!G16","v":21.11},{"$f":"'2011'!H16","v":22.82},{"$f":"'2011'!I16","v":"to"},{"$f":"'2011'!J16","v":26.07},{"$f":"'2011'!K16","v":0.85050000000000003},{"$f":"'2011'!L16","v":19.41},{"$f":"'2011'!M16","v":"to"},{"$f":"'2011'!N16","v":22.17},null,"Town of Guilderland ",{"$f":"IF(C15<>'2011'!B16,1,0)","v":0},{"$f":"IF(D15<>'2011'!C16,1,0)","v":0},{"$f":"IF(E15<>'2011'!D16,1,0)","v":0},{"$f":"IF(F15<>'2011'!E16,1,0)","v":0},{"$f":"IF(G15<>'2011'!F16,1,0)","v":0},{"$f":"IF(H15<>'2011'!G16,1,0)","v":0},{"$f":"IF(I15<>'2011'!H16,1,0)","v":0},{"$f":"IF(J15<>'2011'!I16,1,0)","v":0},{"$f":"IF(K15<>'2011'!J16,1,0)","v":0},{"$f":"IF(L15<>'2011'!K16,1,0)","v":0},{"$f":"IF(M15<>'2011'!L16,1,0)","v":0},{"$f":"IF(N15<>'2011'!M16,1,0)","v":0},{"$f":"IF(O15<>'2011'!N16,1,0)","v":0}]
[null,"Village of Altamont ",{"$f":"'2011'!B17","v":3.68},{"$f":"'2011'!C17","v":0.28999999999999998},{"$f":"'2011'!D17","v":2.68},{"$f":"'2011'!E17","v":21.1},{"$f":"'2011'!F17","v":0},{"$f":"'2011'!G17","v":0},{"$f":"'2011'!H17","v":27.75},{"$f":"'2011'!I17","v":0},{"$f":"'2011'!J17","v":0},{"$f":"'2011'!K17","v":0.79090000000000005},{"$f":"'2011'!L17","v":23.45},{"$f":"'2011'!M17","v":0},{"$f":"'2011'!N17","v":0},null,"Village of Altamont ",{"$f":"IF(C16<>'2011'!B17,1,0)","v":0},{"$f":"IF(D16<>'2011'!C17,1,0)","v":0},{"$f":"IF(E16<>'2011'!D17,1,0)","v":0},{"$f":"IF(F16<>'2011'!E17,1,0)","v":0},{"$f":"IF(G16<>'2011'!F17,1,0)","v":0},{"$f":"IF(H16<>'2011'!G17,1,0)","v":0},{"$f":"IF(I16<>'2011'!H17,1,0)","v":0},{"$f":"IF(J16<>'2011'!I17,1,0)","v":0},{"$f":"IF(K16<>'2011'!J17,1,0)","v":0},{"$f":"IF(L16<>'2011'!K17,1,0)","v":0},{"$f":"IF(M16<>'2011'!L17,1,0)","v":0},{"$f":"IF(N16<>'2011'!M17,1,0)","v":0},{"$f":"IF(O16<>'2011'!N17,1,0)","v":0}]
[null,"Town of Knox ",{"$f":"'2011'!B18","v":5.55},{"$f":"'2011'!C18","v":1.85},{"$f":"'2011'!D18","v":0},{"$f":"'2011'!E18","v":29.79},{"$f":"'2011'!F18","v":"to"},{"$f":"'2011'!G18","v":33.68},{"$f":"'2011'!H18","v":37.19},{"$f":"'2011'!I18","v":"to"},{"$f":"'2011'!J18","v":41.08},{"$f":"'2011'!K18","v":0.56999999999999995},{"$f":"'2011'!L18","v":21.19},{"$f":"'2011'!M18","v":"to"},{"$f":"'2011'!N18","v":23.41},null,"Town of Knox ",{"$f":"IF(C17<>'2011'!B18,1,0)","v":0},{"$f":"IF(D17<>'2011'!C18,1,0)","v":0},{"$f":"IF(E17<>'2011'!D18,1,0)","v":0},{"$f":"IF(F17<>'2011'!E18,1,0)","v":0},{"$f":"IF(G17<>'2011'!F18,1,0)","v":0},{"$f":"IF(H17<>'2011'!G18,1,0)","v":0},{"$f":"IF(I17<>'2011'!H18,1,0)","v":0},{"$f":"IF(J17<>'2011'!I18,1,0)","v":0},{"$f":"IF(K17<>'2011'!J18,1,0)","v":0},{"$f":"IF(L17<>'2011'!K18,1,0)","v":0},{"$f":"IF(M17<>'2011'!L18,1,0)","v":0},{"$f":"IF(N17<>'2011'!M18,1,0)","v":0},{"$f":"IF(O17<>'2011'!N18,1,0)","v":0}]
[null,"Town of New Scotland ",{"$f":"'2011'!B19","v":3.36},{"$f":"'2011'!C19","v":1.71},{"$f":"'2011'!D19","v":0},{"$f":"'2011'!E19","v":18.489999999999998},{"$f":"'2011'!F19","v":"to"},{"$f":"'2011'!G19","v":21.53},{"$f":"'2011'!H19","v":23.56},{"$f":"'2011'!I19","v":"to"},{"$f":"'2011'!J19","v":26.6},{"$f":"'2011'!K19","v":0.94},{"$f":"'2011'!L19","v":22.15},{"$f":"'2011'!M19","v":"to"},{"$f":"'2011'!N19","v":25.01},null,"Town of New Scotland ",{"$f":"IF(C18<>'2011'!B19,1,0)","v":0},{"$f":"IF(D18<>'2011'!C19,1,0)","v":0},{"$f":"IF(E18<>'2011'!D19,1,0)","v":0},{"$f":"IF(F18<>'2011'!E19,1,0)","v":0},{"$f":"IF(G18<>'2011'!F19,1,0)","v":0},{"$f":"IF(H18<>'2011'!G19,1,0)","v":0},{"$f":"IF(I18<>'2011'!H19,1,0)","v":0},{"$f":"IF(J18<>'2011'!I19,1,0)","v":0},{"$f":"IF(K18<>'2011'!J19,1,0)","v":0},{"$f":"IF(L18<>'2011'!K19,1,0)","v":0},{"$f":"IF(M18<>'2011'!L19,1,0)","v":0},{"$f":"IF(N18<>'2011'!M19,1,0)","v":0},{"$f":"IF(O18<>'2011'!N19,1,0)","v":0}]
[null,"Village of Voorheesville ",{"$f":"'2011'!B20","v":3.36},{"$f":"'2011'!C20","v":1.25},{"$f":"'2011'!D20","v":1.1000000000000001},{"$f":"'2011'!E20","v":18.91},{"$f":"'2011'!F20","v":0},{"$f":"'2011'!G20","v":0},{"$f":"'2011'!H20","v":24.62},{"$f":"'2011'!I20","v":0},{"$f":"'2011'!J20","v":0},{"$f":"'2011'!K20","v":0.94},{"$f":"'2011'!L20","v":23.15},{"$f":"'2011'!M20","v":0},{"$f":"'2011'!N20","v":0},null,"Village of Voorheesville ",{"$f":"IF(C19<>'2011'!B20,1,0)","v":0},{"$f":"IF(D19<>'2011'!C20,1,0)","v":0},{"$f":"IF(E19<>'2011'!D20,1,0)","v":0},{"$f":"IF(F19<>'2011'!E20,1,0)","v":0},{"$f":"IF(G19<>'2011'!F20,1,0)","v":0},{"$f":"IF(H19<>'2011'!G20,1,0)","v":0},{"$f":"IF(I19<>'2011'!H20,1,0)","v":0},{"$f":"IF(J19<>'2011'!I20,1,0)","v":0},{"$f":"IF(K19<>'2011'!J20,1,0)","v":0},{"$f":"IF(L19<>'2011'!K20,1,0)","v":0},{"$f":"IF(M19<>'2011'!L20,1,0)","v":0},{"$f":"IF(N19<>'2011'!M20,1,0)","v":0},{"$f":"IF(O19<>'2011'!N20,1,0)","v":0}]
[null,"Town of Rensselaerville ",{"$f":"'2011'!B21","v":5.79},{"$f":"'2011'!C21","v":7.76},{"$f":"'2011'!D21","v":0},{"$f":"'2011'!E21","v":22.01},{"$f":"'2011'!F21","v":"to"},{"$f":"'2011'!G21","v":33.74},{"$f":"'2011'!H21","v":35.56},{"$f":"'2011'!I21","v":"to"},{"$f":"'2011'!J21","v":47.29},{"$f":"'2011'!K21","v":0.54200000000000004},{"$f":"'2011'!L21","v":19.28},{"$f":"'2011'!M21","v":"to"},{"$f":"'2011'!N21","v":25.64},null,"Town of Rensselaerville ",{"$f":"IF(C20<>'2011'!B21,1,0)","v":0},{"$f":"IF(D20<>'2011'!C21,1,0)","v":0},{"$f":"IF(E20<>'2011'!D21,1,0)","v":0},{"$f":"IF(F20<>'2011'!E21,1,0)","v":0},{"$f":"IF(G20<>'2011'!F21,1,0)","v":0},{"$f":"IF(H20<>'2011'!G21,1,0)","v":0},{"$f":"IF(I20<>'2011'!H21,1,0)","v":0},{"$f":"IF(J20<>'2011'!I21,1,0)","v":0},{"$f":"IF(K20<>'2011'!J21,1,0)","v":0},{"$f":"IF(L20<>'2011'!K21,1,0)","v":0},{"$f":"IF(M20<>'2011'!L21,1,0)","v":0},{"$f":"IF(N20<>'2011'!M21,1,0)","v":0},{"$f":"IF(O20<>'2011'!N21,1,0)","v":0}]
[null,"City of Watervliet ",{"$f":"'2011'!B22","v":5.1100000000000003},{"$f":"'2011'!C22","v":0},{"$f":"'2011'!D22","v":15.54},{"$f":"'2011'!E22","v":19.91},{"$f":"'2011'!F22","v":0},{"$f":"'2011'!G22","v":0},{"$f":"'2011'!H22","v":40.56},{"$f":"'2011'!I22","v":0},{"$f":"'2011'!J22","v":0},{"$f":"'2011'!K22","v":0.62250000000000005},{"$f":"'2011'!L22","v":25.24},{"$f":"'2011'!M22","v":0},{"$f":"'2011'!N22","v":0},null,"City of Watervliet ",{"$f":"IF(C21<>'2011'!B22,1,0)","v":0},{"$f":"IF(D21<>'2011'!C22,1,0)","v":0},{"$f":"IF(E21<>'2011'!D22,1,0)","v":0},{"$f":"IF(F21<>'2011'!E22,1,0)","v":0},{"$f":"IF(G21<>'2011'!F22,1,0)","v":0},{"$f":"IF(H21<>'2011'!G22,1,0)","v":0},{"$f":"IF(I21<>'2011'!H22,1,0)","v":0},{"$f":"IF(J21<>'2011'!I22,1,0)","v":0},{"$f":"IF(K21<>'2011'!J22,1,0)","v":0},{"$f":"IF(L21<>'2011'!K22,1,0)","v":0},{"$f":"IF(M21<>'2011'!L22,1,0)","v":0},{"$f":"IF(N21<>'2011'!M22,1,0)","v":0},{"$f":"IF(O21<>'2011'!N22,1,0)","v":0}]
[null,"Town of Westerlo ",{"$f":"'2011'!B23","v":379.91},{"$f":"'2011'!C23","v":260.60000000000002},{"$f":"'2011'!D23","v":0},{"$f":"'2011'!E23","v":2045.22},{"$f":"'2011'!F23","v":"to"},{"$f":"'2011'!G23","v":2048.92},{"$f":"'2011'!H23","v":2685.73},{"$f":"'2011'!I23","v":"to"},{"$f":"'2011'!J23","v":2689.43},{"$f":"'2011'!K23","v":8.5000000000000006E-3},{"$f":"'2011'!L23","v":22.83},{"$f":"'2011'!M23","v":"to"},{"$f":"'2011'!N23","v":22.87},null,"Town of Westerlo ",{"$f":"IF(C22<>'2011'!B23,1,0)","v":0},{"$f":"IF(D22<>'2011'!C23,1,0)","v":0},{"$f":"IF(E22<>'2011'!D23,1,0)","v":0},{"$f":"IF(F22<>'2011'!E23,1,0)","v":0},{"$f":"IF(G22<>'2011'!F23,1,0)","v":0},{"$f":"IF(H22<>'2011'!G23,1,0)","v":0},{"$f":"IF(I22<>'2011'!H23,1,0)","v":0},{"$f":"IF(J22<>'2011'!I23,1,0)","v":0},{"$f":"IF(K22<>'2011'!J23,1,0)","v":0},{"$f":"IF(L22<>'2011'!K23,1,0)","v":0},{"$f":"IF(M22<>'2011'!L23,1,0)","v":0},{"$f":"IF(N22<>'2011'!M23,1,0)","v":0},{"$f":"IF(O22<>'2011'!N23,1,0)","v":0}]
[null,"Town of Berlin ",{"$f":"'2011'!B25","v":22.16},{"$f":"'2011'!C25","v":9.43},{"$f":"'2011'!D25","v":0},{"$f":"'2011'!E25","v":57.6},{"$f":"'2011'!F25","v":"to"},{"$f":"'2011'!G25","v":64.34},{"$f":"'2011'!H25","v":89.19},{"$f":"'2011'!I25","v":"to"},{"$f":"'2011'!J25","v":95.93},{"$f":"'2011'!K25","v":0.246},{"$f":"'2011'!L25","v":21.94},{"$f":"'2011'!M25","v":"to"},{"$f":"'2011'!N25","v":23.6},null,"Town of Berlin ",{"$f":"IF(C23<>'2011'!B25,1,0)","v":0},{"$f":"IF(D23<>'2011'!C25,1,0)","v":0},{"$f":"IF(E23<>'2011'!D25,1,0)","v":0},{"$f":"IF(F23<>'2011'!E25,1,0)","v":0},{"$f":"IF(G23<>'2011'!F25,1,0)","v":0},{"$f":"IF(H23<>'2011'!G25,1,0)","v":0},{"$f":"IF(I23<>'2011'!H25,1,0)","v":0},{"$f":"IF(J23<>'2011'!I25,1,0)","v":0},{"$f":"IF(K23<>'2011'!J25,1,0)","v":0},{"$f":"IF(L23<>'2011'!K25,1,0)","v":0},{"$f":"IF(M23<>'2011'!L25,1,0)","v":0},{"$f":"IF(N23<>'2011'!M25,1,0)","v":0},{"$f":"IF(O23<>'2011'!N25,1,0)","v":0}]
[null,"Town of Brunswick ",{"$f":"'2011'!B26","v":21.58},{"$f":"'2011'!C26","v":7.91},{"$f":"'2011'!D26","v":0},{"$f":"'2011'!E26","v":62.22},{"$f":"'2011'!F26","v":"to"},{"$f":"'2011'!G26","v":75.510000000000005},{"$f":"'2011'!H26","v":91.71},{"$f":"'2011'!I26","v":"to"},{"$f":"'2011'!J26","v":105},{"$f":"'2011'!K26","v":0.253},{"$f":"'2011'!L26","v":23.2},{"$f":"'2011'!M26","v":"to"},{"$f":"'2011'!N26","v":26.56},null,"Town of Brunswick ",{"$f":"IF(C24<>'2011'!B26,1,0)","v":0},{"$f":"IF(D24<>'2011'!C26,1,0)","v":0},{"$f":"IF(E24<>'2011'!D26,1,0)","v":0},{"$f":"IF(F24<>'2011'!E26,1,0)","v":0},{"$f":"IF(G24<>'2011'!F26,1,0)","v":0},{"$f":"IF(H24<>'2011'!G26,1,0)","v":0},{"$f":"IF(I24<>'2011'!H26,1,0)","v":0},{"$f":"IF(J24<>'2011'!I26,1,0)","v":0},{"$f":"IF(K24<>'2011'!J26,1,0)","v":0},{"$f":"IF(L24<>'2011'!K26,1,0)","v":0},{"$f":"IF(M24<>'2011'!L26,1,0)","v":0},{"$f":"IF(N24<>'2011'!M26,1,0)","v":0},{"$f":"IF(O24<>'2011'!N26,1,0)","v":0}]
[null,"Town of East Greenbush ",{"$f":"'2011'!B27","v":5.4},{"$f":"'2011'!C27","v":4.01},{"$f":"'2011'!D27","v":0},{"$f":"'2011'!E27","v":15.82},{"$f":"'2011'!F27","v":"to"},{"$f":"'2011'!G27","v":17.68},{"$f":"'2011'!H27","v":25.23},{"$f":"'2011'!I27","v":"to"},{"$f":"'2011'!J27","v":27.09},{"$f":"'2011'!K27","v":1},{"$f":"'2011'!L27","v":25.23},{"$f":"'2011'!M27","v":"to"},{"$f":"'2011'!N27","v":27.09},null,"Town of East Greenbush ",{"$f":"IF(C25<>'2011'!B27,1,0)","v":0},{"$f":"IF(D25<>'2011'!C27,1,0)","v":0},{"$f":"IF(E25<>'2011'!D27,1,0)","v":0},{"$f":"IF(F25<>'2011'!E27,1,0)","v":0},{"$f":"IF(G25<>'2011'!F27,1,0)","v":0},{"$f":"IF(H25<>'2011'!G27,1,0)","v":0},{"$f":"IF(I25<>'2011'!H27,1,0)","v":0},{"$f":"IF(J25<>'2011'!I27,1,0)","v":0},{"$f":"IF(K25<>'2011'!J27,1,0)","v":0},{"$f":"IF(L25<>'2011'!K27,1,0)","v":0},{"$f":"IF(M25<>'2011'!L27,1,0)","v":0},{"$f":"IF(N25<>'2011'!M27,1,0)","v":0},{"$f":"IF(O25<>'2011'!N27,1,0)","v":0}]
[null,"Town of Grafton ",{"$f":"'2011'!B28","v":65.05},{"$f":"'2011'!C28","v":40.98},{"$f":"'2011'!D28","v":0},{"$f":"'2011'!E28","v":169.7},{"$f":"'2011'!F28","v":"to"},{"$f":"'2011'!G28","v":205.6},{"$f":"'2011'!H28","v":275.73},{"$f":"'2011'!I28","v":"to"},{"$f":"'2011'!J28","v":311.63},{"$f":"'2011'!K28","v":8.3500000000000005E-2},{"$f":"'2011'!L28","v":23.02},{"$f":"'2011'!M28","v":"to"},{"$f":"'2011'!N28","v":26.02},null,"Town of Grafton ",{"$f":"IF(C26<>'2011'!B28,1,0)","v":0},{"$f":"IF(D26<>'2011'!C28,1,0)","v":0},{"$f":"IF(E26<>'2011'!D28,1,0)","v":0},{"$f":"IF(F26<>'2011'!E28,1,0)","v":0},{"$f":"IF(G26<>'2011'!F28,1,0)","v":0},{"$f":"IF(H26<>'2011'!G28,1,0)","v":0},{"$f":"IF(I26<>'2011'!H28,1,0)","v":0},{"$f":"IF(J26<>'2011'!I28,1,0)","v":0},{"$f":"IF(K26<>'2011'!J28,1,0)","v":0},{"$f":"IF(L26<>'2011'!K28,1,0)","v":0},{"$f":"IF(M26<>'2011'!L28,1,0)","v":0},{"$f":"IF(N26<>'2011'!M28,1,0)","v":0},{"$f":"IF(O26<>'2011'!N28,1,0)","v":0}]
[null,"Town of Hoosick ",{"$f":"'2011'!B29","v":20.69},{"$f":"'2011'!C29","v":11.56},{"$f":"'2011'!D29","v":0},{"$f":"'2011'!E29","v":46.18},{"$f":"'2011'!F29","v":"to"},{"$f":"'2011'!G29","v":62.36},{"$f":"'2011'!H29","v":78.430000000000007},{"$f":"'2011'!I29","v":"to"},{"$f":"'2011'!J29","v":94.61},{"$f":"'2011'!K29","v":0.27500000000000002},{"$f":"'2011'!L29","v":21.57},{"$f":"'2011'!M29","v":"to"},{"$f":"'2011'!N29","v":26.02},null,"Town of Hoosick ",{"$f":"IF(C27<>'2011'!B29,1,0)","v":0},{"$f":"IF(D27<>'2011'!C29,1,0)","v":0},{"$f":"IF(E27<>'2011'!D29,1,0)","v":0},{"$f":"IF(F27<>'2011'!E29,1,0)","v":0},{"$f":"IF(G27<>'2011'!F29,1,0)","v":0},{"$f":"IF(H27<>'2011'!G29,1,0)","v":0},{"$f":"IF(I27<>'2011'!H29,1,0)","v":0},{"$f":"IF(J27<>'2011'!I29,1,0)","v":0},{"$f":"IF(K27<>'2011'!J29,1,0)","v":0},{"$f":"IF(L27<>'2011'!K29,1,0)","v":0},{"$f":"IF(M27<>'2011'!L29,1,0)","v":0},{"$f":"IF(N27<>'2011'!M29,1,0)","v":0},{"$f":"IF(O27<>'2011'!N29,1,0)","v":0}]
[null,"Village of Hoosick Falls ",{"$f":"'2011'!B30","v":20.69},{"$f":"'2011'!C30","v":8.41},{"$f":"'2011'!D30","v":56.92},{"$f":"'2011'!E30","v":62.36},{"$f":"'2011'!F30","v":0},{"$f":"'2011'!G30","v":0},{"$f":"'2011'!H30","v":148.38},{"$f":"'2011'!I30","v":0},{"$f":"'2011'!J30","v":0},{"$f":"'2011'!K30","v":0.12970000000000001},{"$f":"'2011'!L30","v":32.53},{"$f":"'2011'!M30","v":0},{"$f":"'2011'!N30","v":0},null,"Village of Hoosick Falls ",{"$f":"IF(C28<>'2011'!B30,1,0)","v":0},{"$f":"IF(D28<>'2011'!C30,1,0)","v":0},{"$f":"IF(E28<>'2011'!D30,1,0)","v":0},{"$f":"IF(F28<>'2011'!E30,1,0)","v":0},{"$f":"IF(G28<>'2011'!F30,1,0)","v":0},{"$f":"IF(H28<>'2011'!G30,1,0)","v":0},{"$f":"IF(I28<>'2011'!H30,1,0)","v":0},{"$f":"IF(J28<>'2011'!I30,1,0)","v":0},{"$f":"IF(K28<>'2011'!J30,1,0)","v":0},{"$f":"IF(L28<>'2011'!K30,1,0)","v":0},{"$f":"IF(M28<>'2011'!L30,1,0)","v":0},{"$f":"IF(N28<>'2011'!M30,1,0)","v":0},{"$f":"IF(O28<>'2011'!N30,1,0)","v":0}]
[null,"Town of Nassau ",{"$f":"'2011'!B31","v":7.77},{"$f":"'2011'!C31","v":4.07},{"$f":"'2011'!D31","v":0},{"$f":"'2011'!E31","v":16.96},{"$f":"'2011'!F31","v":"to"},{"$f":"'2011'!G31","v":24.76},{"$f":"'2011'!H31","v":28.8},{"$f":"'2011'!I31","v":"to"},{"$f":"'2011'!J31","v":36.6},{"$f":"'2011'!K31","v":0.7},{"$f":"'2011'!L31","v":20.16},{"$f":"'2011'!M31","v":"to"},{"$f":"'2011'!N31","v":25.62},null,"Town of Nassau ",{"$f":"IF(C29<>'2011'!B31,1,0)","v":0},{"$f":"IF(D29<>'2011'!C31,1,0)","v":0},{"$f":"IF(E29<>'2011'!D31,1,0)","v":0},{"$f":"IF(F29<>'2011'!E31,1,0)","v":0},{"$f":"IF(G29<>'2011'!F31,1,0)","v":0},{"$f":"IF(H29<>'2011'!G31,1,0)","v":0},{"$f":"IF(I29<>'2011'!H31,1,0)","v":0},{"$f":"IF(J29<>'2011'!I31,1,0)","v":0},{"$f":"IF(K29<>'2011'!J31,1,0)","v":0},{"$f":"IF(L29<>'2011'!K31,1,0)","v":0},{"$f":"IF(M29<>'2011'!L31,1,0)","v":0},{"$f":"IF(N29<>'2011'!M31,1,0)","v":0},{"$f":"IF(O29<>'2011'!N31,1,0)","v":0}]
[null,{"$f":"'2011'!A32&\" \"","v":"Village of East Nassau "},{"$f":"'2011'!B32","v":7.77},{"$f":"'2011'!C32","v":1.01},{"$f":"'2011'!D32","v":1.78},{"$f":"'2011'!E32","v":16.96},{"$f":"'2011'!F32","v":"to"},{"$f":"'2011'!G32","v":24.76},{"$f":"'2011'!H32","v":27.52},{"$f":"'2011'!I32","v":"to"},{"$f":"'2011'!J32","v":35.32},{"$f":"'2011'!K32","v":0.69499999999999995},{"$f":"'2011'!L32","v":19.260000000000002},{"$f":"'2011'!M32","v":"to"},{"$f":"'2011'!N32","v":24.72},null,"Village of East Nassau ",{"$f":"IF(C30<>'2011'!B32,1,0)","v":0},{"$f":"IF(D30<>'2011'!C32,1,0)","v":0},{"$f":"IF(E30<>'2011'!D32,1,0)","v":0},{"$f":"IF(F30<>'2011'!E32,1,0)","v":0},{"$f":"IF(G30<>'2011'!F32,1,0)","v":0},{"$f":"IF(H30<>'2011'!G32,1,0)","v":0},{"$f":"IF(I30<>'2011'!H32,1,0)","v":0},{"$f":"IF(J30<>'2011'!I32,1,0)","v":0},{"$f":"IF(K30<>'2011'!J32,1,0)","v":0},{"$f":"IF(L30<>'2011'!K32,1,0)","v":0},{"$f":"IF(M30<>'2011'!L32,1,0)","v":0},{"$f":"IF(N30<>'2011'!M32,1,0)","v":0},{"$f":"IF(O30<>'2011'!N32,1,0)","v":0}]
[null,"Village of Nassau (part) ",{"$f":"'2011'!B33","v":7.77},{"$f":"'2011'!C33","v":1.01},{"$f":"'2011'!D33","v":9.6199999999999992},{"$f":"'2011'!E33","v":24.76},{"$f":"'2011'!F33","v":0},{"$f":"'2011'!G33","v":0},{"$f":"'2011'!H33","v":43.16},{"$f":"'2011'!I33","v":0},{"$f":"'2011'!J33","v":0},{"$f":"'2011'!K33","v":0.50019999999999998},{"$f":"'2011'!L33","v":28.29},{"$f":"'2011'!M33","v":0},{"$f":"'2011'!N33","v":0},null,"Village of Nassau (part) ",{"$f":"IF(C31<>'2011'!B33,1,0)","v":0},{"$f":"IF(D31<>'2011'!C33,1,0)","v":0},{"$f":"IF(E31<>'2011'!D33,1,0)","v":0},{"$f":"IF(F31<>'2011'!E33,1,0)","v":0},{"$f":"IF(G31<>'2011'!F33,1,0)","v":0},{"$f":"IF(H31<>'2011'!G33,1,0)","v":0},{"$f":"IF(I31<>'2011'!H33,1,0)","v":0},{"$f":"IF(J31<>'2011'!I33,1,0)","v":0},{"$f":"IF(K31<>'2011'!J33,1,0)","v":0},{"$f":"IF(L31<>'2011'!K33,1,0)","v":0},{"$f":"IF(M31<>'2011'!L33,1,0)","v":0},{"$f":"IF(N31<>'2011'!M33,1,0)","v":0},{"$f":"IF(O31<>'2011'!N33,1,0)","v":0}]
[null,"Town of North Greenbush ",{"$f":"'2011'!B34","v":20.78},{"$f":"'2011'!C34","v":10.85},{"$f":"'2011'!D34","v":0},{"$f":"'2011'!E34","v":24},{"$f":"'2011'!F34","v":"to"},{"$f":"'2011'!G34","v":72.930000000000007},{"$f":"'2011'!H34","v":55.63},{"$f":"'2011'!I34","v":"to"},{"$f":"'2011'!J34","v":104.56},{"$f":"'2011'!K34","v":0.26250000000000001},{"$f":"'2011'!L34","v":14.6},{"$f":"'2011'!M34","v":"to"},{"$f":"'2011'!N34","v":27.44},null,"Town of North Greenbush ",{"$f":"IF(C32<>'2011'!B34,1,0)","v":0},{"$f":"IF(D32<>'2011'!C34,1,0)","v":0},{"$f":"IF(E32<>'2011'!D34,1,0)","v":0},{"$f":"IF(F32<>'2011'!E34,1,0)","v":0},{"$f":"IF(G32<>'2011'!F34,1,0)","v":0},{"$f":"IF(H32<>'2011'!G34,1,0)","v":0},{"$f":"IF(I32<>'2011'!H34,1,0)","v":0},{"$f":"IF(J32<>'2011'!I34,1,0)","v":0},{"$f":"IF(K32<>'2011'!J34,1,0)","v":0},{"$f":"IF(L32<>'2011'!K34,1,0)","v":0},{"$f":"IF(M32<>'2011'!L34,1,0)","v":0},{"$f":"IF(N32<>'2011'!M34,1,0)","v":0},{"$f":"IF(O32<>'2011'!N34,1,0)","v":0}]
[null,"Town of Petersburgh ",{"$f":"'2011'!B35","v":10.039999999999999},{"$f":"'2011'!C35","v":7.6},{"$f":"'2011'!D35","v":0},{"$f":"'2011'!E35","v":25.07},{"$f":"'2011'!F35","v":"to"},{"$f":"'2011'!G35","v":30.35},{"$f":"'2011'!H35","v":42.71},{"$f":"'2011'!I35","v":"to"},{"$f":"'2011'!J35","v":47.99},{"$f":"'2011'!K35","v":0.56499999999999995},{"$f":"'2011'!L35","v":24.12},{"$f":"'2011'!M35","v":"to"},{"$f":"'2011'!N35","v":27.11},null,"Town of Petersburgh ",{"$f":"IF(C33<>'2011'!B35,1,0)","v":0},{"$f":"IF(D33<>'2011'!C35,1,0)","v":0},{"$f":"IF(E33<>'2011'!D35,1,0)","v":0},{"$f":"IF(F33<>'2011'!E35,1,0)","v":0},{"$f":"IF(G33<>'2011'!F35,1,0)","v":0},{"$f":"IF(H33<>'2011'!G35,1,0)","v":0},{"$f":"IF(I33<>'2011'!H35,1,0)","v":0},{"$f":"IF(J33<>'2011'!I35,1,0)","v":0},{"$f":"IF(K33<>'2011'!J35,1,0)","v":0},{"$f":"IF(L33<>'2011'!K35,1,0)","v":0},{"$f":"IF(M33<>'2011'!L35,1,0)","v":0},{"$f":"IF(N33<>'2011'!M35,1,0)","v":0},{"$f":"IF(O33<>'2011'!N35,1,0)","v":0}]
[null,"Town of Pittstown ",{"$f":"'2011'!B36","v":9.2200000000000006},{"$f":"'2011'!C36","v":6.09},{"$f":"'2011'!D36","v":0},{"$f":"'2011'!E36","v":20.65},{"$f":"'2011'!F36","v":"to"},{"$f":"'2011'!G36","v":27.88},{"$f":"'2011'!H36","v":35.96},{"$f":"'2011'!I36","v":"to"},{"$f":"'2011'!J36","v":43.19},{"$f":"'2011'!K36","v":0.61499999999999999},{"$f":"'2011'!L36","v":22.12},{"$f":"'2011'!M36","v":"to"},{"$f":"'2011'!N36","v":26.57},null,"Town of Pittstown ",{"$f":"IF(C34<>'2011'!B36,1,0)","v":0},{"$f":"IF(D34<>'2011'!C36,1,0)","v":0},{"$f":"IF(E34<>'2011'!D36,1,0)","v":0},{"$f":"IF(F34<>'2011'!E36,1,0)","v":0},{"$f":"IF(G34<>'2011'!F36,1,0)","v":0},{"$f":"IF(H34<>'2011'!G36,1,0)","v":0},{"$f":"IF(I34<>'2011'!H36,1,0)","v":0},{"$f":"IF(J34<>'2011'!I36,1,0)","v":0},{"$f":"IF(K34<>'2011'!J36,1,0)","v":0},{"$f":"IF(L34<>'2011'!K36,1,0)","v":0},{"$f":"IF(M34<>'2011'!L36,1,0)","v":0},{"$f":"IF(N34<>'2011'!M36,1,0)","v":0},{"$f":"IF(O34<>'2011'!N36,1,0)","v":0}]
[null,"Village of Valley Falls (part) ",{"$f":"'2011'!B37","v":9.2200000000000006},{"$f":"'2011'!C37","v":4.0199999999999996},{"$f":"'2011'!D37","v":3.27},{"$f":"'2011'!E37","v":26.39},{"$f":"'2011'!F37","v":0},{"$f":"'2011'!G37","v":0},{"$f":"'2011'!H37","v":42.9},{"$f":"'2011'!I37","v":0},{"$f":"'2011'!J37","v":0},{"$f":"'2011'!K37","v":0.54320000000000002},{"$f":"'2011'!L37","v":26.15},{"$f":"'2011'!M37","v":0},{"$f":"'2011'!N37","v":0},null,"Village of Valley Falls (part) ",{"$f":"IF(C35<>'2011'!B37,1,0)","v":0},{"$f":"IF(D35<>'2011'!C37,1,0)","v":0},{"$f":"IF(E35<>'2011'!D37,1,0)","v":0},{"$f":"IF(F35<>'2011'!E37,1,0)","v":0},{"$f":"IF(G35<>'2011'!F37,1,0)","v":0},{"$f":"IF(H35<>'2011'!G37,1,0)","v":0},{"$f":"IF(I35<>'2011'!H37,1,0)","v":0},{"$f":"IF(J35<>'2011'!I37,1,0)","v":0},{"$f":"IF(K35<>'2011'!J37,1,0)","v":0},{"$f":"IF(L35<>'2011'!K37,1,0)","v":0},{"$f":"IF(M35<>'2011'!L37,1,0)","v":0},{"$f":"IF(N35<>'2011'!M37,1,0)","v":0},{"$f":"IF(O35<>'2011'!N37,1,0)","v":0}]
[null,"Town of Poestenkill ",{"$f":"'2011'!B38","v":21.85},{"$f":"'2011'!C38","v":10.64},{"$f":"'2011'!D38","v":0},{"$f":"'2011'!E38","v":57.25},{"$f":"'2011'!F38","v":"to"},{"$f":"'2011'!G38","v":77.349999999999994},{"$f":"'2011'!H38","v":89.74},{"$f":"'2011'!I38","v":"to"},{"$f":"'2011'!J38","v":109.84},{"$f":"'2011'!K38","v":0.2475},{"$f":"'2011'!L38","v":22.21},{"$f":"'2011'!M38","v":"to"},{"$f":"'2011'!N38","v":27.18},null,"Town of Poestenkill ",{"$f":"IF(C36<>'2011'!B38,1,0)","v":0},{"$f":"IF(D36<>'2011'!C38,1,0)","v":0},{"$f":"IF(E36<>'2011'!D38,1,0)","v":0},{"$f":"IF(F36<>'2011'!E38,1,0)","v":0},{"$f":"IF(G36<>'2011'!F38,1,0)","v":0},{"$f":"IF(H36<>'2011'!G38,1,0)","v":0},{"$f":"IF(I36<>'2011'!H38,1,0)","v":0},{"$f":"IF(J36<>'2011'!I38,1,0)","v":0},{"$f":"IF(K36<>'2011'!J38,1,0)","v":0},{"$f":"IF(L36<>'2011'!K38,1,0)","v":0},{"$f":"IF(M36<>'2011'!L38,1,0)","v":0},{"$f":"IF(N36<>'2011'!M38,1,0)","v":0},{"$f":"IF(O36<>'2011'!N38,1,0)","v":0}]
[null,"City of Rensselaer ",{"$f":"'2011'!B39","v":18.11},{"$f":"'2011'!C39","v":0},{"$f":"'2011'!D39","v":48.12},{"$f":"'2011'!E39","v":54.75},{"$f":"'2011'!F39","v":0},{"$f":"'2011'!G39","v":0},{"$f":"'2011'!H39","v":120.98},{"$f":"'2011'!I39","v":0},{"$f":"'2011'!J39","v":0},{"$f":"'2011'!K39","v":0.29399999999999998},{"$f":"'2011'!L39","v":35.57},{"$f":"'2011'!M39","v":0},{"$f":"'2011'!N39","v":0},null,{"$f":"B37","v":"City of Rensselaer "},{"$f":"IF(C37<>'2011'!B39,1,0)","v":0},{"$f":"IF(D37<>'2011'!C39,1,0)","v":0},{"$f":"IF(E37<>'2011'!D39,1,0)","v":0},{"$f":"IF(F37<>'2011'!E39,1,0)","v":0},{"$f":"IF(G37<>'2011'!F39,1,0)","v":0},{"$f":"IF(H37<>'2011'!G39,1,0)","v":0},{"$f":"IF(I37<>'2011'!H39,1,0)","v":0},{"$f":"IF(J37<>'2011'!I39,1,0)","v":0},{"$f":"IF(K37<>'2011'!J39,1,0)","v":0},{"$f":"IF(L37<>'2011'!K39,1,0)","v":0},{"$f":"IF(M37<>'2011'!L39,1,0)","v":0},{"$f":"IF(N37<>'2011'!M39,1,0)","v":0},{"$f":"IF(O37<>'2011'!N39,1,0)","v":0}]
[null,"Town of Sand Lake ",{"$f":"'2011'!B40","v":5.38},{"$f":"'2011'!C40","v":1.8},{"$f":"'2011'!D40","v":0},{"$f":"'2011'!E40","v":15.82},{"$f":"'2011'!F40","v":"to"},{"$f":"'2011'!G40","v":16.510000000000002},{"$f":"'2011'!H40","v":23},{"$f":"'2011'!I40","v":"to"},{"$f":"'2011'!J40","v":23.69},{"$f":"'2011'!K40","v":1},{"$f":"'2011'!L40","v":23},{"$f":"'2011'!M40","v":"to"},{"$f":"'2011'!N40","v":23.69},null,"Town of Sand Lake ",{"$f":"IF(C38<>'2011'!B40,1,0)","v":0},{"$f":"IF(D38<>'2011'!C40,1,0)","v":0},{"$f":"IF(E38<>'2011'!D40,1,0)","v":0},{"$f":"IF(F38<>'2011'!E40,1,0)","v":0},{"$f":"IF(G38<>'2011'!F40,1,0)","v":0},{"$f":"IF(H38<>'2011'!G40,1,0)","v":0},{"$f":"IF(I38<>'2011'!H40,1,0)","v":0},{"$f":"IF(J38<>'2011'!I40,1,0)","v":0},{"$f":"IF(K38<>'2011'!J40,1,0)","v":0},{"$f":"IF(L38<>'2011'!K40,1,0)","v":0},{"$f":"IF(M38<>'2011'!L40,1,0)","v":0},{"$f":"IF(N38<>'2011'!M40,1,0)","v":0},{"$f":"IF(O38<>'2011'!N40,1,0)","v":0}]
[null,"Town of Schaghticoke ",{"$f":"'2011'!B41","v":24.02},{"$f":"'2011'!C41","v":7.51},{"$f":"'2011'!D41","v":0},{"$f":"'2011'!E41","v":51.8},{"$f":"'2011'!F41","v":"to"},{"$f":"'2011'!G41","v":72.02},{"$f":"'2011'!H41","v":83.33},{"$f":"'2011'!I41","v":"to"},{"$f":"'2011'!J41","v":103.55},{"$f":"'2011'!K41","v":0.23499999999999999},{"$f":"'2011'!L41","v":19.57},{"$f":"'2011'!M41","v":"to"},{"$f":"'2011'!N41","v":24.32},null,"Town of Schaghticoke ",{"$f":"IF(C39<>'2011'!B41,1,0)","v":0},{"$f":"IF(D39<>'2011'!C41,1,0)","v":0},{"$f":"IF(E39<>'2011'!D41,1,0)","v":0},{"$f":"IF(F39<>'2011'!E41,1,0)","v":0},{"$f":"IF(G39<>'2011'!F41,1,0)","v":0},{"$f":"IF(H39<>'2011'!G41,1,0)","v":0},{"$f":"IF(I39<>'2011'!H41,1,0)","v":0},{"$f":"IF(J39<>'2011'!I41,1,0)","v":0},{"$f":"IF(K39<>'2011'!J41,1,0)","v":0},{"$f":"IF(L39<>'2011'!K41,1,0)","v":0},{"$f":"IF(M39<>'2011'!L41,1,0)","v":0},{"$f":"IF(N39<>'2011'!M41,1,0)","v":0},{"$f":"IF(O39<>'2011'!N41,1,0)","v":0}]
[null,"Village of Schaghticoke ",{"$f":"'2011'!B42","v":24.02},{"$f":"'2011'!C42","v":5.86},{"$f":"'2011'!D42","v":14.68},{"$f":"'2011'!E42","v":69.06},{"$f":"'2011'!F42","v":0},{"$f":"'2011'!G42","v":0},{"$f":"'2011'!H42","v":113.62},{"$f":"'2011'!I42","v":0},{"$f":"'2011'!J42","v":0},{"$f":"'2011'!K42","v":0.23},{"$f":"'2011'!L42","v":26.63},{"$f":"'2011'!M42","v":0},{"$f":"'2011'!N42","v":0},null,"Village of Schaghticoke ",{"$f":"IF(C40<>'2011'!B42,1,0)","v":0},{"$f":"IF(D40<>'2011'!C42,1,0)","v":0},{"$f":"IF(E40<>'2011'!D42,1,0)","v":0},{"$f":"IF(F40<>'2011'!E42,1,0)","v":0},{"$f":"IF(G40<>'2011'!F42,1,0)","v":0},{"$f":"IF(H40<>'2011'!G42,1,0)","v":0},{"$f":"IF(I40<>'2011'!H42,1,0)","v":0},{"$f":"IF(J40<>'2011'!I42,1,0)","v":0},{"$f":"IF(K40<>'2011'!J42,1,0)","v":0},{"$f":"IF(L40<>'2011'!K42,1,0)","v":0},{"$f":"IF(M40<>'2011'!L42,1,0)","v":0},{"$f":"IF(N40<>'2011'!M42,1,0)","v":0},{"$f":"IF(O40<>'2011'!N42,1,0)","v":0}]
[null,"Village of Valley Falls (part) ",{"$f":"'2011'!B43","v":24.02},{"$f":"'2011'!C43","v":5.86},{"$f":"'2011'!D43","v":3.27},{"$f":"'2011'!E43","v":69.06},{"$f":"'2011'!F43","v":0},{"$f":"'2011'!G43","v":0},{"$f":"'2011'!H43","v":102.21},{"$f":"'2011'!I43","v":0},{"$f":"'2011'!J43","v":0},{"$f":"'2011'!K43","v":0.54320000000000002},{"$f":"'2011'!L43","v":25.03},{"$f":"'2011'!M43","v":0},{"$f":"'2011'!N43","v":0},null,"Village of Valley Falls (part) ",{"$f":"IF(C41<>'2011'!B43,1,0)","v":0},{"$f":"IF(D41<>'2011'!C43,1,0)","v":0},{"$f":"IF(E41<>'2011'!D43,1,0)","v":0},{"$f":"IF(F41<>'2011'!E43,1,0)","v":0},{"$f":"IF(G41<>'2011'!F43,1,0)","v":0},{"$f":"IF(H41<>'2011'!G43,1,0)","v":0},{"$f":"IF(I41<>'2011'!H43,1,0)","v":0},{"$f":"IF(J41<>'2011'!I43,1,0)","v":0},{"$f":"IF(K41<>'2011'!J43,1,0)","v":0},{"$f":"IF(L41<>'2011'!K43,1,0)","v":0},{"$f":"IF(M41<>'2011'!L43,1,0)","v":0},{"$f":"IF(N41<>'2011'!M43,1,0)","v":0},{"$f":"IF(O41<>'2011'!N43,1,0)","v":0}]
[null,"Town of Schodack ",{"$f":"'2011'!B44","v":5.49},{"$f":"'2011'!C44","v":4.2300000000000004},{"$f":"'2011'!D44","v":0},{"$f":"'2011'!E44","v":13.65},{"$f":"'2011'!F44","v":"to"},{"$f":"'2011'!G44","v":18.829999999999998},{"$f":"'2011'!H44","v":23.37},{"$f":"'2011'!I44","v":"to"},{"$f":"'2011'!J44","v":28.55},{"$f":"'2011'!K44","v":1},{"$f":"'2011'!L44","v":23.37},{"$f":"'2011'!M44","v":"to"},{"$f":"'2011'!N44","v":28.55},null,"Town of Schodack ",{"$f":"IF(C42<>'2011'!B44,1,0)","v":0},{"$f":"IF(D42<>'2011'!C44,1,0)","v":0},{"$f":"IF(E42<>'2011'!D44,1,0)","v":0},{"$f":"IF(F42<>'2011'!E44,1,0)","v":0},{"$f":"IF(G42<>'2011'!F44,1,0)","v":0},{"$f":"IF(H42<>'2011'!G44,1,0)","v":0},{"$f":"IF(I42<>'2011'!H44,1,0)","v":0},{"$f":"IF(J42<>'2011'!I44,1,0)","v":0},{"$f":"IF(K42<>'2011'!J44,1,0)","v":0},{"$f":"IF(L42<>'2011'!K44,1,0)","v":0},{"$f":"IF(M42<>'2011'!L44,1,0)","v":0},{"$f":"IF(N42<>'2011'!M44,1,0)","v":0},{"$f":"IF(O42<>'2011'!N44,1,0)","v":0}]
[null,"Village of Castleton-on-Hudson",{"$f":"'2011'!B45","v":5.49},{"$f":"'2011'!C45","v":2.96},{"$f":"'2011'!D45","v":6.63},{"$f":"'2011'!E45","v":18.829999999999998},{"$f":"'2011'!F45","v":0},{"$f":"'2011'!G45","v":0},{"$f":"'2011'!H45","v":33.909999999999997},{"$f":"'2011'!I45","v":0},{"$f":"'2011'!J45","v":0},{"$f":"'2011'!K45","v":0.61170000000000002},{"$f":"'2011'!L45","v":31.34},{"$f":"'2011'!M45","v":0},{"$f":"'2011'!N45","v":0},null,"Village of Castleton-on-Hudson",{"$f":"IF(C43<>'2011'!B45,1,0)","v":0},{"$f":"IF(D43<>'2011'!C45,1,0)","v":0},{"$f":"IF(E43<>'2011'!D45,1,0)","v":0},{"$f":"IF(F43<>'2011'!E45,1,0)","v":0},{"$f":"IF(G43<>'2011'!F45,1,0)","v":0},{"$f":"IF(H43<>'2011'!G45,1,0)","v":0},{"$f":"IF(I43<>'2011'!H45,1,0)","v":0},{"$f":"IF(J43<>'2011'!I45,1,0)","v":0},{"$f":"IF(K43<>'2011'!J45,1,0)","v":0},{"$f":"IF(L43<>'2011'!K45,1,0)","v":0},{"$f":"IF(M43<>'2011'!L45,1,0)","v":0},{"$f":"IF(N43<>'2011'!M45,1,0)","v":0},{"$f":"IF(O43<>'2011'!N45,1,0)","v":0}]
[null,"Village of Nassau (part) ",{"$f":"'2011'!B46","v":5.49},{"$f":"'2011'!C46","v":2.96},{"$f":"'2011'!D46","v":9.6199999999999992},{"$f":"'2011'!E46","v":17.239999999999998},{"$f":"'2011'!F46","v":0},{"$f":"'2011'!G46","v":0},{"$f":"'2011'!H46","v":35.31},{"$f":"'2011'!I46","v":0},{"$f":"'2011'!J46","v":0},{"$f":"'2011'!K46","v":0.50019999999999998},{"$f":"'2011'!L46","v":30.5},{"$f":"'2011'!M46","v":0},{"$f":"'2011'!N46","v":0},null,"Village of Nassau (part) ",{"$f":"IF(C44<>'2011'!B46,1,0)","v":0},{"$f":"IF(D44<>'2011'!C46,1,0)","v":0},{"$f":"IF(E44<>'2011'!D46,1,0)","v":0},{"$f":"IF(F44<>'2011'!E46,1,0)","v":0},{"$f":"IF(G44<>'2011'!F46,1,0)","v":0},{"$f":"IF(H44<>'2011'!G46,1,0)","v":0},{"$f":"IF(I44<>'2011'!H46,1,0)","v":0},{"$f":"IF(J44<>'2011'!I46,1,0)","v":0},{"$f":"IF(K44<>'2011'!J46,1,0)","v":0},{"$f":"IF(L44<>'2011'!K46,1,0)","v":0},{"$f":"IF(M44<>'2011'!L46,1,0)","v":0},{"$f":"IF(N44<>'2011'!M46,1,0)","v":0},{"$f":"IF(O44<>'2011'!N46,1,0)","v":0}]
[null,"Town of Stephentown ",{"$f":"'2011'!B47","v":17.97},{"$f":"'2011'!C47","v":8.27},{"$f":"'2011'!D47","v":0},{"$f":"'2011'!E47","v":39.57},{"$f":"'2011'!F47","v":"to"},{"$f":"'2011'!G47","v":52.75},{"$f":"'2011'!H47","v":65.81},{"$f":"'2011'!I47","v":"to"},{"$f":"'2011'!J47","v":78.989999999999995},{"$f":"'2011'!K47","v":0.3},{"$f":"'2011'!L47","v":19.739999999999998},{"$f":"'2011'!M47","v":"to"},{"$f":"'2011'!N47","v":23.7},null,"Town of Stephentown ",{"$f":"IF(C45<>'2011'!B47,1,0)","v":0},{"$f":"IF(D45<>'2011'!C47,1,0)","v":0},{"$f":"IF(E45<>'2011'!D47,1,0)","v":0},{"$f":"IF(F45<>'2011'!E47,1,0)","v":0},{"$f":"IF(G45<>'2011'!F47,1,0)","v":0},{"$f":"IF(H45<>'2011'!G47,1,0)","v":0},{"$f":"IF(I45<>'2011'!H47,1,0)","v":0},{"$f":"IF(J45<>'2011'!I47,1,0)","v":0},{"$f":"IF(K45<>'2011'!J47,1,0)","v":0},{"$f":"IF(L45<>'2011'!K47,1,0)","v":0},{"$f":"IF(M45<>'2011'!L47,1,0)","v":0},{"$f":"IF(N45<>'2011'!M47,1,0)","v":0},{"$f":"IF(O45<>'2011'!N47,1,0)","v":0}]
[null,"City of Troy ",{"$f":"'2011'!B48","v":42.28},{"$f":"'2011'!C48","v":0},{"$f":"'2011'!D48","v":76.08},{"$f":"'2011'!E48","v":118.74},{"$f":"'2011'!F48","v":"to"},{"$f":"'2011'!G48","v":136.29},{"$f":"'2011'!H48","v":237.1},{"$f":"'2011'!I48","v":"to"},{"$f":"'2011'!J48","v":254.65},{"$f":"'2011'!K48","v":0.13250000000000001},{"$f":"'2011'!L48","v":31.41},{"$f":"'2011'!M48","v":"to"},{"$f":"'2011'!N48","v":33.74},null,"City of Troy ",{"$f":"IF(C46<>'2011'!B48,1,0)","v":0},{"$f":"IF(D46<>'2011'!C48,1,0)","v":0},{"$f":"IF(E46<>'2011'!D48,1,0)","v":0},{"$f":"IF(F46<>'2011'!E48,1,0)","v":0},{"$f":"IF(G46<>'2011'!F48,1,0)","v":0},{"$f":"IF(H46<>'2011'!G48,1,0)","v":0},{"$f":"IF(I46<>'2011'!H48,1,0)","v":0},{"$f":"IF(J46<>'2011'!I48,1,0)","v":0},{"$f":"IF(K46<>'2011'!J48,1,0)","v":0},{"$f":"IF(L46<>'2011'!K48,1,0)","v":0},{"$f":"IF(M46<>'2011'!L48,1,0)","v":0},{"$f":"IF(N46<>'2011'!M48,1,0)","v":0},{"$f":"IF(O46<>'2011'!N48,1,0)","v":0}]
[null,"Town of Ballston ",{"$f":"'2011'!B50","v":2.48},{"$f":"'2011'!C50","v":0},{"$f":"'2011'!D50","v":0},{"$f":"'2011'!E50","v":17.97},{"$f":"'2011'!F50","v":"to"},{"$f":"'2011'!G50","v":20.100000000000001},{"$f":"'2011'!H50","v":20.45},{"$f":"'2011'!I50","v":"to"},{"$f":"'2011'!J50","v":22.58},{"$f":"'2011'!K50","v":0.92},{"$f":"'2011'!L50","v":18.809999999999999},{"$f":"'2011'!M50","v":"to"},{"$f":"'2011'!N50","v":20.77},null,"Town of Ballston ",{"$f":"IF(C47<>'2011'!B50,1,0)","v":0},{"$f":"IF(D47<>'2011'!C50,1,0)","v":0},{"$f":"IF(E47<>'2011'!D50,1,0)","v":0},{"$f":"IF(F47<>'2011'!E50,1,0)","v":0},{"$f":"IF(G47<>'2011'!F50,1,0)","v":0},{"$f":"IF(H47<>'2011'!G50,1,0)","v":0},{"$f":"IF(I47<>'2011'!H50,1,0)","v":0},{"$f":"IF(J47<>'2011'!I50,1,0)","v":0},{"$f":"IF(K47<>'2011'!J50,1,0)","v":0},{"$f":"IF(L47<>'2011'!K50,1,0)","v":0},{"$f":"IF(M47<>'2011'!L50,1,0)","v":0},{"$f":"IF(N47<>'2011'!M50,1,0)","v":0},{"$f":"IF(O47<>'2011'!N50,1,0)","v":0}]
[null,"Village of Ballston Spa (part)",{"$f":"'2011'!B51","v":2.48},{"$f":"'2011'!C51","v":0},{"$f":"'2011'!D51","v":73.040000000000006},{"$f":"'2011'!E51","v":19.64},{"$f":"'2011'!F51","v":0},{"$f":"'2011'!G51","v":0},{"$f":"'2011'!H51","v":95.16},{"$f":"'2011'!I51","v":0},{"$f":"'2011'!J51","v":0},{"$f":"'2011'!K51","v":4.7300000000000002E-2},{"$f":"'2011'!L51","v":23.8},{"$f":"'2011'!M51","v":0},{"$f":"'2011'!N51","v":0},null,"Village of Ballston Spa (part)",{"$f":"IF(C48<>'2011'!B51,1,0)","v":0},{"$f":"IF(D48<>'2011'!C51,1,0)","v":0},{"$f":"IF(E48<>'2011'!D51,1,0)","v":0},{"$f":"IF(F48<>'2011'!E51,1,0)","v":0},{"$f":"IF(G48<>'2011'!F51,1,0)","v":0},{"$f":"IF(H48<>'2011'!G51,1,0)","v":0},{"$f":"IF(I48<>'2011'!H51,1,0)","v":0},{"$f":"IF(J48<>'2011'!I51,1,0)","v":0},{"$f":"IF(K48<>'2011'!J51,1,0)","v":0},{"$f":"IF(L48<>'2011'!K51,1,0)","v":0},{"$f":"IF(M48<>'2011'!L51,1,0)","v":0},{"$f":"IF(N48<>'2011'!M51,1,0)","v":0},{"$f":"IF(O48<>'2011'!N51,1,0)","v":0}]
[null,"Town of Charlton ",{"$f":"'2011'!B52","v":3.5},{"$f":"'2011'!C52","v":0},{"$f":"'2011'!D52","v":0},{"$f":"'2011'!E52","v":17.32},{"$f":"'2011'!F52","v":"to"},{"$f":"'2011'!G52","v":26.42},{"$f":"'2011'!H52","v":20.82},{"$f":"'2011'!I52","v":"to"},{"$f":"'2011'!J52","v":29.92},{"$f":"'2011'!K52","v":0.7},{"$f":"'2011'!L52","v":14.57},{"$f":"'2011'!M52","v":"to"},{"$f":"'2011'!N52","v":20.94},null,"Town of Charlton ",{"$f":"IF(C49<>'2011'!B52,1,0)","v":0},{"$f":"IF(D49<>'2011'!C52,1,0)","v":0},{"$f":"IF(E49<>'2011'!D52,1,0)","v":0},{"$f":"IF(F49<>'2011'!E52,1,0)","v":0},{"$f":"IF(G49<>'2011'!F52,1,0)","v":0},{"$f":"IF(H49<>'2011'!G52,1,0)","v":0},{"$f":"IF(I49<>'2011'!H52,1,0)","v":0},{"$f":"IF(J49<>'2011'!I52,1,0)","v":0},{"$f":"IF(K49<>'2011'!J52,1,0)","v":0},{"$f":"IF(L49<>'2011'!K52,1,0)","v":0},{"$f":"IF(M49<>'2011'!L52,1,0)","v":0},{"$f":"IF(N49<>'2011'!M52,1,0)","v":0},{"$f":"IF(O49<>'2011'!N52,1,0)","v":0}]
[null,"Town of Clifton Park ",{"$f":"'2011'!B53","v":3.9},{"$f":"'2011'!C53","v":0.19},{"$f":"'2011'!D53","v":0},{"$f":"'2011'!E53","v":28.5},{"$f":"'2011'!F53","v":"to"},{"$f":"'2011'!G53","v":31.88},{"$f":"'2011'!H53","v":32.590000000000003},{"$f":"'2011'!I53","v":"to"},{"$f":"'2011'!J53","v":35.97},{"$f":"'2011'!K53","v":0.57999999999999996},{"$f":"'2011'!L53","v":18.899999999999999},{"$f":"'2011'!M53","v":"to"},{"$f":"'2011'!N53","v":20.86},null,"Town of Clifton Park ",{"$f":"IF(C50<>'2011'!B53,1,0)","v":0},{"$f":"IF(D50<>'2011'!C53,1,0)","v":0},{"$f":"IF(E50<>'2011'!D53,1,0)","v":0},{"$f":"IF(F50<>'2011'!E53,1,0)","v":0},{"$f":"IF(G50<>'2011'!F53,1,0)","v":0},{"$f":"IF(H50<>'2011'!G53,1,0)","v":0},{"$f":"IF(I50<>'2011'!H53,1,0)","v":0},{"$f":"IF(J50<>'2011'!I53,1,0)","v":0},{"$f":"IF(K50<>'2011'!J53,1,0)","v":0},{"$f":"IF(L50<>'2011'!K53,1,0)","v":0},{"$f":"IF(M50<>'2011'!L53,1,0)","v":0},{"$f":"IF(N50<>'2011'!M53,1,0)","v":0},{"$f":"IF(O50<>'2011'!N53,1,0)","v":0}]
[null,"Town of Corinth ",{"$f":"'2011'!B54","v":2.33},{"$f":"'2011'!C54","v":3.63},{"$f":"'2011'!D54","v":0},{"$f":"'2011'!E54","v":11.02},{"$f":"'2011'!F54","v":0},{"$f":"'2011'!G54","v":0},{"$f":"'2011'!H54","v":16.98},{"$f":"'2011'!I54","v":0},{"$f":"'2011'!J54","v":0},{"$f":"'2011'!K54","v":1},{"$f":"'2011'!L54","v":16.98},{"$f":"'2011'!M54","v":0},{"$f":"'2011'!N54","v":0},null,"Town of Corinth ",{"$f":"IF(C51<>'2011'!B54,1,0)","v":0},{"$f":"IF(D51<>'2011'!C54,1,0)","v":0},{"$f":"IF(E51<>'2011'!D54,1,0)","v":0},{"$f":"IF(F51<>'2011'!E54,1,0)","v":0},{"$f":"IF(G51<>'2011'!F54,1,0)","v":0},{"$f":"IF(H51<>'2011'!G54,1,0)","v":0},{"$f":"IF(I51<>'2011'!H54,1,0)","v":0},{"$f":"IF(J51<>'2011'!I54,1,0)","v":0},{"$f":"IF(K51<>'2011'!J54,1,0)","v":0},{"$f":"IF(L51<>'2011'!K54,1,0)","v":0},{"$f":"IF(M51<>'2011'!L54,1,0)","v":0},{"$f":"IF(N51<>'2011'!M54,1,0)","v":0},{"$f":"IF(O51<>'2011'!N54,1,0)","v":0}]
[null,"Village of Corinth ",{"$f":"'2011'!B55","v":2.33},{"$f":"'2011'!C55","v":1.54},{"$f":"'2011'!D55","v":6.03},{"$f":"'2011'!E55","v":11.02},{"$f":"'2011'!F55","v":0},{"$f":"'2011'!G55","v":0},{"$f":"'2011'!H55","v":20.92},{"$f":"'2011'!I55","v":0},{"$f":"'2011'!J55","v":0},{"$f":"'2011'!K55","v":0.97},{"$f":"'2011'!L55","v":20.74},{"$f":"'2011'!M55","v":0},{"$f":"'2011'!N55","v":0},null,"Village of Corinth ",{"$f":"IF(C52<>'2011'!B55,1,0)","v":0},{"$f":"IF(D52<>'2011'!C55,1,0)","v":0},{"$f":"IF(E52<>'2011'!D55,1,0)","v":0},{"$f":"IF(F52<>'2011'!E55,1,0)","v":0},{"$f":"IF(G52<>'2011'!F55,1,0)","v":0},{"$f":"IF(H52<>'2011'!G55,1,0)","v":0},{"$f":"IF(I52<>'2011'!H55,1,0)","v":0},{"$f":"IF(J52<>'2011'!I55,1,0)","v":0},{"$f":"IF(K52<>'2011'!J55,1,0)","v":0},{"$f":"IF(L52<>'2011'!K55,1,0)","v":0},{"$f":"IF(M52<>'2011'!L55,1,0)","v":0},{"$f":"IF(N52<>'2011'!M55,1,0)","v":0},{"$f":"IF(O52<>'2011'!N55,1,0)","v":0}]
[null,"Town of Day ",{"$f":"'2011'!B56","v":3.33},{"$f":"'2011'!C56","v":2.0299999999999998},{"$f":"'2011'!D56","v":0},{"$f":"'2011'!E56","v":6.91},{"$f":"'2011'!F56","v":"to"},{"$f":"'2011'!G56","v":16.399999999999999},{"$f":"'2011'!H56","v":12.27},{"$f":"'2011'!I56","v":"to"},{"$f":"'2011'!J56","v":21.76},{"$f":"'2011'!K56","v":0.68049999999999999},{"$f":"'2011'!L56","v":8.35},{"$f":"'2011'!M56","v":"to"},{"$f":"'2011'!N56","v":14.81},null,"Town of Day ",{"$f":"IF(C53<>'2011'!B56,1,0)","v":0},{"$f":"IF(D53<>'2011'!C56,1,0)","v":0},{"$f":"IF(E53<>'2011'!D56,1,0)","v":0},{"$f":"IF(F53<>'2011'!E56,1,0)","v":0},{"$f":"IF(G53<>'2011'!F56,1,0)","v":0},{"$f":"IF(H53<>'2011'!G56,1,0)","v":0},{"$f":"IF(I53<>'2011'!H56,1,0)","v":0},{"$f":"IF(J53<>'2011'!I56,1,0)","v":0},{"$f":"IF(K53<>'2011'!J56,1,0)","v":0},{"$f":"IF(L53<>'2011'!K56,1,0)","v":0},{"$f":"IF(M53<>'2011'!L56,1,0)","v":0},{"$f":"IF(N53<>'2011'!M56,1,0)","v":0},{"$f":"IF(O53<>'2011'!N56,1,0)","v":0}]
[null,"Town of Edinburg ",{"$f":"'2011'!B57","v":4.1900000000000004},{"$f":"'2011'!C57","v":1.01},{"$f":"'2011'!D57","v":0},{"$f":"'2011'!E57","v":8.8800000000000008},{"$f":"'2011'!F57","v":"to"},{"$f":"'2011'!G57","v":28.91},{"$f":"'2011'!H57","v":14.08},{"$f":"'2011'!I57","v":"to"},{"$f":"'2011'!J57","v":34.11},{"$f":"'2011'!K57","v":0.53},{"$f":"'2011'!L57","v":7.47},{"$f":"'2011'!M57","v":"to"},{"$f":"'2011'!N57","v":18.079999999999998},null,"Town of Edinburg ",{"$f":"IF(C54<>'2011'!B57,1,0)","v":0},{"$f":"IF(D54<>'2011'!C57,1,0)","v":0},{"$f":"IF(E54<>'2011'!D57,1,0)","v":0},{"$f":"IF(F54<>'2011'!E57,1,0)","v":0},{"$f":"IF(G54<>'2011'!F57,1,0)","v":0},{"$f":"IF(H54<>'2011'!G57,1,0)","v":0},{"$f":"IF(I54<>'2011'!H57,1,0)","v":0},{"$f":"IF(J54<>'2011'!I57,1,0)","v":0},{"$f":"IF(K54<>'2011'!J57,1,0)","v":0},{"$f":"IF(L54<>'2011'!K57,1,0)","v":0},{"$f":"IF(M54<>'2011'!L57,1,0)","v":0},{"$f":"IF(N54<>'2011'!M57,1,0)","v":0},{"$f":"IF(O54<>'2011'!N57,1,0)","v":0}]
[null,"Town of Galway ",{"$f":"'2011'!B58","v":4.29},{"$f":"'2011'!C58","v":1.46},{"$f":"'2011'!D58","v":0},{"$f":"'2011'!E58","v":22.88},{"$f":"'2011'!F58","v":"to"},{"$f":"'2011'!G58","v":28.92},{"$f":"'2011'!H58","v":28.63},{"$f":"'2011'!I58","v":"to"},{"$f":"'2011'!J58","v":34.67},{"$f":"'2011'!K58","v":0.53},{"$f":"'2011'!L58","v":15.17},{"$f":"'2011'!M58","v":"to"},{"$f":"'2011'!N58","v":18.37},null,"Town of Galway ",{"$f":"IF(C55<>'2011'!B58,1,0)","v":0},{"$f":"IF(D55<>'2011'!C58,1,0)","v":0},{"$f":"IF(E55<>'2011'!D58,1,0)","v":0},{"$f":"IF(F55<>'2011'!E58,1,0)","v":0},{"$f":"IF(G55<>'2011'!F58,1,0)","v":0},{"$f":"IF(H55<>'2011'!G58,1,0)","v":0},{"$f":"IF(I55<>'2011'!H58,1,0)","v":0},{"$f":"IF(J55<>'2011'!I58,1,0)","v":0},{"$f":"IF(K55<>'2011'!J58,1,0)","v":0},{"$f":"IF(L55<>'2011'!K58,1,0)","v":0},{"$f":"IF(M55<>'2011'!L58,1,0)","v":0},{"$f":"IF(N55<>'2011'!M58,1,0)","v":0},{"$f":"IF(O55<>'2011'!N58,1,0)","v":0}]
[null,"Village of Galway ",{"$f":"'2011'!B59","v":4.29},{"$f":"'2011'!C59","v":0.33},{"$f":"'2011'!D59","v":0},{"$f":"'2011'!E59","v":22.88},{"$f":"'2011'!F59","v":0},{"$f":"'2011'!G59","v":0},{"$f":"'2011'!H59","v":27.5},{"$f":"'2011'!I59","v":0},{"$f":"'2011'!J59","v":0},{"$f":"'2011'!K59","v":0.53},{"$f":"'2011'!L59","v":14.57},{"$f":"'2011'!M59","v":0},{"$f":"'2011'!N59","v":0},null,"Village of Galway ",{"$f":"IF(C56<>'2011'!B59,1,0)","v":0},{"$f":"IF(D56<>'2011'!C59,1,0)","v":0},{"$f":"IF(E56<>'2011'!D59,1,0)","v":0},{"$f":"IF(F56<>'2011'!E59,1,0)","v":0},{"$f":"IF(G56<>'2011'!F59,1,0)","v":0},{"$f":"IF(H56<>'2011'!G59,1,0)","v":0},{"$f":"IF(I56<>'2011'!H59,1,0)","v":0},{"$f":"IF(J56<>'2011'!I59,1,0)","v":0},{"$f":"IF(K56<>'2011'!J59,1,0)","v":0},{"$f":"IF(L56<>'2011'!K59,1,0)","v":0},{"$f":"IF(M56<>'2011'!L59,1,0)","v":0},{"$f":"IF(N56<>'2011'!M59,1,0)","v":0},{"$f":"IF(O56<>'2011'!N59,1,0)","v":0}]
[null,"Town of Greenfield ",{"$f":"'2011'!B60","v":2.2999999999999998},{"$f":"'2011'!C60","v":1.18},{"$f":"'2011'!D60","v":0},{"$f":"'2011'!E60","v":11.16},{"$f":"'2011'!F60","v":"to"},{"$f":"'2011'!G60","v":12.26},{"$f":"'2011'!H60","v":14.64},{"$f":"'2011'!I60","v":"to"},{"$f":"'2011'!J60","v":15.74},{"$f":"'2011'!K60","v":1},{"$f":"'2011'!L60","v":14.64},{"$f":"'2011'!M60","v":"to"},{"$f":"'2011'!N60","v":15.74},null,"Town of Greenfield ",{"$f":"IF(C57<>'2011'!B60,1,0)","v":0},{"$f":"IF(D57<>'2011'!C60,1,0)","v":0},{"$f":"IF(E57<>'2011'!D60,1,0)","v":0},{"$f":"IF(F57<>'2011'!E60,1,0)","v":0},{"$f":"IF(G57<>'2011'!F60,1,0)","v":0},{"$f":"IF(H57<>'2011'!G60,1,0)","v":0},{"$f":"IF(I57<>'2011'!H60,1,0)","v":0},{"$f":"IF(J57<>'2011'!I60,1,0)","v":0},{"$f":"IF(K57<>'2011'!J60,1,0)","v":0},{"$f":"IF(L57<>'2011'!K60,1,0)","v":0},{"$f":"IF(M57<>'2011'!L60,1,0)","v":0},{"$f":"IF(N57<>'2011'!M60,1,0)","v":0},{"$f":"IF(O57<>'2011'!N60,1,0)","v":0}]
[null,"Town of Hadley ",{"$f":"'2011'!B61","v":3},{"$f":"'2011'!C61","v":5.38},{"$f":"'2011'!D61","v":0},{"$f":"'2011'!E61","v":12.5},{"$f":"'2011'!F61","v":"to"},{"$f":"'2011'!G61","v":14.88},{"$f":"'2011'!H61","v":20.88},{"$f":"'2011'!I61","v":"to"},{"$f":"'2011'!J61","v":23.26},{"$f":"'2011'!K61","v":0.75},{"$f":"'2011'!L61","v":15.67},{"$f":"'2011'!M61","v":"to"},{"$f":"'2011'!N61","v":17.45},null,"Town of Hadley ",{"$f":"IF(C58<>'2011'!B61,1,0)","v":0},{"$f":"IF(D58<>'2011'!C61,1,0)","v":0},{"$f":"IF(E58<>'2011'!D61,1,0)","v":0},{"$f":"IF(F58<>'2011'!E61,1,0)","v":0},{"$f":"IF(G58<>'2011'!F61,1,0)","v":0},{"$f":"IF(H58<>'2011'!G61,1,0)","v":0},{"$f":"IF(I58<>'2011'!H61,1,0)","v":0},{"$f":"IF(J58<>'2011'!I61,1,0)","v":0},{"$f":"IF(K58<>'2011'!J61,1,0)","v":0},{"$f":"IF(L58<>'2011'!K61,1,0)","v":0},{"$f":"IF(M58<>'2011'!L61,1,0)","v":0},{"$f":"IF(N58<>'2011'!M61,1,0)","v":0},{"$f":"IF(O58<>'2011'!N61,1,0)","v":0}]
[null,"Town of Halfmoon ",{"$f":"'2011'!B62","v":3.75},{"$f":"'2011'!C62","v":0},{"$f":"'2011'!D62","v":0},{"$f":"'2011'!E62","v":26.23},{"$f":"'2011'!F62","v":"to"},{"$f":"'2011'!G62","v":36.06},{"$f":"'2011'!H62","v":29.98},{"$f":"'2011'!I62","v":"to"},{"$f":"'2011'!J62","v":39.81},{"$f":"'2011'!K62","v":0.6},{"$f":"'2011'!L62","v":17.989999999999998},{"$f":"'2011'!M62","v":"to"},{"$f":"'2011'!N62","v":23.89},null,"Town of Halfmoon ",{"$f":"IF(C59<>'2011'!B62,1,0)","v":0},{"$f":"IF(D59<>'2011'!C62,1,0)","v":0},{"$f":"IF(E59<>'2011'!D62,1,0)","v":0},{"$f":"IF(F59<>'2011'!E62,1,0)","v":0},{"$f":"IF(G59<>'2011'!F62,1,0)","v":0},{"$f":"IF(H59<>'2011'!G62,1,0)","v":0},{"$f":"IF(I59<>'2011'!H62,1,0)","v":0},{"$f":"IF(J59<>'2011'!I62,1,0)","v":0},{"$f":"IF(K59<>'2011'!J62,1,0)","v":0},{"$f":"IF(L59<>'2011'!K62,1,0)","v":0},{"$f":"IF(M59<>'2011'!L62,1,0)","v":0},{"$f":"IF(N59<>'2011'!M62,1,0)","v":0},{"$f":"IF(O59<>'2011'!N62,1,0)","v":0}]
[null,"Town of Malta ",{"$f":"'2011'!B63","v":2.25},{"$f":"'2011'!C63","v":0.02},{"$f":"'2011'!D63","v":0},{"$f":"'2011'!E63","v":12.01},{"$f":"'2011'!F63","v":"to"},{"$f":"'2011'!G63","v":18.07},{"$f":"'2011'!H63","v":14.28},{"$f":"'2011'!I63","v":"to"},{"$f":"'2011'!J63","v":20.34},{"$f":"'2011'!K63","v":1},{"$f":"'2011'!L63","v":14.28},{"$f":"'2011'!M63","v":"to"},{"$f":"'2011'!N63","v":20.34},null,"Town of Malta ",{"$f":"IF(C60<>'2011'!B63,1,0)","v":0},{"$f":"IF(D60<>'2011'!C63,1,0)","v":0},{"$f":"IF(E60<>'2011'!D63,1,0)","v":0},{"$f":"IF(F60<>'2011'!E63,1,0)","v":0},{"$f":"IF(G60<>'2011'!F63,1,0)","v":0},{"$f":"IF(H60<>'2011'!G63,1,0)","v":0},{"$f":"IF(I60<>'2011'!H63,1,0)","v":0},{"$f":"IF(J60<>'2011'!I63,1,0)","v":0},{"$f":"IF(K60<>'2011'!J63,1,0)","v":0},{"$f":"IF(L60<>'2011'!K63,1,0)","v":0},{"$f":"IF(M60<>'2011'!L63,1,0)","v":0},{"$f":"IF(N60<>'2011'!M63,1,0)","v":0},{"$f":"IF(O60<>'2011'!N63,1,0)","v":0}]
[null,"Village of Round Lake ",{"$f":"'2011'!B64","v":2.25},{"$f":"'2011'!C64","v":0.02},{"$f":"'2011'!D64","v":4.32},{"$f":"'2011'!E64","v":16.53},{"$f":"'2011'!F64","v":0},{"$f":"'2011'!G64","v":0},{"$f":"'2011'!H64","v":23.12},{"$f":"'2011'!I64","v":0},{"$f":"'2011'!J64","v":0},{"$f":"'2011'!K64","v":1},{"$f":"'2011'!L64","v":23.12},{"$f":"'2011'!M64","v":0},{"$f":"'2011'!N64","v":0},null,"Village of Round Lake ",{"$f":"IF(C61<>'2011'!B64,1,0)","v":0},{"$f":"IF(D61<>'2011'!C64,1,0)","v":0},{"$f":"IF(E61<>'2011'!D64,1,0)","v":0},{"$f":"IF(F61<>'2011'!E64,1,0)","v":0},{"$f":"IF(G61<>'2011'!F64,1,0)","v":0},{"$f":"IF(H61<>'2011'!G64,1,0)","v":0},{"$f":"IF(I61<>'2011'!H64,1,0)","v":0},{"$f":"IF(J61<>'2011'!I64,1,0)","v":0},{"$f":"IF(K61<>'2011'!J64,1,0)","v":0},{"$f":"IF(L61<>'2011'!K64,1,0)","v":0},{"$f":"IF(M61<>'2011'!L64,1,0)","v":0},{"$f":"IF(N61<>'2011'!M64,1,0)","v":0},{"$f":"IF(O61<>'2011'!N64,1,0)","v":0}]
[null,"City of Mechanicville ",{"$f":"'2011'!B65","v":3.55},{"$f":"'2011'!C65","v":0},{"$f":"'2011'!D65","v":13.28},{"$f":"'2011'!E65","v":22.48},{"$f":"'2011'!F65","v":0},{"$f":"'2011'!G65","v":0},{"$f":"'2011'!H65","v":39.31},{"$f":"'2011'!I65","v":0},{"$f":"'2011'!J65","v":0},{"$f":"'2011'!K65","v":0.7},{"$f":"'2011'!L65","v":27.53},{"$f":"'2011'!M65","v":0},{"$f":"'2011'!N65","v":0},null,"City of Mechanicville ",{"$f":"IF(C62<>'2011'!B65,1,0)","v":0},{"$f":"IF(D62<>'2011'!C65,1,0)","v":0},{"$f":"IF(E62<>'2011'!D65,1,0)","v":0},{"$f":"IF(F62<>'2011'!E65,1,0)","v":0},{"$f":"IF(G62<>'2011'!F65,1,0)","v":0},{"$f":"IF(H62<>'2011'!G65,1,0)","v":0},{"$f":"IF(I62<>'2011'!H65,1,0)","v":0},{"$f":"IF(J62<>'2011'!I65,1,0)","v":0},{"$f":"IF(K62<>'2011'!J65,1,0)","v":0},{"$f":"IF(L62<>'2011'!K65,1,0)","v":0},{"$f":"IF(M62<>'2011'!L65,1,0)","v":0},{"$f":"IF(N62<>'2011'!M65,1,0)","v":0},{"$f":"IF(O62<>'2011'!N65,1,0)","v":0}]
[null,"Town of Milton ",{"$f":"'2011'!B66","v":2.4900000000000002},{"$f":"'2011'!C66","v":0.27},{"$f":"'2011'!D66","v":0},{"$f":"'2011'!E66","v":13.02},{"$f":"'2011'!F66","v":"to"},{"$f":"'2011'!G66","v":19.43},{"$f":"'2011'!H66","v":15.78},{"$f":"'2011'!I66","v":"to"},{"$f":"'2011'!J66","v":22.19},{"$f":"'2011'!K66","v":0.93},{"$f":"'2011'!L66","v":14.68},{"$f":"'2011'!M66","v":"to"},{"$f":"'2011'!N66","v":20.64},null,"Town of Milton ",{"$f":"IF(C63<>'2011'!B66,1,0)","v":0},{"$f":"IF(D63<>'2011'!C66,1,0)","v":0},{"$f":"IF(E63<>'2011'!D66,1,0)","v":0},{"$f":"IF(F63<>'2011'!E66,1,0)","v":0},{"$f":"IF(G63<>'2011'!F66,1,0)","v":0},{"$f":"IF(H63<>'2011'!G66,1,0)","v":0},{"$f":"IF(I63<>'2011'!H66,1,0)","v":0},{"$f":"IF(J63<>'2011'!I66,1,0)","v":0},{"$f":"IF(K63<>'2011'!J66,1,0)","v":0},{"$f":"IF(L63<>'2011'!K66,1,0)","v":0},{"$f":"IF(M63<>'2011'!L66,1,0)","v":0},{"$f":"IF(N63<>'2011'!M66,1,0)","v":0},{"$f":"IF(O63<>'2011'!N66,1,0)","v":0}]
[null,"Village of Ballston Spa (part)",{"$f":"'2011'!B67","v":2.4900000000000002},{"$f":"'2011'!C67","v":0.19},{"$f":"'2011'!D67","v":73.040000000000006},{"$f":"'2011'!E67","v":19.43},{"$f":"'2011'!F67","v":0},{"$f":"'2011'!G67","v":0},{"$f":"'2011'!H67","v":95.15},{"$f":"'2011'!I67","v":0},{"$f":"'2011'!J67","v":0},{"$f":"'2011'!K67","v":4.7300000000000002E-2},{"$f":"'2011'!L67","v":24.02},{"$f":"'2011'!M67","v":0},{"$f":"'2011'!N67","v":0},null,"Village of Ballston Spa (part)",{"$f":"IF(C64<>'2011'!B67,1,0)","v":0},{"$f":"IF(D64<>'2011'!C67,1,0)","v":0},{"$f":"IF(E64<>'2011'!D67,1,0)","v":0},{"$f":"IF(F64<>'2011'!E67,1,0)","v":0},{"$f":"IF(G64<>'2011'!F67,1,0)","v":0},{"$f":"IF(H64<>'2011'!G67,1,0)","v":0},{"$f":"IF(I64<>'2011'!H67,1,0)","v":0},{"$f":"IF(J64<>'2011'!I67,1,0)","v":0},{"$f":"IF(K64<>'2011'!J67,1,0)","v":0},{"$f":"IF(L64<>'2011'!K67,1,0)","v":0},{"$f":"IF(M64<>'2011'!L67,1,0)","v":0},{"$f":"IF(N64<>'2011'!M67,1,0)","v":0},{"$f":"IF(O64<>'2011'!N67,1,0)","v":0}]
[null,"Town of Moreau ",{"$f":"'2011'!B68","v":2.0699999999999998},{"$f":"'2011'!C68","v":0.59},{"$f":"'2011'!D68","v":0},{"$f":"'2011'!E68","v":13.6},{"$f":"'2011'!F68","v":"to"},{"$f":"'2011'!G68","v":13.93},{"$f":"'2011'!H68","v":16.260000000000002},{"$f":"'2011'!I68","v":"to"},{"$f":"'2011'!J68","v":16.59},{"$f":"'2011'!K68","v":1},{"$f":"'2011'!L68","v":16.260000000000002},{"$f":"'2011'!M68","v":"to"},{"$f":"'2011'!N68","v":16.59},null,"Town of Moreau ",{"$f":"IF(C65<>'2011'!B68,1,0)","v":0},{"$f":"IF(D65<>'2011'!C68,1,0)","v":0},{"$f":"IF(E65<>'2011'!D68,1,0)","v":0},{"$f":"IF(F65<>'2011'!E68,1,0)","v":0},{"$f":"IF(G65<>'2011'!F68,1,0)","v":0},{"$f":"IF(H65<>'2011'!G68,1,0)","v":0},{"$f":"IF(I65<>'2011'!H68,1,0)","v":0},{"$f":"IF(J65<>'2011'!I68,1,0)","v":0},{"$f":"IF(K65<>'2011'!J68,1,0)","v":0},{"$f":"IF(L65<>'2011'!K68,1,0)","v":0},{"$f":"IF(M65<>'2011'!L68,1,0)","v":0},{"$f":"IF(N65<>'2011'!M68,1,0)","v":0},{"$f":"IF(O65<>'2011'!N68,1,0)","v":0}]
[null,"Village of South Glens Falls ",{"$f":"'2011'!B69","v":2.27},{"$f":"'2011'!C69","v":0.59},{"$f":"'2011'!D69","v":15},{"$f":"'2011'!E69","v":13.93},{"$f":"'2011'!F69","v":0},{"$f":"'2011'!G69","v":0},{"$f":"'2011'!H69","v":31.79},{"$f":"'2011'!I69","v":0},{"$f":"'2011'!J69","v":0},{"$f":"'2011'!K69","v":0.35120000000000001},{"$f":"'2011'!L69","v":22.06},{"$f":"'2011'!M69","v":0},{"$f":"'2011'!N69","v":0},null,"Village of South Glens Falls ",{"$f":"IF(C66<>'2011'!B69,1,0)","v":0},{"$f":"IF(D66<>'2011'!C69,1,0)","v":0},{"$f":"IF(E66<>'2011'!D69,1,0)","v":0},{"$f":"IF(F66<>'2011'!E69,1,0)","v":0},{"$f":"IF(G66<>'2011'!F69,1,0)","v":0},{"$f":"IF(H66<>'2011'!G69,1,0)","v":0},{"$f":"IF(I66<>'2011'!H69,1,0)","v":0},{"$f":"IF(J66<>'2011'!I69,1,0)","v":0},{"$f":"IF(K66<>'2011'!J69,1,0)","v":0},{"$f":"IF(L66<>'2011'!K69,1,0)","v":0},{"$f":"IF(M66<>'2011'!L69,1,0)","v":0},{"$f":"IF(N66<>'2011'!M69,1,0)","v":0},{"$f":"IF(O66<>'2011'!N69,1,0)","v":0}]
[null,"Town of Northumberland ",{"$f":"'2011'!B70","v":2.36},{"$f":"'2011'!C70","v":1.37},{"$f":"'2011'!D70","v":0},{"$f":"'2011'!E70","v":13.93},{"$f":"'2011'!F70","v":"to"},{"$f":"'2011'!G70","v":19.23},{"$f":"'2011'!H70","v":17.66},{"$f":"'2011'!I70","v":"to"},{"$f":"'2011'!J70","v":22.96},{"$f":"'2011'!K70","v":1},{"$f":"'2011'!L70","v":17.66},{"$f":"'2011'!M70","v":"to"},{"$f":"'2011'!N70","v":22.96},null,"Town of Northumberland ",{"$f":"IF(C67<>'2011'!B70,1,0)","v":0},{"$f":"IF(D67<>'2011'!C70,1,0)","v":0},{"$f":"IF(E67<>'2011'!D70,1,0)","v":0},{"$f":"IF(F67<>'2011'!E70,1,0)","v":0},{"$f":"IF(G67<>'2011'!F70,1,0)","v":0},{"$f":"IF(H67<>'2011'!G70,1,0)","v":0},{"$f":"IF(I67<>'2011'!H70,1,0)","v":0},{"$f":"IF(J67<>'2011'!I70,1,0)","v":0},{"$f":"IF(K67<>'2011'!J70,1,0)","v":0},{"$f":"IF(L67<>'2011'!K70,1,0)","v":0},{"$f":"IF(M67<>'2011'!L70,1,0)","v":0},{"$f":"IF(N67<>'2011'!M70,1,0)","v":0},{"$f":"IF(O67<>'2011'!N70,1,0)","v":0}]
[null,"Town of Providence ",{"$f":"'2011'!B71","v":11.41},{"$f":"'2011'!C71","v":19.77},{"$f":"'2011'!D71","v":0},{"$f":"'2011'!E71","v":60.03},{"$f":"'2011'!F71","v":"to"},{"$f":"'2011'!G71","v":75.87},{"$f":"'2011'!H71","v":91.21},{"$f":"'2011'!I71","v":"to"},{"$f":"'2011'!J71","v":107.05},{"$f":"'2011'!K71","v":0.20200000000000001},{"$f":"'2011'!L71","v":18.420000000000002},{"$f":"'2011'!M71","v":"to"},{"$f":"'2011'!N71","v":21.62},null,"Town of Providence ",{"$f":"IF(C68<>'2011'!B71,1,0)","v":0},{"$f":"IF(D68<>'2011'!C71,1,0)","v":0},{"$f":"IF(E68<>'2011'!D71,1,0)","v":0},{"$f":"IF(F68<>'2011'!E71,1,0)","v":0},{"$f":"IF(G68<>'2011'!F71,1,0)","v":0},{"$f":"IF(H68<>'2011'!G71,1,0)","v":0},{"$f":"IF(I68<>'2011'!H71,1,0)","v":0},{"$f":"IF(J68<>'2011'!I71,1,0)","v":0},{"$f":"IF(K68<>'2011'!J71,1,0)","v":0},{"$f":"IF(L68<>'2011'!K71,1,0)","v":0},{"$f":"IF(M68<>'2011'!L71,1,0)","v":0},{"$f":"IF(N68<>'2011'!M71,1,0)","v":0},{"$f":"IF(O68<>'2011'!N71,1,0)","v":0}]
[null,"Town of Saratoga ",{"$f":"'2011'!B72","v":3.52},{"$f":"'2011'!C72","v":1.62},{"$f":"'2011'!D72","v":0},{"$f":"'2011'!E72","v":18.43},{"$f":"'2011'!F72","v":"to"},{"$f":"'2011'!G72","v":29.14},{"$f":"'2011'!H72","v":23.57},{"$f":"'2011'!I72","v":"to"},{"$f":"'2011'!J72","v":34.28},{"$f":"'2011'!K72","v":0.66},{"$f":"'2011'!L72","v":15.55},{"$f":"'2011'!M72","v":"to"},{"$f":"'2011'!N72","v":22.62},null,{"$f":"B69","v":"Town of Saratoga "},{"$f":"IF(C69<>'2011'!B72,1,0)","v":0},{"$f":"IF(D69<>'2011'!C72,1,0)","v":0},{"$f":"IF(E69<>'2011'!D72,1,0)","v":0},{"$f":"IF(F69<>'2011'!E72,1,0)","v":0},{"$f":"IF(G69<>'2011'!F72,1,0)","v":0},{"$f":"IF(H69<>'2011'!G72,1,0)","v":0},{"$f":"IF(I69<>'2011'!H72,1,0)","v":0},{"$f":"IF(J69<>'2011'!I72,1,0)","v":0},{"$f":"IF(K69<>'2011'!J72,1,0)","v":0},{"$f":"IF(L69<>'2011'!K72,1,0)","v":0},{"$f":"IF(M69<>'2011'!L72,1,0)","v":0},{"$f":"IF(N69<>'2011'!M72,1,0)","v":0},{"$f":"IF(O69<>'2011'!N72,1,0)","v":0}]
[null,"Village of Schuylerville• ",{"$f":"'2011'!B73","v":3.52},{"$f":"'2011'!C73","v":1.62},"•",{"$f":"'2011'!E73","v":29.14},{"$f":"'2011'!F73","v":0},{"$f":"'2011'!G73","v":0},{"$f":"'2011'!H73","v":34.28},{"$f":"'2011'!I73","v":0},{"$f":"'2011'!J73","v":0},{"$f":"'2011'!K73","v":0},{"$f":"'2011'!L73","v":22.62},{"$f":"'2011'!M73","v":0},{"$f":"'2011'!N73","v":0},null,"Village of Schuylerville• ",{"$f":"IF(C70<>'2011'!B73,1,0)","v":0},{"$f":"IF(D70<>'2011'!C73,1,0)","v":0},{"$f":"IF(E70<>'2011'!D73,1,0)","v":1},{"$f":"IF(F70<>'2011'!E73,1,0)","v":0},{"$f":"IF(G70<>'2011'!F73,1,0)","v":0},{"$f":"IF(H70<>'2011'!G73,1,0)","v":0},{"$f":"IF(I70<>'2011'!H73,1,0)","v":0},{"$f":"IF(J70<>'2011'!I73,1,0)","v":0},{"$f":"IF(K70<>'2011'!J73,1,0)","v":0},{"$f":"IF(L70<>'2011'!K73,1,0)","v":0},{"$f":"IF(M70<>'2011'!L73,1,0)","v":0},{"$f":"IF(N70<>'2011'!M73,1,0)","v":0},{"$f":"IF(O70<>'2011'!N73,1,0)","v":0}]
[null,"Village of Victory• ",{"$f":"'2011'!B74","v":3.52},{"$f":"'2011'!C74","v":1.62},"•",{"$f":"'2011'!E74","v":29.14},{"$f":"'2011'!F74","v":0},{"$f":"'2011'!G74","v":0},{"$f":"'2011'!H74","v":34.28},{"$f":"'2011'!I74","v":0},{"$f":"'2011'!J74","v":0},{"$f":"'2011'!K74","v":0},{"$f":"'2011'!L74","v":22.62},{"$f":"'2011'!M74","v":0},{"$f":"'2011'!N74","v":0},null,"Village of Victory• ",{"$f":"IF(C71<>'2011'!B74,1,0)","v":0},{"$f":"IF(D71<>'2011'!C74,1,0)","v":0},{"$f":"IF(E71<>'2011'!D74,1,0)","v":1},{"$f":"IF(F71<>'2011'!E74,1,0)","v":0},{"$f":"IF(G71<>'2011'!F74,1,0)","v":0},{"$f":"IF(H71<>'2011'!G74,1,0)","v":0},{"$f":"IF(I71<>'2011'!H74,1,0)","v":0},{"$f":"IF(J71<>'2011'!I74,1,0)","v":0},{"$f":"IF(K71<>'2011'!J74,1,0)","v":0},{"$f":"IF(L71<>'2011'!K74,1,0)","v":0},{"$f":"IF(M71<>'2011'!L74,1,0)","v":0},{"$f":"IF(N71<>'2011'!M74,1,0)","v":0},{"$f":"IF(O71<>'2011'!N74,1,0)","v":0}]
[null,"City of Saratoga Springs ",{"$f":"'2011'!B75","v":2.86},{"$f":"'2011'!C75","v":0},{"$f":"'2011'!D75","v":6.04},{"$f":"'2011'!E75","v":14.87},{"$f":"'2011'!F75","v":0},{"$f":"'2011'!G75","v":0},{"$f":"'2011'!H75","v":23.77},{"$f":"'2011'!I75","v":0},{"$f":"'2011'!J75","v":0},{"$f":"'2011'!K75","v":0.82},{"$f":"'2011'!L75","v":19.489999999999998},{"$f":"'2011'!M75","v":0},{"$f":"'2011'!N75","v":0},null,"City of Saratoga Springs ",{"$f":"IF(C72<>'2011'!B75,1,0)","v":0},{"$f":"IF(D72<>'2011'!C75,1,0)","v":0},{"$f":"IF(E72<>'2011'!D75,1,0)","v":0},{"$f":"IF(F72<>'2011'!E75,1,0)","v":0},{"$f":"IF(G72<>'2011'!F75,1,0)","v":0},{"$f":"IF(H72<>'2011'!G75,1,0)","v":0},{"$f":"IF(I72<>'2011'!H75,1,0)","v":0},{"$f":"IF(J72<>'2011'!I75,1,0)","v":0},{"$f":"IF(K72<>'2011'!J75,1,0)","v":0},{"$f":"IF(L72<>'2011'!K75,1,0)","v":0},{"$f":"IF(M72<>'2011'!L75,1,0)","v":0},{"$f":"IF(N72<>'2011'!M75,1,0)","v":0},{"$f":"IF(O72<>'2011'!N75,1,0)","v":0}]
[null,"Town of Stillwater ",{"$f":"'2011'!B76","v":2.46},{"$f":"'2011'!C76","v":2.85},{"$f":"'2011'!D76","v":0},{"$f":"'2011'!E76","v":12.81},{"$f":"'2011'!F76","v":"to"},{"$f":"'2011'!G76","v":20.260000000000002},{"$f":"'2011'!H76","v":18.12},{"$f":"'2011'!I76","v":"to"},{"$f":"'2011'!J76","v":25.57},{"$f":"'2011'!K76","v":0.95},{"$f":"'2011'!L76","v":17.22},{"$f":"'2011'!M76","v":"to"},{"$f":"'2011'!N76","v":24.3},null,"Town of Stillwater ",{"$f":"IF(C73<>'2011'!B76,1,0)","v":0},{"$f":"IF(D73<>'2011'!C76,1,0)","v":0},{"$f":"IF(E73<>'2011'!D76,1,0)","v":0},{"$f":"IF(F73<>'2011'!E76,1,0)","v":0},{"$f":"IF(G73<>'2011'!F76,1,0)","v":0},{"$f":"IF(H73<>'2011'!G76,1,0)","v":0},{"$f":"IF(I73<>'2011'!H76,1,0)","v":0},{"$f":"IF(J73<>'2011'!I76,1,0)","v":0},{"$f":"IF(K73<>'2011'!J76,1,0)","v":0},{"$f":"IF(L73<>'2011'!K76,1,0)","v":0},{"$f":"IF(M73<>'2011'!L76,1,0)","v":0},{"$f":"IF(N73<>'2011'!M76,1,0)","v":0},{"$f":"IF(O73<>'2011'!N76,1,0)","v":0}]
[null,"Village of Stillwater ",{"$f":"'2011'!B77","v":2.46},{"$f":"'2011'!C77","v":1.44},{"$f":"'2011'!D77","v":3.35},{"$f":"'2011'!E77","v":12.81},{"$f":"'2011'!F77","v":0},{"$f":"'2011'!G77","v":0},{"$f":"'2011'!H77","v":20.059999999999999},{"$f":"'2011'!I77","v":0},{"$f":"'2011'!J77","v":0},{"$f":"'2011'!K77","v":0.91},{"$f":"'2011'!L77","v":18.93},{"$f":"'2011'!M77","v":0},{"$f":"'2011'!N77","v":0},null,"Village of Stillwater ",{"$f":"IF(C74<>'2011'!B77,1,0)","v":0},{"$f":"IF(D74<>'2011'!C77,1,0)","v":0},{"$f":"IF(E74<>'2011'!D77,1,0)","v":0},{"$f":"IF(F74<>'2011'!E77,1,0)","v":0},{"$f":"IF(G74<>'2011'!F77,1,0)","v":0},{"$f":"IF(H74<>'2011'!G77,1,0)","v":0},{"$f":"IF(I74<>'2011'!H77,1,0)","v":0},{"$f":"IF(J74<>'2011'!I77,1,0)","v":0},{"$f":"IF(K74<>'2011'!J77,1,0)","v":0},{"$f":"IF(L74<>'2011'!K77,1,0)","v":0},{"$f":"IF(M74<>'2011'!L77,1,0)","v":0},{"$f":"IF(N74<>'2011'!M77,1,0)","v":0},{"$f":"IF(O74<>'2011'!N77,1,0)","v":0}]
[null,"Town of Waterford ",{"$f":"'2011'!B78","v":7.04},{"$f":"'2011'!C78","v":11.29},{"$f":"'2011'!D78","v":0},{"$f":"'2011'!E78","v":48.62},{"$f":"'2011'!F78","v":"to"},{"$f":"'2011'!G78","v":63.63},{"$f":"'2011'!H78","v":66.95},{"$f":"'2011'!I78","v":"to"},{"$f":"'2011'!J78","v":81.96},{"$f":"'2011'!K78","v":0.34},{"$f":"'2011'!L78","v":22.76},{"$f":"'2011'!M78","v":"to"},{"$f":"'2011'!N78","v":27.86},null,"Town of Waterford ",{"$f":"IF(C75<>'2011'!B78,1,0)","v":0},{"$f":"IF(D75<>'2011'!C78,1,0)","v":0},{"$f":"IF(E75<>'2011'!D78,1,0)","v":0},{"$f":"IF(F75<>'2011'!E78,1,0)","v":0},{"$f":"IF(G75<>'2011'!F78,1,0)","v":0},{"$f":"IF(H75<>'2011'!G78,1,0)","v":0},{"$f":"IF(I75<>'2011'!H78,1,0)","v":0},{"$f":"IF(J75<>'2011'!I78,1,0)","v":0},{"$f":"IF(K75<>'2011'!J78,1,0)","v":0},{"$f":"IF(L75<>'2011'!K78,1,0)","v":0},{"$f":"IF(M75<>'2011'!L78,1,0)","v":0},{"$f":"IF(N75<>'2011'!M78,1,0)","v":0},{"$f":"IF(O75<>'2011'!N78,1,0)","v":0}]
[null,"Village of Waterford ",{"$f":"'2011'!B79","v":7.04},{"$f":"'2011'!C79","v":11.29},{"$f":"'2011'!D79","v":138.99},{"$f":"'2011'!E79","v":63.63},{"$f":"'2011'!F79","v":0},{"$f":"'2011'!G79","v":0},{"$f":"'2011'!H79","v":220.95},{"$f":"'2011'!I79","v":0},{"$f":"'2011'!J79","v":0},{"$f":"'2011'!K79","v":2.98E-2},{"$f":"'2011'!L79","v":32},{"$f":"'2011'!M79","v":0},{"$f":"'2011'!N79","v":0},null,"Village of Waterford ",{"$f":"IF(C76<>'2011'!B79,1,0)","v":0},{"$f":"IF(D76<>'2011'!C79,1,0)","v":0},{"$f":"IF(E76<>'2011'!D79,1,0)","v":0},{"$f":"IF(F76<>'2011'!E79,1,0)","v":0},{"$f":"IF(G76<>'2011'!F79,1,0)","v":0},{"$f":"IF(H76<>'2011'!G79,1,0)","v":0},{"$f":"IF(I76<>'2011'!H79,1,0)","v":0},{"$f":"IF(J76<>'2011'!I79,1,0)","v":0},{"$f":"IF(K76<>'2011'!J79,1,0)","v":0},{"$f":"IF(L76<>'2011'!K79,1,0)","v":0},{"$f":"IF(M76<>'2011'!L79,1,0)","v":0},{"$f":"IF(N76<>'2011'!M79,1,0)","v":0},{"$f":"IF(O76<>'2011'!N79,1,0)","v":0}]
[null,"Town of Wilton ",{"$f":"'2011'!B80","v":2.2599999999999998},{"$f":"'2011'!C80","v":0},{"$f":"'2011'!D80","v":0},{"$f":"'2011'!E80","v":11.15},{"$f":"'2011'!F80","v":"to"},{"$f":"'2011'!G80","v":19.22},{"$f":"'2011'!H80","v":13.41},{"$f":"'2011'!I80","v":"to"},{"$f":"'2011'!J80","v":21.48},{"$f":"'2011'!K80","v":1},{"$f":"'2011'!L80","v":13.41},{"$f":"'2011'!M80","v":"to"},{"$f":"'2011'!N80","v":21.48},null,"Town of Wilton ",{"$f":"IF(C77<>'2011'!B80,1,0)","v":0},{"$f":"IF(D77<>'2011'!C80,1,0)","v":0},{"$f":"IF(E77<>'2011'!D80,1,0)","v":0},{"$f":"IF(F77<>'2011'!E80,1,0)","v":0},{"$f":"IF(G77<>'2011'!F80,1,0)","v":0},{"$f":"IF(H77<>'2011'!G80,1,0)","v":0},{"$f":"IF(I77<>'2011'!H80,1,0)","v":0},{"$f":"IF(J77<>'2011'!I80,1,0)","v":0},{"$f":"IF(K77<>'2011'!J80,1,0)","v":0},{"$f":"IF(L77<>'2011'!K80,1,0)","v":0},{"$f":"IF(M77<>'2011'!L80,1,0)","v":0},{"$f":"IF(N77<>'2011'!M80,1,0)","v":0},{"$f":"IF(O77<>'2011'!N80,1,0)","v":0}]
[null,"Town of Duanesburg ",{"$f":"'2011'!B82","v":19.760000000000002},{"$f":"'2011'!C82","v":4.0599999999999996},{"$f":"'2011'!D82","v":0},{"$f":"'2011'!E82","v":54},{"$f":"'2011'!F82","v":"to"},{"$f":"'2011'!G82","v":63.41},{"$f":"'2011'!H82","v":77.819999999999993},{"$f":"'2011'!I82","v":"to"},{"$f":"'2011'!J82","v":87.23},{"$f":"'2011'!K82","v":0.3145},{"$f":"'2011'!L82","v":24.36},{"$f":"'2011'!M82","v":"to"},{"$f":"'2011'!N82","v":26.69},null,"Town of Duanesburg ",{"$f":"IF(C78<>'2011'!B82,1,0)","v":0},{"$f":"IF(D78<>'2011'!C82,1,0)","v":0},{"$f":"IF(E78<>'2011'!D82,1,0)","v":0},{"$f":"IF(F78<>'2011'!E82,1,0)","v":0},{"$f":"IF(G78<>'2011'!F82,1,0)","v":0},{"$f":"IF(H78<>'2011'!G82,1,0)","v":0},{"$f":"IF(I78<>'2011'!H82,1,0)","v":0},{"$f":"IF(J78<>'2011'!I82,1,0)","v":0},{"$f":"IF(K78<>'2011'!J82,1,0)","v":0},{"$f":"IF(L78<>'2011'!K82,1,0)","v":0},{"$f":"IF(M78<>'2011'!L82,1,0)","v":0},{"$f":"IF(N78<>'2011'!M82,1,0)","v":0},{"$f":"IF(O78<>'2011'!N82,1,0)","v":0}]
[null,"Village of Delanson ",{"$f":"'2011'!B83","v":19.760000000000002},{"$f":"'2011'!C83","v":4.0599999999999996},{"$f":"'2011'!D83","v":11.57},{"$f":"'2011'!E83","v":54},{"$f":"'2011'!F83","v":0},{"$f":"'2011'!G83","v":0},{"$f":"'2011'!H83","v":89.39},{"$f":"'2011'!I83","v":0},{"$f":"'2011'!J83","v":0},{"$f":"'2011'!K83","v":0.2661},{"$f":"'2011'!L83","v":24.94},{"$f":"'2011'!M83","v":0},{"$f":"'2011'!N83","v":0},null,"Village of Delanson ",{"$f":"IF(C79<>'2011'!B83,1,0)","v":0},{"$f":"IF(D79<>'2011'!C83,1,0)","v":0},{"$f":"IF(E79<>'2011'!D83,1,0)","v":0},{"$f":"IF(F79<>'2011'!E83,1,0)","v":0},{"$f":"IF(G79<>'2011'!F83,1,0)","v":0},{"$f":"IF(H79<>'2011'!G83,1,0)","v":0},{"$f":"IF(I79<>'2011'!H83,1,0)","v":0},{"$f":"IF(J79<>'2011'!I83,1,0)","v":0},{"$f":"IF(K79<>'2011'!J83,1,0)","v":0},{"$f":"IF(L79<>'2011'!K83,1,0)","v":0},{"$f":"IF(M79<>'2011'!L83,1,0)","v":0},{"$f":"IF(N79<>'2011'!M83,1,0)","v":0},{"$f":"IF(O79<>'2011'!N83,1,0)","v":0}]
[null,"Town of Glenville ",{"$f":"'2011'!B84","v":6.85},{"$f":"'2011'!C84","v":3.36},{"$f":"'2011'!D84","v":0},{"$f":"'2011'!E84","v":13.32},{"$f":"'2011'!F84","v":"to"},{"$f":"'2011'!G84","v":20.32},{"$f":"'2011'!H84","v":23.53},{"$f":"'2011'!I84","v":"to"},{"$f":"'2011'!J84","v":30.53},{"$f":"'2011'!K84","v":0.91},{"$f":"'2011'!L84","v":21.41},{"$f":"'2011'!M84","v":"to"},{"$f":"'2011'!N84","v":27.78},null,"Town of Glenville ",{"$f":"IF(C80<>'2011'!B84,1,0)","v":0},{"$f":"IF(D80<>'2011'!C84,1,0)","v":0},{"$f":"IF(E80<>'2011'!D84,1,0)","v":0},{"$f":"IF(F80<>'2011'!E84,1,0)","v":0},{"$f":"IF(G80<>'2011'!F84,1,0)","v":0},{"$f":"IF(H80<>'2011'!G84,1,0)","v":0},{"$f":"IF(I80<>'2011'!H84,1,0)","v":0},{"$f":"IF(J80<>'2011'!I84,1,0)","v":0},{"$f":"IF(K80<>'2011'!J84,1,0)","v":0},{"$f":"IF(L80<>'2011'!K84,1,0)","v":0},{"$f":"IF(M80<>'2011'!L84,1,0)","v":0},{"$f":"IF(N80<>'2011'!M84,1,0)","v":0},{"$f":"IF(O80<>'2011'!N84,1,0)","v":0}]
[null,"Village of Scotia ",{"$f":"'2011'!B85","v":6.85},{"$f":"'2011'!C85","v":1.01},{"$f":"'2011'!D85","v":10.37},{"$f":"'2011'!E85","v":20.010000000000002},{"$f":"'2011'!F85","v":0},{"$f":"'2011'!G85","v":0},{"$f":"'2011'!H85","v":38.24},{"$f":"'2011'!I85","v":0},{"$f":"'2011'!J85","v":0},{"$f":"'2011'!K85","v":0.85},{"$f":"'2011'!L85","v":32.97},{"$f":"'2011'!M85","v":0},{"$f":"'2011'!N85","v":0},null,"Village of Scotia ",{"$f":"IF(C81<>'2011'!B85,1,0)","v":0},{"$f":"IF(D81<>'2011'!C85,1,0)","v":0},{"$f":"IF(E81<>'2011'!D85,1,0)","v":0},{"$f":"IF(F81<>'2011'!E85,1,0)","v":0},{"$f":"IF(G81<>'2011'!F85,1,0)","v":0},{"$f":"IF(H81<>'2011'!G85,1,0)","v":0},{"$f":"IF(I81<>'2011'!H85,1,0)","v":0},{"$f":"IF(J81<>'2011'!I85,1,0)","v":0},{"$f":"IF(K81<>'2011'!J85,1,0)","v":0},{"$f":"IF(L81<>'2011'!K85,1,0)","v":0},{"$f":"IF(M81<>'2011'!L85,1,0)","v":0},{"$f":"IF(N81<>'2011'!M85,1,0)","v":0},{"$f":"IF(O81<>'2011'!N85,1,0)","v":0}]
[null,"Town of Niskayuna ",{"$f":"'2011'!B86","v":6.14},{"$f":"'2011'!C86","v":2.87},{"$f":"'2011'!D86","v":0},{"$f":"'2011'!E86","v":16.11},{"$f":"'2011'!F86","v":"to"},{"$f":"'2011'!G86","v":17.62},{"$f":"'2011'!H86","v":25.12},{"$f":"'2011'!I86","v":"to"},{"$f":"'2011'!J86","v":26.63},{"$f":"'2011'!K86","v":1},{"$f":"'2011'!L86","v":25.12},{"$f":"'2011'!M86","v":"to"},{"$f":"'2011'!N86","v":26.63},null,"Town of Niskayuna ",{"$f":"IF(C82<>'2011'!B86,1,0)","v":0},{"$f":"IF(D82<>'2011'!C86,1,0)","v":0},{"$f":"IF(E82<>'2011'!D86,1,0)","v":0},{"$f":"IF(F82<>'2011'!E86,1,0)","v":0},{"$f":"IF(G82<>'2011'!F86,1,0)","v":0},{"$f":"IF(H82<>'2011'!G86,1,0)","v":0},{"$f":"IF(I82<>'2011'!H86,1,0)","v":0},{"$f":"IF(J82<>'2011'!I86,1,0)","v":0},{"$f":"IF(K82<>'2011'!J86,1,0)","v":0},{"$f":"IF(L82<>'2011'!K86,1,0)","v":0},{"$f":"IF(M82<>'2011'!L86,1,0)","v":0},{"$f":"IF(N82<>'2011'!M86,1,0)","v":0},{"$f":"IF(O82<>'2011'!N86,1,0)","v":0}]
[null,"Town of Princetown ",{"$f":"'2011'!B87","v":19.32},{"$f":"'2011'!C87","v":0.43},{"$f":"'2011'!D87","v":0},{"$f":"'2011'!E87","v":52.66},{"$f":"'2011'!F87","v":"to"},{"$f":"'2011'!G87","v":57.19},{"$f":"'2011'!H87","v":72.41},{"$f":"'2011'!I87","v":"to"},{"$f":"'2011'!J87","v":76.94},{"$f":"'2011'!K87","v":0.32250000000000001},{"$f":"'2011'!L87","v":23.35},{"$f":"'2011'!M87","v":"to"},{"$f":"'2011'!N87","v":24.81},null,"Town of Princetown ",{"$f":"IF(C83<>'2011'!B87,1,0)","v":0},{"$f":"IF(D83<>'2011'!C87,1,0)","v":0},{"$f":"IF(E83<>'2011'!D87,1,0)","v":0},{"$f":"IF(F83<>'2011'!E87,1,0)","v":0},{"$f":"IF(G83<>'2011'!F87,1,0)","v":0},{"$f":"IF(H83<>'2011'!G87,1,0)","v":0},{"$f":"IF(I83<>'2011'!H87,1,0)","v":0},{"$f":"IF(J83<>'2011'!I87,1,0)","v":0},{"$f":"IF(K83<>'2011'!J87,1,0)","v":0},{"$f":"IF(L83<>'2011'!K87,1,0)","v":0},{"$f":"IF(M83<>'2011'!L87,1,0)","v":0},{"$f":"IF(N83<>'2011'!M87,1,0)","v":0},{"$f":"IF(O83<>'2011'!N87,1,0)","v":0}]
[null,"Town of Rotterdam ",{"$f":"'2011'!B88","v":6.33},{"$f":"'2011'!C88","v":4.32},{"$f":"'2011'!D88","v":0},{"$f":"'2011'!E88","v":15.19},{"$f":"'2011'!F88","v":"to"},{"$f":"'2011'!G88","v":20.9},{"$f":"'2011'!H88","v":25.84},{"$f":"'2011'!I88","v":"to"},{"$f":"'2011'!J88","v":31.55},{"$f":"'2011'!K88","v":1},{"$f":"'2011'!L88","v":25.84},{"$f":"'2011'!M88","v":"to"},{"$f":"'2011'!N88","v":31.55},null,"Town of Rotterdam ",{"$f":"IF(C84<>'2011'!B88,1,0)","v":0},{"$f":"IF(D84<>'2011'!C88,1,0)","v":0},{"$f":"IF(E84<>'2011'!D88,1,0)","v":0},{"$f":"IF(F84<>'2011'!E88,1,0)","v":0},{"$f":"IF(G84<>'2011'!F88,1,0)","v":0},{"$f":"IF(H84<>'2011'!G88,1,0)","v":0},{"$f":"IF(I84<>'2011'!H88,1,0)","v":0},{"$f":"IF(J84<>'2011'!I88,1,0)","v":0},{"$f":"IF(K84<>'2011'!J88,1,0)","v":0},{"$f":"IF(L84<>'2011'!K88,1,0)","v":0},{"$f":"IF(M84<>'2011'!L88,1,0)","v":0},{"$f":"IF(N84<>'2011'!M88,1,0)","v":0},{"$f":"IF(O84<>'2011'!N88,1,0)","v":0}]
[null,"City of Schenectady ",{"$f":"'2011'!B89","v":6.66},{"$f":"'2011'!C89","v":0},{"$f":"'2011'!D89","v":13.19},{"$f":"'2011'!E89","v":20.9},{"$f":"'2011'!F89","v":0},{"$f":"'2011'!G89","v":0},{"$f":"'2011'!H89","v":40.75},{"$f":"'2011'!I89","v":0},{"$f":"'2011'!J89","v":0},{"$f":"'2011'!K89","v":1},{"$f":"'2011'!L89","v":40.75},{"$f":"'2011'!M89","v":0},{"$f":"'2011'!N89","v":0},null,"City of Schenectady ",{"$f":"IF(C85<>'2011'!B89,1,0)","v":0},{"$f":"IF(D85<>'2011'!C89,1,0)","v":0},{"$f":"IF(E85<>'2011'!D89,1,0)","v":0},{"$f":"IF(F85<>'2011'!E89,1,0)","v":0},{"$f":"IF(G85<>'2011'!F89,1,0)","v":0},{"$f":"IF(H85<>'2011'!G89,1,0)","v":0},{"$f":"IF(I85<>'2011'!H89,1,0)","v":0},{"$f":"IF(J85<>'2011'!I89,1,0)","v":0},{"$f":"IF(K85<>'2011'!J89,1,0)","v":0},{"$f":"IF(L85<>'2011'!K89,1,0)","v":0},{"$f":"IF(M85<>'2011'!L89,1,0)","v":0},{"$f":"IF(N85<>'2011'!M89,1,0)","v":0},{"$f":"IF(O85<>'2011'!N89,1,0)","v":0}]
[" •","Village did not submit the village property tax rate in time for inclusion in the Comptroller's Report.                "]

{"sheet":"DN_Chart_Data11","index":23,"n_rows":86,"n_cols":4,"rows_kept":86,"cut":false,"hidden":false,"merged":[]}
[null,{"$f":"LEFT(DN_Table11!C2,4)&\" \"&DN_Table11!M2","v":"2011 Total Overall"}]
[null,"Full Value Range:"]
["City, Town, or Village","Rate per $1,000"]
["City of Albany",{"$f":"DN_Table11!M5","v":36.4},{"$f":"IF(OR(D4=0,(D4-B4)<0.3),0.3,D4-B4)","v":0.3},{"$f":"DN_Table11!O5","v":0}]
["Town of Berne",{"$f":"DN_Table11!M6","v":23.5},0.89999999999999858,{"$f":"DN_Table11!O6","v":24.4}]
["Town of Bethlehem",{"$f":"DN_Table11!M7","v":22.94},2.2899999999999991,{"$f":"DN_Table11!O7","v":25.23}]
["Town of Coeymans",{"$f":"DN_Table11!M8","v":23.51},1.3399999999999999,{"$f":"DN_Table11!O8","v":24.85}]
["Village of Ravena",{"$f":"DN_Table11!M9","v":29.31},0.3,{"$f":"DN_Table11!O9","v":0}]
["City of Cohoes",{"$f":"DN_Table11!M10","v":30.03},0.3,{"$f":"DN_Table11!O10","v":0}]
["Town of Colonie",{"$f":"DN_Table11!M11","v":17.61},7.8000000000000007,{"$f":"DN_Table11!O11","v":25.41}]
["Village of Colonie",{"$f":"DN_Table11!M12","v":22.66},0.3,{"$f":"DN_Table11!O12","v":0}]
["Village of Menands",{"$f":"DN_Table11!M13","v":25.36},0.3,{"$f":"DN_Table11!O13","v":0}]
["Town/Village of Green Island",{"$f":"DN_Table11!M14","v":32.270000000000003},0.3,{"$f":"DN_Table11!O14","v":0}]
["Town of Guilderland",{"$f":"DN_Table11!M15","v":19.41},2.7600000000000016,{"$f":"DN_Table11!O15","v":22.17}]
["Village of Altamont",{"$f":"DN_Table11!M16","v":23.45},0.3,{"$f":"DN_Table11!O16","v":0}]
["Town of Knox",{"$f":"DN_Table11!M17","v":21.19},2.2199999999999989,{"$f":"DN_Table11!O17","v":23.41}]
["Town of New Scotland",{"$f":"DN_Table11!M18","v":22.15},2.860000000000003,{"$f":"DN_Table11!O18","v":25.01}]
["Village of Voorheesville",{"$f":"DN_Table11!M19","v":23.15},0.3,{"$f":"DN_Table11!O19","v":0}]
["Town of Rensselaerville",{"$f":"DN_Table11!M20","v":19.28},6.3599999999999994,{"$f":"DN_Table11!O20","v":25.64}]
["City of Watervliet",{"$f":"DN_Table11!M21","v":25.24},0.3,{"$f":"DN_Table11!O21","v":0}]
["Town of Westerlo",{"$f":"DN_Table11!M22","v":22.83},0.3,{"$f":"DN_Table11!O22","v":22.87}]
["Town of Berlin",{"$f":"DN_Table11!M23","v":21.94},1.6600000000000001,{"$f":"DN_Table11!O23","v":23.6}]
["Town of Brunswick",{"$f":"DN_Table11!M24","v":23.2},3.3599999999999994,{"$f":"DN_Table11!O24","v":26.56}]
["Town of East Greenbush",{"$f":"DN_Table11!M25","v":25.23},1.8599999999999994,{"$f":"DN_Table11!O25","v":27.09}]
["Town of Grafton",{"$f":"DN_Table11!M26","v":23.02},3,{"$f":"DN_Table11!O26","v":26.02}]
["Town of Hoosick",{"$f":"DN_Table11!M27","v":21.57},4.4499999999999993,{"$f":"DN_Table11!O27","v":26.02}]
["Village of Hoosick Falls",{"$f":"DN_Table11!M28","v":32.53},0.3,{"$f":"DN_Table11!O28","v":0}]
["Town of Nassau",{"$f":"DN_Table11!M29","v":20.16},5.4600000000000009,{"$f":"DN_Table11!O29","v":25.62}]
["Village of East Nassau",{"$f":"DN_Table11!M30","v":19.260000000000002},5.4599999999999973,{"$f":"DN_Table11!O30","v":24.72}]
["Village of Nassau (part)",{"$f":"DN_Table11!M31","v":28.29},0.3,{"$f":"DN_Table11!O31","v":0}]
["Town of North Greenbush",{"$f":"DN_Table11!M32","v":14.6},12.840000000000002,{"$f":"DN_Table11!O32","v":27.44}]
["Town of Petersburgh",{"$f":"DN_Table11!M33","v":24.12},2.9899999999999984,{"$f":"DN_Table11!O33","v":27.11}]
["Town of Pittstown",{"$f":"DN_Table11!M34","v":22.12},4.4499999999999993,{"$f":"DN_Table11!O34","v":26.57}]
["Village of Valley Falls (part)",{"$f":"DN_Table11!M35","v":26.15},0.3,{"$f":"DN_Table11!O35","v":0}]
["Town of Poestenkill",{"$f":"DN_Table11!M36","v":22.21},4.9699999999999989,{"$f":"DN_Table11!O36","v":27.18}]
["City of Rensselaer",{"$f":"DN_Table11!M37","v":35.57},{"$f":"IF(OR(D36=0,(D36-B36)<0.3),0.3,D36-B36)","v":0.3},{"$f":"DN_Table11!O37","v":0}]
["Town of Sand Lake",{"$f":"DN_Table11!M38","v":23},0.69000000000000128,{"$f":"DN_Table11!O38","v":23.69}]
["Town of Schaghticoke",{"$f":"DN_Table11!M39","v":19.57},4.75,{"$f":"DN_Table11!O39","v":24.32}]
["Village of Schaghticoke",{"$f":"DN_Table11!M40","v":26.63},0.3,{"$f":"DN_Table11!O40","v":0}]
["Village of Valley Falls (part)",{"$f":"DN_Table11!M41","v":25.03},0.3,{"$f":"DN_Table11!O41","v":0}]
["Town of Schodack",{"$f":"DN_Table11!M42","v":23.37},5.18,{"$f":"DN_Table11!O42","v":28.55}]
["Village of Castleton-on-Hudson",{"$f":"DN_Table11!M43","v":31.34},0.3,{"$f":"DN_Table11!O43","v":0}]
["Village of Nassau (part)",{"$f":"DN_Table11!M44","v":30.5},0.3,{"$f":"DN_Table11!O44","v":0}]
["Town of Stephentown",{"$f":"DN_Table11!M45","v":19.739999999999998},3.9600000000000009,{"$f":"DN_Table11!O45","v":23.7}]
["City of Troy",{"$f":"DN_Table11!M46","v":31.41},2.3300000000000018,{"$f":"DN_Table11!O46","v":33.74}]
["Town of Ballston",{"$f":"DN_Table11!M47","v":18.809999999999999},1.9600000000000009,{"$f":"DN_Table11!O47","v":20.77}]
["Village of Ballston Spa (part)",{"$f":"DN_Table11!M48","v":23.8},0.3,{"$f":"DN_Table11!O48","v":0}]
["Town of Charlton",{"$f":"DN_Table11!M49","v":14.57},6.370000000000001,{"$f":"DN_Table11!O49","v":20.94}]
["Town of Clifton Park",{"$f":"DN_Table11!M50","v":18.899999999999999},1.9600000000000009,{"$f":"DN_Table11!O50","v":20.86}]
["Town of Corinth",{"$f":"DN_Table11!M51","v":16.98},0.3,{"$f":"DN_Table11!O51","v":0}]
["Village of Corinth",{"$f":"DN_Table11!M52","v":20.74},0.3,{"$f":"DN_Table11!O52","v":0}]
["Town of Day",{"$f":"DN_Table11!M53","v":8.35},6.4600000000000009,{"$f":"DN_Table11!O53","v":14.81}]
["Town of Edinburg",{"$f":"DN_Table11!M54","v":7.47},10.61,{"$f":"DN_Table11!O54","v":18.079999999999998}]
["Town of Galway",{"$f":"DN_Table11!M55","v":15.17},3.2000000000000011,{"$f":"DN_Table11!O55","v":18.37}]
["Village of Galway",{"$f":"DN_Table11!M56","v":14.57},0.3,{"$f":"DN_Table11!O56","v":0}]
["Town of Greenfield",{"$f":"DN_Table11!M57","v":14.64},1.0999999999999996,{"$f":"DN_Table11!O57","v":15.74}]
["Town of Hadley",{"$f":"DN_Table11!M58","v":15.67},1.7799999999999994,{"$f":"DN_Table11!O58","v":17.45}]
["Town of Halfmoon",{"$f":"DN_Table11!M59","v":17.989999999999998},5.9000000000000021,{"$f":"DN_Table11!O59","v":23.89}]
["Town of Malta",{"$f":"DN_Table11!M60","v":14.28},6.0600000000000005,{"$f":"DN_Table11!O60","v":20.34}]
["Village of Round Lake",{"$f":"DN_Table11!M61","v":23.12},0.3,{"$f":"DN_Table11!O61","v":0}]
["City of Mechanicville",{"$f":"DN_Table11!M62","v":27.53},0.3,{"$f":"DN_Table11!O62","v":0}]
["Town of Milton",{"$f":"DN_Table11!M63","v":14.68},5.9600000000000009,{"$f":"DN_Table11!O63","v":20.64}]
["Village of Ballston Spa (part)",{"$f":"DN_Table11!M64","v":24.02},0.3,{"$f":"DN_Table11!O64","v":0}]
["Town of Moreau",{"$f":"DN_Table11!M65","v":16.260000000000002},0.32999999999999829,{"$f":"DN_Table11!O65","v":16.59}]
["Village of South Glens Falls",{"$f":"DN_Table11!M66","v":22.06},0.3,{"$f":"DN_Table11!O66","v":0}]
["Town of Northumberland",{"$f":"DN_Table11!M67","v":17.66},5.3000000000000007,{"$f":"DN_Table11!O67","v":22.96}]
["Town of Providence",{"$f":"DN_Table11!M68","v":18.420000000000002},3.1999999999999993,{"$f":"DN_Table11!O68","v":21.62}]
["Town of Saratoga",{"$f":"DN_Table11!M69","v":15.55},{"$f":"IF(OR(D68=0,(D68-B68)<0.3),0.3,D68-B68)","v":7.07},{"$f":"DN_Table11!O69","v":22.62}]
["Village of Schuylerville",{"$f":"DN_Table11!M70","v":22.62},0.3,{"$f":"DN_Table11!O70","v":0}]
["Village of Victory",{"$f":"DN_Table11!M71","v":22.62},0.3,{"$f":"DN_Table11!O71","v":0}]
["City of Saratoga Springs",{"$f":"DN_Table11!M72","v":19.489999999999998},0.3,{"$f":"DN_Table11!O72","v":0}]
["Town of Stillwater",{"$f":"DN_Table11!M73","v":17.22},7.0800000000000018,{"$f":"DN_Table11!O73","v":24.3}]
["Village of Stillwater",{"$f":"DN_Table11!M74","v":18.93},0.3,{"$f":"DN_Table11!O74","v":0}]
["Town of Waterford",{"$f":"DN_Table11!M75","v":22.76},5.0999999999999979,{"$f":"DN_Table11!O75","v":27.86}]
["Village of Waterford",{"$f":"DN_Table11!M76","v":32},0.3,{"$f":"DN_Table11!O76","v":0}]
["Town of Wilton",{"$f":"DN_Table11!M77","v":13.41},8.07,{"$f":"DN_Table11!O77","v":21.48}]
["Town of Duanesburg",{"$f":"DN_Table11!M78","v":24.36},2.3300000000000018,{"$f":"DN_Table11!O78","v":26.69}]
["Village of Delanson",{"$f":"DN_Table11!M79","v":24.94},0.3,{"$f":"DN_Table11!O79","v":0}]
["Town of Glenville",{"$f":"DN_Table11!M80","v":21.41},6.370000000000001,{"$f":"DN_Table11!O80","v":27.78}]
["Village of Scotia",{"$f":"DN_Table11!M81","v":32.97},0.3,{"$f":"DN_Table11!O81","v":0}]
["Town of Niskayuna",{"$f":"DN_Table11!M82","v":25.12},1.509999999999998,{"$f":"DN_Table11!O82","v":26.63}]
["Town of Princetown",{"$f":"DN_Table11!M83","v":23.35},1.4599999999999973,{"$f":"DN_Table11!O83","v":24.81}]
["Town of Rotterdam",{"$f":"DN_Table11!M84","v":25.84},5.7100000000000009,{"$f":"DN_Table11!O84","v":31.55}]
["City of Schenectady",{"$f":"DN_Table11!M85","v":40.75},0.3,{"$f":"DN_Table11!O85","v":0}]
["Minimum",{"$f":"MIN(B4:B84)","v":7.47},null,{"$f":"MIN(D4:D84)","v":0}]
["Maximum",{"$f":"MAX(B4:B84)","v":40.75},null,{"$f":"MAX(D4:D84)","v":33.74}]

{"sheet":"CFS 11","index":26,"n_rows":85,"n_cols":10,"rows_kept":85,"cut":false,"hidden":false,"merged":[]}
[{"$f":"LEFT('2011'!B1,4)&\" Real Property Tax Rates\"","v":"2011 Real Property Tax Rates"},"Total Overall Range",null,null,"Full Value Range",null,null,"Total Overall Range","Full Value Range:","Equal."]
[{"$f":"LEFT('2011'!B1,4)&\" Tax Rates per $1,000\"","v":"2011 Tax Rates per $1,000"},"Rate per $1,000",null,null,"Rate per $1,000",null,null,"Rate per $1,000","Rate per $1,000","Rate"]
["Albany County",{"$f":"'2011'!H4","v":22.82},{"$f":"'2011'!I4","v":"to"},{"$f":"'2011'!J4","v":2689.43},{"$f":"'2011'!L4","v":17.61},{"$f":"'2011'!M4","v":"to"},{"$f":"'2011'!N4","v":36.4},{"$f":"CLEAN(TEXT(B3,\"$#,##0.00\")&\" \"&C3&\" \"&IF(D3<>\"\",TEXT(D3,\"$#,##0.00\"),\"\"))","v":"$22.82 to $2,689.43"},{"$f":"CLEAN(TEXT(E3,\"$#,##0.00\")&\" \"&F3&\" \"&IF(G3<>\"\",TEXT(G3,\"$#,##0.00\"),\"\"))","v":"$17.61 to $36.40"},"Not Applicable"]
["City of Albany",{"$f":"'2011'!H5","v":36.619999999999997},"",null,{"$f":"'2011'!L5","v":36.4},"",null,"$36.62  ","$36.40  ",{"$f":"'2011'!K5","v":0.99399999999999999}]
["Town of Berne",{"$f":"'2011'!H6","v":37.909999999999997},{"$f":"'2011'!I6","v":"to"},{"$f":"'2011'!J6","v":39.36},{"$f":"'2011'!L6","v":23.5},{"$f":"'2011'!M6","v":"to"},{"$f":"'2011'!N6","v":24.4},"$37.91 to $39.36","$23.50 to $24.40",{"$f":"'2011'!K6","v":0.62}]
["Town of Bethlehem",{"$f":"'2011'!H7","v":23.65},{"$f":"'2011'!I7","v":"to"},{"$f":"'2011'!J7","v":26.02},{"$f":"'2011'!L7","v":22.94},{"$f":"'2011'!M7","v":"to"},{"$f":"'2011'!N7","v":25.23},"$23.65 to $26.02","$22.94 to $25.23",{"$f":"'2011'!K7","v":0.97}]
["Town of Coeymans",{"$f":"'2011'!H8","v":23.51},{"$f":"'2011'!I8","v":"to"},{"$f":"'2011'!J8","v":24.85},{"$f":"'2011'!L8","v":23.51},{"$f":"'2011'!M8","v":"to"},{"$f":"'2011'!N8","v":24.85},"$23.51 to $24.85","$23.51 to $24.85",{"$f":"'2011'!K8","v":1}]
["Village of Ravena",{"$f":"'2011'!H9","v":29.34},"",null,{"$f":"'2011'!L9","v":29.31},"",null,"$29.34  ","$29.31  ",{"$f":"'2011'!K9","v":0.99250000000000005}]
["City of Cohoes",{"$f":"'2011'!H10","v":55.61},"",null,{"$f":"'2011'!L10","v":30.03},"",null,"$55.61  ","$30.03  ",{"$f":"'2011'!K10","v":0.54}]
["Town of Colonie",{"$f":"'2011'!H11","v":26.27},{"$f":"'2011'!I11","v":"to"},{"$f":"'2011'!J11","v":37.92},{"$f":"'2011'!L11","v":17.61},{"$f":"'2011'!M11","v":"to"},{"$f":"'2011'!N11","v":25.41},"$26.27 to $37.92","$17.61 to $25.41",{"$f":"'2011'!K11","v":0.67}]
["Village of Colonie",{"$f":"'2011'!H12","v":69.819999999999993},"",null,{"$f":"'2011'!L12","v":22.66},"",null,"$69.82  ","$22.66  ",{"$f":"'2011'!K12","v":3.5299999999999998E-2}]
["Village of Menands",{"$f":"'2011'!H13","v":37.950000000000003},{"$f":"'2011'!I13","v":0},{"$f":"'2011'!J13","v":0},{"$f":"'2011'!L13","v":25.36},{"$f":"'2011'!M13","v":0},{"$f":"'2011'!N13","v":0},"$37.95 0 $0.00","$25.36 0 $0.00",{"$f":"'2011'!K13","v":0.65749999999999997}]
["Town/Village of Green Island",{"$f":"'2011'!H15","v":599.78},null,null,{"$f":"'2011'!L15","v":32.270000000000003},null,null,"$599.78  ","$32.27  ",{"$f":"'2011'!K15","v":5.3800000000000001E-2}]
["Town of Guilderland",{"$f":"'2011'!H16","v":22.82},{"$f":"'2011'!I16","v":"to"},{"$f":"'2011'!J16","v":26.07},{"$f":"'2011'!L16","v":19.41},{"$f":"'2011'!M16","v":"to"},{"$f":"'2011'!N16","v":22.17},"$22.82 to $26.07","$19.41 to $22.17",{"$f":"'2011'!K16","v":0.85050000000000003}]
["Village of Altamont",{"$f":"'2011'!H17","v":27.75},"",null,{"$f":"'2011'!L17","v":23.45},"",null,"$27.75  ","$23.45  ",{"$f":"'2011'!K17","v":0.79090000000000005}]
["Town of Knox",{"$f":"'2011'!H18","v":37.19},{"$f":"'2011'!I18","v":"to"},{"$f":"'2011'!J18","v":41.08},{"$f":"'2011'!L18","v":21.19},{"$f":"'2011'!M18","v":"to"},{"$f":"'2011'!N18","v":23.41},"$37.19 to $41.08","$21.19 to $23.41",{"$f":"'2011'!K18","v":0.56999999999999995}]
["Town of New Scotland",{"$f":"'2011'!H19","v":23.56},{"$f":"'2011'!I19","v":"to"},{"$f":"'2011'!J19","v":26.6},{"$f":"'2011'!L19","v":22.15},{"$f":"'2011'!M19","v":"to"},{"$f":"'2011'!N19","v":25.01},"$23.56 to $26.60","$22.15 to $25.01",{"$f":"'2011'!K19","v":0.94}]
["Village of Voorheesville",{"$f":"'2011'!H20","v":24.62},"",null,{"$f":"'2011'!L20","v":23.15},"",null,"$24.62  ","$23.15  ",{"$f":"'2011'!K20","v":0.94}]
["Town of Rensselaerville",{"$f":"'2011'!H21","v":35.56},{"$f":"'2011'!I21","v":"to"},{"$f":"'2011'!J21","v":47.29},{"$f":"'2011'!L21","v":19.28},{"$f":"'2011'!M21","v":"to"},{"$f":"'2011'!N21","v":25.64},"$35.56 to $47.29","$19.28 to $25.64",{"$f":"'2011'!K21","v":0.54200000000000004}]
["City of Watervliet",{"$f":"'2011'!H22","v":40.56},"",null,{"$f":"'2011'!L22","v":25.24},"",null,"$40.56  ","$25.24  ",{"$f":"'2011'!K22","v":0.62250000000000005}]
["Town of Westerlo",{"$f":"'2011'!H23","v":2685.73},{"$f":"'2011'!I23","v":"to"},{"$f":"'2011'!J23","v":2689.43},{"$f":"'2011'!L23","v":22.83},{"$f":"'2011'!M23","v":"to"},{"$f":"'2011'!N23","v":22.87},"$2,685.73 to $2,689.43","$22.83 to $22.87",{"$f":"'2011'!K23","v":8.5000000000000006E-3}]
["Rensselaer County",{"$f":"'2011'!H24","v":23},{"$f":"'2011'!I24","v":"to"},{"$f":"'2011'!J24","v":311.63},{"$f":"'2011'!L24","v":14.6},{"$f":"'2011'!M24","v":"to"},{"$f":"'2011'!N24","v":35.57},"$23.00 to $311.63","$14.60 to $35.57","Not Applicable"]
["Village of Nassau",{"$f":"'2011'!H33","v":43.16},"to",{"$f":"'2011'!H46","v":35.31},{"$f":"'2011'!L33","v":28.29},"to",{"$f":"'2011'!L46","v":30.5},"$43.16 to $35.31","$28.29 to $30.50",{"$f":"'2011'!K33","v":0.50019999999999998}]
["Village of Valley Falls",{"$f":"'2011'!H37","v":42.9},"to",{"$f":"'2011'!H43","v":102.21},{"$f":"'2011'!L43","v":25.03},"to",{"$f":"'2011'!L37","v":26.15},"$42.90 to $102.21","$25.03 to $26.15",{"$f":"'2011'!K37","v":0.54320000000000002}]
["Town of Berlin",{"$f":"'2011'!H25","v":89.19},{"$f":"'2011'!I25","v":"to"},{"$f":"'2011'!J25","v":95.93},{"$f":"'2011'!L25","v":21.94},{"$f":"'2011'!M25","v":"to"},{"$f":"'2011'!N25","v":23.6},"$89.19 to $95.93","$21.94 to $23.60",{"$f":"'2011'!K25","v":0.246}]
["Town of Brunswick",{"$f":"'2011'!H26","v":91.71},{"$f":"'2011'!I26","v":"to"},{"$f":"'2011'!J26","v":105},{"$f":"'2011'!L26","v":23.2},{"$f":"'2011'!M26","v":"to"},{"$f":"'2011'!N26","v":26.56},"$91.71 to $105.00","$23.20 to $26.56",{"$f":"'2011'!K26","v":0.253}]
["Town of East Greenbush",{"$f":"'2011'!H27","v":25.23},{"$f":"'2011'!I27","v":"to"},{"$f":"'2011'!J27","v":27.09},{"$f":"'2011'!L27","v":25.23},{"$f":"'2011'!M27","v":"to"},{"$f":"'2011'!N27","v":27.09},"$25.23 to $27.09","$25.23 to $27.09",{"$f":"'2011'!K27","v":1}]
["Town of Grafton",{"$f":"'2011'!H28","v":275.73},{"$f":"'2011'!I28","v":"to"},{"$f":"'2011'!J28","v":311.63},{"$f":"'2011'!L28","v":23.02},{"$f":"'2011'!M28","v":"to"},{"$f":"'2011'!N28","v":26.02},"$275.73 to $311.63","$23.02 to $26.02",{"$f":"'2011'!K28","v":8.3500000000000005E-2}]
["Town of Hoosick",{"$f":"'2011'!H29","v":78.430000000000007},{"$f":"'2011'!I29","v":"to"},{"$f":"'2011'!J29","v":94.61},{"$f":"'2011'!L29","v":21.57},{"$f":"'2011'!M29","v":"to"},{"$f":"'2011'!N29","v":26.02},"$78.43 to $94.61","$21.57 to $26.02",{"$f":"'2011'!K29","v":0.27500000000000002}]
["Village of Hoosick Falls",{"$f":"'2011'!H30","v":148.38},"",null,{"$f":"'2011'!L30","v":32.53},"",null,"$148.38  ","$32.53  ",{"$f":"'2011'!K30","v":0.12970000000000001}]
["Town of Nassau",{"$f":"'2011'!H31","v":28.8},{"$f":"'2011'!I31","v":"to"},{"$f":"'2011'!J31","v":36.6},{"$f":"'2011'!L31","v":20.16},{"$f":"'2011'!M31","v":"to"},{"$f":"'2011'!N31","v":25.62},"$28.80 to $36.60","$20.16 to $25.62",{"$f":"'2011'!K31","v":0.7}]
["Village of East Nassau",{"$f":"'2011'!H32","v":27.52},{"$f":"'2011'!I32","v":"to"},{"$f":"'2011'!J32","v":35.32},{"$f":"'2011'!L32","v":19.260000000000002},{"$f":"'2011'!M32","v":"to"},{"$f":"'2011'!N32","v":24.72},"$27.52 to $35.32","$19.26 to $24.72",{"$f":"'2011'!K32","v":0.69499999999999995}]
["Town of North Greenbush",{"$f":"'2011'!H34","v":55.63},{"$f":"'2011'!I34","v":"to"},{"$f":"'2011'!J34","v":104.56},{"$f":"'2011'!L34","v":14.6},{"$f":"'2011'!M34","v":"to"},{"$f":"'2011'!N34","v":27.44},"$55.63 to $104.56","$14.60 to $27.44",{"$f":"'2011'!K34","v":0.26250000000000001}]
["Town of Petersburgh",{"$f":"'2011'!H35","v":42.71},{"$f":"'2011'!I35","v":"to"},{"$f":"'2011'!J35","v":47.99},{"$f":"'2011'!L35","v":24.12},{"$f":"'2011'!M35","v":"to"},{"$f":"'2011'!N35","v":27.11},"$42.71 to $47.99","$24.12 to $27.11",{"$f":"'2011'!K35","v":0.56499999999999995}]
["Town of Pittstown",{"$f":"'2011'!H36","v":35.96},{"$f":"'2011'!I36","v":"to"},{"$f":"'2011'!J36","v":43.19},{"$f":"'2011'!L36","v":22.12},{"$f":"'2011'!M36","v":"to"},{"$f":"'2011'!N36","v":26.57},{"$f":"CLEAN(TEXT(B35,\"$#,##0.00\")&\" \"&C35&\" \"&IF(D35<>\"\",TEXT(D35,\"$#,##0.00\"),\"\"))","v":"$35.96 to $43.19"},{"$f":"CLEAN(TEXT(E35,\"$#,##0.00\")&\" \"&F35&\" \"&IF(G35<>\"\",TEXT(G35,\"$#,##0.00\"),\"\"))","v":"$22.12 to $26.57"},{"$f":"'2011'!K36","v":0.61499999999999999}]
["Town of Poestenkill",{"$f":"'2011'!H38","v":89.74},{"$f":"'2011'!I38","v":"to"},{"$f":"'2011'!J38","v":109.84},{"$f":"'2011'!L38","v":22.21},{"$f":"'2011'!M38","v":"to"},{"$f":"'2011'!N38","v":27.18},"$89.74 to $109.84","$22.21 to $27.18",{"$f":"'2011'!K38","v":0.2475}]
["City of Rensselaer",{"$f":"'2011'!H39","v":120.98},"",null,{"$f":"'2011'!L39","v":35.57},"",null,"$120.98  ","$35.57  ",{"$f":"'2011'!K39","v":0.29399999999999998}]
["Town of Sand Lake",{"$f":"'2011'!H40","v":23},{"$f":"'2011'!I40","v":"to"},{"$f":"'2011'!J40","v":23.69},{"$f":"'2011'!L40","v":23},{"$f":"'2011'!M40","v":"to"},{"$f":"'2011'!N40","v":23.69},"$23.00 to $23.69","$23.00 to $23.69",{"$f":"'2011'!K40","v":1}]
["Town of Schaghticoke",{"$f":"'2011'!H41","v":83.33},{"$f":"'2011'!I41","v":"to"},{"$f":"'2011'!J41","v":103.55},{"$f":"'2011'!L41","v":19.57},{"$f":"'2011'!M41","v":"to"},{"$f":"'2011'!N41","v":24.32},"$83.33 to $103.55","$19.57 to $24.32",{"$f":"'2011'!K41","v":0.23499999999999999}]
["Village of Schaghticoke",{"$f":"'2011'!H42","v":113.62},"",null,{"$f":"'2011'!L42","v":26.63},"",null,"$113.62  ","$26.63  ",{"$f":"'2011'!K42","v":0.23}]
["Town of Schodack",{"$f":"'2011'!H44","v":23.37},{"$f":"'2011'!I44","v":"to"},{"$f":"'2011'!J44","v":28.55},{"$f":"'2011'!L44","v":23.37},{"$f":"'2011'!M44","v":"to"},{"$f":"'2011'!N44","v":28.55},"$23.37 to $28.55","$23.37 to $28.55",{"$f":"'2011'!K44","v":1}]
["Village of Castleton-on-Hudson",{"$f":"'2011'!H45","v":33.909999999999997},"",null,{"$f":"'2011'!L45","v":31.34},"",null,"$33.91  ","$31.34  ",{"$f":"'2011'!K45","v":0.61170000000000002}]
["Town of Stephentown",{"$f":"'2011'!H47","v":65.81},{"$f":"'2011'!I47","v":"to"},{"$f":"'2011'!J47","v":78.989999999999995},{"$f":"'2011'!L47","v":19.739999999999998},{"$f":"'2011'!M47","v":"to"},{"$f":"'2011'!N47","v":23.7},"$65.81 to $78.99","$19.74 to $23.70",{"$f":"'2011'!K47","v":0.3}]
["City of Troy",{"$f":"'2011'!H48","v":237.1},{"$f":"'2011'!I48","v":"to"},{"$f":"'2011'!J48","v":254.65},{"$f":"'2011'!L48","v":31.41},{"$f":"'2011'!M48","v":"to"},{"$f":"'2011'!N48","v":33.74},"$237.10 to $254.65","$31.41 to $33.74",{"$f":"'2011'!K48","v":0.13250000000000001}]
["Saratoga County",{"$f":"'2011'!H49","v":12.27},{"$f":"'2011'!I49","v":"to"},{"$f":"'2011'!J49","v":220.95},{"$f":"'2011'!L49","v":7.47},{"$f":"'2011'!M49","v":"to"},{"$f":"'2011'!N49","v":32},"$12.27 to $220.95","$7.47 to $32.00","Not Applicable"]
["Village of Ballston Spa",{"$f":"'2011'!H51","v":95.16},"to",{"$f":"'2011'!H67","v":95.15},{"$f":"'2011'!L51","v":23.8},"to",{"$f":"'2011'!L67","v":24.02},"$95.16 to $95.15","$23.80 to $24.02",{"$f":"'2011'!K51","v":4.7300000000000002E-2}]
["Town of Ballston",{"$f":"'2011'!H50","v":20.45},{"$f":"'2011'!I50","v":"to"},{"$f":"'2011'!J50","v":22.58},{"$f":"'2011'!L50","v":18.809999999999999},{"$f":"'2011'!M50","v":"to"},{"$f":"'2011'!N50","v":20.77},"$20.45 to $22.58","$18.81 to $20.77",{"$f":"'2011'!K50","v":0.92}]
["Town of Charlton",{"$f":"'2011'!H52","v":20.82},{"$f":"'2011'!I52","v":"to"},{"$f":"'2011'!J52","v":29.92},{"$f":"'2011'!L52","v":14.57},{"$f":"'2011'!M52","v":"to"},{"$f":"'2011'!N52","v":20.94},"$20.82 to $29.92","$14.57 to $20.94",{"$f":"'2011'!K52","v":0.7}]
["Town of Clifton Park",{"$f":"'2011'!H53","v":32.590000000000003},{"$f":"'2011'!I53","v":"to"},{"$f":"'2011'!J53","v":35.97},{"$f":"'2011'!L53","v":18.899999999999999},{"$f":"'2011'!M53","v":"to"},{"$f":"'2011'!N53","v":20.86},"$32.59 to $35.97","$18.90 to $20.86",{"$f":"'2011'!K53","v":0.57999999999999996}]
["Town of Corinth",{"$f":"'2011'!H54","v":16.98},"",null,{"$f":"'2011'!L54","v":16.98},"",null,"$16.98  ","$16.98  ",{"$f":"'2011'!K54","v":1}]
["Village of Corinth",{"$f":"'2011'!H55","v":20.92},"",null,{"$f":"'2011'!L55","v":20.74},"",null,"$20.92  ","$20.74  ",{"$f":"'2011'!K55","v":0.97}]
["Town of Day",{"$f":"'2011'!H56","v":12.27},{"$f":"'2011'!I56","v":"to"},{"$f":"'2011'!J56","v":21.76},{"$f":"'2011'!L56","v":8.35},{"$f":"'2011'!M56","v":"to"},{"$f":"'2011'!N56","v":14.81},"$12.27 to $21.76","$8.35 to $14.81",{"$f":"'2011'!K56","v":0.68049999999999999}]
["Town of Edinburg",{"$f":"'2011'!H57","v":14.08},{"$f":"'2011'!I57","v":"to"},{"$f":"'2011'!J57","v":34.11},{"$f":"'2011'!L57","v":7.47},{"$f":"'2011'!M57","v":"to"},{"$f":"'2011'!N57","v":18.079999999999998},"$14.08 to $34.11","$7.47 to $18.08",{"$f":"'2011'!K57","v":0.53}]
["Town of Galway",{"$f":"'2011'!H58","v":28.63},{"$f":"'2011'!I58","v":"to"},{"$f":"'2011'!J58","v":34.67},{"$f":"'2011'!L58","v":15.17},{"$f":"'2011'!M58","v":"to"},{"$f":"'2011'!N58","v":18.37},"$28.63 to $34.67","$15.17 to $18.37",{"$f":"'2011'!K58","v":0.53}]
["Village of Galway",{"$f":"'2011'!H59","v":27.5},"",null,{"$f":"'2011'!L59","v":14.57},"",null,"$27.50  ","$14.57  ",{"$f":"'2011'!K59","v":0.53}]
["Town of Greenfield",{"$f":"'2011'!H60","v":14.64},{"$f":"'2011'!I60","v":"to"},{"$f":"'2011'!J60","v":15.74},{"$f":"'2011'!L60","v":14.64},{"$f":"'2011'!M60","v":"to"},{"$f":"'2011'!N60","v":15.74},"$14.64 to $15.74","$14.64 to $15.74",{"$f":"'2011'!K60","v":1}]
["Town of Hadley",{"$f":"'2011'!H61","v":20.88},{"$f":"'2011'!I61","v":"to"},{"$f":"'2011'!J61","v":23.26},{"$f":"'2011'!L61","v":15.67},{"$f":"'2011'!M61","v":"to"},{"$f":"'2011'!N61","v":17.45},"$20.88 to $23.26","$15.67 to $17.45",{"$f":"'2011'!K61","v":0.75}]
["Town of Halfmoon",{"$f":"'2011'!H62","v":29.98},{"$f":"'2011'!I62","v":"to"},{"$f":"'2011'!J62","v":39.81},{"$f":"'2011'!L62","v":17.989999999999998},{"$f":"'2011'!M62","v":"to"},{"$f":"'2011'!N62","v":23.89},"$29.98 to $39.81","$17.99 to $23.89",{"$f":"'2011'!K62","v":0.6}]
["Town of Malta",{"$f":"'2011'!H63","v":14.28},{"$f":"'2011'!I63","v":"to"},{"$f":"'2011'!J63","v":20.34},{"$f":"'2011'!L63","v":14.28},{"$f":"'2011'!M63","v":"to"},{"$f":"'2011'!N63","v":20.34},"$14.28 to $20.34","$14.28 to $20.34",{"$f":"'2011'!K63","v":1}]
["Village of Round Lake",{"$f":"'2011'!H64","v":23.12},"",null,{"$f":"'2011'!L64","v":23.12},"",null,"$23.12  ","$23.12  ",{"$f":"'2011'!K64","v":1}]
["City of Mechanicville",{"$f":"'2011'!H65","v":39.31},"",null,{"$f":"'2011'!L65","v":27.53},"",null,"$39.31  ","$27.53  ",{"$f":"'2011'!K65","v":0.7}]
["Town of Milton",{"$f":"'2011'!H66","v":15.78},{"$f":"'2011'!I66","v":"to"},{"$f":"'2011'!J66","v":22.19},{"$f":"'2011'!L66","v":14.68},{"$f":"'2011'!M66","v":"to"},{"$f":"'2011'!N66","v":20.64},"$15.78 to $22.19","$14.68 to $20.64",{"$f":"'2011'!K66","v":0.93}]
["Town of Moreau",{"$f":"'2011'!H68","v":16.260000000000002},{"$f":"'2011'!I68","v":"to"},{"$f":"'2011'!J68","v":16.59},{"$f":"'2011'!L68","v":16.260000000000002},{"$f":"'2011'!M68","v":"to"},{"$f":"'2011'!N68","v":16.59},"$16.26 to $16.59","$16.26 to $16.59",{"$f":"'2011'!K68","v":1}]
["Village of South Glens Falls",{"$f":"'2011'!H69","v":31.79},"",null,{"$f":"'2011'!L69","v":22.06},"",null,"$31.79  ","$22.06  ",{"$f":"'2011'!K69","v":0.35120000000000001}]
["Town of Northumberland",{"$f":"'2011'!H70","v":17.66},{"$f":"'2011'!I70","v":"to"},{"$f":"'2011'!J70","v":22.96},{"$f":"'2011'!L70","v":17.66},{"$f":"'2011'!M70","v":"to"},{"$f":"'2011'!N70","v":22.96},"$17.66 to $22.96","$17.66 to $22.96",{"$f":"'2011'!K70","v":1}]
["Town of Providence",{"$f":"'2011'!H71","v":91.21},{"$f":"'2011'!I71","v":"to"},{"$f":"'2011'!J71","v":107.05},{"$f":"'2011'!L71","v":18.420000000000002},{"$f":"'2011'!M71","v":"to"},{"$f":"'2011'!N71","v":21.62},"$91.21 to $107.05","$18.42 to $21.62",{"$f":"'2011'!K71","v":0.20200000000000001}]
["Town of Saratoga",{"$f":"'2011'!H72","v":23.57},{"$f":"'2011'!I72","v":"to"},{"$f":"'2011'!J72","v":34.28},{"$f":"'2011'!L72","v":15.55},{"$f":"'2011'!M72","v":"to"},{"$f":"'2011'!N72","v":22.62},{"$f":"CLEAN(TEXT(B67,\"$#,##0.00\")&\" \"&C67&\" \"&IF(D67<>\"\",TEXT(D67,\"$#,##0.00\"),\"\"))","v":"$23.57 to $34.28"},{"$f":"CLEAN(TEXT(E67,\"$#,##0.00\")&\" \"&F67&\" \"&IF(G67<>\"\",TEXT(G67,\"$#,##0.00\"),\"\"))","v":"$15.55 to $22.62"},{"$f":"'2011'!K72","v":0.66}]
["Village of Schuylerville",{"$f":"'2011'!H73","v":34.28},"",null,{"$f":"'2011'!L73","v":22.62},"",null,"$34.28  ","$22.62  ",{"$f":"'2011'!K73","v":0}]
["Village of Victory",{"$f":"'2011'!H74","v":34.28},"",null,{"$f":"'2011'!L74","v":22.62},"",null,"$34.28  ","$22.62  ",{"$f":"'2011'!K74","v":0}]
["City of Saratoga Springs",{"$f":"'2011'!H75","v":23.77},"",null,{"$f":"'2011'!L75","v":19.489999999999998},"",null,"$23.77  ","$19.49  ",{"$f":"'2011'!K75","v":0.82}]
["Town of Stillwater",{"$f":"'2011'!H76","v":18.12},{"$f":"'2011'!I76","v":"to"},{"$f":"'2011'!J76","v":25.57},{"$f":"'2011'!L76","v":17.22},{"$f":"'2011'!M76","v":"to"},{"$f":"'2011'!N76","v":24.3},"$18.12 to $25.57","$17.22 to $24.30",{"$f":"'2011'!K76","v":0.95}]
["Village of Stillwater",{"$f":"'2011'!H77","v":20.059999999999999},"",null,{"$f":"'2011'!L77","v":18.93},"",null,"$20.06  ","$18.93  ",{"$f":"'2011'!K77","v":0.91}]
["Town of Waterford",{"$f":"'2011'!H78","v":66.95},{"$f":"'2011'!I78","v":"to"},{"$f":"'2011'!J78","v":81.96},{"$f":"'2011'!L78","v":22.76},{"$f":"'2011'!M78","v":"to"},{"$f":"'2011'!N78","v":27.86},"$66.95 to $81.96","$22.76 to $27.86",{"$f":"'2011'!K78","v":0.34}]
["Village of Waterford",{"$f":"'2011'!H79","v":220.95},"",null,{"$f":"'2011'!L79","v":32},"",null,"$220.95  ","$32.00  ",{"$f":"'2011'!K79","v":2.98E-2}]
["Town of Wilton",{"$f":"'2011'!H80","v":13.41},{"$f":"'2011'!I80","v":"to"},{"$f":"'2011'!J80","v":21.48},{"$f":"'2011'!L80","v":13.41},{"$f":"'2011'!M80","v":"to"},{"$f":"'2011'!N80","v":21.48},"$13.41 to $21.48","$13.41 to $21.48",{"$f":"'2011'!K80","v":1}]
["Schenectady County",{"$f":"'2011'!H81","v":23.53},{"$f":"'2011'!I81","v":"to"},{"$f":"'2011'!J81","v":89.39},{"$f":"'2011'!L81","v":21.41},{"$f":"'2011'!M81","v":"to"},{"$f":"'2011'!N81","v":40.75},"$23.53 to $89.39","$21.41 to $40.75","Not Applicable"]
["Town of Duanesburg",{"$f":"'2011'!H82","v":77.819999999999993},{"$f":"'2011'!I82","v":"to"},{"$f":"'2011'!J82","v":87.23},{"$f":"'2011'!L82","v":24.36},{"$f":"'2011'!M82","v":"to"},{"$f":"'2011'!N82","v":26.69},"$77.82 to $87.23","$24.36 to $26.69",{"$f":"'2011'!K82","v":0.3145}]
["Village of Delanson",{"$f":"'2011'!H83","v":89.39},"",null,{"$f":"'2011'!L83","v":24.94},"",null,"$89.39  ","$24.94  ",{"$f":"'2011'!K83","v":0.2661}]
["Town of Glenville",{"$f":"'2011'!H84","v":23.53},{"$f":"'2011'!I84","v":"to"},{"$f":"'2011'!J84","v":30.53},{"$f":"'2011'!L84","v":21.41},{"$f":"'2011'!M84","v":"to"},{"$f":"'2011'!N84","v":27.78},"$23.53 to $30.53","$21.41 to $27.78",{"$f":"'2011'!K84","v":0.91}]
["Village of Scotia",{"$f":"'2011'!H85","v":38.24},"",null,{"$f":"'2011'!L85","v":32.97},"",null,"$38.24  ","$32.97  ",{"$f":"'2011'!K85","v":0.85}]
["Town of Niskayuna",{"$f":"'2011'!H86","v":25.12},{"$f":"'2011'!I86","v":"to"},{"$f":"'2011'!J86","v":26.63},{"$f":"'2011'!L86","v":25.12},{"$f":"'2011'!M86","v":"to"},{"$f":"'2011'!N86","v":26.63},"$25.12 to $26.63","$25.12 to $26.63",{"$f":"'2011'!K86","v":1}]
["Town of Princetown",{"$f":"'2011'!H87","v":72.41},{"$f":"'2011'!I87","v":"to"},{"$f":"'2011'!J87","v":76.94},{"$f":"'2011'!L87","v":23.35},{"$f":"'2011'!M87","v":"to"},{"$f":"'2011'!N87","v":24.81},"$72.41 to $76.94","$23.35 to $24.81",{"$f":"'2011'!K87","v":0.32250000000000001}]
["Town of Rotterdam",{"$f":"'2011'!H88","v":25.84},{"$f":"'2011'!I88","v":"to"},{"$f":"'2011'!J88","v":31.55},{"$f":"'2011'!L88","v":25.84},{"$f":"'2011'!M88","v":"to"},{"$f":"'2011'!N88","v":31.55},"$25.84 to $31.55","$25.84 to $31.55",{"$f":"'2011'!K88","v":1}]
["City of Schenectady",{"$f":"'2011'!H89","v":40.75},"",null,{"$f":"'2011'!L89","v":40.75},"",null,"$40.75  ","$40.75  ",{"$f":"'2011'!K89","v":1}]
["Capital District",{"$f":"'2011'!H90","v":12.27},{"$f":"'2011'!I90","v":"to"},{"$f":"'2011'!J90","v":2689.43},{"$f":"'2011'!L90","v":7.47},{"$f":"'2011'!M90","v":"to"},{"$f":"'2011'!N90","v":40.75},"$12.27 to $2,689.43","$7.47 to $40.75","Not Applicable"]

{"sheet":"2011 SD_Chart_Data","index":27,"n_rows":281,"n_cols":4,"rows_kept":281,"cut":false,"hidden":false,"merged":[]}
[null,{"$f":"LEFT(DN_Table11!C2,4)&\" \"&DN_Table11!M2","v":"2011 Total Overall"}]
[null,"Full Value Range:"]
["City, Town, or Village","Rate per $1,000"]
[{"$f":"'2011 SD'!A7","v":"Albany County"},{"$f":"'2011 SD'!L7","v":17.61},{"$f":"IF(OR(D4=0,(D4-B4)<0.15),0.15,D4-B4)","v":18.79},{"$f":"'2011 SD'!N7","v":36.4}]
[{"$f":"'2011 SD'!A8","v":"City of Albany"},{"$f":"'2011 SD'!L8","v":36.4},0.15,{"$f":"'2011 SD'!N8","v":0}]
[{"$f":"'2011 SD'!A9","v":"Albany City SD"},{"$f":"'2011 SD'!L9","v":36.4},0.15,{"$f":"'2011 SD'!N9","v":0}]
[{"$f":"'2011 SD'!A10","v":"Town of Berne"},{"$f":"'2011 SD'!L10","v":23.5},0.89999999999999858,{"$f":"'2011 SD'!N10","v":24.4}]
[{"$f":"'2011 SD'!A11","v":"Berne-Knox-Westerlo CSD"},{"$f":"'2011 SD'!L11","v":23.54},0.15,{"$f":"'2011 SD'!N11","v":0}]
[{"$f":"'2011 SD'!A12","v":"Greenville CSD"},{"$f":"'2011 SD'!L12","v":23.5},0.15,{"$f":"'2011 SD'!N12","v":0}]
[{"$f":"'2011 SD'!A13","v":"Middleburgh CSD"},{"$f":"'2011 SD'!L13","v":24.4},0.15,{"$f":"'2011 SD'!N13","v":0}]
[{"$f":"'2011 SD'!A14","v":"Voorheesville CSD"},{"$f":"'2011 SD'!L14","v":23.9},0.15,{"$f":"'2011 SD'!N14","v":0}]
[{"$f":"'2011 SD'!A15","v":"Town of Bethlehem"},{"$f":"'2011 SD'!L15","v":22.94},2.2899999999999991,{"$f":"'2011 SD'!N15","v":25.23}]
[{"$f":"'2011 SD'!A16","v":"Bethlehem CSD"},{"$f":"'2011 SD'!L16","v":25.23},0.15,{"$f":"'2011 SD'!N16","v":0}]
[{"$f":"'2011 SD'!A17","v":"Guilderland CSD"},{"$f":"'2011 SD'!L17","v":22.94},0.15,{"$f":"'2011 SD'!N17","v":0}]
[{"$f":"'2011 SD'!A18","v":"Ravena-Coeymans-Selkirk CSD"},{"$f":"'2011 SD'!L18","v":23.71},0.15,{"$f":"'2011 SD'!N18","v":0}]
[{"$f":"'2011 SD'!A19","v":"Town of Coeymans"},{"$f":"'2011 SD'!L19","v":23.51},1.3399999999999999,{"$f":"'2011 SD'!N19","v":24.85}]
[{"$f":"'2011 SD'!A20","v":"Greenville CSD"},{"$f":"'2011 SD'!L20","v":23.51},0.15,{"$f":"'2011 SD'!N20","v":0}]
[{"$f":"'2011 SD'!A21","v":"Ravena-Coeymans-Selkirk CSD"},{"$f":"'2011 SD'!L21","v":24.85},0.15,{"$f":"'2011 SD'!N21","v":0}]
[{"$f":"'2011 SD'!A22","v":"Village of Ravena"},{"$f":"'2011 SD'!L22","v":29.31},0.15,{"$f":"'2011 SD'!N22","v":0}]
[{"$f":"'2011 SD'!A23","v":"Ravena-Coeymans-Selkirk CSD"},{"$f":"'2011 SD'!L23","v":29.31},0.15,{"$f":"'2011 SD'!N23","v":0}]
[{"$f":"'2011 SD'!A24","v":"City of Cohoes"},{"$f":"'2011 SD'!L24","v":30.03},0.15,{"$f":"'2011 SD'!N24","v":0}]
[{"$f":"'2011 SD'!A25","v":"Cohoes City SD"},{"$f":"'2011 SD'!L25","v":30.03},0.15,{"$f":"'2011 SD'!N25","v":0}]
[{"$f":"'2011 SD'!A26","v":"Town of Colonie"},{"$f":"'2011 SD'!L26","v":17.61},7.8000000000000007,{"$f":"'2011 SD'!N26","v":25.41}]
[{"$f":"'2011 SD'!A27","v":"Menands UFSD"},{"$f":"'2011 SD'!L27","v":21.24},0.15,{"$f":"'2011 SD'!N27","v":0}]
[{"$f":"'2011 SD'!A28","v":"Niskayuna CSD"},{"$f":"'2011 SD'!L28","v":25.41},0.15,{"$f":"'2011 SD'!N28","v":0}]
[{"$f":"'2011 SD'!A29","v":"North Colonie CSD"},{"$f":"'2011 SD'!L29","v":19.82},0.15,{"$f":"'2011 SD'!N29","v":0}]
[{"$f":"'2011 SD'!A30","v":"Rotterdam-Mohonasen CSD"},{"$f":"'2011 SD'!L30","v":20.399999999999999},0.15,{"$f":"'2011 SD'!N30","v":0}]
[{"$f":"'2011 SD'!A31","v":"South Colonie CSD"},{"$f":"'2011 SD'!L31","v":21.32},0.15,{"$f":"'2011 SD'!N31","v":0}]
[{"$f":"'2011 SD'!A32","v":"Watervliet City SD"},{"$f":"'2011 SD'!L32","v":17.61},0.15,{"$f":"'2011 SD'!N32","v":0}]
[{"$f":"'2011 SD'!A33","v":"Village of Colonie"},{"$f":"'2011 SD'!L33","v":22.66},0.15,{"$f":"'2011 SD'!N33","v":0}]
[{"$f":"'2011 SD'!A34","v":"South Colonie CSD"},{"$f":"'2011 SD'!L34","v":22.66},0.15,{"$f":"'2011 SD'!N34","v":0}]
[{"$f":"'2011 SD'!A35","v":"Village of Menands"},{"$f":"'2011 SD'!L35","v":25.36},0.15,{"$f":"'2011 SD'!N35","v":0}]
[{"$f":"'2011 SD'!A36","v":"Menands UFSD"},{"$f":"'2011 SD'!L36","v":25.36},0.15,{"$f":"'2011 SD'!N36","v":0}]
[{"$f":"'2011 SD'!A38","v":"Village of Green Island"},{"$f":"'2011 SD'!L38","v":32.270000000000003},0.15,{"$f":"'2011 SD'!N38","v":0}]
[{"$f":"'2011 SD'!A39","v":"Green Island UFSD"},{"$f":"'2011 SD'!L39","v":32.270000000000003},0.15,{"$f":"'2011 SD'!N39","v":0}]
[{"$f":"'2011 SD'!A40","v":"Town of Guilderland"},{"$f":"'2011 SD'!L40","v":19.41},2.7600000000000016,{"$f":"'2011 SD'!N40","v":22.17}]
[{"$f":"'2011 SD'!A41","v":"Guilderland CSD"},{"$f":"'2011 SD'!L41","v":22.17},0.15,{"$f":"'2011 SD'!N41","v":0}]
[{"$f":"'2011 SD'!A42","v":"Rotterdam-Mohonasen CSD"},{"$f":"'2011 SD'!L42","v":19.41},0.15,{"$f":"'2011 SD'!N42","v":0}]
[{"$f":"'2011 SD'!A43","v":"Schalmont CSD"},{"$f":"'2011 SD'!L43","v":22.17},0.15,{"$f":"'2011 SD'!N43","v":0}]
[{"$f":"'2011 SD'!A44","v":"South Colonie CSD"},{"$f":"'2011 SD'!L44","v":20.329999999999998},0.15,{"$f":"'2011 SD'!N44","v":0}]
[{"$f":"'2011 SD'!A45","v":"Voorheesville CSD"},{"$f":"'2011 SD'!L45","v":22},0.15,{"$f":"'2011 SD'!N45","v":0}]
[{"$f":"'2011 SD'!A46","v":"Village of Altamont"},{"$f":"'2011 SD'!L46","v":23.45},0.15,{"$f":"'2011 SD'!N46","v":0}]
[{"$f":"'2011 SD'!A47","v":"Guilderland CSD"},{"$f":"'2011 SD'!L47","v":23.45},0.15,{"$f":"'2011 SD'!N47","v":0}]
[{"$f":"'2011 SD'!A48","v":"Town of Knox"},{"$f":"'2011 SD'!L48","v":21.19},2.2199999999999989,{"$f":"'2011 SD'!N48","v":23.41}]
[{"$f":"'2011 SD'!A49","v":"Berne-Knox-Westerlo CSD"},{"$f":"'2011 SD'!L49","v":21.62},0.15,{"$f":"'2011 SD'!N49","v":0}]
[{"$f":"'2011 SD'!A50","v":"Duanesburg CSD"},{"$f":"'2011 SD'!L50","v":21.19},0.15,{"$f":"'2011 SD'!N50","v":0}]
[{"$f":"'2011 SD'!A51","v":"Guilderland CSD"},{"$f":"'2011 SD'!L51","v":22.15},0.15,{"$f":"'2011 SD'!N51","v":0}]
[{"$f":"'2011 SD'!A52","v":"Schoharie CSD"},{"$f":"'2011 SD'!L52","v":23.41},0.15,{"$f":"'2011 SD'!N52","v":0}]
[{"$f":"'2011 SD'!A53","v":"Town of New Scotland"},{"$f":"'2011 SD'!L53","v":22.15},2.860000000000003,{"$f":"'2011 SD'!N53","v":25.01}]
[{"$f":"'2011 SD'!A54","v":"Berne-Knox-Westerlo CSD"},{"$f":"'2011 SD'!L54","v":22.19},0.15,{"$f":"'2011 SD'!N54","v":0}]
[{"$f":"'2011 SD'!A55","v":"Bethlehem CSD"},{"$f":"'2011 SD'!L55","v":25.01},0.15,{"$f":"'2011 SD'!N55","v":0}]
[{"$f":"'2011 SD'!A56","v":"Greenville CSD"},{"$f":"'2011 SD'!L56","v":22.15},0.15,{"$f":"'2011 SD'!N56","v":0}]
[{"$f":"'2011 SD'!A57","v":"Guilderland CSD"},{"$f":"'2011 SD'!L57","v":22.77},0.15,{"$f":"'2011 SD'!N57","v":0}]
[{"$f":"'2011 SD'!A58","v":"Ravena-Coeymans-Selkirk CSD"},{"$f":"'2011 SD'!L58","v":23.49},0.15,{"$f":"'2011 SD'!N58","v":0}]
[{"$f":"'2011 SD'!A59","v":"Voorheesville CSD"},{"$f":"'2011 SD'!L59","v":22.55},0.15,{"$f":"'2011 SD'!N59","v":0}]
[{"$f":"'2011 SD'!A60","v":"Village of Voorheesville"},{"$f":"'2011 SD'!L60","v":23.15},0.15,{"$f":"'2011 SD'!N60","v":0}]
[{"$f":"'2011 SD'!A61","v":"Voorheesville CSD"},{"$f":"'2011 SD'!L61","v":23.15},0.15,{"$f":"'2011 SD'!N61","v":0}]
[{"$f":"'2011 SD'!A62","v":"Town of Rensselaerville"},{"$f":"'2011 SD'!L62","v":19.28},6.3599999999999994,{"$f":"'2011 SD'!N62","v":25.64}]
[{"$f":"'2011 SD'!A63","v":"Berne-Knox-Westerlo CSD"},{"$f":"'2011 SD'!L63","v":24.76},0.15,{"$f":"'2011 SD'!N63","v":0}]
[{"$f":"'2011 SD'!A64","v":"Cairo-Durham CSD"},{"$f":"'2011 SD'!L64","v":19.28},0.15,{"$f":"'2011 SD'!N64","v":0}]
[{"$f":"'2011 SD'!A65","v":"Greenville CSD"},{"$f":"'2011 SD'!L65","v":24.73},0.15,{"$f":"'2011 SD'!N65","v":0}]
[{"$f":"'2011 SD'!A66","v":"Middleburgh CSD"},{"$f":"'2011 SD'!L66","v":25.64},0.15,{"$f":"'2011 SD'!N66","v":0}]
[{"$f":"'2011 SD'!A67","v":"City of Watervliet"},{"$f":"'2011 SD'!L67","v":25.24},0.15,{"$f":"'2011 SD'!N67","v":0}]
[{"$f":"'2011 SD'!A68","v":"Watervliet City SD"},{"$f":"'2011 SD'!L68","v":25.24},0.15,{"$f":"'2011 SD'!N68","v":0}]
[{"$f":"'2011 SD'!A69","v":"Town of Westerlo"},{"$f":"'2011 SD'!L69","v":22.83},0.15,{"$f":"'2011 SD'!N69","v":22.87}]
[{"$f":"'2011 SD'!A70","v":"Berne-Knox-Westerlo CSD"},{"$f":"'2011 SD'!L70","v":22.87},0.15,{"$f":"'2011 SD'!N70","v":0}]
[{"$f":"'2011 SD'!A71","v":"Greenville CSD"},{"$f":"'2011 SD'!L71","v":22.83},0.15,{"$f":"'2011 SD'!N71","v":0}]
[{"$f":"'2011 SD'!A72","v":"Rensselaer County"},{"$f":"'2011 SD'!L72","v":14.6},{"$f":"IF(OR(D68=0,(D68-B68)<0.15),0.15,D68-B68)","v":20.97},{"$f":"'2011 SD'!N72","v":35.57}]
[{"$f":"'2011 SD'!A73","v":"Town of Berlin"},{"$f":"'2011 SD'!L73","v":21.94},1.6600000000000001,{"$f":"'2011 SD'!N73","v":23.6}]
[{"$f":"'2011 SD'!A74","v":"Averill Park CSD"},{"$f":"'2011 SD'!L74","v":23.6},0.15,{"$f":"'2011 SD'!N74","v":0}]
[{"$f":"'2011 SD'!A75","v":"Berlin CSD"},{"$f":"'2011 SD'!L75","v":21.94},0.15,{"$f":"'2011 SD'!N75","v":0}]
[{"$f":"'2011 SD'!A76","v":"Town of Brunswick"},{"$f":"'2011 SD'!L76","v":23.2},3.3599999999999994,{"$f":"'2011 SD'!N76","v":26.56}]
[{"$f":"'2011 SD'!A77","v":"Averill Park CSD"},{"$f":"'2011 SD'!L77","v":23.29},0.15,{"$f":"'2011 SD'!N77","v":0}]
[{"$f":"'2011 SD'!A78","v":"Brunswick CSD"},{"$f":"'2011 SD'!L78","v":24.38},0.15,{"$f":"'2011 SD'!N78","v":0}]
[{"$f":"'2011 SD'!A79","v":"Lansingburgh CSD"},{"$f":"'2011 SD'!L79","v":23.2},0.15,{"$f":"'2011 SD'!N79","v":0}]
[{"$f":"'2011 SD'!A80","v":"Troy City SD"},{"$f":"'2011 SD'!L80","v":25.79},0.15,{"$f":"'2011 SD'!N80","v":0}]
[{"$f":"'2011 SD'!A81","v":"Wynantskill UFSD"},{"$f":"'2011 SD'!L81","v":26.56},0.15,{"$f":"'2011 SD'!N81","v":0}]
[{"$f":"'2011 SD'!A82","v":"Town of East Greenbush"},{"$f":"'2011 SD'!L82","v":25.23},1.8599999999999994,{"$f":"'2011 SD'!N82","v":27.09}]
[{"$f":"'2011 SD'!A83","v":"Averill Park CSD"},{"$f":"'2011 SD'!L83","v":25.23},0.15,{"$f":"'2011 SD'!N83","v":0}]
[{"$f":"'2011 SD'!A84","v":"East Greenbush CSD"},{"$f":"'2011 SD'!L84","v":27.09},0.15,{"$f":"'2011 SD'!N84","v":0}]
[{"$f":"'2011 SD'!A85","v":"Town of Grafton"},{"$f":"'2011 SD'!L85","v":23.02},3,{"$f":"'2011 SD'!N85","v":26.02}]
[{"$f":"'2011 SD'!A86","v":"Berlin CSD"},{"$f":"'2011 SD'!L86","v":23.02},0.15,{"$f":"'2011 SD'!N86","v":0}]
[{"$f":"'2011 SD'!A87","v":"Brunswick CSD"},{"$f":"'2011 SD'!L87","v":25.77},0.15,{"$f":"'2011 SD'!N87","v":0}]
[{"$f":"'2011 SD'!A88","v":"Hoosick Falls CSD"},{"$f":"'2011 SD'!L88","v":26.02},0.15,{"$f":"'2011 SD'!N88","v":0}]
[{"$f":"'2011 SD'!A89","v":"Town of Hoosick"},{"$f":"'2011 SD'!L89","v":21.57},4.4499999999999993,{"$f":"'2011 SD'!N89","v":26.02}]
[{"$f":"'2011 SD'!A90","v":"Cambridge CSD"},{"$f":"'2011 SD'!L90","v":21.57},0.15,{"$f":"'2011 SD'!N90","v":0}]
[{"$f":"'2011 SD'!A91","v":"Hoosick Falls CSD"},{"$f":"'2011 SD'!L91","v":26.02},0.15,{"$f":"'2011 SD'!N91","v":0}]
[{"$f":"'2011 SD'!A92","v":"Village of Hoosick Falls"},{"$f":"'2011 SD'!L92","v":32.53},0.15,{"$f":"'2011 SD'!N92","v":0}]
[{"$f":"'2011 SD'!A93","v":"Hoosick Falls CSD"},{"$f":"'2011 SD'!L93","v":32.53},0.15,{"$f":"'2011 SD'!N93","v":0}]
[{"$f":"'2011 SD'!A94","v":"Town of Nassau"},{"$f":"'2011 SD'!L94","v":20.16},5.4600000000000009,{"$f":"'2011 SD'!N94","v":25.62}]
[{"$f":"'2011 SD'!A95","v":"Averill Park CSD"},{"$f":"'2011 SD'!L95","v":24.12},0.15,{"$f":"'2011 SD'!N95","v":0}]
[{"$f":"'2011 SD'!A96","v":"East Greenbush CSD"},{"$f":"'2011 SD'!L96","v":25.62},0.15,{"$f":"'2011 SD'!N96","v":0}]
[{"$f":"'2011 SD'!A97","v":"Kinderhook CSD"},{"$f":"'2011 SD'!L97","v":21.94},0.15,{"$f":"'2011 SD'!N97","v":0}]
[{"$f":"'2011 SD'!A98","v":"New Lebanon CSD"},{"$f":"'2011 SD'!L98","v":20.16},0.15,{"$f":"'2011 SD'!N98","v":0}]
[{"$f":"'2011 SD'!A99","v":"Village of East Nassau"},{"$f":"'2011 SD'!L99","v":19.260000000000002},5.4599999999999973,{"$f":"'2011 SD'!N99","v":24.72}]
[{"$f":"'2011 SD'!A100","v":"Averill Park CSD"},{"$f":"'2011 SD'!L100","v":23.22},0.15,{"$f":"'2011 SD'!N100","v":0}]
[{"$f":"'2011 SD'!A101","v":"East Greenbush CSD"},{"$f":"'2011 SD'!L101","v":24.72},0.15,{"$f":"'2011 SD'!N101","v":0}]
[{"$f":"'2011 SD'!A102","v":"New Lebanon CSD"},{"$f":"'2011 SD'!L102","v":19.260000000000002},0.15,{"$f":"'2011 SD'!N102","v":0}]
[{"$f":"'2011 SD'!A103","v":"Village of Nassau (part)"},{"$f":"'2011 SD'!L103","v":28.29},0.15,{"$f":"'2011 SD'!N103","v":0}]
[{"$f":"'2011 SD'!A104","v":"East Greenbush CSD"},{"$f":"'2011 SD'!L104","v":28.29},0.15,{"$f":"'2011 SD'!N104","v":0}]
[{"$f":"'2011 SD'!A105","v":"Town of North Greenbush"},{"$f":"'2011 SD'!L105","v":14.6},12.840000000000002,{"$f":"'2011 SD'!N105","v":27.44}]
[{"$f":"'2011 SD'!A106","v":"Averill Park CSD"},{"$f":"'2011 SD'!L106","v":24.13},0.15,{"$f":"'2011 SD'!N106","v":0}]
[{"$f":"'2011 SD'!A107","v":"East Greenbush CSD"},{"$f":"'2011 SD'!L107","v":25.81},0.15,{"$f":"'2011 SD'!N107","v":0}]
[{"$f":"'2011 SD'!A108","v":"North Greenbush Common SD"},{"$f":"'2011 SD'!L108","v":14.6},0.15,{"$f":"'2011 SD'!N108","v":0}]
[{"$f":"'2011 SD'!A109","v":"Wynantskill UFSD"},{"$f":"'2011 SD'!L109","v":27.44},0.15,{"$f":"'2011 SD'!N109","v":0}]
[{"$f":"'2011 SD'!A110","v":"Town of Petersburgh"},{"$f":"'2011 SD'!L110","v":24.12},2.9899999999999984,{"$f":"'2011 SD'!N110","v":27.11}]
[{"$f":"'2011 SD'!A111","v":"Berlin CSD"},{"$f":"'2011 SD'!L111","v":24.12},0.15,{"$f":"'2011 SD'!N111","v":0}]
[{"$f":"'2011 SD'!A112","v":"Hoosick Falls CSD"},{"$f":"'2011 SD'!L112","v":27.11},0.15,{"$f":"'2011 SD'!N112","v":0}]
[{"$f":"'2011 SD'!A113","v":"Town of Pittstown"},{"$f":"'2011 SD'!L113","v":22.12},4.4499999999999993,{"$f":"'2011 SD'!N113","v":26.57}]
[{"$f":"'2011 SD'!A114","v":"Brunswick CSD"},{"$f":"'2011 SD'!L114","v":26.34},0.15,{"$f":"'2011 SD'!N114","v":0}]
[{"$f":"'2011 SD'!A115","v":"Cambridge CSD"},{"$f":"'2011 SD'!L115","v":22.12},0.15,{"$f":"'2011 SD'!N115","v":0}]
[{"$f":"'2011 SD'!A116","v":"Hoosic Valley CSD"},{"$f":"'2011 SD'!L116","v":25.65},0.15,{"$f":"'2011 SD'!N116","v":0}]
[{"$f":"'2011 SD'!A117","v":"Hoosick Falls CSD"},{"$f":"'2011 SD'!L117","v":26.57},0.15,{"$f":"'2011 SD'!N117","v":0}]
[{"$f":"'2011 SD'!A118","v":"Lansingburgh CSD"},{"$f":"'2011 SD'!L118","v":25.16},0.15,{"$f":"'2011 SD'!N118","v":0}]
[{"$f":"'2011 SD'!A119","v":"Village of Valley Falls (part)"},{"$f":"'2011 SD'!L119","v":26.15},0.15,{"$f":"'2011 SD'!N119","v":0}]
[{"$f":"'2011 SD'!A120","v":"Hoosic Valley CSD"},{"$f":"'2011 SD'!L120","v":26.15},0.15,{"$f":"'2011 SD'!N120","v":0}]
[{"$f":"'2011 SD'!A121","v":"Town of Poestenkill"},{"$f":"'2011 SD'!L121","v":22.21},4.9699999999999989,{"$f":"'2011 SD'!N121","v":27.18}]
[{"$f":"'2011 SD'!A122","v":"Averill Park CSD"},{"$f":"'2011 SD'!L122","v":23.87},0.15,{"$f":"'2011 SD'!N122","v":0}]
[{"$f":"'2011 SD'!A123","v":"Berlin CSD"},{"$f":"'2011 SD'!L123","v":22.21},0.15,{"$f":"'2011 SD'!N123","v":0}]
[{"$f":"'2011 SD'!A124","v":"Brunswick CSD"},{"$f":"'2011 SD'!L124","v":24.96},0.15,{"$f":"'2011 SD'!N124","v":0}]
[{"$f":"'2011 SD'!A125","v":"Wynantskill UFSD"},{"$f":"'2011 SD'!L125","v":27.18},0.15,{"$f":"'2011 SD'!N125","v":0}]
[{"$f":"'2011 SD'!A126","v":"City of Rensselaer"},{"$f":"'2011 SD'!L126","v":35.57},0.15,{"$f":"'2011 SD'!N126","v":0}]
[{"$f":"'2011 SD'!A127","v":"Rensselaer City SD"},{"$f":"'2011 SD'!L127","v":35.57},0.15,{"$f":"'2011 SD'!N127","v":0}]
[{"$f":"'2011 SD'!A128","v":"Town of Sand Lake"},{"$f":"'2011 SD'!L128","v":23},0.69000000000000128,{"$f":"'2011 SD'!N128","v":23.69}]
[{"$f":"'2011 SD'!A129","v":"Averill Park CSD"},{"$f":"'2011 SD'!L129","v":23},0.15,{"$f":"'2011 SD'!N129","v":0}]
[{"$f":"'2011 SD'!A130","v":"East Greenbush CSD"},{"$f":"'2011 SD'!L130","v":23.69},0.15,{"$f":"'2011 SD'!N130","v":0}]
[{"$f":"'2011 SD'!A131","v":"Town of Schaghticoke"},{"$f":"'2011 SD'!L131","v":19.57},4.75,{"$f":"'2011 SD'!N131","v":24.32}]
[{"$f":"'2011 SD'!A132","v":"Brunswick CSD"},{"$f":"'2011 SD'!L132","v":24.32},0.15,{"$f":"'2011 SD'!N132","v":0}]
[{"$f":"'2011 SD'!A133","v":"Cambridge CSD"},{"$f":"'2011 SD'!L133","v":20.100000000000001},0.15,{"$f":"'2011 SD'!N133","v":0}]
[{"$f":"'2011 SD'!A134","v":"Hoosic Valley CSD"},{"$f":"'2011 SD'!L134","v":23.63},0.15,{"$f":"'2011 SD'!N134","v":0}]
[{"$f":"'2011 SD'!A135","v":"Lansingburgh CSD"},{"$f":"'2011 SD'!L135","v":23.14},0.15,{"$f":"'2011 SD'!N135","v":0}]
[{"$f":"'2011 SD'!A136","v":"Mechanicville City SD"},{"$f":"'2011 SD'!L136","v":23.14},{"$f":"IF(OR(D132=0,(D132-B132)<0.15),0.15,D132-B132)","v":0.15},{"$f":"'2011 SD'!N136","v":0}]
[{"$f":"'2011 SD'!A137","v":"Stillwater CSD"},{"$f":"'2011 SD'!L137","v":19.57},0.15,{"$f":"'2011 SD'!N137","v":0}]
[{"$f":"'2011 SD'!A138","v":"Village of Schaghticoke"},{"$f":"'2011 SD'!L138","v":26.63},0.15,{"$f":"'2011 SD'!N138","v":0}]
[{"$f":"'2011 SD'!A139","v":"Hoosic Valley CSD"},{"$f":"'2011 SD'!L139","v":26.63},0.15,{"$f":"'2011 SD'!N139","v":0}]
[{"$f":"'2011 SD'!A140","v":"Village of Valley Falls (part)"},{"$f":"'2011 SD'!L140","v":25.03},0.15,{"$f":"'2011 SD'!N140","v":0}]
[{"$f":"'2011 SD'!A141","v":"Hoosic Valley CSD"},{"$f":"'2011 SD'!L141","v":25.03},0.15,{"$f":"'2011 SD'!N141","v":0}]
[{"$f":"'2011 SD'!A142","v":"Town of Schodack"},{"$f":"'2011 SD'!L142","v":23.37},5.18,{"$f":"'2011 SD'!N142","v":28.55}]
[{"$f":"'2011 SD'!A143","v":"Averill Park CSD"},{"$f":"'2011 SD'!L143","v":25.54},0.15,{"$f":"'2011 SD'!N143","v":0}]
[{"$f":"'2011 SD'!A144","v":"East Greenbush CSD"},{"$f":"'2011 SD'!L144","v":26.96},0.15,{"$f":"'2011 SD'!N144","v":0}]
[{"$f":"'2011 SD'!A145","v":"Kinderhook CSD"},{"$f":"'2011 SD'!L145","v":23.37},0.15,{"$f":"'2011 SD'!N145","v":0}]
[{"$f":"'2011 SD'!A146","v":"Schodack CSD"},{"$f":"'2011 SD'!L146","v":28.55},0.15,{"$f":"'2011 SD'!N146","v":0}]
[{"$f":"'2011 SD'!A147","v":"Village of Castleton-on-Hudson"},{"$f":"'2011 SD'!L147","v":31.34},0.15,{"$f":"'2011 SD'!N147","v":0}]
[{"$f":"'2011 SD'!A148","v":"Schodack CSD"},{"$f":"'2011 SD'!L148","v":31.34},0.15,{"$f":"'2011 SD'!N148","v":0}]
[{"$f":"'2011 SD'!A149","v":"Village of Nassau (part)"},{"$f":"'2011 SD'!L149","v":30.5},0.15,{"$f":"'2011 SD'!N149","v":0}]
[{"$f":"'2011 SD'!A150","v":"East Greenbush CSD"},{"$f":"'2011 SD'!L150","v":30.5},0.15,{"$f":"'2011 SD'!N150","v":0}]
[{"$f":"'2011 SD'!A151","v":"Town of Stephentown"},{"$f":"'2011 SD'!L151","v":19.739999999999998},3.9600000000000009,{"$f":"'2011 SD'!N151","v":23.7}]
[{"$f":"'2011 SD'!A152","v":"Averill Park CSD"},{"$f":"'2011 SD'!L152","v":23.7},0.15,{"$f":"'2011 SD'!N152","v":0}]
[{"$f":"'2011 SD'!A153","v":"Berlin CSD"},{"$f":"'2011 SD'!L153","v":22.04},0.15,{"$f":"'2011 SD'!N153","v":0}]
[{"$f":"'2011 SD'!A154","v":"New Lebanon CSD"},{"$f":"'2011 SD'!L154","v":19.739999999999998},0.15,{"$f":"'2011 SD'!N154","v":0}]
[{"$f":"'2011 SD'!A155","v":"City of Troy"},{"$f":"'2011 SD'!L155","v":31.41},2.3300000000000018,{"$f":"'2011 SD'!N155","v":33.74}]
[{"$f":"'2011 SD'!A156","v":"Lansingburgh CSD"},{"$f":"'2011 SD'!L156","v":31.41},0.15,{"$f":"'2011 SD'!N156","v":0}]
[{"$f":"'2011 SD'!A157","v":"Troy City SD"},{"$f":"'2011 SD'!L157","v":33.74},0.15,{"$f":"'2011 SD'!N157","v":0}]
[{"$f":"'2011 SD'!A158","v":"Saratoga County"},{"$f":"'2011 SD'!L158","v":7.47},24.53,{"$f":"'2011 SD'!N158","v":32}]
[{"$f":"'2011 SD'!A159","v":"Town of Ballston"},{"$f":"'2011 SD'!L159","v":18.809999999999999},1.9600000000000009,{"$f":"'2011 SD'!N159","v":20.77}]
[{"$f":"'2011 SD'!A160","v":"Ballston Spa CSD"},{"$f":"'2011 SD'!L160","v":20.350000000000001},0.15,{"$f":"'2011 SD'!N160","v":0}]
[{"$f":"'2011 SD'!A161","v":"Burnt Hills-Ballston Lake CSD"},{"$f":"'2011 SD'!L161","v":20.77},0.15,{"$f":"'2011 SD'!N161","v":0}]
[{"$f":"'2011 SD'!A162","v":"Shenendehowa CSD"},{"$f":"'2011 SD'!L162","v":18.809999999999999},0.15,{"$f":"'2011 SD'!N162","v":0}]
[{"$f":"'2011 SD'!A163","v":"Village of Ballston Spa (part)"},{"$f":"'2011 SD'!L163","v":23.8},0.15,{"$f":"'2011 SD'!N163","v":0}]
[{"$f":"'2011 SD'!A164","v":"Ballston Spa CSD"},{"$f":"'2011 SD'!L164","v":23.8},0.15,{"$f":"'2011 SD'!N164","v":0}]
[{"$f":"'2011 SD'!A165","v":"Town of Charlton"},{"$f":"'2011 SD'!L165","v":14.57},6.370000000000001,{"$f":"'2011 SD'!N165","v":20.94}]
[{"$f":"'2011 SD'!A166","v":"Amsterdam City SD"},{"$f":"'2011 SD'!L166","v":19.32},0.15,{"$f":"'2011 SD'!N166","v":0}]
[{"$f":"'2011 SD'!A167","v":"Ballston Spa CSD"},{"$f":"'2011 SD'!L167","v":20.52},0.15,{"$f":"'2011 SD'!N167","v":0}]
[{"$f":"'2011 SD'!A168","v":"Burnt Hills-Ballston Lake CSD"},{"$f":"'2011 SD'!L168","v":20.94},0.15,{"$f":"'2011 SD'!N168","v":0}]
[{"$f":"'2011 SD'!A169","v":"Galway CSD"},{"$f":"'2011 SD'!L169","v":14.57},0.15,{"$f":"'2011 SD'!N169","v":0}]
[{"$f":"'2011 SD'!A170","v":"Scotia-Glenville CSD"},{"$f":"'2011 SD'!L170","v":20.66},0.15,{"$f":"'2011 SD'!N170","v":0}]
[{"$f":"'2011 SD'!A171","v":"Town of Clifton Park"},{"$f":"'2011 SD'!L171","v":18.899999999999999},1.9600000000000009,{"$f":"'2011 SD'!N171","v":20.86}]
[{"$f":"'2011 SD'!A172","v":"Burnt Hills-Ballston Lake CSD"},{"$f":"'2011 SD'!L172","v":20.86},0.15,{"$f":"'2011 SD'!N172","v":0}]
[{"$f":"'2011 SD'!A173","v":"Niskayuna CSD"},{"$f":"'2011 SD'!L173","v":19.97},0.15,{"$f":"'2011 SD'!N173","v":0}]
[{"$f":"'2011 SD'!A174","v":"Shenendehowa CSD"},{"$f":"'2011 SD'!L174","v":18.899999999999999},0.15,{"$f":"'2011 SD'!N174","v":0}]
[{"$f":"'2011 SD'!A175","v":"Town of Corinth"},{"$f":"'2011 SD'!L175","v":16.98},0.15,{"$f":"'2011 SD'!N175","v":0}]
[{"$f":"'2011 SD'!A176","v":"Corinth CSD"},{"$f":"'2011 SD'!L176","v":16.98},0.15,{"$f":"'2011 SD'!N176","v":0}]
[{"$f":"'2011 SD'!A177","v":"Village of Corinth"},{"$f":"'2011 SD'!L177","v":20.74},0.15,{"$f":"'2011 SD'!N177","v":0}]
[{"$f":"'2011 SD'!A178","v":"Corinth CSD"},{"$f":"'2011 SD'!L178","v":20.74},0.15,{"$f":"'2011 SD'!N178","v":0}]
[{"$f":"'2011 SD'!A179","v":"Town of Day"},{"$f":"'2011 SD'!L179","v":8.35},6.4600000000000009,{"$f":"'2011 SD'!N179","v":14.81}]
[{"$f":"'2011 SD'!A180","v":"Corinth CSD"},{"$f":"'2011 SD'!L180","v":14.81},0.15,{"$f":"'2011 SD'!N180","v":0}]
[{"$f":"'2011 SD'!A181","v":"Edinburg Common SD"},{"$f":"'2011 SD'!L181","v":8.35},0.15,{"$f":"'2011 SD'!N181","v":0}]
[{"$f":"'2011 SD'!A182","v":"Hadley-Luzerne CSD"},{"$f":"'2011 SD'!L182","v":13.03},0.15,{"$f":"'2011 SD'!N182","v":0}]
[{"$f":"'2011 SD'!A183","v":"Town of Edinburg"},{"$f":"'2011 SD'!L183","v":7.47},10.61,{"$f":"'2011 SD'!N183","v":18.079999999999998}]
[{"$f":"'2011 SD'!A184","v":"Broadalbin-Perth CSD"},{"$f":"'2011 SD'!L184","v":18.079999999999998},0.15,{"$f":"'2011 SD'!N184","v":0}]
[{"$f":"'2011 SD'!A185","v":"Edinburg Common SD"},{"$f":"'2011 SD'!L185","v":7.47},0.15,{"$f":"'2011 SD'!N185","v":0}]
[{"$f":"'2011 SD'!A186","v":"Hadley-Luzerne CSD"},{"$f":"'2011 SD'!L186","v":12.14},0.15,{"$f":"'2011 SD'!N186","v":0}]
[{"$f":"'2011 SD'!A187","v":"Northville CSD"},{"$f":"'2011 SD'!L187","v":12.19},0.15,{"$f":"'2011 SD'!N187","v":0}]
[{"$f":"'2011 SD'!A188","v":"Town of Galway"},{"$f":"'2011 SD'!L188","v":15.17},3.2000000000000011,{"$f":"'2011 SD'!N188","v":18.37}]
[{"$f":"'2011 SD'!A189","v":"Broadalbin-Perth CSD"},{"$f":"'2011 SD'!L189","v":18.37},0.15,{"$f":"'2011 SD'!N189","v":0}]
[{"$f":"'2011 SD'!A190","v":"Galway CSD"},{"$f":"'2011 SD'!L190","v":15.17},0.15,{"$f":"'2011 SD'!N190","v":0}]
[{"$f":"'2011 SD'!A191","v":"Village of Galway"},{"$f":"'2011 SD'!L191","v":14.57},0.15,{"$f":"'2011 SD'!N191","v":0}]
[{"$f":"'2011 SD'!A192","v":"Galway CSD"},{"$f":"'2011 SD'!L192","v":14.57},0.15,{"$f":"'2011 SD'!N192","v":0}]
[{"$f":"'2011 SD'!A193","v":"Town of Greenfield"},{"$f":"'2011 SD'!L193","v":14.64},1.0999999999999996,{"$f":"'2011 SD'!N193","v":15.74}]
[{"$f":"'2011 SD'!A194","v":"Corinth CSD"},{"$f":"'2011 SD'!L194","v":14.64},0.15,{"$f":"'2011 SD'!N194","v":0}]
[{"$f":"'2011 SD'!A195","v":"Saratoga Springs City SD"},{"$f":"'2011 SD'!L195","v":15.74},0.15,{"$f":"'2011 SD'!N195","v":0}]
[{"$f":"'2011 SD'!A196","v":"Town of Hadley"},{"$f":"'2011 SD'!L196","v":15.67},1.7799999999999994,{"$f":"'2011 SD'!N196","v":17.45}]
[{"$f":"'2011 SD'!A197","v":"Corinth CSD"},{"$f":"'2011 SD'!L197","v":17.45},0.15,{"$f":"'2011 SD'!N197","v":0}]
[{"$f":"'2011 SD'!A198","v":"Hadley-Luzerne CSD"},{"$f":"'2011 SD'!L198","v":15.67},0.15,{"$f":"'2011 SD'!N198","v":0}]
[{"$f":"'2011 SD'!A199","v":"Town of Halfmoon"},{"$f":"'2011 SD'!L199","v":17.989999999999998},5.9000000000000021,{"$f":"'2011 SD'!N199","v":23.89}]
[{"$f":"'2011 SD'!A200","v":"Mechanicville City SD"},{"$f":"'2011 SD'!L200","v":17.989999999999998},{"$f":"IF(OR(D196=0,(D196-B196)<0.15),0.15,D196-B196)","v":0.15},{"$f":"'2011 SD'!N200","v":0}]
[{"$f":"'2011 SD'!A201","v":"Shenendehowa CSD"},{"$f":"'2011 SD'!L201","v":18.78},0.15,{"$f":"'2011 SD'!N201","v":0}]
[{"$f":"'2011 SD'!A202","v":"Waterford-Halfmoon UFSD"},{"$f":"'2011 SD'!L202","v":23.89},0.15,{"$f":"'2011 SD'!N202","v":0}]
[{"$f":"'2011 SD'!A203","v":"Town of Malta"},{"$f":"'2011 SD'!L203","v":14.28},6.0600000000000005,{"$f":"'2011 SD'!N203","v":20.34}]
[{"$f":"'2011 SD'!A204","v":"Ballston Spa CSD"},{"$f":"'2011 SD'!L204","v":20.34},0.15,{"$f":"'2011 SD'!N204","v":0}]
[{"$f":"'2011 SD'!A205","v":"Saratoga Springs City SD"},{"$f":"'2011 SD'!L205","v":14.28},0.15,{"$f":"'2011 SD'!N205","v":0}]
[{"$f":"'2011 SD'!A206","v":"Shenendehowa CSD"},{"$f":"'2011 SD'!L206","v":18.8},0.15,{"$f":"'2011 SD'!N206","v":0}]
[{"$f":"'2011 SD'!A207","v":"Village of Round Lake"},{"$f":"'2011 SD'!L207","v":23.12},0.15,{"$f":"'2011 SD'!N207","v":0}]
[{"$f":"'2011 SD'!A208","v":"Shenendehowa CSD"},{"$f":"'2011 SD'!L208","v":23.12},0.15,{"$f":"'2011 SD'!N208","v":0}]
[{"$f":"'2011 SD'!A209","v":"City of Mechanicville"},{"$f":"'2011 SD'!L209","v":27.53},0.15,{"$f":"'2011 SD'!N209","v":0}]
[{"$f":"'2011 SD'!A210","v":"Mechanicville City SD"},{"$f":"'2011 SD'!L210","v":27.53},0.15,{"$f":"'2011 SD'!N210","v":0}]
[{"$f":"'2011 SD'!A211","v":"Town of Milton"},{"$f":"'2011 SD'!L211","v":14.68},5.9600000000000009,{"$f":"'2011 SD'!N211","v":20.64}]
[{"$f":"'2011 SD'!A212","v":"Ballston Spa CSD"},{"$f":"'2011 SD'!L212","v":20.64},0.15,{"$f":"'2011 SD'!N212","v":0}]
[{"$f":"'2011 SD'!A213","v":"Galway CSD"},{"$f":"'2011 SD'!L213","v":14.7},0.15,{"$f":"'2011 SD'!N213","v":0}]
[{"$f":"'2011 SD'!A214","v":"Saratoga Springs City SD"},{"$f":"'2011 SD'!L214","v":14.68},0.15,{"$f":"'2011 SD'!N214","v":0}]
[{"$f":"'2011 SD'!A215","v":"Village of Ballston Spa (part)"},{"$f":"'2011 SD'!L215","v":24.02},0.15,{"$f":"'2011 SD'!N215","v":0}]
[{"$f":"'2011 SD'!A216","v":"Ballston Spa CSD"},{"$f":"'2011 SD'!L216","v":24.02},0.15,{"$f":"'2011 SD'!N216","v":0}]
[{"$f":"'2011 SD'!A217","v":"Town of Moreau"},{"$f":"'2011 SD'!L217","v":16.260000000000002},0.32999999999999829,{"$f":"'2011 SD'!N217","v":16.59}]
[{"$f":"'2011 SD'!A218","v":"Hudson Falls CSD"},{"$f":"'2011 SD'!L218","v":16.260000000000002},0.15,{"$f":"'2011 SD'!N218","v":0}]
[{"$f":"'2011 SD'!A219","v":"South Glens Falls CSD"},{"$f":"'2011 SD'!L219","v":16.59},0.15,{"$f":"'2011 SD'!N219","v":0}]
[{"$f":"'2011 SD'!A220","v":"Village of South Glens Falls"},{"$f":"'2011 SD'!L220","v":22.06},0.15,{"$f":"'2011 SD'!N220","v":0}]
[{"$f":"'2011 SD'!A221","v":"South Glens Falls CSD"},{"$f":"'2011 SD'!L221","v":22.06},0.15,{"$f":"'2011 SD'!N221","v":0}]
[{"$f":"'2011 SD'!A222","v":"Town of Northumberland"},{"$f":"'2011 SD'!L222","v":17.66},5.3000000000000007,{"$f":"'2011 SD'!N222","v":22.96}]
[{"$f":"'2011 SD'!A223","v":"Schuylerville CSD"},{"$f":"'2011 SD'!L223","v":22.96},0.15,{"$f":"'2011 SD'!N223","v":0}]
[{"$f":"'2011 SD'!A224","v":"South Glens Falls CSD"},{"$f":"'2011 SD'!L224","v":17.66},0.15,{"$f":"'2011 SD'!N224","v":0}]
[{"$f":"'2011 SD'!A225","v":"Town of Providence"},{"$f":"'2011 SD'!L225","v":18.420000000000002},3.1999999999999993,{"$f":"'2011 SD'!N225","v":21.62}]
[{"$f":"'2011 SD'!A226","v":"Broadalbin-Perth CSD"},{"$f":"'2011 SD'!L226","v":21.62},0.15,{"$f":"'2011 SD'!N226","v":0}]
[{"$f":"'2011 SD'!A227","v":"Galway CSD"},{"$f":"'2011 SD'!L227","v":18.420000000000002},0.15,{"$f":"'2011 SD'!N227","v":0}]
[{"$f":"'2011 SD'!A228","v":"Town of Saratoga"},{"$f":"'2011 SD'!L228","v":15.55},7.07,{"$f":"'2011 SD'!N228","v":22.62}]
[{"$f":"'2011 SD'!A229","v":"Saratoga Springs City SD"},{"$f":"'2011 SD'!L229","v":15.55},0.15,{"$f":"'2011 SD'!N229","v":0}]
[{"$f":"'2011 SD'!A230","v":"Schuylerville CSD"},{"$f":"'2011 SD'!L230","v":22.62},0.15,{"$f":"'2011 SD'!N230","v":0}]
[{"$f":"'2011 SD'!A231","v":"Stillwater CSD"},{"$f":"'2011 SD'!L231","v":15.56},0.15,{"$f":"'2011 SD'!N231","v":0}]
[{"$f":"'2011 SD'!A232","v":"Village of Schuylerville"},{"$f":"'2011 SD'!L232","v":22.62},0.15,{"$f":"'2011 SD'!N232","v":0}]
[{"$f":"'2011 SD'!A233","v":"Schuylerville CSD"},{"$f":"'2011 SD'!L233","v":22.62},0.15,{"$f":"'2011 SD'!N233","v":0}]
[{"$f":"'2011 SD'!A234","v":"Village of Victory"},{"$f":"'2011 SD'!L234","v":22.62},0.15,{"$f":"'2011 SD'!N234","v":0}]
[{"$f":"'2011 SD'!A235","v":"Schuylerville CSD"},{"$f":"'2011 SD'!L235","v":22.62},0.15,{"$f":"'2011 SD'!N235","v":0}]
[{"$f":"'2011 SD'!A236","v":"City of Saratoga Springs"},{"$f":"'2011 SD'!L236","v":19.489999999999998},0.15,{"$f":"'2011 SD'!N236","v":0}]
[{"$f":"'2011 SD'!A237","v":"Saratoga Springs City SD"},{"$f":"'2011 SD'!L237","v":19.489999999999998},0.15,{"$f":"'2011 SD'!N237","v":0}]
[{"$f":"'2011 SD'!A238","v":"Town of Stillwater"},{"$f":"'2011 SD'!L238","v":17.22},7.0800000000000018,{"$f":"'2011 SD'!N238","v":24.3}]
[{"$f":"'2011 SD'!A239","v":"Mechanicville City SD"},{"$f":"'2011 SD'!L239","v":20.79},0.15,{"$f":"'2011 SD'!N239","v":0}]
[{"$f":"'2011 SD'!A240","v":"Schuylerville CSD"},{"$f":"'2011 SD'!L240","v":24.3},0.15,{"$f":"'2011 SD'!N240","v":0}]
[{"$f":"'2011 SD'!A241","v":"Shenendehowa CSD"},{"$f":"'2011 SD'!L241","v":21.58},0.15,{"$f":"'2011 SD'!N241","v":0}]
[{"$f":"'2011 SD'!A242","v":"Stillwater CSD"},{"$f":"'2011 SD'!L242","v":17.22},0.15,{"$f":"'2011 SD'!N242","v":0}]
[{"$f":"'2011 SD'!A243","v":"Village of Stillwater"},{"$f":"'2011 SD'!L243","v":18.93},0.15,{"$f":"'2011 SD'!N243","v":0}]
[{"$f":"'2011 SD'!A244","v":"Stillwater CSD"},{"$f":"'2011 SD'!L244","v":18.93},0.15,{"$f":"'2011 SD'!N244","v":0}]
[{"$f":"'2011 SD'!A245","v":"Town of Waterford"},{"$f":"'2011 SD'!L245","v":22.76},5.0999999999999979,{"$f":"'2011 SD'!N245","v":27.86}]
[{"$f":"'2011 SD'!A246","v":"Shenendehowa CSD"},{"$f":"'2011 SD'!L246","v":22.76},0.15,{"$f":"'2011 SD'!N246","v":0}]
[{"$f":"'2011 SD'!A247","v":"Waterford-Halfmoon UFSD"},{"$f":"'2011 SD'!L247","v":27.86},0.15,{"$f":"'2011 SD'!N247","v":0}]
[{"$f":"'2011 SD'!A248","v":"Village of Waterford"},{"$f":"'2011 SD'!L248","v":32},0.15,{"$f":"'2011 SD'!N248","v":0}]
[{"$f":"'2011 SD'!A249","v":"Waterford-Halfmoon UFSD"},{"$f":"'2011 SD'!L249","v":32},0.15,{"$f":"'2011 SD'!N249","v":0}]
[{"$f":"'2011 SD'!A250","v":"Town of Wilton"},{"$f":"'2011 SD'!L250","v":13.41},8.07,{"$f":"'2011 SD'!N250","v":21.48}]
[{"$f":"'2011 SD'!A251","v":"Corinth CSD"},{"$f":"'2011 SD'!L251","v":13.41},0.15,{"$f":"'2011 SD'!N251","v":0}]
[{"$f":"'2011 SD'!A252","v":"Saratoga Springs City SD"},{"$f":"'2011 SD'!L252","v":14.37},0.15,{"$f":"'2011 SD'!N252","v":0}]
[{"$f":"'2011 SD'!A253","v":"Schuylerville CSD"},{"$f":"'2011 SD'!L253","v":21.48},0.15,{"$f":"'2011 SD'!N253","v":0}]
[{"$f":"'2011 SD'!A254","v":"South Glens Falls CSD"},{"$f":"'2011 SD'!L254","v":16.190000000000001},0.15,{"$f":"'2011 SD'!N254","v":0}]
[{"$f":"'2011 SD'!A255","v":"Schenectady County"},{"$f":"'2011 SD'!L255","v":21.41},19.34,{"$f":"'2011 SD'!N255","v":40.75}]
[{"$f":"'2011 SD'!A256","v":"Town of Duanesburg"},{"$f":"'2011 SD'!L256","v":24.36},2.3300000000000018,{"$f":"'2011 SD'!N256","v":26.69}]
[{"$f":"'2011 SD'!A257","v":"Amsterdam City SD"},{"$f":"'2011 SD'!L257","v":24.36},0.15,{"$f":"'2011 SD'!N257","v":0}]
[{"$f":"'2011 SD'!A258","v":"Duanesburg CSD"},{"$f":"'2011 SD'!L258","v":24.47},0.15,{"$f":"'2011 SD'!N258","v":0}]
[{"$f":"'2011 SD'!A259","v":"Schalmont CSD"},{"$f":"'2011 SD'!L259","v":25.58},0.15,{"$f":"'2011 SD'!N259","v":0}]
[{"$f":"'2011 SD'!A260","v":"Schoharie CSD"},{"$f":"'2011 SD'!L260","v":26.69},0.15,{"$f":"'2011 SD'!N260","v":0}]
[{"$f":"'2011 SD'!A261","v":"Village of Delanson"},{"$f":"'2011 SD'!L261","v":24.94},0.15,{"$f":"'2011 SD'!N261","v":0}]
[{"$f":"'2011 SD'!A262","v":"Duanesburg CSD"},{"$f":"'2011 SD'!L262","v":24.94},0.15,{"$f":"'2011 SD'!N262","v":0}]
[{"$f":"'2011 SD'!A263","v":"Town of Glenville"},{"$f":"'2011 SD'!L263","v":21.41},6.370000000000001,{"$f":"'2011 SD'!N263","v":27.78}]
[{"$f":"'2011 SD'!A264","v":"Amsterdam City SD"},{"$f":"'2011 SD'!L264","v":26.16},{"$f":"IF(OR(D260=0,(D260-B260)<0.15),0.15,D260-B260)","v":0.15},{"$f":"'2011 SD'!N264","v":0}]
[{"$f":"'2011 SD'!A265","v":"Burnt Hills-Ballston Lake CSD"},{"$f":"'2011 SD'!L265","v":27.78},0.15,{"$f":"'2011 SD'!N265","v":0}]
[{"$f":"'2011 SD'!A266","v":"Galway CSD"},{"$f":"'2011 SD'!L266","v":21.41},0.15,{"$f":"'2011 SD'!N266","v":0}]
[{"$f":"'2011 SD'!A267","v":"Niskayuna CSD"},{"$f":"'2011 SD'!L267","v":26.43},0.15,{"$f":"'2011 SD'!N267","v":0}]
[{"$f":"'2011 SD'!A268","v":"Scotia-Glenville CSD"},{"$f":"'2011 SD'!L268","v":27.5},0.15,{"$f":"'2011 SD'!N268","v":0}]
[{"$f":"'2011 SD'!A269","v":"Village of Scotia"},{"$f":"'2011 SD'!L269","v":32.97},0.15,{"$f":"'2011 SD'!N269","v":0}]
[{"$f":"'2011 SD'!A270","v":"Scotia-Glenville CSD"},{"$f":"'2011 SD'!L270","v":32.97},0.15,{"$f":"'2011 SD'!N270","v":0}]
[{"$f":"'2011 SD'!A271","v":"Town of Niskayuna"},{"$f":"'2011 SD'!L271","v":25.12},1.509999999999998,{"$f":"'2011 SD'!N271","v":26.63}]
[{"$f":"'2011 SD'!A272","v":"Niskayuna CSD"},{"$f":"'2011 SD'!L272","v":26.63},0.15,{"$f":"'2011 SD'!N272","v":0}]
[{"$f":"'2011 SD'!A273","v":"South Colonie CSD"},{"$f":"'2011 SD'!L273","v":25.12},0.15,{"$f":"'2011 SD'!N273","v":0}]
[{"$f":"'2011 SD'!A274","v":"Town of Princetown"},{"$f":"'2011 SD'!L274","v":23.35},1.4599999999999973,{"$f":"'2011 SD'!N274","v":24.81}]
[{"$f":"'2011 SD'!A275","v":"Duanesburg CSD"},{"$f":"'2011 SD'!L275","v":23.35},0.15,{"$f":"'2011 SD'!N275","v":0}]
[{"$f":"'2011 SD'!A276","v":"Schalmont CSD"},{"$f":"'2011 SD'!L276","v":24.81},0.15,{"$f":"'2011 SD'!N276","v":0}]
[{"$f":"'2011 SD'!A277","v":"Town of Rotterdam"},{"$f":"'2011 SD'!L277","v":25.84},5.7100000000000009,{"$f":"'2011 SD'!N277","v":31.55}]
[{"$f":"'2011 SD'!A278","v":"Rotterdam-Mohonasen CSD"},{"$f":"'2011 SD'!L278","v":25.84},0.15,{"$f":"'2011 SD'!N278","v":0}]
[{"$f":"'2011 SD'!A279","v":"Schalmont CSD"},{"$f":"'2011 SD'!L279","v":30.08},0.15,{"$f":"'2011 SD'!N279","v":0}]
[{"$f":"'2011 SD'!A280","v":"Schenectady City SD"},{"$f":"'2011 SD'!L280","v":31.55},0.15,{"$f":"'2011 SD'!N280","v":0}]
[{"$f":"'2011 SD'!A281","v":"City of Schenectady"},{"$f":"'2011 SD'!L281","v":40.75},0.15,{"$f":"'2011 SD'!N281","v":0}]
[{"$f":"'2011 SD'!A282","v":"Schenectady City SD"},{"$f":"'2011 SD'!L282","v":40.75},0.15,{"$f":"'2011 SD'!N282","v":0}]
[{"$f":"'2011 SD'!A283","v":"Capital District"},{"$f":"'2011 SD'!L283","v":7.47},33.28,{"$f":"'2011 SD'!N283","v":40.75}]
[null,{"$f":"MIN(B4:B279)","v":7.47},null,{"$f":"MIN(D4:D279)","v":0}]
[null,{"$f":"MAX(B4:B279)","v":40.75},null,{"$f":"MAX(D4:D279)","v":40.75}]