{"text_format":"1","workbook":"xlsx","n_sheets":8,"sheets":["Muni-L1","Muni-L2","Muni-Obj","Data-MunFin","DataNews 2010","Chart Data 2010","Rev-Exp Chart 2010","WWW 2010"],"not_rendered":{"charts":2,"images":0,"macros":0,"external_links":2,"defined_names":63,"comments":0,"pivot_tables":0},"unopened":[{"sheet":"Rev-Exp Chart 2010","index":6,"reason":"not_a_worksheet"}],"bounds":{"document_bytes":16777216,"sheet_cells":100000,"rows_first":2000,"rows_last":500,"rows_between":2000,"halvings":0,"cell_chars":16384,"cell_head_chars":4096},"cells_cut":0,"cells_raw":0,"read":"whole","date_system":"1900"}

{"sheet":"Muni-L1","index":0,"n_rows":178,"n_cols":42,"rows_kept":178,"cut":false,"hidden":false,"merged":[]}
[null,"Fiscal Year 2010",null,null,null,null,null,null,null,null,null,"REVENUES",null,null,null,null,null,null,null,null,null,null,null,null,null,null,"EXPENDITURES"]
[null,"Level One","Municipal Code","Municipal Name","County Name","Fiscal Year End","Population","Enrollment","Land Area (sq. mi.)","Full Value","Total Debt Outstanding at EOFY","Real Property Texes & Assessments","Other Real Property Tax Items","Sales & Use Tax","Other Non-Property Taxes","Charges for Services","Charges to Other Governments","Use & Sale of Property","Other Local Revenues","Local Revenues","State Aid","Federal Aid","Total Revenues","Proceeds of Debt","Other Services","Total Revenues & Other Sources","General Government","Education","Public Safety","Health","Transportation","Social Services","Economic Development","Culture & Recreation","Community Services","Utilities","Sanitation","Employee Benefits","Debt Service","Total Expenditures","Other Uses","Total Expenditures & Other Uses"]
[null,"Albany County",{"$f":"C94","v":"010100000000"},{"$f":"D94","v":"County of Albany"},"Albany","12/31",304204,0,522.79999999999995,24780071182,274806031,67489877,6979377,228951684,4749863,65133973,22394261,4184595,15813507,415697135,74524039,82382833,572604007,43358500,46424236,662386743,146311349,23588055,59369420,33647998,26142803,202210789,1525331,6304172,7328829,0,7677302,68512583,22135776,604754408,46424236,651178644]
[null,"City of Albany",{"$f":"C95","v":"010201000000"},"City of Albany","Albany","12/31",97856,0,21.4,5125089604,152198950,53056844,26263862,30350525,1527548,15681666,1027889,1391115,10871572,140171021,21688863,11745596,173605480,670000,440000,174715480,22113971,0,57732938,208730,18605086,2403238,0,5305920,2961649,0,13924849,48656526,16725695,188638602,440000,189078602]
[null,"Town of Berne",{"$f":"C96","v":"010306800000"},"Town of Berne","Albany","12/31",2794,0,64,299701688,591036,1160528,4605,888183,14058,37542,0,10958,39055,2154929,347544,0,2502472,88227,0,2590700,358567,0,510789,1300,989203,0,0,75861,0,0,108829,191120,98152,2333820,0,2333820]
[null,"Town of Bethlehem",{"$f":"C97","v":"010307100000"},"Town of Bethlehem","Albany","12/31",33656,0,49,3396032947,20250000,10811795,1966401,9444723,707304,10683517,40626,317646,1126579,35098591,1432107,897379,37428077,43000,261000,37732077,3885268,1192,7144312,3965,5239059,300615,0,2081858,492430,6477043,5140012,5777893,2044680,38588327,261000,38849327]
[null,"Town of Coeymans",{"$f":"C98","v":"010318000000"},"Town of Coeymans","Albany","12/31",7418,0,50.1,607063586,3978,1738076,11440,1785256,13549,316534,436915,34311,257448,4593528,242142,470895,5306565,0,1791626,7098191,879875,0,1226159,165968,1274456,484427,844,87344,218139,0,438386,736272,5189,5517059,1791626,7308685]
[null,"Village of Ravena",{"$f":"C99","v":"010418004140"},"Village of Ravena","Albany","05/31",3268,0,1.5,169328756,865000,761980,4857,715669,0,890280,0,49207,159697,2581690,81777,54586,2718053,0,110000,2828053,742493,0,138496,512,289166,0,1304,85918,7060,302019,278148,481656,195701,2522473,110000,2632473]
[null,"City of Cohoes",{"$f":"C100","v":"010209000000"},"City of Cohoes","Albany","12/31",16168,0,3.8,689715761,10660383,6587042,785349,4886563,335351,4382652,197928,139998,619612,17934495,3717282,5979887,27631664,0,267027,27898691,2631834,0,6982179,0,6231996,0,173947,507297,1323980,771642,2341882,4588842,1806327,27359926,267027,27626953]
[null,"Town of Colonie",{"$f":"C101","v":"010318700000"},"Town of Colonie","Albany","12/31",81591,0,55.9,8629079128,104955386,29894359,1176856,19446154,0,26810938,134889,2869394,7367366,87699956,3912479,6767989,98380424,766087,2876000,102022511,19791192,0,23554456,62563,9686674,2162718,893013,8501666,146776,8837132,7476381,17853505,6791305,105757381,2876000,108633381]
[null,"Village of Colonie",{"$f":"C102","v":"010418701100"},"Village of Colonie","Albany","05/31",7793,0,3.2,843702141,0,1189824,11305,2326038,126683,2827590,0,57128,88573,6627141,187683,115892,6930716,0,612360,7543076,708727,0,334935,10583,1320687,0,25994,520847,445775,1179195,1301700,718178,0,6566621,612360,7178981]
[null,"Village of Menands",{"$f":"C103","v":"010418703040"},"Village of Menands","Albany","05/31",3990,0,3.1,464248478,325000,1793552,6677,1288251,81700,1307349,181217,14943,314477,4988166,131927,25848,5145941,0,0,5145941,630602,0,1176266,0,579255,0,4476,71255,10694,782294,564448,776927,0,4596217,0,4596217]
[null,"Town/Village of Green Island",{"$f":"C104","v":"010334500000"},"Town of Green Island","Albany","12/31",2620,0,0.8,140974052,0,0,787,51217,0,3038,0,454,143782,199278,45488,0,244766,0,0,244766,285349,0,2000,0,0,0,0,10000,0,0,0,27644,0,324993,0,324993]
[null,"Town/Village of Green Island",{"$f":"C105","v":"010434502040"},"Village of Green Island","Albany","05/31",2620,0,0.8,156917509,885000,1702672,399374,606525,42898,1122853,414760,174977,100351,4564410,129815,381400,5075625,0,0,5075625,557350,0,1120798,0,279140,354625,0,133831,0,333394,804532,674865,419917,4678452,0,4678452]
[null,"Town/Village of Green Island",null,"Town/Village of Green Island",{"$f":"E14","v":"Albany"},null,{"$f":"G14","v":2620},null,{"$f":"I14","v":0.8},{"$f":"J14","v":156917509},{"$f":"K13+K14","v":885000},1702672,400161,657742,42898,1125891,414760,175431,244133,4763688,175303,381400,5320391,0,0,5320391,842699,0,1122798,0,279140,354625,0,143831,0,333394,804532,702509,419917,5003445,0,5003445]
[null,"Town of Guilderland",{"$f":"C107","v":"010335500000"},"Town of Guilderland","Albany","12/31",35303,0,57.9,3752152566,27917000,8268629,95679,9747640,519166,7240561,164870,465505,950635,27452685,1624711,586027,29663422,0,1233638,30897060,2592473,0,6347532,342933,5967413,38627,648865,1668584,284847,2633803,3287643,4063036,3083298,30959053,1233638,32192690]
[null,"Village of Altamont",{"$f":"C108","v":"010435500120"},"Village of Altamont","Albany","05/31",1720,0,1.2,126640029,1260000,272101,3135,533455,32127,744767,97928,119626,54150,1857289,72482,10452,1940223,0,0,1940223,267391,0,417249,0,232923,0,0,218339,6468,193411,315730,161891,106656,1920058,0,1920058]
[null,"Town of Knox",{"$f":"C109","v":"010344300000"},"Town of Knox","Albany","12/31",2692,0,41.8,265450406,1139981,241958,2949,798626,30657,6583,0,40595,23340,1144707,115187,0,1259894,80000,1000,1340894,1162541,0,102493,1232,557833,0,0,20361,1500,0,95485,178556,110353,2230354,1000,2231354]
[null,"Town of New Scotland",{"$f":"C110","v":"010358100000"},"Town of New Scotland","Albany","12/31",8648,0,57.5,972484595,2125914,2306917,7397,1765304,33096,410890,0,22178,262644,4808426,403825,126169,5338420,48800,489,5387709,783786,0,985069,1428,1829789,0,0,152813,101221,293285,615190,659163,239034,5660779,489,5661267]
[null,"Village of Voorheesville",{"$f":"C111","v":"010458105090"},"Village of Voorheesville","Albany","05/31",2789,0,2.1,238009756,3735000,259531,1156,855366,53546,583967,0,22602,24052,1800220,104494,2550,1907264,0,0,1907264,303841,0,70442,750,424202,0,0,21567,1073,153762,231068,200593,266005,1673303,0,1673303]
[null,"Town of Rensselaerville",{"$f":"C112","v":"010370600000"},"Town of Rensselaerville","Albany","12/31",1843,0,61.5,260837670,810241,1194526,5133,501520,2890,115047,0,14190,23667,1856973,169482,0,2026455,16800,18478,2061733,329075,0,235702,40459,1063367,0,0,76307,7900,23241,91619,332364,47630,2247664,18478,2266142]
[null,"City of Watervliet",{"$f":"C113","v":"010260000000"},"City of Watervliet","Albany","12/31",10254,0,1.4,389563501,7199463,3824057,146256,3241101,162368,4552059,331778,8997,203285,12469901,6434433,246864,19151198,69500,1147128,20367826,1344622,0,4556418,32634,5649324,0,599105,262835,27453,1760396,1084699,3134921,932037,19384444,1147128,20531572]
[null,"Town of Westerlo",{"$f":"C114","v":"010389000000"},"Town of Westerlo","Albany","12/31",3361,0,57.8,334238875,1180000,994007,4604,1045726,8895,104633,0,13773,25300,2196938,234381,0,2431319,0,4785,2436104,622015,0,285304,0,778664,0,0,229882,0,55625,176303,374927,101716,2624436,4785,2629221]
[null,"Rensselaer County",{"$f":"C115","v":"380100000000"},"County of Rensselaer","Rensselaer","12/31",159429,0,652.4,10505904197,172578257,54954180,5126992,69300351,2142969,56268683,18250491,2510295,22984755,231538716,45932941,27210705,304682362,13510618,2873269,321066250,46614760,27965128,29261288,44221883,9468366,83962914,889366,427844,3315388,0,3590424,48240174,13777806,311735339,2873269,314608608]
[null,"Village of Nassau",{"$f":"C116","v":"380456103330"},"Village of Nassau","Rensselaer","05/31",1133,0,0.7,69949308,181350,336290,9024,63338,15538,249726,0,2213,45021,721150,73182,6334,800666,34600,30300,865566,169761,0,159086,0,123804,0,0,4573,215,126761,86363,53821,58897,783281,30300,813581]
[null,"Village of Valley Falls",{"$f":"C117","v":"380467005020"},"Village of Valley Falls","Rensselaer","05/31",466,0,0.5,27333975,1880534,49500,1210,29737,4151,106413,75000,44,22665,288720,19513,0,308233,0,4949,313182,59543,0,40548,0,24095,0,0,19346,50827,0,2222,2592,92600,291773,4949,296722]
[null,"Town of Berlin",{"$f":"C118","v":"380306700000"},"Town of Berlin","Rensselaer","12/31",1880,0,59.6,169380954,0,379476,2217,164826,0,197090,0,2411,15111,761132,116282,0,877414,0,0,877414,122054,0,15121,200,428000,0,0,18726,4344,38497,111059,82109,13801,833911,0,833911]
[null,"Town of Brunswick",{"$f":"C119","v":"380309900000"},"Town of Brunswick","Rensselaer","12/31",11941,0,44.4,1013344648,2385000,3377741,30335,1016116,98478,1465368,28199,56682,18748,6091667,506240,29988,6627895,0,0,6627895,1076797,0,1058196,2500,1648778,0,146488,360709,15486,1211908,109626,680243,243166,6553897,0,6553897]
[null,"Town of East Greenbush",{"$f":"C120","v":"380324900000"},"Town of East Greenbush","Rensselaer","12/31",16473,0,24,1592115009,8026820,8331228,351893,1618667,199901,3495870,241404,79874,1206752,15525590,832467,0,16358057,583445,0,16941502,2173457,0,2763705,6739,2281845,0,0,320118,4618,2138415,2014471,2710658,1376467,15790493,0,15790493]
[null,"Town of Grafton",{"$f":"C121","v":"380333500000"},"Town of Grafton","Rensselaer","12/31",2130,0,44.7,200300759,436900,636740,1326,209402,0,26374,0,9089,60983,943914,142881,0,1086794,0,0,1086794,202877,0,31422,1000,534896,0,0,34429,4138,0,44554,126696,68711,1048724,0,1048724]
[null,"Town of Hoosick",{"$f":"C122","v":"380339800000"},"Town of Hoosick","Rensselaer","12/31",6924,0,63,418388532,80000,1413177,10771,270637,2452,70520,8585,597,68793,1845532,230281,465525,2541338,0,28593,2569931,353851,0,300523,0,1377035,0,0,169636,12332,1460,1750,293792,87534,2597913,28593,2626506]
[null,"Village of Hoosick Falls",{"$f":"C123","v":"380439802380"},"Village of Hoosick Falls","Rensselaer","05/31",3501,0,1.6,152269985,14295272,1072824,41545,182123,33682,1460556,5500,1479,80066,2877775,253414,0,3131189,50379,0,3181568,213535,0,426802,0,534825,0,17284,32140,0,2157244,755907,363542,340315,4841594,0,4841594]
[null,"Town of Nassau",{"$f":"C124","v":"380356100000"},"Town of Nassau","Rensselaer","12/31",4789,0,44.4,364096939,447934,971498,5079,245264,19233,62521,3725,12799,190385,1510504,283192,171863,1965559,150700,201756,2318014,402131,0,219151,2249,911813,169654,0,24131,5422,0,100586,244107,77163,2156409,201756,2358165]
[null,"Village of East Nassau",{"$f":"C125","v":"380456101435"},"Village of East Nassau","Rensselaer","05/31",587,0,4.9000000000000004,41915863,0,51288,231,41243,0,383,0,233,0,93378,28379,12995,134752,0,0,134752,45262,0,4170,0,93368,0,0,0,0,0,0,2106,0,144906,0,144906]
[null,"Town of North Greenbush",{"$f":"C126","v":"380359500000"},"Town of North Greenbush","Rensselaer","12/31",12075,0,18.600000000000001,935986053,21774000,4914412,386328,981703,216387,1659201,0,55612,296928,8510571,603610,0,9114180,999000,13049,10126229,2968236,0,1927744,8353,1407954,0,0,466300,10355,1643522,318238,1345950,2167376,12264027,13049,12277076]
[null,"Town of Petersburgh",{"$f":"C127","v":"380365600000"},"Town of Petersburgh","Rensselaer","12/31",1525,0,41.6,121889374,242400,498718,2920,118643,0,70087,3218,3626,10029,707241,156149,339,863729,0,10109,873838,162547,0,12091,10500,347894,0,0,59519,5740,24707,73098,84964,35121,816181,10109,826290]
[null,"Town of Pittstown",{"$f":"C128","v":"380367000000"},"Town of Pittstown","Rensselaer","12/31",5735,0,61.6,380220315,16630,2028837,7478,227412,0,58805,0,8213,48352,2379097,102571,0,2481668,0,0,2481668,258078,0,95627,880,1346016,0,507,13780,2751,0,469238,273282,26304,2486463,0,2486463]
[null,"Town of Poestenkill",{"$f":"C129","v":"380367600000"},"Town of Poestenkill","Rensselaer","12/31",4530,0,32.4,342159337,9629493,1114953,5359,320892,7113,17946,10561,1493,51078,1529395,494313,430080,2453788,0,0,2453788,303513,0,264675,1500,706914,0,0,102292,3250,9590660,33302,218311,106523,11330940,0,11330940]
[null,"City of Rensselaer",{"$f":"C130","v":"380247000000"},"City of Rensselaer","Rensselaer","07/31",9392,0,3.2,405901319,4592949,5410832,1570539,1912977,149262,2608833,72800,87534,284225,12097002,3125029,926667,16148698,3895747,177500,20221944,2196120,0,3542766,0,2952294,0,1511738,250264,47313,2165276,820340,2702065,753088,16941267,177500,17118767]
[null,"Town of Sand Lake",{"$f":"C131","v":"380374100000"},"Town of Sand Lake","Rensselaer","12/31",8530,0,35.1,726584506,2411252,1625483,12511,762972,128804,543841,4487,19367,79540,3177005,420271,176383,3773659,1681252,182960,5637871,991779,0,386673,1000,1409899,0,0,257111,44691,0,977037,458202,317269,4843661,182960,5026621]
[null,"Town of Schaghticoke",{"$f":"C132","v":"380375200000"},"Town of Schaghticoke","Rensselaer","12/31",7679,0,49.8,582264982,5545750,2033947,7807,573781,56222,397371,55653,16096,65271,3206148,371100,66556,3643804,0,34671,3678475,466105,0,244664,3000,1182285,0,0,70578,18800,422836,720495,427630,397871,3954264,34671,3988935]
[null,"Village of Schaghticoke",{"$f":"C133","v":"380475204460"},"Village of Schaghticoke","Rensselaer","05/31",592,0,0.8,43080391,0,146687,155,55787,5497,88840,0,18818,41550,357334,59184,312265,728782,0,30000,758782,120041,0,386231,0,93972,0,276,13228,4875,128842,1157,18157,0,766779,30000,796779]
[null,"Town of Schodack",{"$f":"C134","v":"380375300000"},"Town of Schodack","Rensselaer","12/31",12794,0,61.9,1128496869,16469915,5536364,233405,1026675,75588,793320,10728,127923,755214,8559216,577393,249773,9386382,1735863,3722343,14844587,1527507,0,1607356,2266,1870587,235212,4000,499089,21488,1004572,438657,969406,1416184,9596324,3722343,13318667]
[null,"Village of Castleton-on-Hudson",{"$f":"C135","v":"380475300790"},"Village of Castleton-On-Hudson","Rensselaer","05/31",1473,0,0.7,118313321,2136558,414550,13580,149389,3748,860838,185879,12280,31090,1671354,550774,36741,2258869,0,11933,2270802,151234,0,82815,1200,1069814,0,11029,255233,1462,126995,583447,173820,165452,2622501,11933,2634434]
[null,"Town of Stephentown",{"$f":"C136","v":"380380400000"},"Town of Stephentown","Rensselaer","12/31",2903,0,57.9,258190053,0,"-","-","-","-","-","-","-","-","-","-","-","-","-","-","-","-","-","-","-","-","-","-","-","-","-","-","-","-","-","-","-"]
[null,"City of Troy",{"$f":"C137","v":"380257000000"},"City of Troy","Rensselaer","12/31",50129,0,10.4,1905426906,76568550,18323507,1898020,14069098,539137,19245649,429573,3263642,4245666,62014292,16750224,9719503,88484019,1225000,3672867,93381886,8623752,0,22468206,111111,9613486,0,3317796,2846127,1985776,7644325,3999857,18675799,7282120,86568355,3672867,90241222]
[null,"Saratoga County",{"$f":"C138","v":"410100000000"},"County of Saratoga","Saratoga","12/31",219607,0,810,21886916706,79869000,46220413,3371156,96552344,2632032,46380225,5656583,3734803,3523537,208071093,22285279,28159389,258515761,28974000,21023924,308513685,95283313,17730776,20740882,32082224,16044646,47228329,783671,1758310,3568010,0,7305998,41820436,4894027,289240623,21023925,310264548]
[null,"Village of Ballston Spa",{"$f":"C139","v":"410453400340"},"Village of Ballston Spa","Saratoga","05/31",5409,0,1.6,334011245,952705,1202165,3842,880430,54040,912429,346834,59783,131346,3590869,343619,1040020,4974508,0,0,4974508,568371,0,774544,5883,456986,988548,3400,322768,17000,499553,154746,628864,354896,4775559,0,4775559]
[null,"Town of Ballston",{"$f":"C140","v":"410304900000"},"Town of Ballston","Saratoga","12/31",9776,0,29.6,952484335,3970500,1176284,7700,2235176,70551,686364,26000,30808,225501,4458384,493998,0,4952382,0,0,4952382,853477,0,394575,3213,1478818,0,0,479905,17226,1136490,1279,550536,507569,5423088,0,5423088]
[null,"Town of Charlton",{"$f":"C141","v":"410314700000"},"Town of Charlton","Saratoga","12/31",4133,0,32.799999999999997,441650710,1853600,138032,2472,1130663,23129,153397,360,9535,63034,1520622,299256,0,1819878,0,0,1819878,502504,0,88596,1031,637956,0,0,66642,10155,266966,12846,179598,147919,1914213,0,1914213]
[null,"Town of Clifton Park",{"$f":"C142","v":"410317400000"},"Town of Clifton Park","Saratoga","12/31",36705,0,48.2,3896606465,12057491,3014340,178159,9712419,0,2550050,1297210,780977,897141,18430295,2259487,412705,21102486,41000,3820295,24963781,3805643,0,3923680,21300,4180749,319770,500,3536309,406803,23361,2367952,3279495,1046495,22912056,3820295,26732351]
[null,"Town of Corinth",{"$f":"C143","v":"410320000000"},"Town of Corinth","Saratoga","12/31",6531,0,56.8,549529510,0,1608003,318571,702444,45968,525553,0,13728,56229,3270496,1439047,0,4709543,0,0,4709543,557591,0,513849,348873,2049043,0,4500,94798,72269,25376,230817,437423,0,4334538,0,4334538]
[null,"Village of Corinth",{"$f":"C144","v":"410420001150"},"Village of Corinth","Saratoga","05/31",2559,0,1.1000000000000001,240958385,5990000,1433372,467441,658638,0,785843,261021,22943,15085,3644343,227662,915691,4787696,0,488546,5276242,354145,0,672066,0,813269,466450,439150,60922,7232,292752,422386,423314,459934,4411620,488546,4900166]
[null,"Town of Day",{"$f":"C145","v":"410322000000"},"Town of Day","Saratoga","12/31",856,0,64.099999999999994,324648383,0,461663,22953,778955,0,11967,0,7149,7071,1289758,238567,0,1528325,0,0,1528325,279631,0,95858,1516,835428,0,0,17180,8894,0,311307,228447,0,1778261,0,1778261]
[null,"Town of Edinburg",{"$f":"C146","v":"410325500000"},"Town of Edinburg","Saratoga","12/31",1214,0,60.2,409060172,0,280075,5251,962445,0,18969,0,9533,10240,1286513,141649,0,1428162,0,50733,1478895,308468,0,106764,2676,584756,0,1253,13977,10330,0,142103,138797,0,1309124,50733,1359857]
[null,"Town of Galway",{"$f":"C147","v":"410331400000"},"Town of Galway","Saratoga","12/31",3545,0,43.8,428006969,632000,564000,3386,1035159,45476,9565,7486,450,29742,1695263,240885,0,1936148,0,0,1936148,287979,0,328896,1000,949547,4000,0,36028,9159,0,4442,145612,140621,1907285,0,1907285]
[null,"Village of Galway",{"$f":"C148","v":"410431401900"},"Village of Galway","Saratoga","05/31",200,0,0.3,13207727,0,0,0,39705,0,185,0,2175,15375,57440,5343,0,62783,0,0,62783,16808,0,20315,0,2606,0,0,2891,3088,0,0,970,0,46678,0,46678]
[null,"Town of Greenfield",{"$f":"C149","v":"410334400000"},"Town of Greenfield","Saratoga","12/31",7775,0,67.400000000000006,748080021,0,845580,6287,1840340,57788,123590,0,46291,67850,2987727,414037,0,3401765,0,117505,3519270,499166,0,79381,6051,2202297,0,229083,154823,93533,0,29608,291490,0,3585432,117505,3702937]
[null,"Town of Hadley",{"$f":"C150","v":"410335700000"},"Town of Hadley","Saratoga","12/31",2048,0,39.700000000000003,258437047,250000,1049845,3187,628297,17523,125688,0,8414,20863,1853817,176256,202696,2232769,0,599001,2831771,388086,0,7528,1338,691131,206182,260,64121,16501,65020,267525,295707,53247,2056646,599001,2655648]
[null,"Town of Halfmoon",{"$f":"C151","v":"410336000000"},"Town of Halfmoon","Saratoga","12/31",21535,0,32.6,1953841698,44886577,2795691,20003,4871503,207610,3964040,105000,99325,547913,12611086,1123827,77099,13812012,0,202550,14014562,2359983,0,1531804,84385,2196444,0,0,990127,87468,3367464,112141,1285527,4262685,16278028,202550,16480578]
[null,"Town of Malta",{"$f":"C152","v":"410350100000"},"Town of Malta","Saratoga","12/31",14765,0,27.9,1496744943,3220000,1287808,9967,3611321,152312,4430460,94696,155056,659339,10400959,2890493,15558,13307010,0,199933,13506943,3272905,0,1548807,4300,3848494,0,5491,1050674,29111,0,114200,876963,256008,11006953,199933,11206886]
[null,"Village of Round Lake",{"$f":"C153","v":"410450104295"},"Village of Round Lake","Saratoga","05/31",623,0,1.1000000000000001,55288695,2108893,319347,2650,135155,54543,248724,435247,21143,38334,1255143,78699,0,1333842,71500,136950,1542292,167924,0,205206,187,192956,0,0,235082,11213,90110,6854,87507,209841,1206880,136950,1343830]
[null,"City of Mechanicville",{"$f":"C154","v":"410229000000"},"City of Mechanicville","Saratoga","12/31",5196,0,0.8,209372846,6555413,1861253,92087,1165271,83288,1571962,12379,14104,108289,4908633,1075904,175937,6160474,696750,0,6857224,696815,0,2152362,10000,865971,0,385796,84959,23014,474697,952128,1138931,350975,7135647,0,7135647]
[null,"Town of Milton",{"$f":"C155","v":"410353400000"},"Town of Milton","Saratoga","12/31",18575,0,35.700000000000003,1203300846,0,456838,9850,2533365,140500,135392,0,59558,97406,3432909,682812,0,4115721,0,751445,4867166,1039144,0,205996,7313,2044553,0,2899,307727,29451,0,225,853165,1049,4491522,751445,5242967]
[null,"Town of Moreau",{"$f":"C156","v":"410354900000"},"Town of Moreau","Saratoga","12/31",14728,0,41.9,1039551342,3603707,1782427,68964,1677028,153466,1432784,0,52556,313455,5480680,517299,0,5997979,0,70231,6068210,846832,0,1257290,2089,1314788,0,4203,1059035,246184,459536,234209,702706,128704,6255576,70231,6325807]
[null,"Village of South Glens Falls",{"$f":"C157","v":"410454904730"},"Village of South Glens Falls","Saratoga","05/31",3518,0,1.4,222451938,0,1026532,52912,566629,55006,729051,406016,14858,92409,2943413,128251,147772,3219436,0,0,3219436,400632,0,928676,450,443905,0,152633,47199,7023,217394,343874,638495,25859,3206140,0,3206140]
[null,"Town of Northumberland",{"$f":"C158","v":"410360100000"},"Town of Northumberland","Saratoga","12/31",5087,0,32.299999999999997,356992179,130000,587527,5344,924822,0,42807,0,7279,153871,1721650,250518,122942,2095110,0,0,2095110,353697,0,161343,8761,1201721,0,0,31303,106082,0,57279,196120,0,2116306,0,2116306]
[null,"Town of Providence",{"$f":"C159","v":"410369300000"},"Town of Providence","Saratoga","12/31",1995,0,44,178879200,129960,690436,2935,497647,18056,29935,0,47290,10488,1296787,142498,0,1439285,61470,0,1500755,160118,0,50723,267,829235,2230,0,13740,226,0,23127,191962,81665,1353293,0,1353293]
[null,"Town of Saratoga",{"$f":"C160","v":"410374700000"},"Town of Saratoga","Saratoga","12/31",5674,0,40.6,531289867,2955000,602688,8451,1106553,0,30384,0,147762,146415,2042252,348516,196846,2587614,0,120307,2707921,487385,0,75441,2664,1044374,0,199296,117465,2385,0,4349,199831,255889,2389079,120307,2509386]
[null,"Village of Schuylerville",{"$f":"C161","v":"410474704490"},"Village of Schuylerville","Saratoga","05/31",1386,0,0.5,74123420,3346489,481976,8198,191670,11717,387896,311143,2069,4546,1399214,194370,110719,1704303,95629,0,1799932,447851,0,96576,2715,233782,0,112747,111805,20684,3011,593570,84728,256748,1964216,0,1964216]
[null,"Village of Victory",{"$f":"C162","v":"410474705070"},"Village of Victory","Saratoga","05/31",605,0,0.5,0,284040,201601,2320,67218,5546,112486,62786,4556,2438,458951,293907,28591,781449,6000,28505,815954,140007,0,7013,350,177598,0,246183,1180,5017,0,40503,47032,88081,752964,28505,781469]
[null,"City of Saratoga Springs",{"$f":"C163","v":"410252000000"},"City of Saratoga Springs","Saratoga","12/31",26586,0,28.1,3792162425,37718743,18103685,635684,10852800,458552,8589557,249179,588346,2191057,41668860,11756972,3797171,57223003,1539457,1556766,60319226,5535381,0,12172585,17765,6980987,207230,437853,5956850,232432,3016611,3978536,10689370,3396648,52622248,1556766,54179014]
[null,"Town of Stillwater",{"$f":"C164","v":"410380700000"},"Town of Stillwater","Saratoga","12/31",8287,0,41.2,724498532,4282819,1904871,35660,1622200,59869,455749,13727,70541,265658,4428274,1332105,774574,6534953,4864564,572230,11971746,924579,0,1141057,1520,1851888,762747,76193,309721,61553,408396,104483,552214,1626045,7820396,572274,8392669]
[null,"Village of Stillwater",{"$f":"C165","v":"410480704820"},"Village of Stillwater","Saratoga","05/31",1738,0,1.3,93175850,1691500,379310,4976,230065,18395,604660,0,17218,5901,1260526,30013,18666,1309204,117500,64648,1491352,172968,0,70096,190,149230,0,0,7723,314,598445,182056,113893,289747,1584662,64648,1649310]
[null,"Town of Waterford",{"$f":"C166","v":"410387500000"},"Town of Waterford","Saratoga","12/31",8423,0,6.6,597504494,8739124,3310903,65536,1431866,108502,862398,32791,19888,36493,5868377,878600,380436,7127413,133604,819076,8080093,1371657,1030,1536424,0,767047,251792,128338,347409,62280,0,929041,858468,941891,7195377,819076,8014453]
[null,"Village of Waterford",{"$f":"C167","v":"410487505180"},"Village of Waterford","Saratoga","05/31",1990,0,0.3,61340788,204500,246311,2363,146012,18795,80309,182313,358,35489,711950,203916,361242,1277108,50000,0,1327108,138713,0,203795,0,281194,279026,0,62650,1345,0,142989,9988,142785,1262486,0,1262486]
[null,"Town of Wilton",{"$f":"C168","v":"410391700000"},"Town of Wilton","Saratoga","12/31",16173,0,35.799999999999997,1821626122,505000,558765,7569,4502733,258829,558963,11396,269858,263435,6431548,690241,95555,7217344,0,25000,7242344,1492551,0,700850,11495,1972591,100518,2479,772414,286508,0,17091,913753,172475,6442725,25000,6467725]
[null,"Schenectady County",{"$f":"C169","v":"420100000000"},"County of Schenectady","Schenectady","12/31",154727,0,204.5,10444791771,57714665,63583228,3099810,82717843,568303,30440012,4587849,850607,14190015,200037667,46741425,34631818,281410910,6800419,1682882,289894211,50293418,13785064,22301444,30766693,16080227,103568604,662969,6154760,3750312,0,331867,34644415,8495929,290835702,1682882,292518584]
[null,"Town of Duanesburg",{"$f":"C170","v":"420324200000"},"Town of Duanesburg","Schenectady","12/31",6122,0,70.8,585414892,6985657,1484414,18644,724896,34930,30585,60813,6108,166764,2527154,222014,87463,2836630,0,1000,2837630,606647,0,447340,850,619822,2500,90536,24559,3500,0,312366,353832,303071,2765023,1000,2766023]
[null,"Village of Delanson",{"$f":"C171","v":"420424201250"},"Village of Delanson","Schenectady","05/31",377,0,0.6,23167654,443700,74296,188,35349,10388,84422,58854,277,483,264257,29495,0,293752,0,0,293752,76031,0,32053,0,54812,0,0,2456,0,35469,26962,6203,37256,271242,0,271242]
[null,"Town of Glenville",{"$f":"C172","v":"420333100000"},"Town of Glenville","Schenectady","12/31",29480,0,49.2,2328975445,21764820,7341433,152304,2534366,317237,1987823,375894,126285,949245,13784587,894403,473431,15152421,2900583,0,18053004,1470342,0,3684058,1743,2578556,325081,156892,390135,50537,1190481,769830,2826267,2391001,15834923,0,15834923]
[null,"Village of Scotia",{"$f":"C173","v":"420433104500"},"Village of Scotia","Schenectady","05/31",7729,0,1.7,426783975,1216280,3783102,84384,762478,0,2305228,387648,27857,84862,7435558,1675868,640262,9751688,0,213331,9965020,639606,0,3117960,64,643606,621599,58440,1073825,31406,474133,1636044,1332814,323796,9953293,213331,10166624]
[null,"Town of Niskayuna",{"$f":"C174","v":"420358700000"},"Town of Niskayuna","Schenectady","12/31",21781,0,14.2,2423130612,10374489,10116222,327206,3026887,358202,3540286,14329,331086,131738,17845956,954275,560396,19360627,9648726,543980,29553333,1705458,0,3321153,34597,3612017,291342,0,1089169,100953,4052328,2507125,3454495,1527246,21695882,543980,22239862]
[null,"Town of Princetown",{"$f":"C175","v":"420369200000"},"Town of Princetown","Schenectady","12/31",2115,0,23.9,202235418,2709700,400188,81679,193766,0,141162,0,39356,248070,1104222,71230,28267,1203719,330600,77246,1611565,382128,0,276218,100,78270,2345,0,1959,1000,477801,0,59108,172899,1451828,77246,1529074]
[null,"Town of Rotterdam",{"$f":"C176","v":"420372600000"},"Town of Rotterdam","Schenectady","12/31",29094,0,35.700000000000003,2547009941,10110000,11465185,323015,3523483,538874,906097,177794,334020,646756,17915225,1021568,1543636,20480429,70750,51677,20602856,2245334,1022,5788751,3400,4054515,1503575,3660,417267,184764,1672174,903117,4763104,1483485,23024167,51677,23075844]
[null,"City of Schenectady",{"$f":"C177","v":"420253000000"},"City of Schenectady","Schenectady","12/31",66135,0,10.8,2417858243,95999672,25594404,1266964,11848038,793997,28980434,266134,908758,6641333,76300062,16346137,8428494,101074693,3066714,406000,104547407,22284818,0,26256064,0,8602444,0,11516104,2042518,803457,5177328,15802846,24262511,8849515,125597605,406000,126003605]
[null,"Capital District",{"$f":"SUM(C3:C86)-C13-C14","v":-20769002040},null,null,null,{"$f":"G3+G24+G47+G78","v":837967},null,{"$f":"I3+I24+I47+I78","v":2189.6999999999998},67617683856,584967953,232247698,18577335,477522222,10093167,198222893,50889184,11280300,56511814,1055344611,189483684,172384745,1417213040,92643537,72004311,1581860889,338502840,83069023,131673034,140718798,67736042,436970636,3861337,14645086,17962539,0,18905591,193217608,49303538,1496566072,72004312,1568570384]
[]
[{"$f":"SUM(B89:AP89)","v":0},{"$f":"IF(B1<>B92,1,)","v":0},{"$f":"IF(C1<>C92,1,)","v":0},0,0,0,0,0,0,0,0,0,0,0,0,0,0,0,0,0,0,0,0,0,0,0,0,0,0,0,0,0,0,0,0,0,0,0,0,0,0,0]
[{"$f":"SUM(B90:AP90)","v":0},{"$f":"IF(B2<>B93,1,)","v":0},0,0,0,0,0,0,0,0,0,0,0,0,0,0,0,0,0,0,0,0,0,0,0,0,0,0,0,0,0,0,0,0,0,0,0,0,0,0,0,0]
[]
[null,"Fiscal Year 2010",null,null,null,null,null,null,null,null,null,"REVENUES",null,null,null,null,null,null,null,null,null,null,null,null,null,null,"EXPENDITURES"]
[{"$f":"SUM(A94:A178)","v":0},"Level One","Municipal Code","Municipal Name","County Name","Fiscal Year End","Population","Enrollment","Land Area (sq. mi.)","Full Value","Total Debt Outstanding at EOFY","Real Property Texes & Assessments","Other Real Property Tax Items","Sales & Use Tax","Other Non-Property Taxes","Charges for Services","Charges to Other Governments","Use & Sale of Property","Other Local Revenues","Local Revenues","State Aid","Federal Aid","Total Revenues","Proceeds of Debt","Other Services","Total Revenues & Other Sources","General Government","Education","Public Safety","Health","Transportation","Social Services","Economic Development","Culture & Recreation","Community Services","Utilities","Sanitation","Employee Benefits","Debt Service","Total Expenditures","Other Uses","Total Expenditures & Other Uses"]
[{"$f":"IF(C3<>C94,1,0)","v":0},"Albany County","010100000000","County of Albany","Albany","12/31",304204,0,522.79999999999995,24780071182,274806031,67489877,6979377,228951684,4749863,65133973,22394261,4184595,15813507,415697135,74524039,82382833,572604007,43358500,46424236,662386743,146311349,23588055,59369420,33647998,26142803,202210789,1525331,6304172,7328829,0,7677302,68512583,22135776,604754408,46424236,651178644]
[{"$f":"IF(C4<>C95,1,0)","v":0},"City of Albany","010201000000","City of Albany","Albany","12/31",97856,0,21.4,5125089604,152198950,53056844,26263862,30350525,1527548,15681666,1027889,1391115,10871572,140171021,21688863,11745596,173605480,670000,440000,174715480,22113971,0,57732938,208730,18605086,2403238,0,5305920,2961649,0,13924849,48656526,16725695,188638602,440000,189078602]
[0,"Town of Berne","010306800000","Town of Berne","Albany","12/31",2794,0,64,299701688,591036,1160528,4605,888183,14058,37542,0,10958,39055,2154929,347544,0,2502472,88227,0,2590700,358567,0,510789,1300,989203,0,0,75861,0,0,108829,191120,98152,2333820,0,2333820]
[0,"Town of Bethlehem","010307100000","Town of Bethlehem","Albany","12/31",33656,0,49,3396032947,20250000,10811795,1966401,9444723,707304,10683517,40626,317646,1126579,35098591,1432107,897379,37428077,43000,261000,37732077,3885268,1192,7144312,3965,5239059,300615,0,2081858,492430,6477043,5140012,5777893,2044680,38588327,261000,38849327]
[0,"Town of Coeymans","010318000000","Town of Coeymans","Albany","12/31",7418,0,50.1,607063586,3978,1738076,11440,1785256,13549,316534,436915,34311,257448,4593528,242142,470895,5306565,0,1791626,7098191,879875,0,1226159,165968,1274456,484427,844,87344,218139,0,438386,736272,5189,5517059,1791626,7308685]
[0,"Village of Ravena","010418004140","Village of Ravena","Albany","05/31",3268,0,1.5,169328756,865000,761980,4857,715669,0,890280,0,49207,159697,2581690,81777,54586,2718053,0,110000,2828053,742493,0,138496,512,289166,0,1304,85918,7060,302019,278148,481656,195701,2522473,110000,2632473]
[0,"City of Cohoes","010209000000","City of Cohoes","Albany","12/31",16168,0,3.8,689715761,10660383,6587042,785349,4886563,335351,4382652,197928,139998,619612,17934495,3717282,5979887,27631664,0,267027,27898691,2631834,0,6982179,0,6231996,0,173947,507297,1323980,771642,2341882,4588842,1806327,27359926,267027,27626953]
[0,"Town of Colonie","010318700000","Town of Colonie","Albany","12/31",81591,0,55.9,8629079128,104955386,29894359,1176856,19446154,0,26810938,134889,2869394,7367366,87699956,3912479,6767989,98380424,766087,2876000,102022511,19791192,0,23554456,62563,9686674,2162718,893013,8501666,146776,8837132,7476381,17853505,6791305,105757381,2876000,108633381]
[0,"Village of Colonie","010418701100","Village of Colonie","Albany","05/31",7793,0,3.2,843702141,0,1189824,11305,2326038,126683,2827590,0,57128,88573,6627141,187683,115892,6930716,0,612360,7543076,708727,0,334935,10583,1320687,0,25994,520847,445775,1179195,1301700,718178,0,6566621,612360,7178981]
[0,"Village of Menands","010418703040","Village of Menands","Albany","05/31",3990,0,3.1,464248478,325000,1793552,6677,1288251,81700,1307349,181217,14943,314477,4988166,131927,25848,5145941,0,0,5145941,630602,0,1176266,0,579255,0,4476,71255,10694,782294,564448,776927,0,4596217,0,4596217]
[0,"Town/Village of Green Island","010334500000","Town of Green Island","Albany","12/31",2620,0,0.8,140974052,0,0,787,51217,0,3038,0,454,143782,199278,45488,0,244766,0,0,244766,285349,0,2000,0,0,0,0,10000,0,0,0,27644,0,324993,0,324993]
[0,"Town/Village of Green Island","010434502040","Village of Green Island","Albany","05/31",2620,0,0.8,156917509,885000,1702672,399374,606525,42898,1122853,414760,174977,100351,4564410,129815,381400,5075625,0,0,5075625,557350,0,1120798,0,279140,354625,0,133831,0,333394,804532,674865,419917,4678452,0,4678452]
[0,"Town/Village of Green Island"]
[0,"Town of Guilderland","010335500000","Town of Guilderland","Albany","12/31",35303,0,57.9,3752152566,27917000,8268629,95679,9747640,519166,7240561,164870,465505,950635,27452685,1624711,586027,29663422,0,1233638,30897060,2592473,0,6347532,342933,5967413,38627,648865,1668584,284847,2633803,3287643,4063036,3083298,30959053,1233638,32192690]
[0,"Village of Altamont","010435500120","Village of Altamont","Albany","05/31",1720,0,1.2,126640029,1260000,272101,3135,533455,32127,744767,97928,119626,54150,1857289,72482,10452,1940223,0,0,1940223,267391,0,417249,0,232923,0,0,218339,6468,193411,315730,161891,106656,1920058,0,1920058]
[0,"Town of Knox","010344300000","Town of Knox","Albany","12/31",2692,0,41.8,265450406,1139981,241958,2949,798626,30657,6583,0,40595,23340,1144707,115187,0,1259894,80000,1000,1340894,1162541,0,102493,1232,557833,0,0,20361,1500,0,95485,178556,110353,2230354,1000,2231354]
[0,"Town of New Scotland","010358100000","Town of New Scotland","Albany","12/31",8648,0,57.5,972484595,2125914,2306917,7397,1765304,33096,410890,0,22178,262644,4808426,403825,126169,5338420,48800,489,5387709,783786,0,985069,1428,1829789,0,0,152813,101221,293285,615190,659163,239034,5660779,489,5661267]
[0,"Village of Voorheesville","010458105090","Village of Voorheesville","Albany","05/31",2789,0,2.1,238009756,3735000,259531,1156,855366,53546,583967,0,22602,24052,1800220,104494,2550,1907264,0,0,1907264,303841,0,70442,750,424202,0,0,21567,1073,153762,231068,200593,266005,1673303,0,1673303]
[0,"Town of Rensselaerville","010370600000","Town of Rensselaerville","Albany","12/31",1843,0,61.5,260837670,810241,1194526,5133,501520,2890,115047,0,14190,23667,1856973,169482,0,2026455,16800,18478,2061733,329075,0,235702,40459,1063367,0,0,76307,7900,23241,91619,332364,47630,2247664,18478,2266142]
[0,"City of Watervliet","010260000000","City of Watervliet","Albany","12/31",10254,0,1.4,389563501,7199463,3824057,146256,3241101,162368,4552059,331778,8997,203285,12469901,6434433,246864,19151198,69500,1147128,20367826,1344622,0,4556418,32634,5649324,0,599105,262835,27453,1760396,1084699,3134921,932037,19384444,1147128,20531572]
[0,"Town of Westerlo","010389000000","Town of Westerlo","Albany","12/31",3361,0,57.8,334238875,1180000,994007,4604,1045726,8895,104633,0,13773,25300,2196938,234381,0,2431319,0,4785,2436104,622015,0,285304,0,778664,0,0,229882,0,55625,176303,374927,101716,2624436,4785,2629221]
[0,"Rensselaer County","380100000000","County of Rensselaer","Rensselaer","12/31",159429,0,652.4,10505904197,172578257,54954180,5126992,69300351,2142969,56268683,18250491,2510295,22984755,231538716,45932941,27210705,304682362,13510618,2873269,321066250,46614760,27965128,29261288,44221883,9468366,83962914,889366,427844,3315388,0,3590424,48240174,13777806,311735339,2873269,314608608]
[0,"Village of Nassau","380456103330","Village of Nassau","Rensselaer","05/31",1133,0,0.7,69949308,181350,336290,9024,63338,15538,249726,0,2213,45021,721150,73182,6334,800666,34600,30300,865566,169761,0,159086,0,123804,0,0,4573,215,126761,86363,53821,58897,783281,30300,813581]
[0,"Village of Valley Falls","380467005020","Village of Valley Falls","Rensselaer","05/31",466,0,0.5,27333975,1880534,49500,1210,29737,4151,106413,75000,44,22665,288720,19513,0,308233,0,4949,313182,59543,0,40548,0,24095,0,0,19346,50827,0,2222,2592,92600,291773,4949,296722]
[0,"Town of Berlin","380306700000","Town of Berlin","Rensselaer","12/31",1880,0,59.6,169380954,0,379476,2217,164826,0,197090,0,2411,15111,761132,116282,0,877414,0,0,877414,122054,0,15121,200,428000,0,0,18726,4344,38497,111059,82109,13801,833911,0,833911]
[0,"Town of Brunswick","380309900000","Town of Brunswick","Rensselaer","12/31",11941,0,44.4,1013344648,2385000,3377741,30335,1016116,98478,1465368,28199,56682,18748,6091667,506240,29988,6627895,0,0,6627895,1076797,0,1058196,2500,1648778,0,146488,360709,15486,1211908,109626,680243,243166,6553897,0,6553897]
[0,"Town of East Greenbush","380324900000","Town of East Greenbush","Rensselaer","12/31",16473,0,24,1592115009,8026820,8331228,351893,1618667,199901,3495870,241404,79874,1206752,15525590,832467,0,16358057,583445,0,16941502,2173457,0,2763705,6739,2281845,0,0,320118,4618,2138415,2014471,2710658,1376467,15790493,0,15790493]
[0,"Town of Grafton","380333500000","Town of Grafton","Rensselaer","12/31",2130,0,44.7,200300759,436900,636740,1326,209402,0,26374,0,9089,60983,943914,142881,0,1086794,0,0,1086794,202877,0,31422,1000,534896,0,0,34429,4138,0,44554,126696,68711,1048724,0,1048724]
[0,"Town of Hoosick","380339800000","Town of Hoosick","Rensselaer","12/31",6924,0,63,418388532,80000,1413177,10771,270637,2452,70520,8585,597,68793,1845532,230281,465525,2541338,0,28593,2569931,353851,0,300523,0,1377035,0,0,169636,12332,1460,1750,293792,87534,2597913,28593,2626506]
[0,"Village of Hoosick Falls","380439802380","Village of Hoosick Falls","Rensselaer","05/31",3501,0,1.6,152269985,14295272,1072824,41545,182123,33682,1460556,5500,1479,80066,2877775,253414,0,3131189,50379,0,3181568,213535,0,426802,0,534825,0,17284,32140,0,2157244,755907,363542,340315,4841594,0,4841594]
[0,"Town of Nassau","380356100000","Town of Nassau","Rensselaer","12/31",4789,0,44.4,364096939,447934,971498,5079,245264,19233,62521,3725,12799,190385,1510504,283192,171863,1965559,150700,201756,2318014,402131,0,219151,2249,911813,169654,0,24131,5422,0,100586,244107,77163,2156409,201756,2358165]
[0,"Village of East Nassau","380456101435","Village of East Nassau","Rensselaer","05/31",587,0,4.9000000000000004,41915863,0,51288,231,41243,0,383,0,233,0,93378,28379,12995,134752,0,0,134752,45262,0,4170,0,93368,0,0,0,0,0,0,2106,0,144906,0,144906]
[0,"Town of North Greenbush","380359500000","Town of North Greenbush","Rensselaer","12/31",12075,0,18.600000000000001,935986053,21774000,4914412,386328,981703,216387,1659201,0,55612,296928,8510571,603610,0,9114180,999000,13049,10126229,2968236,0,1927744,8353,1407954,0,0,466300,10355,1643522,318238,1345950,2167376,12264027,13049,12277076]
[0,"Town of Petersburgh","380365600000","Town of Petersburgh","Rensselaer","12/31",1525,0,41.6,121889374,242400,498718,2920,118643,0,70087,3218,3626,10029,707241,156149,339,863729,0,10109,873838,162547,0,12091,10500,347894,0,0,59519,5740,24707,73098,84964,35121,816181,10109,826290]
[0,"Town of Pittstown","380367000000","Town of Pittstown","Rensselaer","12/31",5735,0,61.6,380220315,16630,2028837,7478,227412,0,58805,0,8213,48352,2379097,102571,0,2481668,0,0,2481668,258078,0,95627,880,1346016,0,507,13780,2751,0,469238,273282,26304,2486463,0,2486463]
[0,"Town of Poestenkill","380367600000","Town of Poestenkill","Rensselaer","12/31",4530,0,32.4,342159337,9629493,1114953,5359,320892,7113,17946,10561,1493,51078,1529395,494313,430080,2453788,0,0,2453788,303513,0,264675,1500,706914,0,0,102292,3250,9590660,33302,218311,106523,11330940,0,11330940]
[0,"City of Rensselaer","380247000000","City of Rensselaer","Rensselaer","07/31",9392,0,3.2,405901319,4592949,5410832,1570539,1912977,149262,2608833,72800,87534,284225,12097002,3125029,926667,16148698,3895747,177500,20221944,2196120,0,3542766,0,2952294,0,1511738,250264,47313,2165276,820340,2702065,753088,16941267,177500,17118767]
[0,"Town of Sand Lake","380374100000","Town of Sand Lake","Rensselaer","12/31",8530,0,35.1,726584506,2411252,1625483,12511,762972,128804,543841,4487,19367,79540,3177005,420271,176383,3773659,1681252,182960,5637871,991779,0,386673,1000,1409899,0,0,257111,44691,0,977037,458202,317269,4843661,182960,5026621]
[0,"Town of Schaghticoke","380375200000","Town of Schaghticoke","Rensselaer","12/31",7679,0,49.8,582264982,5545750,2033947,7807,573781,56222,397371,55653,16096,65271,3206148,371100,66556,3643804,0,34671,3678475,466105,0,244664,3000,1182285,0,0,70578,18800,422836,720495,427630,397871,3954264,34671,3988935]
[0,"Village of Schaghticoke","380475204460","Village of Schaghticoke","Rensselaer","05/31",592,0,0.8,43080391,0,146687,155,55787,5497,88840,0,18818,41550,357334,59184,312265,728782,0,30000,758782,120041,0,386231,0,93972,0,276,13228,4875,128842,1157,18157,0,766779,30000,796779]
[0,"Town of Schodack","380375300000","Town of Schodack","Rensselaer","12/31",12794,0,61.9,1128496869,16469915,5536364,233405,1026675,75588,793320,10728,127923,755214,8559216,577393,249773,9386382,1735863,3722343,14844587,1527507,0,1607356,2266,1870587,235212,4000,499089,21488,1004572,438657,969406,1416184,9596324,3722343,13318667]
[0,"Village of Castleton-on-Hudson","380475300790","Village of Castleton-On-Hudson","Rensselaer","05/31",1473,0,0.7,118313321,2136558,414550,13580,149389,3748,860838,185879,12280,31090,1671354,550774,36741,2258869,0,11933,2270802,151234,0,82815,1200,1069814,0,11029,255233,1462,126995,583447,173820,165452,2622501,11933,2634434]
[0,"Town of Stephentown","380380400000","Town of Stephentown","Rensselaer","12/31",2903,0,57.9,258190053,0,"-","-","-","-","-","-","-","-","-","-","-","-","-","-","-","-","-","-","-","-","-","-","-","-","-","-","-","-","-","-","-"]
[0,"City of Troy","380257000000","City of Troy","Rensselaer","12/31",50129,0,10.4,1905426906,76568550,18323507,1898020,14069098,539137,19245649,429573,3263642,4245666,62014292,16750224,9719503,88484019,1225000,3672867,93381886,8623752,0,22468206,111111,9613486,0,3317796,2846127,1985776,7644325,3999857,18675799,7282120,86568355,3672867,90241222]
[0,"Saratoga County","410100000000","County of Saratoga","Saratoga","12/31",219607,0,810,21886916706,79869000,46220413,3371156,96552344,2632032,46380225,5656583,3734803,3523537,208071093,22285279,28159389,258515761,28974000,21023924,308513685,95283313,17730776,20740882,32082224,16044646,47228329,783671,1758310,3568010,0,7305998,41820436,4894027,289240623,21023925,310264548]
[0,"Village of Ballston Spa","410453400340","Village of Ballston Spa","Saratoga","05/31",5409,0,1.6,334011245,952705,1202165,3842,880430,54040,912429,346834,59783,131346,3590869,343619,1040020,4974508,0,0,4974508,568371,0,774544,5883,456986,988548,3400,322768,17000,499553,154746,628864,354896,4775559,0,4775559]
[0,"Town of Ballston","410304900000","Town of Ballston","Saratoga","12/31",9776,0,29.6,952484335,3970500,1176284,7700,2235176,70551,686364,26000,30808,225501,4458384,493998,0,4952382,0,0,4952382,853477,0,394575,3213,1478818,0,0,479905,17226,1136490,1279,550536,507569,5423088,0,5423088]
[0,"Town of Charlton","410314700000","Town of Charlton","Saratoga","12/31",4133,0,32.799999999999997,441650710,1853600,138032,2472,1130663,23129,153397,360,9535,63034,1520622,299256,0,1819878,0,0,1819878,502504,0,88596,1031,637956,0,0,66642,10155,266966,12846,179598,147919,1914213,0,1914213]
[0,"Town of Clifton Park","410317400000","Town of Clifton Park","Saratoga","12/31",36705,0,48.2,3896606465,12057491,3014340,178159,9712419,0,2550050,1297210,780977,897141,18430295,2259487,412705,21102486,41000,3820295,24963781,3805643,0,3923680,21300,4180749,319770,500,3536309,406803,23361,2367952,3279495,1046495,22912056,3820295,26732351]
[0,"Town of Corinth","410320000000","Town of Corinth","Saratoga","12/31",6531,0,56.8,549529510,0,1608003,318571,702444,45968,525553,0,13728,56229,3270496,1439047,0,4709543,0,0,4709543,557591,0,513849,348873,2049043,0,4500,94798,72269,25376,230817,437423,0,4334538,0,4334538]
[0,"Village of Corinth","410420001150","Village of Corinth","Saratoga","05/31",2559,0,1.1000000000000001,240958385,5990000,1433372,467441,658638,0,785843,261021,22943,15085,3644343,227662,915691,4787696,0,488546,5276242,354145,0,672066,0,813269,466450,439150,60922,7232,292752,422386,423314,459934,4411620,488546,4900166]
[0,"Town of Day","410322000000","Town of Day","Saratoga","12/31",856,0,64.099999999999994,324648383,0,461663,22953,778955,0,11967,0,7149,7071,1289758,238567,0,1528325,0,0,1528325,279631,0,95858,1516,835428,0,0,17180,8894,0,311307,228447,0,1778261,0,1778261]
[0,"Town of Edinburg","410325500000","Town of Edinburg","Saratoga","12/31",1214,0,60.2,409060172,0,280075,5251,962445,0,18969,0,9533,10240,1286513,141649,0,1428162,0,50733,1478895,308468,0,106764,2676,584756,0,1253,13977,10330,0,142103,138797,0,1309124,50733,1359857]
[0,"Town of Galway","410331400000","Town of Galway","Saratoga","12/31",3545,0,43.8,428006969,632000,564000,3386,1035159,45476,9565,7486,450,29742,1695263,240885,0,1936148,0,0,1936148,287979,0,328896,1000,949547,4000,0,36028,9159,0,4442,145612,140621,1907285,0,1907285]
[0,"Village of Galway","410431401900","Village of Galway","Saratoga","05/31",200,0,0.3,13207727,0,0,0,39705,0,185,0,2175,15375,57440,5343,0,62783,0,0,62783,16808,0,20315,0,2606,0,0,2891,3088,0,0,970,0,46678,0,46678]
[0,"Town of Greenfield","410334400000","Town of Greenfield","Saratoga","12/31",7775,0,67.400000000000006,748080021,0,845580,6287,1840340,57788,123590,0,46291,67850,2987727,414037,0,3401765,0,117505,3519270,499166,0,79381,6051,2202297,0,229083,154823,93533,0,29608,291490,0,3585432,117505,3702937]
[0,"Town of Hadley","410335700000","Town of Hadley","Saratoga","12/31",2048,0,39.700000000000003,258437047,250000,1049845,3187,628297,17523,125688,0,8414,20863,1853817,176256,202696,2232769,0,599001,2831771,388086,0,7528,1338,691131,206182,260,64121,16501,65020,267525,295707,53247,2056646,599001,2655648]
[0,"Town of Halfmoon","410336000000","Town of Halfmoon","Saratoga","12/31",21535,0,32.6,1953841698,44886577,2795691,20003,4871503,207610,3964040,105000,99325,547913,12611086,1123827,77099,13812012,0,202550,14014562,2359983,0,1531804,84385,2196444,0,0,990127,87468,3367464,112141,1285527,4262685,16278028,202550,16480578]
[0,"Town of Malta","410350100000","Town of Malta","Saratoga","12/31",14765,0,27.9,1496744943,3220000,1287808,9967,3611321,152312,4430460,94696,155056,659339,10400959,2890493,15558,13307010,0,199933,13506943,3272905,0,1548807,4300,3848494,0,5491,1050674,29111,0,114200,876963,256008,11006953,199933,11206886]
[0,"Village of Round Lake","410450104295","Village of Round Lake","Saratoga","05/31",623,0,1.1000000000000001,55288695,2108893,319347,2650,135155,54543,248724,435247,21143,38334,1255143,78699,0,1333842,71500,136950,1542292,167924,0,205206,187,192956,0,0,235082,11213,90110,6854,87507,209841,1206880,136950,1343830]
[0,"City of Mechanicville","410229000000","City of Mechanicville","Saratoga","12/31",5196,0,0.8,209372846,6555413,1861253,92087,1165271,83288,1571962,12379,14104,108289,4908633,1075904,175937,6160474,696750,0,6857224,696815,0,2152362,10000,865971,0,385796,84959,23014,474697,952128,1138931,350975,7135647,0,7135647]
[0,"Town of Milton","410353400000","Town of Milton","Saratoga","12/31",18575,0,35.700000000000003,1203300846,0,456838,9850,2533365,140500,135392,0,59558,97406,3432909,682812,0,4115721,0,751445,4867166,1039144,0,205996,7313,2044553,0,2899,307727,29451,0,225,853165,1049,4491522,751445,5242967]
[0,"Town of Moreau","410354900000","Town of Moreau","Saratoga","12/31",14728,0,41.9,1039551342,3603707,1782427,68964,1677028,153466,1432784,0,52556,313455,5480680,517299,0,5997979,0,70231,6068210,846832,0,1257290,2089,1314788,0,4203,1059035,246184,459536,234209,702706,128704,6255576,70231,6325807]
[0,"Village of South Glens Falls","410454904730","Village of South Glens Falls","Saratoga","05/31",3518,0,1.4,222451938,0,1026532,52912,566629,55006,729051,406016,14858,92409,2943413,128251,147772,3219436,0,0,3219436,400632,0,928676,450,443905,0,152633,47199,7023,217394,343874,638495,25859,3206140,0,3206140]
[0,"Town of Northumberland","410360100000","Town of Northumberland","Saratoga","12/31",5087,0,32.299999999999997,356992179,130000,587527,5344,924822,0,42807,0,7279,153871,1721650,250518,122942,2095110,0,0,2095110,353697,0,161343,8761,1201721,0,0,31303,106082,0,57279,196120,0,2116306,0,2116306]
[{"$f":"IF(C68<>C159,1,0)","v":0},"Town of Providence","410369300000","Town of Providence","Saratoga","12/31",1995,0,44,178879200,129960,690436,2935,497647,18056,29935,0,47290,10488,1296787,142498,0,1439285,61470,0,1500755,160118,0,50723,267,829235,2230,0,13740,226,0,23127,191962,81665,1353293,0,1353293]
[0,"Town of Saratoga","410374700000","Town of Saratoga","Saratoga","12/31",5674,0,40.6,531289867,2955000,602688,8451,1106553,0,30384,0,147762,146415,2042252,348516,196846,2587614,0,120307,2707921,487385,0,75441,2664,1044374,0,199296,117465,2385,0,4349,199831,255889,2389079,120307,2509386]
[0,"Village of Schuylerville","410474704490","Village of Schuylerville","Saratoga","05/31",1386,0,0.5,74123420,3346489,481976,8198,191670,11717,387896,311143,2069,4546,1399214,194370,110719,1704303,95629,0,1799932,447851,0,96576,2715,233782,0,112747,111805,20684,3011,593570,84728,256748,1964216,0,1964216]
[0,"Village of Victory Mills","410474705070","Village of Victory","Saratoga","05/31",605,0,0.5,0,284040,201601,2320,67218,5546,112486,62786,4556,2438,458951,293907,28591,781449,6000,28505,815954,140007,0,7013,350,177598,0,246183,1180,5017,0,40503,47032,88081,752964,28505,781469]
[0,"City of Saratoga Springs","410252000000","City of Saratoga Springs","Saratoga","12/31",26586,0,28.1,3792162425,37718743,18103685,635684,10852800,458552,8589557,249179,588346,2191057,41668860,11756972,3797171,57223003,1539457,1556766,60319226,5535381,0,12172585,17765,6980987,207230,437853,5956850,232432,3016611,3978536,10689370,3396648,52622248,1556766,54179014]
[0,"Town of Stillwater","410380700000","Town of Stillwater","Saratoga","12/31",8287,0,41.2,724498532,4282819,1904871,35660,1622200,59869,455749,13727,70541,265658,4428274,1332105,774574,6534953,4864564,572230,11971746,924579,0,1141057,1520,1851888,762747,76193,309721,61553,408396,104483,552214,1626045,7820396,572274,8392669]
[0,"Village of Stillwater","410480704820","Village of Stillwater","Saratoga","05/31",1738,0,1.3,93175850,1691500,379310,4976,230065,18395,604660,0,17218,5901,1260526,30013,18666,1309204,117500,64648,1491352,172968,0,70096,190,149230,0,0,7723,314,598445,182056,113893,289747,1584662,64648,1649310]
[0,"Town of Waterford","410387500000","Town of Waterford","Saratoga","12/31",8423,0,6.6,597504494,8739124,3310903,65536,1431866,108502,862398,32791,19888,36493,5868377,878600,380436,7127413,133604,819076,8080093,1371657,1030,1536424,0,767047,251792,128338,347409,62280,0,929041,858468,941891,7195377,819076,8014453]
[0,"Village of Waterford","410487505180","Village of Waterford","Saratoga","05/31",1990,0,0.3,61340788,204500,246311,2363,146012,18795,80309,182313,358,35489,711950,203916,361242,1277108,50000,0,1327108,138713,0,203795,0,281194,279026,0,62650,1345,0,142989,9988,142785,1262486,0,1262486]
[0,"Town of Wilton","410391700000","Town of Wilton","Saratoga","12/31",16173,0,35.799999999999997,1821626122,505000,558765,7569,4502733,258829,558963,11396,269858,263435,6431548,690241,95555,7217344,0,25000,7242344,1492551,0,700850,11495,1972591,100518,2479,772414,286508,0,17091,913753,172475,6442725,25000,6467725]
[0,"Schenectady County","420100000000","County of Schenectady","Schenectady","12/31",154727,0,204.5,10444791771,57714665,63583228,3099810,82717843,568303,30440012,4587849,850607,14190015,200037667,46741425,34631818,281410910,6800419,1682882,289894211,50293418,13785064,22301444,30766693,16080227,103568604,662969,6154760,3750312,0,331867,34644415,8495929,290835702,1682882,292518584]
[0,"Town of Duanesburg","420324200000","Town of Duanesburg","Schenectady","12/31",6122,0,70.8,585414892,6985657,1484414,18644,724896,34930,30585,60813,6108,166764,2527154,222014,87463,2836630,0,1000,2837630,606647,0,447340,850,619822,2500,90536,24559,3500,0,312366,353832,303071,2765023,1000,2766023]
[0,"Village of Delanson","420424201250","Village of Delanson","Schenectady","05/31",377,0,0.6,23167654,443700,74296,188,35349,10388,84422,58854,277,483,264257,29495,0,293752,0,0,293752,76031,0,32053,0,54812,0,0,2456,0,35469,26962,6203,37256,271242,0,271242]
[0,"Town of Glenville","420333100000","Town of Glenville","Schenectady","12/31",29480,0,49.2,2328975445,21764820,7341433,152304,2534366,317237,1987823,375894,126285,949245,13784587,894403,473431,15152421,2900583,0,18053004,1470342,0,3684058,1743,2578556,325081,156892,390135,50537,1190481,769830,2826267,2391001,15834923,0,15834923]
[0,"Village of Scotia","420433104500","Village of Scotia","Schenectady","05/31",7729,0,1.7,426783975,1216280,3783102,84384,762478,0,2305228,387648,27857,84862,7435558,1675868,640262,9751688,0,213331,9965020,639606,0,3117960,64,643606,621599,58440,1073825,31406,474133,1636044,1332814,323796,9953293,213331,10166624]
[0,"Town of Niskayuna","420358700000","Town of Niskayuna","Schenectady","12/31",21781,0,14.2,2423130612,10374489,10116222,327206,3026887,358202,3540286,14329,331086,131738,17845956,954275,560396,19360627,9648726,543980,29553333,1705458,0,3321153,34597,3612017,291342,0,1089169,100953,4052328,2507125,3454495,1527246,21695882,543980,22239862]
[0,"Town of Princetown","420369200000","Town of Princetown","Schenectady","12/31",2115,0,23.9,202235418,2709700,400188,81679,193766,0,141162,0,39356,248070,1104222,71230,28267,1203719,330600,77246,1611565,382128,0,276218,100,78270,2345,0,1959,1000,477801,0,59108,172899,1451828,77246,1529074]
[0,"Town of Rotterdam","420372600000","Town of Rotterdam","Schenectady","12/31",29094,0,35.700000000000003,2547009941,10110000,11465185,323015,3523483,538874,906097,177794,334020,646756,17915225,1021568,1543636,20480429,70750,51677,20602856,2245334,1022,5788751,3400,4054515,1503575,3660,417267,184764,1672174,903117,4763104,1483485,23024167,51677,23075844]
[0,"City of Schenectady","420253000000","City of Schenectady","Schenectady","12/31",66135,0,10.8,2417858243,95999672,25594404,1266964,11848038,793997,28980434,266134,908758,6641333,76300062,16346137,8428494,101074693,3066714,406000,104547407,22284818,0,26256064,0,8602444,0,11516104,2042518,803457,5177328,15802846,24262511,8849515,125597605,406000,126003605]
[0,"Capital District",{"$f":"SUM(C94:C177)-C104-C105","v":-20769002040}]

{"sheet":"Muni-L2","index":1,"n_rows":181,"n_cols":185,"rows_kept":181,"cut":false,"hidden":false,"merged":[]}
[null,"Fiscal Year 2010",null,null,null,null,null,null,null,null,null,"REVENUES",null,null,null,null,null,null,null,null,null,null,null,null,null,null,null,null,null,null,null,null,null,null,null,null,null,null,null,null,null,null,null,null,null,null,null,null,null,null,null,null,null,null,null,null,null,null,null,null,null,null,null,null,null,null,null,null,null,null,null,null,null,null,null,null,null,null,null,null,null,null,null,null,null,null,null,null,null,null,null,null,null,null,null,null,null,"EXPENDITURES"]
[null,null,null,null,null,null,null,null,null,null,null,"Real Property Taxes & Assessments",null,null,"Other Real Property Tax Items",null,null,null,null,"Sales & Use Tax",null,null,null,"Other Non-Property Taxes",null,null,null,"Charges for Services",null,null,null,null,null,null,null,null,null,null,null,null,"Charges to Other Governments",null,null,null,null,null,null,null,null,null,null,null,"Use & Sale of Property",null,null,"Other Local Revenues",null,null,null,null,null,null,null,null,"State Aid",null,null,null,null,null,null,null,null,null,null,null,null,null,"Federal Aid ",null,null,null,null,null,null,null,null,null,null,null,null,"Proceeds of Debt",null,null,"Other Sources",null,null,"General Government",null,null,null,null,null,"Education",null,null,null,null,null,null,"Public Safety",null,null,null,null,null,null,null,"Health",null,null,null,null,null,"Transportation",null,null,null,null,null,null,null,null,"Social Services",null,null,null,null,null,null,null,null,"Economic Development",null,null,null,null,"Culture & Recreation",null,null,null,null,null,"Community Services",null,null,null,null,"Utilities",null,null,null,"Sanitation",null,null,null,null,null,"Employee Benefits",null,null,null,null,null,null,null,null,null,null,null,"Debt Service",null,null,"Other Uses"]
[null,"Level Two","Municipal Code","Municipal Name","County Name","Fiscal Year End","Population","Enrollment","Land Area (sq. mi.)","Full Value","Total Debt Outstanding at EOFY","Real Property Taxes","","Special Assessments","Star Payments","Payments In Lieu Of Taxes","Interest Penalties","Gain from Sale of Tax Acquired Property","Miscellaneous Tax Items","Sales Tax","Sales Tax Distribution","Utilities Gross Receipts Tax","Miscellaneous Use Taxes","Franchises","Emergency Telephone System Surcharge","Miscellaneous Non-Property Taxes","City Income Tax","General Government Fees","Education Fees","Public Safety Fees","Health Fees","","Transportation Fees","Social Services Fees","Economic Development Fees","Culture And Recreation Fees","Community Services Fees","Utility Fees","Sanitation Fees","Miscellaneous Fees","General Government Charges","Education Charges","Public Safety Charges","Health Charges","Transportation Charges","Social Services Charges","Culture & Recreation Charges","Community Services Charges","Utility Charges","Debt Service Charges","Miscellaneous Inter-Governmental Charges","Sanitation Charges","Interest & Earnings","Sale of Property","Rental of Property","Fines","Forfeitures","Compensation for Loss","Library Grants from Local Governments","Miscellaneous Grants from Local Governments","Gifts","Employee Contributions","Miscellaneous Revenues","Local Revenues","Unrestricted State Aid","Mortgage Tax","State Aid General Government","State Aid Education","State Aid Public Safety","State Aid Health","State Aid Transportation","State Aid Social Services","State Aid Economic Development","State Aid Culture And Recreation","State Aid Community Services","State Aid Utilities","State Aid Sanitation","Miscellaneous State Aid","Federal Aid Education","Federal Aid Public Safety","Federal Aid Health","Federal Aid Transportation","Federal Aid Social Services","Federal Aid Economic Development","Federal Aid Culture And Recreation","Federal Aid Community Services","Federal Aid General Government","Federal Aid Utilities","Federal Aid Sanitation","Miscellaneous Federal Aid","Total Revenues","Sale Of Obligations","Bans Redeemed From Appropriations","Miscellaneous Debt Proceeds","Tranfers","Miscellaneous Other Sources","Total Revenues & Other Sources","Operations","Administration","County Distribution of Sales Tax","Miscellaneous General Government","Zoning And Planning","Judgements","Instruction","Instructional Support","Pupil Services","Education - Transportation","Student Activities","Community College","Miscellaneous Education","Public Safety Administration","Police","Fire Protection","Emergency Response","Correctional Services","Disaster Response","Homeland Security and Civil Defense","Miscellaneous Public Safety","Public Health Administration","Public Health Services","Mental Health Services","Environmental Services","Public Health Facilities","Miscellaneous Public Health","Highways","Highway Services to Other Governments","Bus Service","Airports","Rail Service","Waterways","Transportation Facilities","Transportation Ancillary","Miscellaneous Transportation","Social Service Administration","Financial Assistance","Medicaid","Non-Medicaid Medical Assistance","Housing Assistance","Employment Services","Youth Services","Public Facilities","Miscellaneous Social Services","Economic Development Administration","Development Infrastructure","Promotion","Economic Development Grants","Miscellaneous Economic Development","Recreation Services","Adult Recreation","Youth Recreation","Library","Cultural Services","Miscellaneous Cultural & Recreation","Constituent Services","Elder Services","Natural Resources","Student Census","Miscellaneous Community Services","Water","Electricity","Natural Gas","Steam","Sewer","Storm Sewer","Refuse & Garbage","Landfill Closures","Drainage","Miscellaneous Sanitation","Retirement State Local","Retirement Police Fire","Retirement Teacher","LOSAP / Miscellaneous","Social Security","Medical Insurance","Disability Insurance","Life Insurance","Workers Compensation","Unemployment Insurance","Union Benefits Program","Unclassified Employee Benefits","Debt Principal","Interest On Debt","Total Expenditures","Tranfers","Total Expenditures & Other Uses"]
[null,"Albany County",{"$f":"C97","v":"010100000000"},{"$f":"D97","v":"County of Albany"},"Albany","12/31",304204,0,522.79999999999995,24780071182,274806031,67489877,0,0,0,1819189,4941620,218567,0,222596790,0,0,6354894,0,1411199,3338664,0,15819588,0,1164915,30845738,0,1376420,7864498,50513,6634621,165988,0,1211693,0,869748,0,9405962,0,900231,0,0,0,0,1085889,263147,9869284,1990552,475137,1718905,719627,0,6357569,0,1126924,0,0,7609387,415697135,0,0,4398753,{"$f":"BP97","v":8229598},2133513,20741776,2677937,30183952,0,333491,1855408,0,2784271,1185340,0,1135459,17079678,6401889,54734723,335565,0,2695520,0,0,0,0,572604007,41815000,1543500,0,46424236,0,662386743,23297162,29128036,88873142,4479957,363768,169285,0,0,0,0,0,10383801,13204254,1885970,13360604,0,0,38182590,0,0,5940256,8080122,11386127,14181749,0,0,0,23501085,0,1265011,0,0,0,1376708,{"$f":"EB97","v":0},0,20875165,58366242,64999359,28643845,0,0,6252481,23073699,0,400,0,0,0,1524931,5713112,0,591061,0,0,0,231885,5711130,0,0,1385815,0,0,0,0,7677302,0,0,0,0,0,11531543,0,0,0,7639483,28347109,0,0,623126,189587,0,20181736,13661771,8474005,604754408,46424236,651178644]
[null,"City of Albany",{"$f":"C98","v":"010201000000"},"City of Albany","Albany","12/31",97856,0,21.4,5125089604,152198950,53056844,0,0,0,25974566,289296,0,0,0,28451534,1891561,7430,1288645,0,238903,0,466673,0,986623,234477,0,109520,0,0,1170167,2051420,0,10662786,0,0,0,0,0,0,0,0,0,0,0,203202,824687,994512,285008,111595,6218273,0,303930,0,0,703688,0,3645681,140171021,12865125,1288459,{"$f":"BO98","v":1627164},0,1382423,0,1458774,0,0,105595,2849301,0,0,112022,0,1254597,0,7009101,0,2939671,0,0,0,0,0,542227,173605480,0,670000,0,440000,0,174715480,12787185,8448648,0,0,524822,353316,0,0,0,0,0,0,0,2765622,34227568,19805373,0,0,0,0,934375,208730,0,0,0,0,0,12890782,0,0,0,0,0,{"$f":"EA98","v":0},5714304,0,0,0,0,0,0,2403238,0,0,0,0,0,0,0,0,3906234,0,0,0,1399686,0,86458,0,0,0,2875191,0,0,0,0,0,0,13924849,0,0,0,2401919,0,0,0,0,7761795,0,0,1838815,285419,0,36368578,11955483,4770212,188638602,440000,189078602]
[null,"Town of Berne",{"$f":"C99","v":"010306800000"},"Town of Berne","Albany","12/31",2794,0,64,299701688,591036,1160528,0,0,0,0,4605,0,0,0,888183,0,0,14058,0,0,0,5462,0,0,15970,0,0,0,0,4266,9722,0,2122,0,0,0,0,0,0,0,0,0,0,0,0,0,5216,5742,0,16734,0,0,0,0,536,0,21785,2154929,12273,85160,{"$f":"BO99","v":0},0,0,0,140031,0,0,3450,0,0,0,106630,0,0,0,0,0,0,0,0,0,0,0,0,2502472,0,88227,0,0,0,2590700,81577,228782,0,0,48208,0,0,0,0,0,0,0,0,0,62026,330885,55000,0,0,0,62878,1300,0,0,0,0,0,853600,0,0,0,0,0,{"$f":"EA99","v":125874},9729,0,0,0,0,0,0,0,0,0,0,0,0,0,0,0,32590,0,13495,27385,650,1741,0,0,0,0,0,0,0,0,0,12848,0,95980,0,0,0,39758,0,0,0,49099,72045,0,0,29857,361,0,0,88277,9875,2333820,0,2333820]
[null,"Town of Bethlehem",{"$f":"C100","v":"010307100000"},"Town of Bethlehem","Albany","12/31",33656,0,49,3396032947,20250000,10811795,0,0,0,1966401,0,0,0,0,9444723,0,0,707304,0,0,0,122184,0,275277,8627,0,0,0,0,631442,195715,6746065,2704207,0,0,0,0,0,0,0,0,0,0,0,40626,0,52406,74571,190669,500567,0,105776,0,0,10942,0,509294,35098591,129222,991195,{"$f":"BO100","v":5333},0,7196,0,249059,0,0,12360,30271,0,0,7471,0,68810,0,0,300572,0,0,0,0,0,0,527997,37428077,0,43000,0,261000,0,37732077,1569029,1905379,0,0,410860,0,0,0,0,0,0,0,1192,810702,4672549,3828,1190765,0,0,4711,461757,3965,0,0,0,0,0,4019007,0,0,0,0,0,{"$f":"EA100","v":955949},264103,0,0,0,0,0,300615,0,0,0,0,0,0,0,0,0,2047255,0,20781,0,13822,0,0,437116,50953,0,4361,6477043,0,0,0,4250193,0,889819,0,0,0,0,0,0,0,0,0,0,0,0,0,0,5777893,1106000,938680,38588327,261000,38849327]
[null,"Town of Coeymans",{"$f":"C101","v":"010318000000"},"Town of Coeymans","Albany","12/31",7418,0,50.1,607063586,3978,1738076,0,0,0,6000,5440,0,0,0,1785256,0,0,13549,0,0,0,7641,0,9582,22593,0,0,0,0,24106,20806,0,231805,0,0,0,0,0,0,0,0,0,0,0,3357,433557,15122,19188,0,186666,0,13820,0,0,0,0,56961,4593528,28360,88513,{"$f":"BO101","v":0},0,6995,0,87275,0,0,28403,0,0,0,2597,0,10624,0,0,460271,0,0,0,0,0,0,0,5306565,0,0,0,1791626,0,7098191,261263,585548,0,0,22868,10196,0,0,0,0,0,0,0,226452,818381,250,71000,0,0,1500,108576,200,0,0,0,0,165768,1101220,0,0,0,0,0,{"$f":"EA101","v":116000},57236,0,0,0,0,0,484427,0,0,0,0,0,0,844,0,0,71454,0,8994,0,4774,2122,10000,0,208138,0,0,0,0,0,0,423828,0,10998,0,3560,0,190106,0,0,0,175149,276017,6542,3762,67307,0,17289,100,1768,3421,5517059,1791626,7308685]
[null,"Village of Ravena",{"$f":"C102","v":"010418004140"},"Village of Ravena","Albany","05/31",3268,0,1.5,169328756,865000,761980,0,0,0,0,4857,0,0,0,662168,53501,0,0,0,0,0,1275,0,0,512,0,0,0,0,2215,2152,574782,309344,0,0,0,0,0,0,0,0,0,0,0,0,0,13293,0,35914,129732,0,25266,0,0,0,0,4699,2581690,27949,9524,{"$f":"BO102","v":0},0,0,0,40956,0,0,3348,0,0,0,0,0,16410,0,0,0,0,0,0,0,0,0,38176,2718053,0,0,0,110000,0,2828053,405186,330532,0,0,6775,0,0,0,0,0,0,0,0,0,0,77491,0,0,0,0,61005,512,0,0,0,0,0,190633,0,0,0,0,0,{"$f":"EA102","v":0},98533,0,0,0,0,0,0,0,0,0,0,0,0,1304,0,0,85918,0,0,0,0,0,0,0,60,0,7000,302019,0,0,0,264303,10587,3258,0,0,0,55936,0,0,0,61697,254622,705,0,54999,0,0,53697,150000,45701,2522473,110000,2632473]
[null,"City of Cohoes",{"$f":"C103","v":"010209000000"},"City of Cohoes","Albany","12/31",16168,0,3.8,689715761,10660383,6587042,0,0,0,754824,30293,232,0,0,4682838,203725,0,335351,0,0,0,50783,0,179993,1324,0,29391,0,0,14009,297512,1730764,2078876,0,0,0,0,0,0,0,0,0,36278,0,156748,4902,102972,25638,11388,138673,0,140193,0,0,38448,0,302298,17934495,2798863,310372,{"$f":"BO103","v":66980},0,112136,0,412852,0,0,16079,0,0,0,0,0,132555,0,5847332,0,0,0,0,0,0,0,0,27631664,0,0,0,267027,0,27898691,1520327,1106500,0,0,4405,602,0,0,0,0,0,0,0,436248,3088504,3111185,0,0,0,0,346242,0,0,0,0,0,0,5842240,0,0,0,0,0,{"$f":"EA103","v":0},389756,0,0,0,0,0,0,0,0,0,0,173947,0,0,0,0,0,0,273371,229868,4058,0,0,0,0,0,1323980,771642,0,0,0,1374623,0,967259,0,0,0,328917,869247,0,0,721714,2339447,0,0,317589,11928,0,0,1162191,644136,27359926,267027,27626953]
[null,"Town of Colonie",{"$f":"C104","v":"010318700000"},"Town of Colonie","Albany","12/31",81591,0,55.9,8629079128,104955386,22964446,0,6929913,0,961179,215677,0,0,0,19446154,0,0,0,0,0,0,82353,0,234431,3601979,0,837544,0,37683,2652891,599546,9232224,9532287,0,0,0,20434,0,114455,0,0,0,0,0,0,0,132438,2163012,573944,934729,24330,28815,0,0,29369,0,6350123,87699956,465885,1929436,{"$f":"BO104","v":656},0,140321,0,968375,0,0,62374,341374,0,0,4058,0,5365,124911,0,2519697,402099,661900,3054017,0,0,0,0,98380424,314138,60930,391019,2876000,0,102022511,4528288,8266027,0,6071282,848683,76912,0,0,0,0,0,0,0,2023303,11612797,3599046,4271643,93727,0,82179,1871761,62563,0,0,0,0,0,7855643,0,0,0,0,0,{"$f":"EA104","v":348842},1250733,231456,0,0,0,0,2162718,0,0,0,0,443045,416140,0,0,33828,3414246,675382,1186145,3032004,193889,0,500,0,17081,0,129195,8837132,0,0,0,3520944,0,2676075,1279362,0,0,2201458,2380634,0,0,2492513,5880948,0,11780,872089,37128,0,3976955,3068682,3722623,105757381,2876000,108633381]
[null,"Village of Colonie",{"$f":"C105","v":"010418701100"},"Village of Colonie","Albany","05/31",7793,0,3.2,843702141,0,1189824,0,0,0,0,11305,0,0,0,2205623,120415,0,126683,0,0,0,14074,0,0,1490,0,0,0,0,21970,41325,1673435,1075296,0,0,0,0,0,0,0,0,0,0,0,0,0,50128,7000,0,0,0,49685,0,0,6306,0,32582,6627141,67945,116125,{"$f":"BO105","v":0},0,0,0,0,0,0,1475,0,0,0,2138,0,0,0,0,0,0,0,0,0,0,0,115892,6930716,0,0,0,612360,0,7543076,301036,395624,0,0,12067,0,0,0,0,0,0,0,0,0,0,265651,0,0,0,0,69284,0,0,0,2543,0,8040,1091730,0,0,0,0,0,{"$f":"EA105","v":0},228957,0,0,0,0,0,0,0,0,0,0,0,0,22209,0,3785,353262,0,161140,0,4644,1801,0,0,142479,0,303296,1179195,0,0,0,903781,0,397919,0,0,0,80665,0,0,0,124083,422709,1813,6071,79358,0,3479,0,0,0,6566621,612360,7178981]
[null,"Village of Menands",{"$f":"C106","v":"010418703040"},"Village of Menands","Albany","05/31",3990,0,3.1,464248478,325000,1793552,0,0,0,0,6677,0,0,0,1288251,0,0,81700,0,0,0,3175,0,33260,0,0,900,0,0,0,0,832735,437279,0,0,0,7393,0,0,0,0,0,0,0,108302,65522,14343,600,0,289240,0,10226,0,0,150,0,14861,4988166,21191,67916,{"$f":"BO106","v":0},0,0,0,41553,0,0,1267,0,0,0,0,0,0,0,0,0,0,0,0,0,0,0,25848,5145941,0,0,0,0,0,5145941,151670,475783,0,0,3149,0,0,0,0,0,0,0,0,0,1010561,135865,0,0,0,0,29840,0,0,0,0,0,0,480244,0,0,0,0,0,{"$f":"EA106","v":0},99011,0,0,0,0,0,0,0,0,0,0,0,0,0,0,4476,15823,0,41282,0,14150,0,0,0,10694,0,0,782294,0,0,0,341459,36980,186009,0,0,0,60204,117607,0,27691,131202,365944,0,6530,57725,0,0,10024,0,0,4596217,0,4596217]
[null,"Town/Village of Green Island",{"$f":"C107","v":"010334500000"},"Town of Green Island","Albany","12/31",2620,0,0.8,140974052,0,0,0,0,0,0,787,0,0,0,51217,0,0,0,0,0,0,3038,0,0,0,0,0,0,0,0,0,0,0,0,0,0,0,0,0,0,0,0,0,0,0,0,454,0,0,143561,0,0,0,0,0,0,221,199278,27069,10939,{"$f":"BO107","v":0},0,0,0,0,0,0,0,0,0,0,7480,0,0,0,0,0,0,0,0,0,0,0,0,244766,0,0,0,0,0,244766,36669,248680,0,0,0,0,0,0,0,0,0,0,0,0,0,600,0,0,0,0,1400,0,0,0,0,0,0,0,0,0,0,0,0,{"$f":"EA107","v":0},0,0,0,0,0,0,0,0,0,0,0,0,0,0,0,0,10000,0,0,0,0,0,0,0,0,0,0,0,0,0,0,0,0,0,0,0,0,8689,0,0,0,9623,8991,0,0,0,341,0,0,0,0,324993,0,324993]
[null,"Town/Village of Green Island",{"$f":"C108","v":"010434502040"},"Village of Green Island","Albany","05/31",2620,0,0.8,156917509,885000,1702672,0,0,0,391849,7525,0,0,0,606525,0,0,42898,0,0,0,39726,0,23827,0,0,0,0,0,5874,8674,585644,459108,0,0,0,0,0,0,0,0,0,0,0,0,414760,5028,0,169949,3815,0,823,0,0,0,0,95713,4564410,40506,7101,{"$f":"BO108","v":0},0,0,0,57338,0,0,418,0,0,0,24452,0,64165,0,0,217235,0,0,0,0,0,0,100000,5075625,0,0,0,0,0,5075625,341871,207168,0,0,8311,0,0,0,0,0,0,0,0,0,614849,477748,0,0,0,0,28201,0,0,0,0,0,0,163010,0,0,0,0,0,{"$f":"EA108","v":0},116130,0,0,0,0,0,354625,0,0,0,0,0,0,0,0,0,132934,0,0,0,897,0,0,0,0,0,0,333394,0,0,0,682813,0,121719,0,0,0,82645,87066,0,0,131031,305896,0,0,43409,15028,0,9790,385000,34917,4678452,0,4678452]
[null,"Town/Village of Green Island"]
[null,"Town of Guilderland",{"$f":"C110","v":"010335500000"},{"$f":"D110","v":"Town of Guilderland"},"Albany","12/31",35303,0,57.9,3752152566,27917000,8268629,0,0,0,17582,78098,0,0,0,9747640,0,0,519166,0,0,0,23266,0,380546,13221,0,0,0,0,1358645,23055,2085424,3356404,0,49763,0,51000,0,0,0,0,0,0,0,0,64107,206378,4974,254153,589547,0,131876,0,0,0,0,229211,27452685,138161,744125,0,{"$f":"BP110","v":0},72874,0,574721,0,0,69627,0,0,0,25203,0,0,0,0,586027,0,0,0,0,0,0,0,29663422,0,0,0,1233638,0,30897060,967974,1337472,0,0,287027,0,0,0,0,0,0,0,0,567447,4732341,233632,437588,0,0,0,376525,342933,0,0,0,0,0,5428195,0,0,0,0,0,434545,{"$f":"EB110","v":104673},0,0,0,0,0,0,0,0,0,38627,0,640315,8550,0,0,1557260,0,0,50000,61324,0,1670,219726,63451,0,0,2633803,0,0,0,2258563,0,877423,0,151657,0,614984,471056,0,0,941310,1766862,1704,0,255501,10618,0,1000,1923000,1160298,30959053,1233638,32192690]
[null,"Village of Altamont",{"$f":"C111","v":"010435500120"},"Village of Altamont","Albany","05/31",1720,0,1.2,126640029,1260000,272101,0,0,0,0,3135,0,0,0,513972,19483,0,32127,0,0,0,1323,0,8210,280,0,40,0,0,9525,21057,334613,369719,0,0,0,97928,0,0,0,0,0,0,0,0,0,1050,105526,13050,13395,0,32280,0,0,4683,0,3792,1857289,10539,16465,{"$f":"BO111","v":0},0,0,0,22040,0,0,0,0,0,0,23438,0,10452,0,0,0,0,0,0,0,0,0,0,1940223,0,0,0,0,0,1940223,134803,125832,0,0,6756,0,0,0,0,0,0,0,0,0,179526,216759,0,0,0,0,20964,0,0,0,0,0,0,209150,0,0,0,0,0,{"$f":"EA111","v":0},23773,0,0,0,0,0,0,0,0,0,0,0,0,0,0,0,161705,0,1819,50000,4815,0,3000,0,3468,0,0,193411,0,0,0,286765,28965,0,0,0,0,21251,6807,0,0,47191,56515,0,0,24687,5440,0,0,50000,56656,1920058,0,1920058]
[null,"Town of Knox",{"$f":"C112","v":"010344300000"},"Town of Knox","Albany","12/31",2692,0,41.8,265450406,1139981,241958,0,0,0,0,2949,0,0,0,798626,0,0,30657,0,0,0,1201,0,0,0,0,0,0,0,0,5382,0,0,0,0,0,0,0,0,0,0,0,0,0,0,0,1633,38962,0,380,0,0,0,0,0,0,22960,1144707,16294,59581,{"$f":"BO112","v":6266},0,0,0,32070,0,0,1068,0,0,0,-92,0,0,0,0,0,0,0,0,0,0,0,0,1259894,0,80000,0,1000,0,1340894,877995,269426,0,0,15120,0,0,0,0,0,0,0,0,0,1862,0,93455,0,0,219,6957,1232,0,0,0,0,0,518013,0,0,0,0,0,{"$f":"EA112","v":36789},3031,0,0,0,0,0,0,0,0,0,0,0,0,0,0,0,11756,0,-55,7500,1159,0,0,1500,0,0,0,0,0,0,0,0,0,95485,0,0,0,43772,0,0,0,38668,60572,360,0,31362,3822,0,0,80000,30353,2230354,1000,2231354]
[null,"Town of New Scotland",{"$f":"C113","v":"010358100000"},"Town of New Scotland","Albany","12/31",8648,0,57.5,972484595,2125914,2106030,0,200887,0,0,7397,0,0,0,1765304,0,0,33096,0,0,0,4723,0,26556,1441,0,0,1912,0,28889,5795,230961,110613,0,0,0,0,0,0,0,0,0,0,0,0,0,9306,12872,0,86668,0,0,0,0,6541,0,169436,4808426,38473,219959,{"$f":"BO113","v":0},0,0,0,142840,0,0,0,0,0,0,2554,0,0,0,90945,0,0,0,0,0,0,0,35223,5338420,0,48800,0,489,0,5387709,167345,552765,0,0,63677,0,0,0,0,0,0,0,0,0,7825,479600,337136,0,0,0,160508,1428,0,0,0,0,0,1366504,0,0,0,0,0,{"$f":"EA113","v":158790},13831,290664,0,0,0,0,0,0,0,0,0,0,0,0,0,0,121124,0,28533,1000,2155,0,849,92023,0,0,8348,293285,0,0,0,168055,0,447135,0,0,0,95552,0,0,0,114535,322339,3487,0,80759,0,0,42492,164713,74321,5660779,489,5661267]
[null,"Village of Voorheesville",{"$f":"C114","v":"010458105090"},"Village of Voorheesville","Albany","05/31",2789,0,2.1,238009756,3735000,259531,0,0,0,0,1156,0,0,0,821113,34253,0,53546,0,0,0,1807,0,0,11968,0,0,0,0,9135,5374,358615,197068,0,0,0,0,0,0,0,0,0,0,0,0,0,6762,0,15840,19457,0,3233,0,0,0,0,1362,1800220,19271,38219,{"$f":"BO114","v":0},0,425,0,42599,0,0,0,0,0,0,3980,0,2550,0,0,0,0,0,0,0,0,0,0,1907264,0,0,0,0,0,1907264,105268,136922,0,0,61651,0,0,0,0,0,0,0,0,0,1840,36103,32237,0,0,0,262,750,0,0,0,0,0,355841,0,0,0,0,0,{"$f":"EA114","v":0},68361,0,0,0,0,0,0,0,0,0,0,0,0,0,0,0,16906,0,0,0,4661,0,0,0,1025,0,48,153762,0,0,0,96315,4302,130451,0,0,0,32020,0,0,35640,34919,69911,0,0,28103,0,0,0,150000,116005,1673303,0,1673303]
[null,"Town of Rensselaerville",{"$f":"C115","v":"010370600000"},"Town of Rensselaerville","Albany","12/31",1843,0,61.5,260837670,810241,1194526,0,0,0,0,5133,0,0,0,501520,0,0,2890,0,0,0,3224,0,0,30000,0,0,0,0,0,6171,41191,34461,0,0,0,0,0,0,0,0,0,0,0,0,0,10546,3644,0,6585,0,0,0,0,2224,0,14858,1856973,8808,15131,{"$f":"BO115","v":0},0,0,0,130543,0,0,0,0,0,0,15000,0,0,0,0,0,0,0,0,0,0,0,0,2026455,0,16800,0,18478,0,2061733,123923,198864,0,0,6288,0,0,0,0,0,0,0,0,0,1300,162982,41000,0,0,0,30420,580,0,0,0,39879,0,849792,0,0,0,0,0,{"$f":"EA115","v":197054},7892,8629,0,0,0,0,0,0,0,0,0,0,0,0,0,0,22517,24921,3369,25000,500,0,7900,0,0,0,0,23241,0,0,0,10309,0,81310,0,0,0,45486,0,0,0,47293,196828,1315,0,41442,0,0,0,45601,2029,2247664,18478,2266142]
[null,"City of Watervliet",{"$f":"C116","v":"010260000000"},"City of Watervliet","Albany","12/31",10254,0,1.4,389563501,7199463,3824057,0,0,0,130013,16243,0,0,0,3079552,161549,0,162368,0,0,0,166958,0,0,272623,0,0,0,127846,2043,21640,2901331,1059618,0,0,0,96523,0,0,0,0,0,0,0,235255,0,8997,0,0,0,0,0,0,0,0,0,203285,12469901,1234891,108556,{"$f":"BO116","v":0},0,0,0,0,0,0,0,0,0,0,5090986,0,0,0,0,0,0,0,0,0,0,0,246864,19151198,0,69500,0,1147128,0,20367826,651944,683684,0,0,6794,2200,0,0,0,0,0,0,0,0,2479748,1961407,0,0,0,0,115263,32634,0,0,0,0,0,5491110,0,0,0,0,0,{"$f":"EA116","v":0},158214,0,0,0,0,0,0,0,0,0,0,130800,468305,0,0,0,201067,0,20769,31000,9999,0,0,23500,3953,0,0,1760396,0,0,0,618465,0,466234,0,0,0,877810,0,0,0,461014,1603721,0,12758,178718,900,0,0,634500,297537,19384444,1147128,20531572]
[null,"Town of Westerlo",{"$f":"C117","v":"010389000000"},"Town of Westerlo","Albany","12/31",3361,0,57.8,334238875,1180000,994007,0,0,0,0,4604,0,0,0,1045726,0,0,8895,0,0,0,3433,0,0,0,0,0,0,0,2364,3901,92872,2063,0,0,0,0,0,0,0,0,0,0,0,0,0,2517,11256,0,14394,0,8153,0,0,1555,0,1198,2196938,677,62480,{"$f":"BO117","v":0},0,0,0,137424,0,0,33800,0,0,0,0,0,0,0,0,0,0,0,0,0,0,0,0,2431319,0,0,0,4785,0,2436104,327847,260941,0,0,33227,0,0,0,0,0,0,0,0,992,0,180707,72700,0,0,0,30905,0,0,0,0,0,0,683847,0,0,0,0,0,{"$f":"EA117","v":86418},8399,0,0,0,0,0,0,0,0,0,0,0,0,0,0,0,165438,0,-920,63440,1924,0,0,0,0,0,0,55625,0,0,0,0,0,176303,0,0,0,56353,0,0,0,65086,212498,759,0,30712,0,0,9519,89500,12216,2624436,4785,2629221]
[null,"Rensselaer County",{"$f":"C118","v":"380100000000"},"County of Rensselaer","Rensselaer","12/31",159429,0,652.4,10505904197,172578257,54954180,0,0,0,2024904,3098765,3323,0,68937650,0,0,362700,0,574142,1568826,0,3145312,0,454816,43658379,0,0,3824855,0,0,159775,0,5025546,0,2061172,10435308,833221,0,0,0,0,294167,0,0,4626623,0,424267,34575,2051453,384998,4808,2388858,0,430199,184558,6136,19585198,231538716,0,0,{"$f":"BO118","v":1157039},13199623,1637849,8283390,2226726,17804120,584885,194720,810761,0,0,33827,0,75000,7141702,990690,16150351,1628205,161566,682350,0,0,0,380841,304682362,13510618,0,0,2873269,0,321066250,9350769,10307321,24231050,1548595,1075841,101185,0,0,0,0,0,14511806,13453321,3468660,4154516,10163,0,20432977,0,1194972,0,622201,4705174,10378700,913650,27602158,0,7368087,0,543702,0,0,0,{"$f":"EA118","v":1556577},0,0,14591688,23967687,32482117,9039732,0,1027741,2008385,0,845563,0,794236,95130,0,0,0,0,427844,0,0,0,273958,2973266,68164,0,0,0,0,0,0,3589838,0,0,0,0,586,438455,0,0,0,312634,17796901,0,0,1694991,181980,0,27815213,6605009,7172797,311735339,2873269,314608608]
[null,"Village of Nassau",{"$f":"C119","v":"380456103330"},"Village of Nassau","Rensselaer","05/31",1133,0,0.7,69949308,181350,336290,0,0,0,763,8261,0,0,0,63338,0,0,15538,0,0,0,273,0,40,0,0,0,0,0,25,2959,170797,75632,0,0,0,0,0,0,0,0,0,0,0,0,0,2213,0,0,41826,0,0,0,0,0,0,3195,721150,11456,11522,{"$f":"BO119","v":0},0,22670,0,27534,0,0,0,0,0,0,0,0,6334,0,0,0,0,0,0,0,0,0,0,800666,34600,0,0,30300,0,865566,65962,97227,0,0,6572,0,0,0,0,0,0,0,0,0,145146,0,0,0,0,0,13940,0,0,0,0,0,0,77642,0,0,0,0,0,{"$f":"EA119","v":0},18626,27536,0,0,0,0,0,0,0,0,0,0,0,0,0,0,3486,0,0,0,1087,0,215,0,0,0,0,126761,0,0,0,0,0,86363,0,0,0,9258,12679,0,0,24199,0,0,0,7685,0,0,0,51650,7247,783281,30300,813581]
[null,"Village of Valley Falls",{"$f":"C120","v":"380467005020"},"Village of Valley Falls","Rensselaer","05/31",466,0,0.5,27333975,1880534,49500,0,0,0,0,1210,0,0,0,25121,4616,0,4151,0,0,0,0,0,0,0,0,0,0,0,0,0,0,106413,0,0,0,68000,0,0,0,7000,0,0,0,0,0,44,0,0,0,0,0,0,0,4310,0,18355,288720,8818,3362,{"$f":"BO120","v":0},0,0,0,0,0,0,6333,0,0,0,1000,0,0,0,0,0,0,0,0,0,0,0,0,308233,0,0,0,4949,0,313182,38870,12447,0,0,8226,0,0,0,0,0,0,0,0,0,150,37798,1000,0,0,0,1600,0,0,0,0,0,0,12446,0,0,0,0,0,{"$f":"EA120","v":0},11649,0,0,0,0,0,0,0,0,0,0,0,0,0,0,0,178,0,17668,1500,0,0,0,0,6756,0,44071,0,0,0,0,0,0,2222,0,0,0,0,0,0,0,2592,0,0,0,0,0,0,0,83498,9102,291773,4949,296722]
[null,"Town of Berlin",{"$f":"C121","v":"380306700000"},"Town of Berlin","Rensselaer","12/31",1880,0,59.6,169380954,0,379476,0,0,0,0,2217,0,0,0,164826,0,0,0,0,0,0,973,0,0,0,0,0,0,0,0,515,69401,126201,0,0,0,0,0,0,0,0,0,0,0,0,0,86,2325,0,11563,0,0,0,0,0,0,3549,761132,9395,21076,{"$f":"BO121","v":0},0,0,0,83921,0,0,1890,0,0,0,0,0,0,0,0,0,0,0,0,0,0,0,0,877414,0,0,0,0,0,877414,28923,91347,0,0,1784,0,0,0,0,0,0,0,0,0,0,0,0,0,0,0,15121,200,0,0,0,0,0,370487,0,0,0,0,0,{"$f":"EA121","v":47684},9829,0,0,0,0,0,0,0,0,0,0,0,0,0,0,0,0,0,9073,7250,2403,0,425,5531,-1612,0,0,38497,0,0,0,0,0,111059,0,0,0,15718,0,0,0,22655,25564,0,0,18172,0,0,0,13801,0,833911,0,833911]
[null,"Town of Brunswick",{"$f":"C122","v":"380309900000"},"Town of Brunswick","Rensselaer","12/31",11941,0,44.4,1013344648,2385000,3377741,0,0,0,10320,20015,0,0,0,1016116,0,0,98478,0,0,0,6462,0,144653,0,0,0,0,0,43552,227992,917701,125008,0,0,0,0,0,28199,0,0,0,0,0,0,0,24682,32000,0,130,0,8776,0,0,0,0,9842,6091667,79794,255456,{"$f":"BO122","v":0},0,0,0,164576,0,0,6414,0,0,0,0,0,0,0,0,0,0,0,0,29988,0,0,0,6627895,0,0,0,0,0,6627895,323941,685197,0,0,67659,0,0,0,0,0,0,0,0,0,1500,946719,20400,0,0,0,89577,2500,0,0,0,0,0,1139367,0,0,0,0,0,{"$f":"EA122","v":433562},75849,0,0,0,0,0,0,0,0,0,0,146488,0,0,0,0,0,0,239824,101764,19121,0,569,9999,0,0,4918,1211908,0,0,0,17410,0,92216,0,0,0,132891,0,0,0,137847,264175,4267,4110,82468,162,0,54323,155000,88166,6553897,0,6553897]
[null,"Town of East Greenbush",{"$f":"C123","v":"380324900000"},"Town of East Greenbush","Rensselaer","12/31",16473,0,24,1592115009,8026820,8331228,0,0,0,327371,24523,0,0,0,1618667,0,0,199901,0,0,0,16672,0,172313,0,0,0,0,0,72632,101658,2046061,1086535,0,0,0,2005,0,14168,0,0,0,0,180000,0,45231,56137,23695,42,326418,61250,23730,0,0,0,11314,784040,15525590,74881,566452,{"$f":"BO123","v":0},0,2622,0,103906,0,0,0,0,0,0,84606,0,0,0,0,0,0,0,0,0,0,0,0,16358057,0,583445,0,0,0,16941502,870872,950703,0,0,303061,48821,0,0,0,0,0,0,0,0,1992743,104969,488688,0,0,0,177305,6739,0,0,0,0,0,1710380,0,0,0,0,0,{"$f":"EA123","v":404128},167337,0,0,0,0,0,0,0,0,0,0,0,0,0,0,0,206456,0,108597,0,5065,0,3000,898,720,0,0,2138415,0,0,0,1340677,0,272582,0,0,401212,250328,371739,0,0,436651,1349578,0,0,178081,46772,0,77509,1205083,171384,15790493,0,15790493]
[null,"Town of Grafton",{"$f":"C124","v":"380333500000"},"Town of Grafton","Rensselaer","12/31",2130,0,44.7,200300759,436900,636740,0,0,0,0,1326,0,0,0,209402,0,0,0,0,0,0,1310,0,0,0,0,0,0,0,0,5749,0,19315,0,0,0,0,0,0,0,0,0,0,0,0,0,739,50,8300,17840,0,1030,0,0,0,0,42113,943914,8413,42143,{"$f":"BO124","v":0},0,0,0,88834,0,0,1852,0,0,0,1639,0,0,0,0,0,0,0,0,0,0,0,0,1086794,0,0,0,0,0,1086794,72396,125815,0,0,4666,0,0,0,0,0,0,0,0,0,0,0,8648,0,0,0,22774,1000,0,0,0,0,0,434689,0,0,0,0,0,{"$f":"EA124","v":93793},6414,0,0,0,0,0,0,0,0,0,0,0,0,0,0,0,0,0,10179,24250,0,0,1150,2988,0,0,0,0,0,0,0,0,0,44554,0,0,0,26286,0,0,0,31822,55057,250,0,10950,2331,0,0,53900,14811,1048724,0,1048724]
[null,"Town of Hoosick",{"$f":"C125","v":"380339800000"},"Town of Hoosick","Rensselaer","12/31",6924,0,63,418388532,80000,1413177,0,0,0,2713,8058,0,0,0,270637,0,0,2452,0,0,0,5915,0,6439,0,0,0,0,0,52023,175,772,5196,0,0,0,0,0,0,0,8585,0,0,0,0,0,597,0,0,40076,0,0,0,0,800,0,27917,1845532,52351,69201,{"$f":"BO125","v":0},0,0,0,102354,0,0,0,0,0,0,6375,0,0,0,465525,0,0,0,0,0,0,0,0,2541338,0,0,0,28593,0,2569931,75606,265475,0,0,12770,0,0,0,0,0,0,0,0,0,4362,261031,14500,0,0,0,20630,0,0,0,0,0,0,958135,136805,0,0,0,0,{"$f":"EA125","v":264386},17709,0,0,0,0,0,0,0,0,0,0,0,0,0,0,0,83247,0,25403,45000,15986,0,800,5300,0,0,6232,1460,0,0,0,0,0,1750,0,0,0,51638,0,0,0,46163,168998,1770,0,21298,3925,0,0,80000,7534,2597913,28593,2626506]
[null,"Village of Hoosick Falls",{"$f":"C126","v":"380439802380"},"Village of Hoosick Falls","Rensselaer","05/31",3501,0,1.6,152269985,14295272,1072824,0,0,0,11257,30288,0,0,0,149001,33122,0,27744,0,5938,0,480,0,385,3669,0,0,0,0,0,4317,481039,970666,0,0,0,0,0,0,0,0,0,0,0,5500,0,1479,0,0,35498,0,0,0,0,0,0,44568,2877775,48203,9302,{"$f":"BO126","v":0},0,5200,0,94889,0,0,3266,0,0,83554,9000,0,0,0,0,0,0,0,0,0,0,0,0,3131189,0,50379,0,0,0,3181568,122793,90712,0,0,30,0,0,0,0,0,0,0,0,64324,315989,0,6883,0,0,0,39606,0,0,0,0,0,0,444707,0,0,0,0,0,{"$f":"EA126","v":0},90118,0,0,0,0,0,0,0,0,0,0,0,0,440,0,16844,12555,0,11585,0,8000,0,0,0,0,0,0,2157244,0,0,0,522593,0,229238,0,0,4076,50033,0,0,0,69827,212682,2517,0,27715,768,0,0,326465,13850,4841594,0,4841594]
[null,"Town of Nassau",{"$f":"C127","v":"380356100000"},"Town of Nassau","Rensselaer","12/31",4789,0,44.4,364096939,447934,971498,0,0,0,0,5079,0,0,0,245264,0,0,19233,0,0,0,2162,0,315,250,0,0,0,0,0,8454,0,51340,0,0,0,0,0,0,0,3725,0,0,0,0,0,6488,6311,0,12821,0,0,0,0,128000,0,49564,1510504,28397,87481,{"$f":"BO127","v":0},0,0,0,161141,0,0,5349,0,0,0,824,0,0,0,0,171863,0,0,0,0,0,0,0,1965559,150700,0,0,201756,0,2318014,128441,270147,0,0,3543,0,0,0,0,0,0,0,0,0,808,75000,98000,0,0,0,45343,449,1800,0,0,0,0,833316,0,0,0,0,0,{"$f":"EA127","v":75315},3183,0,0,0,0,0,169654,0,0,0,0,0,0,0,0,0,23543,0,0,0,588,0,1000,4422,0,0,0,0,0,0,0,39529,0,61057,0,0,0,47520,0,0,0,42859,126284,260,0,27184,0,0,0,67766,9398,2156409,201756,2358165]
[null,"Village of East Nassau",{"$f":"C128","v":"380456101435"},"Village of East Nassau","Rensselaer","05/31",587,0,4.9000000000000004,41915863,0,51288,0,0,0,0,231,0,0,0,41243,0,0,0,0,0,0,227,0,156,0,0,0,0,0,0,0,0,0,0,0,0,0,0,0,0,0,0,0,0,0,0,233,0,0,0,0,0,0,0,0,0,0,93378,10565,6631,{"$f":"BO128","v":0},0,2166,0,9016,0,0,0,0,0,0,0,0,12995,0,0,0,0,0,0,0,0,0,0,134752,0,0,0,0,0,134752,11669,33593,0,0,0,0,0,0,0,0,0,0,0,0,0,0,0,0,0,0,4170,0,0,0,0,0,0,92449,0,0,0,0,0,{"$f":"EA128","v":0},920,0,0,0,0,0,0,0,0,0,0,0,0,0,0,0,0,0,0,0,0,0,0,0,0,0,0,0,0,0,0,0,0,0,0,0,0,0,0,0,0,1568,0,0,0,538,0,0,0,0,0,144906,0,144906]
[null,"Town of North Greenbush",{"$f":"C129","v":"380359500000"},"Town of North Greenbush","Rensselaer","12/31",12075,0,18.600000000000001,935986053,21774000,3574305,0,1340107,0,369458,16871,0,0,0,981703,0,0,216387,0,0,0,4811,0,98526,5679,0,0,0,0,60029,180416,1305389,4350,0,0,0,0,0,0,0,0,0,0,0,0,0,30019,471,25122,156067,0,41984,0,0,2380,0,96497,8510571,106683,319414,{"$f":"BO129","v":0},0,36970,0,81990,0,0,5721,52832,0,0,0,0,0,0,0,0,0,0,0,0,0,0,0,9114180,465000,534000,0,13049,0,10126229,2229592,681079,0,0,57515,50,0,0,0,0,0,0,0,0,1655786,2873,211000,0,0,0,58085,8353,0,0,0,0,0,1357822,0,0,0,0,0,{"$f":"EA129","v":0},50131,0,0,0,0,0,0,0,0,0,0,0,0,0,0,0,57486,0,132965,263981,11868,0,0,10000,0,0,355,1643522,0,0,0,318238,0,0,0,0,0,296087,298355,0,0,239748,350972,3350,0,143247,14191,0,0,1553000,614376,12264027,13049,12277076]
[null,"Town of Petersburgh",{"$f":"C130","v":"380365600000"},"Town of Petersburgh","Rensselaer","12/31",1525,0,41.6,121889374,242400,498718,0,0,0,0,2920,0,0,0,118643,0,0,0,0,0,0,2035,0,0,0,0,0,0,0,63,3243,28296,36450,0,0,0,0,0,3218,0,0,0,0,0,0,0,931,695,2000,8197,0,1058,774,0,0,0,0,707241,7794,19910,{"$f":"BO130","v":0},0,0,0,126787,0,0,1486,0,0,0,172,0,0,0,0,0,0,339,0,0,0,0,0,863729,0,0,0,10109,0,873838,70970,91008,0,0,569,0,0,0,0,0,0,0,0,0,0,0,0,0,0,0,12091,500,0,0,0,0,10000,289645,0,0,0,0,0,{"$f":"EA130","v":51501},6748,0,0,0,0,0,0,0,0,0,0,0,0,0,0,0,1908,0,8542,48949,120,0,3340,2400,0,0,0,24707,0,0,0,0,0,73098,0,0,0,21938,0,0,0,19759,33033,91,0,10143,0,0,0,23500,11621,816181,10109,826290]
[null,"Town of Pittstown",{"$f":"C131","v":"380367000000"},"Town of Pittstown","Rensselaer","12/31",5735,0,61.6,380220315,16630,2028837,0,0,0,207,7272,0,0,0,227412,0,0,0,0,0,0,47717,0,9663,0,0,0,0,0,0,1425,0,0,0,0,0,0,0,0,0,0,0,0,0,0,0,2667,5545,0,48352,0,0,0,0,0,0,0,2379097,0,91161,{"$f":"BO131","v":0},0,0,0,9625,0,0,1785,0,0,0,0,0,0,0,0,0,0,0,0,0,0,0,0,2481668,0,0,0,0,0,2481668,95793,142434,0,0,19852,0,0,0,0,0,0,0,0,0,0,9200,45000,0,0,0,41427,880,0,0,0,0,0,976243,0,0,0,0,0,{"$f":"EA131","v":359218},10556,0,0,0,0,0,0,0,0,0,0,0,0,0,0,507,0,0,2325,10000,1455,0,1751,1000,0,0,0,0,0,0,0,0,0,469238,0,0,0,57469,0,0,0,41946,151591,484,0,21793,0,0,0,23915,2389,2486463,0,2486463]
[null,"Town of Poestenkill",{"$f":"C132","v":"380367600000"},"Town of Poestenkill","Rensselaer","12/31",4530,0,32.4,342159337,9629493,1114953,0,0,0,0,5359,0,0,0,320892,0,0,7113,0,0,0,3453,0,0,0,0,0,0,0,0,14493,0,0,0,0,0,449,0,10112,0,0,0,0,0,0,0,1264,219,10,21405,0,0,0,3000,20928,0,5745,1529395,37940,120668,{"$f":"BO132","v":0},0,24258,0,70504,0,0,6338,14605,0,0,220000,0,430080,0,0,0,0,0,0,0,0,0,0,2453788,0,0,0,0,0,2453788,66582,211919,0,0,25012,0,0,0,0,0,0,0,0,0,302,239590,0,0,0,0,24783,1500,0,0,0,0,0,618443,0,0,0,0,0,{"$f":"EA132","v":77447},11024,0,0,0,0,0,0,0,0,0,0,0,0,0,0,0,5000,0,43054,48767,5471,0,3250,0,0,0,0,9590660,0,0,0,0,0,33302,0,0,0,49733,0,0,0,46689,109731,285,0,10323,1550,0,0,97282,9241,11330940,0,11330940]
[null,"City of Rensselaer",{"$f":"C133","v":"380247000000"},"City of Rensselaer","Rensselaer","07/31",9392,0,3.2,405901319,4592949,5410832,0,0,0,1244064,80224,246251,0,0,1811810,101168,0,149262,0,0,0,37614,0,180,0,0,0,13236,118287,7910,20087,1775604,635915,0,0,0,0,0,59945,0,0,0,0,0,12855,0,63962,17,23555,113843,0,75413,4001,6000,3521,0,81448,12097002,1202529,150548,{"$f":"BO133","v":80316},969570,101311,0,407463,0,0,9989,0,0,0,203303,0,0,0,10400,0,916267,0,0,0,0,0,0,16148698,3397500,498247,0,177500,0,20221944,1218380,721423,0,0,234603,21714,0,0,0,0,0,0,0,0,2294571,935925,0,0,0,0,312270,0,0,0,0,0,0,2738016,0,0,0,0,0,{"$f":"EA133","v":0},214278,0,0,0,0,0,0,0,0,0,0,0,1207923,0,0,303815,105991,0,39983,104291,0,0,0,9200,38113,0,0,2165276,0,0,0,99318,139806,581215,0,0,0,223348,430141,0,0,370469,1425402,5550,0,243179,3977,0,0,552247,200842,16941267,177500,17118767]
[null,"Town of Sand Lake",{"$f":"C134","v":"380374100000"},"Town of Sand Lake","Rensselaer","12/31",8530,0,35.1,726584506,2411252,1624744,0,739,0,3600,8911,0,0,0,762972,0,0,128804,0,0,0,21985,0,27860,0,0,0,0,0,79955,9590,0,404451,0,0,0,737,0,0,0,3750,0,0,0,0,0,3902,8264,7201,48199,0,1048,1500,0,15708,1392,11694,3177005,36588,210612,{"$f":"BO134","v":0},0,0,0,140761,0,0,8218,0,0,0,24092,0,46741,0,0,0,0,0,0,41250,0,0,88392,3773659,1681252,0,0,182960,0,5637871,422744,515146,0,0,53889,0,0,0,0,0,0,0,0,0,2194,0,271000,0,0,0,113479,1000,0,0,0,0,0,1151017,0,0,0,0,0,{"$f":"EA134","v":92658},108627,57598,0,0,0,0,0,0,0,0,0,0,0,0,0,0,30176,0,74635,141736,8951,1613,44096,0,596,0,0,0,0,0,0,908116,0,62322,6598,0,0,88648,0,0,0,111960,214647,1346,0,38102,3499,0,0,55000,262269,4843661,182960,5026621]
[null,"Town of Schaghticoke",{"$f":"C135","v":"380375200000"},"Town of Schaghticoke","Rensselaer","12/31",7679,0,49.8,582264982,5545750,1356692,0,677255,0,0,7807,0,0,0,573781,0,0,56222,0,0,0,6024,0,0,3010,0,0,0,0,11764,10773,314502,51298,0,0,0,0,0,55653,0,0,0,0,0,0,0,13869,2227,0,53268,0,10948,0,0,0,0,1055,3206148,44450,159321,{"$f":"BO135","v":0},0,0,0,153339,0,0,10447,0,0,0,3543,0,0,0,0,0,0,0,66556,0,0,0,0,3643804,0,0,0,34671,0,3678475,91990,337256,0,0,33426,3433,0,0,0,0,0,0,0,0,3978,89098,105811,0,0,0,45777,3000,0,0,0,0,0,990604,0,0,0,0,0,{"$f":"EA135","v":162032},29649,0,0,0,0,0,0,0,0,0,0,0,0,0,0,0,4000,0,43421,9630,13527,0,15800,3000,0,0,0,422836,0,0,0,141475,0,579020,0,0,0,61329,0,0,0,69054,264643,675,0,31677,252,0,0,352950,44921,3954264,34671,3988935]
[null,"Village of Schaghticoke",{"$f":"C136","v":"380475204460"},"Village of Schaghticoke","Rensselaer","05/31",592,0,0.8,43080391,0,146687,0,0,0,0,155,0,0,0,41509,14278,0,5497,0,0,0,105,0,0,0,0,0,0,0,0,0,88735,0,0,0,0,0,0,0,0,0,0,0,0,0,0,560,2500,15758,0,0,0,0,36868,600,0,4083,357334,8413,9106,{"$f":"BO136","v":0},0,9615,0,31416,0,0,634,0,0,0,0,0,312265,0,0,0,0,0,0,0,0,0,0,728782,0,0,0,30000,0,758782,77997,42044,0,0,0,0,0,0,0,0,0,0,0,0,0,386231,0,0,0,0,0,0,0,0,0,0,0,41707,0,0,0,0,0,{"$f":"EA136","v":0},52264,0,0,0,0,0,0,0,0,0,0,0,0,276,0,0,853,0,6790,4500,1085,0,0,0,4875,0,0,128842,0,0,0,0,0,1157,0,0,0,0,0,0,0,6042,0,205,0,11025,885,0,0,0,0,766779,30000,796779]
[null,"Town of Schodack",{"$f":"C137","v":"380375300000"},"Town of Schodack","Rensselaer","12/31",12794,0,61.9,1128496869,16469915,5536364,0,0,0,203025,30380,0,0,0,1026675,0,0,75588,0,0,0,26318,0,64147,2130,0,0,0,0,52266,109134,259145,280180,0,1570,0,6765,0,2393,0,0,0,0,0,0,0,66818,21906,39199,248196,0,21593,0,0,0,0,485424,8559216,71213,323071,{"$f":"BO137","v":0},0,0,0,169652,0,0,6463,6511,0,0,483,0,22871,0,0,225871,0,0,0,0,0,1030,0,9386382,1419552,316311,0,3722343,0,14844587,245010,923117,0,205531,153849,0,0,0,0,0,0,0,0,0,1048263,173088,209120,0,0,0,176885,2266,0,0,0,0,0,1393783,0,0,0,0,0,{"$f":"EA137","v":448490},28315,0,0,0,0,0,235212,0,0,0,0,0,0,4000,0,0,20702,0,157088,315650,5649,0,14138,7350,0,0,0,1004572,0,0,0,126801,0,223958,0,0,87897,144812,108518,0,0,219830,412210,975,0,78756,0,0,4305,1025092,391092,9596324,3722343,13318667]
[null,"Village of Castleton-on-Hudson",{"$f":"C138","v":"380475300790"},"Village of Castleton-On-Hudson","Rensselaer","05/31",1473,0,0.7,118313321,2136558,414550,0,0,0,0,13580,0,0,0,115809,33580,0,3748,0,0,0,436,0,0,1170,0,0,0,0,195644,4306,259866,399416,0,0,0,37000,0,0,0,104304,0,0,0,0,44575,11680,0,600,11508,0,0,6120,0,8,0,13454,1671354,14577,20696,{"$f":"BO138","v":0},0,460558,0,54943,0,0,0,0,0,0,0,0,36741,0,0,0,0,0,0,0,0,0,0,2258869,0,0,0,11933,0,2270802,32579,116670,0,0,1985,0,0,0,0,0,0,0,0,0,0,60642,0,0,0,0,22173,1200,0,0,0,0,0,965890,0,0,0,0,0,{"$f":"EA138","v":34721},69203,0,0,0,0,0,0,0,0,0,0,0,0,0,0,11029,166498,0,0,87571,1164,0,0,0,1462,0,0,126995,0,0,0,216532,12168,108643,0,0,246104,39416,0,0,8160,39821,48000,658,0,26921,9397,0,1447,109057,56395,2622501,11933,2634434]
[null,"Town of Stephentown",{"$f":"C139","v":"380380400000"},"Town of Stephentown","Rensselaer","12/31",2903,0,57.9,258190053,0,"-",0,"-","-","-","-","-","-","-","-","-","-","-","-","-","-","-","-","-","-",0,"-","-","-","-","-","-","-","-","-","-","-","-","-","-","-","-","-","-","-","-","-","-","-","-","-","-","-","-","-","-","-","-","-","-",{"$f":"BO139","v":"-"},"-","-","-","-","-","-","-","-","-","-","-","-","-","-","-","-","-","-","-","-","-","-","-","-","-","-","-","-","-","-","-","-","-","-","-","-","-","-","-","-","-","-","-","-","-","-","-","-","-","-","-","-","-","-","-","-","-","-","-","-","-","-","-",{"$f":"EA139","v":"-"},"-","-","-","-","-","-","-","-","-","-","-","-","-","-","-","-","-","-","-","-","-","-","-","-","-","-","-","-","-","-","-","-","-","-","-","-","-","-","-","-","-","-","-","-","-","-","-","-","-","-","-","-","-","-"]
[null,"City of Troy",{"$f":"C140","v":"380257000000"},"City of Troy","Rensselaer","12/31",50129,0,10.4,1905426906,76568550,18310039,0,13468,0,1095428,802592,0,0,7945,13374257,686896,0,539137,0,0,0,273155,0,106601,2059288,0,1019086,0,331364,1530414,475981,10600082,2849678,0,192088,0,170871,0,37130,0,0,0,29484,0,0,0,358774,2612303,292565,1315654,110986,19765,0,0,421118,0,2378143,62014292,12530064,480130,{"$f":"BO140","v":185479},0,531162,0,857645,0,0,2059,0,0,0,2163685,0,930012,0,5761857,0,2340482,0,0,0,0,0,687152,88484019,1000000,225000,0,3672867,0,93381886,4206232,3364069,0,0,1018307,35144,0,0,0,0,0,0,0,0,12051865,9833267,0,0,0,0,583074,111111,0,0,0,0,0,8849367,0,0,0,0,0,{"$f":"EA140","v":0},296320,467799,0,0,0,0,0,0,0,0,0,590138,1818179,0,909479,0,2734377,0,73000,0,38750,0,397025,0,0,0,1588751,7644325,0,0,0,1588535,0,2411322,0,0,0,0,0,0,0,0,4079374,0,0,0,61998,0,14534427,4459485,2822635,86568355,3672867,90241222]
[null,"Saratoga County",{"$f":"C141","v":"410100000000"},"County of Saratoga","Saratoga","12/31",219607,0,810,21886916706,79869000,46220413,0,0,0,663963,2630121,77072,0,95560233,400000,0,592111,0,812508,1819523,0,6350243,0,816770,23510333,0,77955,2844121,0,0,268520,0,12512283,0,117931,0,1155755,0,272614,0,419316,0,0,0,3690967,0,1591636,773753,1369414,390328,13515,2239193,0,0,0,0,880500,208071093,0,0,{"$f":"BO141","v":634476},3507418,799823,5016070,2611376,7933123,353732,264853,862749,0,0,301659,3115009,159069,2245969,602760,10750094,1185777,205052,563371,0,0,6627200,2705088,258515761,28974000,0,0,21023924,0,308513685,34304826,12355565,46860443,568110,1037576,156794,0,0,0,0,0,6611094,11119682,132170,11302328,385075,0,7954552,0,276598,690158,3876072,2747420,8433053,0,17025679,0,11885622,215712,78597,942228,0,0,{"$f":"EA141","v":2162947},0,759541,6135343,14456371,21457615,3980634,0,735246,403120,0,60000,0,0,783671,0,0,0,0,641098,34000,87940,995273,296506,2058830,1212672,0,3,0,0,0,0,7305998,0,0,0,0,0,0,0,0,0,0,0,0,0,0,0,0,41820436,2400000,2494027,289240623,21023925,310264548]
[null,"Village of Ballston Spa",{"$f":"C142","v":"410453400340"},"Village of Ballston Spa","Saratoga","05/31",5409,0,1.6,334011245,952705,1202165,0,0,0,0,3842,0,0,0,818402,62028,0,54040,0,0,0,1994,0,0,5030,0,0,0,0,47982,8148,675670,173604,0,0,0,262500,0,0,0,84334,0,0,0,0,0,879,5260,53644,27256,0,4447,1639,0,1379,4332,92293,3590869,0,65117,{"$f":"BO142","v":0},0,5900,0,74887,0,0,0,0,0,0,197715,0,0,0,0,986327,3084,0,50609,0,0,0,0,4974508,0,0,0,0,0,4974508,284690,272161,0,0,11520,0,0,0,0,0,0,0,0,0,580758,148284,0,0,0,0,45502,5883,0,0,0,0,0,347878,0,0,0,0,0,{"$f":"EA142","v":0},102500,6608,0,0,0,0,988548,0,0,0,0,0,900,2500,0,0,142824,0,0,161513,18431,0,0,0,17000,0,0,499553,0,0,0,142599,12147,0,0,0,0,68033,62066,0,0,118439,314929,0,0,49627,15770,0,0,301853,53043,4775559,0,4775559]
[null,"Town of Ballston",{"$f":"C143","v":"410304900000"},"Town of Ballston","Saratoga","12/31",9776,0,29.6,952484335,3970500,1176284,0,0,0,0,7700,0,0,0,2235176,0,0,70551,0,0,0,3571,0,520,2280,0,0,0,0,17831,137771,524391,0,0,0,0,0,0,0,0,0,0,0,0,26000,0,4787,26021,0,69031,0,0,124,0,58175,0,98171,4458384,50222,356091,{"$f":"BO143","v":0},0,0,0,87685,0,0,0,0,0,0,0,0,0,0,0,0,0,0,0,0,0,0,0,4952382,0,0,0,0,0,4952382,159374,380051,0,0,314052,0,0,0,0,0,0,0,0,0,0,141388,234836,0,0,0,18351,3213,0,0,0,0,0,1196306,14761,0,0,0,0,{"$f":"EA143","v":223725},14416,29610,0,0,0,0,0,0,0,0,0,0,0,0,0,0,19136,0,18500,437089,5180,0,877,16349,0,0,0,1136490,0,0,0,0,0,1279,0,0,0,126643,0,0,0,100006,323284,603,0,0,0,0,0,377500,130069,5423088,0,5423088]
[null,"Town of Charlton",{"$f":"C144","v":"410314700000"},"Town of Charlton","Saratoga","12/31",4133,0,32.799999999999997,441650710,1853600,138032,0,0,0,0,2472,0,0,0,1130663,0,0,23129,0,0,0,2101,0,12110,0,0,0,0,0,0,36740,102446,0,0,0,0,0,0,360,0,0,0,0,0,0,0,9535,0,0,43742,0,1218,0,0,5646,0,12428,1520622,33362,134799,{"$f":"BO144","v":28469},0,0,0,84766,0,0,1361,0,0,0,16499,0,0,0,0,0,0,0,0,0,0,0,0,1819878,0,0,0,0,0,1819878,223897,251679,0,0,24428,2500,0,0,0,0,0,0,0,0,49446,0,24780,0,0,0,14370,1031,0,0,0,0,0,573959,0,0,0,0,0,{"$f":"EA144","v":63997},0,0,0,0,0,0,0,0,0,0,0,0,0,0,0,0,3640,0,615,48250,14137,0,4602,5553,0,0,0,266966,0,0,0,0,0,10196,0,2650,0,49742,0,0,0,43683,82892,421,0,0,2860,0,0,80450,67469,1914213,0,1914213]
[null,"Town of Clifton Park",{"$f":"C145","v":"410317400000"},"Town of Clifton Park","Saratoga","12/31",36705,0,48.2,3896606465,12057491,3014340,0,0,0,152859,25300,0,0,0,9712419,0,0,0,0,0,0,899339,0,0,0,0,0,0,0,996875,321314,13473,319049,0,0,0,0,0,0,0,0,0,0,693203,454651,149356,49053,508235,223689,644528,0,7015,0,0,225,0,245372,18430295,100090,1497611,{"$f":"BO145","v":0},0,0,0,273853,0,0,0,0,0,0,387933,0,0,0,0,324901,0,0,0,0,0,0,87804,21102486,0,41000,0,3820295,0,24963781,1747182,1676192,0,0,382269,0,0,0,0,0,0,0,0,50530,1009896,345428,1728944,0,13078,0,775804,21300,0,0,0,0,0,3750269,0,0,0,0,0,{"$f":"EA145","v":187017},243463,0,0,0,0,0,319770,0,0,0,0,0,0,0,0,500,2652140,0,771644,0,112526,0,1000,250409,11836,0,143557,23361,0,0,0,1649301,0,670129,0,48522,0,393303,0,0,0,480049,2241357,14994,19472,122551,7770,0,0,576957,469538,22912056,3820295,26732351]
[null,"Town of Corinth",{"$f":"C146","v":"410320000000"},"Town of Corinth","Saratoga","12/31",6531,0,56.8,549529510,0,1608003,0,0,0,313363,5208,0,0,0,702444,0,0,45968,0,0,0,85748,0,90,207492,0,0,0,0,0,17161,23440,191621,0,0,0,0,0,0,0,0,0,0,0,0,0,6528,0,7200,52619,0,99,0,0,0,0,3510,3270496,22512,76175,{"$f":"BO146","v":0},0,0,0,1311755,0,0,26033,2573,0,0,0,0,0,0,0,0,0,0,0,0,0,0,0,4709543,0,0,0,0,0,4709543,148077,372366,0,0,27592,9556,0,0,0,0,0,0,0,4244,4099,261021,152814,0,0,0,91670,1518,0,0,0,48072,299283,901418,0,0,0,983666,0,{"$f":"EA146","v":155423},8536,0,0,0,0,0,0,0,0,0,0,3500,0,0,0,1000,3396,0,34202,14500,42700,0,7644,64625,0,0,0,25376,0,0,0,0,0,220679,4513,0,5625,109520,0,0,0,97106,217226,1013,0,0,5602,0,6956,0,0,4334538,0,4334538]
[null,"Village of Corinth",{"$f":"C147","v":"410420001150"},"Village of Corinth","Saratoga","05/31",2559,0,1.1000000000000001,240958385,5990000,1433372,0,0,0,456795,10646,0,0,0,595008,63630,0,0,0,0,0,86951,0,0,0,0,0,0,13389,0,4378,344412,336713,0,0,0,261021,0,0,0,0,0,0,0,0,0,15897,6746,300,1025,0,12920,0,0,300,0,840,3644343,24560,21955,{"$f":"BO147","v":0},0,0,0,130767,0,0,1405,1000,0,47975,0,0,0,0,0,589675,326016,0,0,0,0,0,0,4787696,0,0,0,488546,0,5276242,137825,176146,0,0,29513,10661,0,0,0,0,0,0,0,380,397721,255137,0,0,1416,0,17412,0,0,0,0,0,0,761988,0,0,0,0,0,{"$f":"EA147","v":0},51280,0,0,0,0,0,466450,0,0,0,0,108099,330531,0,0,520,20345,0,14145,13500,12932,0,0,1097,635,0,5500,292752,0,0,0,259182,0,163204,0,0,0,41873,0,0,27188,58456,294737,478,0,0,583,0,0,170000,289934,4411620,488546,4900166]
[null,"Town of Day",{"$f":"C148","v":"410322000000"},"Town of Day","Saratoga","12/31",856,0,64.099999999999994,324648383,0,461663,0,0,0,19848,3105,0,0,0,778955,0,0,0,0,0,0,736,0,9101,0,0,0,0,0,35,50,0,2045,0,0,0,0,0,0,0,0,0,0,0,0,0,3509,3640,0,6468,0,0,0,0,0,0,603,1289758,0,35374,{"$f":"BO148","v":0},0,0,0,62206,0,0,3780,991,0,0,136216,0,0,0,0,0,0,0,0,0,0,0,0,1528325,0,0,0,0,0,1528325,82335,182541,0,0,14755,0,0,0,0,0,0,0,0,0,245,43585,11000,0,0,0,41028,1516,0,0,0,0,0,615732,0,0,0,0,0,{"$f":"EA148","v":216346},3350,0,0,0,0,0,0,0,0,0,0,0,0,0,0,0,684,0,5703,0,10793,0,5661,725,2508,0,0,0,0,0,0,0,0,311307,0,0,0,44934,0,0,0,43930,139110,280,0,0,193,0,0,0,0,1778261,0,1778261]
[null,"Town of Edinburg",{"$f":"C149","v":"410325500000"},"Town of Edinburg","Saratoga","12/31",1214,0,60.2,409060172,0,280075,0,0,0,3086,2164,0,0,0,962445,0,0,0,0,0,0,1603,0,0,0,0,0,0,0,2232,15134,0,0,0,0,0,0,0,0,0,0,0,0,0,0,0,1963,7570,0,7848,0,0,0,0,0,0,2392,1286513,5064,45381,{"$f":"BO149","v":0},0,0,0,65468,0,0,1736,0,0,0,23999,0,0,0,0,0,0,0,0,0,0,0,0,1428162,0,0,0,50733,0,1478895,111395,182638,0,0,14435,0,0,0,0,0,0,0,0,0,64,84000,0,0,0,0,22700,2676,0,0,0,0,0,472297,0,0,0,0,0,{"$f":"EA149","v":110399},2060,0,0,0,0,0,0,0,0,0,0,0,0,1253,0,0,782,0,8237,0,4959,0,10024,306,0,0,0,0,0,0,0,0,0,142103,0,0,0,43469,0,0,0,38885,54103,889,0,0,1452,0,0,0,0,1309124,50733,1359857]
[null,"Town of Galway",{"$f":"C150","v":"410331400000"},"Town of Galway","Saratoga","12/31",3545,0,43.8,428006969,632000,564000,0,0,0,0,3386,0,0,0,1035159,0,0,45476,0,0,0,3998,0,4633,0,0,0,0,0,0,934,0,0,0,0,0,190,0,0,0,4925,0,0,0,2371,0,450,0,0,27893,0,0,0,0,0,0,1849,1695263,20555,95364,{"$f":"BO150","v":0},0,0,0,109104,0,0,15862,0,0,0,0,0,0,0,0,0,0,0,0,0,0,0,0,1936148,0,0,0,0,0,1936148,104601,172350,0,0,11028,0,0,0,0,0,0,0,0,0,8244,237500,51700,0,0,0,31452,1000,0,0,0,0,0,830272,0,0,0,0,0,{"$f":"EA150","v":117794},1481,0,4000,0,0,0,0,0,0,0,0,0,0,0,0,0,0,0,27429,0,2994,5605,0,9159,0,0,0,0,0,0,0,0,0,4442,0,0,0,33000,0,0,0,44575,63830,0,0,0,4208,0,0,105500,35121,1907285,0,1907285]
[null,"Village of Galway",{"$f":"C151","v":"410431401900"},"Village of Galway","Saratoga","05/31",200,0,0.3,13207727,0,0,0,0,0,0,0,0,0,0,32278,7427,0,0,0,0,0,0,0,0,0,0,0,0,0,105,80,0,0,0,0,0,0,0,0,0,0,0,0,0,0,0,2175,0,0,14541,0,0,0,0,0,0,834,57440,3515,1775,{"$f":"BO151","v":0},0,0,0,0,0,0,53,0,0,0,0,0,0,0,0,0,0,0,0,0,0,0,0,62783,0,0,0,0,0,62783,6283,10525,0,0,0,0,0,0,0,0,0,0,0,0,8275,9560,2480,0,0,0,0,0,0,0,0,0,0,0,0,0,0,0,0,{"$f":"EA151","v":0},2606,0,0,0,0,0,0,0,0,0,0,0,0,0,0,0,2891,0,0,0,0,0,0,0,2588,0,500,0,0,0,0,0,0,0,0,0,0,0,0,0,0,970,0,0,0,0,0,0,0,0,0,46678,0,46678]
[null,"Town of Greenfield",{"$f":"C152","v":"410334400000"},"Town of Greenfield","Saratoga","12/31",7775,0,67.400000000000006,748080021,0,845580,0,0,0,1085,5202,0,0,0,1840340,0,0,57788,0,0,0,11498,0,160,0,0,0,0,34394,23284,54254,0,0,0,0,0,0,0,0,0,0,0,0,0,0,0,36192,10100,0,62742,0,4854,0,0,100,0,155,2987727,23788,201469,{"$f":"BO152","v":16468},0,0,0,165398,0,0,4470,0,0,0,2444,0,0,0,0,0,0,0,0,0,0,0,0,3401765,0,0,0,117505,0,3519270,108593,371170,0,0,19403,0,0,0,0,0,0,0,0,0,19327,0,42000,0,0,0,18054,6051,0,0,0,0,0,1877367,0,0,0,0,0,{"$f":"EA152","v":305531},19400,0,0,0,0,0,0,0,0,0,0,7253,220620,1211,0,0,79695,0,65313,0,9815,0,75980,17554,0,0,0,0,0,0,0,0,0,29608,0,0,0,71178,0,0,0,84888,118555,1726,0,0,6472,8672,0,0,0,3585432,117505,3702937]
[null,"Town of Hadley",{"$f":"C153","v":"410335700000"},"Town of Hadley","Saratoga","12/31",2048,0,39.700000000000003,258437047,250000,1049845,0,0,0,0,3187,0,0,0,628297,0,0,17523,0,0,0,2104,0,10,0,0,0,0,0,2948,2822,59168,58636,0,0,0,0,0,0,0,0,0,0,0,0,0,8414,0,0,13376,0,2873,0,2624,180,0,1811,1853817,6751,29063,{"$f":"BO153","v":0},0,0,0,137047,0,0,3396,0,0,0,0,0,0,0,0,202696,0,0,0,0,0,0,0,2232769,0,0,0,599001,0,2831771,132201,221634,0,0,34250,0,0,0,0,0,0,0,0,2596,0,0,0,0,0,0,4932,1338,0,0,0,0,0,557297,0,0,0,0,0,{"$f":"EA153","v":105401},28433,0,0,0,0,0,206182,0,0,0,0,0,0,0,0,260,5057,0,36158,16000,6907,0,423,15441,638,0,0,65020,0,0,0,25019,0,242506,0,0,0,84297,0,0,0,61008,145301,601,0,0,0,0,4500,43750,9497,2056646,599001,2655648]
[null,"Town of Halfmoon",{"$f":"C154","v":"410336000000"},"Town of Halfmoon","Saratoga","12/31",21535,0,32.6,1953841698,44886577,2795691,0,0,0,0,20003,0,0,0,4871503,0,0,207610,0,0,0,13489,0,0,394314,0,91,0,0,418095,650069,2443464,44518,0,0,0,0,0,0,0,0,0,0,105000,0,0,94577,3148,1600,395117,0,19541,0,0,12880,0,120376,12611086,66979,908386,{"$f":"BO154","v":0},0,0,0,123237,0,0,23969,0,0,0,1256,0,0,0,0,0,0,77099,0,0,0,0,0,13812012,0,0,0,202550,0,14014562,936452,1259125,0,0,164407,0,0,0,0,0,0,0,0,0,224416,0,1046993,0,0,0,260395,2500,0,0,0,81885,0,1866566,0,0,0,0,0,{"$f":"EA154","v":303871},26006,0,0,0,0,0,0,0,0,0,0,0,0,0,0,0,916599,0,8155,0,10500,54872,475,86993,0,0,0,3367464,0,0,0,2900,0,97856,7600,3785,0,391061,0,0,0,269494,580254,3573,0,0,25145,0,16000,2451465,1811220,16278028,202550,16480578]
[null,"Town of Malta",{"$f":"C155","v":"410350100000"},"Town of Malta","Saratoga","12/31",14765,0,27.9,1496744943,3220000,1286626,0,1182,0,646,9321,0,0,0,3611321,0,0,152312,0,0,0,4288,0,3240,3120,0,0,0,0,1605420,2687245,0,127147,0,0,0,130,0,36577,0,2625,0,0,0,55364,0,90260,15864,48932,306070,0,24082,0,0,3013,0,326174,10400959,26150,762328,{"$f":"BO155","v":22813},0,7581,0,2022233,0,0,46572,0,0,0,2816,0,0,0,15558,0,0,0,0,0,0,0,0,13307010,0,0,0,199933,0,13506943,273147,983132,0,0,2016626,0,0,0,0,0,0,0,0,0,19870,1134961,379999,0,0,401,13576,4300,0,0,0,0,0,3443101,0,0,0,0,0,{"$f":"EA155","v":295627},34300,75466,0,0,0,0,0,0,0,0,0,0,0,5491,0,0,217852,0,124331,290694,1577,416220,8160,8074,11827,0,1050,0,0,0,0,113767,0,433,0,0,0,193541,0,0,0,161260,357181,1726,0,0,9015,0,154240,125000,131008,11006953,199933,11206886]
[null,"Village of Round Lake",{"$f":"C156","v":"410450104295"},"Village of Round Lake","Saratoga","05/31",623,0,1.1000000000000001,55288695,2108893,319347,0,0,0,0,2650,0,0,0,135155,0,0,54543,0,0,0,236,0,0,0,0,0,0,0,40210,1963,147129,59186,0,0,0,433447,0,1800,0,0,0,0,0,0,0,1317,2166,17660,25,0,0,0,0,7375,0,30934,1255143,6810,15098,{"$f":"BO156","v":0},0,0,0,52791,0,0,0,0,4000,0,0,0,0,0,0,0,0,0,0,0,0,0,0,1333842,71500,0,0,136950,0,1542292,49356,115509,0,0,1544,1515,0,0,0,0,0,0,0,0,0,199828,0,0,0,0,5378,0,0,0,0,0,187,180995,0,0,0,0,0,{"$f":"EA156","v":0},11961,0,0,0,0,0,0,0,0,0,0,0,0,0,0,0,36037,0,333,8000,190712,0,0,0,11213,0,0,90110,0,0,0,6036,818,0,0,0,0,12096,0,0,3240,19406,46513,919,0,1983,3350,0,0,199745,10096,1206880,136950,1343830]
[null,"City of Mechanicville",{"$f":"C157","v":"410229000000"},"City of Mechanicville","Saratoga","12/31",5196,0,0.8,209372846,6555413,1861253,0,0,0,39459,52628,0,0,0,1115242,50029,0,83288,0,0,0,14050,0,0,0,0,4462,0,0,231,15179,807242,730798,0,6238,0,6140,0,0,0,0,0,0,0,0,0,3230,5834,5040,35270,0,45195,0,0,1060,0,26764,4908633,675910,58410,{"$f":"BO157","v":0},0,0,0,122631,0,27395,2978,0,0,0,188581,0,0,0,175937,0,0,0,0,0,0,0,0,6160474,696750,0,0,0,0,6857224,297431,397059,0,0,2325,0,0,0,0,0,0,0,0,51182,1031625,857793,110000,37115,0,0,64647,0,0,10000,0,0,0,669792,0,74372,0,0,0,{"$f":"EA157","v":0},121807,0,0,0,0,0,0,0,0,0,0,12146,0,0,0,373651,48754,0,25344,0,10861,0,0,17114,4935,0,964,474697,0,0,0,602128,0,350000,0,0,0,110635,138782,0,4150,156465,724515,1821,0,0,2563,0,0,307334,43641,7135647,0,7135647]
[null,"Town of Milton",{"$f":"C158","v":"410353400000"},"Town of Milton","Saratoga","12/31",18575,0,35.700000000000003,1203300846,0,456838,0,0,0,529,9321,0,0,0,2533365,0,0,140500,0,0,0,49369,0,1360,1860,0,0,0,0,37185,45618,0,0,0,0,0,0,0,0,0,0,0,0,0,0,0,44962,14596,0,94973,0,0,0,0,0,0,2433,3432909,108214,464113,{"$f":"BO158","v":0},0,0,0,104326,0,0,6159,0,0,0,0,0,0,0,0,0,0,0,0,0,0,0,0,4115721,0,0,0,751445,0,4867166,176717,603997,0,0,258430,0,0,0,0,0,0,0,0,0,3645,152500,0,0,0,0,49851,7313,0,0,0,0,0,1654282,0,0,0,0,0,{"$f":"EA158","v":368422},21849,0,0,0,0,0,0,0,0,0,0,0,0,2899,0,0,112801,0,78229,41000,9940,65757,1000,25546,0,0,2905,0,0,0,0,0,0,225,0,0,0,193326,0,0,0,131450,527478,391,0,0,293,0,227,0,1049,4491522,751445,5242967]
[null,"Town of Moreau",{"$f":"C159","v":"410354900000"},"Town of Moreau","Saratoga","12/31",14728,0,41.9,1039551342,3603707,1782427,0,0,0,52143,16821,0,0,0,1677028,0,0,153466,0,0,0,8147,0,21607,473131,0,0,0,0,20892,6109,677147,225751,0,0,0,0,0,0,0,0,0,0,0,0,0,50685,1871,0,190166,0,15924,0,0,150,0,107215,5480680,46153,272130,{"$f":"BO159","v":0},0,0,0,115198,0,0,5200,73471,0,0,5147,0,0,0,0,0,0,0,0,0,0,0,0,5997979,0,0,0,70231,0,6068210,101928,707483,0,15299,22122,0,0,0,0,0,0,0,0,0,35323,406016,690400,0,0,0,125551,1161,495,0,433,0,0,1190758,0,4288,0,0,0,{"$f":"EA159","v":54278},65464,0,0,0,0,0,0,0,0,0,0,854,124,2350,0,875,291331,0,140476,595880,24800,6548,243824,2360,0,0,0,459536,0,0,0,23897,0,192312,0,18000,0,131549,0,0,0,81541,442171,1914,8247,0,860,0,36424,128704,0,6255576,70231,6325807]
[null,"Village of South Glens Falls",{"$f":"C160","v":"410454904730"},"Village of South Glens Falls","Saratoga","05/31",3518,0,1.4,222451938,0,1026532,0,0,0,44289,8623,0,0,0,521277,45352,0,55006,0,0,0,8763,0,232,460,0,0,0,0,0,11054,329830,378712,0,0,0,406016,0,0,0,0,0,0,0,0,0,7755,7103,0,930,0,23403,0,0,2524,0,65552,2943413,34762,37470,{"$f":"BO160","v":0},0,0,0,33651,0,0,0,0,0,0,22368,0,0,0,0,0,147772,0,0,0,0,0,0,3219436,0,0,0,0,0,3219436,139536,255765,0,0,2536,2795,0,0,0,0,0,0,0,0,439013,488036,0,0,0,0,1627,450,0,0,0,0,0,355679,0,5631,0,0,0,{"$f":"EA160","v":0},76219,6376,0,0,0,0,0,0,0,0,0,25120,122652,4861,0,0,35744,0,0,0,8790,2665,0,0,7023,0,0,217394,0,0,0,340517,3357,0,0,0,0,35709,52953,0,0,0,456024,0,0,22362,0,0,71447,25000,859,3206140,0,3206140]
[null,"Town of Northumberland",{"$f":"C161","v":"410360100000"},"Town of Northumberland","Saratoga","12/31",5087,0,32.299999999999997,356992179,130000,587527,0,0,0,0,5344,0,0,0,924822,0,0,0,0,0,0,1010,0,0,0,0,0,0,0,0,17257,0,24540,0,0,0,0,0,0,0,0,0,0,0,0,0,5979,1300,0,31399,0,121747,0,0,0,0,725,1721650,15152,126084,{"$f":"BO161","v":9351},0,0,0,93616,0,0,2018,0,0,0,4297,0,0,0,0,0,0,122942,0,0,0,0,0,2095110,0,0,0,0,0,2095110,106296,228176,0,0,19225,0,0,0,0,0,0,0,0,0,4895,112000,0,0,0,0,44448,1525,0,0,7236,0,0,779086,0,0,0,0,0,{"$f":"EA161","v":412692},9943,0,0,0,0,0,0,0,0,0,0,0,0,0,0,0,8195,0,21720,0,1388,0,0,936,105146,0,0,0,0,0,0,2122,0,55157,0,0,0,51462,0,0,0,44030,92448,252,0,0,5799,0,2129,0,0,2116306,0,2116306]
[null,"Town of Providence",{"$f":"C162","v":"410369300000"},"Town of Providence","Saratoga","12/31",1995,0,44,178879200,129960,690436,0,0,0,0,2935,0,0,0,497647,0,0,18056,0,0,0,29935,0,0,0,0,0,0,0,0,0,0,0,0,0,0,0,0,0,0,0,0,0,0,0,0,3360,43930,0,4230,0,1600,0,0,0,0,4658,1296787,6039,48884,{"$f":"BO162","v":0},0,0,0,86950,0,0,625,0,0,0,0,0,0,0,0,0,0,0,0,0,0,0,0,1439285,61470,0,0,0,0,1500755,64516,92691,0,0,2911,0,0,0,0,0,0,0,0,1983,3999,0,35370,0,0,0,9371,267,0,0,0,0,0,694720,11817,0,0,0,0,{"$f":"EA162","v":122698},0,0,2230,0,0,0,0,0,0,0,0,0,0,0,0,0,11298,0,2070,0,372,0,226,0,0,0,0,0,0,0,0,0,0,23127,0,0,0,41364,0,0,0,31282,112379,0,0,0,1411,0,5526,75510,6155,1353293,0,1353293]
[null,"Town of Saratoga",{"$f":"C163","v":"410374700000"},"Town of Saratoga","Saratoga","12/31",5674,0,40.6,531289867,2955000,602688,0,0,0,0,8451,0,0,0,1106553,0,0,0,0,0,0,4901,0,460,0,0,0,0,0,0,25023,0,0,0,0,0,0,0,0,0,0,0,0,0,0,0,12782,15202,119778,57547,0,0,0,79584,0,0,9284,2042252,31991,117225,{"$f":"BO163","v":0},0,0,0,108258,0,0,1552,0,0,0,89490,0,0,0,0,0,196846,0,0,0,0,0,0,2587614,0,0,0,120307,0,2707921,161728,283238,0,0,42419,0,0,0,0,0,0,0,0,783,12836,45772,0,0,0,0,16051,2664,0,0,0,0,0,805527,0,0,0,0,0,{"$f":"EA163","v":234679},4168,0,0,0,0,0,0,0,0,0,0,0,199296,0,0,0,105386,0,2194,0,9885,0,0,885,1500,0,0,0,0,0,0,0,0,4349,0,0,0,60389,0,0,0,48429,85236,221,0,0,0,0,5556,130000,125889,2389079,120307,2509386]
[null,"Village of Schuylerville",{"$f":"C164","v":"410474704490"},"Village of Schuylerville","Saratoga","05/31",1386,0,0.5,74123420,3346489,481976,0,0,0,0,8198,0,0,0,191670,0,0,11717,0,0,0,901,0,0,0,0,0,0,0,197,2983,0,383815,0,0,0,162878,0,0,0,75000,0,5890,0,67375,0,2069,0,0,0,0,1680,0,0,0,0,2866,1399214,13293,15630,{"$f":"BO164","v":0},0,61593,0,0,0,0,23720,0,0,0,80134,0,0,0,0,0,0,0,0,0,0,0,110719,1704303,0,95629,0,0,0,1799932,315768,96611,0,0,35473,0,0,0,0,0,0,0,0,1873,8987,75516,0,0,0,0,10200,2715,0,0,0,0,0,137253,0,0,0,0,0,{"$f":"EA164","v":0},96529,0,0,0,0,0,0,0,0,0,0,0,0,0,0,112747,10866,0,2556,73687,24696,0,0,0,9032,0,11652,3011,0,0,0,547178,3456,42936,0,0,0,17828,0,0,0,22863,44037,0,0,0,0,0,0,208004,48744,1964216,0,1964216]
[null,"Village of Victory",{"$f":"C165","v":"410474705070"},"Village of Victory","Saratoga","05/31",605,0,0.5,0,284040,201601,0,0,0,0,2320,0,0,0,63742,3476,0,5546,0,0,0,14956,0,0,0,0,0,0,0,0,1601,0,95929,0,0,0,11901,0,0,0,0,0,0,0,50885,0,556,4000,0,0,0,2438,0,0,0,0,0,458951,7304,3632,{"$f":"BO165","v":0},0,21046,0,22509,0,239416,0,0,0,0,0,0,28591,0,0,0,0,0,0,0,0,0,0,781449,0,6000,0,28505,0,815954,46791,85352,0,0,7864,0,0,0,0,0,0,0,0,0,0,7013,0,0,0,0,0,350,0,0,0,0,0,168704,0,0,0,0,0,{"$f":"EA165","v":0},8894,0,0,0,0,0,0,0,0,0,0,0,246183,0,0,0,0,0,0,0,1180,0,0,0,5017,0,0,0,0,0,0,33345,0,7158,0,0,0,14162,0,0,0,11109,19642,310,0,1059,0,0,750,77010,11071,752964,28505,781469]
[null,"City of Saratoga Springs",{"$f":"C166","v":"410252000000"},"City of Saratoga Springs","Saratoga","12/31",26586,0,28.1,3792162425,37718743,17546224,0,557461,0,366244,269440,0,0,9045606,418849,557299,831046,458315,0,237,0,174485,0,57937,41588,0,28575,0,36366,1262269,289750,2663387,4035200,0,30005,0,67252,0,0,0,151922,0,0,0,0,0,170970,14839,402537,672504,0,397379,0,0,60128,0,1061046,41668860,1683369,1116310,{"$f":"BO166","v":44098},0,11358,0,505679,0,0,8354197,0,16460,0,25501,0,223642,0,2939989,35364,585176,0,0,13000,0,0,0,57223003,1539457,0,0,1556766,0,60319226,2284856,2804362,0,9615,396738,39810,0,0,0,0,0,0,0,887950,6243664,4203780,0,391197,0,0,445994,17765,0,0,0,0,0,6520991,0,0,0,0,0,{"$f":"EA166","v":0},459996,0,0,0,0,0,180230,0,0,0,27000,6589,387351,0,0,43913,5580058,0,156923,0,219869,0,37900,93715,100817,0,0,3016611,0,0,0,3575843,117046,225254,0,0,60393,0,0,0,0,0,0,0,0,0,0,0,10689370,1776316,1620332,52622248,1556766,54179014]
[null,"Town of Stillwater",{"$f":"C167","v":"410380700000"},"Town of Stillwater","Saratoga","12/31",8287,0,41.2,724498532,4282819,1631760,0,273111,0,24743,10917,0,0,0,1622200,0,0,59869,0,0,0,6719,0,109,0,0,0,0,0,0,38853,352195,57872,0,0,0,4229,0,9498,0,0,0,0,0,0,0,21890,43851,4800,76235,2951,0,0,117180,0,0,69292,4428274,31538,201797,{"$f":"BO167","v":0},0,0,0,783244,0,0,2000,0,0,0,313526,0,0,0,0,774574,0,0,0,0,0,0,0,6534953,3410819,1453745,0,572230,0,11971746,180281,691408,0,0,52874,17,0,0,0,0,0,0,0,0,211805,0,113000,0,0,0,816252,1520,0,0,0,0,0,1216087,51846,0,0,0,0,{"$f":"EA167","v":552458},31497,0,0,0,0,0,762747,0,0,0,0,73293,0,0,0,2900,75356,0,58000,130860,45504,0,5700,11335,0,0,44518,408396,0,0,0,82418,0,22065,0,0,0,121133,11637,0,0,104744,302027,1530,0,0,2258,0,8885,1530462,95583,7820396,572274,8392669]
[null,"Village of Stillwater",{"$f":"C168","v":"410480704820"},"Village of Stillwater","Saratoga","05/31",1738,0,1.3,93175850,1691500,257047,0,122263,0,0,4976,0,0,0,230065,0,0,18395,0,0,0,196,0,0,200,0,0,0,0,0,3122,399958,201184,0,0,0,0,0,0,0,0,0,0,0,0,0,3869,13349,0,0,0,2500,0,0,0,707,2693,1260526,11431,15522,{"$f":"BO168","v":0},0,3060,0,0,0,0,0,0,0,0,0,0,18666,0,0,0,0,0,0,0,0,0,0,1309204,0,117500,0,64648,0,1491352,115637,56997,0,0,334,0,0,0,0,0,0,0,0,0,1139,62621,0,0,0,0,6337,190,0,0,0,0,0,107195,0,0,0,0,0,{"$f":"EA168","v":24901},17135,0,0,0,0,0,0,0,0,0,0,0,0,0,0,0,6779,0,0,0,944,0,0,0,18,0,296,598445,0,0,0,181214,0,842,0,0,0,16676,0,0,0,18785,45836,347,0,31351,899,0,0,249001,40746,1584662,64648,1649310]
[null,"Town of Waterford",{"$f":"C169","v":"410387500000"},"Town of Waterford","Saratoga","12/31",8423,0,6.6,597504494,8739124,3075933,0,234970,0,61284,4252,0,0,0,1431866,0,0,108502,0,0,0,3735,0,1529,0,0,0,0,104,18211,42658,0,796161,0,10586,0,0,0,0,0,2302,0,0,12413,7490,0,5486,14402,0,28421,0,4952,0,0,550,0,2570,5868377,42010,172035,{"$f":"BO169","v":0},0,355,0,48000,0,0,5917,0,0,605042,5241,0,306,0,0,285772,94358,0,0,0,0,0,0,7127413,0,133604,0,819076,0,8080093,196490,557770,0,0,42846,574551,0,0,0,0,0,0,1030,63943,908368,181563,331817,0,0,0,50733,0,0,0,0,0,0,515608,0,0,0,0,0,{"$f":"EA169","v":199140},52299,0,0,0,0,0,251792,0,0,0,0,33980,94358,0,0,0,275123,0,29533,2000,23176,17577,59583,1498,0,0,1199,0,0,0,0,629111,0,282474,17456,0,0,125805,96627,0,0,162553,472013,1114,0,0,356,0,0,574047,367844,7195377,819076,8014453]
[null,"Village of Waterford",{"$f":"C170","v":"410487505180"},"Village of Waterford","Saratoga","05/31",1990,0,0.3,61340788,204500,246311,0,0,0,0,2363,0,0,0,146012,0,0,18795,0,0,0,12841,0,56636,0,0,0,0,0,10239,593,0,0,0,750,0,181563,0,0,0,0,0,0,0,0,0,358,0,0,0,0,2127,0,0,0,0,33362,711950,73701,32768,{"$f":"BO170","v":0},0,0,0,3919,0,0,1388,92141,0,0,0,0,0,0,0,337731,0,0,0,0,0,0,23511,1277108,0,50000,0,0,0,1327108,15210,110626,0,0,12877,0,0,0,0,0,0,0,0,0,0,202695,0,0,0,0,1100,0,0,0,0,0,0,218492,0,0,0,0,0,{"$f":"EA170","v":0},62702,0,0,0,0,0,279026,0,0,0,0,0,0,0,0,0,58125,0,0,0,4525,0,0,0,1345,0,0,0,0,0,0,0,0,137330,0,0,5659,3210,0,0,0,6778,0,0,0,0,0,0,0,131000,11785,1262486,0,1262486]
[null,"Town of Wilton",{"$f":"C171","v":"410391700000"},"Town of Wilton","Saratoga","12/31",16173,0,35.799999999999997,1821626122,505000,558765,0,0,0,0,7569,0,0,0,4502733,0,0,258829,0,0,0,40698,0,480,2560,0,0,0,2064,339422,173738,0,0,0,0,0,0,0,11396,0,0,0,0,0,0,0,58635,195767,15457,210932,0,19494,0,2492,0,0,30517,6431548,26067,536416,{"$f":"BO171","v":0},0,0,0,123743,0,0,0,0,0,0,4015,0,0,0,0,95555,0,0,0,0,0,0,0,7217344,0,0,0,25000,0,7242344,460137,910288,0,0,122126,0,0,0,0,0,0,0,0,0,133443,0,528310,3000,428,0,35669,3000,0,0,8495,0,0,1627488,0,0,0,0,0,{"$f":"EA171","v":331698},13405,0,0,0,0,0,100518,0,0,0,0,0,0,0,0,2479,473613,0,244681,0,54120,0,201456,14881,70170,0,0,0,0,0,0,0,0,17091,0,0,0,224955,0,0,20105,188884,454647,4095,0,0,5666,0,15401,155000,17475,6442725,25000,6467725]
[null,"Schenectady County",{"$f":"C172","v":"420100000000"},"County of Schenectady","Schenectady","12/31",154727,0,204.5,10444791771,57714665,63583228,0,0,0,938917,2160893,0,0,82304702,0,0,413141,0,568303,0,0,4358905,0,409453,20919333,0,789278,2572032,51736,643696,547776,0,147803,0,1533936,439560,67253,0,1901422,0,8000,167744,0,0,469934,0,299536,318947,232124,229861,33098,2604473,0,0,422504,0,10900079,200037667,0,0,{"$f":"BO172","v":751884},4682744,2806620,9170338,2220596,25039170,4763,220352,1174387,0,0,670571,0,237875,8301115,158812,22234773,1136255,0,781594,0,0,0,1781394,281410910,6800419,0,0,1682882,0,289894211,6039442,13414038,29129122,665478,944670,100668,0,0,0,0,0,5205620,8579444,560278,2258461,0,190443,19004791,0,287471,0,745768,3187331,3378583,674164,19786748,2994099,12163031,0,316305,491322,0,0,{"$f":"EA172","v":3015156},0,94413,17967811,33028115,34219472,14064980,0,2346535,1941691,0,0,565469,0,97500,0,0,127287,0,635799,5055082,302125,34467,540449,2737459,128325,0,344079,0,0,0,0,0,0,331867,0,0,0,6165900,0,0,0,4057558,13613152,0,0,826642,16286,0,9964877,6300500,2195429,290835702,1682882,292518584]
[null,"Town of Duanesburg",{"$f":"C173","v":"420324200000"},"Town of Duanesburg","Schenectady","12/31",6122,0,70.8,585414892,6985657,1484414,0,0,0,0,18644,0,0,0,724896,0,0,34930,0,0,0,4605,0,0,0,0,0,0,0,2035,20952,0,2993,0,0,0,0,0,60528,0,0,0,0,0,285,0,6108,0,0,164176,0,1520,0,0,1,0,1067,2527154,21074,117587,{"$f":"BO173","v":0},0,0,0,81732,0,0,1621,0,0,0,0,0,0,0,0,0,87463,0,0,0,0,0,0,2836630,0,0,0,1000,0,2837630,141363,337479,0,0,127805,0,0,0,0,0,0,0,0,7500,0,354654,73548,0,0,0,11637,850,0,0,0,0,0,538521,0,0,0,0,0,{"$f":"EA173","v":68786},12515,0,2500,0,0,0,0,0,0,0,0,0,89351,1185,0,0,16855,0,5656,0,2048,0,1000,2500,0,0,0,0,0,0,0,283615,0,28751,0,0,0,73055,0,0,0,52132,161585,186,0,19698,4676,0,42500,297200,5871,2765023,1000,2766023]
[null,"Village of Delanson",{"$f":"C174","v":"420424201250"},"Village of Delanson","Schenectady","05/31",377,0,0.6,23167654,443700,74296,0,0,0,0,188,0,0,0,35349,0,0,10388,0,0,0,220,0,0,0,0,0,0,0,0,210,83992,0,0,0,0,58854,0,0,0,0,0,0,0,0,0,277,0,0,0,0,163,0,0,10,0,310,264257,5049,0,{"$f":"BO174","v":0},0,0,0,24446,0,0,0,0,0,0,0,0,0,0,0,0,0,0,0,0,0,0,0,293752,0,0,0,0,0,293752,29717,46234,0,0,80,0,0,0,0,0,0,0,0,0,0,31349,0,0,0,0,704,0,0,0,0,0,0,50323,0,0,0,0,0,{"$f":"EA174","v":0},4489,0,0,0,0,0,0,0,0,0,0,0,0,0,0,0,2428,0,0,0,28,0,0,0,0,0,0,35469,0,0,0,0,0,26962,0,0,0,1481,0,0,0,3692,0,0,0,1030,0,0,0,20899,16357,271242,0,271242]
[null,"Town of Glenville",{"$f":"C175","v":"420333100000"},"Town of Glenville","Schenectady","12/31",29480,0,49.2,2328975445,21764820,7311333,0,30100,0,82745,69559,0,0,0,2534366,0,0,317237,0,0,0,49418,0,105257,13130,0,0,0,51353,17000,41208,1419878,290579,0,0,0,9024,0,129576,0,0,0,227234,0,0,10060,80311,18846,27128,205736,10196,42929,0,11000,9937,0,669447,13784587,180066,624986,{"$f":"BO175","v":0},0,19473,0,0,0,12000,15080,0,0,0,42798,0,4017,0,0,324954,0,0,144460,0,0,0,0,15152421,2133100,767483,0,0,0,18053004,365677,1101118,0,0,3547,0,0,0,0,0,0,0,0,121572,2920447,371479,0,0,0,0,270560,1743,0,0,0,0,0,2176494,0,0,0,0,0,{"$f":"EA175","v":362731},39331,0,0,0,0,0,325081,0,0,0,0,22080,134380,0,0,432,353469,0,27000,0,9666,0,50537,0,0,0,0,1190481,0,0,0,736300,0,18916,0,14614,0,354524,365615,0,0,430697,1534889,8788,0,119338,12416,0,0,1632240,758761,15834923,0,15834923]
[null,"Village of Scotia",{"$f":"C176","v":"420433104500"},"Village of Scotia","Schenectady","05/31",7729,0,1.7,426783975,1216280,3767171,0,15931,0,53406,30978,0,0,0,675910,86569,0,0,0,0,0,225739,0,75095,0,0,0,0,0,5752,55072,759690,1183880,0,0,0,370000,0,10148,0,7500,0,0,0,0,0,15935,11922,0,72605,0,0,0,0,0,0,12257,7435558,76498,71792,{"$f":"BO176","v":0},0,0,0,162176,0,0,3674,0,0,0,1361727,0,0,0,0,640262,0,0,0,0,0,0,0,9751688,0,0,0,213331,0,9965020,294836,344770,0,0,0,0,0,0,0,0,0,0,0,0,1110343,1969203,0,0,0,0,38414,64,0,0,0,0,0,548071,0,0,0,0,0,{"$f":"EA176","v":0},95535,0,0,0,0,0,621599,0,0,0,0,0,57995,0,0,445,1001522,0,59983,0,12321,0,0,3000,12475,0,15931,474133,0,0,0,1077114,20039,538892,0,0,0,66524,265328,0,0,226606,739217,0,0,35139,0,0,0,260910,62886,9953293,213331,10166624]
[null,"Town of Niskayuna",{"$f":"C177","v":"420358700000"},"Town of Niskayuna","Schenectady","12/31",21781,0,14.2,2423130612,10374489,6418199,0,3698023,0,292779,34426,0,0,0,3026887,0,0,358202,0,0,0,41391,0,63911,29240,0,0,0,0,319582,144464,2808420,133279,0,0,0,0,0,0,0,0,0,3409,0,8170,2750,92601,119037,119449,244608,250,15766,0,0,1126,0,-130012,17845956,103750,679349,{"$f":"BO177","v":0},0,37642,0,108206,0,0,8388,0,0,0,16940,0,245169,0,0,277956,0,0,37270,0,0,0,0,19360627,8905138,743588,0,543980,0,29553333,574799,983715,0,0,144066,2878,0,0,0,0,0,0,0,13058,3136588,0,0,0,0,0,171508,34597,0,0,0,0,0,3083711,0,0,0,0,0,{"$f":"EA177","v":490201},38105,0,0,0,0,0,291342,0,0,0,0,0,0,0,0,0,919938,0,161957,0,7274,0,500,94877,5576,0,0,4052328,0,0,0,2048168,37372,421585,0,0,0,539800,325577,0,0,626790,1818645,5479,0,85446,12178,27540,13041,1276175,251070,21695882,543980,22239862]
[null,"Town of Princetown",{"$f":"C178","v":"420369200000"},"Town of Princetown","Schenectady","12/31",2115,0,23.9,202235418,2709700,400188,0,0,0,0,5412,0,76268,0,193766,0,0,0,0,0,0,1654,0,0,0,0,0,0,0,0,11790,127146,572,0,0,0,0,0,0,0,0,0,0,0,0,0,1288,0,38068,201998,0,0,0,0,0,0,46073,1104222,16239,43108,{"$f":"BO178","v":0},0,0,0,6921,0,0,0,0,0,0,4962,0,0,0,0,0,0,0,0,0,28267,0,0,1203719,330600,0,0,77246,0,1611565,65398,270547,0,0,46184,0,0,0,0,0,0,0,0,0,23568,188670,32160,0,3133,0,28687,100,0,0,0,0,0,78270,0,0,0,0,0,{"$f":"EA178","v":0},0,0,0,0,0,0,0,0,0,0,2345,0,0,0,0,0,0,0,1069,0,890,0,0,1000,0,0,0,477801,0,0,0,0,0,0,0,0,0,21330,0,0,0,22585,15193,0,0,0,0,0,0,36500,136399,1451828,77246,1529074]
[null,"Town of Rotterdam",{"$f":"C179","v":"420372600000"},"Town of Rotterdam","Schenectady","12/31",29094,0,35.700000000000003,2547009941,10110000,11458185,0,7000,0,249550,73465,0,0,0,3523483,0,0,538874,0,0,0,35363,0,94675,0,0,0,18685,0,17298,37963,429508,272605,0,0,0,153729,0,0,0,12915,0,0,0,11150,0,53253,47318,233449,421289,125,53107,0,0,11417,0,160818,17915225,176985,601144,{"$f":"BO179","v":0},0,50858,0,182507,0,0,10074,0,0,0,0,0,83378,0,0,1459434,0,0,824,0,0,0,0,20480429,0,70750,0,51677,0,20602856,578708,1380080,0,0,187808,98738,0,0,0,0,0,0,1022,0,5456245,154451,0,0,0,0,178055,3400,0,0,0,0,0,3560945,1762,0,0,0,0,{"$f":"EA179","v":253860},237948,0,0,0,0,0,1503575,0,0,0,0,0,0,3660,0,0,406464,0,4065,0,6738,0,0,184764,0,0,0,1672174,0,0,0,725612,0,72086,0,10351,95068,511803,689168,0,0,688912,2608000,7459,528,228614,28620,0,0,1127750,355735,23024167,51677,23075844]
[null,"City of Schenectady",{"$f":"C180","v":"420253000000"},"City of Schenectady","Schenectady","12/31",66135,0,10.8,2417858243,95999672,25536240,0,58164,0,616586,650378,0,0,0,11050000,798038,0,793997,0,0,0,493585,0,1109952,0,0,191446,78523,2971451,892878,741719,7328646,15172234,0,8665,0,0,0,257469,0,0,0,0,0,0,0,819470,75438,13850,973448,3265,512250,0,1100457,38685,0,4013228,76300062,11434688,495671,{"$f":"BO180","v":72395},80000,192964,0,980428,0,0,3089991,0,0,0,0,0,0,0,0,0,5158194,0,1276422,0,0,0,1993878,101074693,2516714,550000,0,406000,0,104547407,18818239,3342129,0,0,7905,116545,0,0,0,0,0,0,0,26064,16209764,9804683,0,0,0,0,215553,0,0,0,0,0,0,6589307,0,0,0,0,0,{"$f":"EA180","v":0},2013137,0,0,0,0,0,0,0,0,0,0,2400532,9115572,0,0,0,1846326,0,95000,0,52422,48770,803457,0,0,0,0,5177328,0,0,0,11713167,0,4089679,0,0,0,1382888,3873550,0,8918,2755058,13353425,23098,10360,2066414,83497,0,705303,5997202,2852313,125597605,406000,126003605]
[null,"Capital District",null,null,null,null,{"$f":"G4+G25+G48+G79","v":837967},0,2189.6999999999998,67617683856,584967953,232247698,0,0,0,5446973,12831399,298962,0,469399375,400000,0,7722846,0,3366152,6727013,0,29674048,0,2845954,118933783,0,2243653,17105506,102249,7278317,1142059,0,{"$f":"AM4+AM25+AM48+AM79","v":18897325},0,4582787,10874868,11462191,0,3074267,0,427316,461911,0,1085889,9050671,9869284,4305991,1602412,5371896,1724814,51421,13590093,0,1557123,607062,6136,38975164,1055344611,0,0,6942152,29619383,7377805,43211574,{"$f":"BS4+BS25+BS48+BS79","v":9736635},80960365,943380,1013416,4703305,0,2784271,2191397,3115009,1607403,34768464,8154151,103869941,4285802,366618,4722835,0,0,6627200,4867323,1417213040,91100037,1543500,0,72004311,0,1581860889,72992199,65204960,189093757,7262140,3421855,{"$f":"CY4+CY25+CY48+CY79","v":527932},0,0,0,0,0,36712321,46356701,6047078,31075909,395238,190443,85574910,0,1759041,6630414,13324163,22026052,36372085,1587814,64414585,2994099,54917825,215712,2203615,1433550,0,0,8111388,0,853954,59570007,{"$f":"EE4+EE25+EE48+EE79","v":129818415},153158563,55729191,0,4109522,10605677,23073699,905563,565869,794236,976301,0,1524931,5840399,0,2295802,5089082,390065,1029740,1342798,13480685,1409161,0,1729897,0,0,0,0,18573138,0,331867,0,{"$f":"FK4+FK25+FK48+FK79","v":0},586,18135898,0,0,0,12009675,59757162,0,0,3144759,387853,0,99782262,28967280,20336258,1496566072,72004312,1568570384]
[]
[{"$f":"SUM(B90:GC90)","v":0},{"$f":"IF(B1<>B94,1,)","v":0},{"$f":"IF(C1<>C94,1,)","v":0},0,0,0,0,0,0,0,0,0,0,0,0,0,0,0,0,0,0,0,0,0,0,0,0,0,0,0,0,0,0,0,0,0,0,0,0,0,0,0,0,0,0,0,0,0,0,0,0,0,0,0,0,0,0,0,0,0,0,0,0,0,0,0,{"$f":"IF(BO1<>BO94,1,)","v":0},0,0,0,0,0,0,0,0,0,0,0,0,0,0,0,0,0,0,0,0,0,0,0,0,0,0,0,0,0,0,0,0,0,0,0,0,0,0,0,0,0,0,0,0,0,0,0,0,0,0,0,0,0,0,0,0,0,0,0,0,0,0,0,{"$f":"IF(EA1<>EA94,1,)","v":0},0,0,0,0,0,0,0,0,0,0,0,0,0,0,0,0,0,0,0,0,0,0,0,0,0,0,0,0,0,0,0,0,0,0,0,0,0,0,0,0,0,0,0,0,0,0,0,0,0,0,0,0,0,0]
[{"$f":"SUM(B91:GC91)","v":0},{"$f":"IF(B2<>B95,1,)","v":0},0,0,0,0,0,0,0,0,0,0,0,0,0,0,0,0,0,0,0,0,0,0,0,0,0,0,0,0,0,0,0,0,0,0,0,0,0,0,0,0,0,0,0,0,0,0,0,0,0,0,0,0,0,0,0,0,0,0,0,0,0,0,0,{"$f":"IF(BN2<>BN95,1,)","v":0},0,0,0,0,0,0,0,0,0,0,0,0,0,0,0,0,0,0,0,0,0,0,0,0,0,0,0,0,0,0,0,0,0,0,0,0,0,0,0,0,0,0,0,0,0,0,0,0,0,0,0,0,0,0,0,0,0,0,0,0,0,0,0,{"$f":"IF(DZ2<>DZ95,1,)","v":0},0,0,0,0,0,0,0,0,0,0,0,0,0,0,0,0,0,0,0,0,0,0,0,0,0,0,0,0,0,0,0,0,0,0,0,0,0,0,0,0,0,0,0,0,0,0,0,0,0,0,0,0,0,0,0]
[{"$f":"SUM(B92:GC92)","v":0},{"$f":"IF(B3<>B96,1,)","v":0},0,0,0,0,0,0,0,0,0,0,0,0,0,0,0,0,0,0,0,0,0,0,0,0,0,0,0,0,0,0,0,0,0,0,0,0,0,0,0,0,0,0,0,0,0,0,0,0,0,0,0,0,0,0,0,0,0,0,0,0,0,0,0,{"$f":"IF(BN3<>BN96,1,)","v":0},0,0,0,0,0,0,0,0,0,0,0,0,0,0,0,0,0,0,0,0,0,0,0,0,0,0,0,0,0,0,0,0,0,0,0,0,0,0,0,0,0,0,0,0,0,0,0,0,0,0,0,0,0,0,0,0,0,0,0,0,0,0,0,{"$f":"IF(DZ3<>DZ96,1,)","v":0},0,0,0,0,0,0,0,0,0,0,0,0,0,0,0,0,0,0,0,0,0,0,0,0,0,0,0,0,0,0,0,0,0,0,0,0,0,0,0,0,0,0,0,0,0,0,0,0,0,0,0,0,0,0,0]
[]
[null,"Fiscal Year 2010",null,null,null,null,null,null,null,null,null,"REVENUES",null,null,null,null,null,null,null,null,null,null,null,null,null,null,null,null,null,null,null,null,null,null,null,null,null,null,null,null,null,null,null,null,null,null,null,null,null,null,null,null,null,null,null,null,null,null,null,null,null,null,null,null,null,null,null,null,null,null,null,null,null,null,null,null,null,null,null,null,null,null,null,null,null,null,null,null,null,null,null,null,null,null,null,null,null,"EXPENDITURES"]
[null,null,null,null,null,null,null,null,null,null,null,"Real Property Taxes & Assessments",null,null,"Other Real Property Tax Items",null,null,null,null,"Sales & Use Tax",null,null,null,"Other Non-Property Taxes",null,null,null,"Charges for Services",null,null,null,null,null,null,null,null,null,null,null,null,"Charges to Other Governments",null,null,null,null,null,null,null,null,null,null,null,"Use & Sale of Property",null,null,"Other Local Revenues",null,null,null,null,null,null,null,null,"State Aid",null,null,null,null,null,null,null,null,null,null,null,null,null,"Federal Aid ",null,null,null,null,null,null,null,null,null,null,null,null,"Proceeds of Debt",null,null,"Other Sources",null,null,"General Government",null,null,null,null,null,"Education",null,null,null,null,null,null,"Public Safety",null,null,null,null,null,null,null,"Health",null,null,null,null,null,"Transportation",null,null,null,null,null,null,null,null,"Social Services",null,null,null,null,null,null,null,null,"Economic Development",null,null,null,null,"Culture & Recreation",null,null,null,null,null,"Community Services",null,null,null,null,"Utilities",null,null,null,"Sanitation",null,null,null,null,null,"Employee Benefits",null,null,null,null,null,null,null,null,null,null,null,"Debt Service",null,null,"Other Uses"]
[{"$f":"SUM(A97:A181)","v":0},"Level Two","Municipal Code","Municipal Name","County Name","Fiscal Year End","Population","Enrollment","Land Area (sq. mi.)","Full Value","Total Debt Outstanding at EOFY","Real Property Taxes","","Special Assessments","Star Payments","Payments In Lieu Of Taxes","Interest Penalties","Gain from Sale of Tax Acquired Property","Miscellaneous Tax Items","Sales Tax","Sales Tax Distribution","Utilities Gross Receipts Tax","Miscellaneous Use Taxes","Franchises","Emergency Telephone System Surcharge","Miscellaneous Non-Property Taxes","City Income Tax","General Government Fees","Education Fees","Public Safety Fees","Health Fees","","Transportation Fees","Social Services Fees","Economic Development Fees","Culture And Recreation Fees","Community Services Fees","Utility Fees","Sanitation Fees","Miscellaneous Fees","General Government Charges","Education Charges","Public Safety Charges","Health Charges","Transportation Charges","Social Services Charges","Culture & Recreation Charges","Community Services Charges","Utility Charges","Debt Service Charges","Miscellaneous Inter-Governmental Charges","Sanitation Charges","Interest & Earnings","Sale of Property","Rental of Property","Fines","Forfeitures","Compensation for Loss","Library Grants from Local Governments","Miscellaneous Grants from Local Governments","Gifts","Employee Contributions","Miscellaneous Revenues","Local Revenues","Unrestricted State Aid","Mortgage Tax","State Aid General Government","State Aid Education","State Aid Public Safety","State Aid Health","State Aid Transportation","State Aid Social Services","State Aid Economic Development","State Aid Culture And Recreation","State Aid Community Services","State Aid Utilities","State Aid Sanitation","Miscellaneous State Aid","Federal Aid Education","Federal Aid Public Safety","Federal Aid Health","Federal Aid Transportation","Federal Aid Social Services","Federal Aid Economic Development","Federal Aid Culture And Recreation","Federal Aid Community Services","Federal Aid General Government","Federal Aid Utilities","Federal Aid Sanitation","Miscellaneous Federal Aid","Total Revenues","Sale Of Obligations","Bans Redeemed From Appropriations","Miscellaneous Debt Proceeds","Tranfers","Miscellaneous Other Sources","Total Revenues & Other Sources","Operations","Administration","County Distribution of Sales Tax","Miscellaneous General Government","Zoning And Planning","Judgements","Instruction","Instructional Support","Pupil Services","Education - Transportation","Student Activities","Community College","Miscellaneous Education","Public Safety Administration","Police","Fire Protection","Emergency Response","Correctional Services","Disaster Response","Homeland Security and Civil Defense","Miscellaneous Public Safety","Public Health Administration","Public Health Services","Mental Health Services","Environmental Services","Public Health Facilities","Miscellaneous Public Health","Highways","Highway Services to Other Governments","Bus Service","Airports","Rail Service","Waterways","Transportation Facilities","Transportation Ancillary","Miscellaneous Transportation","Social Service Administration","Financial Assistance","Medicaid","Non-Medicaid Medical Assistance","Housing Assistance","Employment Services","Youth Services","Public Facilities","Miscellaneous Social Services","Economic Development Administration","Development Infrastructure","Promotion","Economic Development Grants","Miscellaneous Economic Development","Recreation Services","Adult Recreation","Youth Recreation","Library","Cultural Services","Miscellaneous Cultural & Recreation","Constituent Services","Elder Services","Natural Resources","Student Census","Miscellaneous Community Services","Water","Electricity","Natural Gas","Steam","Sewer","Storm Sewer","Refuse & Garbage","Landfill Closures","Drainage","Miscellaneous Sanitation","Retirement State Local","Retirement Police Fire","Retirement Teacher","LOSAP / Miscellaneous","Social Security","Medical Insurance","Disability Insurance","Life Insurance","Workers Compensation","Unemployment Insurance","Union Benefits Program","Unclassified Employee Benefits","Debt Principal","Interest On Debt","Total Expenditures","Tranfers","Total Expenditures & Other Uses"]
[{"$f":"IF(C4<>C97,1,0)","v":0},"Albany County","010100000000","County of Albany","Albany","12/31",304204,0,522.79999999999995,24780071182,274806031,67489877,0,0,0,1819189,4941620,218567,0,222596790,0,0,6354894,0,1411199,3338664,0,15819588,0,1164915,30845738,0,1376420,7864498,50513,6634621,165988,0,1211693,0,869748,0,9405962,0,900231,0,0,0,0,1085889,263147,9869284,1990552,475137,1718905,719627,0,6357569,0,1126924,0,0,7609387,415697135,0,0,4398753,8229598,2133513,20741776,2677937,30183952,0,333491,1855408,0,2784271,1185340,0,1135459,17079678,6401889,54734723,335565,0,2695520,0,0,0,0,572604007,41815000,1543500,0,46424236,0,662386743,23297162,29128036,88873142,4479957,363768,169285,0,0,0,0,0,10383801,13204254,1885970,13360604,0,0,38182590,0,0,5940256,8080122,11386127,14181749,0,0,0,23501085,0,1265011,0,0,0,1376708,0,0,20875165,58366242,64999359,28643845,0,0,6252481,23073699,0,400,0,0,0,1524931,5713112,0,591061,0,0,0,231885,5711130,0,0,1385815,0,0,0,0,7677302,0,0,0,0,0,11531543,0,0,0,7639483,28347109,0,0,623126,189587,0,20181736,13661771,8474005,604754408,46424236,651178644]
[{"$f":"IF(C5<>C98,1,0)","v":0},"City of Albany","010201000000","City of Albany","Albany","12/31",97856,0,21.4,5125089604,152198950,53056844,0,0,0,25974566,289296,0,0,0,28451534,1891561,7430,1288645,0,238903,0,466673,0,986623,234477,0,109520,0,0,1170167,2051420,0,10662786,0,0,0,0,0,0,0,0,0,0,0,203202,824687,994512,285008,111595,6218273,0,303930,0,0,703688,0,3645681,140171021,12865125,1288459,1627164,0,1382423,0,1458774,0,0,105595,2849301,0,0,112022,0,1254597,0,7009101,0,2939671,0,0,0,0,0,542227,173605480,0,670000,0,440000,0,174715480,12787185,8448648,0,0,524822,353316,0,0,0,0,0,0,0,2765622,34227568,19805373,0,0,0,0,934375,208730,0,0,0,0,0,12890782,0,0,0,0,0,0,5714304,0,0,0,0,0,0,2403238,0,0,0,0,0,0,0,0,3906234,0,0,0,1399686,0,86458,0,0,0,2875191,0,0,0,0,0,0,13924849,0,0,0,2401919,0,0,0,0,7761795,0,0,1838815,285419,0,36368578,11955483,4770212,188638602,440000,189078602]
[0,"Town of Berne","010306800000","Town of Berne","Albany","12/31",2794,0,64,299701688,591036,1160528,0,0,0,0,4605,0,0,0,888183,0,0,14058,0,0,0,5462,0,0,15970,0,0,0,0,4266,9722,0,2122,0,0,0,0,0,0,0,0,0,0,0,0,0,5216,5742,0,16734,0,0,0,0,536,0,21785,2154929,12273,85160,0,0,0,0,140031,0,0,3450,0,0,0,106630,0,0,0,0,0,0,0,0,0,0,0,0,2502472,0,88227,0,0,0,2590700,81577,228782,0,0,48208,0,0,0,0,0,0,0,0,0,62026,330885,55000,0,0,0,62878,1300,0,0,0,0,0,853600,0,0,0,0,0,125874,9729,0,0,0,0,0,0,0,0,0,0,0,0,0,0,0,32590,0,13495,27385,650,1741,0,0,0,0,0,0,0,0,0,12848,0,95980,0,0,0,39758,0,0,0,49099,72045,0,0,29857,361,0,0,88277,9875,2333820,0,2333820]
[0,"Town of Bethlehem","010307100000","Town of Bethlehem","Albany","12/31",33656,0,49,3396032947,20250000,10811795,0,0,0,1966401,0,0,0,0,9444723,0,0,707304,0,0,0,122184,0,275277,8627,0,0,0,0,631442,195715,6746065,2704207,0,0,0,0,0,0,0,0,0,0,0,40626,0,52406,74571,190669,500567,0,105776,0,0,10942,0,509294,35098591,129222,991195,5333,0,7196,0,249059,0,0,12360,30271,0,0,7471,0,68810,0,0,300572,0,0,0,0,0,0,527997,37428077,0,43000,0,261000,0,37732077,1569029,1905379,0,0,410860,0,0,0,0,0,0,0,1192,810702,4672549,3828,1190765,0,0,4711,461757,3965,0,0,0,0,0,4019007,0,0,0,0,0,955949,264103,0,0,0,0,0,300615,0,0,0,0,0,0,0,0,0,2047255,0,20781,0,13822,0,0,437116,50953,0,4361,6477043,0,0,0,4250193,0,889819,0,0,0,0,0,0,0,0,0,0,0,0,0,0,5777893,1106000,938680,38588327,261000,38849327]
[0,"Town of Coeymans","010318000000","Town of Coeymans","Albany","12/31",7418,0,50.1,607063586,3978,1738076,0,0,0,6000,5440,0,0,0,1785256,0,0,13549,0,0,0,7641,0,9582,22593,0,0,0,0,24106,20806,0,231805,0,0,0,0,0,0,0,0,0,0,0,3357,433557,15122,19188,0,186666,0,13820,0,0,0,0,56961,4593528,28360,88513,0,0,6995,0,87275,0,0,28403,0,0,0,2597,0,10624,0,0,460271,0,0,0,0,0,0,0,5306565,0,0,0,1791626,0,7098191,261263,585548,0,0,22868,10196,0,0,0,0,0,0,0,226452,818381,250,71000,0,0,1500,108576,200,0,0,0,0,165768,1101220,0,0,0,0,0,116000,57236,0,0,0,0,0,484427,0,0,0,0,0,0,844,0,0,71454,0,8994,0,4774,2122,10000,0,208138,0,0,0,0,0,0,423828,0,10998,0,3560,0,190106,0,0,0,175149,276017,6542,3762,67307,0,17289,100,1768,3421,5517059,1791626,7308685]
[0,"Village of Ravena","010418004140","Village of Ravena","Albany","05/31",3268,0,1.5,169328756,865000,761980,0,0,0,0,4857,0,0,0,662168,53501,0,0,0,0,0,1275,0,0,512,0,0,0,0,2215,2152,574782,309344,0,0,0,0,0,0,0,0,0,0,0,0,0,13293,0,35914,129732,0,25266,0,0,0,0,4699,2581690,27949,9524,0,0,0,0,40956,0,0,3348,0,0,0,0,0,16410,0,0,0,0,0,0,0,0,0,38176,2718053,0,0,0,110000,0,2828053,405186,330532,0,0,6775,0,0,0,0,0,0,0,0,0,0,77491,0,0,0,0,61005,512,0,0,0,0,0,190633,0,0,0,0,0,0,98533,0,0,0,0,0,0,0,0,0,0,0,0,1304,0,0,85918,0,0,0,0,0,0,0,60,0,7000,302019,0,0,0,264303,10587,3258,0,0,0,55936,0,0,0,61697,254622,705,0,54999,0,0,53697,150000,45701,2522473,110000,2632473]
[0,"City of Cohoes","010209000000","City of Cohoes","Albany","12/31",16168,0,3.8,689715761,10660383,6587042,0,0,0,754824,30293,232,0,0,4682838,203725,0,335351,0,0,0,50783,0,179993,1324,0,29391,0,0,14009,297512,1730764,2078876,0,0,0,0,0,0,0,0,0,36278,0,156748,4902,102972,25638,11388,138673,0,140193,0,0,38448,0,302298,17934495,2798863,310372,66980,0,112136,0,412852,0,0,16079,0,0,0,0,0,132555,0,5847332,0,0,0,0,0,0,0,0,27631664,0,0,0,267027,0,27898691,1520327,1106500,0,0,4405,602,0,0,0,0,0,0,0,436248,3088504,3111185,0,0,0,0,346242,0,0,0,0,0,0,5842240,0,0,0,0,0,0,389756,0,0,0,0,0,0,0,0,0,0,173947,0,0,0,0,0,0,273371,229868,4058,0,0,0,0,0,1323980,771642,0,0,0,1374623,0,967259,0,0,0,328917,869247,0,0,721714,2339447,0,0,317589,11928,0,0,1162191,644136,27359926,267027,27626953]
[0,"Town of Colonie","010318700000","Town of Colonie","Albany","12/31",81591,0,55.9,8629079128,104955386,22964446,0,6929913,0,961179,215677,0,0,0,19446154,0,0,0,0,0,0,82353,0,234431,3601979,0,837544,0,37683,2652891,599546,9232224,9532287,0,0,0,20434,0,114455,0,0,0,0,0,0,0,132438,2163012,573944,934729,24330,28815,0,0,29369,0,6350123,87699956,465885,1929436,656,0,140321,0,968375,0,0,62374,341374,0,0,4058,0,5365,124911,0,2519697,402099,661900,3054017,0,0,0,0,98380424,314138,60930,391019,2876000,0,102022511,4528288,8266027,0,6071282,848683,76912,0,0,0,0,0,0,0,2023303,11612797,3599046,4271643,93727,0,82179,1871761,62563,0,0,0,0,0,7855643,0,0,0,0,0,348842,1250733,231456,0,0,0,0,2162718,0,0,0,0,443045,416140,0,0,33828,3414246,675382,1186145,3032004,193889,0,500,0,17081,0,129195,8837132,0,0,0,3520944,0,2676075,1279362,0,0,2201458,2380634,0,0,2492513,5880948,0,11780,872089,37128,0,3976955,3068682,3722623,105757381,2876000,108633381]
[0,"Village of Colonie","010418701100","Village of Colonie","Albany","05/31",7793,0,3.2,843702141,0,1189824,0,0,0,0,11305,0,0,0,2205623,120415,0,126683,0,0,0,14074,0,0,1490,0,0,0,0,21970,41325,1673435,1075296,0,0,0,0,0,0,0,0,0,0,0,0,0,50128,7000,0,0,0,49685,0,0,6306,0,32582,6627141,67945,116125,0,0,0,0,0,0,0,1475,0,0,0,2138,0,0,0,0,0,0,0,0,0,0,0,115892,6930716,0,0,0,612360,0,7543076,301036,395624,0,0,12067,0,0,0,0,0,0,0,0,0,0,265651,0,0,0,0,69284,0,0,0,2543,0,8040,1091730,0,0,0,0,0,0,228957,0,0,0,0,0,0,0,0,0,0,0,0,22209,0,3785,353262,0,161140,0,4644,1801,0,0,142479,0,303296,1179195,0,0,0,903781,0,397919,0,0,0,80665,0,0,0,124083,422709,1813,6071,79358,0,3479,0,0,0,6566621,612360,7178981]
[0,"Village of Menands","010418703040","Village of Menands","Albany","05/31",3990,0,3.1,464248478,325000,1793552,0,0,0,0,6677,0,0,0,1288251,0,0,81700,0,0,0,3175,0,33260,0,0,900,0,0,0,0,832735,437279,0,0,0,7393,0,0,0,0,0,0,0,108302,65522,14343,600,0,289240,0,10226,0,0,150,0,14861,4988166,21191,67916,0,0,0,0,41553,0,0,1267,0,0,0,0,0,0,0,0,0,0,0,0,0,0,0,25848,5145941,0,0,0,0,0,5145941,151670,475783,0,0,3149,0,0,0,0,0,0,0,0,0,1010561,135865,0,0,0,0,29840,0,0,0,0,0,0,480244,0,0,0,0,0,0,99011,0,0,0,0,0,0,0,0,0,0,0,0,0,0,4476,15823,0,41282,0,14150,0,0,0,10694,0,0,782294,0,0,0,341459,36980,186009,0,0,0,60204,117607,0,27691,131202,365944,0,6530,57725,0,0,10024,0,0,4596217,0,4596217]
[0,"Town/Village of Green Island","010334500000","Town of Green Island","Albany","12/31",2620,0,0.8,140974052,0,0,0,0,0,0,787,0,0,0,51217,0,0,0,0,0,0,3038,0,0,0,0,0,0,0,0,0,0,0,0,0,0,0,0,0,0,0,0,0,0,0,0,454,0,0,143561,0,0,0,0,0,0,221,199278,27069,10939,0,0,0,0,0,0,0,0,0,0,0,7480,0,0,0,0,0,0,0,0,0,0,0,0,244766,0,0,0,0,0,244766,36669,248680,0,0,0,0,0,0,0,0,0,0,0,0,0,600,0,0,0,0,1400,0,0,0,0,0,0,0,0,0,0,0,0,0,0,0,0,0,0,0,0,0,0,0,0,0,0,0,0,0,10000,0,0,0,0,0,0,0,0,0,0,0,0,0,0,0,0,0,0,0,0,8689,0,0,0,9623,8991,0,0,0,341,0,0,0,0,324993,0,324993]
[0,"Town/Village of Green Island","010434502040","Village of Green Island","Albany","05/31",2620,0,0.8,156917509,885000,1702672,0,0,0,391849,7525,0,0,0,606525,0,0,42898,0,0,0,39726,0,23827,0,0,0,0,0,5874,8674,585644,459108,0,0,0,0,0,0,0,0,0,0,0,0,414760,5028,0,169949,3815,0,823,0,0,0,0,95713,4564410,40506,7101,0,0,0,0,57338,0,0,418,0,0,0,24452,0,64165,0,0,217235,0,0,0,0,0,0,100000,5075625,0,0,0,0,0,5075625,341871,207168,0,0,8311,0,0,0,0,0,0,0,0,0,614849,477748,0,0,0,0,28201,0,0,0,0,0,0,163010,0,0,0,0,0,0,116130,0,0,0,0,0,354625,0,0,0,0,0,0,0,0,0,132934,0,0,0,897,0,0,0,0,0,0,333394,0,0,0,682813,0,121719,0,0,0,82645,87066,0,0,131031,305896,0,0,43409,15028,0,9790,385000,34917,4678452,0,4678452]
[0,"Town/Village of Green Island"]
[0,"Town of Guilderland","010335500000","Town of Guilderland","Albany","12/31",35303,0,57.9,3752152566,27917000,8268629,0,0,0,17582,78098,0,0,0,9747640,0,0,519166,0,0,0,23266,0,380546,13221,0,0,0,0,1358645,23055,2085424,3356404,0,49763,0,51000,0,0,0,0,0,0,0,0,64107,206378,4974,254153,589547,0,131876,0,0,0,0,229211,27452685,138161,744125,0,0,72874,0,574721,0,0,69627,0,0,0,25203,0,0,0,0,586027,0,0,0,0,0,0,0,29663422,0,0,0,1233638,0,30897060,967974,1337472,0,0,287027,0,0,0,0,0,0,0,0,567447,4732341,233632,437588,0,0,0,376525,342933,0,0,0,0,0,5428195,0,0,0,0,0,434545,104673,0,0,0,0,0,0,0,0,0,38627,0,640315,8550,0,0,1557260,0,0,50000,61324,0,1670,219726,63451,0,0,2633803,0,0,0,2258563,0,877423,0,151657,0,614984,471056,0,0,941310,1766862,1704,0,255501,10618,0,1000,1923000,1160298,30959053,1233638,32192690]
[0,"Village of Altamont","010435500120","Village of Altamont","Albany","05/31",1720,0,1.2,126640029,1260000,272101,0,0,0,0,3135,0,0,0,513972,19483,0,32127,0,0,0,1323,0,8210,280,0,40,0,0,9525,21057,334613,369719,0,0,0,97928,0,0,0,0,0,0,0,0,0,1050,105526,13050,13395,0,32280,0,0,4683,0,3792,1857289,10539,16465,0,0,0,0,22040,0,0,0,0,0,0,23438,0,10452,0,0,0,0,0,0,0,0,0,0,1940223,0,0,0,0,0,1940223,134803,125832,0,0,6756,0,0,0,0,0,0,0,0,0,179526,216759,0,0,0,0,20964,0,0,0,0,0,0,209150,0,0,0,0,0,0,23773,0,0,0,0,0,0,0,0,0,0,0,0,0,0,0,161705,0,1819,50000,4815,0,3000,0,3468,0,0,193411,0,0,0,286765,28965,0,0,0,0,21251,6807,0,0,47191,56515,0,0,24687,5440,0,0,50000,56656,1920058,0,1920058]
[0,"Town of Knox","010344300000","Town of Knox","Albany","12/31",2692,0,41.8,265450406,1139981,241958,0,0,0,0,2949,0,0,0,798626,0,0,30657,0,0,0,1201,0,0,0,0,0,0,0,0,5382,0,0,0,0,0,0,0,0,0,0,0,0,0,0,0,1633,38962,0,380,0,0,0,0,0,0,22960,1144707,16294,59581,6266,0,0,0,32070,0,0,1068,0,0,0,-92,0,0,0,0,0,0,0,0,0,0,0,0,1259894,0,80000,0,1000,0,1340894,877995,269426,0,0,15120,0,0,0,0,0,0,0,0,0,1862,0,93455,0,0,219,6957,1232,0,0,0,0,0,518013,0,0,0,0,0,36789,3031,0,0,0,0,0,0,0,0,0,0,0,0,0,0,0,11756,0,-55,7500,1159,0,0,1500,0,0,0,0,0,0,0,0,0,95485,0,0,0,43772,0,0,0,38668,60572,360,0,31362,3822,0,0,80000,30353,2230354,1000,2231354]
[0,"Town of New Scotland","010358100000","Town of New Scotland","Albany","12/31",8648,0,57.5,972484595,2125914,2106030,0,200887,0,0,7397,0,0,0,1765304,0,0,33096,0,0,0,4723,0,26556,1441,0,0,1912,0,28889,5795,230961,110613,0,0,0,0,0,0,0,0,0,0,0,0,0,9306,12872,0,86668,0,0,0,0,6541,0,169436,4808426,38473,219959,0,0,0,0,142840,0,0,0,0,0,0,2554,0,0,0,90945,0,0,0,0,0,0,0,35223,5338420,0,48800,0,489,0,5387709,167345,552765,0,0,63677,0,0,0,0,0,0,0,0,0,7825,479600,337136,0,0,0,160508,1428,0,0,0,0,0,1366504,0,0,0,0,0,158790,13831,290664,0,0,0,0,0,0,0,0,0,0,0,0,0,0,121124,0,28533,1000,2155,0,849,92023,0,0,8348,293285,0,0,0,168055,0,447135,0,0,0,95552,0,0,0,114535,322339,3487,0,80759,0,0,42492,164713,74321,5660779,489,5661267]
[0,"Village of Voorheesville","010458105090","Village of Voorheesville","Albany","05/31",2789,0,2.1,238009756,3735000,259531,0,0,0,0,1156,0,0,0,821113,34253,0,53546,0,0,0,1807,0,0,11968,0,0,0,0,9135,5374,358615,197068,0,0,0,0,0,0,0,0,0,0,0,0,0,6762,0,15840,19457,0,3233,0,0,0,0,1362,1800220,19271,38219,0,0,425,0,42599,0,0,0,0,0,0,3980,0,2550,0,0,0,0,0,0,0,0,0,0,1907264,0,0,0,0,0,1907264,105268,136922,0,0,61651,0,0,0,0,0,0,0,0,0,1840,36103,32237,0,0,0,262,750,0,0,0,0,0,355841,0,0,0,0,0,0,68361,0,0,0,0,0,0,0,0,0,0,0,0,0,0,0,16906,0,0,0,4661,0,0,0,1025,0,48,153762,0,0,0,96315,4302,130451,0,0,0,32020,0,0,35640,34919,69911,0,0,28103,0,0,0,150000,116005,1673303,0,1673303]
[0,"Town of Rensselaerville","010370600000","Town of Rensselaerville","Albany","12/31",1843,0,61.5,260837670,810241,1194526,0,0,0,0,5133,0,0,0,501520,0,0,2890,0,0,0,3224,0,0,30000,0,0,0,0,0,6171,41191,34461,0,0,0,0,0,0,0,0,0,0,0,0,0,10546,3644,0,6585,0,0,0,0,2224,0,14858,1856973,8808,15131,0,0,0,0,130543,0,0,0,0,0,0,15000,0,0,0,0,0,0,0,0,0,0,0,0,2026455,0,16800,0,18478,0,2061733,123923,198864,0,0,6288,0,0,0,0,0,0,0,0,0,1300,162982,41000,0,0,0,30420,580,0,0,0,39879,0,849792,0,0,0,0,0,197054,7892,8629,0,0,0,0,0,0,0,0,0,0,0,0,0,0,22517,24921,3369,25000,500,0,7900,0,0,0,0,23241,0,0,0,10309,0,81310,0,0,0,45486,0,0,0,47293,196828,1315,0,41442,0,0,0,45601,2029,2247664,18478,2266142]
[0,"City of Watervliet","010260000000","City of Watervliet","Albany","12/31",10254,0,1.4,389563501,7199463,3824057,0,0,0,130013,16243,0,0,0,3079552,161549,0,162368,0,0,0,166958,0,0,272623,0,0,0,127846,2043,21640,2901331,1059618,0,0,0,96523,0,0,0,0,0,0,0,235255,0,8997,0,0,0,0,0,0,0,0,0,203285,12469901,1234891,108556,0,0,0,0,0,0,0,0,0,0,0,5090986,0,0,0,0,0,0,0,0,0,0,0,246864,19151198,0,69500,0,1147128,0,20367826,651944,683684,0,0,6794,2200,0,0,0,0,0,0,0,0,2479748,1961407,0,0,0,0,115263,32634,0,0,0,0,0,5491110,0,0,0,0,0,0,158214,0,0,0,0,0,0,0,0,0,0,130800,468305,0,0,0,201067,0,20769,31000,9999,0,0,23500,3953,0,0,1760396,0,0,0,618465,0,466234,0,0,0,877810,0,0,0,461014,1603721,0,12758,178718,900,0,0,634500,297537,19384444,1147128,20531572]
[0,"Town of Westerlo","010389000000","Town of Westerlo","Albany","12/31",3361,0,57.8,334238875,1180000,994007,0,0,0,0,4604,0,0,0,1045726,0,0,8895,0,0,0,3433,0,0,0,0,0,0,0,2364,3901,92872,2063,0,0,0,0,0,0,0,0,0,0,0,0,0,2517,11256,0,14394,0,8153,0,0,1555,0,1198,2196938,677,62480,0,0,0,0,137424,0,0,33800,0,0,0,0,0,0,0,0,0,0,0,0,0,0,0,0,2431319,0,0,0,4785,0,2436104,327847,260941,0,0,33227,0,0,0,0,0,0,0,0,992,0,180707,72700,0,0,0,30905,0,0,0,0,0,0,683847,0,0,0,0,0,86418,8399,0,0,0,0,0,0,0,0,0,0,0,0,0,0,0,165438,0,-920,63440,1924,0,0,0,0,0,0,55625,0,0,0,0,0,176303,0,0,0,56353,0,0,0,65086,212498,759,0,30712,0,0,9519,89500,12216,2624436,4785,2629221]
[0,"Rensselaer County","380100000000","County of Rensselaer","Rensselaer","12/31",159429,0,652.4,10505904197,172578257,54954180,0,0,0,2024904,3098765,3323,0,68937650,0,0,362700,0,574142,1568826,0,3145312,0,454816,43658379,0,0,3824855,0,0,159775,0,5025546,0,2061172,10435308,833221,0,0,0,0,294167,0,0,4626623,0,424267,34575,2051453,384998,4808,2388858,0,430199,184558,6136,19585198,231538716,0,0,1157039,13199623,1637849,8283390,2226726,17804120,584885,194720,810761,0,0,33827,0,75000,7141702,990690,16150351,1628205,161566,682350,0,0,0,380841,304682362,13510618,0,0,2873269,0,321066250,9350769,10307321,24231050,1548595,1075841,101185,0,0,0,0,0,14511806,13453321,3468660,4154516,10163,0,20432977,0,1194972,0,622201,4705174,10378700,913650,27602158,0,7368087,0,543702,0,0,0,1556577,0,0,14591688,23967687,32482117,9039732,0,1027741,2008385,0,845563,0,794236,95130,0,0,0,0,427844,0,0,0,273958,2973266,68164,0,0,0,0,0,0,3589838,0,0,0,0,586,438455,0,0,0,312634,17796901,0,0,1694991,181980,0,27815213,6605009,7172797,311735339,2873269,314608608]
[0,"Village of Nassau","380456103330","Village of Nassau","Rensselaer","05/31",1133,0,0.7,69949308,181350,336290,0,0,0,763,8261,0,0,0,63338,0,0,15538,0,0,0,273,0,40,0,0,0,0,0,25,2959,170797,75632,0,0,0,0,0,0,0,0,0,0,0,0,0,2213,0,0,41826,0,0,0,0,0,0,3195,721150,11456,11522,0,0,22670,0,27534,0,0,0,0,0,0,0,0,6334,0,0,0,0,0,0,0,0,0,0,800666,34600,0,0,30300,0,865566,65962,97227,0,0,6572,0,0,0,0,0,0,0,0,0,145146,0,0,0,0,0,13940,0,0,0,0,0,0,77642,0,0,0,0,0,0,18626,27536,0,0,0,0,0,0,0,0,0,0,0,0,0,0,3486,0,0,0,1087,0,215,0,0,0,0,126761,0,0,0,0,0,86363,0,0,0,9258,12679,0,0,24199,0,0,0,7685,0,0,0,51650,7247,783281,30300,813581]
[0,"Village of Valley Falls","380467005020","Village of Valley Falls","Rensselaer","05/31",466,0,0.5,27333975,1880534,49500,0,0,0,0,1210,0,0,0,25121,4616,0,4151,0,0,0,0,0,0,0,0,0,0,0,0,0,0,106413,0,0,0,68000,0,0,0,7000,0,0,0,0,0,44,0,0,0,0,0,0,0,4310,0,18355,288720,8818,3362,0,0,0,0,0,0,0,6333,0,0,0,1000,0,0,0,0,0,0,0,0,0,0,0,0,308233,0,0,0,4949,0,313182,38870,12447,0,0,8226,0,0,0,0,0,0,0,0,0,150,37798,1000,0,0,0,1600,0,0,0,0,0,0,12446,0,0,0,0,0,0,11649,0,0,0,0,0,0,0,0,0,0,0,0,0,0,0,178,0,17668,1500,0,0,0,0,6756,0,44071,0,0,0,0,0,0,2222,0,0,0,0,0,0,0,2592,0,0,0,0,0,0,0,83498,9102,291773,4949,296722]
[0,"Town of Berlin","380306700000","Town of Berlin","Rensselaer","12/31",1880,0,59.6,169380954,0,379476,0,0,0,0,2217,0,0,0,164826,0,0,0,0,0,0,973,0,0,0,0,0,0,0,0,515,69401,126201,0,0,0,0,0,0,0,0,0,0,0,0,0,86,2325,0,11563,0,0,0,0,0,0,3549,761132,9395,21076,0,0,0,0,83921,0,0,1890,0,0,0,0,0,0,0,0,0,0,0,0,0,0,0,0,877414,0,0,0,0,0,877414,28923,91347,0,0,1784,0,0,0,0,0,0,0,0,0,0,0,0,0,0,0,15121,200,0,0,0,0,0,370487,0,0,0,0,0,47684,9829,0,0,0,0,0,0,0,0,0,0,0,0,0,0,0,0,0,9073,7250,2403,0,425,5531,-1612,0,0,38497,0,0,0,0,0,111059,0,0,0,15718,0,0,0,22655,25564,0,0,18172,0,0,0,13801,0,833911,0,833911]
[0,"Town of Brunswick","380309900000","Town of Brunswick","Rensselaer","12/31",11941,0,44.4,1013344648,2385000,3377741,0,0,0,10320,20015,0,0,0,1016116,0,0,98478,0,0,0,6462,0,144653,0,0,0,0,0,43552,227992,917701,125008,0,0,0,0,0,28199,0,0,0,0,0,0,0,24682,32000,0,130,0,8776,0,0,0,0,9842,6091667,79794,255456,0,0,0,0,164576,0,0,6414,0,0,0,0,0,0,0,0,0,0,0,0,29988,0,0,0,6627895,0,0,0,0,0,6627895,323941,685197,0,0,67659,0,0,0,0,0,0,0,0,0,1500,946719,20400,0,0,0,89577,2500,0,0,0,0,0,1139367,0,0,0,0,0,433562,75849,0,0,0,0,0,0,0,0,0,0,146488,0,0,0,0,0,0,239824,101764,19121,0,569,9999,0,0,4918,1211908,0,0,0,17410,0,92216,0,0,0,132891,0,0,0,137847,264175,4267,4110,82468,162,0,54323,155000,88166,6553897,0,6553897]
[0,"Town of East Greenbush","380324900000","Town of East Greenbush","Rensselaer","12/31",16473,0,24,1592115009,8026820,8331228,0,0,0,327371,24523,0,0,0,1618667,0,0,199901,0,0,0,16672,0,172313,0,0,0,0,0,72632,101658,2046061,1086535,0,0,0,2005,0,14168,0,0,0,0,180000,0,45231,56137,23695,42,326418,61250,23730,0,0,0,11314,784040,15525590,74881,566452,0,0,2622,0,103906,0,0,0,0,0,0,84606,0,0,0,0,0,0,0,0,0,0,0,0,16358057,0,583445,0,0,0,16941502,870872,950703,0,0,303061,48821,0,0,0,0,0,0,0,0,1992743,104969,488688,0,0,0,177305,6739,0,0,0,0,0,1710380,0,0,0,0,0,404128,167337,0,0,0,0,0,0,0,0,0,0,0,0,0,0,0,206456,0,108597,0,5065,0,3000,898,720,0,0,2138415,0,0,0,1340677,0,272582,0,0,401212,250328,371739,0,0,436651,1349578,0,0,178081,46772,0,77509,1205083,171384,15790493,0,15790493]
[0,"Town of Grafton","380333500000","Town of Grafton","Rensselaer","12/31",2130,0,44.7,200300759,436900,636740,0,0,0,0,1326,0,0,0,209402,0,0,0,0,0,0,1310,0,0,0,0,0,0,0,0,5749,0,19315,0,0,0,0,0,0,0,0,0,0,0,0,0,739,50,8300,17840,0,1030,0,0,0,0,42113,943914,8413,42143,0,0,0,0,88834,0,0,1852,0,0,0,1639,0,0,0,0,0,0,0,0,0,0,0,0,1086794,0,0,0,0,0,1086794,72396,125815,0,0,4666,0,0,0,0,0,0,0,0,0,0,0,8648,0,0,0,22774,1000,0,0,0,0,0,434689,0,0,0,0,0,93793,6414,0,0,0,0,0,0,0,0,0,0,0,0,0,0,0,0,0,10179,24250,0,0,1150,2988,0,0,0,0,0,0,0,0,0,44554,0,0,0,26286,0,0,0,31822,55057,250,0,10950,2331,0,0,53900,14811,1048724,0,1048724]
[0,"Town of Hoosick","380339800000","Town of Hoosick","Rensselaer","12/31",6924,0,63,418388532,80000,1413177,0,0,0,2713,8058,0,0,0,270637,0,0,2452,0,0,0,5915,0,6439,0,0,0,0,0,52023,175,772,5196,0,0,0,0,0,0,0,8585,0,0,0,0,0,597,0,0,40076,0,0,0,0,800,0,27917,1845532,52351,69201,0,0,0,0,102354,0,0,0,0,0,0,6375,0,0,0,465525,0,0,0,0,0,0,0,0,2541338,0,0,0,28593,0,2569931,75606,265475,0,0,12770,0,0,0,0,0,0,0,0,0,4362,261031,14500,0,0,0,20630,0,0,0,0,0,0,958135,136805,0,0,0,0,264386,17709,0,0,0,0,0,0,0,0,0,0,0,0,0,0,0,83247,0,25403,45000,15986,0,800,5300,0,0,6232,1460,0,0,0,0,0,1750,0,0,0,51638,0,0,0,46163,168998,1770,0,21298,3925,0,0,80000,7534,2597913,28593,2626506]
[0,"Village of Hoosick Falls","380439802380","Village of Hoosick Falls","Rensselaer","05/31",3501,0,1.6,152269985,14295272,1072824,0,0,0,11257,30288,0,0,0,149001,33122,0,27744,0,5938,0,480,0,385,3669,0,0,0,0,0,4317,481039,970666,0,0,0,0,0,0,0,0,0,0,0,5500,0,1479,0,0,35498,0,0,0,0,0,0,44568,2877775,48203,9302,0,0,5200,0,94889,0,0,3266,0,0,83554,9000,0,0,0,0,0,0,0,0,0,0,0,0,3131189,0,50379,0,0,0,3181568,122793,90712,0,0,30,0,0,0,0,0,0,0,0,64324,315989,0,6883,0,0,0,39606,0,0,0,0,0,0,444707,0,0,0,0,0,0,90118,0,0,0,0,0,0,0,0,0,0,0,0,440,0,16844,12555,0,11585,0,8000,0,0,0,0,0,0,2157244,0,0,0,522593,0,229238,0,0,4076,50033,0,0,0,69827,212682,2517,0,27715,768,0,0,326465,13850,4841594,0,4841594]
[0,"Town of Nassau","380356100000","Town of Nassau","Rensselaer","12/31",4789,0,44.4,364096939,447934,971498,0,0,0,0,5079,0,0,0,245264,0,0,19233,0,0,0,2162,0,315,250,0,0,0,0,0,8454,0,51340,0,0,0,0,0,0,0,3725,0,0,0,0,0,6488,6311,0,12821,0,0,0,0,128000,0,49564,1510504,28397,87481,0,0,0,0,161141,0,0,5349,0,0,0,824,0,0,0,0,171863,0,0,0,0,0,0,0,1965559,150700,0,0,201756,0,2318014,128441,270147,0,0,3543,0,0,0,0,0,0,0,0,0,808,75000,98000,0,0,0,45343,449,1800,0,0,0,0,833316,0,0,0,0,0,75315,3183,0,0,0,0,0,169654,0,0,0,0,0,0,0,0,0,23543,0,0,0,588,0,1000,4422,0,0,0,0,0,0,0,39529,0,61057,0,0,0,47520,0,0,0,42859,126284,260,0,27184,0,0,0,67766,9398,2156409,201756,2358165]
[0,"Village of East Nassau","380456101435","Village of East Nassau","Rensselaer","05/31",587,0,4.9000000000000004,41915863,0,51288,0,0,0,0,231,0,0,0,41243,0,0,0,0,0,0,227,0,156,0,0,0,0,0,0,0,0,0,0,0,0,0,0,0,0,0,0,0,0,0,0,233,0,0,0,0,0,0,0,0,0,0,93378,10565,6631,0,0,2166,0,9016,0,0,0,0,0,0,0,0,12995,0,0,0,0,0,0,0,0,0,0,134752,0,0,0,0,0,134752,11669,33593,0,0,0,0,0,0,0,0,0,0,0,0,0,0,0,0,0,0,4170,0,0,0,0,0,0,92449,0,0,0,0,0,0,920,0,0,0,0,0,0,0,0,0,0,0,0,0,0,0,0,0,0,0,0,0,0,0,0,0,0,0,0,0,0,0,0,0,0,0,0,0,0,0,0,1568,0,0,0,538,0,0,0,0,0,144906,0,144906]
[0,"Town of North Greenbush","380359500000","Town of North Greenbush","Rensselaer","12/31",12075,0,18.600000000000001,935986053,21774000,3574305,0,1340107,0,369458,16871,0,0,0,981703,0,0,216387,0,0,0,4811,0,98526,5679,0,0,0,0,60029,180416,1305389,4350,0,0,0,0,0,0,0,0,0,0,0,0,0,30019,471,25122,156067,0,41984,0,0,2380,0,96497,8510571,106683,319414,0,0,36970,0,81990,0,0,5721,52832,0,0,0,0,0,0,0,0,0,0,0,0,0,0,0,9114180,465000,534000,0,13049,0,10126229,2229592,681079,0,0,57515,50,0,0,0,0,0,0,0,0,1655786,2873,211000,0,0,0,58085,8353,0,0,0,0,0,1357822,0,0,0,0,0,0,50131,0,0,0,0,0,0,0,0,0,0,0,0,0,0,0,57486,0,132965,263981,11868,0,0,10000,0,0,355,1643522,0,0,0,318238,0,0,0,0,0,296087,298355,0,0,239748,350972,3350,0,143247,14191,0,0,1553000,614376,12264027,13049,12277076]
[0,"Town of Petersburgh","380365600000","Town of Petersburgh","Rensselaer","12/31",1525,0,41.6,121889374,242400,498718,0,0,0,0,2920,0,0,0,118643,0,0,0,0,0,0,2035,0,0,0,0,0,0,0,63,3243,28296,36450,0,0,0,0,0,3218,0,0,0,0,0,0,0,931,695,2000,8197,0,1058,774,0,0,0,0,707241,7794,19910,0,0,0,0,126787,0,0,1486,0,0,0,172,0,0,0,0,0,0,339,0,0,0,0,0,863729,0,0,0,10109,0,873838,70970,91008,0,0,569,0,0,0,0,0,0,0,0,0,0,0,0,0,0,0,12091,500,0,0,0,0,10000,289645,0,0,0,0,0,51501,6748,0,0,0,0,0,0,0,0,0,0,0,0,0,0,0,1908,0,8542,48949,120,0,3340,2400,0,0,0,24707,0,0,0,0,0,73098,0,0,0,21938,0,0,0,19759,33033,91,0,10143,0,0,0,23500,11621,816181,10109,826290]
[0,"Town of Pittstown","380367000000","Town of Pittstown","Rensselaer","12/31",5735,0,61.6,380220315,16630,2028837,0,0,0,207,7272,0,0,0,227412,0,0,0,0,0,0,47717,0,9663,0,0,0,0,0,0,1425,0,0,0,0,0,0,0,0,0,0,0,0,0,0,0,2667,5545,0,48352,0,0,0,0,0,0,0,2379097,0,91161,0,0,0,0,9625,0,0,1785,0,0,0,0,0,0,0,0,0,0,0,0,0,0,0,0,2481668,0,0,0,0,0,2481668,95793,142434,0,0,19852,0,0,0,0,0,0,0,0,0,0,9200,45000,0,0,0,41427,880,0,0,0,0,0,976243,0,0,0,0,0,359218,10556,0,0,0,0,0,0,0,0,0,0,0,0,0,0,507,0,0,2325,10000,1455,0,1751,1000,0,0,0,0,0,0,0,0,0,469238,0,0,0,57469,0,0,0,41946,151591,484,0,21793,0,0,0,23915,2389,2486463,0,2486463]
[0,"Town of Poestenkill","380367600000","Town of Poestenkill","Rensselaer","12/31",4530,0,32.4,342159337,9629493,1114953,0,0,0,0,5359,0,0,0,320892,0,0,7113,0,0,0,3453,0,0,0,0,0,0,0,0,14493,0,0,0,0,0,449,0,10112,0,0,0,0,0,0,0,1264,219,10,21405,0,0,0,3000,20928,0,5745,1529395,37940,120668,0,0,24258,0,70504,0,0,6338,14605,0,0,220000,0,430080,0,0,0,0,0,0,0,0,0,0,2453788,0,0,0,0,0,2453788,66582,211919,0,0,25012,0,0,0,0,0,0,0,0,0,302,239590,0,0,0,0,24783,1500,0,0,0,0,0,618443,0,0,0,0,0,77447,11024,0,0,0,0,0,0,0,0,0,0,0,0,0,0,0,5000,0,43054,48767,5471,0,3250,0,0,0,0,9590660,0,0,0,0,0,33302,0,0,0,49733,0,0,0,46689,109731,285,0,10323,1550,0,0,97282,9241,11330940,0,11330940]
[0,"City of Rensselaer","380247000000","City of Rensselaer","Rensselaer","07/31",9392,0,3.2,405901319,4592949,5410832,0,0,0,1244064,80224,246251,0,0,1811810,101168,0,149262,0,0,0,37614,0,180,0,0,0,13236,118287,7910,20087,1775604,635915,0,0,0,0,0,59945,0,0,0,0,0,12855,0,63962,17,23555,113843,0,75413,4001,6000,3521,0,81448,12097002,1202529,150548,80316,969570,101311,0,407463,0,0,9989,0,0,0,203303,0,0,0,10400,0,916267,0,0,0,0,0,0,16148698,3397500,498247,0,177500,0,20221944,1218380,721423,0,0,234603,21714,0,0,0,0,0,0,0,0,2294571,935925,0,0,0,0,312270,0,0,0,0,0,0,2738016,0,0,0,0,0,0,214278,0,0,0,0,0,0,0,0,0,0,0,1207923,0,0,303815,105991,0,39983,104291,0,0,0,9200,38113,0,0,2165276,0,0,0,99318,139806,581215,0,0,0,223348,430141,0,0,370469,1425402,5550,0,243179,3977,0,0,552247,200842,16941267,177500,17118767]
[0,"Town of Sand Lake","380374100000","Town of Sand Lake","Rensselaer","12/31",8530,0,35.1,726584506,2411252,1624744,0,739,0,3600,8911,0,0,0,762972,0,0,128804,0,0,0,21985,0,27860,0,0,0,0,0,79955,9590,0,404451,0,0,0,737,0,0,0,3750,0,0,0,0,0,3902,8264,7201,48199,0,1048,1500,0,15708,1392,11694,3177005,36588,210612,0,0,0,0,140761,0,0,8218,0,0,0,24092,0,46741,0,0,0,0,0,0,41250,0,0,88392,3773659,1681252,0,0,182960,0,5637871,422744,515146,0,0,53889,0,0,0,0,0,0,0,0,0,2194,0,271000,0,0,0,113479,1000,0,0,0,0,0,1151017,0,0,0,0,0,92658,108627,57598,0,0,0,0,0,0,0,0,0,0,0,0,0,0,30176,0,74635,141736,8951,1613,44096,0,596,0,0,0,0,0,0,908116,0,62322,6598,0,0,88648,0,0,0,111960,214647,1346,0,38102,3499,0,0,55000,262269,4843661,182960,5026621]
[0,"Town of Schaghticoke","380375200000","Town of Schaghticoke","Rensselaer","12/31",7679,0,49.8,582264982,5545750,1356692,0,677255,0,0,7807,0,0,0,573781,0,0,56222,0,0,0,6024,0,0,3010,0,0,0,0,11764,10773,314502,51298,0,0,0,0,0,55653,0,0,0,0,0,0,0,13869,2227,0,53268,0,10948,0,0,0,0,1055,3206148,44450,159321,0,0,0,0,153339,0,0,10447,0,0,0,3543,0,0,0,0,0,0,0,66556,0,0,0,0,3643804,0,0,0,34671,0,3678475,91990,337256,0,0,33426,3433,0,0,0,0,0,0,0,0,3978,89098,105811,0,0,0,45777,3000,0,0,0,0,0,990604,0,0,0,0,0,162032,29649,0,0,0,0,0,0,0,0,0,0,0,0,0,0,0,4000,0,43421,9630,13527,0,15800,3000,0,0,0,422836,0,0,0,141475,0,579020,0,0,0,61329,0,0,0,69054,264643,675,0,31677,252,0,0,352950,44921,3954264,34671,3988935]
[0,"Village of Schaghticoke","380475204460","Village of Schaghticoke","Rensselaer","05/31",592,0,0.8,43080391,0,146687,0,0,0,0,155,0,0,0,41509,14278,0,5497,0,0,0,105,0,0,0,0,0,0,0,0,0,88735,0,0,0,0,0,0,0,0,0,0,0,0,0,0,560,2500,15758,0,0,0,0,36868,600,0,4083,357334,8413,9106,0,0,9615,0,31416,0,0,634,0,0,0,0,0,312265,0,0,0,0,0,0,0,0,0,0,728782,0,0,0,30000,0,758782,77997,42044,0,0,0,0,0,0,0,0,0,0,0,0,0,386231,0,0,0,0,0,0,0,0,0,0,0,41707,0,0,0,0,0,0,52264,0,0,0,0,0,0,0,0,0,0,0,0,276,0,0,853,0,6790,4500,1085,0,0,0,4875,0,0,128842,0,0,0,0,0,1157,0,0,0,0,0,0,0,6042,0,205,0,11025,885,0,0,0,0,766779,30000,796779]
[0,"Town of Schodack","380375300000","Town of Schodack","Rensselaer","12/31",12794,0,61.9,1128496869,16469915,5536364,0,0,0,203025,30380,0,0,0,1026675,0,0,75588,0,0,0,26318,0,64147,2130,0,0,0,0,52266,109134,259145,280180,0,1570,0,6765,0,2393,0,0,0,0,0,0,0,66818,21906,39199,248196,0,21593,0,0,0,0,485424,8559216,71213,323071,0,0,0,0,169652,0,0,6463,6511,0,0,483,0,22871,0,0,225871,0,0,0,0,0,1030,0,9386382,1419552,316311,0,3722343,0,14844587,245010,923117,0,205531,153849,0,0,0,0,0,0,0,0,0,1048263,173088,209120,0,0,0,176885,2266,0,0,0,0,0,1393783,0,0,0,0,0,448490,28315,0,0,0,0,0,235212,0,0,0,0,0,0,4000,0,0,20702,0,157088,315650,5649,0,14138,7350,0,0,0,1004572,0,0,0,126801,0,223958,0,0,87897,144812,108518,0,0,219830,412210,975,0,78756,0,0,4305,1025092,391092,9596324,3722343,13318667]
[0,"Village of Castleton-on-Hudson","380475300790","Village of Castleton-On-Hudson","Rensselaer","05/31",1473,0,0.7,118313321,2136558,414550,0,0,0,0,13580,0,0,0,115809,33580,0,3748,0,0,0,436,0,0,1170,0,0,0,0,195644,4306,259866,399416,0,0,0,37000,0,0,0,104304,0,0,0,0,44575,11680,0,600,11508,0,0,6120,0,8,0,13454,1671354,14577,20696,0,0,460558,0,54943,0,0,0,0,0,0,0,0,36741,0,0,0,0,0,0,0,0,0,0,2258869,0,0,0,11933,0,2270802,32579,116670,0,0,1985,0,0,0,0,0,0,0,0,0,0,60642,0,0,0,0,22173,1200,0,0,0,0,0,965890,0,0,0,0,0,34721,69203,0,0,0,0,0,0,0,0,0,0,0,0,0,0,11029,166498,0,0,87571,1164,0,0,0,1462,0,0,126995,0,0,0,216532,12168,108643,0,0,246104,39416,0,0,8160,39821,48000,658,0,26921,9397,0,1447,109057,56395,2622501,11933,2634434]
[0,"Town of Stephentown","380380400000","Town of Stephentown","Rensselaer","12/31",2903,0,57.9,258190053,0,"-",0,"-","-","-","-","-","-","-","-","-","-","-","-","-","-","-","-","-","-",0,"-","-","-","-","-","-","-","-","-","-","-","-","-","-","-","-","-","-","-","-","-","-","-","-","-","-","-","-","-","-","-","-","-","-","-","-","-","-","-","-","-","-","-","-","-","-","-","-","-","-","-","-","-","-","-","-","-","-","-","-","-","-","-","-","-","-","-","-","-","-","-","-","-","-","-","-","-","-","-","-","-","-","-","-","-","-","-","-","-","-","-","-","-","-","-","-","-","-","-","-","-","-","-","-","-","-","-","-","-","-","-","-","-","-","-","-","-","-","-","-","-","-","-","-","-","-","-","-","-","-","-","-","-","-","-","-","-","-","-","-","-","-","-","-","-","-","-","-","-","-","-","-","-"]
[0,"City of Troy","380257000000","City of Troy","Rensselaer","12/31",50129,0,10.4,1905426906,76568550,18310039,0,13468,0,1095428,802592,0,0,7945,13374257,686896,0,539137,0,0,0,273155,0,106601,2059288,0,1019086,0,331364,1530414,475981,10600082,2849678,0,192088,0,170871,0,37130,0,0,0,29484,0,0,0,358774,2612303,292565,1315654,110986,19765,0,0,421118,0,2378143,62014292,12530064,480130,185479,0,531162,0,857645,0,0,2059,0,0,0,2163685,0,930012,0,5761857,0,2340482,0,0,0,0,0,687152,88484019,1000000,225000,0,3672867,0,93381886,4206232,3364069,0,0,1018307,35144,0,0,0,0,0,0,0,0,12051865,9833267,0,0,0,0,583074,111111,0,0,0,0,0,8849367,0,0,0,0,0,0,296320,467799,0,0,0,0,0,0,0,0,0,590138,1818179,0,909479,0,2734377,0,73000,0,38750,0,397025,0,0,0,1588751,7644325,0,0,0,1588535,0,2411322,0,0,0,0,0,0,0,0,4079374,0,0,0,61998,0,14534427,4459485,2822635,86568355,3672867,90241222]
[0,"Saratoga County","410100000000","County of Saratoga","Saratoga","12/31",219607,0,810,21886916706,79869000,46220413,0,0,0,663963,2630121,77072,0,95560233,400000,0,592111,0,812508,1819523,0,6350243,0,816770,23510333,0,77955,2844121,0,0,268520,0,12512283,0,117931,0,1155755,0,272614,0,419316,0,0,0,3690967,0,1591636,773753,1369414,390328,13515,2239193,0,0,0,0,880500,208071093,0,0,634476,3507418,799823,5016070,2611376,7933123,353732,264853,862749,0,0,301659,3115009,159069,2245969,602760,10750094,1185777,205052,563371,0,0,6627200,2705088,258515761,28974000,0,0,21023924,0,308513685,34304826,12355565,46860443,568110,1037576,156794,0,0,0,0,0,6611094,11119682,132170,11302328,385075,0,7954552,0,276598,690158,3876072,2747420,8433053,0,17025679,0,11885622,215712,78597,942228,0,0,2162947,0,759541,6135343,14456371,21457615,3980634,0,735246,403120,0,60000,0,0,783671,0,0,0,0,641098,34000,87940,995273,296506,2058830,1212672,0,3,0,0,0,0,7305998,0,0,0,0,0,0,0,0,0,0,0,0,0,0,0,0,41820436,2400000,2494027,289240623,21023925,310264548]
[0,"Village of Ballston Spa","410453400340","Village of Ballston Spa","Saratoga","05/31",5409,0,1.6,334011245,952705,1202165,0,0,0,0,3842,0,0,0,818402,62028,0,54040,0,0,0,1994,0,0,5030,0,0,0,0,47982,8148,675670,173604,0,0,0,262500,0,0,0,84334,0,0,0,0,0,879,5260,53644,27256,0,4447,1639,0,1379,4332,92293,3590869,0,65117,0,0,5900,0,74887,0,0,0,0,0,0,197715,0,0,0,0,986327,3084,0,50609,0,0,0,0,4974508,0,0,0,0,0,4974508,284690,272161,0,0,11520,0,0,0,0,0,0,0,0,0,580758,148284,0,0,0,0,45502,5883,0,0,0,0,0,347878,0,0,0,0,0,0,102500,6608,0,0,0,0,988548,0,0,0,0,0,900,2500,0,0,142824,0,0,161513,18431,0,0,0,17000,0,0,499553,0,0,0,142599,12147,0,0,0,0,68033,62066,0,0,118439,314929,0,0,49627,15770,0,0,301853,53043,4775559,0,4775559]
[0,"Town of Ballston","410304900000","Town of Ballston","Saratoga","12/31",9776,0,29.6,952484335,3970500,1176284,0,0,0,0,7700,0,0,0,2235176,0,0,70551,0,0,0,3571,0,520,2280,0,0,0,0,17831,137771,524391,0,0,0,0,0,0,0,0,0,0,0,0,26000,0,4787,26021,0,69031,0,0,124,0,58175,0,98171,4458384,50222,356091,0,0,0,0,87685,0,0,0,0,0,0,0,0,0,0,0,0,0,0,0,0,0,0,0,4952382,0,0,0,0,0,4952382,159374,380051,0,0,314052,0,0,0,0,0,0,0,0,0,0,141388,234836,0,0,0,18351,3213,0,0,0,0,0,1196306,14761,0,0,0,0,223725,14416,29610,0,0,0,0,0,0,0,0,0,0,0,0,0,0,19136,0,18500,437089,5180,0,877,16349,0,0,0,1136490,0,0,0,0,0,1279,0,0,0,126643,0,0,0,100006,323284,603,0,0,0,0,0,377500,130069,5423088,0,5423088]
[0,"Town of Charlton","410314700000","Town of Charlton","Saratoga","12/31",4133,0,32.799999999999997,441650710,1853600,138032,0,0,0,0,2472,0,0,0,1130663,0,0,23129,0,0,0,2101,0,12110,0,0,0,0,0,0,36740,102446,0,0,0,0,0,0,360,0,0,0,0,0,0,0,9535,0,0,43742,0,1218,0,0,5646,0,12428,1520622,33362,134799,28469,0,0,0,84766,0,0,1361,0,0,0,16499,0,0,0,0,0,0,0,0,0,0,0,0,1819878,0,0,0,0,0,1819878,223897,251679,0,0,24428,2500,0,0,0,0,0,0,0,0,49446,0,24780,0,0,0,14370,1031,0,0,0,0,0,573959,0,0,0,0,0,63997,0,0,0,0,0,0,0,0,0,0,0,0,0,0,0,0,3640,0,615,48250,14137,0,4602,5553,0,0,0,266966,0,0,0,0,0,10196,0,2650,0,49742,0,0,0,43683,82892,421,0,0,2860,0,0,80450,67469,1914213,0,1914213]
[0,"Town of Clifton Park","410317400000","Town of Clifton Park","Saratoga","12/31",36705,0,48.2,3896606465,12057491,3014340,0,0,0,152859,25300,0,0,0,9712419,0,0,0,0,0,0,899339,0,0,0,0,0,0,0,996875,321314,13473,319049,0,0,0,0,0,0,0,0,0,0,693203,454651,149356,49053,508235,223689,644528,0,7015,0,0,225,0,245372,18430295,100090,1497611,0,0,0,0,273853,0,0,0,0,0,0,387933,0,0,0,0,324901,0,0,0,0,0,0,87804,21102486,0,41000,0,3820295,0,24963781,1747182,1676192,0,0,382269,0,0,0,0,0,0,0,0,50530,1009896,345428,1728944,0,13078,0,775804,21300,0,0,0,0,0,3750269,0,0,0,0,0,187017,243463,0,0,0,0,0,319770,0,0,0,0,0,0,0,0,500,2652140,0,771644,0,112526,0,1000,250409,11836,0,143557,23361,0,0,0,1649301,0,670129,0,48522,0,393303,0,0,0,480049,2241357,14994,19472,122551,7770,0,0,576957,469538,22912056,3820295,26732351]
[0,"Town of Corinth","410320000000","Town of Corinth","Saratoga","12/31",6531,0,56.8,549529510,0,1608003,0,0,0,313363,5208,0,0,0,702444,0,0,45968,0,0,0,85748,0,90,207492,0,0,0,0,0,17161,23440,191621,0,0,0,0,0,0,0,0,0,0,0,0,0,6528,0,7200,52619,0,99,0,0,0,0,3510,3270496,22512,76175,0,0,0,0,1311755,0,0,26033,2573,0,0,0,0,0,0,0,0,0,0,0,0,0,0,0,4709543,0,0,0,0,0,4709543,148077,372366,0,0,27592,9556,0,0,0,0,0,0,0,4244,4099,261021,152814,0,0,0,91670,1518,0,0,0,48072,299283,901418,0,0,0,983666,0,155423,8536,0,0,0,0,0,0,0,0,0,0,3500,0,0,0,1000,3396,0,34202,14500,42700,0,7644,64625,0,0,0,25376,0,0,0,0,0,220679,4513,0,5625,109520,0,0,0,97106,217226,1013,0,0,5602,0,6956,0,0,4334538,0,4334538]
[0,"Village of Corinth","410420001150","Village of Corinth","Saratoga","05/31",2559,0,1.1000000000000001,240958385,5990000,1433372,0,0,0,456795,10646,0,0,0,595008,63630,0,0,0,0,0,86951,0,0,0,0,0,0,13389,0,4378,344412,336713,0,0,0,261021,0,0,0,0,0,0,0,0,0,15897,6746,300,1025,0,12920,0,0,300,0,840,3644343,24560,21955,0,0,0,0,130767,0,0,1405,1000,0,47975,0,0,0,0,0,589675,326016,0,0,0,0,0,0,4787696,0,0,0,488546,0,5276242,137825,176146,0,0,29513,10661,0,0,0,0,0,0,0,380,397721,255137,0,0,1416,0,17412,0,0,0,0,0,0,761988,0,0,0,0,0,0,51280,0,0,0,0,0,466450,0,0,0,0,108099,330531,0,0,520,20345,0,14145,13500,12932,0,0,1097,635,0,5500,292752,0,0,0,259182,0,163204,0,0,0,41873,0,0,27188,58456,294737,478,0,0,583,0,0,170000,289934,4411620,488546,4900166]
[0,"Town of Day","410322000000","Town of Day","Saratoga","12/31",856,0,64.099999999999994,324648383,0,461663,0,0,0,19848,3105,0,0,0,778955,0,0,0,0,0,0,736,0,9101,0,0,0,0,0,35,50,0,2045,0,0,0,0,0,0,0,0,0,0,0,0,0,3509,3640,0,6468,0,0,0,0,0,0,603,1289758,0,35374,0,0,0,0,62206,0,0,3780,991,0,0,136216,0,0,0,0,0,0,0,0,0,0,0,0,1528325,0,0,0,0,0,1528325,82335,182541,0,0,14755,0,0,0,0,0,0,0,0,0,245,43585,11000,0,0,0,41028,1516,0,0,0,0,0,615732,0,0,0,0,0,216346,3350,0,0,0,0,0,0,0,0,0,0,0,0,0,0,0,684,0,5703,0,10793,0,5661,725,2508,0,0,0,0,0,0,0,0,311307,0,0,0,44934,0,0,0,43930,139110,280,0,0,193,0,0,0,0,1778261,0,1778261]
[0,"Town of Edinburg","410325500000","Town of Edinburg","Saratoga","12/31",1214,0,60.2,409060172,0,280075,0,0,0,3086,2164,0,0,0,962445,0,0,0,0,0,0,1603,0,0,0,0,0,0,0,2232,15134,0,0,0,0,0,0,0,0,0,0,0,0,0,0,0,1963,7570,0,7848,0,0,0,0,0,0,2392,1286513,5064,45381,0,0,0,0,65468,0,0,1736,0,0,0,23999,0,0,0,0,0,0,0,0,0,0,0,0,1428162,0,0,0,50733,0,1478895,111395,182638,0,0,14435,0,0,0,0,0,0,0,0,0,64,84000,0,0,0,0,22700,2676,0,0,0,0,0,472297,0,0,0,0,0,110399,2060,0,0,0,0,0,0,0,0,0,0,0,0,1253,0,0,782,0,8237,0,4959,0,10024,306,0,0,0,0,0,0,0,0,0,142103,0,0,0,43469,0,0,0,38885,54103,889,0,0,1452,0,0,0,0,1309124,50733,1359857]
[0,"Town of Galway","410331400000","Town of Galway","Saratoga","12/31",3545,0,43.8,428006969,632000,564000,0,0,0,0,3386,0,0,0,1035159,0,0,45476,0,0,0,3998,0,4633,0,0,0,0,0,0,934,0,0,0,0,0,190,0,0,0,4925,0,0,0,2371,0,450,0,0,27893,0,0,0,0,0,0,1849,1695263,20555,95364,0,0,0,0,109104,0,0,15862,0,0,0,0,0,0,0,0,0,0,0,0,0,0,0,0,1936148,0,0,0,0,0,1936148,104601,172350,0,0,11028,0,0,0,0,0,0,0,0,0,8244,237500,51700,0,0,0,31452,1000,0,0,0,0,0,830272,0,0,0,0,0,117794,1481,0,4000,0,0,0,0,0,0,0,0,0,0,0,0,0,0,0,27429,0,2994,5605,0,9159,0,0,0,0,0,0,0,0,0,4442,0,0,0,33000,0,0,0,44575,63830,0,0,0,4208,0,0,105500,35121,1907285,0,1907285]
[0,"Village of Galway","410431401900","Village of Galway","Saratoga","05/31",200,0,0.3,13207727,0,0,0,0,0,0,0,0,0,0,32278,7427,0,0,0,0,0,0,0,0,0,0,0,0,0,105,80,0,0,0,0,0,0,0,0,0,0,0,0,0,0,0,2175,0,0,14541,0,0,0,0,0,0,834,57440,3515,1775,0,0,0,0,0,0,0,53,0,0,0,0,0,0,0,0,0,0,0,0,0,0,0,0,62783,0,0,0,0,0,62783,6283,10525,0,0,0,0,0,0,0,0,0,0,0,0,8275,9560,2480,0,0,0,0,0,0,0,0,0,0,0,0,0,0,0,0,0,2606,0,0,0,0,0,0,0,0,0,0,0,0,0,0,0,2891,0,0,0,0,0,0,0,2588,0,500,0,0,0,0,0,0,0,0,0,0,0,0,0,0,970,0,0,0,0,0,0,0,0,0,46678,0,46678]
[0,"Town of Greenfield","410334400000","Town of Greenfield","Saratoga","12/31",7775,0,67.400000000000006,748080021,0,845580,0,0,0,1085,5202,0,0,0,1840340,0,0,57788,0,0,0,11498,0,160,0,0,0,0,34394,23284,54254,0,0,0,0,0,0,0,0,0,0,0,0,0,0,0,36192,10100,0,62742,0,4854,0,0,100,0,155,2987727,23788,201469,16468,0,0,0,165398,0,0,4470,0,0,0,2444,0,0,0,0,0,0,0,0,0,0,0,0,3401765,0,0,0,117505,0,3519270,108593,371170,0,0,19403,0,0,0,0,0,0,0,0,0,19327,0,42000,0,0,0,18054,6051,0,0,0,0,0,1877367,0,0,0,0,0,305531,19400,0,0,0,0,0,0,0,0,0,0,7253,220620,1211,0,0,79695,0,65313,0,9815,0,75980,17554,0,0,0,0,0,0,0,0,0,29608,0,0,0,71178,0,0,0,84888,118555,1726,0,0,6472,8672,0,0,0,3585432,117505,3702937]
[0,"Town of Hadley","410335700000","Town of Hadley","Saratoga","12/31",2048,0,39.700000000000003,258437047,250000,1049845,0,0,0,0,3187,0,0,0,628297,0,0,17523,0,0,0,2104,0,10,0,0,0,0,0,2948,2822,59168,58636,0,0,0,0,0,0,0,0,0,0,0,0,0,8414,0,0,13376,0,2873,0,2624,180,0,1811,1853817,6751,29063,0,0,0,0,137047,0,0,3396,0,0,0,0,0,0,0,0,202696,0,0,0,0,0,0,0,2232769,0,0,0,599001,0,2831771,132201,221634,0,0,34250,0,0,0,0,0,0,0,0,2596,0,0,0,0,0,0,4932,1338,0,0,0,0,0,557297,0,0,0,0,0,105401,28433,0,0,0,0,0,206182,0,0,0,0,0,0,0,0,260,5057,0,36158,16000,6907,0,423,15441,638,0,0,65020,0,0,0,25019,0,242506,0,0,0,84297,0,0,0,61008,145301,601,0,0,0,0,4500,43750,9497,2056646,599001,2655648]
[0,"Town of Halfmoon","410336000000","Town of Halfmoon","Saratoga","12/31",21535,0,32.6,1953841698,44886577,2795691,0,0,0,0,20003,0,0,0,4871503,0,0,207610,0,0,0,13489,0,0,394314,0,91,0,0,418095,650069,2443464,44518,0,0,0,0,0,0,0,0,0,0,105000,0,0,94577,3148,1600,395117,0,19541,0,0,12880,0,120376,12611086,66979,908386,0,0,0,0,123237,0,0,23969,0,0,0,1256,0,0,0,0,0,0,77099,0,0,0,0,0,13812012,0,0,0,202550,0,14014562,936452,1259125,0,0,164407,0,0,0,0,0,0,0,0,0,224416,0,1046993,0,0,0,260395,2500,0,0,0,81885,0,1866566,0,0,0,0,0,303871,26006,0,0,0,0,0,0,0,0,0,0,0,0,0,0,0,916599,0,8155,0,10500,54872,475,86993,0,0,0,3367464,0,0,0,2900,0,97856,7600,3785,0,391061,0,0,0,269494,580254,3573,0,0,25145,0,16000,2451465,1811220,16278028,202550,16480578]
[0,"Town of Malta","410350100000","Town of Malta","Saratoga","12/31",14765,0,27.9,1496744943,3220000,1286626,0,1182,0,646,9321,0,0,0,3611321,0,0,152312,0,0,0,4288,0,3240,3120,0,0,0,0,1605420,2687245,0,127147,0,0,0,130,0,36577,0,2625,0,0,0,55364,0,90260,15864,48932,306070,0,24082,0,0,3013,0,326174,10400959,26150,762328,22813,0,7581,0,2022233,0,0,46572,0,0,0,2816,0,0,0,15558,0,0,0,0,0,0,0,0,13307010,0,0,0,199933,0,13506943,273147,983132,0,0,2016626,0,0,0,0,0,0,0,0,0,19870,1134961,379999,0,0,401,13576,4300,0,0,0,0,0,3443101,0,0,0,0,0,295627,34300,75466,0,0,0,0,0,0,0,0,0,0,0,5491,0,0,217852,0,124331,290694,1577,416220,8160,8074,11827,0,1050,0,0,0,0,113767,0,433,0,0,0,193541,0,0,0,161260,357181,1726,0,0,9015,0,154240,125000,131008,11006953,199933,11206886]
[0,"Village of Round Lake","410450104295","Village of Round Lake","Saratoga","05/31",623,0,1.1000000000000001,55288695,2108893,319347,0,0,0,0,2650,0,0,0,135155,0,0,54543,0,0,0,236,0,0,0,0,0,0,0,40210,1963,147129,59186,0,0,0,433447,0,1800,0,0,0,0,0,0,0,1317,2166,17660,25,0,0,0,0,7375,0,30934,1255143,6810,15098,0,0,0,0,52791,0,0,0,0,4000,0,0,0,0,0,0,0,0,0,0,0,0,0,0,1333842,71500,0,0,136950,0,1542292,49356,115509,0,0,1544,1515,0,0,0,0,0,0,0,0,0,199828,0,0,0,0,5378,0,0,0,0,0,187,180995,0,0,0,0,0,0,11961,0,0,0,0,0,0,0,0,0,0,0,0,0,0,0,36037,0,333,8000,190712,0,0,0,11213,0,0,90110,0,0,0,6036,818,0,0,0,0,12096,0,0,3240,19406,46513,919,0,1983,3350,0,0,199745,10096,1206880,136950,1343830]
[0,"City of Mechanicville","410229000000","City of Mechanicville","Saratoga","12/31",5196,0,0.8,209372846,6555413,1861253,0,0,0,39459,52628,0,0,0,1115242,50029,0,83288,0,0,0,14050,0,0,0,0,4462,0,0,231,15179,807242,730798,0,6238,0,6140,0,0,0,0,0,0,0,0,0,3230,5834,5040,35270,0,45195,0,0,1060,0,26764,4908633,675910,58410,0,0,0,0,122631,0,27395,2978,0,0,0,188581,0,0,0,175937,0,0,0,0,0,0,0,0,6160474,696750,0,0,0,0,6857224,297431,397059,0,0,2325,0,0,0,0,0,0,0,0,51182,1031625,857793,110000,37115,0,0,64647,0,0,10000,0,0,0,669792,0,74372,0,0,0,0,121807,0,0,0,0,0,0,0,0,0,0,12146,0,0,0,373651,48754,0,25344,0,10861,0,0,17114,4935,0,964,474697,0,0,0,602128,0,350000,0,0,0,110635,138782,0,4150,156465,724515,1821,0,0,2563,0,0,307334,43641,7135647,0,7135647]
[0,"Town of Milton","410353400000","Town of Milton","Saratoga","12/31",18575,0,35.700000000000003,1203300846,0,456838,0,0,0,529,9321,0,0,0,2533365,0,0,140500,0,0,0,49369,0,1360,1860,0,0,0,0,37185,45618,0,0,0,0,0,0,0,0,0,0,0,0,0,0,0,44962,14596,0,94973,0,0,0,0,0,0,2433,3432909,108214,464113,0,0,0,0,104326,0,0,6159,0,0,0,0,0,0,0,0,0,0,0,0,0,0,0,0,4115721,0,0,0,751445,0,4867166,176717,603997,0,0,258430,0,0,0,0,0,0,0,0,0,3645,152500,0,0,0,0,49851,7313,0,0,0,0,0,1654282,0,0,0,0,0,368422,21849,0,0,0,0,0,0,0,0,0,0,0,0,2899,0,0,112801,0,78229,41000,9940,65757,1000,25546,0,0,2905,0,0,0,0,0,0,225,0,0,0,193326,0,0,0,131450,527478,391,0,0,293,0,227,0,1049,4491522,751445,5242967]
[0,"Town of Moreau","410354900000","Town of Moreau","Saratoga","12/31",14728,0,41.9,1039551342,3603707,1782427,0,0,0,52143,16821,0,0,0,1677028,0,0,153466,0,0,0,8147,0,21607,473131,0,0,0,0,20892,6109,677147,225751,0,0,0,0,0,0,0,0,0,0,0,0,0,50685,1871,0,190166,0,15924,0,0,150,0,107215,5480680,46153,272130,0,0,0,0,115198,0,0,5200,73471,0,0,5147,0,0,0,0,0,0,0,0,0,0,0,0,5997979,0,0,0,70231,0,6068210,101928,707483,0,15299,22122,0,0,0,0,0,0,0,0,0,35323,406016,690400,0,0,0,125551,1161,495,0,433,0,0,1190758,0,4288,0,0,0,54278,65464,0,0,0,0,0,0,0,0,0,0,854,124,2350,0,875,291331,0,140476,595880,24800,6548,243824,2360,0,0,0,459536,0,0,0,23897,0,192312,0,18000,0,131549,0,0,0,81541,442171,1914,8247,0,860,0,36424,128704,0,6255576,70231,6325807]
[0,"Village of South Glens Falls","410454904730","Village of South Glens Falls","Saratoga","05/31",3518,0,1.4,222451938,0,1026532,0,0,0,44289,8623,0,0,0,521277,45352,0,55006,0,0,0,8763,0,232,460,0,0,0,0,0,11054,329830,378712,0,0,0,406016,0,0,0,0,0,0,0,0,0,7755,7103,0,930,0,23403,0,0,2524,0,65552,2943413,34762,37470,0,0,0,0,33651,0,0,0,0,0,0,22368,0,0,0,0,0,147772,0,0,0,0,0,0,3219436,0,0,0,0,0,3219436,139536,255765,0,0,2536,2795,0,0,0,0,0,0,0,0,439013,488036,0,0,0,0,1627,450,0,0,0,0,0,355679,0,5631,0,0,0,0,76219,6376,0,0,0,0,0,0,0,0,0,25120,122652,4861,0,0,35744,0,0,0,8790,2665,0,0,7023,0,0,217394,0,0,0,340517,3357,0,0,0,0,35709,52953,0,0,0,456024,0,0,22362,0,0,71447,25000,859,3206140,0,3206140]
[0,"Town of Northumberland","410360100000","Town of Northumberland","Saratoga","12/31",5087,0,32.299999999999997,356992179,130000,587527,0,0,0,0,5344,0,0,0,924822,0,0,0,0,0,0,1010,0,0,0,0,0,0,0,0,17257,0,24540,0,0,0,0,0,0,0,0,0,0,0,0,0,5979,1300,0,31399,0,121747,0,0,0,0,725,1721650,15152,126084,9351,0,0,0,93616,0,0,2018,0,0,0,4297,0,0,0,0,0,0,122942,0,0,0,0,0,2095110,0,0,0,0,0,2095110,106296,228176,0,0,19225,0,0,0,0,0,0,0,0,0,4895,112000,0,0,0,0,44448,1525,0,0,7236,0,0,779086,0,0,0,0,0,412692,9943,0,0,0,0,0,0,0,0,0,0,0,0,0,0,0,8195,0,21720,0,1388,0,0,936,105146,0,0,0,0,0,0,2122,0,55157,0,0,0,51462,0,0,0,44030,92448,252,0,0,5799,0,2129,0,0,2116306,0,2116306]
[{"$f":"IF(C69<>C162,1,0)","v":0},"Town of Providence","410369300000","Town of Providence","Saratoga","12/31",1995,0,44,178879200,129960,690436,0,0,0,0,2935,0,0,0,497647,0,0,18056,0,0,0,29935,0,0,0,0,0,0,0,0,0,0,0,0,0,0,0,0,0,0,0,0,0,0,0,0,3360,43930,0,4230,0,1600,0,0,0,0,4658,1296787,6039,48884,0,0,0,0,86950,0,0,625,0,0,0,0,0,0,0,0,0,0,0,0,0,0,0,0,1439285,61470,0,0,0,0,1500755,64516,92691,0,0,2911,0,0,0,0,0,0,0,0,1983,3999,0,35370,0,0,0,9371,267,0,0,0,0,0,694720,11817,0,0,0,0,122698,0,0,2230,0,0,0,0,0,0,0,0,0,0,0,0,0,11298,0,2070,0,372,0,226,0,0,0,0,0,0,0,0,0,0,23127,0,0,0,41364,0,0,0,31282,112379,0,0,0,1411,0,5526,75510,6155,1353293,0,1353293]
[0,"Town of Saratoga","410374700000","Town of Saratoga","Saratoga","12/31",5674,0,40.6,531289867,2955000,602688,0,0,0,0,8451,0,0,0,1106553,0,0,0,0,0,0,4901,0,460,0,0,0,0,0,0,25023,0,0,0,0,0,0,0,0,0,0,0,0,0,0,0,12782,15202,119778,57547,0,0,0,79584,0,0,9284,2042252,31991,117225,0,0,0,0,108258,0,0,1552,0,0,0,89490,0,0,0,0,0,196846,0,0,0,0,0,0,2587614,0,0,0,120307,0,2707921,161728,283238,0,0,42419,0,0,0,0,0,0,0,0,783,12836,45772,0,0,0,0,16051,2664,0,0,0,0,0,805527,0,0,0,0,0,234679,4168,0,0,0,0,0,0,0,0,0,0,0,199296,0,0,0,105386,0,2194,0,9885,0,0,885,1500,0,0,0,0,0,0,0,0,4349,0,0,0,60389,0,0,0,48429,85236,221,0,0,0,0,5556,130000,125889,2389079,120307,2509386]
[0,"Village of Schuylerville","410474704490","Village of Schuylerville","Saratoga","05/31",1386,0,0.5,74123420,3346489,481976,0,0,0,0,8198,0,0,0,191670,0,0,11717,0,0,0,901,0,0,0,0,0,0,0,197,2983,0,383815,0,0,0,162878,0,0,0,75000,0,5890,0,67375,0,2069,0,0,0,0,1680,0,0,0,0,2866,1399214,13293,15630,0,0,61593,0,0,0,0,23720,0,0,0,80134,0,0,0,0,0,0,0,0,0,0,0,110719,1704303,0,95629,0,0,0,1799932,315768,96611,0,0,35473,0,0,0,0,0,0,0,0,1873,8987,75516,0,0,0,0,10200,2715,0,0,0,0,0,137253,0,0,0,0,0,0,96529,0,0,0,0,0,0,0,0,0,0,0,0,0,0,112747,10866,0,2556,73687,24696,0,0,0,9032,0,11652,3011,0,0,0,547178,3456,42936,0,0,0,17828,0,0,0,22863,44037,0,0,0,0,0,0,208004,48744,1964216,0,1964216]
[0,"Village of Victory Mills","410474705070","Village of Victory","Saratoga","05/31",605,0,0.5,0,284040,201601,0,0,0,0,2320,0,0,0,63742,3476,0,5546,0,0,0,14956,0,0,0,0,0,0,0,0,1601,0,95929,0,0,0,11901,0,0,0,0,0,0,0,50885,0,556,4000,0,0,0,2438,0,0,0,0,0,458951,7304,3632,0,0,21046,0,22509,0,239416,0,0,0,0,0,0,28591,0,0,0,0,0,0,0,0,0,0,781449,0,6000,0,28505,0,815954,46791,85352,0,0,7864,0,0,0,0,0,0,0,0,0,0,7013,0,0,0,0,0,350,0,0,0,0,0,168704,0,0,0,0,0,0,8894,0,0,0,0,0,0,0,0,0,0,0,246183,0,0,0,0,0,0,0,1180,0,0,0,5017,0,0,0,0,0,0,33345,0,7158,0,0,0,14162,0,0,0,11109,19642,310,0,1059,0,0,750,77010,11071,752964,28505,781469]
[0,"City of Saratoga Springs","410252000000","City of Saratoga Springs","Saratoga","12/31",26586,0,28.1,3792162425,37718743,17546224,0,557461,0,366244,269440,0,0,9045606,418849,557299,831046,458315,0,237,0,174485,0,57937,41588,0,28575,0,36366,1262269,289750,2663387,4035200,0,30005,0,67252,0,0,0,151922,0,0,0,0,0,170970,14839,402537,672504,0,397379,0,0,60128,0,1061046,41668860,1683369,1116310,44098,0,11358,0,505679,0,0,8354197,0,16460,0,25501,0,223642,0,2939989,35364,585176,0,0,13000,0,0,0,57223003,1539457,0,0,1556766,0,60319226,2284856,2804362,0,9615,396738,39810,0,0,0,0,0,0,0,887950,6243664,4203780,0,391197,0,0,445994,17765,0,0,0,0,0,6520991,0,0,0,0,0,0,459996,0,0,0,0,0,180230,0,0,0,27000,6589,387351,0,0,43913,5580058,0,156923,0,219869,0,37900,93715,100817,0,0,3016611,0,0,0,3575843,117046,225254,0,0,60393,0,0,0,0,0,0,0,0,0,0,0,10689370,1776316,1620332,52622248,1556766,54179014]
[0,"Town of Stillwater","410380700000","Town of Stillwater","Saratoga","12/31",8287,0,41.2,724498532,4282819,1631760,0,273111,0,24743,10917,0,0,0,1622200,0,0,59869,0,0,0,6719,0,109,0,0,0,0,0,0,38853,352195,57872,0,0,0,4229,0,9498,0,0,0,0,0,0,0,21890,43851,4800,76235,2951,0,0,117180,0,0,69292,4428274,31538,201797,0,0,0,0,783244,0,0,2000,0,0,0,313526,0,0,0,0,774574,0,0,0,0,0,0,0,6534953,3410819,1453745,0,572230,0,11971746,180281,691408,0,0,52874,17,0,0,0,0,0,0,0,0,211805,0,113000,0,0,0,816252,1520,0,0,0,0,0,1216087,51846,0,0,0,0,552458,31497,0,0,0,0,0,762747,0,0,0,0,73293,0,0,0,2900,75356,0,58000,130860,45504,0,5700,11335,0,0,44518,408396,0,0,0,82418,0,22065,0,0,0,121133,11637,0,0,104744,302027,1530,0,0,2258,0,8885,1530462,95583,7820396,572274,8392669]
[0,"Village of Stillwater","410480704820","Village of Stillwater","Saratoga","05/31",1738,0,1.3,93175850,1691500,257047,0,122263,0,0,4976,0,0,0,230065,0,0,18395,0,0,0,196,0,0,200,0,0,0,0,0,3122,399958,201184,0,0,0,0,0,0,0,0,0,0,0,0,0,3869,13349,0,0,0,2500,0,0,0,707,2693,1260526,11431,15522,0,0,3060,0,0,0,0,0,0,0,0,0,0,18666,0,0,0,0,0,0,0,0,0,0,1309204,0,117500,0,64648,0,1491352,115637,56997,0,0,334,0,0,0,0,0,0,0,0,0,1139,62621,0,0,0,0,6337,190,0,0,0,0,0,107195,0,0,0,0,0,24901,17135,0,0,0,0,0,0,0,0,0,0,0,0,0,0,0,6779,0,0,0,944,0,0,0,18,0,296,598445,0,0,0,181214,0,842,0,0,0,16676,0,0,0,18785,45836,347,0,31351,899,0,0,249001,40746,1584662,64648,1649310]
[0,"Town of Waterford","410387500000","Town of Waterford","Saratoga","12/31",8423,0,6.6,597504494,8739124,3075933,0,234970,0,61284,4252,0,0,0,1431866,0,0,108502,0,0,0,3735,0,1529,0,0,0,0,104,18211,42658,0,796161,0,10586,0,0,0,0,0,2302,0,0,12413,7490,0,5486,14402,0,28421,0,4952,0,0,550,0,2570,5868377,42010,172035,0,0,355,0,48000,0,0,5917,0,0,605042,5241,0,306,0,0,285772,94358,0,0,0,0,0,0,7127413,0,133604,0,819076,0,8080093,196490,557770,0,0,42846,574551,0,0,0,0,0,0,1030,63943,908368,181563,331817,0,0,0,50733,0,0,0,0,0,0,515608,0,0,0,0,0,199140,52299,0,0,0,0,0,251792,0,0,0,0,33980,94358,0,0,0,275123,0,29533,2000,23176,17577,59583,1498,0,0,1199,0,0,0,0,629111,0,282474,17456,0,0,125805,96627,0,0,162553,472013,1114,0,0,356,0,0,574047,367844,7195377,819076,8014453]
[0,"Village of Waterford","410487505180","Village of Waterford","Saratoga","05/31",1990,0,0.3,61340788,204500,246311,0,0,0,0,2363,0,0,0,146012,0,0,18795,0,0,0,12841,0,56636,0,0,0,0,0,10239,593,0,0,0,750,0,181563,0,0,0,0,0,0,0,0,0,358,0,0,0,0,2127,0,0,0,0,33362,711950,73701,32768,0,0,0,0,3919,0,0,1388,92141,0,0,0,0,0,0,0,337731,0,0,0,0,0,0,23511,1277108,0,50000,0,0,0,1327108,15210,110626,0,0,12877,0,0,0,0,0,0,0,0,0,0,202695,0,0,0,0,1100,0,0,0,0,0,0,218492,0,0,0,0,0,0,62702,0,0,0,0,0,279026,0,0,0,0,0,0,0,0,0,58125,0,0,0,4525,0,0,0,1345,0,0,0,0,0,0,0,0,137330,0,0,5659,3210,0,0,0,6778,0,0,0,0,0,0,0,131000,11785,1262486,0,1262486]
[0,"Town of Wilton","410391700000","Town of Wilton","Saratoga","12/31",16173,0,35.799999999999997,1821626122,505000,558765,0,0,0,0,7569,0,0,0,4502733,0,0,258829,0,0,0,40698,0,480,2560,0,0,0,2064,339422,173738,0,0,0,0,0,0,0,11396,0,0,0,0,0,0,0,58635,195767,15457,210932,0,19494,0,2492,0,0,30517,6431548,26067,536416,0,0,0,0,123743,0,0,0,0,0,0,4015,0,0,0,0,95555,0,0,0,0,0,0,0,7217344,0,0,0,25000,0,7242344,460137,910288,0,0,122126,0,0,0,0,0,0,0,0,0,133443,0,528310,3000,428,0,35669,3000,0,0,8495,0,0,1627488,0,0,0,0,0,331698,13405,0,0,0,0,0,100518,0,0,0,0,0,0,0,0,2479,473613,0,244681,0,54120,0,201456,14881,70170,0,0,0,0,0,0,0,0,17091,0,0,0,224955,0,0,20105,188884,454647,4095,0,0,5666,0,15401,155000,17475,6442725,25000,6467725]
[0,"Schenectady County","420100000000","County of Schenectady","Schenectady","12/31",154727,0,204.5,10444791771,57714665,63583228,0,0,0,938917,2160893,0,0,82304702,0,0,413141,0,568303,0,0,4358905,0,409453,20919333,0,789278,2572032,51736,643696,547776,0,147803,0,1533936,439560,67253,0,1901422,0,8000,167744,0,0,469934,0,299536,318947,232124,229861,33098,2604473,0,0,422504,0,10900079,200037667,0,0,751884,4682744,2806620,9170338,2220596,25039170,4763,220352,1174387,0,0,670571,0,237875,8301115,158812,22234773,1136255,0,781594,0,0,0,1781394,281410910,6800419,0,0,1682882,0,289894211,6039442,13414038,29129122,665478,944670,100668,0,0,0,0,0,5205620,8579444,560278,2258461,0,190443,19004791,0,287471,0,745768,3187331,3378583,674164,19786748,2994099,12163031,0,316305,491322,0,0,3015156,0,94413,17967811,33028115,34219472,14064980,0,2346535,1941691,0,0,565469,0,97500,0,0,127287,0,635799,5055082,302125,34467,540449,2737459,128325,0,344079,0,0,0,0,0,0,331867,0,0,0,6165900,0,0,0,4057558,13613152,0,0,826642,16286,0,9964877,6300500,2195429,290835702,1682882,292518584]
[0,"Town of Duanesburg","420324200000","Town of Duanesburg","Schenectady","12/31",6122,0,70.8,585414892,6985657,1484414,0,0,0,0,18644,0,0,0,724896,0,0,34930,0,0,0,4605,0,0,0,0,0,0,0,2035,20952,0,2993,0,0,0,0,0,60528,0,0,0,0,0,285,0,6108,0,0,164176,0,1520,0,0,1,0,1067,2527154,21074,117587,0,0,0,0,81732,0,0,1621,0,0,0,0,0,0,0,0,0,87463,0,0,0,0,0,0,2836630,0,0,0,1000,0,2837630,141363,337479,0,0,127805,0,0,0,0,0,0,0,0,7500,0,354654,73548,0,0,0,11637,850,0,0,0,0,0,538521,0,0,0,0,0,68786,12515,0,2500,0,0,0,0,0,0,0,0,0,89351,1185,0,0,16855,0,5656,0,2048,0,1000,2500,0,0,0,0,0,0,0,283615,0,28751,0,0,0,73055,0,0,0,52132,161585,186,0,19698,4676,0,42500,297200,5871,2765023,1000,2766023]
[0,"Village of Delanson","420424201250","Village of Delanson","Schenectady","05/31",377,0,0.6,23167654,443700,74296,0,0,0,0,188,0,0,0,35349,0,0,10388,0,0,0,220,0,0,0,0,0,0,0,0,210,83992,0,0,0,0,58854,0,0,0,0,0,0,0,0,0,277,0,0,0,0,163,0,0,10,0,310,264257,5049,0,0,0,0,0,24446,0,0,0,0,0,0,0,0,0,0,0,0,0,0,0,0,0,0,0,293752,0,0,0,0,0,293752,29717,46234,0,0,80,0,0,0,0,0,0,0,0,0,0,31349,0,0,0,0,704,0,0,0,0,0,0,50323,0,0,0,0,0,0,4489,0,0,0,0,0,0,0,0,0,0,0,0,0,0,0,2428,0,0,0,28,0,0,0,0,0,0,35469,0,0,0,0,0,26962,0,0,0,1481,0,0,0,3692,0,0,0,1030,0,0,0,20899,16357,271242,0,271242]
[0,"Town of Glenville","420333100000","Town of Glenville","Schenectady","12/31",29480,0,49.2,2328975445,21764820,7311333,0,30100,0,82745,69559,0,0,0,2534366,0,0,317237,0,0,0,49418,0,105257,13130,0,0,0,51353,17000,41208,1419878,290579,0,0,0,9024,0,129576,0,0,0,227234,0,0,10060,80311,18846,27128,205736,10196,42929,0,11000,9937,0,669447,13784587,180066,624986,0,0,19473,0,0,0,12000,15080,0,0,0,42798,0,4017,0,0,324954,0,0,144460,0,0,0,0,15152421,2133100,767483,0,0,0,18053004,365677,1101118,0,0,3547,0,0,0,0,0,0,0,0,121572,2920447,371479,0,0,0,0,270560,1743,0,0,0,0,0,2176494,0,0,0,0,0,362731,39331,0,0,0,0,0,325081,0,0,0,0,22080,134380,0,0,432,353469,0,27000,0,9666,0,50537,0,0,0,0,1190481,0,0,0,736300,0,18916,0,14614,0,354524,365615,0,0,430697,1534889,8788,0,119338,12416,0,0,1632240,758761,15834923,0,15834923]
[0,"Village of Scotia","420433104500","Village of Scotia","Schenectady","05/31",7729,0,1.7,426783975,1216280,3767171,0,15931,0,53406,30978,0,0,0,675910,86569,0,0,0,0,0,225739,0,75095,0,0,0,0,0,5752,55072,759690,1183880,0,0,0,370000,0,10148,0,7500,0,0,0,0,0,15935,11922,0,72605,0,0,0,0,0,0,12257,7435558,76498,71792,0,0,0,0,162176,0,0,3674,0,0,0,1361727,0,0,0,0,640262,0,0,0,0,0,0,0,9751688,0,0,0,213331,0,9965020,294836,344770,0,0,0,0,0,0,0,0,0,0,0,0,1110343,1969203,0,0,0,0,38414,64,0,0,0,0,0,548071,0,0,0,0,0,0,95535,0,0,0,0,0,621599,0,0,0,0,0,57995,0,0,445,1001522,0,59983,0,12321,0,0,3000,12475,0,15931,474133,0,0,0,1077114,20039,538892,0,0,0,66524,265328,0,0,226606,739217,0,0,35139,0,0,0,260910,62886,9953293,213331,10166624]
[0,"Town of Niskayuna","420358700000","Town of Niskayuna","Schenectady","12/31",21781,0,14.2,2423130612,10374489,6418199,0,3698023,0,292779,34426,0,0,0,3026887,0,0,358202,0,0,0,41391,0,63911,29240,0,0,0,0,319582,144464,2808420,133279,0,0,0,0,0,0,0,0,0,3409,0,8170,2750,92601,119037,119449,244608,250,15766,0,0,1126,0,-130012,17845956,103750,679349,0,0,37642,0,108206,0,0,8388,0,0,0,16940,0,245169,0,0,277956,0,0,37270,0,0,0,0,19360627,8905138,743588,0,543980,0,29553333,574799,983715,0,0,144066,2878,0,0,0,0,0,0,0,13058,3136588,0,0,0,0,0,171508,34597,0,0,0,0,0,3083711,0,0,0,0,0,490201,38105,0,0,0,0,0,291342,0,0,0,0,0,0,0,0,0,919938,0,161957,0,7274,0,500,94877,5576,0,0,4052328,0,0,0,2048168,37372,421585,0,0,0,539800,325577,0,0,626790,1818645,5479,0,85446,12178,27540,13041,1276175,251070,21695882,543980,22239862]
[0,"Town of Princetown","420369200000","Town of Princetown","Schenectady","12/31",2115,0,23.9,202235418,2709700,400188,0,0,0,0,5412,0,76268,0,193766,0,0,0,0,0,0,1654,0,0,0,0,0,0,0,0,11790,127146,572,0,0,0,0,0,0,0,0,0,0,0,0,0,1288,0,38068,201998,0,0,0,0,0,0,46073,1104222,16239,43108,0,0,0,0,6921,0,0,0,0,0,0,4962,0,0,0,0,0,0,0,0,0,28267,0,0,1203719,330600,0,0,77246,0,1611565,65398,270547,0,0,46184,0,0,0,0,0,0,0,0,0,23568,188670,32160,0,3133,0,28687,100,0,0,0,0,0,78270,0,0,0,0,0,0,0,0,0,0,0,0,0,0,0,0,2345,0,0,0,0,0,0,0,1069,0,890,0,0,1000,0,0,0,477801,0,0,0,0,0,0,0,0,0,21330,0,0,0,22585,15193,0,0,0,0,0,0,36500,136399,1451828,77246,1529074]
[0,"Town of Rotterdam","420372600000","Town of Rotterdam","Schenectady","12/31",29094,0,35.700000000000003,2547009941,10110000,11458185,0,7000,0,249550,73465,0,0,0,3523483,0,0,538874,0,0,0,35363,0,94675,0,0,0,18685,0,17298,37963,429508,272605,0,0,0,153729,0,0,0,12915,0,0,0,11150,0,53253,47318,233449,421289,125,53107,0,0,11417,0,160818,17915225,176985,601144,0,0,50858,0,182507,0,0,10074,0,0,0,0,0,83378,0,0,1459434,0,0,824,0,0,0,0,20480429,0,70750,0,51677,0,20602856,578708,1380080,0,0,187808,98738,0,0,0,0,0,0,1022,0,5456245,154451,0,0,0,0,178055,3400,0,0,0,0,0,3560945,1762,0,0,0,0,253860,237948,0,0,0,0,0,1503575,0,0,0,0,0,0,3660,0,0,406464,0,4065,0,6738,0,0,184764,0,0,0,1672174,0,0,0,725612,0,72086,0,10351,95068,511803,689168,0,0,688912,2608000,7459,528,228614,28620,0,0,1127750,355735,23024167,51677,23075844]
[0,"City of Schenectady","420253000000","City of Schenectady","Schenectady","12/31",66135,0,10.8,2417858243,95999672,25536240,0,58164,0,616586,650378,0,0,0,11050000,798038,0,793997,0,0,0,493585,0,1109952,0,0,191446,78523,2971451,892878,741719,7328646,15172234,0,8665,0,0,0,257469,0,0,0,0,0,0,0,819470,75438,13850,973448,3265,512250,0,1100457,38685,0,4013228,76300062,11434688,495671,72395,80000,192964,0,980428,0,0,3089991,0,0,0,0,0,0,0,0,0,5158194,0,1276422,0,0,0,1993878,101074693,2516714,550000,0,406000,0,104547407,18818239,3342129,0,0,7905,116545,0,0,0,0,0,0,0,26064,16209764,9804683,0,0,0,0,215553,0,0,0,0,0,0,6589307,0,0,0,0,0,0,2013137,0,0,0,0,0,0,0,0,0,0,2400532,9115572,0,0,0,1846326,0,95000,0,52422,48770,803457,0,0,0,0,5177328,0,0,0,11713167,0,4089679,0,0,0,1382888,3873550,0,8918,2755058,13353425,23098,10360,2066414,83497,0,705303,5997202,2852313,125597605,406000,126003605]
[0,"Capital District"]

{"sheet":"Muni-Obj","index":2,"n_rows":181,"n_cols":22,"rows_kept":181,"cut":false,"hidden":false,"merged":[]}
[null,"Fiscal Year 2010",null,null,null,null,null,null,null,null,null,"EXPENDITURES"]
[null,null,null,null,null,null,null,null,null,null,null,"CURRENT OPERATIONS",null,null,null,null,"DEBT SERVICE"]
[null,"Object","Municipal Code","Municipal Name","County Name","Fiscal Year End","Population","Enrollment","Land Area (Sq. Mi.)","Full Value","Total Debt Outstanding at EOFY","Personal Services","Employee Benefits","Contractual","Sub-Total","Equipment & Capital Outlay","Debt Principal","Debt Interest","Sub-Total","Total Expenditures","Interfund Transfer","Total Expenditures & Other Uses"]
[null,"Albany County",{"$f":"C97","v":"010100000000"},{"$f":"D97","v":"County of Albany"},"Albany","12/31",304204,0,522.79999999999995,24780071182,274806031,122991530,68512583,358552335,550056448,32562184,13661771,8474005,22135776,604754408,46424236,651178644]
[null,"City of Albany",{"$f":"C98","v":"010201000000"},"City of Albany","Albany","12/31",97856,0,21.4,5125089604,152198950,70597617,48656526,23688188,142942331,28970576,11955483,4770212,16725695,188638602,440000,189078602]
[null,"Town of Berne",{"$f":"C99","v":"010306800000"},"Town of Berne","Albany","12/31",2794,0,64,299701688,591036,637885,191120,1196059,2025065,210603,88277,9875,98152,2333820,0,2333820]
[null,"Town of Bethlehem",{"$f":"C100","v":"010307100000"},"Town of Bethlehem","Albany","12/31",33656,0,49,3396032947,20250000,15790947,5777893,11300576,32869416,3674231,1106000,938680,2044680,38588327,261000,38849327]
[null,"Town of Coeymans",{"$f":"C101","v":"010318000000"},"Town of Coeymans","Albany","12/31",7418,0,50.1,607063586,3978,2350409,736272,2144446,5231127,280743,1768,3421,5189,5517059,1791626,7308685]
[null,"Village of Ravena",{"$f":"C102","v":"010418004140"},"Village of Ravena","Albany","05/31",3268,0,1.5,169328756,865000,796398,481656,934062,2212116,114656,150000,45701,195701,2522473,110000,2632473]
[null,"City of Cohoes",{"$f":"C103","v":"010209000000"},"City of Cohoes","Albany","12/31",16168,0,3.8,689715761,10660383,9341671,4588842,4486232,18416745,7136854,1162191,644136,1806327,27359926,267027,27626953]
[null,"Town of Colonie",{"$f":"C104","v":"010318700000"},"Town of Colonie","Albany","12/31",81591,0,55.9,8629079128,104955386,40066751,17853505,35554824,93475080,5490996,3068682,3722623,6791305,105757381,2876000,108633381]
[null,"Village of Colonie",{"$f":"C105","v":"010418701100"},"Village of Colonie","Albany","05/31",7793,0,3.2,843702141,0,1456009,718178,3861040,6035227,531394,0,0,0,6566621,612360,7178981]
[null,"Village of Menands",{"$f":"C106","v":"010418703040"},"Village of Menands","Albany","05/31",3990,0,3.1,464248478,325000,1687729,776927,1972256,4436912,159305,0,0,0,4596217,0,4596217]
[null,"Town/Village of Green Island",{"$f":"C107","v":"010334500000"},"Town of Green Island","Albany","12/31",2620,0,0.8,140974052,0,120444,27644,175761,323849,1144,0,0,0,324993,0,324993]
[null,"Town/Village of Green Island",{"$f":"C108","v":"010434502040"},"Village of Green Island","Albany","05/31",2620,0,0.8,156917509,885000,1771980,674865,1622418,4069263,189272,385000,34917,419917,4678452,0,4678452]
[null,"Town/Village of Green Island"]
[null,"Town of Guilderland",{"$f":"C110","v":"010335500000"},"Town of Guilderland","Albany","12/31",35303,0,57.9,3752152566,27917000,12633549,4063036,7611628,24308212,3567542,1923000,1160298,3083298,30959053,1233638,32192690]
[null,"Village of Altamont",{"$f":"C111","v":"010435500120"},"Village of Altamont","Albany","05/31",1720,0,1.2,126640029,1260000,614258,161891,754769,1530918,282484,50000,56656,106656,1920058,0,1920058]
[null,"Town of Knox",{"$f":"C112","v":"010344300000"},"Town of Knox","Albany","12/31",2692,0,41.8,265450406,1139981,498429,178556,483563,1160548,959453,80000,30353,110353,2230354,1000,2231354]
[null,"Town of New Scotland",{"$f":"C113","v":"010358100000"},"Town of New Scotland","Albany","12/31",8648,0,57.5,972484595,2125914,1580857,659163,2645381,4885402,536343,164713,74321,239034,5660779,489,5661267]
[null,"Village of Voorheesville",{"$f":"C114","v":"010458105090"},"Village of Voorheesville","Albany","05/31",2789,0,2.1,238009756,3735000,467819,200593,683140,1351552,55746,150000,116005,266005,1673303,0,1673303]
[null,"Town of Rensselaerville",{"$f":"C115","v":"010370600000"},"Town of Rensselaerville","Albany","12/31",1843,0,61.5,260837670,810241,614040,332364,1111394,2057798,142236,45601,2029,47630,2247664,18478,2266142]
[null,"City of Watervliet",{"$f":"C116","v":"010260000000"},"City of Watervliet","Albany","12/31",10254,0,1.4,389563501,7199463,6153872,3134921,3207409,12496202,5956205,634500,297537,932037,19384444,1147128,20531572]
[null,"Town of Westerlo",{"$f":"C117","v":"010389000000"},"Town of Westerlo","Albany","12/31",3361,0,57.8,334238875,1180000,892992,374927,1102976,2370895,151825,89500,12216,101716,2624436,4785,2629221]
[null,"Rensselaer County",{"$f":"C118","v":"380100000000"},"County of Rensselaer","Rensselaer","12/31",159429,0,652.4,10505904197,172578257,73846413,48240174,153807225,275893811,22063721,6605009,7172797,13777806,311735339,2873269,314608608]
[null,"Village of Nassau",{"$f":"C119","v":"380456103330"},"Village of Nassau","Rensselaer","05/31",1133,0,0.7,69949308,181350,305797,53821,277517,637135,87249,51650,7247,58897,783281,30300,813581]
[null,"Village of Valley Falls",{"$f":"C120","v":"380467005020"},"Village of Valley Falls","Rensselaer","05/31",466,0,0.5,27333975,1880534,31556,2592,153753,187901,11272,83498,9102,92600,291773,4949,296722]
[null,"Town of Berlin",{"$f":"C121","v":"380306700000"},"Town of Berlin","Rensselaer","12/31",1880,0,59.6,169380954,0,296543,82109,354269,732921,87188,13801,0,13801,833911,0,833911]
[null,"Town of Brunswick",{"$f":"C122","v":"380309900000"},"Town of Brunswick","Rensselaer","12/31",11941,0,44.4,1013344648,2385000,1863011,680243,3418816,5962070,348661,155000,88166,243166,6553897,0,6553897]
[null,"Town of East Greenbush",{"$f":"C123","v":"380324900000"},"Town of East Greenbush","Rensselaer","12/31",16473,0,24,1592115009,8026820,5682056,2710658,6007086,14399800,14226,1205083,171384,1376467,15790493,0,15790493]
[null,"Town of Grafton",{"$f":"C124","v":"380333500000"},"Town of Grafton","Rensselaer","12/31",2130,0,44.7,200300759,436900,415969,126696,374493,917158,62855,53900,14811,68711,1048724,0,1048724]
[null,"Town of Hoosick",{"$f":"C125","v":"380339800000"},"Town of Hoosick","Rensselaer","12/31",6924,0,63,418388532,80000,607855,293792,865878,1767525,742854,80000,7534,87534,2597913,28593,2626506]
[null,"Village of Hoosick Falls",{"$f":"C126","v":"380439802380"},"Village of Hoosick Falls","Rensselaer","05/31",3501,0,1.6,152269985,14295272,921776,363542,1202102,2487420,2013859,326465,13850,340315,4841594,0,4841594]
[null,"Town of Nassau",{"$f":"C127","v":"380356100000"},"Town of Nassau","Rensselaer","12/31",4789,0,44.4,364096939,447934,575406,244107,1028009,1847522,231724,67766,9398,77163,2156409,201756,2358165]
[null,"Village of East Nassau",{"$f":"C128","v":"380456101435"},"Village of East Nassau","Rensselaer","05/31",587,0,4.9000000000000004,41915863,0,20500,2106,79954,102560,42346,0,0,0,144906,0,144906]
[null,"Town of North Greenbush",{"$f":"C129","v":"380359500000"},"Town of North Greenbush","Rensselaer","12/31",12075,0,18.600000000000001,935986053,21774000,3258476,1345950,3374330,7978757,2117895,1553000,614376,2167376,12264027,13049,12277076]
[null,"Town of Petersburgh",{"$f":"C130","v":"380365600000"},"Town of Petersburgh","Rensselaer","12/31",1525,0,41.6,121889374,242400,258707,84964,363284,706955,74105,23500,11621,35121,816181,10109,826290]
[null,"Town of Pittstown",{"$f":"C131","v":"380367000000"},"Town of Pittstown","Rensselaer","12/31",5735,0,61.6,380220315,16630,631605,273282,1125809,2030696,429463,23915,2389,26304,2486463,0,2486463]
[null,"Town of Poestenkill",{"$f":"C132","v":"380367600000"},"Town of Poestenkill","Rensselaer","12/31",4530,0,32.4,342159337,9629493,585049,218311,624332,1427692,9796725,97282,9241,106523,11330940,0,11330940]
[null,"City of Rensselaer",{"$f":"C133","v":"380247000000"},"City of Rensselaer","Rensselaer","07/31",9392,0,3.2,405901319,4592949,5303265,2702065,2976696,10982026,5206152,552247,200842,753088,16941267,177500,17118767]
[null,"Town of Sand Lake",{"$f":"C134","v":"380374100000"},"Town of Sand Lake","Rensselaer","12/31",8530,0,35.1,726584506,2411252,1469797,458202,1509810,3437809,1088584,55000,262269,317269,4843661,182960,5026621]
[null,"Town of Schaghticoke",{"$f":"C135","v":"380375200000"},"Town of Schaghticoke","Rensselaer","12/31",7679,0,49.8,582264982,5545750,900851,427630,1946995,3275476,280917,352950,44921,397871,3954264,34671,3988935]
[null,"Village of Schaghticoke",{"$f":"C136","v":"380475204460"},"Village of Schaghticoke","Rensselaer","05/31",592,0,0.8,43080391,0,78986,18157,167245,264388,502391,0,0,0,766779,30000,796779]
[null,"Town of Schodack",{"$f":"C137","v":"380375300000"},"Town of Schodack","Rensselaer","12/31",12794,0,61.9,1128496869,16469915,2999940,969406,2995418,6964765,1215375,1025092,391092,1416184,9596324,3722343,13318667]
[null,"Village of Castleton-on-Hudson",{"$f":"C138","v":"380475300790"},"Village of Castleton-On-Hudson","Rensselaer","05/31",1473,0,0.7,118313321,2136558,526096,173820,607814,1307730,1149319,109057,56395,165452,2622501,11933,2634434]
[null,"Town of Stephentown",{"$f":"C139","v":"380380400000"},"Town of Stephentown","Rensselaer","12/31",2903,0,57.9,258190053,0,"-","-","-","-","-","-","-","-","-","-","-"]
[null,"City of Troy",{"$f":"C140","v":"380257000000"},"City of Troy","Rensselaer","12/31",50129,0,10.4,1905426906,76568550,31650516,18675799,16081529,66407844,12878391,4459485,2822635,7282120,86568355,3672867,90241222]
[null,"Saratoga County",{"$f":"C141","v":"410100000000"},"County of Saratoga","Saratoga","12/31",219607,0,810,21886916706,79869000,68753381,41820436,147417081,257990898,26355697,2400000,2494027,4894027,289240623,21023925,310264548]
[null,"Village of Ballston Spa",{"$f":"C142","v":"410453400340"},"Village of Ballston Spa","Saratoga","05/31",5409,0,1.6,334011245,952705,1421576,628864,2144934,4195375,225288,301853,53043,354896,4775559,0,4775559]
[null,"Town of Ballston",{"$f":"C143","v":"410304900000"},"Town of Ballston","Saratoga","12/31",9776,0,29.6,952484335,3970500,1324236,550536,1945088,3819860,1095659,377500,130069,507569,5423088,0,5423088]
[null,"Town of Charlton",{"$f":"C144","v":"410314700000"},"Town of Charlton","Saratoga","12/31",4133,0,32.799999999999997,441650710,1853600,566966,179598,785425,1531989,234305,80450,67469,147919,1914213,0,1914213]
[null,"Town of Clifton Park",{"$f":"C145","v":"410317400000"},"Town of Clifton Park","Saratoga","12/31",36705,0,48.2,3896606465,12057491,6320893,3279495,9086978,18687366,3178195,576957,469538,1046495,22912056,3820295,26732351]
[null,"Town of Corinth",{"$f":"C146","v":"410320000000"},"Town of Corinth","Saratoga","12/31",6531,0,56.8,549529510,0,1332951,437423,1321527,3091902,1242637,0,0,0,4334538,0,4334538]
[null,"Village of Corinth",{"$f":"C147","v":"410420001150"},"Village of Corinth","Saratoga","05/31",2559,0,1.1000000000000001,240958385,5990000,786322,423314,2020106,3229742,721945,170000,289934,459934,4411620,488546,4900166]
[null,"Town of Day",{"$f":"C148","v":"410322000000"},"Town of Day","Saratoga","12/31",856,0,64.099999999999994,324648383,0,581614,228447,392040,1202101,576160,0,0,0,1778261,0,1778261]
[null,"Town of Edinburg",{"$f":"C149","v":"410325500000"},"Town of Edinburg","Saratoga","12/31",1214,0,60.2,409060172,0,508003,138797,426102,1072903,236221,0,0,0,1309124,50733,1359857]
[null,"Town of Galway",{"$f":"C150","v":"410331400000"},"Town of Galway","Saratoga","12/31",3545,0,43.8,428006969,632000,609925,145612,1003679,1759216,7447,105500,35121,140621,1907285,0,1907285]
[null,"Village of Galway",{"$f":"C151","v":"410431401900"},"Village of Galway","Saratoga","05/31",200,0,0.3,13207727,0,15727,970,29981,46678,0,0,0,0,46678,0,46678]
[null,"Town of Greenfield",{"$f":"C152","v":"410334400000"},"Town of Greenfield","Saratoga","12/31",7775,0,67.400000000000006,748080021,0,1158159,291490,1647491,3097140,488292,0,0,0,3585432,117505,3702937]
[null,"Town of Hadley",{"$f":"C153","v":"410335700000"},"Town of Hadley","Saratoga","12/31",2048,0,39.700000000000003,258437047,250000,801193,295707,744949,1841849,161550,43750,9497,53247,2056646,599001,2655648]
[null,"Town of Halfmoon",{"$f":"C154","v":"410336000000"},"Town of Halfmoon","Saratoga","12/31",21535,0,32.6,1953841698,44886577,3663378,1285527,5090428,10039333,1976009,2451465,1811220,4262685,16278028,202550,16480578]
[null,"Town of Malta",{"$f":"C155","v":"410350100000"},"Town of Malta","Saratoga","12/31",14765,0,27.9,1496744943,3220000,2244902,876963,4585053,7706918,3044027,125000,131008,256008,11006953,199933,11206886]
[null,"Village of Round Lake",{"$f":"C156","v":"410450104295"},"Village of Round Lake","Saratoga","05/31",623,0,1.1000000000000001,55288695,2108893,254445,87507,392288,734240,262799,199745,10096,209841,1206880,136950,1343830]
[null,"City of Mechanicville",{"$f":"C157","v":"410229000000"},"City of Mechanicville","Saratoga","12/31",5196,0,0.8,209372846,6555413,2080531,1138931,2579136,5798597,986075,307334,43641,350975,7135647,0,7135647]
[null,"Town of Milton",{"$f":"C158","v":"410353400000"},"Town of Milton","Saratoga","12/31",18575,0,35.700000000000003,1203300846,0,1787379,853165,1404052,4044596,445877,0,1049,1049,4491522,751445,5242967]
[null,"Town of Moreau",{"$f":"C159","v":"410354900000"},"Town of Moreau","Saratoga","12/31",14728,0,41.9,1039551342,3603707,1436293,702706,3629108,5768107,358765,128704,0,128704,6255576,70231,6325807]
[null,"Village of South Glens Falls",{"$f":"C160","v":"410454904730"},"Village of South Glens Falls","Saratoga","05/31",3518,0,1.4,222451938,0,946232,638495,1473193,3057920,122361,25000,859,25859,3206140,0,3206140]
[null,"Town of Northumberland",{"$f":"C161","v":"410360100000"},"Town of Northumberland","Saratoga","12/31",5087,0,32.299999999999997,356992179,130000,576528,196120,696332,1468980,647326,0,0,0,2116306,0,2116306]
[null,"Town of Providence",{"$f":"C162","v":"410369300000"},"Town of Providence","Saratoga","12/31",1995,0,44,178879200,129960,410788,191962,343473,946223,325405,75510,6155,81665,1353293,0,1353293]
[null,"Town of Saratoga",{"$f":"C163","v":"410374700000"},"Town of Saratoga","Saratoga","12/31",5674,0,40.6,531289867,2955000,661500,199831,909771,1771101,362089,130000,125889,255889,2389079,120307,2509386]
[null,"Village of Schuylerville",{"$f":"C164","v":"410474704490"},"Village of Schuylerville","Saratoga","05/31",1386,0,0.5,74123420,3346489,299609,84728,926231,1310568,396900,208004,48744,256748,1964216,0,1964216]
[null,"Village of Victory",{"$f":"C165","v":"410474705070"},"Village of Victory","Saratoga","05/31",605,0,0.5,0,284040,148038,47032,427862,622932,41951,77010,11071,88081,752964,28505,781469]
[null,"City of Saratoga Springs",{"$f":"C166","v":"410252000000"},"City of Saratoga Springs","Saratoga","12/31",26586,0,28.1,3792162425,37718743,19809905,10689370,9963529,40462804,8762796,1776316,1620332,3396648,52622248,1556766,54179014]
[null,"Town of Stillwater",{"$f":"C167","v":"410380700000"},"Town of Stillwater","Saratoga","12/31",8287,0,41.2,724498532,4282819,1454926,552214,2898921,4906061,1288289,1530462,95583,1626045,7820396,572274,8392669]
[null,"Village of Stillwater",{"$f":"C168","v":"410480704820"},"Village of Stillwater","Saratoga","05/31",1738,0,1.3,93175850,1691500,263212,113893,448764,825869,469045,249001,40746,289747,1584662,64648,1649310]
[null,"Town of Waterford",{"$f":"C169","v":"410387500000"},"Town of Waterford","Saratoga","12/31",8423,0,6.6,597504494,8739124,2144045,858468,2936008,5938521,314965,574047,367844,941891,7195377,819076,8014453]
[null,"Village of Waterford",{"$f":"C170","v":"410487505180"},"Village of Waterford","Saratoga","05/31",1990,0,0.3,61340788,204500,83810,9988,803008,896806,222894,131000,11785,142785,1262486,0,1262486]
[null,"Town of Wilton",{"$f":"C171","v":"410391700000"},"Town of Wilton","Saratoga","12/31",16173,0,35.799999999999997,1821626122,505000,2523380,913753,2307879,5745012,525238,155000,17475,172475,6442725,25000,6467725]
[null,"Schenectady County",{"$f":"C172","v":"420100000000"},"County of Schenectady","Schenectady","12/31",154727,0,204.5,10444791771,57714665,66952600,34644415,169323908,270920923,11418850,6300500,2195429,8495929,290835702,1682882,292518584]
[null,"Town of Duanesburg",{"$f":"C173","v":"420324200000"},"Town of Duanesburg","Schenectady","12/31",6122,0,70.8,585414892,6985657,711266,353832,1166381,2231479,230472,297200,5871,303071,2765023,1000,2766023]
[null,"Village of Delanson",{"$f":"C174","v":"420424201250"},"Village of Delanson","Schenectady","05/31",377,0,0.6,23167654,443700,49757,6203,169937,225897,8089,20899,16357,37256,271242,0,271242]
[null,"Town of Glenville",{"$f":"C175","v":"420333100000"},"Town of Glenville","Schenectady","12/31",29480,0,49.2,2328975445,21764820,5719513,2826267,4122278,12668058,775864,1632240,758761,2391001,15834923,0,15834923]
[null,"Village of Scotia",{"$f":"C176","v":"420433104500"},"Village of Scotia","Schenectady","05/31",7729,0,1.7,426783975,1216280,3040157,1332814,4209682,8582653,1046844,260910,62886,323796,9953293,213331,10166624]
[null,"Town of Niskayuna",{"$f":"C177","v":"420358700000"},"Town of Niskayuna","Schenectady","12/31",21781,0,14.2,2423130612,10374489,8181862,3454495,5195725,16832082,3336555,1276175,251070,1527246,21695882,543980,22239862]
[null,"Town of Princetown",{"$f":"C178","v":"420369200000"},"Town of Princetown","Schenectady","12/31",2115,0,23.9,202235418,2709700,320091,59108,549606,928805,350123,36500,136399,172899,1451828,77246,1529074]
[null,"Town of Rotterdam",{"$f":"C179","v":"420372600000"},"Town of Rotterdam","Schenectady","12/31",29094,0,35.700000000000003,2547009941,10110000,9088904,4763104,5328792,19180801,2359882,1127750,355735,1483485,23024167,51677,23075844]
[null,"City of Schenectady",{"$f":"C180","v":"420253000000"},"City of Schenectady","Schenectady","12/31",66135,0,10.8,2417858243,95999672,37040275,24262511,25098950,86401736,30346354,5997202,2852313,8849515,125597605,406000,126003605]
[null,"Capital District",null,null,null,null,{"$f":"G4+G25+G48+G79","v":837967},0,2189.6999999999998,67617683856,584967953,332543924,193217608,829100549,1354862080,92400452,28967280,20336258,49303538,1496566072,72004312,1568570384]
[]
[{"$f":"SUM(B90:V90)","v":0},{"$f":"IF(B1<>B94,1,)","v":0},{"$f":"IF(C1<>C94,1,)","v":0},0,0,0,0,0,0,0,0,0,0,0,0,0,0,0,0,0,0,0]
[{"$f":"SUM(B91:V91)","v":0},{"$f":"IF(B2<>B95,1,)","v":0},0,0,0,0,0,0,0,0,0,0,0,0,0,0,0,0,0,0,0,0]
[{"$f":"SUM(B92:V92)","v":0},{"$f":"IF(B3<>B96,1,)","v":0},0,0,0,0,0,0,0,0,0,0,0,0,0,0,0,0,0,0,0,0]
[]
[null,"Fiscal Year 2010",null,null,null,null,null,null,null,null,null,"EXPENDITURES"]
[null,null,null,null,null,null,null,null,null,null,null,"CURRENT OPERATIONS",null,null,null,null,"DEBT SERVICE"]
[{"$f":"SUM(A97:A181)","v":0},"Object","Municipal Code","Municipal Name","County Name","Fiscal Year End","Population","Enrollment","Land Area (Sq. Mi.)","Full Value","Total Debt Outstanding at EOFY","Personal Services","Employee Benefits","Contractual","Sub-Total","Equipment & Capital Outlay","Debt Principal","Debt Interest","Sub-Total","Total Expenditures","Interfund Transfer","Total Expenditures & Other Uses"]
[{"$f":"IF(C4<>C97,1,0)","v":0},"Albany County","010100000000","County of Albany","Albany","12/31",304204,0,522.79999999999995,24780071182,274806031,122991530,68512583,358552335,550056448,32562184,13661771,8474005,22135776,604754408,46424236,651178644]
[{"$f":"IF(C5<>C98,1,0)","v":0},"City of Albany","010201000000","City of Albany","Albany","12/31",97856,0,21.4,5125089604,152198950,70597617,48656526,23688188,142942331,28970576,11955483,4770212,16725695,188638602,440000,189078602]
[0,"Town of Berne","010306800000","Town of Berne","Albany","12/31",2794,0,64,299701688,591036,637885,191120,1196059,2025065,210603,88277,9875,98152,2333820,0,2333820]
[0,"Town of Bethlehem","010307100000","Town of Bethlehem","Albany","12/31",33656,0,49,3396032947,20250000,15790947,5777893,11300576,32869416,3674231,1106000,938680,2044680,38588327,261000,38849327]
[0,"Town of Coeymans","010318000000","Town of Coeymans","Albany","12/31",7418,0,50.1,607063586,3978,2350409,736272,2144446,5231127,280743,1768,3421,5189,5517059,1791626,7308685]
[0,"Village of Ravena","010418004140","Village of Ravena","Albany","05/31",3268,0,1.5,169328756,865000,796398,481656,934062,2212116,114656,150000,45701,195701,2522473,110000,2632473]
[0,"City of Cohoes","010209000000","City of Cohoes","Albany","12/31",16168,0,3.8,689715761,10660383,9341671,4588842,4486232,18416745,7136854,1162191,644136,1806327,27359926,267027,27626953]
[0,"Town of Colonie","010318700000","Town of Colonie","Albany","12/31",81591,0,55.9,8629079128,104955386,40066751,17853505,35554824,93475080,5490996,3068682,3722623,6791305,105757381,2876000,108633381]
[0,"Village of Colonie","010418701100","Village of Colonie","Albany","05/31",7793,0,3.2,843702141,0,1456009,718178,3861040,6035227,531394,0,0,0,6566621,612360,7178981]
[0,"Village of Menands","010418703040","Village of Menands","Albany","05/31",3990,0,3.1,464248478,325000,1687729,776927,1972256,4436912,159305,0,0,0,4596217,0,4596217]
[0,"Town/Village of Green Island","010334500000","Town of Green Island","Albany","12/31",2620,0,0.8,140974052,0,120444,27644,175761,323849,1144,0,0,0,324993,0,324993]
[0,"Town/Village of Green Island","010434502040","Village of Green Island","Albany","05/31",2620,0,0.8,156917509,885000,1771980,674865,1622418,4069263,189272,385000,34917,419917,4678452,0,4678452]
[0,"Town/Village of Green Island"]
[0,"Town of Guilderland","010335500000","Town of Guilderland","Albany","12/31",35303,0,57.9,3752152566,27917000,12633549,4063036,7611628,24308212,3567542,1923000,1160298,3083298,30959053,1233638,32192690]
[0,"Village of Altamont","010435500120","Village of Altamont","Albany","05/31",1720,0,1.2,126640029,1260000,614258,161891,754769,1530918,282484,50000,56656,106656,1920058,0,1920058]
[0,"Town of Knox","010344300000","Town of Knox","Albany","12/31",2692,0,41.8,265450406,1139981,498429,178556,483563,1160548,959453,80000,30353,110353,2230354,1000,2231354]
[0,"Town of New Scotland","010358100000","Town of New Scotland","Albany","12/31",8648,0,57.5,972484595,2125914,1580857,659163,2645381,4885402,536343,164713,74321,239034,5660779,489,5661267]
[0,"Village of Voorheesville","010458105090","Village of Voorheesville","Albany","05/31",2789,0,2.1,238009756,3735000,467819,200593,683140,1351552,55746,150000,116005,266005,1673303,0,1673303]
[0,"Town of Rensselaerville","010370600000","Town of Rensselaerville","Albany","12/31",1843,0,61.5,260837670,810241,614040,332364,1111394,2057798,142236,45601,2029,47630,2247664,18478,2266142]
[0,"City of Watervliet","010260000000","City of Watervliet","Albany","12/31",10254,0,1.4,389563501,7199463,6153872,3134921,3207409,12496202,5956205,634500,297537,932037,19384444,1147128,20531572]
[0,"Town of Westerlo","010389000000","Town of Westerlo","Albany","12/31",3361,0,57.8,334238875,1180000,892992,374927,1102976,2370895,151825,89500,12216,101716,2624436,4785,2629221]
[0,"Rensselaer County","380100000000","County of Rensselaer","Rensselaer","12/31",159429,0,652.4,10505904197,172578257,73846413,48240174,153807225,275893811,22063721,6605009,7172797,13777806,311735339,2873269,314608608]
[0,"Village of Nassau","380456103330","Village of Nassau","Rensselaer","05/31",1133,0,0.7,69949308,181350,305797,53821,277517,637135,87249,51650,7247,58897,783281,30300,813581]
[0,"Village of Valley Falls","380467005020","Village of Valley Falls","Rensselaer","05/31",466,0,0.5,27333975,1880534,31556,2592,153753,187901,11272,83498,9102,92600,291773,4949,296722]
[0,"Town of Berlin","380306700000","Town of Berlin","Rensselaer","12/31",1880,0,59.6,169380954,0,296543,82109,354269,732921,87188,13801,0,13801,833911,0,833911]
[0,"Town of Brunswick","380309900000","Town of Brunswick","Rensselaer","12/31",11941,0,44.4,1013344648,2385000,1863011,680243,3418816,5962070,348661,155000,88166,243166,6553897,0,6553897]
[0,"Town of East Greenbush","380324900000","Town of East Greenbush","Rensselaer","12/31",16473,0,24,1592115009,8026820,5682056,2710658,6007086,14399800,14226,1205083,171384,1376467,15790493,0,15790493]
[0,"Town of Grafton","380333500000","Town of Grafton","Rensselaer","12/31",2130,0,44.7,200300759,436900,415969,126696,374493,917158,62855,53900,14811,68711,1048724,0,1048724]
[0,"Town of Hoosick","380339800000","Town of Hoosick","Rensselaer","12/31",6924,0,63,418388532,80000,607855,293792,865878,1767525,742854,80000,7534,87534,2597913,28593,2626506]
[0,"Village of Hoosick Falls","380439802380","Village of Hoosick Falls","Rensselaer","05/31",3501,0,1.6,152269985,14295272,921776,363542,1202102,2487420,2013859,326465,13850,340315,4841594,0,4841594]
[0,"Town of Nassau","380356100000","Town of Nassau","Rensselaer","12/31",4789,0,44.4,364096939,447934,575406,244107,1028009,1847522,231724,67766,9398,77163,2156409,201756,2358165]
[0,"Village of East Nassau","380456101435","Village of East Nassau","Rensselaer","05/31",587,0,4.9000000000000004,41915863,0,20500,2106,79954,102560,42346,0,0,0,144906,0,144906]
[0,"Town of North Greenbush","380359500000","Town of North Greenbush","Rensselaer","12/31",12075,0,18.600000000000001,935986053,21774000,3258476,1345950,3374330,7978757,2117895,1553000,614376,2167376,12264027,13049,12277076]
[0,"Town of Petersburgh","380365600000","Town of Petersburgh","Rensselaer","12/31",1525,0,41.6,121889374,242400,258707,84964,363284,706955,74105,23500,11621,35121,816181,10109,826290]
[0,"Town of Pittstown","380367000000","Town of Pittstown","Rensselaer","12/31",5735,0,61.6,380220315,16630,631605,273282,1125809,2030696,429463,23915,2389,26304,2486463,0,2486463]
[0,"Town of Poestenkill","380367600000","Town of Poestenkill","Rensselaer","12/31",4530,0,32.4,342159337,9629493,585049,218311,624332,1427692,9796725,97282,9241,106523,11330940,0,11330940]
[0,"City of Rensselaer","380247000000","City of Rensselaer","Rensselaer","07/31",9392,0,3.2,405901319,4592949,5303265,2702065,2976696,10982026,5206152,552247,200842,753088,16941267,177500,17118767]
[0,"Town of Sand Lake","380374100000","Town of Sand Lake","Rensselaer","12/31",8530,0,35.1,726584506,2411252,1469797,458202,1509810,3437809,1088584,55000,262269,317269,4843661,182960,5026621]
[0,"Town of Schaghticoke","380375200000","Town of Schaghticoke","Rensselaer","12/31",7679,0,49.8,582264982,5545750,900851,427630,1946995,3275476,280917,352950,44921,397871,3954264,34671,3988935]
[0,"Village of Schaghticoke","380475204460","Village of Schaghticoke","Rensselaer","05/31",592,0,0.8,43080391,0,78986,18157,167245,264388,502391,0,0,0,766779,30000,796779]
[0,"Town of Schodack","380375300000","Town of Schodack","Rensselaer","12/31",12794,0,61.9,1128496869,16469915,2999940,969406,2995418,6964765,1215375,1025092,391092,1416184,9596324,3722343,13318667]
[0,"Village of Castleton-on-Hudson","380475300790","Village of Castleton-On-Hudson","Rensselaer","05/31",1473,0,0.7,118313321,2136558,526096,173820,607814,1307730,1149319,109057,56395,165452,2622501,11933,2634434]
[0,"Town of Stephentown","380380400000","Town of Stephentown","Rensselaer","12/31",2903,0,57.9,258190053,0,"-","-","-","-","-","-","-","-","-","-","-"]
[0,"City of Troy","380257000000","City of Troy","Rensselaer","12/31",50129,0,10.4,1905426906,76568550,31650516,18675799,16081529,66407844,12878391,4459485,2822635,7282120,86568355,3672867,90241222]
[0,"Saratoga County","410100000000","County of Saratoga","Saratoga","12/31",219607,0,810,21886916706,79869000,68753381,41820436,147417081,257990898,26355697,2400000,2494027,4894027,289240623,21023925,310264548]
[0,"Village of Ballston Spa","410453400340","Village of Ballston Spa","Saratoga","05/31",5409,0,1.6,334011245,952705,1421576,628864,2144934,4195375,225288,301853,53043,354896,4775559,0,4775559]
[0,"Town of Ballston","410304900000","Town of Ballston","Saratoga","12/31",9776,0,29.6,952484335,3970500,1324236,550536,1945088,3819860,1095659,377500,130069,507569,5423088,0,5423088]
[0,"Town of Charlton","410314700000","Town of Charlton","Saratoga","12/31",4133,0,32.799999999999997,441650710,1853600,566966,179598,785425,1531989,234305,80450,67469,147919,1914213,0,1914213]
[0,"Town of Clifton Park","410317400000","Town of Clifton Park","Saratoga","12/31",36705,0,48.2,3896606465,12057491,6320893,3279495,9086978,18687366,3178195,576957,469538,1046495,22912056,3820295,26732351]
[0,"Town of Corinth","410320000000","Town of Corinth","Saratoga","12/31",6531,0,56.8,549529510,0,1332951,437423,1321527,3091902,1242637,0,0,0,4334538,0,4334538]
[0,"Village of Corinth","410420001150","Village of Corinth","Saratoga","05/31",2559,0,1.1000000000000001,240958385,5990000,786322,423314,2020106,3229742,721945,170000,289934,459934,4411620,488546,4900166]
[0,"Town of Day","410322000000","Town of Day","Saratoga","12/31",856,0,64.099999999999994,324648383,0,581614,228447,392040,1202101,576160,0,0,0,1778261,0,1778261]
[0,"Town of Edinburg","410325500000","Town of Edinburg","Saratoga","12/31",1214,0,60.2,409060172,0,508003,138797,426102,1072903,236221,0,0,0,1309124,50733,1359857]
[0,"Town of Galway","410331400000","Town of Galway","Saratoga","12/31",3545,0,43.8,428006969,632000,609925,145612,1003679,1759216,7447,105500,35121,140621,1907285,0,1907285]
[0,"Village of Galway","410431401900","Village of Galway","Saratoga","05/31",200,0,0.3,13207727,0,15727,970,29981,46678,0,0,0,0,46678,0,46678]
[0,"Town of Greenfield","410334400000","Town of Greenfield","Saratoga","12/31",7775,0,67.400000000000006,748080021,0,1158159,291490,1647491,3097140,488292,0,0,0,3585432,117505,3702937]
[0,"Town of Hadley","410335700000","Town of Hadley","Saratoga","12/31",2048,0,39.700000000000003,258437047,250000,801193,295707,744949,1841849,161550,43750,9497,53247,2056646,599001,2655648]
[0,"Town of Halfmoon","410336000000","Town of Halfmoon","Saratoga","12/31",21535,0,32.6,1953841698,44886577,3663378,1285527,5090428,10039333,1976009,2451465,1811220,4262685,16278028,202550,16480578]
[0,"Town of Malta","410350100000","Town of Malta","Saratoga","12/31",14765,0,27.9,1496744943,3220000,2244902,876963,4585053,7706918,3044027,125000,131008,256008,11006953,199933,11206886]
[0,"Village of Round Lake","410450104295","Village of Round Lake","Saratoga","05/31",623,0,1.1000000000000001,55288695,2108893,254445,87507,392288,734240,262799,199745,10096,209841,1206880,136950,1343830]
[0,"City of Mechanicville","410229000000","City of Mechanicville","Saratoga","12/31",5196,0,0.8,209372846,6555413,2080531,1138931,2579136,5798597,986075,307334,43641,350975,7135647,0,7135647]
[0,"Town of Milton","410353400000","Town of Milton","Saratoga","12/31",18575,0,35.700000000000003,1203300846,0,1787379,853165,1404052,4044596,445877,0,1049,1049,4491522,751445,5242967]
[0,"Town of Moreau","410354900000","Town of Moreau","Saratoga","12/31",14728,0,41.9,1039551342,3603707,1436293,702706,3629108,5768107,358765,128704,0,128704,6255576,70231,6325807]
[0,"Village of South Glens Falls","410454904730","Village of South Glens Falls","Saratoga","05/31",3518,0,1.4,222451938,0,946232,638495,1473193,3057920,122361,25000,859,25859,3206140,0,3206140]
[0,"Town of Northumberland","410360100000","Town of Northumberland","Saratoga","12/31",5087,0,32.299999999999997,356992179,130000,576528,196120,696332,1468980,647326,0,0,0,2116306,0,2116306]
[{"$f":"IF(C69<>C162,1,0)","v":0},"Town of Providence","410369300000","Town of Providence","Saratoga","12/31",1995,0,44,178879200,129960,410788,191962,343473,946223,325405,75510,6155,81665,1353293,0,1353293]
[0,"Town of Saratoga","410374700000","Town of Saratoga","Saratoga","12/31",5674,0,40.6,531289867,2955000,661500,199831,909771,1771101,362089,130000,125889,255889,2389079,120307,2509386]
[0,"Village of Schuylerville","410474704490","Village of Schuylerville","Saratoga","05/31",1386,0,0.5,74123420,3346489,299609,84728,926231,1310568,396900,208004,48744,256748,1964216,0,1964216]
[0,"Village of Victory Mills","410474705070","Village of Victory","Saratoga","05/31",605,0,0.5,0,284040,148038,47032,427862,622932,41951,77010,11071,88081,752964,28505,781469]
[0,"City of Saratoga Springs","410252000000","City of Saratoga Springs","Saratoga","12/31",26586,0,28.1,3792162425,37718743,19809905,10689370,9963529,40462804,8762796,1776316,1620332,3396648,52622248,1556766,54179014]
[0,"Town of Stillwater","410380700000","Town of Stillwater","Saratoga","12/31",8287,0,41.2,724498532,4282819,1454926,552214,2898921,4906061,1288289,1530462,95583,1626045,7820396,572274,8392669]
[0,"Village of Stillwater","410480704820","Village of Stillwater","Saratoga","05/31",1738,0,1.3,93175850,1691500,263212,113893,448764,825869,469045,249001,40746,289747,1584662,64648,1649310]
[0,"Town of Waterford","410387500000","Town of Waterford","Saratoga","12/31",8423,0,6.6,597504494,8739124,2144045,858468,2936008,5938521,314965,574047,367844,941891,7195377,819076,8014453]
[0,"Village of Waterford","410487505180","Village of Waterford","Saratoga","05/31",1990,0,0.3,61340788,204500,83810,9988,803008,896806,222894,131000,11785,142785,1262486,0,1262486]
[0,"Town of Wilton","410391700000","Town of Wilton","Saratoga","12/31",16173,0,35.799999999999997,1821626122,505000,2523380,913753,2307879,5745012,525238,155000,17475,172475,6442725,25000,6467725]
[0,"Schenectady County","420100000000","County of Schenectady","Schenectady","12/31",154727,0,204.5,10444791771,57714665,66952600,34644415,169323908,270920923,11418850,6300500,2195429,8495929,290835702,1682882,292518584]
[0,"Town of Duanesburg","420324200000","Town of Duanesburg","Schenectady","12/31",6122,0,70.8,585414892,6985657,711266,353832,1166381,2231479,230472,297200,5871,303071,2765023,1000,2766023]
[0,"Village of Delanson","420424201250","Village of Delanson","Schenectady","05/31",377,0,0.6,23167654,443700,49757,6203,169937,225897,8089,20899,16357,37256,271242,0,271242]
[0,"Town of Glenville","420333100000","Town of Glenville","Schenectady","12/31",29480,0,49.2,2328975445,21764820,5719513,2826267,4122278,12668058,775864,1632240,758761,2391001,15834923,0,15834923]
[0,"Village of Scotia","420433104500","Village of Scotia","Schenectady","05/31",7729,0,1.7,426783975,1216280,3040157,1332814,4209682,8582653,1046844,260910,62886,323796,9953293,213331,10166624]
[0,"Town of Niskayuna","420358700000","Town of Niskayuna","Schenectady","12/31",21781,0,14.2,2423130612,10374489,8181862,3454495,5195725,16832082,3336555,1276175,251070,1527246,21695882,543980,22239862]
[0,"Town of Princetown","420369200000","Town of Princetown","Schenectady","12/31",2115,0,23.9,202235418,2709700,320091,59108,549606,928805,350123,36500,136399,172899,1451828,77246,1529074]
[0,"Town of Rotterdam","420372600000","Town of Rotterdam","Schenectady","12/31",29094,0,35.700000000000003,2547009941,10110000,9088904,4763104,5328792,19180801,2359882,1127750,355735,1483485,23024167,51677,23075844]
[0,"City of Schenectady","420253000000","City of Schenectady","Schenectady","12/31",66135,0,10.8,2417858243,95999672,37040275,24262511,25098950,86401736,30346354,5997202,2852313,8849515,125597605,406000,126003605]
[0,"Capital District"]

{"sheet":"Data-MunFin","index":3,"n_rows":85,"n_cols":26,"rows_kept":85,"cut":false,"hidden":false,"merged":[[0,0,1,0]]}
[{"$f":"\"FY \"&RIGHT('Muni-L1'!B1,4)&\" Government Revenue & Expenditure in $1,000s\"","v":"FY 2010 Government Revenue & Expenditure in $1,000s"},"Revenue",null,null,null,null,null,null,null,null,"Expense"]
[null,"Property Tax","   Sales Tax","   Other Non-Property Tax","State Aid","Federal Aid","Other Intergovernmental","Charges for Services","Other Local (fees, etc.)","Total Revenue","General Government","Public Safety","Health","Transportation","Utilities","Community Services","Economic Assistance","Employee Benefits","Debt Service","Education","Total Expense","Excess of Revenue Over Expenditure","Other Sources","Other Uses","Rev Check","Exp Check"]
["Albany County",{"$f":"'Muni-L1'!L3+'Muni-L1'!M3","v":74469254},{"$f":"'Muni-L1'!N3","v":228951684},{"$f":"'Muni-L1'!O3","v":4749863},{"$f":"'Muni-L1'!U3","v":74524039},{"$f":"'Muni-L1'!V3","v":82382833},{"$f":"'Muni-L1'!Q3","v":22394261},{"$f":"'Muni-L1'!P3","v":65133973},{"$f":"'Muni-L1'!R3+'Muni-L1'!S3","v":19998102},{"$f":"'Muni-L1'!Z3","v":662386743},{"$f":"'Muni-L1'!AA3","v":146311349},{"$f":"'Muni-L1'!AC3","v":59369420},{"$f":"'Muni-L1'!AD3","v":33647998},{"$f":"'Muni-L1'!AE3","v":26142803},{"$f":"'Muni-L1'!AJ3+'Muni-L1'!AK3","v":7677302},{"$f":"'Muni-L1'!AF3+'Muni-L1'!AH3+'Muni-L1'!AI3","v":215843790},{"$f":"'Muni-L1'!AG3","v":1525331},{"$f":"'Muni-L1'!AL3","v":68512583},{"$f":"'Muni-L1'!AM3","v":22135776},{"$f":"'Muni-L1'!AB3","v":23588055},{"$f":"'Muni-L1'!AP3","v":651178644},{"$f":"J3-U3","v":11208099},{"$f":"'Muni-L1'!X3+'Muni-L1'!Y3","v":89782736},{"$f":"'Muni-L1'!AO3","v":46424236},{"$f":"J3-SUM(B3:I3)-W3","v":-2},{"$f":"U3-SUM(K3:T3)-X3","v":1}]
["City of Albany",{"$f":"'Muni-L1'!L4+'Muni-L1'!M4","v":79320706},{"$f":"'Muni-L1'!N4","v":30350525},{"$f":"'Muni-L1'!O4","v":1527548},{"$f":"'Muni-L1'!U4","v":21688863},{"$f":"'Muni-L1'!V4","v":11745596},{"$f":"'Muni-L1'!Q4","v":1027889},{"$f":"'Muni-L1'!P4","v":15681666},{"$f":"'Muni-L1'!R4+'Muni-L1'!S4","v":12262687},{"$f":"'Muni-L1'!Z4","v":174715480},{"$f":"'Muni-L1'!AA4","v":22113971},{"$f":"'Muni-L1'!AC4","v":57732938},{"$f":"'Muni-L1'!AD4","v":208730},{"$f":"'Muni-L1'!AE4","v":18605086},{"$f":"'Muni-L1'!AJ4+'Muni-L1'!AK4","v":13924849},{"$f":"'Muni-L1'!AF4+'Muni-L1'!AH4+'Muni-L1'!AI4","v":10670807},{"$f":"'Muni-L1'!AG4","v":0},{"$f":"'Muni-L1'!AL4","v":48656526},{"$f":"'Muni-L1'!AM4","v":16725695},{"$f":"'Muni-L1'!AB4","v":0},{"$f":"'Muni-L1'!AP4","v":189078602},{"$f":"J4-U4","v":-14363122},{"$f":"'Muni-L1'!X4+'Muni-L1'!Y4","v":1110000},{"$f":"'Muni-L1'!AO4","v":440000},0,0]
["Town of Berne",{"$f":"'Muni-L1'!L5+'Muni-L1'!M5","v":1165133},{"$f":"'Muni-L1'!N5","v":888183},{"$f":"'Muni-L1'!O5","v":14058},{"$f":"'Muni-L1'!U5","v":347544},{"$f":"'Muni-L1'!V5","v":0},{"$f":"'Muni-L1'!Q5","v":0},{"$f":"'Muni-L1'!P5","v":37542},{"$f":"'Muni-L1'!R5+'Muni-L1'!S5","v":50013},{"$f":"'Muni-L1'!Z5","v":2590700},{"$f":"'Muni-L1'!AA5","v":358567},{"$f":"'Muni-L1'!AC5","v":510789},{"$f":"'Muni-L1'!AD5","v":1300},{"$f":"'Muni-L1'!AE5","v":989203},{"$f":"'Muni-L1'!AJ5+'Muni-L1'!AK5","v":108829},{"$f":"'Muni-L1'!AF5+'Muni-L1'!AH5+'Muni-L1'!AI5","v":75861},{"$f":"'Muni-L1'!AG5","v":0},{"$f":"'Muni-L1'!AL5","v":191120},{"$f":"'Muni-L1'!AM5","v":98152},{"$f":"'Muni-L1'!AB5","v":0},{"$f":"'Muni-L1'!AP5","v":2333820},256880,{"$f":"'Muni-L1'!X5+'Muni-L1'!Y5","v":88227},{"$f":"'Muni-L1'!AO5","v":0},0,-1]
["Town of Bethlehem",{"$f":"'Muni-L1'!L6+'Muni-L1'!M6","v":12778196},{"$f":"'Muni-L1'!N6","v":9444723},{"$f":"'Muni-L1'!O6","v":707304},{"$f":"'Muni-L1'!U6","v":1432107},{"$f":"'Muni-L1'!V6","v":897379},{"$f":"'Muni-L1'!Q6","v":40626},{"$f":"'Muni-L1'!P6","v":10683517},{"$f":"'Muni-L1'!R6+'Muni-L1'!S6","v":1444225},{"$f":"'Muni-L1'!Z6","v":37732077},{"$f":"'Muni-L1'!AA6","v":3885268},{"$f":"'Muni-L1'!AC6","v":7144312},{"$f":"'Muni-L1'!AD6","v":3965},{"$f":"'Muni-L1'!AE6","v":5239059},{"$f":"'Muni-L1'!AJ6+'Muni-L1'!AK6","v":11617055},{"$f":"'Muni-L1'!AF6+'Muni-L1'!AH6+'Muni-L1'!AI6","v":2874903},{"$f":"'Muni-L1'!AG6","v":0},{"$f":"'Muni-L1'!AL6","v":5777893},{"$f":"'Muni-L1'!AM6","v":2044680},{"$f":"'Muni-L1'!AB6","v":1192},{"$f":"'Muni-L1'!AP6","v":38849327},-1117250,{"$f":"'Muni-L1'!X6+'Muni-L1'!Y6","v":304000},{"$f":"'Muni-L1'!AO6","v":261000},0,0]
["Town of Coeymans",{"$f":"'Muni-L1'!L7+'Muni-L1'!M7","v":1749516},{"$f":"'Muni-L1'!N7","v":1785256},{"$f":"'Muni-L1'!O7","v":13549},{"$f":"'Muni-L1'!U7","v":242142},{"$f":"'Muni-L1'!V7","v":470895},{"$f":"'Muni-L1'!Q7","v":436915},{"$f":"'Muni-L1'!P7","v":316534},{"$f":"'Muni-L1'!R7+'Muni-L1'!S7","v":291759},{"$f":"'Muni-L1'!Z7","v":7098191},{"$f":"'Muni-L1'!AA7","v":879875},{"$f":"'Muni-L1'!AC7","v":1226159},{"$f":"'Muni-L1'!AD7","v":165968},{"$f":"'Muni-L1'!AE7","v":1274456},{"$f":"'Muni-L1'!AJ7+'Muni-L1'!AK7","v":438386},{"$f":"'Muni-L1'!AF7+'Muni-L1'!AH7+'Muni-L1'!AI7","v":789910},{"$f":"'Muni-L1'!AG7","v":844},{"$f":"'Muni-L1'!AL7","v":736272},{"$f":"'Muni-L1'!AM7","v":5189},{"$f":"'Muni-L1'!AB7","v":0},{"$f":"'Muni-L1'!AP7","v":7308685},{"$f":"J7-U7","v":-210494},{"$f":"'Muni-L1'!X7+'Muni-L1'!Y7","v":1791626},{"$f":"'Muni-L1'!AO7","v":1791626},{"$f":"J7-SUM(B7:I7)-W7","v":-1},{"$f":"U7-SUM(K7:T7)-X7","v":0}]
["Village of Ravena",{"$f":"'Muni-L1'!L8+'Muni-L1'!M8","v":766837},{"$f":"'Muni-L1'!N8","v":715669},{"$f":"'Muni-L1'!O8","v":0},{"$f":"'Muni-L1'!U8","v":81777},{"$f":"'Muni-L1'!V8","v":54586},{"$f":"'Muni-L1'!Q8","v":0},{"$f":"'Muni-L1'!P8","v":890280},{"$f":"'Muni-L1'!R8+'Muni-L1'!S8","v":208904},{"$f":"'Muni-L1'!Z8","v":2828053},{"$f":"'Muni-L1'!AA8","v":742493},{"$f":"'Muni-L1'!AC8","v":138496},{"$f":"'Muni-L1'!AD8","v":512},{"$f":"'Muni-L1'!AE8","v":289166},{"$f":"'Muni-L1'!AJ8+'Muni-L1'!AK8","v":580167},{"$f":"'Muni-L1'!AF8+'Muni-L1'!AH8+'Muni-L1'!AI8","v":92978},{"$f":"'Muni-L1'!AG8","v":1304},{"$f":"'Muni-L1'!AL8","v":481656},{"$f":"'Muni-L1'!AM8","v":195701},{"$f":"'Muni-L1'!AB8","v":0},{"$f":"'Muni-L1'!AP8","v":2632473},195580,{"$f":"'Muni-L1'!X8+'Muni-L1'!Y8","v":110000},{"$f":"'Muni-L1'!AO8","v":110000},0,0]
["City of Cohoes",{"$f":"'Muni-L1'!L9+'Muni-L1'!M9","v":7372391},{"$f":"'Muni-L1'!N9","v":4886563},{"$f":"'Muni-L1'!O9","v":335351},{"$f":"'Muni-L1'!U9","v":3717282},{"$f":"'Muni-L1'!V9","v":5979887},{"$f":"'Muni-L1'!Q9","v":197928},{"$f":"'Muni-L1'!P9","v":4382652},{"$f":"'Muni-L1'!R9+'Muni-L1'!S9","v":759610},{"$f":"'Muni-L1'!Z9","v":27898691},{"$f":"'Muni-L1'!AA9","v":2631834},{"$f":"'Muni-L1'!AC9","v":6982179},{"$f":"'Muni-L1'!AD9","v":0},{"$f":"'Muni-L1'!AE9","v":6231996},{"$f":"'Muni-L1'!AJ9+'Muni-L1'!AK9","v":3113524},{"$f":"'Muni-L1'!AF9+'Muni-L1'!AH9+'Muni-L1'!AI9","v":1831277},{"$f":"'Muni-L1'!AG9","v":173947},{"$f":"'Muni-L1'!AL9","v":4588842},{"$f":"'Muni-L1'!AM9","v":1806327},{"$f":"'Muni-L1'!AB9","v":0},{"$f":"'Muni-L1'!AP9","v":27626953},271738,{"$f":"'Muni-L1'!X9+'Muni-L1'!Y9","v":267027},{"$f":"'Muni-L1'!AO9","v":267027},0,0]
["Town of Colonie",{"$f":"'Muni-L1'!L10+'Muni-L1'!M10","v":31071215},{"$f":"'Muni-L1'!N10","v":19446154},{"$f":"'Muni-L1'!O10","v":0},{"$f":"'Muni-L1'!U10","v":3912479},{"$f":"'Muni-L1'!V10","v":6767989},{"$f":"'Muni-L1'!Q10","v":134889},{"$f":"'Muni-L1'!P10","v":26810938},{"$f":"'Muni-L1'!R10+'Muni-L1'!S10","v":10236760},{"$f":"'Muni-L1'!Z10","v":102022511},{"$f":"'Muni-L1'!AA10","v":19791192},{"$f":"'Muni-L1'!AC10","v":23554456},{"$f":"'Muni-L1'!AD10","v":62563},{"$f":"'Muni-L1'!AE10","v":9686674},{"$f":"'Muni-L1'!AJ10+'Muni-L1'!AK10","v":16313513},{"$f":"'Muni-L1'!AF10+'Muni-L1'!AH10+'Muni-L1'!AI10","v":10811160},{"$f":"'Muni-L1'!AG10","v":893013},{"$f":"'Muni-L1'!AL10","v":17853505},{"$f":"'Muni-L1'!AM10","v":6791305},{"$f":"'Muni-L1'!AB10","v":0},{"$f":"'Muni-L1'!AP10","v":108633381},-6610870,{"$f":"'Muni-L1'!X10+'Muni-L1'!Y10","v":3642087},{"$f":"'Muni-L1'!AO10","v":2876000},0,0]
["Village of Colonie",{"$f":"'Muni-L1'!L11+'Muni-L1'!M11","v":1201129},{"$f":"'Muni-L1'!N11","v":2326038},{"$f":"'Muni-L1'!O11","v":126683},{"$f":"'Muni-L1'!U11","v":187683},{"$f":"'Muni-L1'!V11","v":115892},{"$f":"'Muni-L1'!Q11","v":0},{"$f":"'Muni-L1'!P11","v":2827590},{"$f":"'Muni-L1'!R11+'Muni-L1'!S11","v":145701},{"$f":"'Muni-L1'!Z11","v":7543076},{"$f":"'Muni-L1'!AA11","v":708727},{"$f":"'Muni-L1'!AC11","v":334935},{"$f":"'Muni-L1'!AD11","v":10583},{"$f":"'Muni-L1'!AE11","v":1320687},{"$f":"'Muni-L1'!AJ11+'Muni-L1'!AK11","v":2480895},{"$f":"'Muni-L1'!AF11+'Muni-L1'!AH11+'Muni-L1'!AI11","v":966622},{"$f":"'Muni-L1'!AG11","v":25994},{"$f":"'Muni-L1'!AL11","v":718178},{"$f":"'Muni-L1'!AM11","v":0},{"$f":"'Muni-L1'!AB11","v":0},{"$f":"'Muni-L1'!AP11","v":7178981},364095,{"$f":"'Muni-L1'!X11+'Muni-L1'!Y11","v":612360},{"$f":"'Muni-L1'!AO11","v":612360},0,0]
["Village of Menands",{"$f":"'Muni-L1'!L12+'Muni-L1'!M12","v":1800229},{"$f":"'Muni-L1'!N12","v":1288251},{"$f":"'Muni-L1'!O12","v":81700},{"$f":"'Muni-L1'!U12","v":131927},{"$f":"'Muni-L1'!V12","v":25848},{"$f":"'Muni-L1'!Q12","v":181217},{"$f":"'Muni-L1'!P12","v":1307349},{"$f":"'Muni-L1'!R12+'Muni-L1'!S12","v":329420},{"$f":"'Muni-L1'!Z12","v":5145941},{"$f":"'Muni-L1'!AA12","v":630602},{"$f":"'Muni-L1'!AC12","v":1176266},{"$f":"'Muni-L1'!AD12","v":0},{"$f":"'Muni-L1'!AE12","v":579255},{"$f":"'Muni-L1'!AJ12+'Muni-L1'!AK12","v":1346742},{"$f":"'Muni-L1'!AF12+'Muni-L1'!AH12+'Muni-L1'!AI12","v":81949},{"$f":"'Muni-L1'!AG12","v":4476},{"$f":"'Muni-L1'!AL12","v":776927},{"$f":"'Muni-L1'!AM12","v":0},{"$f":"'Muni-L1'!AB12","v":0},{"$f":"'Muni-L1'!AP12","v":4596217},549724,{"$f":"'Muni-L1'!X12+'Muni-L1'!Y12","v":0},{"$f":"'Muni-L1'!AO12","v":0},0,0]
["Town/Village of Green Island",{"$f":"'Muni-L1'!L15+'Muni-L1'!M15","v":2102833},{"$f":"'Muni-L1'!N15","v":657742},{"$f":"'Muni-L1'!O15","v":42898},{"$f":"'Muni-L1'!U15","v":175303},{"$f":"'Muni-L1'!V15","v":381400},{"$f":"'Muni-L1'!Q15","v":414760},{"$f":"'Muni-L1'!P15","v":1125891},{"$f":"'Muni-L1'!R15+'Muni-L1'!S15","v":419564},{"$f":"'Muni-L1'!Z15","v":5320391},{"$f":"'Muni-L1'!AA15","v":842699},{"$f":"'Muni-L1'!AC15","v":1122798},{"$f":"'Muni-L1'!AD15","v":0},{"$f":"'Muni-L1'!AE15","v":279140},{"$f":"'Muni-L1'!AJ15+'Muni-L1'!AK15","v":1137926},{"$f":"'Muni-L1'!AF15+'Muni-L1'!AH15+'Muni-L1'!AI15","v":498456},{"$f":"'Muni-L1'!AG15","v":0},{"$f":"'Muni-L1'!AL15","v":702509},{"$f":"'Muni-L1'!AM15","v":419917},{"$f":"'Muni-L1'!AB15","v":0},{"$f":"'Muni-L1'!AP15","v":5003445},316946,{"$f":"'Muni-L1'!X15+'Muni-L1'!Y15","v":0},{"$f":"'Muni-L1'!AO15","v":0},0,0]
["Town of Guilderland",{"$f":"'Muni-L1'!L16+'Muni-L1'!M16","v":8364308},{"$f":"'Muni-L1'!N16","v":9747640},{"$f":"'Muni-L1'!O16","v":519166},{"$f":"'Muni-L1'!U16","v":1624711},{"$f":"'Muni-L1'!V16","v":586027},{"$f":"'Muni-L1'!Q16","v":164870},{"$f":"'Muni-L1'!P16","v":7240561},{"$f":"'Muni-L1'!R16+'Muni-L1'!S16","v":1416140},{"$f":"'Muni-L1'!Z16","v":30897060},{"$f":"'Muni-L1'!AA16","v":2592473},{"$f":"'Muni-L1'!AC16","v":6347532},{"$f":"'Muni-L1'!AD16","v":342933},{"$f":"'Muni-L1'!AE16","v":5967413},{"$f":"'Muni-L1'!AJ16+'Muni-L1'!AK16","v":5921446},{"$f":"'Muni-L1'!AF16+'Muni-L1'!AH16+'Muni-L1'!AI16","v":1992058},{"$f":"'Muni-L1'!AG16","v":648865},{"$f":"'Muni-L1'!AL16","v":4063036},{"$f":"'Muni-L1'!AM16","v":3083298},{"$f":"'Muni-L1'!AB16","v":0},{"$f":"'Muni-L1'!AP16","v":32192690},-1295630,{"$f":"'Muni-L1'!X16+'Muni-L1'!Y16","v":1233638},{"$f":"'Muni-L1'!AO16","v":1233638},{"$f":"J14-SUM(B14:I14)-W14","v":-1},{"$f":"U14-SUM(K14:T14)-X14","v":-2}]
["Village of Altamont",{"$f":"'Muni-L1'!L17+'Muni-L1'!M17","v":275236},{"$f":"'Muni-L1'!N17","v":533455},{"$f":"'Muni-L1'!O17","v":32127},{"$f":"'Muni-L1'!U17","v":72482},{"$f":"'Muni-L1'!V17","v":10452},{"$f":"'Muni-L1'!Q17","v":97928},{"$f":"'Muni-L1'!P17","v":744767},{"$f":"'Muni-L1'!R17+'Muni-L1'!S17","v":173776},{"$f":"'Muni-L1'!Z17","v":1940223},{"$f":"'Muni-L1'!AA17","v":267391},{"$f":"'Muni-L1'!AC17","v":417249},{"$f":"'Muni-L1'!AD17","v":0},{"$f":"'Muni-L1'!AE17","v":232923},{"$f":"'Muni-L1'!AJ17+'Muni-L1'!AK17","v":509141},{"$f":"'Muni-L1'!AF17+'Muni-L1'!AH17+'Muni-L1'!AI17","v":224807},{"$f":"'Muni-L1'!AG17","v":0},{"$f":"'Muni-L1'!AL17","v":161891},{"$f":"'Muni-L1'!AM17","v":106656},{"$f":"'Muni-L1'!AB17","v":0},{"$f":"'Muni-L1'!AP17","v":1920058},20165,{"$f":"'Muni-L1'!X17+'Muni-L1'!Y17","v":0},{"$f":"'Muni-L1'!AO17","v":0},0,0]
["Town of Knox",{"$f":"'Muni-L1'!L18+'Muni-L1'!M18","v":244907},{"$f":"'Muni-L1'!N18","v":798626},{"$f":"'Muni-L1'!O18","v":30657},{"$f":"'Muni-L1'!U18","v":115187},{"$f":"'Muni-L1'!V18","v":0},{"$f":"'Muni-L1'!Q18","v":0},{"$f":"'Muni-L1'!P18","v":6583},{"$f":"'Muni-L1'!R18+'Muni-L1'!S18","v":63935},{"$f":"'Muni-L1'!Z18","v":1340894},{"$f":"'Muni-L1'!AA18","v":1162541},{"$f":"'Muni-L1'!AC18","v":102493},{"$f":"'Muni-L1'!AD18","v":1232},{"$f":"'Muni-L1'!AE18","v":557833},{"$f":"'Muni-L1'!AJ18+'Muni-L1'!AK18","v":95485},{"$f":"'Muni-L1'!AF18+'Muni-L1'!AH18+'Muni-L1'!AI18","v":21861},{"$f":"'Muni-L1'!AG18","v":0},{"$f":"'Muni-L1'!AL18","v":178556},{"$f":"'Muni-L1'!AM18","v":110353},{"$f":"'Muni-L1'!AB18","v":0},{"$f":"'Muni-L1'!AP18","v":2231354},-890460,{"$f":"'Muni-L1'!X18+'Muni-L1'!Y18","v":81000},{"$f":"'Muni-L1'!AO18","v":1000},-1,0]
["Town of New Scotland",{"$f":"'Muni-L1'!L19+'Muni-L1'!M19","v":2314314},{"$f":"'Muni-L1'!N19","v":1765304},{"$f":"'Muni-L1'!O19","v":33096},{"$f":"'Muni-L1'!U19","v":403825},{"$f":"'Muni-L1'!V19","v":126169},{"$f":"'Muni-L1'!Q19","v":0},{"$f":"'Muni-L1'!P19","v":410890},{"$f":"'Muni-L1'!R19+'Muni-L1'!S19","v":284822},{"$f":"'Muni-L1'!Z19","v":5387709},{"$f":"'Muni-L1'!AA19","v":783786},{"$f":"'Muni-L1'!AC19","v":985069},{"$f":"'Muni-L1'!AD19","v":1428},{"$f":"'Muni-L1'!AE19","v":1829789},{"$f":"'Muni-L1'!AJ19+'Muni-L1'!AK19","v":908475},{"$f":"'Muni-L1'!AF19+'Muni-L1'!AH19+'Muni-L1'!AI19","v":254034},{"$f":"'Muni-L1'!AG19","v":0},{"$f":"'Muni-L1'!AL19","v":659163},{"$f":"'Muni-L1'!AM19","v":239034},{"$f":"'Muni-L1'!AB19","v":0},{"$f":"'Muni-L1'!AP19","v":5661267},-273558,{"$f":"'Muni-L1'!X19+'Muni-L1'!Y19","v":49289},{"$f":"'Muni-L1'!AO19","v":489},0,0]
["Village of Voorheesville",{"$f":"'Muni-L1'!L20+'Muni-L1'!M20","v":260687},{"$f":"'Muni-L1'!N20","v":855366},{"$f":"'Muni-L1'!O20","v":53546},{"$f":"'Muni-L1'!U20","v":104494},{"$f":"'Muni-L1'!V20","v":2550},{"$f":"'Muni-L1'!Q20","v":0},{"$f":"'Muni-L1'!P20","v":583967},{"$f":"'Muni-L1'!R20+'Muni-L1'!S20","v":46654},{"$f":"'Muni-L1'!Z20","v":1907264},{"$f":"'Muni-L1'!AA20","v":303841},{"$f":"'Muni-L1'!AC20","v":70442},{"$f":"'Muni-L1'!AD20","v":750},{"$f":"'Muni-L1'!AE20","v":424202},{"$f":"'Muni-L1'!AJ20+'Muni-L1'!AK20","v":384830},{"$f":"'Muni-L1'!AF20+'Muni-L1'!AH20+'Muni-L1'!AI20","v":22640},{"$f":"'Muni-L1'!AG20","v":0},{"$f":"'Muni-L1'!AL20","v":200593},{"$f":"'Muni-L1'!AM20","v":266005},{"$f":"'Muni-L1'!AB20","v":0},{"$f":"'Muni-L1'!AP20","v":1673303},233961,{"$f":"'Muni-L1'!X20+'Muni-L1'!Y20","v":0},{"$f":"'Muni-L1'!AO20","v":0},0,0]
["Town of Rensselaerville",{"$f":"'Muni-L1'!L21+'Muni-L1'!M21","v":1199659},{"$f":"'Muni-L1'!N21","v":501520},{"$f":"'Muni-L1'!O21","v":2890},{"$f":"'Muni-L1'!U21","v":169482},{"$f":"'Muni-L1'!V21","v":0},{"$f":"'Muni-L1'!Q21","v":0},{"$f":"'Muni-L1'!P21","v":115047},{"$f":"'Muni-L1'!R21+'Muni-L1'!S21","v":37857},{"$f":"'Muni-L1'!Z21","v":2061733},{"$f":"'Muni-L1'!AA21","v":329075},{"$f":"'Muni-L1'!AC21","v":235702},{"$f":"'Muni-L1'!AD21","v":40459},{"$f":"'Muni-L1'!AE21","v":1063367},{"$f":"'Muni-L1'!AJ21+'Muni-L1'!AK21","v":114860},{"$f":"'Muni-L1'!AF21+'Muni-L1'!AH21+'Muni-L1'!AI21","v":84207},{"$f":"'Muni-L1'!AG21","v":0},{"$f":"'Muni-L1'!AL21","v":332364},{"$f":"'Muni-L1'!AM21","v":47630},{"$f":"'Muni-L1'!AB21","v":0},{"$f":"'Muni-L1'!AP21","v":2266142},-204409,{"$f":"'Muni-L1'!X21+'Muni-L1'!Y21","v":35278},{"$f":"'Muni-L1'!AO21","v":18478},0,0]
["City of Watervliet",{"$f":"'Muni-L1'!L22+'Muni-L1'!M22","v":3970313},{"$f":"'Muni-L1'!N22","v":3241101},{"$f":"'Muni-L1'!O22","v":162368},{"$f":"'Muni-L1'!U22","v":6434433},{"$f":"'Muni-L1'!V22","v":246864},{"$f":"'Muni-L1'!Q22","v":331778},{"$f":"'Muni-L1'!P22","v":4552059},{"$f":"'Muni-L1'!R22+'Muni-L1'!S22","v":212282},{"$f":"'Muni-L1'!Z22","v":20367826},{"$f":"'Muni-L1'!AA22","v":1344622},{"$f":"'Muni-L1'!AC22","v":4556418},{"$f":"'Muni-L1'!AD22","v":32634},{"$f":"'Muni-L1'!AE22","v":5649324},{"$f":"'Muni-L1'!AJ22+'Muni-L1'!AK22","v":2845095},{"$f":"'Muni-L1'!AF22+'Muni-L1'!AH22+'Muni-L1'!AI22","v":290288},{"$f":"'Muni-L1'!AG22","v":599105},{"$f":"'Muni-L1'!AL22","v":3134921},{"$f":"'Muni-L1'!AM22","v":932037},{"$f":"'Muni-L1'!AB22","v":0},{"$f":"'Muni-L1'!AP22","v":20531572},-163746,{"$f":"'Muni-L1'!X22+'Muni-L1'!Y22","v":1216628},{"$f":"'Muni-L1'!AO22","v":1147128},0,0]
["Town of Westerlo",{"$f":"'Muni-L1'!L23+'Muni-L1'!M23","v":998611},{"$f":"'Muni-L1'!N23","v":1045726},{"$f":"'Muni-L1'!O23","v":8895},{"$f":"'Muni-L1'!U23","v":234381},{"$f":"'Muni-L1'!V23","v":0},{"$f":"'Muni-L1'!Q23","v":0},{"$f":"'Muni-L1'!P23","v":104633},{"$f":"'Muni-L1'!R23+'Muni-L1'!S23","v":39073},{"$f":"'Muni-L1'!Z23","v":2436104},{"$f":"'Muni-L1'!AA23","v":622015},{"$f":"'Muni-L1'!AC23","v":285304},{"$f":"'Muni-L1'!AD23","v":0},{"$f":"'Muni-L1'!AE23","v":778664},{"$f":"'Muni-L1'!AJ23+'Muni-L1'!AK23","v":231928},{"$f":"'Muni-L1'!AF23+'Muni-L1'!AH23+'Muni-L1'!AI23","v":229882},{"$f":"'Muni-L1'!AG23","v":0},{"$f":"'Muni-L1'!AL23","v":374927},{"$f":"'Muni-L1'!AM23","v":101716},{"$f":"'Muni-L1'!AB23","v":0},{"$f":"'Muni-L1'!AP23","v":2629221},-193117,{"$f":"'Muni-L1'!X23+'Muni-L1'!Y23","v":4785},{"$f":"'Muni-L1'!AO23","v":4785},0,0]
["Rensselaer County",{"$f":"'Muni-L1'!L24+'Muni-L1'!M24","v":60081172},{"$f":"'Muni-L1'!N24","v":69300351},{"$f":"'Muni-L1'!O24","v":2142969},{"$f":"'Muni-L1'!U24","v":45932941},{"$f":"'Muni-L1'!V24","v":27210705},{"$f":"'Muni-L1'!Q24","v":18250491},{"$f":"'Muni-L1'!P24","v":56268683},{"$f":"'Muni-L1'!R24+'Muni-L1'!S24","v":25495050},{"$f":"'Muni-L1'!Z24","v":321066250},{"$f":"'Muni-L1'!AA24","v":46614760},{"$f":"'Muni-L1'!AC24","v":29261288},{"$f":"'Muni-L1'!AD24","v":44221883},{"$f":"'Muni-L1'!AE24","v":9468366},{"$f":"'Muni-L1'!AJ24+'Muni-L1'!AK24","v":3590424},{"$f":"'Muni-L1'!AF24+'Muni-L1'!AH24+'Muni-L1'!AI24","v":87706146},{"$f":"'Muni-L1'!AG24","v":889366},{"$f":"'Muni-L1'!AL24","v":48240174},{"$f":"'Muni-L1'!AM24","v":13777806},{"$f":"'Muni-L1'!AB24","v":27965128},{"$f":"'Muni-L1'!AP24","v":314608608},6457642,{"$f":"'Muni-L1'!X24+'Muni-L1'!Y24","v":16383887},{"$f":"'Muni-L1'!AO24","v":2873269},1,-2]
["Village of Nassau",{"$f":"'Muni-L1'!L25+'Muni-L1'!M25","v":345314},{"$f":"'Muni-L1'!N25","v":63338},{"$f":"'Muni-L1'!O25","v":15538},{"$f":"'Muni-L1'!U25","v":73182},{"$f":"'Muni-L1'!V25","v":6334},{"$f":"'Muni-L1'!Q25","v":0},{"$f":"'Muni-L1'!P25","v":249726},{"$f":"'Muni-L1'!R25+'Muni-L1'!S25","v":47234},{"$f":"'Muni-L1'!Z25","v":865566},{"$f":"'Muni-L1'!AA25","v":169761},{"$f":"'Muni-L1'!AC25","v":159086},{"$f":"'Muni-L1'!AD25","v":0},{"$f":"'Muni-L1'!AE25","v":123804},{"$f":"'Muni-L1'!AJ25+'Muni-L1'!AK25","v":213124},{"$f":"'Muni-L1'!AF25+'Muni-L1'!AH25+'Muni-L1'!AI25","v":4788},{"$f":"'Muni-L1'!AG25","v":0},{"$f":"'Muni-L1'!AL25","v":53821},{"$f":"'Muni-L1'!AM25","v":58897},{"$f":"'Muni-L1'!AB25","v":0},{"$f":"'Muni-L1'!AP25","v":813581},51985,{"$f":"'Muni-L1'!X25+'Muni-L1'!Y25","v":64900},{"$f":"'Muni-L1'!AO25","v":30300},0,0]
["Village of Valley Falls",{"$f":"'Muni-L1'!L26+'Muni-L1'!M26","v":50710},{"$f":"'Muni-L1'!N26","v":29737},{"$f":"'Muni-L1'!O26","v":4151},{"$f":"'Muni-L1'!U26","v":19513},{"$f":"'Muni-L1'!V26","v":0},{"$f":"'Muni-L1'!Q26","v":75000},{"$f":"'Muni-L1'!P26","v":106413},{"$f":"'Muni-L1'!R26+'Muni-L1'!S26","v":22709},{"$f":"'Muni-L1'!Z26","v":313182},{"$f":"'Muni-L1'!AA26","v":59543},{"$f":"'Muni-L1'!AC26","v":40548},{"$f":"'Muni-L1'!AD26","v":0},{"$f":"'Muni-L1'!AE26","v":24095},{"$f":"'Muni-L1'!AJ26+'Muni-L1'!AK26","v":2222},{"$f":"'Muni-L1'!AF26+'Muni-L1'!AH26+'Muni-L1'!AI26","v":70173},{"$f":"'Muni-L1'!AG26","v":0},{"$f":"'Muni-L1'!AL26","v":2592},{"$f":"'Muni-L1'!AM26","v":92600},{"$f":"'Muni-L1'!AB26","v":0},{"$f":"'Muni-L1'!AP26","v":296722},16460,{"$f":"'Muni-L1'!X26+'Muni-L1'!Y26","v":4949},{"$f":"'Muni-L1'!AO26","v":4949},0,0]
["Town of Berlin",{"$f":"'Muni-L1'!L27+'Muni-L1'!M27","v":381693},{"$f":"'Muni-L1'!N27","v":164826},{"$f":"'Muni-L1'!O27","v":0},{"$f":"'Muni-L1'!U27","v":116282},{"$f":"'Muni-L1'!V27","v":0},{"$f":"'Muni-L1'!Q27","v":0},{"$f":"'Muni-L1'!P27","v":197090},{"$f":"'Muni-L1'!R27+'Muni-L1'!S27","v":17522},{"$f":"'Muni-L1'!Z27","v":877414},{"$f":"'Muni-L1'!AA27","v":122054},{"$f":"'Muni-L1'!AC27","v":15121},{"$f":"'Muni-L1'!AD27","v":200},{"$f":"'Muni-L1'!AE27","v":428000},{"$f":"'Muni-L1'!AJ27+'Muni-L1'!AK27","v":149556},{"$f":"'Muni-L1'!AF27+'Muni-L1'!AH27+'Muni-L1'!AI27","v":23070},{"$f":"'Muni-L1'!AG27","v":0},{"$f":"'Muni-L1'!AL27","v":82109},{"$f":"'Muni-L1'!AM27","v":13801},{"$f":"'Muni-L1'!AB27","v":0},{"$f":"'Muni-L1'!AP27","v":833911},43503,{"$f":"'Muni-L1'!X27+'Muni-L1'!Y27","v":0},{"$f":"'Muni-L1'!AO27","v":0},1,0]
["Town of Brunswick",{"$f":"'Muni-L1'!L28+'Muni-L1'!M28","v":3408076},{"$f":"'Muni-L1'!N28","v":1016116},{"$f":"'Muni-L1'!O28","v":98478},{"$f":"'Muni-L1'!U28","v":506240},{"$f":"'Muni-L1'!V28","v":29988},{"$f":"'Muni-L1'!Q28","v":28199},{"$f":"'Muni-L1'!P28","v":1465368},{"$f":"'Muni-L1'!R28+'Muni-L1'!S28","v":75430},{"$f":"'Muni-L1'!Z28","v":6627895},{"$f":"'Muni-L1'!AA28","v":1076797},{"$f":"'Muni-L1'!AC28","v":1058196},{"$f":"'Muni-L1'!AD28","v":2500},{"$f":"'Muni-L1'!AE28","v":1648778},{"$f":"'Muni-L1'!AJ28+'Muni-L1'!AK28","v":1321534},{"$f":"'Muni-L1'!AF28+'Muni-L1'!AH28+'Muni-L1'!AI28","v":376195},{"$f":"'Muni-L1'!AG28","v":146488},{"$f":"'Muni-L1'!AL28","v":680243},{"$f":"'Muni-L1'!AM28","v":243166},{"$f":"'Muni-L1'!AB28","v":0},{"$f":"'Muni-L1'!AP28","v":6553897},73998,{"$f":"'Muni-L1'!X28+'Muni-L1'!Y28","v":0},{"$f":"'Muni-L1'!AO28","v":0},0,0]
["Town of East Greenbush",{"$f":"'Muni-L1'!L29+'Muni-L1'!M29","v":8683121},{"$f":"'Muni-L1'!N29","v":1618667},{"$f":"'Muni-L1'!O29","v":199901},{"$f":"'Muni-L1'!U29","v":832467},{"$f":"'Muni-L1'!V29","v":0},{"$f":"'Muni-L1'!Q29","v":241404},{"$f":"'Muni-L1'!P29","v":3495870},{"$f":"'Muni-L1'!R29+'Muni-L1'!S29","v":1286626},{"$f":"'Muni-L1'!Z29","v":16941502},{"$f":"'Muni-L1'!AA29","v":2173457},{"$f":"'Muni-L1'!AC29","v":2763705},{"$f":"'Muni-L1'!AD29","v":6739},{"$f":"'Muni-L1'!AE29","v":2281845},{"$f":"'Muni-L1'!AJ29+'Muni-L1'!AK29","v":4152886},{"$f":"'Muni-L1'!AF29+'Muni-L1'!AH29+'Muni-L1'!AI29","v":324736},{"$f":"'Muni-L1'!AG29","v":0},{"$f":"'Muni-L1'!AL29","v":2710658},{"$f":"'Muni-L1'!AM29","v":1376467},{"$f":"'Muni-L1'!AB29","v":0},{"$f":"'Muni-L1'!AP29","v":15790493},1151009,{"$f":"'Muni-L1'!X29+'Muni-L1'!Y29","v":583445},{"$f":"'Muni-L1'!AO29","v":0},1,0]
["Town of Grafton",{"$f":"'Muni-L1'!L30+'Muni-L1'!M30","v":638066},{"$f":"'Muni-L1'!N30","v":209402},{"$f":"'Muni-L1'!O30","v":0},{"$f":"'Muni-L1'!U30","v":142881},{"$f":"'Muni-L1'!V30","v":0},{"$f":"'Muni-L1'!Q30","v":0},{"$f":"'Muni-L1'!P30","v":26374},{"$f":"'Muni-L1'!R30+'Muni-L1'!S30","v":70072},{"$f":"'Muni-L1'!Z30","v":1086794},{"$f":"'Muni-L1'!AA30","v":202877},{"$f":"'Muni-L1'!AC30","v":31422},{"$f":"'Muni-L1'!AD30","v":1000},{"$f":"'Muni-L1'!AE30","v":534896},{"$f":"'Muni-L1'!AJ30+'Muni-L1'!AK30","v":44554},{"$f":"'Muni-L1'!AF30+'Muni-L1'!AH30+'Muni-L1'!AI30","v":38567},{"$f":"'Muni-L1'!AG30","v":0},{"$f":"'Muni-L1'!AL30","v":126696},{"$f":"'Muni-L1'!AM30","v":68711},{"$f":"'Muni-L1'!AB30","v":0},{"$f":"'Muni-L1'!AP30","v":1048724},38070,{"$f":"'Muni-L1'!X30+'Muni-L1'!Y30","v":0},{"$f":"'Muni-L1'!AO30","v":0},-1,1]
["Town of Hoosick",{"$f":"'Muni-L1'!L31+'Muni-L1'!M31","v":1423948},{"$f":"'Muni-L1'!N31","v":270637},{"$f":"'Muni-L1'!O31","v":2452},{"$f":"'Muni-L1'!U31","v":230281},{"$f":"'Muni-L1'!V31","v":465525},{"$f":"'Muni-L1'!Q31","v":8585},{"$f":"'Muni-L1'!P31","v":70520},{"$f":"'Muni-L1'!R31+'Muni-L1'!S31","v":69390},{"$f":"'Muni-L1'!Z31","v":2569931},{"$f":"'Muni-L1'!AA31","v":353851},{"$f":"'Muni-L1'!AC31","v":300523},{"$f":"'Muni-L1'!AD31","v":0},{"$f":"'Muni-L1'!AE31","v":1377035},{"$f":"'Muni-L1'!AJ31+'Muni-L1'!AK31","v":3210},{"$f":"'Muni-L1'!AF31+'Muni-L1'!AH31+'Muni-L1'!AI31","v":181968},{"$f":"'Muni-L1'!AG31","v":0},{"$f":"'Muni-L1'!AL31","v":293792},{"$f":"'Muni-L1'!AM31","v":87534},{"$f":"'Muni-L1'!AB31","v":0},{"$f":"'Muni-L1'!AP31","v":2626506},-56575,{"$f":"'Muni-L1'!X31+'Muni-L1'!Y31","v":28593},{"$f":"'Muni-L1'!AO31","v":28593},0,0]
["Village of Hoosick Falls",{"$f":"'Muni-L1'!L32+'Muni-L1'!M32","v":1114369},{"$f":"'Muni-L1'!N32","v":182123},{"$f":"'Muni-L1'!O32","v":33682},{"$f":"'Muni-L1'!U32","v":253414},{"$f":"'Muni-L1'!V32","v":0},{"$f":"'Muni-L1'!Q32","v":5500},{"$f":"'Muni-L1'!P32","v":1460556},{"$f":"'Muni-L1'!R32+'Muni-L1'!S32","v":81545},{"$f":"'Muni-L1'!Z32","v":3181568},{"$f":"'Muni-L1'!AA32","v":213535},{"$f":"'Muni-L1'!AC32","v":426802},{"$f":"'Muni-L1'!AD32","v":0},{"$f":"'Muni-L1'!AE32","v":534825},{"$f":"'Muni-L1'!AJ32+'Muni-L1'!AK32","v":2913151},{"$f":"'Muni-L1'!AF32+'Muni-L1'!AH32+'Muni-L1'!AI32","v":32140},{"$f":"'Muni-L1'!AG32","v":17284},{"$f":"'Muni-L1'!AL32","v":363542},{"$f":"'Muni-L1'!AM32","v":340315},{"$f":"'Muni-L1'!AB32","v":0},{"$f":"'Muni-L1'!AP32","v":4841594},-1660026,{"$f":"'Muni-L1'!X32+'Muni-L1'!Y32","v":50379},{"$f":"'Muni-L1'!AO32","v":0},0,0]
["Town of Nassau",{"$f":"'Muni-L1'!L33+'Muni-L1'!M33","v":976577},{"$f":"'Muni-L1'!N33","v":245264},{"$f":"'Muni-L1'!O33","v":19233},{"$f":"'Muni-L1'!U33","v":283192},{"$f":"'Muni-L1'!V33","v":171863},{"$f":"'Muni-L1'!Q33","v":3725},{"$f":"'Muni-L1'!P33","v":62521},{"$f":"'Muni-L1'!R33+'Muni-L1'!S33","v":203184},{"$f":"'Muni-L1'!Z33","v":2318014},{"$f":"'Muni-L1'!AA33","v":402131},{"$f":"'Muni-L1'!AC33","v":219151},{"$f":"'Muni-L1'!AD33","v":2249},{"$f":"'Muni-L1'!AE33","v":911813},{"$f":"'Muni-L1'!AJ33+'Muni-L1'!AK33","v":100586},{"$f":"'Muni-L1'!AF33+'Muni-L1'!AH33+'Muni-L1'!AI33","v":199207},{"$f":"'Muni-L1'!AG33","v":0},{"$f":"'Muni-L1'!AL33","v":244107},{"$f":"'Muni-L1'!AM33","v":77163},{"$f":"'Muni-L1'!AB33","v":0},{"$f":"'Muni-L1'!AP33","v":2358165},-40151,{"$f":"'Muni-L1'!X33+'Muni-L1'!Y33","v":352456},{"$f":"'Muni-L1'!AO33","v":201756},-1,2]
["Village of East Nassau",{"$f":"'Muni-L1'!L34+'Muni-L1'!M34","v":51519},{"$f":"'Muni-L1'!N34","v":41243},{"$f":"'Muni-L1'!O34","v":0},{"$f":"'Muni-L1'!U34","v":28379},{"$f":"'Muni-L1'!V34","v":12995},{"$f":"'Muni-L1'!Q34","v":0},{"$f":"'Muni-L1'!P34","v":383},{"$f":"'Muni-L1'!R34+'Muni-L1'!S34","v":233},{"$f":"'Muni-L1'!Z34","v":134752},{"$f":"'Muni-L1'!AA34","v":45262},{"$f":"'Muni-L1'!AC34","v":4170},{"$f":"'Muni-L1'!AD34","v":0},{"$f":"'Muni-L1'!AE34","v":93368},{"$f":"'Muni-L1'!AJ34+'Muni-L1'!AK34","v":0},{"$f":"'Muni-L1'!AF34+'Muni-L1'!AH34+'Muni-L1'!AI34","v":0},{"$f":"'Muni-L1'!AG34","v":0},{"$f":"'Muni-L1'!AL34","v":2106},{"$f":"'Muni-L1'!AM34","v":0},{"$f":"'Muni-L1'!AB34","v":0},{"$f":"'Muni-L1'!AP34","v":144906},-10154,{"$f":"'Muni-L1'!X34+'Muni-L1'!Y34","v":0},{"$f":"'Muni-L1'!AO34","v":0},0,0]
["Town of North Greenbush",{"$f":"'Muni-L1'!L35+'Muni-L1'!M35","v":5300740},{"$f":"'Muni-L1'!N35","v":981703},{"$f":"'Muni-L1'!O35","v":216387},{"$f":"'Muni-L1'!U35","v":603610},{"$f":"'Muni-L1'!V35","v":0},{"$f":"'Muni-L1'!Q35","v":0},{"$f":"'Muni-L1'!P35","v":1659201},{"$f":"'Muni-L1'!R35+'Muni-L1'!S35","v":352540},{"$f":"'Muni-L1'!Z35","v":10126229},{"$f":"'Muni-L1'!AA35","v":2968236},{"$f":"'Muni-L1'!AC35","v":1927744},{"$f":"'Muni-L1'!AD35","v":8353},{"$f":"'Muni-L1'!AE35","v":1407954},{"$f":"'Muni-L1'!AJ35+'Muni-L1'!AK35","v":1961760},{"$f":"'Muni-L1'!AF35+'Muni-L1'!AH35+'Muni-L1'!AI35","v":476655},{"$f":"'Muni-L1'!AG35","v":0},{"$f":"'Muni-L1'!AL35","v":1345950},{"$f":"'Muni-L1'!AM35","v":2167376},{"$f":"'Muni-L1'!AB35","v":0},{"$f":"'Muni-L1'!AP35","v":12277076},-2150847,{"$f":"'Muni-L1'!X35+'Muni-L1'!Y35","v":1012049},{"$f":"'Muni-L1'!AO35","v":13049},-1,-1]
["Town of Petersburg",{"$f":"'Muni-L1'!L36+'Muni-L1'!M36","v":501638},{"$f":"'Muni-L1'!N36","v":118643},{"$f":"'Muni-L1'!O36","v":0},{"$f":"'Muni-L1'!U36","v":156149},{"$f":"'Muni-L1'!V36","v":339},{"$f":"'Muni-L1'!Q36","v":3218},{"$f":"'Muni-L1'!P36","v":70087},{"$f":"'Muni-L1'!R36+'Muni-L1'!S36","v":13655},{"$f":"'Muni-L1'!Z36","v":873838},{"$f":"'Muni-L1'!AA36","v":162547},{"$f":"'Muni-L1'!AC36","v":12091},{"$f":"'Muni-L1'!AD36","v":10500},{"$f":"'Muni-L1'!AE36","v":347894},{"$f":"'Muni-L1'!AJ36+'Muni-L1'!AK36","v":97805},{"$f":"'Muni-L1'!AF36+'Muni-L1'!AH36+'Muni-L1'!AI36","v":65259},{"$f":"'Muni-L1'!AG36","v":0},{"$f":"'Muni-L1'!AL36","v":84964},{"$f":"'Muni-L1'!AM36","v":35121},{"$f":"'Muni-L1'!AB36","v":0},{"$f":"'Muni-L1'!AP36","v":826290},47548,{"$f":"'Muni-L1'!X36+'Muni-L1'!Y36","v":10109},{"$f":"'Muni-L1'!AO36","v":10109},0,0]
["Town of Pittstown",{"$f":"'Muni-L1'!L37+'Muni-L1'!M37","v":2036315},{"$f":"'Muni-L1'!N37","v":227412},{"$f":"'Muni-L1'!O37","v":0},{"$f":"'Muni-L1'!U37","v":102571},{"$f":"'Muni-L1'!V37","v":0},{"$f":"'Muni-L1'!Q37","v":0},{"$f":"'Muni-L1'!P37","v":58805},{"$f":"'Muni-L1'!R37+'Muni-L1'!S37","v":56565},{"$f":"'Muni-L1'!Z37","v":2481668},{"$f":"'Muni-L1'!AA37","v":258078},{"$f":"'Muni-L1'!AC37","v":95627},{"$f":"'Muni-L1'!AD37","v":880},{"$f":"'Muni-L1'!AE37","v":1346016},{"$f":"'Muni-L1'!AJ37+'Muni-L1'!AK37","v":469238},{"$f":"'Muni-L1'!AF37+'Muni-L1'!AH37+'Muni-L1'!AI37","v":16531},{"$f":"'Muni-L1'!AG37","v":507},{"$f":"'Muni-L1'!AL37","v":273282},{"$f":"'Muni-L1'!AM37","v":26304},{"$f":"'Muni-L1'!AB37","v":0},{"$f":"'Muni-L1'!AP37","v":2486463},-4795,{"$f":"'Muni-L1'!X37+'Muni-L1'!Y37","v":0},{"$f":"'Muni-L1'!AO37","v":0},0,0]
["Town of Poestenkill",{"$f":"'Muni-L1'!L38+'Muni-L1'!M38","v":1120312},{"$f":"'Muni-L1'!N38","v":320892},{"$f":"'Muni-L1'!O38","v":7113},{"$f":"'Muni-L1'!U38","v":494313},{"$f":"'Muni-L1'!V38","v":430080},{"$f":"'Muni-L1'!Q38","v":10561},{"$f":"'Muni-L1'!P38","v":17946},{"$f":"'Muni-L1'!R38+'Muni-L1'!S38","v":52571},{"$f":"'Muni-L1'!Z38","v":2453788},{"$f":"'Muni-L1'!AA38","v":303513},{"$f":"'Muni-L1'!AC38","v":264675},{"$f":"'Muni-L1'!AD38","v":1500},{"$f":"'Muni-L1'!AE38","v":706914},{"$f":"'Muni-L1'!AJ38+'Muni-L1'!AK38","v":9623962},{"$f":"'Muni-L1'!AF38+'Muni-L1'!AH38+'Muni-L1'!AI38","v":105542},{"$f":"'Muni-L1'!AG38","v":0},{"$f":"'Muni-L1'!AL38","v":218311},{"$f":"'Muni-L1'!AM38","v":106523},{"$f":"'Muni-L1'!AB38","v":0},{"$f":"'Muni-L1'!AP38","v":11330940},-8877152,{"$f":"'Muni-L1'!X38+'Muni-L1'!Y38","v":0},{"$f":"'Muni-L1'!AO38","v":0},0,0]
["City of Rensselaer",{"$f":"'Muni-L1'!L39+'Muni-L1'!M39","v":6981371},{"$f":"'Muni-L1'!N39","v":1912977},{"$f":"'Muni-L1'!O39","v":149262},{"$f":"'Muni-L1'!U39","v":3125029},{"$f":"'Muni-L1'!V39","v":926667},{"$f":"'Muni-L1'!Q39","v":72800},{"$f":"'Muni-L1'!P39","v":2608833},{"$f":"'Muni-L1'!R39+'Muni-L1'!S39","v":371759},{"$f":"'Muni-L1'!Z39","v":20221944},{"$f":"'Muni-L1'!AA39","v":2196120},{"$f":"'Muni-L1'!AC39","v":3542766},{"$f":"'Muni-L1'!AD39","v":0},{"$f":"'Muni-L1'!AE39","v":2952294},{"$f":"'Muni-L1'!AJ39+'Muni-L1'!AK39","v":2985616},{"$f":"'Muni-L1'!AF39+'Muni-L1'!AH39+'Muni-L1'!AI39","v":297577},{"$f":"'Muni-L1'!AG39","v":1511738},{"$f":"'Muni-L1'!AL39","v":2702065},{"$f":"'Muni-L1'!AM39","v":753088},{"$f":"'Muni-L1'!AB39","v":0},{"$f":"'Muni-L1'!AP39","v":17118767},3103177,{"$f":"'Muni-L1'!X39+'Muni-L1'!Y39","v":4073247},{"$f":"'Muni-L1'!AO39","v":177500},-1,3]
["Town of Sand Lake",{"$f":"'Muni-L1'!L40+'Muni-L1'!M40","v":1637994},{"$f":"'Muni-L1'!N40","v":762972},{"$f":"'Muni-L1'!O40","v":128804},{"$f":"'Muni-L1'!U40","v":420271},{"$f":"'Muni-L1'!V40","v":176383},{"$f":"'Muni-L1'!Q40","v":4487},{"$f":"'Muni-L1'!P40","v":543841},{"$f":"'Muni-L1'!R40+'Muni-L1'!S40","v":98907},{"$f":"'Muni-L1'!Z40","v":5637871},{"$f":"'Muni-L1'!AA40","v":991779},{"$f":"'Muni-L1'!AC40","v":386673},{"$f":"'Muni-L1'!AD40","v":1000},{"$f":"'Muni-L1'!AE40","v":1409899},{"$f":"'Muni-L1'!AJ40+'Muni-L1'!AK40","v":977037},{"$f":"'Muni-L1'!AF40+'Muni-L1'!AH40+'Muni-L1'!AI40","v":301802},{"$f":"'Muni-L1'!AG40","v":0},{"$f":"'Muni-L1'!AL40","v":458202},{"$f":"'Muni-L1'!AM40","v":317269},{"$f":"'Muni-L1'!AB40","v":0},{"$f":"'Muni-L1'!AP40","v":5026621},611250,{"$f":"'Muni-L1'!X40+'Muni-L1'!Y40","v":1864212},{"$f":"'Muni-L1'!AO40","v":182960},0,0]
["Town of Schaghticoke",{"$f":"'Muni-L1'!L41+'Muni-L1'!M41","v":2041754},{"$f":"'Muni-L1'!N41","v":573781},{"$f":"'Muni-L1'!O41","v":56222},{"$f":"'Muni-L1'!U41","v":371100},{"$f":"'Muni-L1'!V41","v":66556},{"$f":"'Muni-L1'!Q41","v":55653},{"$f":"'Muni-L1'!P41","v":397371},{"$f":"'Muni-L1'!R41+'Muni-L1'!S41","v":81367},{"$f":"'Muni-L1'!Z41","v":3678475},{"$f":"'Muni-L1'!AA41","v":466105},{"$f":"'Muni-L1'!AC41","v":244664},{"$f":"'Muni-L1'!AD41","v":3000},{"$f":"'Muni-L1'!AE41","v":1182285},{"$f":"'Muni-L1'!AJ41+'Muni-L1'!AK41","v":1143331},{"$f":"'Muni-L1'!AF41+'Muni-L1'!AH41+'Muni-L1'!AI41","v":89378},{"$f":"'Muni-L1'!AG41","v":0},{"$f":"'Muni-L1'!AL41","v":427630},{"$f":"'Muni-L1'!AM41","v":397871},{"$f":"'Muni-L1'!AB41","v":0},{"$f":"'Muni-L1'!AP41","v":3988935},-310460,{"$f":"'Muni-L1'!X41+'Muni-L1'!Y41","v":34671},{"$f":"'Muni-L1'!AO41","v":34671},0,0]
["Village of Schaghticoke",{"$f":"'Muni-L1'!L42+'Muni-L1'!M42","v":146842},{"$f":"'Muni-L1'!N42","v":55787},{"$f":"'Muni-L1'!O42","v":5497},{"$f":"'Muni-L1'!U42","v":59184},{"$f":"'Muni-L1'!V42","v":312265},{"$f":"'Muni-L1'!Q42","v":0},{"$f":"'Muni-L1'!P42","v":88840},{"$f":"'Muni-L1'!R42+'Muni-L1'!S42","v":60368},{"$f":"'Muni-L1'!Z42","v":758782},{"$f":"'Muni-L1'!AA42","v":120041},{"$f":"'Muni-L1'!AC42","v":386231},{"$f":"'Muni-L1'!AD42","v":0},{"$f":"'Muni-L1'!AE42","v":93972},{"$f":"'Muni-L1'!AJ42+'Muni-L1'!AK42","v":129999},{"$f":"'Muni-L1'!AF42+'Muni-L1'!AH42+'Muni-L1'!AI42","v":18103},{"$f":"'Muni-L1'!AG42","v":276},{"$f":"'Muni-L1'!AL42","v":18157},{"$f":"'Muni-L1'!AM42","v":0},{"$f":"'Muni-L1'!AB42","v":0},{"$f":"'Muni-L1'!AP42","v":796779},-37997,{"$f":"'Muni-L1'!X42+'Muni-L1'!Y42","v":30000},{"$f":"'Muni-L1'!AO42","v":30000},-1,0]
["Town of Schodack",{"$f":"'Muni-L1'!L43+'Muni-L1'!M43","v":5769769},{"$f":"'Muni-L1'!N43","v":1026675},{"$f":"'Muni-L1'!O43","v":75588},{"$f":"'Muni-L1'!U43","v":577393},{"$f":"'Muni-L1'!V43","v":249773},{"$f":"'Muni-L1'!Q43","v":10728},{"$f":"'Muni-L1'!P43","v":793320},{"$f":"'Muni-L1'!R43+'Muni-L1'!S43","v":883137},{"$f":"'Muni-L1'!Z43","v":14844587},{"$f":"'Muni-L1'!AA43","v":1527507},{"$f":"'Muni-L1'!AC43","v":1607356},{"$f":"'Muni-L1'!AD43","v":2266},{"$f":"'Muni-L1'!AE43","v":1870587},{"$f":"'Muni-L1'!AJ43+'Muni-L1'!AK43","v":1443229},{"$f":"'Muni-L1'!AF43+'Muni-L1'!AH43+'Muni-L1'!AI43","v":755789},{"$f":"'Muni-L1'!AG43","v":4000},{"$f":"'Muni-L1'!AL43","v":969406},{"$f":"'Muni-L1'!AM43","v":1416184},{"$f":"'Muni-L1'!AB43","v":0},{"$f":"'Muni-L1'!AP43","v":13318667},1525920,{"$f":"'Muni-L1'!X43+'Muni-L1'!Y43","v":5458206},{"$f":"'Muni-L1'!AO43","v":3722343},-2,0]
["Village of Castleton-on-Hudson",{"$f":"'Muni-L1'!L44+'Muni-L1'!M44","v":428130},{"$f":"'Muni-L1'!N44","v":149389},{"$f":"'Muni-L1'!O44","v":3748},{"$f":"'Muni-L1'!U44","v":550774},{"$f":"'Muni-L1'!V44","v":36741},{"$f":"'Muni-L1'!Q44","v":185879},{"$f":"'Muni-L1'!P44","v":860838},{"$f":"'Muni-L1'!R44+'Muni-L1'!S44","v":43370},{"$f":"'Muni-L1'!Z44","v":2270802},{"$f":"'Muni-L1'!AA44","v":151234},{"$f":"'Muni-L1'!AC44","v":82815},{"$f":"'Muni-L1'!AD44","v":1200},{"$f":"'Muni-L1'!AE44","v":1069814},{"$f":"'Muni-L1'!AJ44+'Muni-L1'!AK44","v":710442},{"$f":"'Muni-L1'!AF44+'Muni-L1'!AH44+'Muni-L1'!AI44","v":256695},{"$f":"'Muni-L1'!AG44","v":11029},{"$f":"'Muni-L1'!AL44","v":173820},{"$f":"'Muni-L1'!AM44","v":165452},{"$f":"'Muni-L1'!AB44","v":0},{"$f":"'Muni-L1'!AP44","v":2634434},-363632,{"$f":"'Muni-L1'!X44+'Muni-L1'!Y44","v":11933},{"$f":"'Muni-L1'!AO44","v":11933},0,0]
["Town of Stephentown","N/A","N/A","N/A","N/A","N/A","N/A","N/A","N/A","N/A","N/A","N/A","N/A","N/A","N/A","N/A","N/A","N/A","N/A","N/A","N/A","N/A","N/A","N/A","N/A","N/A"]
["City of Troy",{"$f":"'Muni-L1'!L46+'Muni-L1'!M46","v":20221527},{"$f":"'Muni-L1'!N46","v":14069098},{"$f":"'Muni-L1'!O46","v":539137},{"$f":"'Muni-L1'!U46","v":16750224},{"$f":"'Muni-L1'!V46","v":9719503},{"$f":"'Muni-L1'!Q46","v":429573},{"$f":"'Muni-L1'!P46","v":19245649},{"$f":"'Muni-L1'!R46+'Muni-L1'!S46","v":7509308},{"$f":"'Muni-L1'!Z46","v":93381886},{"$f":"'Muni-L1'!AA46","v":8623752},{"$f":"'Muni-L1'!AC46","v":22468206},{"$f":"'Muni-L1'!AD46","v":111111},{"$f":"'Muni-L1'!AE46","v":9613486},{"$f":"'Muni-L1'!AJ46+'Muni-L1'!AK46","v":11644182},{"$f":"'Muni-L1'!AF46+'Muni-L1'!AH46+'Muni-L1'!AI46","v":4831903},{"$f":"'Muni-L1'!AG46","v":3317796},{"$f":"'Muni-L1'!AL46","v":18675799},{"$f":"'Muni-L1'!AM46","v":7282120},{"$f":"'Muni-L1'!AB46","v":0},{"$f":"'Muni-L1'!AP46","v":90241222},3140664,{"$f":"'Muni-L1'!X46+'Muni-L1'!Y46","v":4897867},{"$f":"'Muni-L1'!AO46","v":3672867},0,0]
["Saratoga County",{"$f":"'Muni-L1'!L47+'Muni-L1'!M47","v":49591569},{"$f":"'Muni-L1'!N47","v":96552344},{"$f":"'Muni-L1'!O47","v":2632032},{"$f":"'Muni-L1'!U47","v":22285279},{"$f":"'Muni-L1'!V47","v":28159389},{"$f":"'Muni-L1'!Q47","v":5656583},{"$f":"'Muni-L1'!P47","v":46380225},{"$f":"'Muni-L1'!R47+'Muni-L1'!S47","v":7258340},{"$f":"'Muni-L1'!Z47","v":308513685},{"$f":"'Muni-L1'!AA47","v":95283313},{"$f":"'Muni-L1'!AC47","v":20740882},{"$f":"'Muni-L1'!AD47","v":32082224},{"$f":"'Muni-L1'!AE47","v":16044646},{"$f":"'Muni-L1'!AJ47+'Muni-L1'!AK47","v":7305998},{"$f":"'Muni-L1'!AF47+'Muni-L1'!AH47+'Muni-L1'!AI47","v":52554649},{"$f":"'Muni-L1'!AG47","v":783671},{"$f":"'Muni-L1'!AL47","v":41820436},{"$f":"'Muni-L1'!AM47","v":4894027},{"$f":"'Muni-L1'!AB47","v":17730776},{"$f":"'Muni-L1'!AP47","v":310264548},-1750863,{"$f":"'Muni-L1'!X47+'Muni-L1'!Y47","v":49997924},{"$f":"'Muni-L1'!AO47","v":21023925},0,1]
["Village of Ballston Spa",{"$f":"'Muni-L1'!L48+'Muni-L1'!M48","v":1206007},{"$f":"'Muni-L1'!N48","v":880430},{"$f":"'Muni-L1'!O48","v":54040},{"$f":"'Muni-L1'!U48","v":343619},{"$f":"'Muni-L1'!V48","v":1040020},{"$f":"'Muni-L1'!Q48","v":346834},{"$f":"'Muni-L1'!P48","v":912429},{"$f":"'Muni-L1'!R48+'Muni-L1'!S48","v":191129},{"$f":"'Muni-L1'!Z48","v":4974508},{"$f":"'Muni-L1'!AA48","v":568371},{"$f":"'Muni-L1'!AC48","v":774544},{"$f":"'Muni-L1'!AD48","v":5883},{"$f":"'Muni-L1'!AE48","v":456986},{"$f":"'Muni-L1'!AJ48+'Muni-L1'!AK48","v":654299},{"$f":"'Muni-L1'!AF48+'Muni-L1'!AH48+'Muni-L1'!AI48","v":1328316},{"$f":"'Muni-L1'!AG48","v":3400},{"$f":"'Muni-L1'!AL48","v":628864},{"$f":"'Muni-L1'!AM48","v":354896},{"$f":"'Muni-L1'!AB48","v":0},{"$f":"'Muni-L1'!AP48","v":4775559},198949,{"$f":"'Muni-L1'!X48+'Muni-L1'!Y48","v":0},{"$f":"'Muni-L1'!AO48","v":0},0,0]
["Town of Ballston",{"$f":"'Muni-L1'!L49+'Muni-L1'!M49","v":1183984},{"$f":"'Muni-L1'!N49","v":2235176},{"$f":"'Muni-L1'!O49","v":70551},{"$f":"'Muni-L1'!U49","v":493998},{"$f":"'Muni-L1'!V49","v":0},{"$f":"'Muni-L1'!Q49","v":26000},{"$f":"'Muni-L1'!P49","v":686364},{"$f":"'Muni-L1'!R49+'Muni-L1'!S49","v":256309},{"$f":"'Muni-L1'!Z49","v":4952382},{"$f":"'Muni-L1'!AA49","v":853477},{"$f":"'Muni-L1'!AC49","v":394575},{"$f":"'Muni-L1'!AD49","v":3213},{"$f":"'Muni-L1'!AE49","v":1478818},{"$f":"'Muni-L1'!AJ49+'Muni-L1'!AK49","v":1137769},{"$f":"'Muni-L1'!AF49+'Muni-L1'!AH49+'Muni-L1'!AI49","v":497131},{"$f":"'Muni-L1'!AG49","v":0},{"$f":"'Muni-L1'!AL49","v":550536},{"$f":"'Muni-L1'!AM49","v":507569},{"$f":"'Muni-L1'!AB49","v":0},{"$f":"'Muni-L1'!AP49","v":5423088},-470706,{"$f":"'Muni-L1'!X49+'Muni-L1'!Y49","v":0},{"$f":"'Muni-L1'!AO49","v":0},0,0]
["Town of Charlton",{"$f":"'Muni-L1'!L50+'Muni-L1'!M50","v":140504},{"$f":"'Muni-L1'!N50","v":1130663},{"$f":"'Muni-L1'!O50","v":23129},{"$f":"'Muni-L1'!U50","v":299256},{"$f":"'Muni-L1'!V50","v":0},{"$f":"'Muni-L1'!Q50","v":360},{"$f":"'Muni-L1'!P50","v":153397},{"$f":"'Muni-L1'!R50+'Muni-L1'!S50","v":72569},{"$f":"'Muni-L1'!Z50","v":1819878},{"$f":"'Muni-L1'!AA50","v":502504},{"$f":"'Muni-L1'!AC50","v":88596},{"$f":"'Muni-L1'!AD50","v":1031},{"$f":"'Muni-L1'!AE50","v":637956},{"$f":"'Muni-L1'!AJ50+'Muni-L1'!AK50","v":279812},{"$f":"'Muni-L1'!AF50+'Muni-L1'!AH50+'Muni-L1'!AI50","v":76797},{"$f":"'Muni-L1'!AG50","v":0},{"$f":"'Muni-L1'!AL50","v":179598},{"$f":"'Muni-L1'!AM50","v":147919},{"$f":"'Muni-L1'!AB50","v":0},{"$f":"'Muni-L1'!AP50","v":1914213},-94335,{"$f":"'Muni-L1'!X50+'Muni-L1'!Y50","v":0},{"$f":"'Muni-L1'!AO50","v":0},0,0]
["Town of Clifton Park",{"$f":"'Muni-L1'!L51+'Muni-L1'!M51","v":3192499},{"$f":"'Muni-L1'!N51","v":9712419},{"$f":"'Muni-L1'!O51","v":0},{"$f":"'Muni-L1'!U51","v":2259487},{"$f":"'Muni-L1'!V51","v":412705},{"$f":"'Muni-L1'!Q51","v":1297210},{"$f":"'Muni-L1'!P51","v":2550050},{"$f":"'Muni-L1'!R51+'Muni-L1'!S51","v":1678118},{"$f":"'Muni-L1'!Z51","v":24963781},{"$f":"'Muni-L1'!AA51","v":3805643},{"$f":"'Muni-L1'!AC51","v":3923680},{"$f":"'Muni-L1'!AD51","v":21300},{"$f":"'Muni-L1'!AE51","v":4180749},{"$f":"'Muni-L1'!AJ51+'Muni-L1'!AK51","v":2391313},{"$f":"'Muni-L1'!AF51+'Muni-L1'!AH51+'Muni-L1'!AI51","v":4262882},{"$f":"'Muni-L1'!AG51","v":500},{"$f":"'Muni-L1'!AL51","v":3279495},{"$f":"'Muni-L1'!AM51","v":1046495},{"$f":"'Muni-L1'!AB51","v":0},{"$f":"'Muni-L1'!AP51","v":26732351},-1768570,{"$f":"'Muni-L1'!X51+'Muni-L1'!Y51","v":3861295},{"$f":"'Muni-L1'!AO51","v":3820295},-2,-1]
["Town of Corinth",{"$f":"'Muni-L1'!L52+'Muni-L1'!M52","v":1926574},{"$f":"'Muni-L1'!N52","v":702444},{"$f":"'Muni-L1'!O52","v":45968},{"$f":"'Muni-L1'!U52","v":1439047},{"$f":"'Muni-L1'!V52","v":0},{"$f":"'Muni-L1'!Q52","v":0},{"$f":"'Muni-L1'!P52","v":525553},{"$f":"'Muni-L1'!R52+'Muni-L1'!S52","v":69957},{"$f":"'Muni-L1'!Z52","v":4709543},{"$f":"'Muni-L1'!AA52","v":557591},{"$f":"'Muni-L1'!AC52","v":513849},{"$f":"'Muni-L1'!AD52","v":348873},{"$f":"'Muni-L1'!AE52","v":2049043},{"$f":"'Muni-L1'!AJ52+'Muni-L1'!AK52","v":256193},{"$f":"'Muni-L1'!AF52+'Muni-L1'!AH52+'Muni-L1'!AI52","v":167067},{"$f":"'Muni-L1'!AG52","v":4500},{"$f":"'Muni-L1'!AL52","v":437423},{"$f":"'Muni-L1'!AM52","v":0},{"$f":"'Muni-L1'!AB52","v":0},{"$f":"'Muni-L1'!AP52","v":4334538},375005,{"$f":"'Muni-L1'!X52+'Muni-L1'!Y52","v":0},{"$f":"'Muni-L1'!AO52","v":0},0,-1]
["Village of Corinth",{"$f":"'Muni-L1'!L53+'Muni-L1'!M53","v":1900813},{"$f":"'Muni-L1'!N53","v":658638},{"$f":"'Muni-L1'!O53","v":0},{"$f":"'Muni-L1'!U53","v":227662},{"$f":"'Muni-L1'!V53","v":915691},{"$f":"'Muni-L1'!Q53","v":261021},{"$f":"'Muni-L1'!P53","v":785843},{"$f":"'Muni-L1'!R53+'Muni-L1'!S53","v":38028},{"$f":"'Muni-L1'!Z53","v":5276242},{"$f":"'Muni-L1'!AA53","v":354145},{"$f":"'Muni-L1'!AC53","v":672066},{"$f":"'Muni-L1'!AD53","v":0},{"$f":"'Muni-L1'!AE53","v":813269},{"$f":"'Muni-L1'!AJ53+'Muni-L1'!AK53","v":715138},{"$f":"'Muni-L1'!AF53+'Muni-L1'!AH53+'Muni-L1'!AI53","v":534604},{"$f":"'Muni-L1'!AG53","v":439150},{"$f":"'Muni-L1'!AL53","v":423314},{"$f":"'Muni-L1'!AM53","v":459934},{"$f":"'Muni-L1'!AB53","v":0},{"$f":"'Muni-L1'!AP53","v":4900166},376076,{"$f":"'Muni-L1'!X53+'Muni-L1'!Y53","v":488546},{"$f":"'Muni-L1'!AO53","v":488546},0,0]
["Town of Day",{"$f":"'Muni-L1'!L54+'Muni-L1'!M54","v":484616},{"$f":"'Muni-L1'!N54","v":778955},{"$f":"'Muni-L1'!O54","v":0},{"$f":"'Muni-L1'!U54","v":238567},{"$f":"'Muni-L1'!V54","v":0},{"$f":"'Muni-L1'!Q54","v":0},{"$f":"'Muni-L1'!P54","v":11967},{"$f":"'Muni-L1'!R54+'Muni-L1'!S54","v":14220},{"$f":"'Muni-L1'!Z54","v":1528325},{"$f":"'Muni-L1'!AA54","v":279631},{"$f":"'Muni-L1'!AC54","v":95858},{"$f":"'Muni-L1'!AD54","v":1516},{"$f":"'Muni-L1'!AE54","v":835428},{"$f":"'Muni-L1'!AJ54+'Muni-L1'!AK54","v":311307},{"$f":"'Muni-L1'!AF54+'Muni-L1'!AH54+'Muni-L1'!AI54","v":26074},{"$f":"'Muni-L1'!AG54","v":0},{"$f":"'Muni-L1'!AL54","v":228447},{"$f":"'Muni-L1'!AM54","v":0},{"$f":"'Muni-L1'!AB54","v":0},{"$f":"'Muni-L1'!AP54","v":1778261},-249936,{"$f":"'Muni-L1'!X54+'Muni-L1'!Y54","v":0},{"$f":"'Muni-L1'!AO54","v":0},0,0]
["Town of Edinburg",{"$f":"'Muni-L1'!L55+'Muni-L1'!M55","v":285326},{"$f":"'Muni-L1'!N55","v":962445},{"$f":"'Muni-L1'!O55","v":0},{"$f":"'Muni-L1'!U55","v":141649},{"$f":"'Muni-L1'!V55","v":0},{"$f":"'Muni-L1'!Q55","v":0},{"$f":"'Muni-L1'!P55","v":18969},{"$f":"'Muni-L1'!R55+'Muni-L1'!S55","v":19773},{"$f":"'Muni-L1'!Z55","v":1478895},{"$f":"'Muni-L1'!AA55","v":308468},{"$f":"'Muni-L1'!AC55","v":106764},{"$f":"'Muni-L1'!AD55","v":2676},{"$f":"'Muni-L1'!AE55","v":584756},{"$f":"'Muni-L1'!AJ55+'Muni-L1'!AK55","v":142103},{"$f":"'Muni-L1'!AF55+'Muni-L1'!AH55+'Muni-L1'!AI55","v":24307},{"$f":"'Muni-L1'!AG55","v":1253},{"$f":"'Muni-L1'!AL55","v":138797},{"$f":"'Muni-L1'!AM55","v":0},{"$f":"'Muni-L1'!AB55","v":0},{"$f":"'Muni-L1'!AP55","v":1359857},119038,{"$f":"'Muni-L1'!X55+'Muni-L1'!Y55","v":50733},{"$f":"'Muni-L1'!AO55","v":50733},0,0]
["Town of Galway",{"$f":"'Muni-L1'!L56+'Muni-L1'!M56","v":567386},{"$f":"'Muni-L1'!N56","v":1035159},{"$f":"'Muni-L1'!O56","v":45476},{"$f":"'Muni-L1'!U56","v":240885},{"$f":"'Muni-L1'!V56","v":0},{"$f":"'Muni-L1'!Q56","v":7486},{"$f":"'Muni-L1'!P56","v":9565},{"$f":"'Muni-L1'!R56+'Muni-L1'!S56","v":30192},{"$f":"'Muni-L1'!Z56","v":1936148},{"$f":"'Muni-L1'!AA56","v":287979},{"$f":"'Muni-L1'!AC56","v":328896},{"$f":"'Muni-L1'!AD56","v":1000},{"$f":"'Muni-L1'!AE56","v":949547},{"$f":"'Muni-L1'!AJ56+'Muni-L1'!AK56","v":4442},{"$f":"'Muni-L1'!AF56+'Muni-L1'!AH56+'Muni-L1'!AI56","v":49187},{"$f":"'Muni-L1'!AG56","v":0},{"$f":"'Muni-L1'!AL56","v":145612},{"$f":"'Muni-L1'!AM56","v":140621},{"$f":"'Muni-L1'!AB56","v":0},{"$f":"'Muni-L1'!AP56","v":1907285},28863,{"$f":"'Muni-L1'!X56+'Muni-L1'!Y56","v":0},{"$f":"'Muni-L1'!AO56","v":0},-1,1]
["Village of Galway",{"$f":"'Muni-L1'!L57+'Muni-L1'!M57","v":0},{"$f":"'Muni-L1'!N57","v":39705},{"$f":"'Muni-L1'!O57","v":0},{"$f":"'Muni-L1'!U57","v":5343},{"$f":"'Muni-L1'!V57","v":0},{"$f":"'Muni-L1'!Q57","v":0},{"$f":"'Muni-L1'!P57","v":185},{"$f":"'Muni-L1'!R57+'Muni-L1'!S57","v":17550},{"$f":"'Muni-L1'!Z57","v":62783},{"$f":"'Muni-L1'!AA57","v":16808},{"$f":"'Muni-L1'!AC57","v":20315},{"$f":"'Muni-L1'!AD57","v":0},{"$f":"'Muni-L1'!AE57","v":2606},{"$f":"'Muni-L1'!AJ57+'Muni-L1'!AK57","v":0},{"$f":"'Muni-L1'!AF57+'Muni-L1'!AH57+'Muni-L1'!AI57","v":5979},{"$f":"'Muni-L1'!AG57","v":0},{"$f":"'Muni-L1'!AL57","v":970},{"$f":"'Muni-L1'!AM57","v":0},{"$f":"'Muni-L1'!AB57","v":0},{"$f":"'Muni-L1'!AP57","v":46678},{"$f":"J55-U55","v":16105},{"$f":"'Muni-L1'!X57+'Muni-L1'!Y57","v":0},{"$f":"'Muni-L1'!AO57","v":0},{"$f":"J55-SUM(B55:I55)-W55","v":0},{"$f":"U55-SUM(K55:T55)-X55","v":0}]
["Town of Greenfield",{"$f":"'Muni-L1'!L58+'Muni-L1'!M58","v":851867},{"$f":"'Muni-L1'!N58","v":1840340},{"$f":"'Muni-L1'!O58","v":57788},{"$f":"'Muni-L1'!U58","v":414037},{"$f":"'Muni-L1'!V58","v":0},{"$f":"'Muni-L1'!Q58","v":0},{"$f":"'Muni-L1'!P58","v":123590},{"$f":"'Muni-L1'!R58+'Muni-L1'!S58","v":114141},{"$f":"'Muni-L1'!Z58","v":3519270},{"$f":"'Muni-L1'!AA58","v":499166},{"$f":"'Muni-L1'!AC58","v":79381},{"$f":"'Muni-L1'!AD58","v":6051},{"$f":"'Muni-L1'!AE58","v":2202297},{"$f":"'Muni-L1'!AJ58+'Muni-L1'!AK58","v":29608},{"$f":"'Muni-L1'!AF58+'Muni-L1'!AH58+'Muni-L1'!AI58","v":248356},{"$f":"'Muni-L1'!AG58","v":229083},{"$f":"'Muni-L1'!AL58","v":291490},{"$f":"'Muni-L1'!AM58","v":0},{"$f":"'Muni-L1'!AB58","v":0},{"$f":"'Muni-L1'!AP58","v":3702937},-183667,{"$f":"'Muni-L1'!X58+'Muni-L1'!Y58","v":117505},{"$f":"'Muni-L1'!AO58","v":117505},2,0]
["Town of Hadley",{"$f":"'Muni-L1'!L59+'Muni-L1'!M59","v":1053032},{"$f":"'Muni-L1'!N59","v":628297},{"$f":"'Muni-L1'!O59","v":17523},{"$f":"'Muni-L1'!U59","v":176256},{"$f":"'Muni-L1'!V59","v":202696},{"$f":"'Muni-L1'!Q59","v":0},{"$f":"'Muni-L1'!P59","v":125688},{"$f":"'Muni-L1'!R59+'Muni-L1'!S59","v":29277},{"$f":"'Muni-L1'!Z59","v":2831771},{"$f":"'Muni-L1'!AA59","v":388086},{"$f":"'Muni-L1'!AC59","v":7528},{"$f":"'Muni-L1'!AD59","v":1338},{"$f":"'Muni-L1'!AE59","v":691131},{"$f":"'Muni-L1'!AJ59+'Muni-L1'!AK59","v":332545},{"$f":"'Muni-L1'!AF59+'Muni-L1'!AH59+'Muni-L1'!AI59","v":286804},{"$f":"'Muni-L1'!AG59","v":260},{"$f":"'Muni-L1'!AL59","v":295707},{"$f":"'Muni-L1'!AM59","v":53247},{"$f":"'Muni-L1'!AB59","v":0},{"$f":"'Muni-L1'!AP59","v":2655648},176123,{"$f":"'Muni-L1'!X59+'Muni-L1'!Y59","v":599001},{"$f":"'Muni-L1'!AO59","v":599001},1,1]
["Town of Halfmoon",{"$f":"'Muni-L1'!L60+'Muni-L1'!M60","v":2815694},{"$f":"'Muni-L1'!N60","v":4871503},{"$f":"'Muni-L1'!O60","v":207610},{"$f":"'Muni-L1'!U60","v":1123827},{"$f":"'Muni-L1'!V60","v":77099},{"$f":"'Muni-L1'!Q60","v":105000},{"$f":"'Muni-L1'!P60","v":3964040},{"$f":"'Muni-L1'!R60+'Muni-L1'!S60","v":647238},{"$f":"'Muni-L1'!Z60","v":14014562},{"$f":"'Muni-L1'!AA60","v":2359983},{"$f":"'Muni-L1'!AC60","v":1531804},{"$f":"'Muni-L1'!AD60","v":84385},{"$f":"'Muni-L1'!AE60","v":2196444},{"$f":"'Muni-L1'!AJ60+'Muni-L1'!AK60","v":3479605},{"$f":"'Muni-L1'!AF60+'Muni-L1'!AH60+'Muni-L1'!AI60","v":1077595},{"$f":"'Muni-L1'!AG60","v":0},{"$f":"'Muni-L1'!AL60","v":1285527},{"$f":"'Muni-L1'!AM60","v":4262685},{"$f":"'Muni-L1'!AB60","v":0},{"$f":"'Muni-L1'!AP60","v":16480578},-2466016,{"$f":"'Muni-L1'!X60+'Muni-L1'!Y60","v":202550},{"$f":"'Muni-L1'!AO60","v":202550},1,0]
["Town of Malta",{"$f":"'Muni-L1'!L61+'Muni-L1'!M61","v":1297775},{"$f":"'Muni-L1'!N61","v":3611321},{"$f":"'Muni-L1'!O61","v":152312},{"$f":"'Muni-L1'!U61","v":2890493},{"$f":"'Muni-L1'!V61","v":15558},{"$f":"'Muni-L1'!Q61","v":94696},{"$f":"'Muni-L1'!P61","v":4430460},{"$f":"'Muni-L1'!R61+'Muni-L1'!S61","v":814395},{"$f":"'Muni-L1'!Z61","v":13506943},{"$f":"'Muni-L1'!AA61","v":3272905},{"$f":"'Muni-L1'!AC61","v":1548807},{"$f":"'Muni-L1'!AD61","v":4300},{"$f":"'Muni-L1'!AE61","v":3848494},{"$f":"'Muni-L1'!AJ61+'Muni-L1'!AK61","v":114200},{"$f":"'Muni-L1'!AF61+'Muni-L1'!AH61+'Muni-L1'!AI61","v":1079785},{"$f":"'Muni-L1'!AG61","v":5491},{"$f":"'Muni-L1'!AL61","v":876963},{"$f":"'Muni-L1'!AM61","v":256008},{"$f":"'Muni-L1'!AB61","v":0},{"$f":"'Muni-L1'!AP61","v":11206886},2300057,{"$f":"'Muni-L1'!X61+'Muni-L1'!Y61","v":199933},{"$f":"'Muni-L1'!AO61","v":199933},0,0]
["Village of Round Lake",{"$f":"'Muni-L1'!L62+'Muni-L1'!M62","v":321997},{"$f":"'Muni-L1'!N62","v":135155},{"$f":"'Muni-L1'!O62","v":54543},{"$f":"'Muni-L1'!U62","v":78699},{"$f":"'Muni-L1'!V62","v":0},{"$f":"'Muni-L1'!Q62","v":435247},{"$f":"'Muni-L1'!P62","v":248724},{"$f":"'Muni-L1'!R62+'Muni-L1'!S62","v":59477},{"$f":"'Muni-L1'!Z62","v":1542292},{"$f":"'Muni-L1'!AA62","v":167924},{"$f":"'Muni-L1'!AC62","v":205206},{"$f":"'Muni-L1'!AD62","v":187},{"$f":"'Muni-L1'!AE62","v":192956},{"$f":"'Muni-L1'!AJ62+'Muni-L1'!AK62","v":96964},{"$f":"'Muni-L1'!AF62+'Muni-L1'!AH62+'Muni-L1'!AI62","v":246295},{"$f":"'Muni-L1'!AG62","v":0},{"$f":"'Muni-L1'!AL62","v":87507},{"$f":"'Muni-L1'!AM62","v":209841},{"$f":"'Muni-L1'!AB62","v":0},{"$f":"'Muni-L1'!AP62","v":1343830},198462,{"$f":"'Muni-L1'!X62+'Muni-L1'!Y62","v":208450},{"$f":"'Muni-L1'!AO62","v":136950},0,0]
["City of Mechanicville",{"$f":"'Muni-L1'!L63+'Muni-L1'!M63","v":1953340},{"$f":"'Muni-L1'!N63","v":1165271},{"$f":"'Muni-L1'!O63","v":83288},{"$f":"'Muni-L1'!U63","v":1075904},{"$f":"'Muni-L1'!V63","v":175937},{"$f":"'Muni-L1'!Q63","v":12379},{"$f":"'Muni-L1'!P63","v":1571962},{"$f":"'Muni-L1'!R63+'Muni-L1'!S63","v":122393},{"$f":"'Muni-L1'!Z63","v":6857224},{"$f":"'Muni-L1'!AA63","v":696815},{"$f":"'Muni-L1'!AC63","v":2152362},{"$f":"'Muni-L1'!AD63","v":10000},{"$f":"'Muni-L1'!AE63","v":865971},{"$f":"'Muni-L1'!AJ63+'Muni-L1'!AK63","v":1426825},{"$f":"'Muni-L1'!AF63+'Muni-L1'!AH63+'Muni-L1'!AI63","v":107973},{"$f":"'Muni-L1'!AG63","v":385796},{"$f":"'Muni-L1'!AL63","v":1138931},{"$f":"'Muni-L1'!AM63","v":350975},{"$f":"'Muni-L1'!AB63","v":0},{"$f":"'Muni-L1'!AP63","v":7135647},-278423,{"$f":"'Muni-L1'!X63+'Muni-L1'!Y63","v":696750},{"$f":"'Muni-L1'!AO63","v":0},0,-1]
["Town of Milton",{"$f":"'Muni-L1'!L64+'Muni-L1'!M64","v":466688},{"$f":"'Muni-L1'!N64","v":2533365},{"$f":"'Muni-L1'!O64","v":140500},{"$f":"'Muni-L1'!U64","v":682812},{"$f":"'Muni-L1'!V64","v":0},{"$f":"'Muni-L1'!Q64","v":0},{"$f":"'Muni-L1'!P64","v":135392},{"$f":"'Muni-L1'!R64+'Muni-L1'!S64","v":156964},{"$f":"'Muni-L1'!Z64","v":4867166},{"$f":"'Muni-L1'!AA64","v":1039144},{"$f":"'Muni-L1'!AC64","v":205996},{"$f":"'Muni-L1'!AD64","v":7313},{"$f":"'Muni-L1'!AE64","v":2044553},{"$f":"'Muni-L1'!AJ64+'Muni-L1'!AK64","v":225},{"$f":"'Muni-L1'!AF64+'Muni-L1'!AH64+'Muni-L1'!AI64","v":337178},{"$f":"'Muni-L1'!AG64","v":2899},{"$f":"'Muni-L1'!AL64","v":853165},{"$f":"'Muni-L1'!AM64","v":1049},{"$f":"'Muni-L1'!AB64","v":0},{"$f":"'Muni-L1'!AP64","v":5242967},-375801,{"$f":"'Muni-L1'!X64+'Muni-L1'!Y64","v":751445},{"$f":"'Muni-L1'!AO64","v":751445},0,0]
["Town of Moreau",{"$f":"'Muni-L1'!L65+'Muni-L1'!M65","v":1851391},{"$f":"'Muni-L1'!N65","v":1677028},{"$f":"'Muni-L1'!O65","v":153466},{"$f":"'Muni-L1'!U65","v":517299},{"$f":"'Muni-L1'!V65","v":0},{"$f":"'Muni-L1'!Q65","v":0},{"$f":"'Muni-L1'!P65","v":1432784},{"$f":"'Muni-L1'!R65+'Muni-L1'!S65","v":366011},{"$f":"'Muni-L1'!Z65","v":6068210},{"$f":"'Muni-L1'!AA65","v":846832},{"$f":"'Muni-L1'!AC65","v":1257290},{"$f":"'Muni-L1'!AD65","v":2089},{"$f":"'Muni-L1'!AE65","v":1314788},{"$f":"'Muni-L1'!AJ65+'Muni-L1'!AK65","v":693745},{"$f":"'Muni-L1'!AF65+'Muni-L1'!AH65+'Muni-L1'!AI65","v":1305219},{"$f":"'Muni-L1'!AG65","v":4203},{"$f":"'Muni-L1'!AL65","v":702706},{"$f":"'Muni-L1'!AM65","v":128704},{"$f":"'Muni-L1'!AB65","v":0},{"$f":"'Muni-L1'!AP65","v":6325807},-257597,{"$f":"'Muni-L1'!X65+'Muni-L1'!Y65","v":70231},{"$f":"'Muni-L1'!AO65","v":70231},0,0]
["Village of South Glens Falls",{"$f":"'Muni-L1'!L66+'Muni-L1'!M66","v":1079444},{"$f":"'Muni-L1'!N66","v":566629},{"$f":"'Muni-L1'!O66","v":55006},{"$f":"'Muni-L1'!U66","v":128251},{"$f":"'Muni-L1'!V66","v":147772},{"$f":"'Muni-L1'!Q66","v":406016},{"$f":"'Muni-L1'!P66","v":729051},{"$f":"'Muni-L1'!R66+'Muni-L1'!S66","v":107267},{"$f":"'Muni-L1'!Z66","v":3219436},{"$f":"'Muni-L1'!AA66","v":400632},{"$f":"'Muni-L1'!AC66","v":928676},{"$f":"'Muni-L1'!AD66","v":450},{"$f":"'Muni-L1'!AE66","v":443905},{"$f":"'Muni-L1'!AJ66+'Muni-L1'!AK66","v":561268},{"$f":"'Muni-L1'!AF66+'Muni-L1'!AH66+'Muni-L1'!AI66","v":54222},{"$f":"'Muni-L1'!AG66","v":152633},{"$f":"'Muni-L1'!AL66","v":638495},{"$f":"'Muni-L1'!AM66","v":25859},{"$f":"'Muni-L1'!AB66","v":0},{"$f":"'Muni-L1'!AP66","v":3206140},13296,{"$f":"'Muni-L1'!X66+'Muni-L1'!Y66","v":0},{"$f":"'Muni-L1'!AO66","v":0},0,0]
["Town of Northumberland",{"$f":"'Muni-L1'!L67+'Muni-L1'!M67","v":592871},{"$f":"'Muni-L1'!N67","v":924822},{"$f":"'Muni-L1'!O67","v":0},{"$f":"'Muni-L1'!U67","v":250518},{"$f":"'Muni-L1'!V67","v":122942},{"$f":"'Muni-L1'!Q67","v":0},{"$f":"'Muni-L1'!P67","v":42807},{"$f":"'Muni-L1'!R67+'Muni-L1'!S67","v":161150},{"$f":"'Muni-L1'!Z67","v":2095110},{"$f":"'Muni-L1'!AA67","v":353697},{"$f":"'Muni-L1'!AC67","v":161343},{"$f":"'Muni-L1'!AD67","v":8761},{"$f":"'Muni-L1'!AE67","v":1201721},{"$f":"'Muni-L1'!AJ67+'Muni-L1'!AK67","v":57279},{"$f":"'Muni-L1'!AF67+'Muni-L1'!AH67+'Muni-L1'!AI67","v":137385},{"$f":"'Muni-L1'!AG67","v":0},{"$f":"'Muni-L1'!AL67","v":196120},{"$f":"'Muni-L1'!AM67","v":0},{"$f":"'Muni-L1'!AB67","v":0},{"$f":"'Muni-L1'!AP67","v":2116306},-21196,{"$f":"'Muni-L1'!X67+'Muni-L1'!Y67","v":0},{"$f":"'Muni-L1'!AO67","v":0},0,0]
["Town of Providence",{"$f":"'Muni-L1'!L68+'Muni-L1'!M68","v":693371},{"$f":"'Muni-L1'!N68","v":497647},{"$f":"'Muni-L1'!O68","v":18056},{"$f":"'Muni-L1'!U68","v":142498},{"$f":"'Muni-L1'!V68","v":0},{"$f":"'Muni-L1'!Q68","v":0},{"$f":"'Muni-L1'!P68","v":29935},{"$f":"'Muni-L1'!R68+'Muni-L1'!S68","v":57778},{"$f":"'Muni-L1'!Z68","v":1500755},{"$f":"'Muni-L1'!AA68","v":160118},{"$f":"'Muni-L1'!AC68","v":50723},{"$f":"'Muni-L1'!AD68","v":267},{"$f":"'Muni-L1'!AE68","v":829235},{"$f":"'Muni-L1'!AJ68+'Muni-L1'!AK68","v":23127},{"$f":"'Muni-L1'!AF68+'Muni-L1'!AH68+'Muni-L1'!AI68","v":16196},{"$f":"'Muni-L1'!AG68","v":0},{"$f":"'Muni-L1'!AL68","v":191962},{"$f":"'Muni-L1'!AM68","v":81665},{"$f":"'Muni-L1'!AB68","v":0},{"$f":"'Muni-L1'!AP68","v":1353293},147462,{"$f":"'Muni-L1'!X68+'Muni-L1'!Y68","v":61470},{"$f":"'Muni-L1'!AO68","v":0},0,0]
["Town of Saratoga",{"$f":"'Muni-L1'!L69+'Muni-L1'!M69","v":611139},{"$f":"'Muni-L1'!N69","v":1106553},{"$f":"'Muni-L1'!O69","v":0},{"$f":"'Muni-L1'!U69","v":348516},{"$f":"'Muni-L1'!V69","v":196846},{"$f":"'Muni-L1'!Q69","v":0},{"$f":"'Muni-L1'!P69","v":30384},{"$f":"'Muni-L1'!R69+'Muni-L1'!S69","v":294177},{"$f":"'Muni-L1'!Z69","v":2707921},{"$f":"'Muni-L1'!AA69","v":487385},{"$f":"'Muni-L1'!AC69","v":75441},{"$f":"'Muni-L1'!AD69","v":2664},{"$f":"'Muni-L1'!AE69","v":1044374},{"$f":"'Muni-L1'!AJ69+'Muni-L1'!AK69","v":4349},{"$f":"'Muni-L1'!AF69+'Muni-L1'!AH69+'Muni-L1'!AI69","v":119850},{"$f":"'Muni-L1'!AG69","v":199296},{"$f":"'Muni-L1'!AL69","v":199831},{"$f":"'Muni-L1'!AM69","v":255889},{"$f":"'Muni-L1'!AB69","v":0},{"$f":"'Muni-L1'!AP69","v":2509386},198535,{"$f":"'Muni-L1'!X69+'Muni-L1'!Y69","v":120307},{"$f":"'Muni-L1'!AO69","v":120307},-1,0]
["Village of Schuylerville",{"$f":"'Muni-L1'!L70+'Muni-L1'!M70","v":490174},{"$f":"'Muni-L1'!N70","v":191670},{"$f":"'Muni-L1'!O70","v":11717},{"$f":"'Muni-L1'!U70","v":194370},{"$f":"'Muni-L1'!V70","v":110719},{"$f":"'Muni-L1'!Q70","v":311143},{"$f":"'Muni-L1'!P70","v":387896},{"$f":"'Muni-L1'!R70+'Muni-L1'!S70","v":6615},{"$f":"'Muni-L1'!Z70","v":1799932},{"$f":"'Muni-L1'!AA70","v":447851},{"$f":"'Muni-L1'!AC70","v":96576},{"$f":"'Muni-L1'!AD70","v":2715},{"$f":"'Muni-L1'!AE70","v":233782},{"$f":"'Muni-L1'!AJ70+'Muni-L1'!AK70","v":596581},{"$f":"'Muni-L1'!AF70+'Muni-L1'!AH70+'Muni-L1'!AI70","v":132489},{"$f":"'Muni-L1'!AG70","v":112747},{"$f":"'Muni-L1'!AL70","v":84728},{"$f":"'Muni-L1'!AM70","v":256748},{"$f":"'Muni-L1'!AB70","v":0},{"$f":"'Muni-L1'!AP70","v":1964216},-164284,{"$f":"'Muni-L1'!X70+'Muni-L1'!Y70","v":95629},{"$f":"'Muni-L1'!AO70","v":0},-1,-1]
["Village of Victory",{"$f":"'Muni-L1'!L71+'Muni-L1'!M71","v":203921},{"$f":"'Muni-L1'!N71","v":67218},{"$f":"'Muni-L1'!O71","v":5546},{"$f":"'Muni-L1'!U71","v":293907},{"$f":"'Muni-L1'!V71","v":28591},{"$f":"'Muni-L1'!Q71","v":62786},{"$f":"'Muni-L1'!P71","v":112486},{"$f":"'Muni-L1'!R71+'Muni-L1'!S71","v":6994},{"$f":"'Muni-L1'!Z71","v":815954},{"$f":"'Muni-L1'!AA71","v":140007},{"$f":"'Muni-L1'!AC71","v":7013},{"$f":"'Muni-L1'!AD71","v":350},{"$f":"'Muni-L1'!AE71","v":177598},{"$f":"'Muni-L1'!AJ71+'Muni-L1'!AK71","v":40503},{"$f":"'Muni-L1'!AF71+'Muni-L1'!AH71+'Muni-L1'!AI71","v":6197},{"$f":"'Muni-L1'!AG71","v":246183},{"$f":"'Muni-L1'!AL71","v":47032},{"$f":"'Muni-L1'!AM71","v":88081},{"$f":"'Muni-L1'!AB71","v":0},{"$f":"'Muni-L1'!AP71","v":781469},34485,{"$f":"'Muni-L1'!X71+'Muni-L1'!Y71","v":34505},{"$f":"'Muni-L1'!AO71","v":28505},0,0]
["City of Saratoga Springs",{"$f":"'Muni-L1'!L72+'Muni-L1'!M72","v":18739369},{"$f":"'Muni-L1'!N72","v":10852800},{"$f":"'Muni-L1'!O72","v":458552},{"$f":"'Muni-L1'!U72","v":11756972},{"$f":"'Muni-L1'!V72","v":3797171},{"$f":"'Muni-L1'!Q72","v":249179},{"$f":"'Muni-L1'!P72","v":8589557},{"$f":"'Muni-L1'!R72+'Muni-L1'!S72","v":2779403},{"$f":"'Muni-L1'!Z72","v":60319226},{"$f":"'Muni-L1'!AA72","v":5535381},{"$f":"'Muni-L1'!AC72","v":12172585},{"$f":"'Muni-L1'!AD72","v":17765},{"$f":"'Muni-L1'!AE72","v":6980987},{"$f":"'Muni-L1'!AJ72+'Muni-L1'!AK72","v":6995147},{"$f":"'Muni-L1'!AF72+'Muni-L1'!AH72+'Muni-L1'!AI72","v":6396512},{"$f":"'Muni-L1'!AG72","v":437853},{"$f":"'Muni-L1'!AL72","v":10689370},{"$f":"'Muni-L1'!AM72","v":3396648},{"$f":"'Muni-L1'!AB72","v":0},{"$f":"'Muni-L1'!AP72","v":54179014},6140212,{"$f":"'Muni-L1'!X72+'Muni-L1'!Y72","v":3096223},{"$f":"'Muni-L1'!AO72","v":1556766},0,0]
["Town of Stillwater",{"$f":"'Muni-L1'!L73+'Muni-L1'!M73","v":1940531},{"$f":"'Muni-L1'!N73","v":1622200},{"$f":"'Muni-L1'!O73","v":59869},{"$f":"'Muni-L1'!U73","v":1332105},{"$f":"'Muni-L1'!V73","v":774574},{"$f":"'Muni-L1'!Q73","v":13727},{"$f":"'Muni-L1'!P73","v":455749},{"$f":"'Muni-L1'!R73+'Muni-L1'!S73","v":336199},{"$f":"'Muni-L1'!Z73","v":11971746},{"$f":"'Muni-L1'!AA73","v":924579},{"$f":"'Muni-L1'!AC73","v":1141057},{"$f":"'Muni-L1'!AD73","v":1520},{"$f":"'Muni-L1'!AE73","v":1851888},{"$f":"'Muni-L1'!AJ73+'Muni-L1'!AK73","v":512879},{"$f":"'Muni-L1'!AF73+'Muni-L1'!AH73+'Muni-L1'!AI73","v":1134021},{"$f":"'Muni-L1'!AG73","v":76193},{"$f":"'Muni-L1'!AL73","v":552214},{"$f":"'Muni-L1'!AM73","v":1626045},{"$f":"'Muni-L1'!AB73","v":0},{"$f":"'Muni-L1'!AP73","v":8392669},{"$f":"J71-U71","v":3579077},{"$f":"'Muni-L1'!X73+'Muni-L1'!Y73","v":5436794},{"$f":"'Muni-L1'!AO73","v":572274},-2,-1]
["Village of Stillwater",{"$f":"'Muni-L1'!L74+'Muni-L1'!M74","v":384286},{"$f":"'Muni-L1'!N74","v":230065},{"$f":"'Muni-L1'!O74","v":18395},{"$f":"'Muni-L1'!U74","v":30013},{"$f":"'Muni-L1'!V74","v":18666},{"$f":"'Muni-L1'!Q74","v":0},{"$f":"'Muni-L1'!P74","v":604660},{"$f":"'Muni-L1'!R74+'Muni-L1'!S74","v":23119},{"$f":"'Muni-L1'!Z74","v":1491352},{"$f":"'Muni-L1'!AA74","v":172968},{"$f":"'Muni-L1'!AC74","v":70096},{"$f":"'Muni-L1'!AD74","v":190},{"$f":"'Muni-L1'!AE74","v":149230},{"$f":"'Muni-L1'!AJ74+'Muni-L1'!AK74","v":780501},{"$f":"'Muni-L1'!AF74+'Muni-L1'!AH74+'Muni-L1'!AI74","v":8037},{"$f":"'Muni-L1'!AG74","v":0},{"$f":"'Muni-L1'!AL74","v":113893},{"$f":"'Muni-L1'!AM74","v":289747},{"$f":"'Muni-L1'!AB74","v":0},{"$f":"'Muni-L1'!AP74","v":1649310},-157958,{"$f":"'Muni-L1'!X74+'Muni-L1'!Y74","v":182148},{"$f":"'Muni-L1'!AO74","v":64648},0,0]
["Town of Waterford",{"$f":"'Muni-L1'!L75+'Muni-L1'!M75","v":3376439},{"$f":"'Muni-L1'!N75","v":1431866},{"$f":"'Muni-L1'!O75","v":108502},{"$f":"'Muni-L1'!U75","v":878600},{"$f":"'Muni-L1'!V75","v":380436},{"$f":"'Muni-L1'!Q75","v":32791},{"$f":"'Muni-L1'!P75","v":862398},{"$f":"'Muni-L1'!R75+'Muni-L1'!S75","v":56381},{"$f":"'Muni-L1'!Z75","v":8080093},{"$f":"'Muni-L1'!AA75","v":1371657},{"$f":"'Muni-L1'!AC75","v":1536424},{"$f":"'Muni-L1'!AD75","v":0},{"$f":"'Muni-L1'!AE75","v":767047},{"$f":"'Muni-L1'!AJ75+'Muni-L1'!AK75","v":929041},{"$f":"'Muni-L1'!AF75+'Muni-L1'!AH75+'Muni-L1'!AI75","v":661481},{"$f":"'Muni-L1'!AG75","v":128338},{"$f":"'Muni-L1'!AL75","v":858468},{"$f":"'Muni-L1'!AM75","v":941891},{"$f":"'Muni-L1'!AB75","v":1030},{"$f":"'Muni-L1'!AP75","v":8014453},65640,{"$f":"'Muni-L1'!X75+'Muni-L1'!Y75","v":952680},{"$f":"'Muni-L1'!AO75","v":819076},0,0]
["Village of Waterford",{"$f":"'Muni-L1'!L76+'Muni-L1'!M76","v":248674},{"$f":"'Muni-L1'!N76","v":146012},{"$f":"'Muni-L1'!O76","v":18795},{"$f":"'Muni-L1'!U76","v":203916},{"$f":"'Muni-L1'!V76","v":361242},{"$f":"'Muni-L1'!Q76","v":182313},{"$f":"'Muni-L1'!P76","v":80309},{"$f":"'Muni-L1'!R76+'Muni-L1'!S76","v":35847},{"$f":"'Muni-L1'!Z76","v":1327108},{"$f":"'Muni-L1'!AA76","v":138713},{"$f":"'Muni-L1'!AC76","v":203795},{"$f":"'Muni-L1'!AD76","v":0},{"$f":"'Muni-L1'!AE76","v":281194},{"$f":"'Muni-L1'!AJ76+'Muni-L1'!AK76","v":142989},{"$f":"'Muni-L1'!AF76+'Muni-L1'!AH76+'Muni-L1'!AI76","v":343021},{"$f":"'Muni-L1'!AG76","v":0},{"$f":"'Muni-L1'!AL76","v":9988},{"$f":"'Muni-L1'!AM76","v":142785},{"$f":"'Muni-L1'!AB76","v":0},{"$f":"'Muni-L1'!AP76","v":1262486},64622,{"$f":"'Muni-L1'!X76+'Muni-L1'!Y76","v":50000},{"$f":"'Muni-L1'!AO76","v":0},0,1]
["Town of Wilton",{"$f":"'Muni-L1'!L77+'Muni-L1'!M77","v":566334},{"$f":"'Muni-L1'!N77","v":4502733},{"$f":"'Muni-L1'!O77","v":258829},{"$f":"'Muni-L1'!U77","v":690241},{"$f":"'Muni-L1'!V77","v":95555},{"$f":"'Muni-L1'!Q77","v":11396},{"$f":"'Muni-L1'!P77","v":558963},{"$f":"'Muni-L1'!R77+'Muni-L1'!S77","v":533293},{"$f":"'Muni-L1'!Z77","v":7242344},{"$f":"'Muni-L1'!AA77","v":1492551},{"$f":"'Muni-L1'!AC77","v":700850},{"$f":"'Muni-L1'!AD77","v":11495},{"$f":"'Muni-L1'!AE77","v":1972591},{"$f":"'Muni-L1'!AJ77+'Muni-L1'!AK77","v":17091},{"$f":"'Muni-L1'!AF77+'Muni-L1'!AH77+'Muni-L1'!AI77","v":1159440},{"$f":"'Muni-L1'!AG77","v":2479},{"$f":"'Muni-L1'!AL77","v":913753},{"$f":"'Muni-L1'!AM77","v":172475},{"$f":"'Muni-L1'!AB77","v":0},{"$f":"'Muni-L1'!AP77","v":6467725},774619,{"$f":"'Muni-L1'!X77+'Muni-L1'!Y77","v":25000},{"$f":"'Muni-L1'!AO77","v":25000},0,0]
["Schenectady County",{"$f":"'Muni-L1'!L78+'Muni-L1'!M78","v":66683038},{"$f":"'Muni-L1'!N78","v":82717843},{"$f":"'Muni-L1'!O78","v":568303},{"$f":"'Muni-L1'!U78","v":46741425},{"$f":"'Muni-L1'!V78","v":34631818},{"$f":"'Muni-L1'!Q78","v":4587849},{"$f":"'Muni-L1'!P78","v":30440012},{"$f":"'Muni-L1'!R78+'Muni-L1'!S78","v":15040622},{"$f":"'Muni-L1'!Z78","v":289894211},{"$f":"'Muni-L1'!AA78","v":50293418},{"$f":"'Muni-L1'!AC78","v":22301444},{"$f":"'Muni-L1'!AD78","v":30766693},{"$f":"'Muni-L1'!AE78","v":16080227},{"$f":"'Muni-L1'!AJ78+'Muni-L1'!AK78","v":331867},{"$f":"'Muni-L1'!AF78+'Muni-L1'!AH78+'Muni-L1'!AI78","v":113473676},{"$f":"'Muni-L1'!AG78","v":662969},{"$f":"'Muni-L1'!AL78","v":34644415},{"$f":"'Muni-L1'!AM78","v":8495929},{"$f":"'Muni-L1'!AB78","v":13785064},{"$f":"'Muni-L1'!AP78","v":292518584},-2624373,{"$f":"'Muni-L1'!X78+'Muni-L1'!Y78","v":8483301},{"$f":"'Muni-L1'!AO78","v":1682882},0,0]
["Town of Duanesburg",{"$f":"'Muni-L1'!L79+'Muni-L1'!M79","v":1503058},{"$f":"'Muni-L1'!N79","v":724896},{"$f":"'Muni-L1'!O79","v":34930},{"$f":"'Muni-L1'!U79","v":222014},{"$f":"'Muni-L1'!V79","v":87463},{"$f":"'Muni-L1'!Q79","v":60813},{"$f":"'Muni-L1'!P79","v":30585},{"$f":"'Muni-L1'!R79+'Muni-L1'!S79","v":172872},{"$f":"'Muni-L1'!Z79","v":2837630},{"$f":"'Muni-L1'!AA79","v":606647},{"$f":"'Muni-L1'!AC79","v":447340},{"$f":"'Muni-L1'!AD79","v":850},{"$f":"'Muni-L1'!AE79","v":619822},{"$f":"'Muni-L1'!AJ79+'Muni-L1'!AK79","v":312366},{"$f":"'Muni-L1'!AF79+'Muni-L1'!AH79+'Muni-L1'!AI79","v":30559},{"$f":"'Muni-L1'!AG79","v":90536},{"$f":"'Muni-L1'!AL79","v":353832},{"$f":"'Muni-L1'!AM79","v":303071},{"$f":"'Muni-L1'!AB79","v":0},{"$f":"'Muni-L1'!AP79","v":2766023},71607,{"$f":"'Muni-L1'!X79+'Muni-L1'!Y79","v":1000},{"$f":"'Muni-L1'!AO79","v":1000},-1,0]
["Village of Delanson",{"$f":"'Muni-L1'!L80+'Muni-L1'!M80","v":74484},{"$f":"'Muni-L1'!N80","v":35349},{"$f":"'Muni-L1'!O80","v":10388},{"$f":"'Muni-L1'!U80","v":29495},{"$f":"'Muni-L1'!V80","v":0},{"$f":"'Muni-L1'!Q80","v":58854},{"$f":"'Muni-L1'!P80","v":84422},{"$f":"'Muni-L1'!R80+'Muni-L1'!S80","v":760},{"$f":"'Muni-L1'!Z80","v":293752},{"$f":"'Muni-L1'!AA80","v":76031},{"$f":"'Muni-L1'!AC80","v":32053},{"$f":"'Muni-L1'!AD80","v":0},{"$f":"'Muni-L1'!AE80","v":54812},{"$f":"'Muni-L1'!AJ80+'Muni-L1'!AK80","v":62431},{"$f":"'Muni-L1'!AF80+'Muni-L1'!AH80+'Muni-L1'!AI80","v":2456},{"$f":"'Muni-L1'!AG80","v":0},{"$f":"'Muni-L1'!AL80","v":6203},{"$f":"'Muni-L1'!AM80","v":37256},{"$f":"'Muni-L1'!AB80","v":0},{"$f":"'Muni-L1'!AP80","v":271242},22510,{"$f":"'Muni-L1'!X80+'Muni-L1'!Y80","v":0},{"$f":"'Muni-L1'!AO80","v":0},{"$f":"J78-SUM(B78:I78)-W78","v":0},{"$f":"U78-SUM(K78:T78)-X78","v":0}]
["Town of Glenville",{"$f":"'Muni-L1'!L81+'Muni-L1'!M81","v":7493737},{"$f":"'Muni-L1'!N81","v":2534366},{"$f":"'Muni-L1'!O81","v":317237},{"$f":"'Muni-L1'!U81","v":894403},{"$f":"'Muni-L1'!V81","v":473431},{"$f":"'Muni-L1'!Q81","v":375894},{"$f":"'Muni-L1'!P81","v":1987823},{"$f":"'Muni-L1'!R81+'Muni-L1'!S81","v":1075530},{"$f":"'Muni-L1'!Z81","v":18053004},{"$f":"'Muni-L1'!AA81","v":1470342},{"$f":"'Muni-L1'!AC81","v":3684058},{"$f":"'Muni-L1'!AD81","v":1743},{"$f":"'Muni-L1'!AE81","v":2578556},{"$f":"'Muni-L1'!AJ81+'Muni-L1'!AK81","v":1960311},{"$f":"'Muni-L1'!AF81+'Muni-L1'!AH81+'Muni-L1'!AI81","v":765753},{"$f":"'Muni-L1'!AG81","v":156892},{"$f":"'Muni-L1'!AL81","v":2826267},{"$f":"'Muni-L1'!AM81","v":2391001},{"$f":"'Muni-L1'!AB81","v":0},{"$f":"'Muni-L1'!AP81","v":15834923},2218081,{"$f":"'Muni-L1'!X81+'Muni-L1'!Y81","v":2900583},{"$f":"'Muni-L1'!AO81","v":0},0,0]
["Village of Scotia",{"$f":"'Muni-L1'!L82+'Muni-L1'!M82","v":3867486},{"$f":"'Muni-L1'!N82","v":762478},{"$f":"'Muni-L1'!O82","v":0},{"$f":"'Muni-L1'!U82","v":1675868},{"$f":"'Muni-L1'!V82","v":640262},{"$f":"'Muni-L1'!Q82","v":387648},{"$f":"'Muni-L1'!P82","v":2305228},{"$f":"'Muni-L1'!R82+'Muni-L1'!S82","v":112719},{"$f":"'Muni-L1'!Z82","v":9965020},{"$f":"'Muni-L1'!AA82","v":639606},{"$f":"'Muni-L1'!AC82","v":3117960},{"$f":"'Muni-L1'!AD82","v":64},{"$f":"'Muni-L1'!AE82","v":643606},{"$f":"'Muni-L1'!AJ82+'Muni-L1'!AK82","v":2110177},{"$f":"'Muni-L1'!AF82+'Muni-L1'!AH82+'Muni-L1'!AI82","v":1726830},{"$f":"'Muni-L1'!AG82","v":58440},{"$f":"'Muni-L1'!AL82","v":1332814},{"$f":"'Muni-L1'!AM82","v":323796},{"$f":"'Muni-L1'!AB82","v":0},{"$f":"'Muni-L1'!AP82","v":10166624},-201604,{"$f":"'Muni-L1'!X82+'Muni-L1'!Y82","v":213331},{"$f":"'Muni-L1'!AO82","v":213331},0,0]
["Town of Niskayuna",{"$f":"'Muni-L1'!L83+'Muni-L1'!M83","v":10443428},{"$f":"'Muni-L1'!N83","v":3026887},{"$f":"'Muni-L1'!O83","v":358202},{"$f":"'Muni-L1'!U83","v":954275},{"$f":"'Muni-L1'!V83","v":560396},{"$f":"'Muni-L1'!Q83","v":14329},{"$f":"'Muni-L1'!P83","v":3540286},{"$f":"'Muni-L1'!R83+'Muni-L1'!S83","v":462824},{"$f":"'Muni-L1'!Z83","v":29553333},{"$f":"'Muni-L1'!AA83","v":1705458},{"$f":"'Muni-L1'!AC83","v":3321153},{"$f":"'Muni-L1'!AD83","v":34597},{"$f":"'Muni-L1'!AE83","v":3612017},{"$f":"'Muni-L1'!AJ83+'Muni-L1'!AK83","v":6559453},{"$f":"'Muni-L1'!AF83+'Muni-L1'!AH83+'Muni-L1'!AI83","v":1481464},{"$f":"'Muni-L1'!AG83","v":0},{"$f":"'Muni-L1'!AL83","v":3454495},{"$f":"'Muni-L1'!AM83","v":1527246},{"$f":"'Muni-L1'!AB83","v":0},{"$f":"'Muni-L1'!AP83","v":22239862},7313471,{"$f":"'Muni-L1'!X83+'Muni-L1'!Y83","v":10192706},{"$f":"'Muni-L1'!AO83","v":543980},0,-1]
["Town of Princetown",{"$f":"'Muni-L1'!L84+'Muni-L1'!M84","v":481867},{"$f":"'Muni-L1'!N84","v":193766},{"$f":"'Muni-L1'!O84","v":0},{"$f":"'Muni-L1'!U84","v":71230},{"$f":"'Muni-L1'!V84","v":28267},{"$f":"'Muni-L1'!Q84","v":0},{"$f":"'Muni-L1'!P84","v":141162},{"$f":"'Muni-L1'!R84+'Muni-L1'!S84","v":287426},{"$f":"'Muni-L1'!Z84","v":1611565},{"$f":"'Muni-L1'!AA84","v":382128},{"$f":"'Muni-L1'!AC84","v":276218},{"$f":"'Muni-L1'!AD84","v":100},{"$f":"'Muni-L1'!AE84","v":78270},{"$f":"'Muni-L1'!AJ84+'Muni-L1'!AK84","v":477801},{"$f":"'Muni-L1'!AF84+'Muni-L1'!AH84+'Muni-L1'!AI84","v":5304},{"$f":"'Muni-L1'!AG84","v":0},{"$f":"'Muni-L1'!AL84","v":59108},{"$f":"'Muni-L1'!AM84","v":172899},{"$f":"'Muni-L1'!AB84","v":0},{"$f":"'Muni-L1'!AP84","v":1529074},82491,{"$f":"'Muni-L1'!X84+'Muni-L1'!Y84","v":407846},{"$f":"'Muni-L1'!AO84","v":77246},1,0]
["Town of Rotterdam",{"$f":"'Muni-L1'!L85+'Muni-L1'!M85","v":11788200},{"$f":"'Muni-L1'!N85","v":3523483},{"$f":"'Muni-L1'!O85","v":538874},{"$f":"'Muni-L1'!U85","v":1021568},{"$f":"'Muni-L1'!V85","v":1543636},{"$f":"'Muni-L1'!Q85","v":177794},{"$f":"'Muni-L1'!P85","v":906097},{"$f":"'Muni-L1'!R85+'Muni-L1'!S85","v":980776},{"$f":"'Muni-L1'!Z85","v":20602856},{"$f":"'Muni-L1'!AA85","v":2245334},{"$f":"'Muni-L1'!AC85","v":5788751},{"$f":"'Muni-L1'!AD85","v":3400},{"$f":"'Muni-L1'!AE85","v":4054515},{"$f":"'Muni-L1'!AJ85+'Muni-L1'!AK85","v":2575291},{"$f":"'Muni-L1'!AF85+'Muni-L1'!AH85+'Muni-L1'!AI85","v":2105606},{"$f":"'Muni-L1'!AG85","v":3660},{"$f":"'Muni-L1'!AL85","v":4763104},{"$f":"'Muni-L1'!AM85","v":1483485},{"$f":"'Muni-L1'!AB85","v":1022},{"$f":"'Muni-L1'!AP85","v":23075844},-2472988,{"$f":"'Muni-L1'!X85+'Muni-L1'!Y85","v":122427},{"$f":"'Muni-L1'!AO85","v":51677},1,-1]
["City of Schenectady",{"$f":"'Muni-L1'!L86+'Muni-L1'!M86","v":26861368},{"$f":"'Muni-L1'!N86","v":11848038},{"$f":"'Muni-L1'!O86","v":793997},{"$f":"'Muni-L1'!U86","v":16346137},{"$f":"'Muni-L1'!V86","v":8428494},{"$f":"'Muni-L1'!Q86","v":266134},{"$f":"'Muni-L1'!P86","v":28980434},{"$f":"'Muni-L1'!R86+'Muni-L1'!S86","v":7550091},{"$f":"'Muni-L1'!Z86","v":104547407},{"$f":"'Muni-L1'!AA86","v":22284818},{"$f":"'Muni-L1'!AC86","v":26256064},{"$f":"'Muni-L1'!AD86","v":0},{"$f":"'Muni-L1'!AE86","v":8602444},{"$f":"'Muni-L1'!AJ86+'Muni-L1'!AK86","v":20980174},{"$f":"'Muni-L1'!AF86+'Muni-L1'!AH86+'Muni-L1'!AI86","v":2845975},{"$f":"'Muni-L1'!AG86","v":11516104},{"$f":"'Muni-L1'!AL86","v":24262511},{"$f":"'Muni-L1'!AM86","v":8849515},{"$f":"'Muni-L1'!AB86","v":0},{"$f":"'Muni-L1'!AP86","v":126003605},-21456198,{"$f":"'Muni-L1'!X86+'Muni-L1'!Y86","v":3472714},{"$f":"'Muni-L1'!AO86","v":406000},0,0]
["Capital District",{"$f":"'Muni-L1'!L87+'Muni-L1'!M87","v":250825033},{"$f":"'Muni-L1'!N87","v":477522222},{"$f":"'Muni-L1'!O87","v":10093167},{"$f":"'Muni-L1'!U87","v":189483684},{"$f":"'Muni-L1'!V87","v":172384745},{"$f":"'Muni-L1'!Q87","v":50889184},{"$f":"'Muni-L1'!P87","v":198222893},{"$f":"'Muni-L1'!R87+'Muni-L1'!S87","v":67792114},{"$f":"'Muni-L1'!Z87","v":1581860889},{"$f":"'Muni-L1'!AA87","v":338502840},{"$f":"'Muni-L1'!AC87","v":131673034},{"$f":"'Muni-L1'!AD87","v":140718798},{"$f":"'Muni-L1'!AE87","v":67736042},{"$f":"'Muni-L1'!AJ87+'Muni-L1'!AK87","v":18905591},{"$f":"'Muni-L1'!AF87+'Muni-L1'!AH87+'Muni-L1'!AI87","v":469578261},{"$f":"'Muni-L1'!AG87","v":3861337},{"$f":"'Muni-L1'!AL87","v":193217608},{"$f":"'Muni-L1'!AM87","v":49303538},{"$f":"'Muni-L1'!AB87","v":83069023},{"$f":"'Muni-L1'!AP87","v":1568570384},13290505,{"$f":"'Muni-L1'!X87+'Muni-L1'!Y87","v":164647848},{"$f":"'Muni-L1'!AO87","v":72004312},-1,0]

{"sheet":"DataNews 2010","index":4,"n_rows":88,"n_cols":15,"rows_kept":88,"cut":false,"hidden":false,"merged":[]}
[{"$f":"\"FY \"&RIGHT('Muni-L1'!B1,4)","v":"FY 2010"},"Revenues ($1,000s)",null,null,null,null,null,"Expenditures by Function ($1,000s)"]
["Revenues & Expenditures","Property Tax","Sales Tax","State Aid","Federal Aid","Other","Total Revenues","General Government","Health & Public Safety","Transport. and Utilities","Economic Assistance","Other","Total Expenditures",{"$f":"A1&\" Surplus or (Deficit)\"","v":"FY 2010 Surplus or (Deficit)"}]
[{"$f":"'Muni-L1'!B3","v":"Albany County"},{"$f":"'Muni-L1'!L3+'Muni-L1'!M3","v":74469254},{"$f":"'Muni-L1'!N3","v":228951684},{"$f":"'Muni-L1'!U3","v":74524039},{"$f":"'Muni-L1'!V3","v":82382833},{"$f":"'Muni-L1'!O3+'Muni-L1'!P3+'Muni-L1'!Q3+'Muni-L1'!R3+'Muni-L1'!S3+'Muni-L1'!X3+'Muni-L1'!Y3","v":202058935},{"$f":"SUM(B3:F3)","v":662386745},{"$f":"'Muni-L1'!AA3","v":146311349},{"$f":"'Muni-L1'!AC3+'Muni-L1'!AD3","v":93017418},{"$f":"'Muni-L1'!AE3+'Muni-L1'!AJ3+'Muni-L1'!AK3","v":33820105},{"$f":"'Muni-L1'!AG3","v":1525331},{"$f":"'Muni-L1'!AB3+'Muni-L1'!AF3+'Muni-L1'!AH3+'Muni-L1'!AI3+'Muni-L1'!AL3+'Muni-L1'!AM3+'Muni-L1'!AO3","v":376504440},{"$f":"SUM(H3:L3)","v":651178643},{"$f":"G3-M3","v":11208102},{"$f":"'Muni-L1'!Z3-'Muni-L1'!AP3-N3","v":-3}]
[{"$f":"'Muni-L1'!B4","v":"City of Albany"},{"$f":"'Muni-L1'!L4+'Muni-L1'!M4","v":79320706},{"$f":"'Muni-L1'!N4","v":30350525},{"$f":"'Muni-L1'!U4","v":21688863},{"$f":"'Muni-L1'!V4","v":11745596},{"$f":"'Muni-L1'!O4+'Muni-L1'!P4+'Muni-L1'!Q4+'Muni-L1'!R4+'Muni-L1'!S4+'Muni-L1'!X4+'Muni-L1'!Y4","v":31609790},174715480,{"$f":"'Muni-L1'!AA4","v":22113971},{"$f":"'Muni-L1'!AC4+'Muni-L1'!AD4","v":57941668},{"$f":"'Muni-L1'!AE4+'Muni-L1'!AJ4+'Muni-L1'!AK4","v":32529935},{"$f":"'Muni-L1'!AG4","v":0},{"$f":"'Muni-L1'!AB4+'Muni-L1'!AF4+'Muni-L1'!AH4+'Muni-L1'!AI4+'Muni-L1'!AL4+'Muni-L1'!AM4+'Muni-L1'!AO4","v":76493028},189078602,-14363122,{"$f":"'Muni-L1'!Z4-'Muni-L1'!AP4-N4","v":0}]
[{"$f":"'Muni-L1'!B5","v":"Town of Berne"},{"$f":"'Muni-L1'!L5+'Muni-L1'!M5","v":1165133},{"$f":"'Muni-L1'!N5","v":888183},{"$f":"'Muni-L1'!U5","v":347544},{"$f":"'Muni-L1'!V5","v":0},{"$f":"'Muni-L1'!O5+'Muni-L1'!P5+'Muni-L1'!Q5+'Muni-L1'!R5+'Muni-L1'!S5+'Muni-L1'!X5+'Muni-L1'!Y5","v":189840},2590700,{"$f":"'Muni-L1'!AA5","v":358567},{"$f":"'Muni-L1'!AC5+'Muni-L1'!AD5","v":512089},{"$f":"'Muni-L1'!AE5+'Muni-L1'!AJ5+'Muni-L1'!AK5","v":1098032},{"$f":"'Muni-L1'!AG5","v":0},{"$f":"'Muni-L1'!AB5+'Muni-L1'!AF5+'Muni-L1'!AH5+'Muni-L1'!AI5+'Muni-L1'!AL5+'Muni-L1'!AM5+'Muni-L1'!AO5","v":365133},2333821,256879,{"$f":"'Muni-L1'!Z5-'Muni-L1'!AP5-N5","v":1}]
[{"$f":"'Muni-L1'!B6","v":"Town of Bethlehem"},{"$f":"'Muni-L1'!L6+'Muni-L1'!M6","v":12778196},{"$f":"'Muni-L1'!N6","v":9444723},{"$f":"'Muni-L1'!U6","v":1432107},{"$f":"'Muni-L1'!V6","v":897379},{"$f":"'Muni-L1'!O6+'Muni-L1'!P6+'Muni-L1'!Q6+'Muni-L1'!R6+'Muni-L1'!S6+'Muni-L1'!X6+'Muni-L1'!Y6","v":13179672},37732077,{"$f":"'Muni-L1'!AA6","v":3885268},{"$f":"'Muni-L1'!AC6+'Muni-L1'!AD6","v":7148277},{"$f":"'Muni-L1'!AE6+'Muni-L1'!AJ6+'Muni-L1'!AK6","v":16856114},{"$f":"'Muni-L1'!AG6","v":0},{"$f":"'Muni-L1'!AB6+'Muni-L1'!AF6+'Muni-L1'!AH6+'Muni-L1'!AI6+'Muni-L1'!AL6+'Muni-L1'!AM6+'Muni-L1'!AO6","v":10959668},38849327,-1117250,{"$f":"'Muni-L1'!Z6-'Muni-L1'!AP6-N6","v":0}]
[{"$f":"'Muni-L1'!B7","v":"Town of Coeymans"},{"$f":"'Muni-L1'!L7+'Muni-L1'!M7","v":1749516},{"$f":"'Muni-L1'!N7","v":1785256},{"$f":"'Muni-L1'!U7","v":242142},{"$f":"'Muni-L1'!V7","v":470895},{"$f":"'Muni-L1'!O7+'Muni-L1'!P7+'Muni-L1'!Q7+'Muni-L1'!R7+'Muni-L1'!S7+'Muni-L1'!X7+'Muni-L1'!Y7","v":2850383},7098192,{"$f":"'Muni-L1'!AA7","v":879875},{"$f":"'Muni-L1'!AC7+'Muni-L1'!AD7","v":1392127},{"$f":"'Muni-L1'!AE7+'Muni-L1'!AJ7+'Muni-L1'!AK7","v":1712842},{"$f":"'Muni-L1'!AG7","v":844},{"$f":"'Muni-L1'!AB7+'Muni-L1'!AF7+'Muni-L1'!AH7+'Muni-L1'!AI7+'Muni-L1'!AL7+'Muni-L1'!AM7+'Muni-L1'!AO7","v":3322997},7308685,-210493,{"$f":"'Muni-L1'!Z7-'Muni-L1'!AP7-N7","v":-1}]
[{"$f":"'Muni-L1'!B8","v":"Village of Ravena"},{"$f":"'Muni-L1'!L8+'Muni-L1'!M8","v":766837},{"$f":"'Muni-L1'!N8","v":715669},{"$f":"'Muni-L1'!U8","v":81777},{"$f":"'Muni-L1'!V8","v":54586},{"$f":"'Muni-L1'!O8+'Muni-L1'!P8+'Muni-L1'!Q8+'Muni-L1'!R8+'Muni-L1'!S8+'Muni-L1'!X8+'Muni-L1'!Y8","v":1209184},2828053,{"$f":"'Muni-L1'!AA8","v":742493},{"$f":"'Muni-L1'!AC8+'Muni-L1'!AD8","v":139008},{"$f":"'Muni-L1'!AE8+'Muni-L1'!AJ8+'Muni-L1'!AK8","v":869333},{"$f":"'Muni-L1'!AG8","v":1304},{"$f":"'Muni-L1'!AB8+'Muni-L1'!AF8+'Muni-L1'!AH8+'Muni-L1'!AI8+'Muni-L1'!AL8+'Muni-L1'!AM8+'Muni-L1'!AO8","v":880335},2632473,195580,{"$f":"'Muni-L1'!Z8-'Muni-L1'!AP8-N8","v":0}]
[{"$f":"'Muni-L1'!B9","v":"City of Cohoes"},{"$f":"'Muni-L1'!L9+'Muni-L1'!M9","v":7372391},{"$f":"'Muni-L1'!N9","v":4886563},{"$f":"'Muni-L1'!U9","v":3717282},{"$f":"'Muni-L1'!V9","v":5979887},{"$f":"'Muni-L1'!O9+'Muni-L1'!P9+'Muni-L1'!Q9+'Muni-L1'!R9+'Muni-L1'!S9+'Muni-L1'!X9+'Muni-L1'!Y9","v":5942568},27898691,{"$f":"'Muni-L1'!AA9","v":2631834},{"$f":"'Muni-L1'!AC9+'Muni-L1'!AD9","v":6982179},{"$f":"'Muni-L1'!AE9+'Muni-L1'!AJ9+'Muni-L1'!AK9","v":9345520},{"$f":"'Muni-L1'!AG9","v":173947},{"$f":"'Muni-L1'!AB9+'Muni-L1'!AF9+'Muni-L1'!AH9+'Muni-L1'!AI9+'Muni-L1'!AL9+'Muni-L1'!AM9+'Muni-L1'!AO9","v":8493473},27626953,271738,{"$f":"'Muni-L1'!Z9-'Muni-L1'!AP9-N9","v":0}]
[{"$f":"'Muni-L1'!B10","v":"Town of Colonie"},{"$f":"'Muni-L1'!L10+'Muni-L1'!M10","v":31071215},{"$f":"'Muni-L1'!N10","v":19446154},{"$f":"'Muni-L1'!U10","v":3912479},{"$f":"'Muni-L1'!V10","v":6767989},{"$f":"'Muni-L1'!O10+'Muni-L1'!P10+'Muni-L1'!Q10+'Muni-L1'!R10+'Muni-L1'!S10+'Muni-L1'!X10+'Muni-L1'!Y10","v":40824674},102022511,{"$f":"'Muni-L1'!AA10","v":19791192},{"$f":"'Muni-L1'!AC10+'Muni-L1'!AD10","v":23617019},{"$f":"'Muni-L1'!AE10+'Muni-L1'!AJ10+'Muni-L1'!AK10","v":26000187},{"$f":"'Muni-L1'!AG10","v":893013},{"$f":"'Muni-L1'!AB10+'Muni-L1'!AF10+'Muni-L1'!AH10+'Muni-L1'!AI10+'Muni-L1'!AL10+'Muni-L1'!AM10+'Muni-L1'!AO10","v":38331970},108633381,-6610870,{"$f":"'Muni-L1'!Z10-'Muni-L1'!AP10-N10","v":0}]
[{"$f":"'Muni-L1'!B11","v":"Village of Colonie"},{"$f":"'Muni-L1'!L11+'Muni-L1'!M11","v":1201129},{"$f":"'Muni-L1'!N11","v":2326038},{"$f":"'Muni-L1'!U11","v":187683},{"$f":"'Muni-L1'!V11","v":115892},{"$f":"'Muni-L1'!O11+'Muni-L1'!P11+'Muni-L1'!Q11+'Muni-L1'!R11+'Muni-L1'!S11+'Muni-L1'!X11+'Muni-L1'!Y11","v":3712334},7543076,{"$f":"'Muni-L1'!AA11","v":708727},{"$f":"'Muni-L1'!AC11+'Muni-L1'!AD11","v":345518},{"$f":"'Muni-L1'!AE11+'Muni-L1'!AJ11+'Muni-L1'!AK11","v":3801582},{"$f":"'Muni-L1'!AG11","v":25994},{"$f":"'Muni-L1'!AB11+'Muni-L1'!AF11+'Muni-L1'!AH11+'Muni-L1'!AI11+'Muni-L1'!AL11+'Muni-L1'!AM11+'Muni-L1'!AO11","v":2297160},7178981,364095,{"$f":"'Muni-L1'!Z11-'Muni-L1'!AP11-N11","v":0}]
[{"$f":"'Muni-L1'!B12","v":"Village of Menands"},{"$f":"'Muni-L1'!L12+'Muni-L1'!M12","v":1800229},{"$f":"'Muni-L1'!N12","v":1288251},{"$f":"'Muni-L1'!U12","v":131927},{"$f":"'Muni-L1'!V12","v":25848},{"$f":"'Muni-L1'!O12+'Muni-L1'!P12+'Muni-L1'!Q12+'Muni-L1'!R12+'Muni-L1'!S12+'Muni-L1'!X12+'Muni-L1'!Y12","v":1899686},5145941,{"$f":"'Muni-L1'!AA12","v":630602},{"$f":"'Muni-L1'!AC12+'Muni-L1'!AD12","v":1176266},{"$f":"'Muni-L1'!AE12+'Muni-L1'!AJ12+'Muni-L1'!AK12","v":1925997},{"$f":"'Muni-L1'!AG12","v":4476},{"$f":"'Muni-L1'!AB12+'Muni-L1'!AF12+'Muni-L1'!AH12+'Muni-L1'!AI12+'Muni-L1'!AL12+'Muni-L1'!AM12+'Muni-L1'!AO12","v":858876},4596217,549724,{"$f":"'Muni-L1'!Z12-'Muni-L1'!AP12-N12","v":0}]
[{"$f":"'Muni-L1'!B15","v":"Town/Village of Green Island"},{"$f":"'Muni-L1'!L15+'Muni-L1'!M15","v":2102833},{"$f":"'Muni-L1'!N15","v":657742},{"$f":"'Muni-L1'!U15","v":175303},{"$f":"'Muni-L1'!V15","v":381400},{"$f":"'Muni-L1'!O15+'Muni-L1'!P15+'Muni-L1'!Q15+'Muni-L1'!R15+'Muni-L1'!S15+'Muni-L1'!X15+'Muni-L1'!Y15","v":2003113},5320391,{"$f":"'Muni-L1'!AA15","v":842699},{"$f":"'Muni-L1'!AC15+'Muni-L1'!AD15","v":1122798},{"$f":"'Muni-L1'!AE15+'Muni-L1'!AJ15+'Muni-L1'!AK15","v":1417066},{"$f":"'Muni-L1'!AG15","v":0},{"$f":"'Muni-L1'!AB15+'Muni-L1'!AF15+'Muni-L1'!AH15+'Muni-L1'!AI15+'Muni-L1'!AL15+'Muni-L1'!AM15+'Muni-L1'!AO15","v":1620882},5003445,316946,{"$f":"'Muni-L1'!Z15-'Muni-L1'!AP15-N13","v":0}]
[{"$f":"'Muni-L1'!B16","v":"Town of Guilderland"},{"$f":"'Muni-L1'!L16+'Muni-L1'!M16","v":8364308},{"$f":"'Muni-L1'!N16","v":9747640},{"$f":"'Muni-L1'!U16","v":1624711},{"$f":"'Muni-L1'!V16","v":586027},{"$f":"'Muni-L1'!O16+'Muni-L1'!P16+'Muni-L1'!Q16+'Muni-L1'!R16+'Muni-L1'!S16+'Muni-L1'!X16+'Muni-L1'!Y16","v":10574375},{"$f":"SUM(B14:F14)","v":30897061},{"$f":"'Muni-L1'!AA16","v":2592473},{"$f":"'Muni-L1'!AC16+'Muni-L1'!AD16","v":6690465},{"$f":"'Muni-L1'!AE16+'Muni-L1'!AJ16+'Muni-L1'!AK16","v":11888859},{"$f":"'Muni-L1'!AG16","v":648865},{"$f":"'Muni-L1'!AB16+'Muni-L1'!AF16+'Muni-L1'!AH16+'Muni-L1'!AI16+'Muni-L1'!AL16+'Muni-L1'!AM16+'Muni-L1'!AO16","v":10372030},{"$f":"SUM(H14:L14)","v":32192692},{"$f":"G14-M14","v":-1295631},{"$f":"'Muni-L1'!Z16-'Muni-L1'!AP16-N14","v":1}]
[{"$f":"'Muni-L1'!B17","v":"Village of Altamont"},{"$f":"'Muni-L1'!L17+'Muni-L1'!M17","v":275236},{"$f":"'Muni-L1'!N17","v":533455},{"$f":"'Muni-L1'!U17","v":72482},{"$f":"'Muni-L1'!V17","v":10452},{"$f":"'Muni-L1'!O17+'Muni-L1'!P17+'Muni-L1'!Q17+'Muni-L1'!R17+'Muni-L1'!S17+'Muni-L1'!X17+'Muni-L1'!Y17","v":1048598},1940223,{"$f":"'Muni-L1'!AA17","v":267391},{"$f":"'Muni-L1'!AC17+'Muni-L1'!AD17","v":417249},{"$f":"'Muni-L1'!AE17+'Muni-L1'!AJ17+'Muni-L1'!AK17","v":742064},{"$f":"'Muni-L1'!AG17","v":0},{"$f":"'Muni-L1'!AB17+'Muni-L1'!AF17+'Muni-L1'!AH17+'Muni-L1'!AI17+'Muni-L1'!AL17+'Muni-L1'!AM17+'Muni-L1'!AO17","v":493354},1920058,20165,{"$f":"'Muni-L1'!Z17-'Muni-L1'!AP17-N15","v":0}]
[{"$f":"'Muni-L1'!B18","v":"Town of Knox"},{"$f":"'Muni-L1'!L18+'Muni-L1'!M18","v":244907},{"$f":"'Muni-L1'!N18","v":798626},{"$f":"'Muni-L1'!U18","v":115187},{"$f":"'Muni-L1'!V18","v":0},{"$f":"'Muni-L1'!O18+'Muni-L1'!P18+'Muni-L1'!Q18+'Muni-L1'!R18+'Muni-L1'!S18+'Muni-L1'!X18+'Muni-L1'!Y18","v":182175},1340895,{"$f":"'Muni-L1'!AA18","v":1162541},{"$f":"'Muni-L1'!AC18+'Muni-L1'!AD18","v":103725},{"$f":"'Muni-L1'!AE18+'Muni-L1'!AJ18+'Muni-L1'!AK18","v":653318},{"$f":"'Muni-L1'!AG18","v":0},{"$f":"'Muni-L1'!AB18+'Muni-L1'!AF18+'Muni-L1'!AH18+'Muni-L1'!AI18+'Muni-L1'!AL18+'Muni-L1'!AM18+'Muni-L1'!AO18","v":311770},2231354,-890459,{"$f":"'Muni-L1'!Z18-'Muni-L1'!AP18-N16","v":-1}]
[{"$f":"'Muni-L1'!B19","v":"Town of New Scotland"},{"$f":"'Muni-L1'!L19+'Muni-L1'!M19","v":2314314},{"$f":"'Muni-L1'!N19","v":1765304},{"$f":"'Muni-L1'!U19","v":403825},{"$f":"'Muni-L1'!V19","v":126169},{"$f":"'Muni-L1'!O19+'Muni-L1'!P19+'Muni-L1'!Q19+'Muni-L1'!R19+'Muni-L1'!S19+'Muni-L1'!X19+'Muni-L1'!Y19","v":778097},5387709,{"$f":"'Muni-L1'!AA19","v":783786},{"$f":"'Muni-L1'!AC19+'Muni-L1'!AD19","v":986497},{"$f":"'Muni-L1'!AE19+'Muni-L1'!AJ19+'Muni-L1'!AK19","v":2738264},{"$f":"'Muni-L1'!AG19","v":0},{"$f":"'Muni-L1'!AB19+'Muni-L1'!AF19+'Muni-L1'!AH19+'Muni-L1'!AI19+'Muni-L1'!AL19+'Muni-L1'!AM19+'Muni-L1'!AO19","v":1152720},5661267,-273558,{"$f":"'Muni-L1'!Z19-'Muni-L1'!AP19-N17","v":0}]
[{"$f":"'Muni-L1'!B20","v":"Village of Voorheesville"},{"$f":"'Muni-L1'!L20+'Muni-L1'!M20","v":260687},{"$f":"'Muni-L1'!N20","v":855366},{"$f":"'Muni-L1'!U20","v":104494},{"$f":"'Muni-L1'!V20","v":2550},{"$f":"'Muni-L1'!O20+'Muni-L1'!P20+'Muni-L1'!Q20+'Muni-L1'!R20+'Muni-L1'!S20+'Muni-L1'!X20+'Muni-L1'!Y20","v":684167},1907264,{"$f":"'Muni-L1'!AA20","v":303841},{"$f":"'Muni-L1'!AC20+'Muni-L1'!AD20","v":71192},{"$f":"'Muni-L1'!AE20+'Muni-L1'!AJ20+'Muni-L1'!AK20","v":809032},{"$f":"'Muni-L1'!AG20","v":0},{"$f":"'Muni-L1'!AB20+'Muni-L1'!AF20+'Muni-L1'!AH20+'Muni-L1'!AI20+'Muni-L1'!AL20+'Muni-L1'!AM20+'Muni-L1'!AO20","v":489238},1673303,233961,{"$f":"'Muni-L1'!Z20-'Muni-L1'!AP20-N18","v":0}]
[{"$f":"'Muni-L1'!B21","v":"Town of Rensselaerville"},{"$f":"'Muni-L1'!L21+'Muni-L1'!M21","v":1199659},{"$f":"'Muni-L1'!N21","v":501520},{"$f":"'Muni-L1'!U21","v":169482},{"$f":"'Muni-L1'!V21","v":0},{"$f":"'Muni-L1'!O21+'Muni-L1'!P21+'Muni-L1'!Q21+'Muni-L1'!R21+'Muni-L1'!S21+'Muni-L1'!X21+'Muni-L1'!Y21","v":191072},2061733,{"$f":"'Muni-L1'!AA21","v":329075},{"$f":"'Muni-L1'!AC21+'Muni-L1'!AD21","v":276161},{"$f":"'Muni-L1'!AE21+'Muni-L1'!AJ21+'Muni-L1'!AK21","v":1178227},{"$f":"'Muni-L1'!AG21","v":0},{"$f":"'Muni-L1'!AB21+'Muni-L1'!AF21+'Muni-L1'!AH21+'Muni-L1'!AI21+'Muni-L1'!AL21+'Muni-L1'!AM21+'Muni-L1'!AO21","v":482679},2266142,-204409,{"$f":"'Muni-L1'!Z21-'Muni-L1'!AP21-N19","v":0}]
[{"$f":"'Muni-L1'!B22","v":"City of Watervliet"},{"$f":"'Muni-L1'!L22+'Muni-L1'!M22","v":3970313},{"$f":"'Muni-L1'!N22","v":3241101},{"$f":"'Muni-L1'!U22","v":6434433},{"$f":"'Muni-L1'!V22","v":246864},{"$f":"'Muni-L1'!O22+'Muni-L1'!P22+'Muni-L1'!Q22+'Muni-L1'!R22+'Muni-L1'!S22+'Muni-L1'!X22+'Muni-L1'!Y22","v":6475115},20367826,{"$f":"'Muni-L1'!AA22","v":1344622},{"$f":"'Muni-L1'!AC22+'Muni-L1'!AD22","v":4589052},{"$f":"'Muni-L1'!AE22+'Muni-L1'!AJ22+'Muni-L1'!AK22","v":8494419},{"$f":"'Muni-L1'!AG22","v":599105},{"$f":"'Muni-L1'!AB22+'Muni-L1'!AF22+'Muni-L1'!AH22+'Muni-L1'!AI22+'Muni-L1'!AL22+'Muni-L1'!AM22+'Muni-L1'!AO22","v":5504374},20531572,-163746,{"$f":"'Muni-L1'!Z22-'Muni-L1'!AP22-N20","v":0}]
[{"$f":"'Muni-L1'!B23","v":"Town of Westerlo"},{"$f":"'Muni-L1'!L23+'Muni-L1'!M23","v":998611},{"$f":"'Muni-L1'!N23","v":1045726},{"$f":"'Muni-L1'!U23","v":234381},{"$f":"'Muni-L1'!V23","v":0},{"$f":"'Muni-L1'!O23+'Muni-L1'!P23+'Muni-L1'!Q23+'Muni-L1'!R23+'Muni-L1'!S23+'Muni-L1'!X23+'Muni-L1'!Y23","v":157386},2436104,{"$f":"'Muni-L1'!AA23","v":622015},{"$f":"'Muni-L1'!AC23+'Muni-L1'!AD23","v":285304},{"$f":"'Muni-L1'!AE23+'Muni-L1'!AJ23+'Muni-L1'!AK23","v":1010592},{"$f":"'Muni-L1'!AG23","v":0},{"$f":"'Muni-L1'!AB23+'Muni-L1'!AF23+'Muni-L1'!AH23+'Muni-L1'!AI23+'Muni-L1'!AL23+'Muni-L1'!AM23+'Muni-L1'!AO23","v":711310},2629221,-193117,{"$f":"'Muni-L1'!Z23-'Muni-L1'!AP23-N21","v":0}]
[{"$f":"'Muni-L1'!B24","v":"Rensselaer County"},{"$f":"'Muni-L1'!L24+'Muni-L1'!M24","v":60081172},{"$f":"'Muni-L1'!N24","v":69300351},{"$f":"'Muni-L1'!U24","v":45932941},{"$f":"'Muni-L1'!V24","v":27210705},{"$f":"'Muni-L1'!O24+'Muni-L1'!P24+'Muni-L1'!Q24+'Muni-L1'!R24+'Muni-L1'!S24+'Muni-L1'!X24+'Muni-L1'!Y24","v":118541080},321066249,{"$f":"'Muni-L1'!AA24","v":46614760},{"$f":"'Muni-L1'!AC24+'Muni-L1'!AD24","v":73483171},{"$f":"'Muni-L1'!AE24+'Muni-L1'!AJ24+'Muni-L1'!AK24","v":13058790},{"$f":"'Muni-L1'!AG24","v":889366},{"$f":"'Muni-L1'!AB24+'Muni-L1'!AF24+'Muni-L1'!AH24+'Muni-L1'!AI24+'Muni-L1'!AL24+'Muni-L1'!AM24+'Muni-L1'!AO24","v":180562523},314608610,6457639,{"$f":"'Muni-L1'!Z24-'Muni-L1'!AP24-N22","v":3}]
[{"$f":"'Muni-L1'!B25","v":"Village of Nassau"},{"$f":"'Muni-L1'!L25+'Muni-L1'!M25","v":345314},{"$f":"'Muni-L1'!N25","v":63338},{"$f":"'Muni-L1'!U25","v":73182},{"$f":"'Muni-L1'!V25","v":6334},{"$f":"'Muni-L1'!O25+'Muni-L1'!P25+'Muni-L1'!Q25+'Muni-L1'!R25+'Muni-L1'!S25+'Muni-L1'!X25+'Muni-L1'!Y25","v":377398},865566,{"$f":"'Muni-L1'!AA25","v":169761},{"$f":"'Muni-L1'!AC25+'Muni-L1'!AD25","v":159086},{"$f":"'Muni-L1'!AE25+'Muni-L1'!AJ25+'Muni-L1'!AK25","v":336928},{"$f":"'Muni-L1'!AG25","v":0},{"$f":"'Muni-L1'!AB25+'Muni-L1'!AF25+'Muni-L1'!AH25+'Muni-L1'!AI25+'Muni-L1'!AL25+'Muni-L1'!AM25+'Muni-L1'!AO25","v":147806},813581,51985,{"$f":"'Muni-L1'!Z25-'Muni-L1'!AP25-N23","v":0}]
[{"$f":"'Muni-L1'!B26","v":"Village of Valley Falls"},{"$f":"'Muni-L1'!L26+'Muni-L1'!M26","v":50710},{"$f":"'Muni-L1'!N26","v":29737},{"$f":"'Muni-L1'!U26","v":19513},{"$f":"'Muni-L1'!V26","v":0},{"$f":"'Muni-L1'!O26+'Muni-L1'!P26+'Muni-L1'!Q26+'Muni-L1'!R26+'Muni-L1'!S26+'Muni-L1'!X26+'Muni-L1'!Y26","v":213222},313182,{"$f":"'Muni-L1'!AA26","v":59543},{"$f":"'Muni-L1'!AC26+'Muni-L1'!AD26","v":40548},{"$f":"'Muni-L1'!AE26+'Muni-L1'!AJ26+'Muni-L1'!AK26","v":26317},{"$f":"'Muni-L1'!AG26","v":0},{"$f":"'Muni-L1'!AB26+'Muni-L1'!AF26+'Muni-L1'!AH26+'Muni-L1'!AI26+'Muni-L1'!AL26+'Muni-L1'!AM26+'Muni-L1'!AO26","v":170314},296722,16460,{"$f":"'Muni-L1'!Z26-'Muni-L1'!AP26-N24","v":0}]
[{"$f":"'Muni-L1'!B27","v":"Town of Berlin"},{"$f":"'Muni-L1'!L27+'Muni-L1'!M27","v":381693},{"$f":"'Muni-L1'!N27","v":164826},{"$f":"'Muni-L1'!U27","v":116282},{"$f":"'Muni-L1'!V27","v":0},{"$f":"'Muni-L1'!O27+'Muni-L1'!P27+'Muni-L1'!Q27+'Muni-L1'!R27+'Muni-L1'!S27+'Muni-L1'!X27+'Muni-L1'!Y27","v":214612},877413,{"$f":"'Muni-L1'!AA27","v":122054},{"$f":"'Muni-L1'!AC27+'Muni-L1'!AD27","v":15321},{"$f":"'Muni-L1'!AE27+'Muni-L1'!AJ27+'Muni-L1'!AK27","v":577556},{"$f":"'Muni-L1'!AG27","v":0},{"$f":"'Muni-L1'!AB27+'Muni-L1'!AF27+'Muni-L1'!AH27+'Muni-L1'!AI27+'Muni-L1'!AL27+'Muni-L1'!AM27+'Muni-L1'!AO27","v":118980},833911,43502,{"$f":"'Muni-L1'!Z27-'Muni-L1'!AP27-N25","v":1}]
[{"$f":"'Muni-L1'!B28","v":"Town of Brunswick"},{"$f":"'Muni-L1'!L28+'Muni-L1'!M28","v":3408076},{"$f":"'Muni-L1'!N28","v":1016116},{"$f":"'Muni-L1'!U28","v":506240},{"$f":"'Muni-L1'!V28","v":29988},{"$f":"'Muni-L1'!O28+'Muni-L1'!P28+'Muni-L1'!Q28+'Muni-L1'!R28+'Muni-L1'!S28+'Muni-L1'!X28+'Muni-L1'!Y28","v":1667475},6627895,{"$f":"'Muni-L1'!AA28","v":1076797},{"$f":"'Muni-L1'!AC28+'Muni-L1'!AD28","v":1060696},{"$f":"'Muni-L1'!AE28+'Muni-L1'!AJ28+'Muni-L1'!AK28","v":2970312},{"$f":"'Muni-L1'!AG28","v":146488},{"$f":"'Muni-L1'!AB28+'Muni-L1'!AF28+'Muni-L1'!AH28+'Muni-L1'!AI28+'Muni-L1'!AL28+'Muni-L1'!AM28+'Muni-L1'!AO28","v":1299604},6553897,73998,{"$f":"'Muni-L1'!Z28-'Muni-L1'!AP28-N26","v":0}]
[{"$f":"'Muni-L1'!B29","v":"Town of East Greenbush"},{"$f":"'Muni-L1'!L29+'Muni-L1'!M29","v":8683121},{"$f":"'Muni-L1'!N29","v":1618667},{"$f":"'Muni-L1'!U29","v":832467},{"$f":"'Muni-L1'!V29","v":0},{"$f":"'Muni-L1'!O29+'Muni-L1'!P29+'Muni-L1'!Q29+'Muni-L1'!R29+'Muni-L1'!S29+'Muni-L1'!X29+'Muni-L1'!Y29","v":5807246},16941501,{"$f":"'Muni-L1'!AA29","v":2173457},{"$f":"'Muni-L1'!AC29+'Muni-L1'!AD29","v":2770444},{"$f":"'Muni-L1'!AE29+'Muni-L1'!AJ29+'Muni-L1'!AK29","v":6434731},{"$f":"'Muni-L1'!AG29","v":0},{"$f":"'Muni-L1'!AB29+'Muni-L1'!AF29+'Muni-L1'!AH29+'Muni-L1'!AI29+'Muni-L1'!AL29+'Muni-L1'!AM29+'Muni-L1'!AO29","v":4411861},15790493,1151008,{"$f":"'Muni-L1'!Z29-'Muni-L1'!AP29-N27","v":1}]
[{"$f":"'Muni-L1'!B30","v":"Town of Grafton"},{"$f":"'Muni-L1'!L30+'Muni-L1'!M30","v":638066},{"$f":"'Muni-L1'!N30","v":209402},{"$f":"'Muni-L1'!U30","v":142881},{"$f":"'Muni-L1'!V30","v":0},{"$f":"'Muni-L1'!O30+'Muni-L1'!P30+'Muni-L1'!Q30+'Muni-L1'!R30+'Muni-L1'!S30+'Muni-L1'!X30+'Muni-L1'!Y30","v":96446},1086795,{"$f":"'Muni-L1'!AA30","v":202877},{"$f":"'Muni-L1'!AC30+'Muni-L1'!AD30","v":32422},{"$f":"'Muni-L1'!AE30+'Muni-L1'!AJ30+'Muni-L1'!AK30","v":579450},{"$f":"'Muni-L1'!AG30","v":0},{"$f":"'Muni-L1'!AB30+'Muni-L1'!AF30+'Muni-L1'!AH30+'Muni-L1'!AI30+'Muni-L1'!AL30+'Muni-L1'!AM30+'Muni-L1'!AO30","v":233974},1048723,38072,{"$f":"'Muni-L1'!Z30-'Muni-L1'!AP30-N28","v":-2}]
[{"$f":"'Muni-L1'!B31","v":"Town of Hoosick"},{"$f":"'Muni-L1'!L31+'Muni-L1'!M31","v":1423948},{"$f":"'Muni-L1'!N31","v":270637},{"$f":"'Muni-L1'!U31","v":230281},{"$f":"'Muni-L1'!V31","v":465525},{"$f":"'Muni-L1'!O31+'Muni-L1'!P31+'Muni-L1'!Q31+'Muni-L1'!R31+'Muni-L1'!S31+'Muni-L1'!X31+'Muni-L1'!Y31","v":179540},2569931,{"$f":"'Muni-L1'!AA31","v":353851},{"$f":"'Muni-L1'!AC31+'Muni-L1'!AD31","v":300523},{"$f":"'Muni-L1'!AE31+'Muni-L1'!AJ31+'Muni-L1'!AK31","v":1380245},{"$f":"'Muni-L1'!AG31","v":0},{"$f":"'Muni-L1'!AB31+'Muni-L1'!AF31+'Muni-L1'!AH31+'Muni-L1'!AI31+'Muni-L1'!AL31+'Muni-L1'!AM31+'Muni-L1'!AO31","v":591887},2626506,-56575,{"$f":"'Muni-L1'!Z31-'Muni-L1'!AP31-N29","v":0}]
[{"$f":"'Muni-L1'!B32","v":"Village of Hoosick Falls"},{"$f":"'Muni-L1'!L32+'Muni-L1'!M32","v":1114369},{"$f":"'Muni-L1'!N32","v":182123},{"$f":"'Muni-L1'!U32","v":253414},{"$f":"'Muni-L1'!V32","v":0},{"$f":"'Muni-L1'!O32+'Muni-L1'!P32+'Muni-L1'!Q32+'Muni-L1'!R32+'Muni-L1'!S32+'Muni-L1'!X32+'Muni-L1'!Y32","v":1631662},3181568,{"$f":"'Muni-L1'!AA32","v":213535},{"$f":"'Muni-L1'!AC32+'Muni-L1'!AD32","v":426802},{"$f":"'Muni-L1'!AE32+'Muni-L1'!AJ32+'Muni-L1'!AK32","v":3447976},{"$f":"'Muni-L1'!AG32","v":17284},{"$f":"'Muni-L1'!AB32+'Muni-L1'!AF32+'Muni-L1'!AH32+'Muni-L1'!AI32+'Muni-L1'!AL32+'Muni-L1'!AM32+'Muni-L1'!AO32","v":735997},4841594,-1660026,{"$f":"'Muni-L1'!Z32-'Muni-L1'!AP32-N30","v":0}]
[{"$f":"'Muni-L1'!B33","v":"Town of Nassau"},{"$f":"'Muni-L1'!L33+'Muni-L1'!M33","v":976577},{"$f":"'Muni-L1'!N33","v":245264},{"$f":"'Muni-L1'!U33","v":283192},{"$f":"'Muni-L1'!V33","v":171863},{"$f":"'Muni-L1'!O33+'Muni-L1'!P33+'Muni-L1'!Q33+'Muni-L1'!R33+'Muni-L1'!S33+'Muni-L1'!X33+'Muni-L1'!Y33","v":641119},2318015,{"$f":"'Muni-L1'!AA33","v":402131},{"$f":"'Muni-L1'!AC33+'Muni-L1'!AD33","v":221400},{"$f":"'Muni-L1'!AE33+'Muni-L1'!AJ33+'Muni-L1'!AK33","v":1012399},{"$f":"'Muni-L1'!AG33","v":0},{"$f":"'Muni-L1'!AB33+'Muni-L1'!AF33+'Muni-L1'!AH33+'Muni-L1'!AI33+'Muni-L1'!AL33+'Muni-L1'!AM33+'Muni-L1'!AO33","v":722233},2358163,-40148,{"$f":"'Muni-L1'!Z33-'Muni-L1'!AP33-N31","v":-3}]
[{"$f":"'Muni-L1'!B34","v":"Village of East Nassau"},{"$f":"'Muni-L1'!L34+'Muni-L1'!M34","v":51519},{"$f":"'Muni-L1'!N34","v":41243},{"$f":"'Muni-L1'!U34","v":28379},{"$f":"'Muni-L1'!V34","v":12995},{"$f":"'Muni-L1'!O34+'Muni-L1'!P34+'Muni-L1'!Q34+'Muni-L1'!R34+'Muni-L1'!S34+'Muni-L1'!X34+'Muni-L1'!Y34","v":616},134752,{"$f":"'Muni-L1'!AA34","v":45262},{"$f":"'Muni-L1'!AC34+'Muni-L1'!AD34","v":4170},{"$f":"'Muni-L1'!AE34+'Muni-L1'!AJ34+'Muni-L1'!AK34","v":93368},{"$f":"'Muni-L1'!AG34","v":0},{"$f":"'Muni-L1'!AB34+'Muni-L1'!AF34+'Muni-L1'!AH34+'Muni-L1'!AI34+'Muni-L1'!AL34+'Muni-L1'!AM34+'Muni-L1'!AO34","v":2106},144906,-10154,{"$f":"'Muni-L1'!Z34-'Muni-L1'!AP34-N32","v":0}]
[{"$f":"'Muni-L1'!B35","v":"Town of North Greenbush"},{"$f":"'Muni-L1'!L35+'Muni-L1'!M35","v":5300740},{"$f":"'Muni-L1'!N35","v":981703},{"$f":"'Muni-L1'!U35","v":603610},{"$f":"'Muni-L1'!V35","v":0},{"$f":"'Muni-L1'!O35+'Muni-L1'!P35+'Muni-L1'!Q35+'Muni-L1'!R35+'Muni-L1'!S35+'Muni-L1'!X35+'Muni-L1'!Y35","v":3240177},10126230,{"$f":"'Muni-L1'!AA35","v":2968236},{"$f":"'Muni-L1'!AC35+'Muni-L1'!AD35","v":1936097},{"$f":"'Muni-L1'!AE35+'Muni-L1'!AJ35+'Muni-L1'!AK35","v":3369714},{"$f":"'Muni-L1'!AG35","v":0},{"$f":"'Muni-L1'!AB35+'Muni-L1'!AF35+'Muni-L1'!AH35+'Muni-L1'!AI35+'Muni-L1'!AL35+'Muni-L1'!AM35+'Muni-L1'!AO35","v":4003030},12277077,-2150847,{"$f":"'Muni-L1'!Z35-'Muni-L1'!AP35-N33","v":0}]
[{"$f":"'Muni-L1'!B36","v":"Town of Petersburgh"},{"$f":"'Muni-L1'!L36+'Muni-L1'!M36","v":501638},{"$f":"'Muni-L1'!N36","v":118643},{"$f":"'Muni-L1'!U36","v":156149},{"$f":"'Muni-L1'!V36","v":339},{"$f":"'Muni-L1'!O36+'Muni-L1'!P36+'Muni-L1'!Q36+'Muni-L1'!R36+'Muni-L1'!S36+'Muni-L1'!X36+'Muni-L1'!Y36","v":97069},873838,{"$f":"'Muni-L1'!AA36","v":162547},{"$f":"'Muni-L1'!AC36+'Muni-L1'!AD36","v":22591},{"$f":"'Muni-L1'!AE36+'Muni-L1'!AJ36+'Muni-L1'!AK36","v":445699},{"$f":"'Muni-L1'!AG36","v":0},{"$f":"'Muni-L1'!AB36+'Muni-L1'!AF36+'Muni-L1'!AH36+'Muni-L1'!AI36+'Muni-L1'!AL36+'Muni-L1'!AM36+'Muni-L1'!AO36","v":195453},826290,47548,{"$f":"'Muni-L1'!Z36-'Muni-L1'!AP36-N34","v":0}]
[{"$f":"'Muni-L1'!B37","v":"Town of Pittstown"},{"$f":"'Muni-L1'!L37+'Muni-L1'!M37","v":2036315},{"$f":"'Muni-L1'!N37","v":227412},{"$f":"'Muni-L1'!U37","v":102571},{"$f":"'Muni-L1'!V37","v":0},{"$f":"'Muni-L1'!O37+'Muni-L1'!P37+'Muni-L1'!Q37+'Muni-L1'!R37+'Muni-L1'!S37+'Muni-L1'!X37+'Muni-L1'!Y37","v":115370},2481668,{"$f":"'Muni-L1'!AA37","v":258078},{"$f":"'Muni-L1'!AC37+'Muni-L1'!AD37","v":96507},{"$f":"'Muni-L1'!AE37+'Muni-L1'!AJ37+'Muni-L1'!AK37","v":1815254},{"$f":"'Muni-L1'!AG37","v":507},{"$f":"'Muni-L1'!AB37+'Muni-L1'!AF37+'Muni-L1'!AH37+'Muni-L1'!AI37+'Muni-L1'!AL37+'Muni-L1'!AM37+'Muni-L1'!AO37","v":316117},2486463,-4795,{"$f":"'Muni-L1'!Z37-'Muni-L1'!AP37-N35","v":0}]
[{"$f":"'Muni-L1'!B38","v":"Town of Poestenkill"},{"$f":"'Muni-L1'!L38+'Muni-L1'!M38","v":1120312},{"$f":"'Muni-L1'!N38","v":320892},{"$f":"'Muni-L1'!U38","v":494313},{"$f":"'Muni-L1'!V38","v":430080},{"$f":"'Muni-L1'!O38+'Muni-L1'!P38+'Muni-L1'!Q38+'Muni-L1'!R38+'Muni-L1'!S38+'Muni-L1'!X38+'Muni-L1'!Y38","v":88191},2453788,{"$f":"'Muni-L1'!AA38","v":303513},{"$f":"'Muni-L1'!AC38+'Muni-L1'!AD38","v":266175},{"$f":"'Muni-L1'!AE38+'Muni-L1'!AJ38+'Muni-L1'!AK38","v":10330876},{"$f":"'Muni-L1'!AG38","v":0},{"$f":"'Muni-L1'!AB38+'Muni-L1'!AF38+'Muni-L1'!AH38+'Muni-L1'!AI38+'Muni-L1'!AL38+'Muni-L1'!AM38+'Muni-L1'!AO38","v":430376},11330940,-8877152,{"$f":"'Muni-L1'!Z38-'Muni-L1'!AP38-N36","v":0}]
[{"$f":"'Muni-L1'!B39","v":"City of Rensselaer"},{"$f":"'Muni-L1'!L39+'Muni-L1'!M39","v":6981371},{"$f":"'Muni-L1'!N39","v":1912977},{"$f":"'Muni-L1'!U39","v":3125029},{"$f":"'Muni-L1'!V39","v":926667},{"$f":"'Muni-L1'!O39+'Muni-L1'!P39+'Muni-L1'!Q39+'Muni-L1'!R39+'Muni-L1'!S39+'Muni-L1'!X39+'Muni-L1'!Y39","v":7275901},20221945,{"$f":"'Muni-L1'!AA39","v":2196120},{"$f":"'Muni-L1'!AC39+'Muni-L1'!AD39","v":3542766},{"$f":"'Muni-L1'!AE39+'Muni-L1'!AJ39+'Muni-L1'!AK39","v":5937910},{"$f":"'Muni-L1'!AG39","v":1511738},{"$f":"'Muni-L1'!AB39+'Muni-L1'!AF39+'Muni-L1'!AH39+'Muni-L1'!AI39+'Muni-L1'!AL39+'Muni-L1'!AM39+'Muni-L1'!AO39","v":3930230},17118764,3103181,{"$f":"'Muni-L1'!Z39-'Muni-L1'!AP39-N37","v":-4}]
[{"$f":"'Muni-L1'!B40","v":"Town of Sand Lake"},{"$f":"'Muni-L1'!L40+'Muni-L1'!M40","v":1637994},{"$f":"'Muni-L1'!N40","v":762972},{"$f":"'Muni-L1'!U40","v":420271},{"$f":"'Muni-L1'!V40","v":176383},{"$f":"'Muni-L1'!O40+'Muni-L1'!P40+'Muni-L1'!Q40+'Muni-L1'!R40+'Muni-L1'!S40+'Muni-L1'!X40+'Muni-L1'!Y40","v":2640251},5637871,{"$f":"'Muni-L1'!AA40","v":991779},{"$f":"'Muni-L1'!AC40+'Muni-L1'!AD40","v":387673},{"$f":"'Muni-L1'!AE40+'Muni-L1'!AJ40+'Muni-L1'!AK40","v":2386936},{"$f":"'Muni-L1'!AG40","v":0},{"$f":"'Muni-L1'!AB40+'Muni-L1'!AF40+'Muni-L1'!AH40+'Muni-L1'!AI40+'Muni-L1'!AL40+'Muni-L1'!AM40+'Muni-L1'!AO40","v":1260233},5026621,611250,{"$f":"'Muni-L1'!Z40-'Muni-L1'!AP40-N38","v":0}]
[{"$f":"'Muni-L1'!B41","v":"Town of Schaghticoke"},{"$f":"'Muni-L1'!L41+'Muni-L1'!M41","v":2041754},{"$f":"'Muni-L1'!N41","v":573781},{"$f":"'Muni-L1'!U41","v":371100},{"$f":"'Muni-L1'!V41","v":66556},{"$f":"'Muni-L1'!O41+'Muni-L1'!P41+'Muni-L1'!Q41+'Muni-L1'!R41+'Muni-L1'!S41+'Muni-L1'!X41+'Muni-L1'!Y41","v":625284},3678475,{"$f":"'Muni-L1'!AA41","v":466105},{"$f":"'Muni-L1'!AC41+'Muni-L1'!AD41","v":247664},{"$f":"'Muni-L1'!AE41+'Muni-L1'!AJ41+'Muni-L1'!AK41","v":2325616},{"$f":"'Muni-L1'!AG41","v":0},{"$f":"'Muni-L1'!AB41+'Muni-L1'!AF41+'Muni-L1'!AH41+'Muni-L1'!AI41+'Muni-L1'!AL41+'Muni-L1'!AM41+'Muni-L1'!AO41","v":949550},3988935,-310460,{"$f":"'Muni-L1'!Z41-'Muni-L1'!AP41-N39","v":0}]
[{"$f":"'Muni-L1'!B42","v":"Village of Schaghticoke"},{"$f":"'Muni-L1'!L42+'Muni-L1'!M42","v":146842},{"$f":"'Muni-L1'!N42","v":55787},{"$f":"'Muni-L1'!U42","v":59184},{"$f":"'Muni-L1'!V42","v":312265},{"$f":"'Muni-L1'!O42+'Muni-L1'!P42+'Muni-L1'!Q42+'Muni-L1'!R42+'Muni-L1'!S42+'Muni-L1'!X42+'Muni-L1'!Y42","v":184705},758783,{"$f":"'Muni-L1'!AA42","v":120041},{"$f":"'Muni-L1'!AC42+'Muni-L1'!AD42","v":386231},{"$f":"'Muni-L1'!AE42+'Muni-L1'!AJ42+'Muni-L1'!AK42","v":223971},{"$f":"'Muni-L1'!AG42","v":276},{"$f":"'Muni-L1'!AB42+'Muni-L1'!AF42+'Muni-L1'!AH42+'Muni-L1'!AI42+'Muni-L1'!AL42+'Muni-L1'!AM42+'Muni-L1'!AO42","v":66260},796779,-37996,{"$f":"'Muni-L1'!Z42-'Muni-L1'!AP42-N40","v":-1}]
[{"$f":"'Muni-L1'!B43","v":"Town of Schodack"},{"$f":"'Muni-L1'!L43+'Muni-L1'!M43","v":5769769},{"$f":"'Muni-L1'!N43","v":1026675},{"$f":"'Muni-L1'!U43","v":577393},{"$f":"'Muni-L1'!V43","v":249773},{"$f":"'Muni-L1'!O43+'Muni-L1'!P43+'Muni-L1'!Q43+'Muni-L1'!R43+'Muni-L1'!S43+'Muni-L1'!X43+'Muni-L1'!Y43","v":7220979},14844589,{"$f":"'Muni-L1'!AA43","v":1527507},{"$f":"'Muni-L1'!AC43+'Muni-L1'!AD43","v":1609622},{"$f":"'Muni-L1'!AE43+'Muni-L1'!AJ43+'Muni-L1'!AK43","v":3313816},{"$f":"'Muni-L1'!AG43","v":4000},{"$f":"'Muni-L1'!AB43+'Muni-L1'!AF43+'Muni-L1'!AH43+'Muni-L1'!AI43+'Muni-L1'!AL43+'Muni-L1'!AM43+'Muni-L1'!AO43","v":6863722},13318667,1525922,{"$f":"'Muni-L1'!Z43-'Muni-L1'!AP43-N41","v":-2}]
[{"$f":"'Muni-L1'!B44","v":"Village of Castleton-on-Hudson"},{"$f":"'Muni-L1'!L44+'Muni-L1'!M44","v":428130},{"$f":"'Muni-L1'!N44","v":149389},{"$f":"'Muni-L1'!U44","v":550774},{"$f":"'Muni-L1'!V44","v":36741},{"$f":"'Muni-L1'!O44+'Muni-L1'!P44+'Muni-L1'!Q44+'Muni-L1'!R44+'Muni-L1'!S44+'Muni-L1'!X44+'Muni-L1'!Y44","v":1105768},2270802,{"$f":"'Muni-L1'!AA44","v":151234},{"$f":"'Muni-L1'!AC44+'Muni-L1'!AD44","v":84015},{"$f":"'Muni-L1'!AE44+'Muni-L1'!AJ44+'Muni-L1'!AK44","v":1780256},{"$f":"'Muni-L1'!AG44","v":11029},{"$f":"'Muni-L1'!AB44+'Muni-L1'!AF44+'Muni-L1'!AH44+'Muni-L1'!AI44+'Muni-L1'!AL44+'Muni-L1'!AM44+'Muni-L1'!AO44","v":607900},2634434,-363632,{"$f":"'Muni-L1'!Z44-'Muni-L1'!AP44-N42","v":0}]
[{"$f":"'Muni-L1'!B45","v":"Town of Stephentown"},"N/A","N/A","N/A","N/A","N/A","N/A","N/A","N/A","N/A","N/A","N/A","N/A","N/A",{"$f":"'Muni-L1'!Z45-'Muni-L1'!AP45-N43","v":{"$error":"#VALUE!"}}]
[{"$f":"'Muni-L1'!B46","v":"City of Troy"},{"$f":"'Muni-L1'!L46+'Muni-L1'!M46","v":20221527},{"$f":"'Muni-L1'!N46","v":14069098},{"$f":"'Muni-L1'!U46","v":16750224},{"$f":"'Muni-L1'!V46","v":9719503},{"$f":"'Muni-L1'!O46+'Muni-L1'!P46+'Muni-L1'!Q46+'Muni-L1'!R46+'Muni-L1'!S46+'Muni-L1'!X46+'Muni-L1'!Y46","v":32621534},93381886,{"$f":"'Muni-L1'!AA46","v":8623752},{"$f":"'Muni-L1'!AC46+'Muni-L1'!AD46","v":22579317},{"$f":"'Muni-L1'!AE46+'Muni-L1'!AJ46+'Muni-L1'!AK46","v":21257668},{"$f":"'Muni-L1'!AG46","v":3317796},{"$f":"'Muni-L1'!AB46+'Muni-L1'!AF46+'Muni-L1'!AH46+'Muni-L1'!AI46+'Muni-L1'!AL46+'Muni-L1'!AM46+'Muni-L1'!AO46","v":34462689},90241222,3140664,{"$f":"'Muni-L1'!Z46-'Muni-L1'!AP46-N44","v":0}]
[]
[{"$f":"A1","v":"FY 2010"},"Revenues ($1,000s)",null,null,null,null,null,"Expenditures by Function ($1,000s)"]
["Revenues & Expenditures","Property Tax","Sales Tax","State Aid","Federal Aid","Other","Total Revenues","General Government","Health & Public Safety","Transport. and Utilities","Economic Assistance","Other","Total Expenditures",{"$f":"N2","v":"FY 2010 Surplus or (Deficit)"}]
[{"$f":"'Muni-L1'!B47","v":"Saratoga County"},{"$f":"'Muni-L1'!L47+'Muni-L1'!M47","v":49591569},{"$f":"'Muni-L1'!N47","v":96552344},{"$f":"'Muni-L1'!U47","v":22285279},{"$f":"'Muni-L1'!V47","v":28159389},{"$f":"'Muni-L1'!O47+'Muni-L1'!P47+'Muni-L1'!Q47+'Muni-L1'!R47+'Muni-L1'!S47+'Muni-L1'!X47+'Muni-L1'!Y47","v":111925104},{"$f":"SUM(B48:F48)","v":308513685},{"$f":"'Muni-L1'!AA47","v":95283313},{"$f":"'Muni-L1'!AC47+'Muni-L1'!AD47","v":52823106},{"$f":"'Muni-L1'!AE47+'Muni-L1'!AJ47+'Muni-L1'!AK47","v":23350644},{"$f":"'Muni-L1'!AG47","v":783671},{"$f":"'Muni-L1'!AB47+'Muni-L1'!AF47+'Muni-L1'!AH47+'Muni-L1'!AI47+'Muni-L1'!AL47+'Muni-L1'!AM47+'Muni-L1'!AO47","v":138023813},{"$f":"SUM(H48:L48)","v":310264547},{"$f":"G48-M48","v":-1750862},{"$f":"'Muni-L1'!Z47-'Muni-L1'!AP47-N48","v":-1}]
[{"$f":"'Muni-L1'!B48","v":"Village of Ballston Spa"},{"$f":"'Muni-L1'!L48+'Muni-L1'!M48","v":1206007},{"$f":"'Muni-L1'!N48","v":880430},{"$f":"'Muni-L1'!U48","v":343619},{"$f":"'Muni-L1'!V48","v":1040020},{"$f":"'Muni-L1'!O48+'Muni-L1'!P48+'Muni-L1'!Q48+'Muni-L1'!R48+'Muni-L1'!S48+'Muni-L1'!X48+'Muni-L1'!Y48","v":1504432},{"$f":"SUM(B49:F49)","v":4974508},{"$f":"'Muni-L1'!AA48","v":568371},{"$f":"'Muni-L1'!AC48+'Muni-L1'!AD48","v":780427},{"$f":"'Muni-L1'!AE48+'Muni-L1'!AJ48+'Muni-L1'!AK48","v":1111285},{"$f":"'Muni-L1'!AG48","v":3400},{"$f":"'Muni-L1'!AB48+'Muni-L1'!AF48+'Muni-L1'!AH48+'Muni-L1'!AI48+'Muni-L1'!AL48+'Muni-L1'!AM48+'Muni-L1'!AO48","v":2312076},{"$f":"SUM(H49:L49)","v":4775559},{"$f":"G49-M49","v":198949},{"$f":"'Muni-L1'!Z48-'Muni-L1'!AP48-N49","v":0}]
[{"$f":"'Muni-L1'!B49","v":"Town of Ballston"},{"$f":"'Muni-L1'!L49+'Muni-L1'!M49","v":1183984},{"$f":"'Muni-L1'!N49","v":2235176},{"$f":"'Muni-L1'!U49","v":493998},{"$f":"'Muni-L1'!V49","v":0},{"$f":"'Muni-L1'!O49+'Muni-L1'!P49+'Muni-L1'!Q49+'Muni-L1'!R49+'Muni-L1'!S49+'Muni-L1'!X49+'Muni-L1'!Y49","v":1039224},4952382,{"$f":"'Muni-L1'!AA49","v":853477},{"$f":"'Muni-L1'!AC49+'Muni-L1'!AD49","v":397788},{"$f":"'Muni-L1'!AE49+'Muni-L1'!AJ49+'Muni-L1'!AK49","v":2616587},{"$f":"'Muni-L1'!AG49","v":0},{"$f":"'Muni-L1'!AB49+'Muni-L1'!AF49+'Muni-L1'!AH49+'Muni-L1'!AI49+'Muni-L1'!AL49+'Muni-L1'!AM49+'Muni-L1'!AO49","v":1555236},5423088,-470706,{"$f":"'Muni-L1'!Z49-'Muni-L1'!AP49-N50","v":0}]
[{"$f":"'Muni-L1'!B50","v":"Town of Charlton"},{"$f":"'Muni-L1'!L50+'Muni-L1'!M50","v":140504},{"$f":"'Muni-L1'!N50","v":1130663},{"$f":"'Muni-L1'!U50","v":299256},{"$f":"'Muni-L1'!V50","v":0},{"$f":"'Muni-L1'!O50+'Muni-L1'!P50+'Muni-L1'!Q50+'Muni-L1'!R50+'Muni-L1'!S50+'Muni-L1'!X50+'Muni-L1'!Y50","v":249455},1819878,{"$f":"'Muni-L1'!AA50","v":502504},{"$f":"'Muni-L1'!AC50+'Muni-L1'!AD50","v":89627},{"$f":"'Muni-L1'!AE50+'Muni-L1'!AJ50+'Muni-L1'!AK50","v":917768},{"$f":"'Muni-L1'!AG50","v":0},{"$f":"'Muni-L1'!AB50+'Muni-L1'!AF50+'Muni-L1'!AH50+'Muni-L1'!AI50+'Muni-L1'!AL50+'Muni-L1'!AM50+'Muni-L1'!AO50","v":404314},1914213,-94335,{"$f":"'Muni-L1'!Z50-'Muni-L1'!AP50-N51","v":0}]
[{"$f":"'Muni-L1'!B51","v":"Town of Clifton Park"},{"$f":"'Muni-L1'!L51+'Muni-L1'!M51","v":3192499},{"$f":"'Muni-L1'!N51","v":9712419},{"$f":"'Muni-L1'!U51","v":2259487},{"$f":"'Muni-L1'!V51","v":412705},{"$f":"'Muni-L1'!O51+'Muni-L1'!P51+'Muni-L1'!Q51+'Muni-L1'!R51+'Muni-L1'!S51+'Muni-L1'!X51+'Muni-L1'!Y51","v":9386673},24963783,{"$f":"'Muni-L1'!AA51","v":3805643},{"$f":"'Muni-L1'!AC51+'Muni-L1'!AD51","v":3944980},{"$f":"'Muni-L1'!AE51+'Muni-L1'!AJ51+'Muni-L1'!AK51","v":6572062},{"$f":"'Muni-L1'!AG51","v":500},{"$f":"'Muni-L1'!AB51+'Muni-L1'!AF51+'Muni-L1'!AH51+'Muni-L1'!AI51+'Muni-L1'!AL51+'Muni-L1'!AM51+'Muni-L1'!AO51","v":12409167},26732352,-1768569,{"$f":"'Muni-L1'!Z51-'Muni-L1'!AP51-N52","v":-1}]
[{"$f":"'Muni-L1'!B52","v":"Town of Corinth"},{"$f":"'Muni-L1'!L52+'Muni-L1'!M52","v":1926574},{"$f":"'Muni-L1'!N52","v":702444},{"$f":"'Muni-L1'!U52","v":1439047},{"$f":"'Muni-L1'!V52","v":0},{"$f":"'Muni-L1'!O52+'Muni-L1'!P52+'Muni-L1'!Q52+'Muni-L1'!R52+'Muni-L1'!S52+'Muni-L1'!X52+'Muni-L1'!Y52","v":641478},4709543,{"$f":"'Muni-L1'!AA52","v":557591},{"$f":"'Muni-L1'!AC52+'Muni-L1'!AD52","v":862722},{"$f":"'Muni-L1'!AE52+'Muni-L1'!AJ52+'Muni-L1'!AK52","v":2305236},{"$f":"'Muni-L1'!AG52","v":4500},{"$f":"'Muni-L1'!AB52+'Muni-L1'!AF52+'Muni-L1'!AH52+'Muni-L1'!AI52+'Muni-L1'!AL52+'Muni-L1'!AM52+'Muni-L1'!AO52","v":604490},4334539,375004,{"$f":"'Muni-L1'!Z52-'Muni-L1'!AP52-N53","v":1}]
[{"$f":"'Muni-L1'!B53","v":"Village of Corinth"},{"$f":"'Muni-L1'!L53+'Muni-L1'!M53","v":1900813},{"$f":"'Muni-L1'!N53","v":658638},{"$f":"'Muni-L1'!U53","v":227662},{"$f":"'Muni-L1'!V53","v":915691},{"$f":"'Muni-L1'!O53+'Muni-L1'!P53+'Muni-L1'!Q53+'Muni-L1'!R53+'Muni-L1'!S53+'Muni-L1'!X53+'Muni-L1'!Y53","v":1573438},5276242,{"$f":"'Muni-L1'!AA53","v":354145},{"$f":"'Muni-L1'!AC53+'Muni-L1'!AD53","v":672066},{"$f":"'Muni-L1'!AE53+'Muni-L1'!AJ53+'Muni-L1'!AK53","v":1528407},{"$f":"'Muni-L1'!AG53","v":439150},{"$f":"'Muni-L1'!AB53+'Muni-L1'!AF53+'Muni-L1'!AH53+'Muni-L1'!AI53+'Muni-L1'!AL53+'Muni-L1'!AM53+'Muni-L1'!AO53","v":1906398},4900166,376076,{"$f":"'Muni-L1'!Z53-'Muni-L1'!AP53-N54","v":0}]
[{"$f":"'Muni-L1'!B54","v":"Town of Day"},{"$f":"'Muni-L1'!L54+'Muni-L1'!M54","v":484616},{"$f":"'Muni-L1'!N54","v":778955},{"$f":"'Muni-L1'!U54","v":238567},{"$f":"'Muni-L1'!V54","v":0},{"$f":"'Muni-L1'!O54+'Muni-L1'!P54+'Muni-L1'!Q54+'Muni-L1'!R54+'Muni-L1'!S54+'Muni-L1'!X54+'Muni-L1'!Y54","v":26187},1528325,{"$f":"'Muni-L1'!AA54","v":279631},{"$f":"'Muni-L1'!AC54+'Muni-L1'!AD54","v":97374},{"$f":"'Muni-L1'!AE54+'Muni-L1'!AJ54+'Muni-L1'!AK54","v":1146735},{"$f":"'Muni-L1'!AG54","v":0},{"$f":"'Muni-L1'!AB54+'Muni-L1'!AF54+'Muni-L1'!AH54+'Muni-L1'!AI54+'Muni-L1'!AL54+'Muni-L1'!AM54+'Muni-L1'!AO54","v":254521},1778261,-249936,{"$f":"'Muni-L1'!Z54-'Muni-L1'!AP54-N55","v":0}]
[{"$f":"'Muni-L1'!B55","v":"Town of Edinburg"},{"$f":"'Muni-L1'!L55+'Muni-L1'!M55","v":285326},{"$f":"'Muni-L1'!N55","v":962445},{"$f":"'Muni-L1'!U55","v":141649},{"$f":"'Muni-L1'!V55","v":0},{"$f":"'Muni-L1'!O55+'Muni-L1'!P55+'Muni-L1'!Q55+'Muni-L1'!R55+'Muni-L1'!S55+'Muni-L1'!X55+'Muni-L1'!Y55","v":89475},1478895,{"$f":"'Muni-L1'!AA55","v":308468},{"$f":"'Muni-L1'!AC55+'Muni-L1'!AD55","v":109440},{"$f":"'Muni-L1'!AE55+'Muni-L1'!AJ55+'Muni-L1'!AK55","v":726859},{"$f":"'Muni-L1'!AG55","v":1253},{"$f":"'Muni-L1'!AB55+'Muni-L1'!AF55+'Muni-L1'!AH55+'Muni-L1'!AI55+'Muni-L1'!AL55+'Muni-L1'!AM55+'Muni-L1'!AO55","v":213837},1359857,119038,{"$f":"'Muni-L1'!Z55-'Muni-L1'!AP55-N56","v":0}]
[{"$f":"'Muni-L1'!B56","v":"Town of Galway"},{"$f":"'Muni-L1'!L56+'Muni-L1'!M56","v":567386},{"$f":"'Muni-L1'!N56","v":1035159},{"$f":"'Muni-L1'!U56","v":240885},{"$f":"'Muni-L1'!V56","v":0},{"$f":"'Muni-L1'!O56+'Muni-L1'!P56+'Muni-L1'!Q56+'Muni-L1'!R56+'Muni-L1'!S56+'Muni-L1'!X56+'Muni-L1'!Y56","v":92719},1936149,{"$f":"'Muni-L1'!AA56","v":287979},{"$f":"'Muni-L1'!AC56+'Muni-L1'!AD56","v":329896},{"$f":"'Muni-L1'!AE56+'Muni-L1'!AJ56+'Muni-L1'!AK56","v":953989},{"$f":"'Muni-L1'!AG56","v":0},{"$f":"'Muni-L1'!AB56+'Muni-L1'!AF56+'Muni-L1'!AH56+'Muni-L1'!AI56+'Muni-L1'!AL56+'Muni-L1'!AM56+'Muni-L1'!AO56","v":335420},1907284,28865,{"$f":"'Muni-L1'!Z56-'Muni-L1'!AP56-N57","v":-2}]
[{"$f":"'Muni-L1'!B57","v":"Village of Galway"},{"$f":"'Muni-L1'!L57+'Muni-L1'!M57","v":0},{"$f":"'Muni-L1'!N57","v":39705},{"$f":"'Muni-L1'!U57","v":5343},{"$f":"'Muni-L1'!V57","v":0},{"$f":"'Muni-L1'!O57+'Muni-L1'!P57+'Muni-L1'!Q57+'Muni-L1'!R57+'Muni-L1'!S57+'Muni-L1'!X57+'Muni-L1'!Y57","v":17735},62783,{"$f":"'Muni-L1'!AA57","v":16808},{"$f":"'Muni-L1'!AC57+'Muni-L1'!AD57","v":20315},{"$f":"'Muni-L1'!AE57+'Muni-L1'!AJ57+'Muni-L1'!AK57","v":2606},{"$f":"'Muni-L1'!AG57","v":0},{"$f":"'Muni-L1'!AB57+'Muni-L1'!AF57+'Muni-L1'!AH57+'Muni-L1'!AI57+'Muni-L1'!AL57+'Muni-L1'!AM57+'Muni-L1'!AO57","v":6949},46678,16105,{"$f":"'Muni-L1'!Z57-'Muni-L1'!AP57-N58","v":0}]
[{"$f":"'Muni-L1'!B58","v":"Town of Greenfield"},{"$f":"'Muni-L1'!L58+'Muni-L1'!M58","v":851867},{"$f":"'Muni-L1'!N58","v":1840340},{"$f":"'Muni-L1'!U58","v":414037},{"$f":"'Muni-L1'!V58","v":0},{"$f":"'Muni-L1'!O58+'Muni-L1'!P58+'Muni-L1'!Q58+'Muni-L1'!R58+'Muni-L1'!S58+'Muni-L1'!X58+'Muni-L1'!Y58","v":413024},3519268,{"$f":"'Muni-L1'!AA58","v":499166},{"$f":"'Muni-L1'!AC58+'Muni-L1'!AD58","v":85432},{"$f":"'Muni-L1'!AE58+'Muni-L1'!AJ58+'Muni-L1'!AK58","v":2231905},{"$f":"'Muni-L1'!AG58","v":229083},{"$f":"'Muni-L1'!AB58+'Muni-L1'!AF58+'Muni-L1'!AH58+'Muni-L1'!AI58+'Muni-L1'!AL58+'Muni-L1'!AM58+'Muni-L1'!AO58","v":657351},3702937,-183669,{"$f":"'Muni-L1'!Z58-'Muni-L1'!AP58-N59","v":2}]
[{"$f":"'Muni-L1'!B59","v":"Town of Hadley"},{"$f":"'Muni-L1'!L59+'Muni-L1'!M59","v":1053032},{"$f":"'Muni-L1'!N59","v":628297},{"$f":"'Muni-L1'!U59","v":176256},{"$f":"'Muni-L1'!V59","v":202696},{"$f":"'Muni-L1'!O59+'Muni-L1'!P59+'Muni-L1'!Q59+'Muni-L1'!R59+'Muni-L1'!S59+'Muni-L1'!X59+'Muni-L1'!Y59","v":771489},2831770,{"$f":"'Muni-L1'!AA59","v":388086},{"$f":"'Muni-L1'!AC59+'Muni-L1'!AD59","v":8866},{"$f":"'Muni-L1'!AE59+'Muni-L1'!AJ59+'Muni-L1'!AK59","v":1023676},{"$f":"'Muni-L1'!AG59","v":260},{"$f":"'Muni-L1'!AB59+'Muni-L1'!AF59+'Muni-L1'!AH59+'Muni-L1'!AI59+'Muni-L1'!AL59+'Muni-L1'!AM59+'Muni-L1'!AO59","v":1234759},2655647,176123,{"$f":"'Muni-L1'!Z59-'Muni-L1'!AP59-N60","v":0}]
[{"$f":"'Muni-L1'!B60","v":"Town of Halfmoon"},{"$f":"'Muni-L1'!L60+'Muni-L1'!M60","v":2815694},{"$f":"'Muni-L1'!N60","v":4871503},{"$f":"'Muni-L1'!U60","v":1123827},{"$f":"'Muni-L1'!V60","v":77099},{"$f":"'Muni-L1'!O60+'Muni-L1'!P60+'Muni-L1'!Q60+'Muni-L1'!R60+'Muni-L1'!S60+'Muni-L1'!X60+'Muni-L1'!Y60","v":5126438},14014561,{"$f":"'Muni-L1'!AA60","v":2359983},{"$f":"'Muni-L1'!AC60+'Muni-L1'!AD60","v":1616189},{"$f":"'Muni-L1'!AE60+'Muni-L1'!AJ60+'Muni-L1'!AK60","v":5676049},{"$f":"'Muni-L1'!AG60","v":0},{"$f":"'Muni-L1'!AB60+'Muni-L1'!AF60+'Muni-L1'!AH60+'Muni-L1'!AI60+'Muni-L1'!AL60+'Muni-L1'!AM60+'Muni-L1'!AO60","v":6828357},16480578,-2466017,{"$f":"'Muni-L1'!Z60-'Muni-L1'!AP60-N61","v":1}]
[{"$f":"'Muni-L1'!B61","v":"Town of Malta"},{"$f":"'Muni-L1'!L61+'Muni-L1'!M61","v":1297775},{"$f":"'Muni-L1'!N61","v":3611321},{"$f":"'Muni-L1'!U61","v":2890493},{"$f":"'Muni-L1'!V61","v":15558},{"$f":"'Muni-L1'!O61+'Muni-L1'!P61+'Muni-L1'!Q61+'Muni-L1'!R61+'Muni-L1'!S61+'Muni-L1'!X61+'Muni-L1'!Y61","v":5691796},13506943,{"$f":"'Muni-L1'!AA61","v":3272905},{"$f":"'Muni-L1'!AC61+'Muni-L1'!AD61","v":1553107},{"$f":"'Muni-L1'!AE61+'Muni-L1'!AJ61+'Muni-L1'!AK61","v":3962694},{"$f":"'Muni-L1'!AG61","v":5491},{"$f":"'Muni-L1'!AB61+'Muni-L1'!AF61+'Muni-L1'!AH61+'Muni-L1'!AI61+'Muni-L1'!AL61+'Muni-L1'!AM61+'Muni-L1'!AO61","v":2412689},11206886,2300057,{"$f":"'Muni-L1'!Z61-'Muni-L1'!AP61-N62","v":0}]
[{"$f":"'Muni-L1'!B62","v":"Village of Round Lake"},{"$f":"'Muni-L1'!L62+'Muni-L1'!M62","v":321997},{"$f":"'Muni-L1'!N62","v":135155},{"$f":"'Muni-L1'!U62","v":78699},{"$f":"'Muni-L1'!V62","v":0},{"$f":"'Muni-L1'!O62+'Muni-L1'!P62+'Muni-L1'!Q62+'Muni-L1'!R62+'Muni-L1'!S62+'Muni-L1'!X62+'Muni-L1'!Y62","v":1006441},1542292,{"$f":"'Muni-L1'!AA62","v":167924},{"$f":"'Muni-L1'!AC62+'Muni-L1'!AD62","v":205393},{"$f":"'Muni-L1'!AE62+'Muni-L1'!AJ62+'Muni-L1'!AK62","v":289920},{"$f":"'Muni-L1'!AG62","v":0},{"$f":"'Muni-L1'!AB62+'Muni-L1'!AF62+'Muni-L1'!AH62+'Muni-L1'!AI62+'Muni-L1'!AL62+'Muni-L1'!AM62+'Muni-L1'!AO62","v":680593},1343830,198462,{"$f":"'Muni-L1'!Z62-'Muni-L1'!AP62-N63","v":0}]
[{"$f":"'Muni-L1'!B63","v":"City of Mechanicville"},{"$f":"'Muni-L1'!L63+'Muni-L1'!M63","v":1953340},{"$f":"'Muni-L1'!N63","v":1165271},{"$f":"'Muni-L1'!U63","v":1075904},{"$f":"'Muni-L1'!V63","v":175937},{"$f":"'Muni-L1'!O63+'Muni-L1'!P63+'Muni-L1'!Q63+'Muni-L1'!R63+'Muni-L1'!S63+'Muni-L1'!X63+'Muni-L1'!Y63","v":2486772},6857224,{"$f":"'Muni-L1'!AA63","v":696815},{"$f":"'Muni-L1'!AC63+'Muni-L1'!AD63","v":2162362},{"$f":"'Muni-L1'!AE63+'Muni-L1'!AJ63+'Muni-L1'!AK63","v":2292796},{"$f":"'Muni-L1'!AG63","v":385796},{"$f":"'Muni-L1'!AB63+'Muni-L1'!AF63+'Muni-L1'!AH63+'Muni-L1'!AI63+'Muni-L1'!AL63+'Muni-L1'!AM63+'Muni-L1'!AO63","v":1597879},7135648,-278424,{"$f":"'Muni-L1'!Z63-'Muni-L1'!AP63-N64","v":1}]
[{"$f":"'Muni-L1'!B64","v":"Town of Milton"},{"$f":"'Muni-L1'!L64+'Muni-L1'!M64","v":466688},{"$f":"'Muni-L1'!N64","v":2533365},{"$f":"'Muni-L1'!U64","v":682812},{"$f":"'Muni-L1'!V64","v":0},{"$f":"'Muni-L1'!O64+'Muni-L1'!P64+'Muni-L1'!Q64+'Muni-L1'!R64+'Muni-L1'!S64+'Muni-L1'!X64+'Muni-L1'!Y64","v":1184301},4867166,{"$f":"'Muni-L1'!AA64","v":1039144},{"$f":"'Muni-L1'!AC64+'Muni-L1'!AD64","v":213309},{"$f":"'Muni-L1'!AE64+'Muni-L1'!AJ64+'Muni-L1'!AK64","v":2044778},{"$f":"'Muni-L1'!AG64","v":2899},{"$f":"'Muni-L1'!AB64+'Muni-L1'!AF64+'Muni-L1'!AH64+'Muni-L1'!AI64+'Muni-L1'!AL64+'Muni-L1'!AM64+'Muni-L1'!AO64","v":1942837},5242967,-375801,{"$f":"'Muni-L1'!Z64-'Muni-L1'!AP64-N65","v":0}]
[{"$f":"'Muni-L1'!B65","v":"Town of Moreau"},{"$f":"'Muni-L1'!L65+'Muni-L1'!M65","v":1851391},{"$f":"'Muni-L1'!N65","v":1677028},{"$f":"'Muni-L1'!U65","v":517299},{"$f":"'Muni-L1'!V65","v":0},{"$f":"'Muni-L1'!O65+'Muni-L1'!P65+'Muni-L1'!Q65+'Muni-L1'!R65+'Muni-L1'!S65+'Muni-L1'!X65+'Muni-L1'!Y65","v":2022492},6068210,{"$f":"'Muni-L1'!AA65","v":846832},{"$f":"'Muni-L1'!AC65+'Muni-L1'!AD65","v":1259379},{"$f":"'Muni-L1'!AE65+'Muni-L1'!AJ65+'Muni-L1'!AK65","v":2008533},{"$f":"'Muni-L1'!AG65","v":4203},{"$f":"'Muni-L1'!AB65+'Muni-L1'!AF65+'Muni-L1'!AH65+'Muni-L1'!AI65+'Muni-L1'!AL65+'Muni-L1'!AM65+'Muni-L1'!AO65","v":2206860},6325807,-257597,{"$f":"'Muni-L1'!Z65-'Muni-L1'!AP65-N66","v":0}]
[{"$f":"'Muni-L1'!B66","v":"Village of South Glens Falls"},{"$f":"'Muni-L1'!L66+'Muni-L1'!M66","v":1079444},{"$f":"'Muni-L1'!N66","v":566629},{"$f":"'Muni-L1'!U66","v":128251},{"$f":"'Muni-L1'!V66","v":147772},{"$f":"'Muni-L1'!O66+'Muni-L1'!P66+'Muni-L1'!Q66+'Muni-L1'!R66+'Muni-L1'!S66+'Muni-L1'!X66+'Muni-L1'!Y66","v":1297340},3219436,{"$f":"'Muni-L1'!AA66","v":400632},{"$f":"'Muni-L1'!AC66+'Muni-L1'!AD66","v":929126},{"$f":"'Muni-L1'!AE66+'Muni-L1'!AJ66+'Muni-L1'!AK66","v":1005173},{"$f":"'Muni-L1'!AG66","v":152633},{"$f":"'Muni-L1'!AB66+'Muni-L1'!AF66+'Muni-L1'!AH66+'Muni-L1'!AI66+'Muni-L1'!AL66+'Muni-L1'!AM66+'Muni-L1'!AO66","v":718576},3206140,13296,{"$f":"'Muni-L1'!Z66-'Muni-L1'!AP66-N67","v":0}]
[{"$f":"'Muni-L1'!B67","v":"Town of Northumberland"},{"$f":"'Muni-L1'!L67+'Muni-L1'!M67","v":592871},{"$f":"'Muni-L1'!N67","v":924822},{"$f":"'Muni-L1'!U67","v":250518},{"$f":"'Muni-L1'!V67","v":122942},{"$f":"'Muni-L1'!O67+'Muni-L1'!P67+'Muni-L1'!Q67+'Muni-L1'!R67+'Muni-L1'!S67+'Muni-L1'!X67+'Muni-L1'!Y67","v":203957},2095110,{"$f":"'Muni-L1'!AA67","v":353697},{"$f":"'Muni-L1'!AC67+'Muni-L1'!AD67","v":170104},{"$f":"'Muni-L1'!AE67+'Muni-L1'!AJ67+'Muni-L1'!AK67","v":1259000},{"$f":"'Muni-L1'!AG67","v":0},{"$f":"'Muni-L1'!AB67+'Muni-L1'!AF67+'Muni-L1'!AH67+'Muni-L1'!AI67+'Muni-L1'!AL67+'Muni-L1'!AM67+'Muni-L1'!AO67","v":333505},2116306,-21196,{"$f":"'Muni-L1'!Z67-'Muni-L1'!AP67-N68","v":0}]
[{"$f":"'Muni-L1'!B68","v":"Town of Providence"},{"$f":"'Muni-L1'!L68+'Muni-L1'!M68","v":693371},{"$f":"'Muni-L1'!N68","v":497647},{"$f":"'Muni-L1'!U68","v":142498},{"$f":"'Muni-L1'!V68","v":0},{"$f":"'Muni-L1'!O68+'Muni-L1'!P68+'Muni-L1'!Q68+'Muni-L1'!R68+'Muni-L1'!S68+'Muni-L1'!X68+'Muni-L1'!Y68","v":167239},1500755,{"$f":"'Muni-L1'!AA68","v":160118},{"$f":"'Muni-L1'!AC68+'Muni-L1'!AD68","v":50990},{"$f":"'Muni-L1'!AE68+'Muni-L1'!AJ68+'Muni-L1'!AK68","v":852362},{"$f":"'Muni-L1'!AG68","v":0},{"$f":"'Muni-L1'!AB68+'Muni-L1'!AF68+'Muni-L1'!AH68+'Muni-L1'!AI68+'Muni-L1'!AL68+'Muni-L1'!AM68+'Muni-L1'!AO68","v":289823},1353293,147462,{"$f":"'Muni-L1'!Z68-'Muni-L1'!AP68-N69","v":0}]
[{"$f":"'Muni-L1'!B69","v":"Town of Saratoga"},{"$f":"'Muni-L1'!L69+'Muni-L1'!M69","v":611139},{"$f":"'Muni-L1'!N69","v":1106553},{"$f":"'Muni-L1'!U69","v":348516},{"$f":"'Muni-L1'!V69","v":196846},{"$f":"'Muni-L1'!O69+'Muni-L1'!P69+'Muni-L1'!Q69+'Muni-L1'!R69+'Muni-L1'!S69+'Muni-L1'!X69+'Muni-L1'!Y69","v":444868},2707922,{"$f":"'Muni-L1'!AA69","v":487385},{"$f":"'Muni-L1'!AC69+'Muni-L1'!AD69","v":78105},{"$f":"'Muni-L1'!AE69+'Muni-L1'!AJ69+'Muni-L1'!AK69","v":1048723},{"$f":"'Muni-L1'!AG69","v":199296},{"$f":"'Muni-L1'!AB69+'Muni-L1'!AF69+'Muni-L1'!AH69+'Muni-L1'!AI69+'Muni-L1'!AL69+'Muni-L1'!AM69+'Muni-L1'!AO69","v":695877},2509386,198536,{"$f":"'Muni-L1'!Z69-'Muni-L1'!AP69-N70","v":-1}]
[{"$f":"'Muni-L1'!B70","v":"Village of Schuylerville"},{"$f":"'Muni-L1'!L70+'Muni-L1'!M70","v":490174},{"$f":"'Muni-L1'!N70","v":191670},{"$f":"'Muni-L1'!U70","v":194370},{"$f":"'Muni-L1'!V70","v":110719},{"$f":"'Muni-L1'!O70+'Muni-L1'!P70+'Muni-L1'!Q70+'Muni-L1'!R70+'Muni-L1'!S70+'Muni-L1'!X70+'Muni-L1'!Y70","v":813000},1799933,{"$f":"'Muni-L1'!AA70","v":447851},{"$f":"'Muni-L1'!AC70+'Muni-L1'!AD70","v":99291},{"$f":"'Muni-L1'!AE70+'Muni-L1'!AJ70+'Muni-L1'!AK70","v":830363},{"$f":"'Muni-L1'!AG70","v":112747},{"$f":"'Muni-L1'!AB70+'Muni-L1'!AF70+'Muni-L1'!AH70+'Muni-L1'!AI70+'Muni-L1'!AL70+'Muni-L1'!AM70+'Muni-L1'!AO70","v":473965},1964217,-164284,{"$f":"'Muni-L1'!Z70-'Muni-L1'!AP70-N71","v":0}]
[{"$f":"'Muni-L1'!B71","v":"Village of Victory"},{"$f":"'Muni-L1'!L71+'Muni-L1'!M71","v":203921},{"$f":"'Muni-L1'!N71","v":67218},{"$f":"'Muni-L1'!U71","v":293907},{"$f":"'Muni-L1'!V71","v":28591},{"$f":"'Muni-L1'!O71+'Muni-L1'!P71+'Muni-L1'!Q71+'Muni-L1'!R71+'Muni-L1'!S71+'Muni-L1'!X71+'Muni-L1'!Y71","v":222317},815954,{"$f":"'Muni-L1'!AA71","v":140007},{"$f":"'Muni-L1'!AC71+'Muni-L1'!AD71","v":7363},{"$f":"'Muni-L1'!AE71+'Muni-L1'!AJ71+'Muni-L1'!AK71","v":218101},{"$f":"'Muni-L1'!AG71","v":246183},{"$f":"'Muni-L1'!AB71+'Muni-L1'!AF71+'Muni-L1'!AH71+'Muni-L1'!AI71+'Muni-L1'!AL71+'Muni-L1'!AM71+'Muni-L1'!AO71","v":169815},781469,34485,{"$f":"'Muni-L1'!Z71-'Muni-L1'!AP71-N72","v":0}]
[{"$f":"'Muni-L1'!B72","v":"City of Saratoga Springs"},{"$f":"'Muni-L1'!L72+'Muni-L1'!M72","v":18739369},{"$f":"'Muni-L1'!N72","v":10852800},{"$f":"'Muni-L1'!U72","v":11756972},{"$f":"'Muni-L1'!V72","v":3797171},{"$f":"'Muni-L1'!O72+'Muni-L1'!P72+'Muni-L1'!Q72+'Muni-L1'!R72+'Muni-L1'!S72+'Muni-L1'!X72+'Muni-L1'!Y72","v":15172914},60319226,{"$f":"'Muni-L1'!AA72","v":5535381},{"$f":"'Muni-L1'!AC72+'Muni-L1'!AD72","v":12190350},{"$f":"'Muni-L1'!AE72+'Muni-L1'!AJ72+'Muni-L1'!AK72","v":13976134},{"$f":"'Muni-L1'!AG72","v":437853},{"$f":"'Muni-L1'!AB72+'Muni-L1'!AF72+'Muni-L1'!AH72+'Muni-L1'!AI72+'Muni-L1'!AL72+'Muni-L1'!AM72+'Muni-L1'!AO72","v":22039296},54179014,6140212,{"$f":"'Muni-L1'!Z72-'Muni-L1'!AP72-N73","v":0}]
[{"$f":"'Muni-L1'!B73","v":"Town of Stillwater"},{"$f":"'Muni-L1'!L73+'Muni-L1'!M73","v":1940531},{"$f":"'Muni-L1'!N73","v":1622200},{"$f":"'Muni-L1'!U73","v":1332105},{"$f":"'Muni-L1'!V73","v":774574},{"$f":"'Muni-L1'!O73+'Muni-L1'!P73+'Muni-L1'!Q73+'Muni-L1'!R73+'Muni-L1'!S73+'Muni-L1'!X73+'Muni-L1'!Y73","v":6302338},11971748,{"$f":"'Muni-L1'!AA73","v":924579},{"$f":"'Muni-L1'!AC73+'Muni-L1'!AD73","v":1142577},{"$f":"'Muni-L1'!AE73+'Muni-L1'!AJ73+'Muni-L1'!AK73","v":2364767},{"$f":"'Muni-L1'!AG73","v":76193},{"$f":"'Muni-L1'!AB73+'Muni-L1'!AF73+'Muni-L1'!AH73+'Muni-L1'!AI73+'Muni-L1'!AL73+'Muni-L1'!AM73+'Muni-L1'!AO73","v":3884554},8392670,3579078,{"$f":"'Muni-L1'!Z73-'Muni-L1'!AP73-N74","v":-1}]
[{"$f":"'Muni-L1'!B74","v":"Village of Stillwater"},{"$f":"'Muni-L1'!L74+'Muni-L1'!M74","v":384286},{"$f":"'Muni-L1'!N74","v":230065},{"$f":"'Muni-L1'!U74","v":30013},{"$f":"'Muni-L1'!V74","v":18666},{"$f":"'Muni-L1'!O74+'Muni-L1'!P74+'Muni-L1'!Q74+'Muni-L1'!R74+'Muni-L1'!S74+'Muni-L1'!X74+'Muni-L1'!Y74","v":828322},1491352,{"$f":"'Muni-L1'!AA74","v":172968},{"$f":"'Muni-L1'!AC74+'Muni-L1'!AD74","v":70286},{"$f":"'Muni-L1'!AE74+'Muni-L1'!AJ74+'Muni-L1'!AK74","v":929731},{"$f":"'Muni-L1'!AG74","v":0},{"$f":"'Muni-L1'!AB74+'Muni-L1'!AF74+'Muni-L1'!AH74+'Muni-L1'!AI74+'Muni-L1'!AL74+'Muni-L1'!AM74+'Muni-L1'!AO74","v":476325},1649310,-157958,{"$f":"'Muni-L1'!Z74-'Muni-L1'!AP74-N75","v":0}]
[{"$f":"'Muni-L1'!B75","v":"Town of Waterford"},{"$f":"'Muni-L1'!L75+'Muni-L1'!M75","v":3376439},{"$f":"'Muni-L1'!N75","v":1431866},{"$f":"'Muni-L1'!U75","v":878600},{"$f":"'Muni-L1'!V75","v":380436},{"$f":"'Muni-L1'!O75+'Muni-L1'!P75+'Muni-L1'!Q75+'Muni-L1'!R75+'Muni-L1'!S75+'Muni-L1'!X75+'Muni-L1'!Y75","v":2012752},8080093,{"$f":"'Muni-L1'!AA75","v":1371657},{"$f":"'Muni-L1'!AC75+'Muni-L1'!AD75","v":1536424},{"$f":"'Muni-L1'!AE75+'Muni-L1'!AJ75+'Muni-L1'!AK75","v":1696088},{"$f":"'Muni-L1'!AG75","v":128338},{"$f":"'Muni-L1'!AB75+'Muni-L1'!AF75+'Muni-L1'!AH75+'Muni-L1'!AI75+'Muni-L1'!AL75+'Muni-L1'!AM75+'Muni-L1'!AO75","v":3281946},8014453,65640,{"$f":"'Muni-L1'!Z75-'Muni-L1'!AP75-N76","v":0}]
[{"$f":"'Muni-L1'!B76","v":"Village of Waterford"},{"$f":"'Muni-L1'!L76+'Muni-L1'!M76","v":248674},{"$f":"'Muni-L1'!N76","v":146012},{"$f":"'Muni-L1'!U76","v":203916},{"$f":"'Muni-L1'!V76","v":361242},{"$f":"'Muni-L1'!O76+'Muni-L1'!P76+'Muni-L1'!Q76+'Muni-L1'!R76+'Muni-L1'!S76+'Muni-L1'!X76+'Muni-L1'!Y76","v":367264},1327108,{"$f":"'Muni-L1'!AA76","v":138713},{"$f":"'Muni-L1'!AC76+'Muni-L1'!AD76","v":203795},{"$f":"'Muni-L1'!AE76+'Muni-L1'!AJ76+'Muni-L1'!AK76","v":424183},{"$f":"'Muni-L1'!AG76","v":0},{"$f":"'Muni-L1'!AB76+'Muni-L1'!AF76+'Muni-L1'!AH76+'Muni-L1'!AI76+'Muni-L1'!AL76+'Muni-L1'!AM76+'Muni-L1'!AO76","v":495794},1262485,64623,{"$f":"'Muni-L1'!Z76-'Muni-L1'!AP76-N77","v":-1}]
[{"$f":"'Muni-L1'!B77","v":"Town of Wilton"},{"$f":"'Muni-L1'!L77+'Muni-L1'!M77","v":566334},{"$f":"'Muni-L1'!N77","v":4502733},{"$f":"'Muni-L1'!U77","v":690241},{"$f":"'Muni-L1'!V77","v":95555},{"$f":"'Muni-L1'!O77+'Muni-L1'!P77+'Muni-L1'!Q77+'Muni-L1'!R77+'Muni-L1'!S77+'Muni-L1'!X77+'Muni-L1'!Y77","v":1387481},7242344,{"$f":"'Muni-L1'!AA77","v":1492551},{"$f":"'Muni-L1'!AC77+'Muni-L1'!AD77","v":712345},{"$f":"'Muni-L1'!AE77+'Muni-L1'!AJ77+'Muni-L1'!AK77","v":1989682},{"$f":"'Muni-L1'!AG77","v":2479},{"$f":"'Muni-L1'!AB77+'Muni-L1'!AF77+'Muni-L1'!AH77+'Muni-L1'!AI77+'Muni-L1'!AL77+'Muni-L1'!AM77+'Muni-L1'!AO77","v":2270668},6467725,774619,{"$f":"'Muni-L1'!Z77-'Muni-L1'!AP77-N78","v":0}]
[{"$f":"'Muni-L1'!B78","v":"Schenectady County"},{"$f":"'Muni-L1'!L78+'Muni-L1'!M78","v":66683038},{"$f":"'Muni-L1'!N78","v":82717843},{"$f":"'Muni-L1'!U78","v":46741425},{"$f":"'Muni-L1'!V78","v":34631818},{"$f":"'Muni-L1'!O78+'Muni-L1'!P78+'Muni-L1'!Q78+'Muni-L1'!R78+'Muni-L1'!S78+'Muni-L1'!X78+'Muni-L1'!Y78","v":59120087},289894211,{"$f":"'Muni-L1'!AA78","v":50293418},{"$f":"'Muni-L1'!AC78+'Muni-L1'!AD78","v":53068137},{"$f":"'Muni-L1'!AE78+'Muni-L1'!AJ78+'Muni-L1'!AK78","v":16412094},{"$f":"'Muni-L1'!AG78","v":662969},{"$f":"'Muni-L1'!AB78+'Muni-L1'!AF78+'Muni-L1'!AH78+'Muni-L1'!AI78+'Muni-L1'!AL78+'Muni-L1'!AM78+'Muni-L1'!AO78","v":172081966},292518584,-2624373,{"$f":"'Muni-L1'!Z78-'Muni-L1'!AP78-N79","v":0}]
[{"$f":"'Muni-L1'!B79","v":"Town of Duanesburg"},{"$f":"'Muni-L1'!L79+'Muni-L1'!M79","v":1503058},{"$f":"'Muni-L1'!N79","v":724896},{"$f":"'Muni-L1'!U79","v":222014},{"$f":"'Muni-L1'!V79","v":87463},{"$f":"'Muni-L1'!O79+'Muni-L1'!P79+'Muni-L1'!Q79+'Muni-L1'!R79+'Muni-L1'!S79+'Muni-L1'!X79+'Muni-L1'!Y79","v":300200},2837631,{"$f":"'Muni-L1'!AA79","v":606647},{"$f":"'Muni-L1'!AC79+'Muni-L1'!AD79","v":448190},{"$f":"'Muni-L1'!AE79+'Muni-L1'!AJ79+'Muni-L1'!AK79","v":932188},{"$f":"'Muni-L1'!AG79","v":90536},{"$f":"'Muni-L1'!AB79+'Muni-L1'!AF79+'Muni-L1'!AH79+'Muni-L1'!AI79+'Muni-L1'!AL79+'Muni-L1'!AM79+'Muni-L1'!AO79","v":688462},2766023,71608,{"$f":"'Muni-L1'!Z79-'Muni-L1'!AP79-N80","v":-1}]
[{"$f":"'Muni-L1'!B80","v":"Village of Delanson"},{"$f":"'Muni-L1'!L80+'Muni-L1'!M80","v":74484},{"$f":"'Muni-L1'!N80","v":35349},{"$f":"'Muni-L1'!U80","v":29495},{"$f":"'Muni-L1'!V80","v":0},{"$f":"'Muni-L1'!O80+'Muni-L1'!P80+'Muni-L1'!Q80+'Muni-L1'!R80+'Muni-L1'!S80+'Muni-L1'!X80+'Muni-L1'!Y80","v":154424},293752,{"$f":"'Muni-L1'!AA80","v":76031},{"$f":"'Muni-L1'!AC80+'Muni-L1'!AD80","v":32053},{"$f":"'Muni-L1'!AE80+'Muni-L1'!AJ80+'Muni-L1'!AK80","v":117243},{"$f":"'Muni-L1'!AG80","v":0},{"$f":"'Muni-L1'!AB80+'Muni-L1'!AF80+'Muni-L1'!AH80+'Muni-L1'!AI80+'Muni-L1'!AL80+'Muni-L1'!AM80+'Muni-L1'!AO80","v":45915},271242,22510,{"$f":"'Muni-L1'!Z80-'Muni-L1'!AP80-N81","v":0}]
[{"$f":"'Muni-L1'!B81","v":"Town of Glenville"},{"$f":"'Muni-L1'!L81+'Muni-L1'!M81","v":7493737},{"$f":"'Muni-L1'!N81","v":2534366},{"$f":"'Muni-L1'!U81","v":894403},{"$f":"'Muni-L1'!V81","v":473431},{"$f":"'Muni-L1'!O81+'Muni-L1'!P81+'Muni-L1'!Q81+'Muni-L1'!R81+'Muni-L1'!S81+'Muni-L1'!X81+'Muni-L1'!Y81","v":6657067},18053004,{"$f":"'Muni-L1'!AA81","v":1470342},{"$f":"'Muni-L1'!AC81+'Muni-L1'!AD81","v":3685801},{"$f":"'Muni-L1'!AE81+'Muni-L1'!AJ81+'Muni-L1'!AK81","v":4538867},{"$f":"'Muni-L1'!AG81","v":156892},{"$f":"'Muni-L1'!AB81+'Muni-L1'!AF81+'Muni-L1'!AH81+'Muni-L1'!AI81+'Muni-L1'!AL81+'Muni-L1'!AM81+'Muni-L1'!AO81","v":5983021},15834923,2218081,{"$f":"'Muni-L1'!Z81-'Muni-L1'!AP81-N82","v":0}]
[{"$f":"'Muni-L1'!B82","v":"Village of Scotia"},{"$f":"'Muni-L1'!L82+'Muni-L1'!M82","v":3867486},{"$f":"'Muni-L1'!N82","v":762478},{"$f":"'Muni-L1'!U82","v":1675868},{"$f":"'Muni-L1'!V82","v":640262},{"$f":"'Muni-L1'!O82+'Muni-L1'!P82+'Muni-L1'!Q82+'Muni-L1'!R82+'Muni-L1'!S82+'Muni-L1'!X82+'Muni-L1'!Y82","v":3018926},9965020,{"$f":"'Muni-L1'!AA82","v":639606},{"$f":"'Muni-L1'!AC82+'Muni-L1'!AD82","v":3118024},{"$f":"'Muni-L1'!AE82+'Muni-L1'!AJ82+'Muni-L1'!AK82","v":2753783},{"$f":"'Muni-L1'!AG82","v":58440},{"$f":"'Muni-L1'!AB82+'Muni-L1'!AF82+'Muni-L1'!AH82+'Muni-L1'!AI82+'Muni-L1'!AL82+'Muni-L1'!AM82+'Muni-L1'!AO82","v":3596771},10166624,-201604,{"$f":"'Muni-L1'!Z82-'Muni-L1'!AP82-N83","v":0}]
[{"$f":"'Muni-L1'!B83","v":"Town of Niskayuna"},{"$f":"'Muni-L1'!L83+'Muni-L1'!M83","v":10443428},{"$f":"'Muni-L1'!N83","v":3026887},{"$f":"'Muni-L1'!U83","v":954275},{"$f":"'Muni-L1'!V83","v":560396},{"$f":"'Muni-L1'!O83+'Muni-L1'!P83+'Muni-L1'!Q83+'Muni-L1'!R83+'Muni-L1'!S83+'Muni-L1'!X83+'Muni-L1'!Y83","v":14568347},29553333,{"$f":"'Muni-L1'!AA83","v":1705458},{"$f":"'Muni-L1'!AC83+'Muni-L1'!AD83","v":3355750},{"$f":"'Muni-L1'!AE83+'Muni-L1'!AJ83+'Muni-L1'!AK83","v":10171470},{"$f":"'Muni-L1'!AG83","v":0},{"$f":"'Muni-L1'!AB83+'Muni-L1'!AF83+'Muni-L1'!AH83+'Muni-L1'!AI83+'Muni-L1'!AL83+'Muni-L1'!AM83+'Muni-L1'!AO83","v":7007185},22239863,7313470,{"$f":"'Muni-L1'!Z83-'Muni-L1'!AP83-N84","v":1}]
[{"$f":"'Muni-L1'!B84","v":"Town of Princetown"},{"$f":"'Muni-L1'!L84+'Muni-L1'!M84","v":481867},{"$f":"'Muni-L1'!N84","v":193766},{"$f":"'Muni-L1'!U84","v":71230},{"$f":"'Muni-L1'!V84","v":28267},{"$f":"'Muni-L1'!O84+'Muni-L1'!P84+'Muni-L1'!Q84+'Muni-L1'!R84+'Muni-L1'!S84+'Muni-L1'!X84+'Muni-L1'!Y84","v":836434},1611564,{"$f":"'Muni-L1'!AA84","v":382128},{"$f":"'Muni-L1'!AC84+'Muni-L1'!AD84","v":276318},{"$f":"'Muni-L1'!AE84+'Muni-L1'!AJ84+'Muni-L1'!AK84","v":556071},{"$f":"'Muni-L1'!AG84","v":0},{"$f":"'Muni-L1'!AB84+'Muni-L1'!AF84+'Muni-L1'!AH84+'Muni-L1'!AI84+'Muni-L1'!AL84+'Muni-L1'!AM84+'Muni-L1'!AO84","v":314557},1529074,82490,{"$f":"'Muni-L1'!Z84-'Muni-L1'!AP84-N85","v":1}]
[{"$f":"'Muni-L1'!B85","v":"Town of Rotterdam"},{"$f":"'Muni-L1'!L85+'Muni-L1'!M85","v":11788200},{"$f":"'Muni-L1'!N85","v":3523483},{"$f":"'Muni-L1'!U85","v":1021568},{"$f":"'Muni-L1'!V85","v":1543636},{"$f":"'Muni-L1'!O85+'Muni-L1'!P85+'Muni-L1'!Q85+'Muni-L1'!R85+'Muni-L1'!S85+'Muni-L1'!X85+'Muni-L1'!Y85","v":2725968},20602855,{"$f":"'Muni-L1'!AA85","v":2245334},{"$f":"'Muni-L1'!AC85+'Muni-L1'!AD85","v":5792151},{"$f":"'Muni-L1'!AE85+'Muni-L1'!AJ85+'Muni-L1'!AK85","v":6629806},{"$f":"'Muni-L1'!AG85","v":3660},{"$f":"'Muni-L1'!AB85+'Muni-L1'!AF85+'Muni-L1'!AH85+'Muni-L1'!AI85+'Muni-L1'!AL85+'Muni-L1'!AM85+'Muni-L1'!AO85","v":8404894},23075845,-2472990,{"$f":"'Muni-L1'!Z85-'Muni-L1'!AP85-N86","v":2}]
[{"$f":"'Muni-L1'!B86","v":"City of Schenectady"},{"$f":"'Muni-L1'!L86+'Muni-L1'!M86","v":26861368},{"$f":"'Muni-L1'!N86","v":11848038},{"$f":"'Muni-L1'!U86","v":16346137},{"$f":"'Muni-L1'!V86","v":8428494},{"$f":"'Muni-L1'!O86+'Muni-L1'!P86+'Muni-L1'!Q86+'Muni-L1'!R86+'Muni-L1'!S86+'Muni-L1'!X86+'Muni-L1'!Y86","v":41063370},104547407,{"$f":"'Muni-L1'!AA86","v":22284818},{"$f":"'Muni-L1'!AC86+'Muni-L1'!AD86","v":26256064},{"$f":"'Muni-L1'!AE86+'Muni-L1'!AJ86+'Muni-L1'!AK86","v":29582618},{"$f":"'Muni-L1'!AG86","v":11516104},{"$f":"'Muni-L1'!AB86+'Muni-L1'!AF86+'Muni-L1'!AH86+'Muni-L1'!AI86+'Muni-L1'!AL86+'Muni-L1'!AM86+'Muni-L1'!AO86","v":36364001},126003605,-21456198,{"$f":"'Muni-L1'!Z86-'Muni-L1'!AP86-N87","v":0}]
[{"$f":"'Muni-L1'!B87","v":"Capital District"},{"$f":"'Muni-L1'!L87+'Muni-L1'!M87","v":250825033},{"$f":"'Muni-L1'!N87","v":477522222},{"$f":"'Muni-L1'!U87","v":189483684},{"$f":"'Muni-L1'!V87","v":172384745},{"$f":"'Muni-L1'!O87+'Muni-L1'!P87+'Muni-L1'!Q87+'Muni-L1'!R87+'Muni-L1'!S87+'Muni-L1'!X87+'Muni-L1'!Y87","v":491645206},1581860890,{"$f":"'Muni-L1'!AA87","v":338502840},{"$f":"'Muni-L1'!AC87+'Muni-L1'!AD87","v":272391832},{"$f":"'Muni-L1'!AE87+'Muni-L1'!AJ87+'Muni-L1'!AK87","v":86641633},{"$f":"'Muni-L1'!AG87","v":3861337},{"$f":"'Muni-L1'!AB87+'Muni-L1'!AF87+'Muni-L1'!AH87+'Muni-L1'!AI87+'Muni-L1'!AL87+'Muni-L1'!AM87+'Muni-L1'!AO87","v":867172742},1568570384,13290506,{"$f":"'Muni-L1'!Z87-'Muni-L1'!AP87-N88","v":-1}]

{"sheet":"Chart Data 2010","index":5,"n_rows":82,"n_cols":14,"rows_kept":82,"cut":false,"hidden":false,"merged":[]}
[{"$f":"\"FY \"&RIGHT('Muni-L1'!B1,4)","v":"FY 2010"},"Revenues ($1,000s)",null,null,null,null,null,"Expenditures ($1,000s)"]
["Revenues & Expenditures","Property Tax","Sales Tax","State Aid","Federal Aid","Other","Total Revenues","General Government","Health & Public Safety","Transport. and Utilities","Economic Assistance","Other","Total Expenditures",{"$f":"A1&\" Surplus or (Deficit)\"","v":"FY 2010 Surplus or (Deficit)"}]
["City of Albany",{"$f":"'DataNews 2010'!B4","v":79320706},{"$f":"'DataNews 2010'!C4","v":30350525},{"$f":"'DataNews 2010'!D4","v":21688863},{"$f":"'DataNews 2010'!E4","v":11745596},{"$f":"'DataNews 2010'!F4","v":31609790},{"$f":"'DataNews 2010'!G4","v":174715480},{"$f":"'DataNews 2010'!H4","v":22113971},{"$f":"'DataNews 2010'!I4","v":57941668},{"$f":"'DataNews 2010'!J4","v":32529935},{"$f":"'DataNews 2010'!K4","v":0},{"$f":"'DataNews 2010'!L4","v":76493028},{"$f":"'DataNews 2010'!M4","v":189078602},{"$f":"'DataNews 2010'!N4","v":-14363122}]
["Town of Berne",{"$f":"'DataNews 2010'!B5","v":1165133},{"$f":"'DataNews 2010'!C5","v":888183},{"$f":"'DataNews 2010'!D5","v":347544},{"$f":"'DataNews 2010'!E5","v":0},{"$f":"'DataNews 2010'!F5","v":189840},{"$f":"'DataNews 2010'!G5","v":2590700},{"$f":"'DataNews 2010'!H5","v":358567},{"$f":"'DataNews 2010'!I5","v":512089},{"$f":"'DataNews 2010'!J5","v":1098032},{"$f":"'DataNews 2010'!K5","v":0},{"$f":"'DataNews 2010'!L5","v":365133},{"$f":"'DataNews 2010'!M5","v":2333821},{"$f":"'DataNews 2010'!N5","v":256879}]
["Town of Bethlehem",{"$f":"'DataNews 2010'!B6","v":12778196},{"$f":"'DataNews 2010'!C6","v":9444723},{"$f":"'DataNews 2010'!D6","v":1432107},{"$f":"'DataNews 2010'!E6","v":897379},{"$f":"'DataNews 2010'!F6","v":13179672},{"$f":"'DataNews 2010'!G6","v":37732077},{"$f":"'DataNews 2010'!H6","v":3885268},{"$f":"'DataNews 2010'!I6","v":7148277},{"$f":"'DataNews 2010'!J6","v":16856114},{"$f":"'DataNews 2010'!K6","v":0},{"$f":"'DataNews 2010'!L6","v":10959668},{"$f":"'DataNews 2010'!M6","v":38849327},{"$f":"'DataNews 2010'!N6","v":-1117250}]
["Town of Coeymans",{"$f":"'DataNews 2010'!B7","v":1749516},{"$f":"'DataNews 2010'!C7","v":1785256},{"$f":"'DataNews 2010'!D7","v":242142},{"$f":"'DataNews 2010'!E7","v":470895},{"$f":"'DataNews 2010'!F7","v":2850383},{"$f":"'DataNews 2010'!G7","v":7098192},{"$f":"'DataNews 2010'!H7","v":879875},{"$f":"'DataNews 2010'!I7","v":1392127},{"$f":"'DataNews 2010'!J7","v":1712842},{"$f":"'DataNews 2010'!K7","v":844},{"$f":"'DataNews 2010'!L7","v":3322997},{"$f":"'DataNews 2010'!M7","v":7308685},{"$f":"'DataNews 2010'!N7","v":-210493}]
["Village of Ravena",{"$f":"'DataNews 2010'!B8","v":766837},{"$f":"'DataNews 2010'!C8","v":715669},{"$f":"'DataNews 2010'!D8","v":81777},{"$f":"'DataNews 2010'!E8","v":54586},{"$f":"'DataNews 2010'!F8","v":1209184},{"$f":"'DataNews 2010'!G8","v":2828053},{"$f":"'DataNews 2010'!H8","v":742493},{"$f":"'DataNews 2010'!I8","v":139008},{"$f":"'DataNews 2010'!J8","v":869333},{"$f":"'DataNews 2010'!K8","v":1304},{"$f":"'DataNews 2010'!L8","v":880335},{"$f":"'DataNews 2010'!M8","v":2632473},{"$f":"'DataNews 2010'!N8","v":195580}]
["City of Cohoes",{"$f":"'DataNews 2010'!B9","v":7372391},{"$f":"'DataNews 2010'!C9","v":4886563},{"$f":"'DataNews 2010'!D9","v":3717282},{"$f":"'DataNews 2010'!E9","v":5979887},{"$f":"'DataNews 2010'!F9","v":5942568},{"$f":"'DataNews 2010'!G9","v":27898691},{"$f":"'DataNews 2010'!H9","v":2631834},{"$f":"'DataNews 2010'!I9","v":6982179},{"$f":"'DataNews 2010'!J9","v":9345520},{"$f":"'DataNews 2010'!K9","v":173947},{"$f":"'DataNews 2010'!L9","v":8493473},{"$f":"'DataNews 2010'!M9","v":27626953},{"$f":"'DataNews 2010'!N9","v":271738}]
["Town of Colonie",{"$f":"'DataNews 2010'!B10","v":31071215},{"$f":"'DataNews 2010'!C10","v":19446154},{"$f":"'DataNews 2010'!D10","v":3912479},{"$f":"'DataNews 2010'!E10","v":6767989},{"$f":"'DataNews 2010'!F10","v":40824674},{"$f":"'DataNews 2010'!G10","v":102022511},{"$f":"'DataNews 2010'!H10","v":19791192},{"$f":"'DataNews 2010'!I10","v":23617019},{"$f":"'DataNews 2010'!J10","v":26000187},{"$f":"'DataNews 2010'!K10","v":893013},{"$f":"'DataNews 2010'!L10","v":38331970},{"$f":"'DataNews 2010'!M10","v":108633381},{"$f":"'DataNews 2010'!N10","v":-6610870}]
["Village of Colonie",{"$f":"'DataNews 2010'!B11","v":1201129},{"$f":"'DataNews 2010'!C11","v":2326038},{"$f":"'DataNews 2010'!D11","v":187683},{"$f":"'DataNews 2010'!E11","v":115892},{"$f":"'DataNews 2010'!F11","v":3712334},{"$f":"'DataNews 2010'!G11","v":7543076},{"$f":"'DataNews 2010'!H11","v":708727},{"$f":"'DataNews 2010'!I11","v":345518},{"$f":"'DataNews 2010'!J11","v":3801582},{"$f":"'DataNews 2010'!K11","v":25994},{"$f":"'DataNews 2010'!L11","v":2297160},{"$f":"'DataNews 2010'!M11","v":7178981},{"$f":"'DataNews 2010'!N11","v":364095}]
["Village of Menands",{"$f":"'DataNews 2010'!B12","v":1800229},{"$f":"'DataNews 2010'!C12","v":1288251},{"$f":"'DataNews 2010'!D12","v":131927},{"$f":"'DataNews 2010'!E12","v":25848},{"$f":"'DataNews 2010'!F12","v":1899686},{"$f":"'DataNews 2010'!G12","v":5145941},{"$f":"'DataNews 2010'!H12","v":630602},{"$f":"'DataNews 2010'!I12","v":1176266},{"$f":"'DataNews 2010'!J12","v":1925997},{"$f":"'DataNews 2010'!K12","v":4476},{"$f":"'DataNews 2010'!L12","v":858876},{"$f":"'DataNews 2010'!M12","v":4596217},{"$f":"'DataNews 2010'!N12","v":549724}]
["Town/Village of Green Island",{"$f":"'DataNews 2010'!B13","v":2102833},{"$f":"'DataNews 2010'!C13","v":657742},{"$f":"'DataNews 2010'!D13","v":175303},{"$f":"'DataNews 2010'!E13","v":381400},{"$f":"'DataNews 2010'!F13","v":2003113},{"$f":"'DataNews 2010'!G13","v":5320391},{"$f":"'DataNews 2010'!H13","v":842699},{"$f":"'DataNews 2010'!I13","v":1122798},{"$f":"'DataNews 2010'!J13","v":1417066},{"$f":"'DataNews 2010'!K13","v":0},{"$f":"'DataNews 2010'!L13","v":1620882},{"$f":"'DataNews 2010'!M13","v":5003445},{"$f":"'DataNews 2010'!N13","v":316946}]
["Town of Guilderland",{"$f":"'DataNews 2010'!B14","v":8364308},{"$f":"'DataNews 2010'!C14","v":9747640},{"$f":"'DataNews 2010'!D14","v":1624711},{"$f":"'DataNews 2010'!E14","v":586027},{"$f":"'DataNews 2010'!F14","v":10574375},{"$f":"'DataNews 2010'!G14","v":30897061},{"$f":"'DataNews 2010'!H14","v":2592473},{"$f":"'DataNews 2010'!I14","v":6690465},{"$f":"'DataNews 2010'!J14","v":11888859},{"$f":"'DataNews 2010'!K14","v":648865},{"$f":"'DataNews 2010'!L14","v":10372030},{"$f":"'DataNews 2010'!M14","v":32192692},{"$f":"'DataNews 2010'!N14","v":-1295631}]
["Village of Altamont",{"$f":"'DataNews 2010'!B13","v":2102833},{"$f":"'DataNews 2010'!C13","v":657742},{"$f":"'DataNews 2010'!D13","v":175303},{"$f":"'DataNews 2010'!E13","v":381400},{"$f":"'DataNews 2010'!F13","v":2003113},{"$f":"'DataNews 2010'!G13","v":5320391},{"$f":"'DataNews 2010'!H13","v":842699},{"$f":"'DataNews 2010'!I13","v":1122798},{"$f":"'DataNews 2010'!J13","v":1417066},{"$f":"'DataNews 2010'!K13","v":0},{"$f":"'DataNews 2010'!L13","v":1620882},{"$f":"'DataNews 2010'!M13","v":5003445},{"$f":"'DataNews 2010'!N13","v":316946}]
["Town of Knox",{"$f":"'DataNews 2010'!B16","v":244907},{"$f":"'DataNews 2010'!C16","v":798626},{"$f":"'DataNews 2010'!D16","v":115187},{"$f":"'DataNews 2010'!E16","v":0},{"$f":"'DataNews 2010'!F16","v":182175},{"$f":"'DataNews 2010'!G16","v":1340895},{"$f":"'DataNews 2010'!H16","v":1162541},{"$f":"'DataNews 2010'!I16","v":103725},{"$f":"'DataNews 2010'!J16","v":653318},{"$f":"'DataNews 2010'!K16","v":0},{"$f":"'DataNews 2010'!L16","v":311770},{"$f":"'DataNews 2010'!M16","v":2231354},{"$f":"'DataNews 2010'!N16","v":-890459}]
["Town of New Scotland",{"$f":"'DataNews 2010'!B17","v":2314314},{"$f":"'DataNews 2010'!C17","v":1765304},{"$f":"'DataNews 2010'!D17","v":403825},{"$f":"'DataNews 2010'!E17","v":126169},{"$f":"'DataNews 2010'!F17","v":778097},{"$f":"'DataNews 2010'!G17","v":5387709},{"$f":"'DataNews 2010'!H17","v":783786},{"$f":"'DataNews 2010'!I17","v":986497},{"$f":"'DataNews 2010'!J17","v":2738264},{"$f":"'DataNews 2010'!K17","v":0},{"$f":"'DataNews 2010'!L17","v":1152720},{"$f":"'DataNews 2010'!M17","v":5661267},{"$f":"'DataNews 2010'!N17","v":-273558}]
["Village of Voorheesville",{"$f":"'DataNews 2010'!B18","v":260687},{"$f":"'DataNews 2010'!C18","v":855366},{"$f":"'DataNews 2010'!D18","v":104494},{"$f":"'DataNews 2010'!E18","v":2550},{"$f":"'DataNews 2010'!F18","v":684167},{"$f":"'DataNews 2010'!G18","v":1907264},{"$f":"'DataNews 2010'!H18","v":303841},{"$f":"'DataNews 2010'!I18","v":71192},{"$f":"'DataNews 2010'!J18","v":809032},{"$f":"'DataNews 2010'!K18","v":0},{"$f":"'DataNews 2010'!L18","v":489238},{"$f":"'DataNews 2010'!M18","v":1673303},{"$f":"'DataNews 2010'!N18","v":233961}]
["Town of Rensselaerville",{"$f":"'DataNews 2010'!B19","v":1199659},{"$f":"'DataNews 2010'!C19","v":501520},{"$f":"'DataNews 2010'!D19","v":169482},{"$f":"'DataNews 2010'!E19","v":0},{"$f":"'DataNews 2010'!F19","v":191072},{"$f":"'DataNews 2010'!G19","v":2061733},{"$f":"'DataNews 2010'!H19","v":329075},{"$f":"'DataNews 2010'!I19","v":276161},{"$f":"'DataNews 2010'!J19","v":1178227},{"$f":"'DataNews 2010'!K19","v":0},{"$f":"'DataNews 2010'!L19","v":482679},{"$f":"'DataNews 2010'!M19","v":2266142},{"$f":"'DataNews 2010'!N19","v":-204409}]
["City of Watervliet",{"$f":"'DataNews 2010'!B20","v":3970313},{"$f":"'DataNews 2010'!C20","v":3241101},{"$f":"'DataNews 2010'!D20","v":6434433},{"$f":"'DataNews 2010'!E20","v":246864},{"$f":"'DataNews 2010'!F20","v":6475115},{"$f":"'DataNews 2010'!G20","v":20367826},{"$f":"'DataNews 2010'!H20","v":1344622},{"$f":"'DataNews 2010'!I20","v":4589052},{"$f":"'DataNews 2010'!J20","v":8494419},{"$f":"'DataNews 2010'!K20","v":599105},{"$f":"'DataNews 2010'!L20","v":5504374},{"$f":"'DataNews 2010'!M20","v":20531572},{"$f":"'DataNews 2010'!N20","v":-163746}]
["Town of Westerlo",{"$f":"'DataNews 2010'!B21","v":998611},{"$f":"'DataNews 2010'!C21","v":1045726},{"$f":"'DataNews 2010'!D21","v":234381},{"$f":"'DataNews 2010'!E21","v":0},{"$f":"'DataNews 2010'!F21","v":157386},{"$f":"'DataNews 2010'!G21","v":2436104},{"$f":"'DataNews 2010'!H21","v":622015},{"$f":"'DataNews 2010'!I21","v":285304},{"$f":"'DataNews 2010'!J21","v":1010592},{"$f":"'DataNews 2010'!K21","v":0},{"$f":"'DataNews 2010'!L21","v":711310},{"$f":"'DataNews 2010'!M21","v":2629221},{"$f":"'DataNews 2010'!N21","v":-193117}]
["Village of Nassau",{"$f":"'DataNews 2010'!B23","v":345314},{"$f":"'DataNews 2010'!C23","v":63338},{"$f":"'DataNews 2010'!D23","v":73182},{"$f":"'DataNews 2010'!E23","v":6334},{"$f":"'DataNews 2010'!F23","v":377398},{"$f":"'DataNews 2010'!G23","v":865566},{"$f":"'DataNews 2010'!H23","v":169761},{"$f":"'DataNews 2010'!I23","v":159086},{"$f":"'DataNews 2010'!J23","v":336928},{"$f":"'DataNews 2010'!K23","v":0},{"$f":"'DataNews 2010'!L23","v":147806},{"$f":"'DataNews 2010'!M23","v":813581},{"$f":"'DataNews 2010'!N23","v":51985}]
["Village of Valley Falls",{"$f":"'DataNews 2010'!B24","v":50710},{"$f":"'DataNews 2010'!C24","v":29737},{"$f":"'DataNews 2010'!D24","v":19513},{"$f":"'DataNews 2010'!E24","v":0},{"$f":"'DataNews 2010'!F24","v":213222},{"$f":"'DataNews 2010'!G24","v":313182},{"$f":"'DataNews 2010'!H24","v":59543},{"$f":"'DataNews 2010'!I24","v":40548},{"$f":"'DataNews 2010'!J24","v":26317},{"$f":"'DataNews 2010'!K24","v":0},{"$f":"'DataNews 2010'!L24","v":170314},{"$f":"'DataNews 2010'!M24","v":296722},{"$f":"'DataNews 2010'!N24","v":16460}]
["Town of Berlin",{"$f":"'DataNews 2010'!B25","v":381693},{"$f":"'DataNews 2010'!C25","v":164826},{"$f":"'DataNews 2010'!D25","v":116282},{"$f":"'DataNews 2010'!E25","v":0},{"$f":"'DataNews 2010'!F25","v":214612},{"$f":"'DataNews 2010'!G25","v":877413},{"$f":"'DataNews 2010'!H25","v":122054},{"$f":"'DataNews 2010'!I25","v":15321},{"$f":"'DataNews 2010'!J25","v":577556},{"$f":"'DataNews 2010'!K25","v":0},{"$f":"'DataNews 2010'!L25","v":118980},{"$f":"'DataNews 2010'!M25","v":833911},{"$f":"'DataNews 2010'!N25","v":43502}]
["Town of Brunswick",{"$f":"'DataNews 2010'!B26","v":3408076},{"$f":"'DataNews 2010'!C26","v":1016116},{"$f":"'DataNews 2010'!D26","v":506240},{"$f":"'DataNews 2010'!E26","v":29988},{"$f":"'DataNews 2010'!F26","v":1667475},{"$f":"'DataNews 2010'!G26","v":6627895},{"$f":"'DataNews 2010'!H26","v":1076797},{"$f":"'DataNews 2010'!I26","v":1060696},{"$f":"'DataNews 2010'!J26","v":2970312},{"$f":"'DataNews 2010'!K26","v":146488},{"$f":"'DataNews 2010'!L26","v":1299604},{"$f":"'DataNews 2010'!M26","v":6553897},{"$f":"'DataNews 2010'!N26","v":73998}]
["Town of East Greenbush",{"$f":"'DataNews 2010'!B27","v":8683121},{"$f":"'DataNews 2010'!C27","v":1618667},{"$f":"'DataNews 2010'!D27","v":832467},{"$f":"'DataNews 2010'!E27","v":0},{"$f":"'DataNews 2010'!F27","v":5807246},{"$f":"'DataNews 2010'!G27","v":16941501},{"$f":"'DataNews 2010'!H27","v":2173457},{"$f":"'DataNews 2010'!I27","v":2770444},{"$f":"'DataNews 2010'!J27","v":6434731},{"$f":"'DataNews 2010'!K27","v":0},{"$f":"'DataNews 2010'!L27","v":4411861},{"$f":"'DataNews 2010'!M27","v":15790493},{"$f":"'DataNews 2010'!N27","v":1151008}]
["Town of Grafton",{"$f":"'DataNews 2010'!B28","v":638066},{"$f":"'DataNews 2010'!C28","v":209402},{"$f":"'DataNews 2010'!D28","v":142881},{"$f":"'DataNews 2010'!E28","v":0},{"$f":"'DataNews 2010'!F28","v":96446},{"$f":"'DataNews 2010'!G28","v":1086795},{"$f":"'DataNews 2010'!H28","v":202877},{"$f":"'DataNews 2010'!I28","v":32422},{"$f":"'DataNews 2010'!J28","v":579450},{"$f":"'DataNews 2010'!K28","v":0},{"$f":"'DataNews 2010'!L28","v":233974},{"$f":"'DataNews 2010'!M28","v":1048723},{"$f":"'DataNews 2010'!N28","v":38072}]
["Town of Hoosick",{"$f":"'DataNews 2010'!B29","v":1423948},{"$f":"'DataNews 2010'!C29","v":270637},{"$f":"'DataNews 2010'!D29","v":230281},{"$f":"'DataNews 2010'!E29","v":465525},{"$f":"'DataNews 2010'!F29","v":179540},{"$f":"'DataNews 2010'!G29","v":2569931},{"$f":"'DataNews 2010'!H29","v":353851},{"$f":"'DataNews 2010'!I29","v":300523},{"$f":"'DataNews 2010'!J29","v":1380245},{"$f":"'DataNews 2010'!K29","v":0},{"$f":"'DataNews 2010'!L29","v":591887},{"$f":"'DataNews 2010'!M29","v":2626506},{"$f":"'DataNews 2010'!N29","v":-56575}]
["Village of Hoosick Falls",{"$f":"'DataNews 2010'!B30","v":1114369},{"$f":"'DataNews 2010'!C30","v":182123},{"$f":"'DataNews 2010'!D30","v":253414},{"$f":"'DataNews 2010'!E30","v":0},{"$f":"'DataNews 2010'!F30","v":1631662},{"$f":"'DataNews 2010'!G30","v":3181568},{"$f":"'DataNews 2010'!H30","v":213535},{"$f":"'DataNews 2010'!I30","v":426802},{"$f":"'DataNews 2010'!J30","v":3447976},{"$f":"'DataNews 2010'!K30","v":17284},{"$f":"'DataNews 2010'!L30","v":735997},{"$f":"'DataNews 2010'!M30","v":4841594},{"$f":"'DataNews 2010'!N30","v":-1660026}]
["Town of Nassau",{"$f":"'DataNews 2010'!B31","v":976577},{"$f":"'DataNews 2010'!C31","v":245264},{"$f":"'DataNews 2010'!D31","v":283192},{"$f":"'DataNews 2010'!E31","v":171863},{"$f":"'DataNews 2010'!F31","v":641119},{"$f":"'DataNews 2010'!G31","v":2318015},{"$f":"'DataNews 2010'!H31","v":402131},{"$f":"'DataNews 2010'!I31","v":221400},{"$f":"'DataNews 2010'!J31","v":1012399},{"$f":"'DataNews 2010'!K31","v":0},{"$f":"'DataNews 2010'!L31","v":722233},{"$f":"'DataNews 2010'!M31","v":2358163},{"$f":"'DataNews 2010'!N31","v":-40148}]
["Village of East Nassau",{"$f":"'DataNews 2010'!B32","v":51519},{"$f":"'DataNews 2010'!C32","v":41243},{"$f":"'DataNews 2010'!D32","v":28379},{"$f":"'DataNews 2010'!E32","v":12995},{"$f":"'DataNews 2010'!F32","v":616},{"$f":"'DataNews 2010'!G32","v":134752},{"$f":"'DataNews 2010'!H32","v":45262},{"$f":"'DataNews 2010'!I32","v":4170},{"$f":"'DataNews 2010'!J32","v":93368},{"$f":"'DataNews 2010'!K32","v":0},{"$f":"'DataNews 2010'!L32","v":2106},{"$f":"'DataNews 2010'!M32","v":144906},{"$f":"'DataNews 2010'!N32","v":-10154}]
["Town of North Greenbush",{"$f":"'DataNews 2010'!B33","v":5300740},{"$f":"'DataNews 2010'!C33","v":981703},{"$f":"'DataNews 2010'!D33","v":603610},{"$f":"'DataNews 2010'!E33","v":0},{"$f":"'DataNews 2010'!F33","v":3240177},{"$f":"'DataNews 2010'!G33","v":10126230},{"$f":"'DataNews 2010'!H33","v":2968236},{"$f":"'DataNews 2010'!I33","v":1936097},{"$f":"'DataNews 2010'!J33","v":3369714},{"$f":"'DataNews 2010'!K33","v":0},{"$f":"'DataNews 2010'!L33","v":4003030},{"$f":"'DataNews 2010'!M33","v":12277077},{"$f":"'DataNews 2010'!N33","v":-2150847}]
["Town of Petersburg",{"$f":"'DataNews 2010'!B34","v":501638},{"$f":"'DataNews 2010'!C34","v":118643},{"$f":"'DataNews 2010'!D34","v":156149},{"$f":"'DataNews 2010'!E34","v":339},{"$f":"'DataNews 2010'!F34","v":97069},{"$f":"'DataNews 2010'!G34","v":873838},{"$f":"'DataNews 2010'!H34","v":162547},{"$f":"'DataNews 2010'!I34","v":22591},{"$f":"'DataNews 2010'!J34","v":445699},{"$f":"'DataNews 2010'!K34","v":0},{"$f":"'DataNews 2010'!L34","v":195453},{"$f":"'DataNews 2010'!M34","v":826290},{"$f":"'DataNews 2010'!N34","v":47548}]
["Town of Pittstown",{"$f":"'DataNews 2010'!B35","v":2036315},{"$f":"'DataNews 2010'!C35","v":227412},{"$f":"'DataNews 2010'!D35","v":102571},{"$f":"'DataNews 2010'!E35","v":0},{"$f":"'DataNews 2010'!F35","v":115370},{"$f":"'DataNews 2010'!G35","v":2481668},{"$f":"'DataNews 2010'!H35","v":258078},{"$f":"'DataNews 2010'!I35","v":96507},{"$f":"'DataNews 2010'!J35","v":1815254},{"$f":"'DataNews 2010'!K35","v":507},{"$f":"'DataNews 2010'!L35","v":316117},{"$f":"'DataNews 2010'!M35","v":2486463},{"$f":"'DataNews 2010'!N35","v":-4795}]
["Town of Poestenkill",{"$f":"'DataNews 2010'!B36","v":1120312},{"$f":"'DataNews 2010'!C36","v":320892},{"$f":"'DataNews 2010'!D36","v":494313},{"$f":"'DataNews 2010'!E36","v":430080},{"$f":"'DataNews 2010'!F36","v":88191},{"$f":"'DataNews 2010'!G36","v":2453788},{"$f":"'DataNews 2010'!H36","v":303513},{"$f":"'DataNews 2010'!I36","v":266175},{"$f":"'DataNews 2010'!J36","v":10330876},{"$f":"'DataNews 2010'!K36","v":0},{"$f":"'DataNews 2010'!L36","v":430376},{"$f":"'DataNews 2010'!M36","v":11330940},{"$f":"'DataNews 2010'!N36","v":-8877152}]
["City of Rensselaer",{"$f":"'DataNews 2010'!B37","v":6981371},{"$f":"'DataNews 2010'!C37","v":1912977},{"$f":"'DataNews 2010'!D37","v":3125029},{"$f":"'DataNews 2010'!E37","v":926667},{"$f":"'DataNews 2010'!F37","v":7275901},{"$f":"'DataNews 2010'!G37","v":20221945},{"$f":"'DataNews 2010'!H37","v":2196120},{"$f":"'DataNews 2010'!I37","v":3542766},{"$f":"'DataNews 2010'!J37","v":5937910},{"$f":"'DataNews 2010'!K37","v":1511738},{"$f":"'DataNews 2010'!L37","v":3930230},{"$f":"'DataNews 2010'!M37","v":17118764},{"$f":"'DataNews 2010'!N37","v":3103181}]
["Town of Sand Lake",{"$f":"'DataNews 2010'!B38","v":1637994},{"$f":"'DataNews 2010'!C38","v":762972},{"$f":"'DataNews 2010'!D38","v":420271},{"$f":"'DataNews 2010'!E38","v":176383},{"$f":"'DataNews 2010'!F38","v":2640251},{"$f":"'DataNews 2010'!G38","v":5637871},{"$f":"'DataNews 2010'!H38","v":991779},{"$f":"'DataNews 2010'!I38","v":387673},{"$f":"'DataNews 2010'!J38","v":2386936},{"$f":"'DataNews 2010'!K38","v":0},{"$f":"'DataNews 2010'!L38","v":1260233},{"$f":"'DataNews 2010'!M38","v":5026621},{"$f":"'DataNews 2010'!N38","v":611250}]
["Town of Schaghticoke",{"$f":"'DataNews 2010'!B39","v":2041754},{"$f":"'DataNews 2010'!C39","v":573781},{"$f":"'DataNews 2010'!D39","v":371100},{"$f":"'DataNews 2010'!E39","v":66556},{"$f":"'DataNews 2010'!F39","v":625284},{"$f":"'DataNews 2010'!G39","v":3678475},{"$f":"'DataNews 2010'!H39","v":466105},{"$f":"'DataNews 2010'!I39","v":247664},{"$f":"'DataNews 2010'!J39","v":2325616},{"$f":"'DataNews 2010'!K39","v":0},{"$f":"'DataNews 2010'!L39","v":949550},{"$f":"'DataNews 2010'!M39","v":3988935},{"$f":"'DataNews 2010'!N39","v":-310460}]
["Village of Schaghticoke",{"$f":"'DataNews 2010'!B40","v":146842},{"$f":"'DataNews 2010'!C40","v":55787},{"$f":"'DataNews 2010'!D40","v":59184},{"$f":"'DataNews 2010'!E40","v":312265},{"$f":"'DataNews 2010'!F40","v":184705},{"$f":"'DataNews 2010'!G40","v":758783},{"$f":"'DataNews 2010'!H40","v":120041},{"$f":"'DataNews 2010'!I40","v":386231},{"$f":"'DataNews 2010'!J40","v":223971},{"$f":"'DataNews 2010'!K40","v":276},{"$f":"'DataNews 2010'!L40","v":66260},{"$f":"'DataNews 2010'!M40","v":796779},{"$f":"'DataNews 2010'!N40","v":-37996}]
["Town of Schodack",{"$f":"'DataNews 2010'!B41","v":5769769},{"$f":"'DataNews 2010'!C41","v":1026675},{"$f":"'DataNews 2010'!D41","v":577393},{"$f":"'DataNews 2010'!E41","v":249773},{"$f":"'DataNews 2010'!F41","v":7220979},{"$f":"'DataNews 2010'!G41","v":14844589},{"$f":"'DataNews 2010'!H41","v":1527507},{"$f":"'DataNews 2010'!I41","v":1609622},{"$f":"'DataNews 2010'!J41","v":3313816},{"$f":"'DataNews 2010'!K41","v":4000},{"$f":"'DataNews 2010'!L41","v":6863722},{"$f":"'DataNews 2010'!M41","v":13318667},{"$f":"'DataNews 2010'!N41","v":1525922}]
["Vil. of Castleton-on-Hudson",{"$f":"'DataNews 2010'!B42","v":428130},{"$f":"'DataNews 2010'!C42","v":149389},{"$f":"'DataNews 2010'!D42","v":550774},{"$f":"'DataNews 2010'!E42","v":36741},{"$f":"'DataNews 2010'!F42","v":1105768},{"$f":"'DataNews 2010'!G42","v":2270802},{"$f":"'DataNews 2010'!H42","v":151234},{"$f":"'DataNews 2010'!I42","v":84015},{"$f":"'DataNews 2010'!J42","v":1780256},{"$f":"'DataNews 2010'!K42","v":11029},{"$f":"'DataNews 2010'!L42","v":607900},{"$f":"'DataNews 2010'!M42","v":2634434},{"$f":"'DataNews 2010'!N42","v":-363632}]
["Town of Stephentown",{"$f":"'DataNews 2010'!B43","v":"N/A"},{"$f":"'DataNews 2010'!C43","v":"N/A"},{"$f":"'DataNews 2010'!D43","v":"N/A"},{"$f":"'DataNews 2010'!E43","v":"N/A"},{"$f":"'DataNews 2010'!F43","v":"N/A"},{"$f":"'DataNews 2010'!G43","v":"N/A"},{"$f":"'DataNews 2010'!H43","v":"N/A"},{"$f":"'DataNews 2010'!I43","v":"N/A"},{"$f":"'DataNews 2010'!J43","v":"N/A"},{"$f":"'DataNews 2010'!K43","v":"N/A"},{"$f":"'DataNews 2010'!L43","v":"N/A"},{"$f":"'DataNews 2010'!M43","v":"N/A"},{"$f":"'DataNews 2010'!N43","v":"N/A"}]
["City of Troy",{"$f":"'DataNews 2010'!B44","v":20221527},{"$f":"'DataNews 2010'!C44","v":14069098},{"$f":"'DataNews 2010'!D44","v":16750224},{"$f":"'DataNews 2010'!E44","v":9719503},{"$f":"'DataNews 2010'!F44","v":32621534},{"$f":"'DataNews 2010'!G44","v":93381886},{"$f":"'DataNews 2010'!H44","v":8623752},{"$f":"'DataNews 2010'!I44","v":22579317},{"$f":"'DataNews 2010'!J44","v":21257668},{"$f":"'DataNews 2010'!K44","v":3317796},{"$f":"'DataNews 2010'!L44","v":34462689},{"$f":"'DataNews 2010'!M44","v":90241222},{"$f":"'DataNews 2010'!N44","v":3140664}]
["Village of Ballston Spa",{"$f":"'DataNews 2010'!B49","v":1206007},{"$f":"'DataNews 2010'!C49","v":880430},{"$f":"'DataNews 2010'!D49","v":343619},{"$f":"'DataNews 2010'!E49","v":1040020},{"$f":"'DataNews 2010'!F49","v":1504432},{"$f":"'DataNews 2010'!G49","v":4974508},{"$f":"'DataNews 2010'!H49","v":568371},{"$f":"'DataNews 2010'!I49","v":780427},{"$f":"'DataNews 2010'!J49","v":1111285},{"$f":"'DataNews 2010'!K49","v":3400},{"$f":"'DataNews 2010'!L49","v":2312076},{"$f":"'DataNews 2010'!M49","v":4775559},{"$f":"'DataNews 2010'!N49","v":198949}]
["Town of Ballston",{"$f":"'DataNews 2010'!B50","v":1183984},{"$f":"'DataNews 2010'!C50","v":2235176},{"$f":"'DataNews 2010'!D50","v":493998},{"$f":"'DataNews 2010'!E50","v":0},{"$f":"'DataNews 2010'!F50","v":1039224},{"$f":"'DataNews 2010'!G50","v":4952382},{"$f":"'DataNews 2010'!H50","v":853477},{"$f":"'DataNews 2010'!I50","v":397788},{"$f":"'DataNews 2010'!J50","v":2616587},{"$f":"'DataNews 2010'!K50","v":0},{"$f":"'DataNews 2010'!L50","v":1555236},{"$f":"'DataNews 2010'!M50","v":5423088},{"$f":"'DataNews 2010'!N50","v":-470706}]
["Town of Charlton",{"$f":"'DataNews 2010'!B51","v":140504},{"$f":"'DataNews 2010'!C51","v":1130663},{"$f":"'DataNews 2010'!D51","v":299256},{"$f":"'DataNews 2010'!E51","v":0},{"$f":"'DataNews 2010'!F51","v":249455},{"$f":"'DataNews 2010'!G51","v":1819878},{"$f":"'DataNews 2010'!H51","v":502504},{"$f":"'DataNews 2010'!I51","v":89627},{"$f":"'DataNews 2010'!J51","v":917768},{"$f":"'DataNews 2010'!K51","v":0},{"$f":"'DataNews 2010'!L51","v":404314},{"$f":"'DataNews 2010'!M51","v":1914213},{"$f":"'DataNews 2010'!N51","v":-94335}]
["Town of Clifton Park",{"$f":"'DataNews 2010'!B52","v":3192499},{"$f":"'DataNews 2010'!C52","v":9712419},{"$f":"'DataNews 2010'!D52","v":2259487},{"$f":"'DataNews 2010'!E52","v":412705},{"$f":"'DataNews 2010'!F52","v":9386673},{"$f":"'DataNews 2010'!G52","v":24963783},{"$f":"'DataNews 2010'!H52","v":3805643},{"$f":"'DataNews 2010'!I52","v":3944980},{"$f":"'DataNews 2010'!J52","v":6572062},{"$f":"'DataNews 2010'!K52","v":500},{"$f":"'DataNews 2010'!L52","v":12409167},{"$f":"'DataNews 2010'!M52","v":26732352},{"$f":"'DataNews 2010'!N52","v":-1768569}]
["Town of Corinth",{"$f":"'DataNews 2010'!B53","v":1926574},{"$f":"'DataNews 2010'!C53","v":702444},{"$f":"'DataNews 2010'!D53","v":1439047},{"$f":"'DataNews 2010'!E53","v":0},{"$f":"'DataNews 2010'!F53","v":641478},{"$f":"'DataNews 2010'!G53","v":4709543},{"$f":"'DataNews 2010'!H53","v":557591},{"$f":"'DataNews 2010'!I53","v":862722},{"$f":"'DataNews 2010'!J53","v":2305236},{"$f":"'DataNews 2010'!K53","v":4500},{"$f":"'DataNews 2010'!L53","v":604490},{"$f":"'DataNews 2010'!M53","v":4334539},{"$f":"'DataNews 2010'!N53","v":375004}]
["Village of Corinth",{"$f":"'DataNews 2010'!B54","v":1900813},{"$f":"'DataNews 2010'!C54","v":658638},{"$f":"'DataNews 2010'!D54","v":227662},{"$f":"'DataNews 2010'!E54","v":915691},{"$f":"'DataNews 2010'!F54","v":1573438},{"$f":"'DataNews 2010'!G54","v":5276242},{"$f":"'DataNews 2010'!H54","v":354145},{"$f":"'DataNews 2010'!I54","v":672066},{"$f":"'DataNews 2010'!J54","v":1528407},{"$f":"'DataNews 2010'!K54","v":439150},{"$f":"'DataNews 2010'!L54","v":1906398},{"$f":"'DataNews 2010'!M54","v":4900166},{"$f":"'DataNews 2010'!N54","v":376076}]
["Town of Day",{"$f":"'DataNews 2010'!B55","v":484616},{"$f":"'DataNews 2010'!C55","v":778955},{"$f":"'DataNews 2010'!D55","v":238567},{"$f":"'DataNews 2010'!E55","v":0},{"$f":"'DataNews 2010'!F55","v":26187},{"$f":"'DataNews 2010'!G55","v":1528325},{"$f":"'DataNews 2010'!H55","v":279631},{"$f":"'DataNews 2010'!I55","v":97374},{"$f":"'DataNews 2010'!J55","v":1146735},{"$f":"'DataNews 2010'!K55","v":0},{"$f":"'DataNews 2010'!L55","v":254521},{"$f":"'DataNews 2010'!M55","v":1778261},{"$f":"'DataNews 2010'!N55","v":-249936}]
["Town of Edinburg",{"$f":"'DataNews 2010'!B56","v":285326},{"$f":"'DataNews 2010'!C56","v":962445},{"$f":"'DataNews 2010'!D56","v":141649},{"$f":"'DataNews 2010'!E56","v":0},{"$f":"'DataNews 2010'!F56","v":89475},{"$f":"'DataNews 2010'!G56","v":1478895},{"$f":"'DataNews 2010'!H56","v":308468},{"$f":"'DataNews 2010'!I56","v":109440},{"$f":"'DataNews 2010'!J56","v":726859},{"$f":"'DataNews 2010'!K56","v":1253},{"$f":"'DataNews 2010'!L56","v":213837},{"$f":"'DataNews 2010'!M56","v":1359857},{"$f":"'DataNews 2010'!N56","v":119038}]
["Town of Galway",{"$f":"'DataNews 2010'!B57","v":567386},{"$f":"'DataNews 2010'!C57","v":1035159},{"$f":"'DataNews 2010'!D57","v":240885},{"$f":"'DataNews 2010'!E57","v":0},{"$f":"'DataNews 2010'!F57","v":92719},{"$f":"'DataNews 2010'!G57","v":1936149},{"$f":"'DataNews 2010'!H57","v":287979},{"$f":"'DataNews 2010'!I57","v":329896},{"$f":"'DataNews 2010'!J57","v":953989},{"$f":"'DataNews 2010'!K57","v":0},{"$f":"'DataNews 2010'!L57","v":335420},{"$f":"'DataNews 2010'!M57","v":1907284},{"$f":"'DataNews 2010'!N57","v":28865}]
["Village of Galway",{"$f":"'DataNews 2010'!B58","v":0},{"$f":"'DataNews 2010'!C58","v":39705},{"$f":"'DataNews 2010'!D58","v":5343},{"$f":"'DataNews 2010'!E58","v":0},{"$f":"'DataNews 2010'!F58","v":17735},{"$f":"'DataNews 2010'!G58","v":62783},{"$f":"'DataNews 2010'!H58","v":16808},{"$f":"'DataNews 2010'!I58","v":20315},{"$f":"'DataNews 2010'!J58","v":2606},{"$f":"'DataNews 2010'!K58","v":0},{"$f":"'DataNews 2010'!L58","v":6949},{"$f":"'DataNews 2010'!M58","v":46678},{"$f":"'DataNews 2010'!N58","v":16105}]
["Town of Greenfield",{"$f":"'DataNews 2010'!B59","v":851867},{"$f":"'DataNews 2010'!C59","v":1840340},{"$f":"'DataNews 2010'!D59","v":414037},{"$f":"'DataNews 2010'!E59","v":0},{"$f":"'DataNews 2010'!F59","v":413024},{"$f":"'DataNews 2010'!G59","v":3519268},{"$f":"'DataNews 2010'!H59","v":499166},{"$f":"'DataNews 2010'!I59","v":85432},{"$f":"'DataNews 2010'!J59","v":2231905},{"$f":"'DataNews 2010'!K59","v":229083},{"$f":"'DataNews 2010'!L59","v":657351},{"$f":"'DataNews 2010'!M59","v":3702937},{"$f":"'DataNews 2010'!N59","v":-183669}]
["Town of Hadley",{"$f":"'DataNews 2010'!B60","v":1053032},{"$f":"'DataNews 2010'!C60","v":628297},{"$f":"'DataNews 2010'!D60","v":176256},{"$f":"'DataNews 2010'!E60","v":202696},{"$f":"'DataNews 2010'!F60","v":771489},{"$f":"'DataNews 2010'!G60","v":2831770},{"$f":"'DataNews 2010'!H60","v":388086},{"$f":"'DataNews 2010'!I60","v":8866},{"$f":"'DataNews 2010'!J60","v":1023676},{"$f":"'DataNews 2010'!K60","v":260},{"$f":"'DataNews 2010'!L60","v":1234759},{"$f":"'DataNews 2010'!M60","v":2655647},{"$f":"'DataNews 2010'!N60","v":176123}]
["Town of Halfmoon",{"$f":"'DataNews 2010'!B61","v":2815694},{"$f":"'DataNews 2010'!C61","v":4871503},{"$f":"'DataNews 2010'!D61","v":1123827},{"$f":"'DataNews 2010'!E61","v":77099},{"$f":"'DataNews 2010'!F61","v":5126438},{"$f":"'DataNews 2010'!G61","v":14014561},{"$f":"'DataNews 2010'!H61","v":2359983},{"$f":"'DataNews 2010'!I61","v":1616189},{"$f":"'DataNews 2010'!J61","v":5676049},{"$f":"'DataNews 2010'!K61","v":0},{"$f":"'DataNews 2010'!L61","v":6828357},{"$f":"'DataNews 2010'!M61","v":16480578},{"$f":"'DataNews 2010'!N61","v":-2466017}]
["Town of Malta",{"$f":"'DataNews 2010'!B62","v":1297775},{"$f":"'DataNews 2010'!C62","v":3611321},{"$f":"'DataNews 2010'!D62","v":2890493},{"$f":"'DataNews 2010'!E62","v":15558},{"$f":"'DataNews 2010'!F62","v":5691796},{"$f":"'DataNews 2010'!G62","v":13506943},{"$f":"'DataNews 2010'!H62","v":3272905},{"$f":"'DataNews 2010'!I62","v":1553107},{"$f":"'DataNews 2010'!J62","v":3962694},{"$f":"'DataNews 2010'!K62","v":5491},{"$f":"'DataNews 2010'!L62","v":2412689},{"$f":"'DataNews 2010'!M62","v":11206886},{"$f":"'DataNews 2010'!N62","v":2300057}]
["Village of Round Lake",{"$f":"'DataNews 2010'!B63","v":321997},{"$f":"'DataNews 2010'!C63","v":135155},{"$f":"'DataNews 2010'!D63","v":78699},{"$f":"'DataNews 2010'!E63","v":0},{"$f":"'DataNews 2010'!F63","v":1006441},{"$f":"'DataNews 2010'!G63","v":1542292},{"$f":"'DataNews 2010'!H63","v":167924},{"$f":"'DataNews 2010'!I63","v":205393},{"$f":"'DataNews 2010'!J63","v":289920},{"$f":"'DataNews 2010'!K63","v":0},{"$f":"'DataNews 2010'!L63","v":680593},{"$f":"'DataNews 2010'!M63","v":1343830},{"$f":"'DataNews 2010'!N63","v":198462}]
["City of Mechanicville",{"$f":"'DataNews 2010'!B64","v":1953340},{"$f":"'DataNews 2010'!C64","v":1165271},{"$f":"'DataNews 2010'!D64","v":1075904},{"$f":"'DataNews 2010'!E64","v":175937},{"$f":"'DataNews 2010'!F64","v":2486772},{"$f":"'DataNews 2010'!G64","v":6857224},{"$f":"'DataNews 2010'!H64","v":696815},{"$f":"'DataNews 2010'!I64","v":2162362},{"$f":"'DataNews 2010'!J64","v":2292796},{"$f":"'DataNews 2010'!K64","v":385796},{"$f":"'DataNews 2010'!L64","v":1597879},{"$f":"'DataNews 2010'!M64","v":7135648},{"$f":"'DataNews 2010'!N64","v":-278424}]
["Town of Milton",{"$f":"'DataNews 2010'!B65","v":466688},{"$f":"'DataNews 2010'!C65","v":2533365},{"$f":"'DataNews 2010'!D65","v":682812},{"$f":"'DataNews 2010'!E65","v":0},{"$f":"'DataNews 2010'!F65","v":1184301},{"$f":"'DataNews 2010'!G65","v":4867166},{"$f":"'DataNews 2010'!H65","v":1039144},{"$f":"'DataNews 2010'!I65","v":213309},{"$f":"'DataNews 2010'!J65","v":2044778},{"$f":"'DataNews 2010'!K65","v":2899},{"$f":"'DataNews 2010'!L65","v":1942837},{"$f":"'DataNews 2010'!M65","v":5242967},{"$f":"'DataNews 2010'!N65","v":-375801}]
["Town of Moreau",{"$f":"'DataNews 2010'!B66","v":1851391},{"$f":"'DataNews 2010'!C66","v":1677028},{"$f":"'DataNews 2010'!D66","v":517299},{"$f":"'DataNews 2010'!E66","v":0},{"$f":"'DataNews 2010'!F66","v":2022492},{"$f":"'DataNews 2010'!G66","v":6068210},{"$f":"'DataNews 2010'!H66","v":846832},{"$f":"'DataNews 2010'!I66","v":1259379},{"$f":"'DataNews 2010'!J66","v":2008533},{"$f":"'DataNews 2010'!K66","v":4203},{"$f":"'DataNews 2010'!L66","v":2206860},{"$f":"'DataNews 2010'!M66","v":6325807},{"$f":"'DataNews 2010'!N66","v":-257597}]
["Village of South Glens Falls",{"$f":"'DataNews 2010'!B67","v":1079444},{"$f":"'DataNews 2010'!C67","v":566629},{"$f":"'DataNews 2010'!D67","v":128251},{"$f":"'DataNews 2010'!E67","v":147772},{"$f":"'DataNews 2010'!F67","v":1297340},{"$f":"'DataNews 2010'!G67","v":3219436},{"$f":"'DataNews 2010'!H67","v":400632},{"$f":"'DataNews 2010'!I67","v":929126},{"$f":"'DataNews 2010'!J67","v":1005173},{"$f":"'DataNews 2010'!K67","v":152633},{"$f":"'DataNews 2010'!L67","v":718576},{"$f":"'DataNews 2010'!M67","v":3206140},{"$f":"'DataNews 2010'!N67","v":13296}]
["Town of Northumberland",{"$f":"'DataNews 2010'!B68","v":592871},{"$f":"'DataNews 2010'!C68","v":924822},{"$f":"'DataNews 2010'!D68","v":250518},{"$f":"'DataNews 2010'!E68","v":122942},{"$f":"'DataNews 2010'!F68","v":203957},{"$f":"'DataNews 2010'!G68","v":2095110},{"$f":"'DataNews 2010'!H68","v":353697},{"$f":"'DataNews 2010'!I68","v":170104},{"$f":"'DataNews 2010'!J68","v":1259000},{"$f":"'DataNews 2010'!K68","v":0},{"$f":"'DataNews 2010'!L68","v":333505},{"$f":"'DataNews 2010'!M68","v":2116306},{"$f":"'DataNews 2010'!N68","v":-21196}]
["Town of Providence",{"$f":"'DataNews 2010'!B69","v":693371},{"$f":"'DataNews 2010'!C69","v":497647},{"$f":"'DataNews 2010'!D69","v":142498},{"$f":"'DataNews 2010'!E69","v":0},{"$f":"'DataNews 2010'!F69","v":167239},{"$f":"'DataNews 2010'!G69","v":1500755},{"$f":"'DataNews 2010'!H69","v":160118},{"$f":"'DataNews 2010'!I69","v":50990},{"$f":"'DataNews 2010'!J69","v":852362},{"$f":"'DataNews 2010'!K69","v":0},{"$f":"'DataNews 2010'!L69","v":289823},{"$f":"'DataNews 2010'!M69","v":1353293},{"$f":"'DataNews 2010'!N69","v":147462}]
["Town of Saratoga",{"$f":"'DataNews 2010'!B70","v":611139},{"$f":"'DataNews 2010'!C70","v":1106553},{"$f":"'DataNews 2010'!D70","v":348516},{"$f":"'DataNews 2010'!E70","v":196846},{"$f":"'DataNews 2010'!F70","v":444868},{"$f":"'DataNews 2010'!G70","v":2707922},{"$f":"'DataNews 2010'!H70","v":487385},{"$f":"'DataNews 2010'!I70","v":78105},{"$f":"'DataNews 2010'!J70","v":1048723},{"$f":"'DataNews 2010'!K70","v":199296},{"$f":"'DataNews 2010'!L70","v":695877},{"$f":"'DataNews 2010'!M70","v":2509386},{"$f":"'DataNews 2010'!N70","v":198536}]
["Village of Schuylerville",{"$f":"'DataNews 2010'!B71","v":490174},{"$f":"'DataNews 2010'!C71","v":191670},{"$f":"'DataNews 2010'!D71","v":194370},{"$f":"'DataNews 2010'!E71","v":110719},{"$f":"'DataNews 2010'!F71","v":813000},{"$f":"'DataNews 2010'!G71","v":1799933},{"$f":"'DataNews 2010'!H71","v":447851},{"$f":"'DataNews 2010'!I71","v":99291},{"$f":"'DataNews 2010'!J71","v":830363},{"$f":"'DataNews 2010'!K71","v":112747},{"$f":"'DataNews 2010'!L71","v":473965},{"$f":"'DataNews 2010'!M71","v":1964217},{"$f":"'DataNews 2010'!N71","v":-164284}]
["Village of Victory",{"$f":"'DataNews 2010'!B72","v":203921},{"$f":"'DataNews 2010'!C72","v":67218},{"$f":"'DataNews 2010'!D72","v":293907},{"$f":"'DataNews 2010'!E72","v":28591},{"$f":"'DataNews 2010'!F72","v":222317},{"$f":"'DataNews 2010'!G72","v":815954},{"$f":"'DataNews 2010'!H72","v":140007},{"$f":"'DataNews 2010'!I72","v":7363},{"$f":"'DataNews 2010'!J72","v":218101},{"$f":"'DataNews 2010'!K72","v":246183},{"$f":"'DataNews 2010'!L72","v":169815},{"$f":"'DataNews 2010'!M72","v":781469},{"$f":"'DataNews 2010'!N72","v":34485}]
["City of Saratoga Springs",{"$f":"'DataNews 2010'!B73","v":18739369},{"$f":"'DataNews 2010'!C73","v":10852800},{"$f":"'DataNews 2010'!D73","v":11756972},{"$f":"'DataNews 2010'!E73","v":3797171},{"$f":"'DataNews 2010'!F73","v":15172914},{"$f":"'DataNews 2010'!G73","v":60319226},{"$f":"'DataNews 2010'!H73","v":5535381},{"$f":"'DataNews 2010'!I73","v":12190350},{"$f":"'DataNews 2010'!J73","v":13976134},{"$f":"'DataNews 2010'!K73","v":437853},{"$f":"'DataNews 2010'!L73","v":22039296},{"$f":"'DataNews 2010'!M73","v":54179014},{"$f":"'DataNews 2010'!N73","v":6140212}]
["Town of Stillwater",{"$f":"'DataNews 2010'!B74","v":1940531},{"$f":"'DataNews 2010'!C74","v":1622200},{"$f":"'DataNews 2010'!D74","v":1332105},{"$f":"'DataNews 2010'!E74","v":774574},{"$f":"'DataNews 2010'!F74","v":6302338},{"$f":"'DataNews 2010'!G74","v":11971748},{"$f":"'DataNews 2010'!H74","v":924579},{"$f":"'DataNews 2010'!I74","v":1142577},{"$f":"'DataNews 2010'!J74","v":2364767},{"$f":"'DataNews 2010'!K74","v":76193},{"$f":"'DataNews 2010'!L74","v":3884554},{"$f":"'DataNews 2010'!M74","v":8392670},{"$f":"'DataNews 2010'!N74","v":3579078}]
["Village of Stillwater",{"$f":"'DataNews 2010'!B75","v":384286},{"$f":"'DataNews 2010'!C75","v":230065},{"$f":"'DataNews 2010'!D75","v":30013},{"$f":"'DataNews 2010'!E75","v":18666},{"$f":"'DataNews 2010'!F75","v":828322},{"$f":"'DataNews 2010'!G75","v":1491352},{"$f":"'DataNews 2010'!H75","v":172968},{"$f":"'DataNews 2010'!I75","v":70286},{"$f":"'DataNews 2010'!J75","v":929731},{"$f":"'DataNews 2010'!K75","v":0},{"$f":"'DataNews 2010'!L75","v":476325},{"$f":"'DataNews 2010'!M75","v":1649310},{"$f":"'DataNews 2010'!N75","v":-157958}]
["Town of Waterford",{"$f":"'DataNews 2010'!B76","v":3376439},{"$f":"'DataNews 2010'!C76","v":1431866},{"$f":"'DataNews 2010'!D76","v":878600},{"$f":"'DataNews 2010'!E76","v":380436},{"$f":"'DataNews 2010'!F76","v":2012752},{"$f":"'DataNews 2010'!G76","v":8080093},{"$f":"'DataNews 2010'!H76","v":1371657},{"$f":"'DataNews 2010'!I76","v":1536424},{"$f":"'DataNews 2010'!J76","v":1696088},{"$f":"'DataNews 2010'!K76","v":128338},{"$f":"'DataNews 2010'!L76","v":3281946},{"$f":"'DataNews 2010'!M76","v":8014453},{"$f":"'DataNews 2010'!N76","v":65640}]
["Village of Waterford",{"$f":"'DataNews 2010'!B77","v":248674},{"$f":"'DataNews 2010'!C77","v":146012},{"$f":"'DataNews 2010'!D77","v":203916},{"$f":"'DataNews 2010'!E77","v":361242},{"$f":"'DataNews 2010'!F77","v":367264},{"$f":"'DataNews 2010'!G77","v":1327108},{"$f":"'DataNews 2010'!H77","v":138713},{"$f":"'DataNews 2010'!I77","v":203795},{"$f":"'DataNews 2010'!J77","v":424183},{"$f":"'DataNews 2010'!K77","v":0},{"$f":"'DataNews 2010'!L77","v":495794},{"$f":"'DataNews 2010'!M77","v":1262485},{"$f":"'DataNews 2010'!N77","v":64623}]
["Town of Wilton",{"$f":"'DataNews 2010'!B78","v":566334},{"$f":"'DataNews 2010'!C78","v":4502733},{"$f":"'DataNews 2010'!D78","v":690241},{"$f":"'DataNews 2010'!E78","v":95555},{"$f":"'DataNews 2010'!F78","v":1387481},{"$f":"'DataNews 2010'!G78","v":7242344},{"$f":"'DataNews 2010'!H78","v":1492551},{"$f":"'DataNews 2010'!I78","v":712345},{"$f":"'DataNews 2010'!J78","v":1989682},{"$f":"'DataNews 2010'!K78","v":2479},{"$f":"'DataNews 2010'!L78","v":2270668},{"$f":"'DataNews 2010'!M78","v":6467725},{"$f":"'DataNews 2010'!N78","v":774619}]
["Town of Duanesburg",{"$f":"'DataNews 2010'!B80","v":1503058},{"$f":"'DataNews 2010'!C80","v":724896},{"$f":"'DataNews 2010'!D80","v":222014},{"$f":"'DataNews 2010'!E80","v":87463},{"$f":"'DataNews 2010'!F80","v":300200},{"$f":"'DataNews 2010'!G80","v":2837631},{"$f":"'DataNews 2010'!H80","v":606647},{"$f":"'DataNews 2010'!I80","v":448190},{"$f":"'DataNews 2010'!J80","v":932188},{"$f":"'DataNews 2010'!K80","v":90536},{"$f":"'DataNews 2010'!L80","v":688462},{"$f":"'DataNews 2010'!M80","v":2766023},{"$f":"'DataNews 2010'!N80","v":71608}]
["Village of Delanson",{"$f":"'DataNews 2010'!B81","v":74484},{"$f":"'DataNews 2010'!C81","v":35349},{"$f":"'DataNews 2010'!D81","v":29495},{"$f":"'DataNews 2010'!E81","v":0},{"$f":"'DataNews 2010'!F81","v":154424},{"$f":"'DataNews 2010'!G81","v":293752},{"$f":"'DataNews 2010'!H81","v":76031},{"$f":"'DataNews 2010'!I81","v":32053},{"$f":"'DataNews 2010'!J81","v":117243},{"$f":"'DataNews 2010'!K81","v":0},{"$f":"'DataNews 2010'!L81","v":45915},{"$f":"'DataNews 2010'!M81","v":271242},{"$f":"'DataNews 2010'!N81","v":22510}]
["Town of Glenville",{"$f":"'DataNews 2010'!B82","v":7493737},{"$f":"'DataNews 2010'!C82","v":2534366},{"$f":"'DataNews 2010'!D82","v":894403},{"$f":"'DataNews 2010'!E82","v":473431},{"$f":"'DataNews 2010'!F82","v":6657067},{"$f":"'DataNews 2010'!G82","v":18053004},{"$f":"'DataNews 2010'!H82","v":1470342},{"$f":"'DataNews 2010'!I82","v":3685801},{"$f":"'DataNews 2010'!J82","v":4538867},{"$f":"'DataNews 2010'!K82","v":156892},{"$f":"'DataNews 2010'!L82","v":5983021},{"$f":"'DataNews 2010'!M82","v":15834923},{"$f":"'DataNews 2010'!N82","v":2218081}]
["Village of Scotia",{"$f":"'DataNews 2010'!B83","v":3867486},{"$f":"'DataNews 2010'!C83","v":762478},{"$f":"'DataNews 2010'!D83","v":1675868},{"$f":"'DataNews 2010'!E83","v":640262},{"$f":"'DataNews 2010'!F83","v":3018926},{"$f":"'DataNews 2010'!G83","v":9965020},{"$f":"'DataNews 2010'!H83","v":639606},{"$f":"'DataNews 2010'!I83","v":3118024},{"$f":"'DataNews 2010'!J83","v":2753783},{"$f":"'DataNews 2010'!K83","v":58440},{"$f":"'DataNews 2010'!L83","v":3596771},{"$f":"'DataNews 2010'!M83","v":10166624},{"$f":"'DataNews 2010'!N83","v":-201604}]
["Town of Niskayuna",{"$f":"'DataNews 2010'!B84","v":10443428},{"$f":"'DataNews 2010'!C84","v":3026887},{"$f":"'DataNews 2010'!D84","v":954275},{"$f":"'DataNews 2010'!E84","v":560396},{"$f":"'DataNews 2010'!F84","v":14568347},{"$f":"'DataNews 2010'!G84","v":29553333},{"$f":"'DataNews 2010'!H84","v":1705458},{"$f":"'DataNews 2010'!I84","v":3355750},{"$f":"'DataNews 2010'!J84","v":10171470},{"$f":"'DataNews 2010'!K84","v":0},{"$f":"'DataNews 2010'!L84","v":7007185},{"$f":"'DataNews 2010'!M84","v":22239863},{"$f":"'DataNews 2010'!N84","v":7313470}]
["Town of Princetown",{"$f":"'DataNews 2010'!B85","v":481867},{"$f":"'DataNews 2010'!C85","v":193766},{"$f":"'DataNews 2010'!D85","v":71230},{"$f":"'DataNews 2010'!E85","v":28267},{"$f":"'DataNews 2010'!F85","v":836434},{"$f":"'DataNews 2010'!G85","v":1611564},{"$f":"'DataNews 2010'!H85","v":382128},{"$f":"'DataNews 2010'!I85","v":276318},{"$f":"'DataNews 2010'!J85","v":556071},{"$f":"'DataNews 2010'!K85","v":0},{"$f":"'DataNews 2010'!L85","v":314557},{"$f":"'DataNews 2010'!M85","v":1529074},{"$f":"'DataNews 2010'!N85","v":82490}]
["Town of Rotterdam",{"$f":"'DataNews 2010'!B86","v":11788200},{"$f":"'DataNews 2010'!C86","v":3523483},{"$f":"'DataNews 2010'!D86","v":1021568},{"$f":"'DataNews 2010'!E86","v":1543636},{"$f":"'DataNews 2010'!F86","v":2725968},{"$f":"'DataNews 2010'!G86","v":20602855},{"$f":"'DataNews 2010'!H86","v":2245334},{"$f":"'DataNews 2010'!I86","v":5792151},{"$f":"'DataNews 2010'!J86","v":6629806},{"$f":"'DataNews 2010'!K86","v":3660},{"$f":"'DataNews 2010'!L86","v":8404894},{"$f":"'DataNews 2010'!M86","v":23075845},{"$f":"'DataNews 2010'!N86","v":-2472990}]
["City of Schenectady",{"$f":"'DataNews 2010'!B87","v":26861368},{"$f":"'DataNews 2010'!C87","v":11848038},{"$f":"'DataNews 2010'!D87","v":16346137},{"$f":"'DataNews 2010'!E87","v":8428494},{"$f":"'DataNews 2010'!F87","v":41063370},{"$f":"'DataNews 2010'!G87","v":104547407},{"$f":"'DataNews 2010'!H87","v":22284818},{"$f":"'DataNews 2010'!I87","v":26256064},{"$f":"'DataNews 2010'!J87","v":29582618},{"$f":"'DataNews 2010'!K87","v":11516104},{"$f":"'DataNews 2010'!L87","v":36364001},{"$f":"'DataNews 2010'!M87","v":126003605},{"$f":"'DataNews 2010'!N87","v":-21456198}]
[null,null,null,null,null,"Minimum",{"$f":"MIN(G3:G80)","v":62783},null,null,null,null,"Minimum",{"$f":"MIN(M3:M80)","v":46678}]
[null,null,null,null,null,"Maximum",{"$f":"MAX(G3:G80)","v":174715480},null,null,null,null,"Maximum",{"$f":"MAX(M3:M80)","v":189078602}]

{"sheet":"WWW 2010","index":7,"n_rows":86,"n_cols":31,"rows_kept":86,"cut":false,"hidden":false,"merged":[]}
[{"$f":"\"FY \"&RIGHT('Muni-L1'!B1,4)","v":"FY 2010"},"Revenues ($1,000s)",null,null,null,null,null,"Expenditures by Function ($1,000s)",null,null,null,null,null,null,null,"<TABLE ALIGN=CENTER WIDTH=100% BORDER=1 CELLPADDING=0 CELLSPACING=0>","<TR BGCOLOR=\"#CAEAFA\">",{"$f":"\"<TH ROWSPAN=2 VALIGN=BOTTOM><FONT FACE=\"\"Times New Roman\"\" COLOR=#FF0000>\"&A1&\"<BR>\"","v":"<TH ROWSPAN=2 VALIGN=BOTTOM><FONT FACE=\"Times New Roman\" COLOR=#FF0000>FY 2010<BR>"},"Revenues &<BR>","Expenditures</FONT></TH>","<TH COLSPAN=6><FONT FACE=\"Times New Roman\" COLOR=#FF0000>Revenues</FONT> <FONT FACE=\"Times New Roman\">($1,000s)</FONT></TH>","<TH COLSPAN=6><FONT FACE=\"Times New Roman\" COLOR=#FF0000>Expenditures by Function</FONT> <FONT FACE=\"Times New Roman\">($1,000s)</FONT></TH>",{"$f":"\"<TH ROWSPAN=2 VALIGN=BOTTOM><FONT FACE=\"\"Times New Roman\"\" SIZE=-2>\"&A1&\"<BR>\"","v":"<TH ROWSPAN=2 VALIGN=BOTTOM><FONT FACE=\"Times New Roman\" SIZE=-2>FY 2010<BR>"},"Surplus or</FONT><BR>","<FONT FACE=\"Times New Roman\" SIZE=-2 COLOR=#FF0000><B>(Deficit)</B></FONT></TH>","</TR>","<TR BGCOLOR=\"#CAEAFA\">","<TH VALIGN=BOTTOM><FONT FACE=\"Times New Roman\" SIZE=-2>Property Tax</FONT></TH>","<TH VALIGN=BOTTOM><FONT FACE=\"Times New Roman\" SIZE=-2>Sales Tax</FONT></TH>","<TH VALIGN=BOTTOM><FONT FACE=\"Times New Roman\" SIZE=-2>State Aid</FONT></TH>"]
["Revenues & Expenditures","Property Tax","Sales Tax","State Aid","Federal Aid","Other","Total Revenues","General Government","Health & Public Safety","Transport. and Utilities","Economic Assistance","Other","Total Expenditures",{"$f":"A1&\" Surplus or (Deficit)\"","v":"FY 2010 Surplus or (Deficit)"},null,"<TH VALIGN=BOTTOM><FONT FACE=\"Times New Roman\" SIZE=-2>Federal Aid</FONT></TH>","<TH VALIGN=BOTTOM><FONT FACE=\"Times New Roman\" SIZE=-2>Other</FONT></TH>","<TH VALIGN=BOTTOM><FONT FACE=\"Times New Roman\" SIZE=-2>Total Revenues</FONT></TH>","<TH VALIGN=BOTTOM><FONT FACE=\"Times New Roman\" SIZE=-2>General Government</FONT></TH>","<TH VALIGN=BOTTOM><FONT FACE=\"Times New Roman\" SIZE=-2>Health & Public Safety</FONT></TH>","<TH VALIGN=BOTTOM><FONT FACE=\"Times New Roman\" SIZE=-2>Transport. & Utilities</FONT></TH>","<TH VALIGN=BOTTOM><FONT FACE=\"Times New Roman\" SIZE=-2>Economic Assistance</FONT></TH>","<TH VALIGN=BOTTOM><FONT FACE=\"Times New Roman\" SIZE=-2>Other</FONT></TH>","<TH VALIGN=BOTTOM><FONT FACE=\"Times New Roman\" SIZE=-2>Total Expenditures</FONT></TH>","</TR>"]
["Albany County",{"$f":"'DataNews 2010'!B3","v":74469254},{"$f":"'DataNews 2010'!C3","v":228951684},{"$f":"'DataNews 2010'!D3","v":74524039},{"$f":"'DataNews 2010'!E3","v":82382833},{"$f":"'DataNews 2010'!F3","v":202058935},{"$f":"'DataNews 2010'!G3","v":662386745},{"$f":"'DataNews 2010'!H3","v":146311349},{"$f":"'DataNews 2010'!I3","v":93017418},{"$f":"'DataNews 2010'!J3","v":33820105},{"$f":"'DataNews 2010'!K3","v":1525331},{"$f":"'DataNews 2010'!L3","v":376504440},{"$f":"'DataNews 2010'!M3","v":651178643},{"$f":"'DataNews 2010'!N3","v":11208102},null,"<TR>",{"$f":"\"<TD NOWRAP ALIGN=LEFT><FONT FACE=\"\"Times New Roman\"\" SIZE=-2><B>\"&A3&\"</B></TD>\"","v":"<TD NOWRAP ALIGN=LEFT><FONT FACE=\"Times New Roman\" SIZE=-2><B>Albany County</B></TD>"},{"$f":"\"<TD ALIGN=RIGHT><FONT FACE=\"\"Times New Roman\"\" SIZE=-2\"&IF(B3<0,\" COLOR=#FF0000\",\"\")&\">\"&TEXT(B3/1000,\"$#,##0.0;($#,##0.0)\")&\"</FONT></TD>\"","v":"<TD ALIGN=RIGHT><FONT FACE=\"Times New Roman\" SIZE=-2>$74,469.3</FONT></TD>"},{"$f":"\"<TD ALIGN=RIGHT><FONT FACE=\"\"Times New Roman\"\" SIZE=-2\"&IF(C3<0,\" COLOR=#FF0000\",\"\")&\">\"&TEXT(C3/1000,\"$#,##0.0;($#,##0.0)\")&\"</FONT></TD>\"","v":"<TD ALIGN=RIGHT><FONT FACE=\"Times New Roman\" SIZE=-2>$228,951.7</FONT></TD>"},{"$f":"\"<TD ALIGN=RIGHT><FONT FACE=\"\"Times New Roman\"\" SIZE=-2\"&IF(D3<0,\" COLOR=#FF0000\",\"\")&\">\"&TEXT(D3/1000,\"$#,##0.0;($#,##0.0)\")&\"</FONT></TD>\"","v":"<TD ALIGN=RIGHT><FONT FACE=\"Times New Roman\" SIZE=-2>$74,524.0</FONT></TD>"},{"$f":"\"<TD ALIGN=RIGHT><FONT FACE=\"\"Times New Roman\"\" SIZE=-2\"&IF(E3<0,\" COLOR=#FF0000\",\"\")&\">\"&TEXT(E3/1000,\"$#,##0.0;($#,##0.0)\")&\"</FONT></TD>\"","v":"<TD ALIGN=RIGHT><FONT FACE=\"Times New Roman\" SIZE=-2>$82,382.8</FONT></TD>"},{"$f":"\"<TD ALIGN=RIGHT><FONT FACE=\"\"Times New Roman\"\" SIZE=-2\"&IF(F3<0,\" COLOR=#FF0000\",\"\")&\">\"&TEXT(F3/1000,\"$#,##0.0;($#,##0.0)\")&\"</FONT></TD>\"","v":"<TD ALIGN=RIGHT><FONT FACE=\"Times New Roman\" SIZE=-2>$202,058.9</FONT></TD>"},{"$f":"\"<TD ALIGN=RIGHT><FONT FACE=\"\"Times New Roman\"\" SIZE=-2\"&IF(G3<0,\" COLOR=#FF0000\",\"\")&\">\"&TEXT(G3/1000,\"$#,##0.0;($#,##0.0)\")&\"</FONT></TD>\"","v":"<TD ALIGN=RIGHT><FONT FACE=\"Times New Roman\" SIZE=-2>$662,386.7</FONT></TD>"},{"$f":"\"<TD ALIGN=RIGHT><FONT FACE=\"\"Times New Roman\"\" SIZE=-2\"&IF(H3<0,\" COLOR=#FF0000\",\"\")&\">\"&TEXT(H3/1000,\"$#,##0.0;($#,##0.0)\")&\"</FONT></TD>\"","v":"<TD ALIGN=RIGHT><FONT FACE=\"Times New Roman\" SIZE=-2>$146,311.3</FONT></TD>"},{"$f":"\"<TD ALIGN=RIGHT><FONT FACE=\"\"Times New Roman\"\" SIZE=-2\"&IF(I3<0,\" COLOR=#FF0000\",\"\")&\">\"&TEXT(I3/1000,\"$#,##0.0;($#,##0.0)\")&\"</FONT></TD>\"","v":"<TD ALIGN=RIGHT><FONT FACE=\"Times New Roman\" SIZE=-2>$93,017.4</FONT></TD>"},{"$f":"\"<TD ALIGN=RIGHT><FONT FACE=\"\"Times New Roman\"\" SIZE=-2\"&IF(J3<0,\" COLOR=#FF0000\",\"\")&\">\"&TEXT(J3/1000,\"$#,##0.0;($#,##0.0)\")&\"</FONT></TD>\"","v":"<TD ALIGN=RIGHT><FONT FACE=\"Times New Roman\" SIZE=-2>$33,820.1</FONT></TD>"},{"$f":"\"<TD ALIGN=RIGHT><FONT FACE=\"\"Times New Roman\"\" SIZE=-2\"&IF(K3<0,\" COLOR=#FF0000\",\"\")&\">\"&TEXT(K3/1000,\"$#,##0.0;($#,##0.0)\")&\"</FONT></TD>\"","v":"<TD ALIGN=RIGHT><FONT FACE=\"Times New Roman\" SIZE=-2>$1,525.3</FONT></TD>"},{"$f":"\"<TD ALIGN=RIGHT><FONT FACE=\"\"Times New Roman\"\" SIZE=-2\"&IF(L3<0,\" COLOR=#FF0000\",\"\")&\">\"&TEXT(L3/1000,\"$#,##0.0;($#,##0.0)\")&\"</FONT></TD>\"","v":"<TD ALIGN=RIGHT><FONT FACE=\"Times New Roman\" SIZE=-2>$376,504.4</FONT></TD>"},{"$f":"\"<TD ALIGN=RIGHT><FONT FACE=\"\"Times New Roman\"\" SIZE=-2\"&IF(M3<0,\" COLOR=#FF0000\",\"\")&\">\"&TEXT(M3/1000,\"$#,##0.0;($#,##0.0)\")&\"</FONT></TD>\"","v":"<TD ALIGN=RIGHT><FONT FACE=\"Times New Roman\" SIZE=-2>$651,178.6</FONT></TD>"},{"$f":"\"<TD ALIGN=RIGHT><FONT FACE=\"\"Times New Roman\"\" SIZE=-2\"&IF(N3<0,\" COLOR=#FF0000\",\"\")&\">\"&TEXT(N3/1000,\"$#,##0.0;($#,##0.0)\")&\"</FONT></TD>\"","v":"<TD ALIGN=RIGHT><FONT FACE=\"Times New Roman\" SIZE=-2>$11,208.1</FONT></TD>"},"</TR>"]
["City of Albany",{"$f":"'DataNews 2010'!B4","v":79320706},{"$f":"'DataNews 2010'!C4","v":30350525},{"$f":"'DataNews 2010'!D4","v":21688863},{"$f":"'DataNews 2010'!E4","v":11745596},{"$f":"'DataNews 2010'!F4","v":31609790},{"$f":"'DataNews 2010'!G4","v":174715480},{"$f":"'DataNews 2010'!H4","v":22113971},{"$f":"'DataNews 2010'!I4","v":57941668},{"$f":"'DataNews 2010'!J4","v":32529935},{"$f":"'DataNews 2010'!K4","v":0},{"$f":"'DataNews 2010'!L4","v":76493028},{"$f":"'DataNews 2010'!M4","v":189078602},{"$f":"'DataNews 2010'!N4","v":-14363122},null,"<TR>",{"$f":"\"<TD NOWRAP ALIGN=LEFT><FONT FACE=\"\"Times New Roman\"\" SIZE=-2>\"&A4&\"</TD>\"","v":"<TD NOWRAP ALIGN=LEFT><FONT FACE=\"Times New Roman\" SIZE=-2>City of Albany</TD>"},"<TD ALIGN=RIGHT><FONT FACE=\"Times New Roman\" SIZE=-2>$79,320.7</FONT></TD>","<TD ALIGN=RIGHT><FONT FACE=\"Times New Roman\" SIZE=-2>$30,350.5</FONT></TD>","<TD ALIGN=RIGHT><FONT FACE=\"Times New Roman\" SIZE=-2>$21,688.9</FONT></TD>","<TD ALIGN=RIGHT><FONT FACE=\"Times New Roman\" SIZE=-2>$11,745.6</FONT></TD>","<TD ALIGN=RIGHT><FONT FACE=\"Times New Roman\" SIZE=-2>$31,609.8</FONT></TD>","<TD ALIGN=RIGHT><FONT FACE=\"Times New Roman\" SIZE=-2>$174,715.5</FONT></TD>","<TD ALIGN=RIGHT><FONT FACE=\"Times New Roman\" SIZE=-2>$22,114.0</FONT></TD>","<TD ALIGN=RIGHT><FONT FACE=\"Times New Roman\" SIZE=-2>$57,941.7</FONT></TD>","<TD ALIGN=RIGHT><FONT FACE=\"Times New Roman\" SIZE=-2>$32,529.9</FONT></TD>","<TD ALIGN=RIGHT><FONT FACE=\"Times New Roman\" SIZE=-2>$0.0</FONT></TD>","<TD ALIGN=RIGHT><FONT FACE=\"Times New Roman\" SIZE=-2>$76,493.0</FONT></TD>","<TD ALIGN=RIGHT><FONT FACE=\"Times New Roman\" SIZE=-2>$189,078.6</FONT></TD>","<TD ALIGN=RIGHT><FONT FACE=\"Times New Roman\" SIZE=-2 COLOR=#FF0000>($14,363.1)</FONT></TD>","</TR>"]
["Town of Berne",{"$f":"'DataNews 2010'!B5","v":1165133},{"$f":"'DataNews 2010'!C5","v":888183},{"$f":"'DataNews 2010'!D5","v":347544},{"$f":"'DataNews 2010'!E5","v":0},{"$f":"'DataNews 2010'!F5","v":189840},{"$f":"'DataNews 2010'!G5","v":2590700},{"$f":"'DataNews 2010'!H5","v":358567},{"$f":"'DataNews 2010'!I5","v":512089},{"$f":"'DataNews 2010'!J5","v":1098032},{"$f":"'DataNews 2010'!K5","v":0},{"$f":"'DataNews 2010'!L5","v":365133},{"$f":"'DataNews 2010'!M5","v":2333821},{"$f":"'DataNews 2010'!N5","v":256879},null,"<TR>","<TD NOWRAP ALIGN=LEFT><FONT FACE=\"Times New Roman\" SIZE=-2>Town of Berne</TD>","<TD ALIGN=RIGHT><FONT FACE=\"Times New Roman\" SIZE=-2>$1,165.1</FONT></TD>","<TD ALIGN=RIGHT><FONT FACE=\"Times New Roman\" SIZE=-2>$888.2</FONT></TD>","<TD ALIGN=RIGHT><FONT FACE=\"Times New Roman\" SIZE=-2>$347.5</FONT></TD>","<TD ALIGN=RIGHT><FONT FACE=\"Times New Roman\" SIZE=-2>$0.0</FONT></TD>","<TD ALIGN=RIGHT><FONT FACE=\"Times New Roman\" SIZE=-2>$189.8</FONT></TD>","<TD ALIGN=RIGHT><FONT FACE=\"Times New Roman\" SIZE=-2>$2,590.7</FONT></TD>","<TD ALIGN=RIGHT><FONT FACE=\"Times New Roman\" SIZE=-2>$358.6</FONT></TD>","<TD ALIGN=RIGHT><FONT FACE=\"Times New Roman\" SIZE=-2>$512.1</FONT></TD>","<TD ALIGN=RIGHT><FONT FACE=\"Times New Roman\" SIZE=-2>$1,098.0</FONT></TD>","<TD ALIGN=RIGHT><FONT FACE=\"Times New Roman\" SIZE=-2>$0.0</FONT></TD>","<TD ALIGN=RIGHT><FONT FACE=\"Times New Roman\" SIZE=-2>$365.1</FONT></TD>","<TD ALIGN=RIGHT><FONT FACE=\"Times New Roman\" SIZE=-2>$2,333.8</FONT></TD>","<TD ALIGN=RIGHT><FONT FACE=\"Times New Roman\" SIZE=-2>$256.9</FONT></TD>","</TR>"]
["Town of Bethlehem",{"$f":"'DataNews 2010'!B6","v":12778196},{"$f":"'DataNews 2010'!C6","v":9444723},{"$f":"'DataNews 2010'!D6","v":1432107},{"$f":"'DataNews 2010'!E6","v":897379},{"$f":"'DataNews 2010'!F6","v":13179672},{"$f":"'DataNews 2010'!G6","v":37732077},{"$f":"'DataNews 2010'!H6","v":3885268},{"$f":"'DataNews 2010'!I6","v":7148277},{"$f":"'DataNews 2010'!J6","v":16856114},{"$f":"'DataNews 2010'!K6","v":0},{"$f":"'DataNews 2010'!L6","v":10959668},{"$f":"'DataNews 2010'!M6","v":38849327},{"$f":"'DataNews 2010'!N6","v":-1117250},null,"<TR>","<TD NOWRAP ALIGN=LEFT><FONT FACE=\"Times New Roman\" SIZE=-2>Town of Bethlehem</TD>","<TD ALIGN=RIGHT><FONT FACE=\"Times New Roman\" SIZE=-2>$12,778.2</FONT></TD>","<TD ALIGN=RIGHT><FONT FACE=\"Times New Roman\" SIZE=-2>$9,444.7</FONT></TD>","<TD ALIGN=RIGHT><FONT FACE=\"Times New Roman\" SIZE=-2>$1,432.1</FONT></TD>","<TD ALIGN=RIGHT><FONT FACE=\"Times New Roman\" SIZE=-2>$897.4</FONT></TD>","<TD ALIGN=RIGHT><FONT FACE=\"Times New Roman\" SIZE=-2>$13,179.7</FONT></TD>","<TD ALIGN=RIGHT><FONT FACE=\"Times New Roman\" SIZE=-2>$37,732.1</FONT></TD>","<TD ALIGN=RIGHT><FONT FACE=\"Times New Roman\" SIZE=-2>$3,885.3</FONT></TD>","<TD ALIGN=RIGHT><FONT FACE=\"Times New Roman\" SIZE=-2>$7,148.3</FONT></TD>","<TD ALIGN=RIGHT><FONT FACE=\"Times New Roman\" SIZE=-2>$16,856.1</FONT></TD>","<TD ALIGN=RIGHT><FONT FACE=\"Times New Roman\" SIZE=-2>$0.0</FONT></TD>","<TD ALIGN=RIGHT><FONT FACE=\"Times New Roman\" SIZE=-2>$10,959.7</FONT></TD>","<TD ALIGN=RIGHT><FONT FACE=\"Times New Roman\" SIZE=-2>$38,849.3</FONT></TD>","<TD ALIGN=RIGHT><FONT FACE=\"Times New Roman\" SIZE=-2 COLOR=#FF0000>($1,117.3)</FONT></TD>","</TR>"]
["Town of Coeymans",{"$f":"'DataNews 2010'!B7","v":1749516},{"$f":"'DataNews 2010'!C7","v":1785256},{"$f":"'DataNews 2010'!D7","v":242142},{"$f":"'DataNews 2010'!E7","v":470895},{"$f":"'DataNews 2010'!F7","v":2850383},{"$f":"'DataNews 2010'!G7","v":7098192},{"$f":"'DataNews 2010'!H7","v":879875},{"$f":"'DataNews 2010'!I7","v":1392127},{"$f":"'DataNews 2010'!J7","v":1712842},{"$f":"'DataNews 2010'!K7","v":844},{"$f":"'DataNews 2010'!L7","v":3322997},{"$f":"'DataNews 2010'!M7","v":7308685},{"$f":"'DataNews 2010'!N7","v":-210493},null,"<TR>",{"$f":"\"<TD NOWRAP ALIGN=LEFT><FONT FACE=\"\"Times New Roman\"\" SIZE=-2>\"&A7&\"</TD>\"","v":"<TD NOWRAP ALIGN=LEFT><FONT FACE=\"Times New Roman\" SIZE=-2>Town of Coeymans</TD>"},{"$f":"\"<TD ALIGN=RIGHT><FONT FACE=\"\"Times New Roman\"\" SIZE=-2\"&IF(B7<0,\" COLOR=#FF0000\",\"\")&\">\"&TEXT(B7/1000,\"$#,##0.0;($#,##0.0)\")&\"</FONT></TD>\"","v":"<TD ALIGN=RIGHT><FONT FACE=\"Times New Roman\" SIZE=-2>$1,749.5</FONT></TD>"},"<TD ALIGN=RIGHT><FONT FACE=\"Times New Roman\" SIZE=-2>$1,785.3</FONT></TD>","<TD ALIGN=RIGHT><FONT FACE=\"Times New Roman\" SIZE=-2>$242.1</FONT></TD>","<TD ALIGN=RIGHT><FONT FACE=\"Times New Roman\" SIZE=-2>$470.9</FONT></TD>","<TD ALIGN=RIGHT><FONT FACE=\"Times New Roman\" SIZE=-2>$2,850.4</FONT></TD>","<TD ALIGN=RIGHT><FONT FACE=\"Times New Roman\" SIZE=-2>$7,098.2</FONT></TD>","<TD ALIGN=RIGHT><FONT FACE=\"Times New Roman\" SIZE=-2>$879.9</FONT></TD>","<TD ALIGN=RIGHT><FONT FACE=\"Times New Roman\" SIZE=-2>$1,392.1</FONT></TD>","<TD ALIGN=RIGHT><FONT FACE=\"Times New Roman\" SIZE=-2>$1,712.8</FONT></TD>","<TD ALIGN=RIGHT><FONT FACE=\"Times New Roman\" SIZE=-2>$0.8</FONT></TD>","<TD ALIGN=RIGHT><FONT FACE=\"Times New Roman\" SIZE=-2>$3,323.0</FONT></TD>","<TD ALIGN=RIGHT><FONT FACE=\"Times New Roman\" SIZE=-2>$7,308.7</FONT></TD>","<TD ALIGN=RIGHT><FONT FACE=\"Times New Roman\" SIZE=-2 COLOR=#FF0000>($210.5)</FONT></TD>","</TR>"]
["Village of Ravena",{"$f":"'DataNews 2010'!B8","v":766837},{"$f":"'DataNews 2010'!C8","v":715669},{"$f":"'DataNews 2010'!D8","v":81777},{"$f":"'DataNews 2010'!E8","v":54586},{"$f":"'DataNews 2010'!F8","v":1209184},{"$f":"'DataNews 2010'!G8","v":2828053},{"$f":"'DataNews 2010'!H8","v":742493},{"$f":"'DataNews 2010'!I8","v":139008},{"$f":"'DataNews 2010'!J8","v":869333},{"$f":"'DataNews 2010'!K8","v":1304},{"$f":"'DataNews 2010'!L8","v":880335},{"$f":"'DataNews 2010'!M8","v":2632473},{"$f":"'DataNews 2010'!N8","v":195580},null,"<TR>","<TD NOWRAP ALIGN=LEFT><FONT FACE=\"Times New Roman\" SIZE=-2>Village of Ravena</TD>","<TD ALIGN=RIGHT><FONT FACE=\"Times New Roman\" SIZE=-2>$766.8</FONT></TD>","<TD ALIGN=RIGHT><FONT FACE=\"Times New Roman\" SIZE=-2>$715.7</FONT></TD>","<TD ALIGN=RIGHT><FONT FACE=\"Times New Roman\" SIZE=-2>$81.8</FONT></TD>","<TD ALIGN=RIGHT><FONT FACE=\"Times New Roman\" SIZE=-2>$54.6</FONT></TD>","<TD ALIGN=RIGHT><FONT FACE=\"Times New Roman\" SIZE=-2>$1,209.2</FONT></TD>","<TD ALIGN=RIGHT><FONT FACE=\"Times New Roman\" SIZE=-2>$2,828.1</FONT></TD>","<TD ALIGN=RIGHT><FONT FACE=\"Times New Roman\" SIZE=-2>$742.5</FONT></TD>","<TD ALIGN=RIGHT><FONT FACE=\"Times New Roman\" SIZE=-2>$139.0</FONT></TD>","<TD ALIGN=RIGHT><FONT FACE=\"Times New Roman\" SIZE=-2>$869.3</FONT></TD>","<TD ALIGN=RIGHT><FONT FACE=\"Times New Roman\" SIZE=-2>$1.3</FONT></TD>","<TD ALIGN=RIGHT><FONT FACE=\"Times New Roman\" SIZE=-2>$880.3</FONT></TD>","<TD ALIGN=RIGHT><FONT FACE=\"Times New Roman\" SIZE=-2>$2,632.5</FONT></TD>","<TD ALIGN=RIGHT><FONT FACE=\"Times New Roman\" SIZE=-2>$195.6</FONT></TD>","</TR>"]
["City of Cohoes",{"$f":"'DataNews 2010'!B9","v":7372391},{"$f":"'DataNews 2010'!C9","v":4886563},{"$f":"'DataNews 2010'!D9","v":3717282},{"$f":"'DataNews 2010'!E9","v":5979887},{"$f":"'DataNews 2010'!F9","v":5942568},{"$f":"'DataNews 2010'!G9","v":27898691},{"$f":"'DataNews 2010'!H9","v":2631834},{"$f":"'DataNews 2010'!I9","v":6982179},{"$f":"'DataNews 2010'!J9","v":9345520},{"$f":"'DataNews 2010'!K9","v":173947},{"$f":"'DataNews 2010'!L9","v":8493473},{"$f":"'DataNews 2010'!M9","v":27626953},{"$f":"'DataNews 2010'!N9","v":271738},null,"<TR>","<TD NOWRAP ALIGN=LEFT><FONT FACE=\"Times New Roman\" SIZE=-2>City of Cohoes</TD>","<TD ALIGN=RIGHT><FONT FACE=\"Times New Roman\" SIZE=-2>$7,372.4</FONT></TD>","<TD ALIGN=RIGHT><FONT FACE=\"Times New Roman\" SIZE=-2>$4,886.6</FONT></TD>","<TD ALIGN=RIGHT><FONT FACE=\"Times New Roman\" SIZE=-2>$3,717.3</FONT></TD>","<TD ALIGN=RIGHT><FONT FACE=\"Times New Roman\" SIZE=-2>$5,979.9</FONT></TD>","<TD ALIGN=RIGHT><FONT FACE=\"Times New Roman\" SIZE=-2>$5,942.6</FONT></TD>","<TD ALIGN=RIGHT><FONT FACE=\"Times New Roman\" SIZE=-2>$27,898.7</FONT></TD>","<TD ALIGN=RIGHT><FONT FACE=\"Times New Roman\" SIZE=-2>$2,631.8</FONT></TD>","<TD ALIGN=RIGHT><FONT FACE=\"Times New Roman\" SIZE=-2>$6,982.2</FONT></TD>","<TD ALIGN=RIGHT><FONT FACE=\"Times New Roman\" SIZE=-2>$9,345.5</FONT></TD>","<TD ALIGN=RIGHT><FONT FACE=\"Times New Roman\" SIZE=-2>$173.9</FONT></TD>","<TD ALIGN=RIGHT><FONT FACE=\"Times New Roman\" SIZE=-2>$8,493.5</FONT></TD>","<TD ALIGN=RIGHT><FONT FACE=\"Times New Roman\" SIZE=-2>$27,627.0</FONT></TD>","<TD ALIGN=RIGHT><FONT FACE=\"Times New Roman\" SIZE=-2>$271.7</FONT></TD>","</TR>"]
["Town of Colonie",{"$f":"'DataNews 2010'!B10","v":31071215},{"$f":"'DataNews 2010'!C10","v":19446154},{"$f":"'DataNews 2010'!D10","v":3912479},{"$f":"'DataNews 2010'!E10","v":6767989},{"$f":"'DataNews 2010'!F10","v":40824674},{"$f":"'DataNews 2010'!G10","v":102022511},{"$f":"'DataNews 2010'!H10","v":19791192},{"$f":"'DataNews 2010'!I10","v":23617019},{"$f":"'DataNews 2010'!J10","v":26000187},{"$f":"'DataNews 2010'!K10","v":893013},{"$f":"'DataNews 2010'!L10","v":38331970},{"$f":"'DataNews 2010'!M10","v":108633381},{"$f":"'DataNews 2010'!N10","v":-6610870},null,"<TR>","<TD NOWRAP ALIGN=LEFT><FONT FACE=\"Times New Roman\" SIZE=-2>Town of Colonie</TD>","<TD ALIGN=RIGHT><FONT FACE=\"Times New Roman\" SIZE=-2>$31,071.2</FONT></TD>","<TD ALIGN=RIGHT><FONT FACE=\"Times New Roman\" SIZE=-2>$19,446.2</FONT></TD>","<TD ALIGN=RIGHT><FONT FACE=\"Times New Roman\" SIZE=-2>$3,912.5</FONT></TD>","<TD ALIGN=RIGHT><FONT FACE=\"Times New Roman\" SIZE=-2>$6,768.0</FONT></TD>","<TD ALIGN=RIGHT><FONT FACE=\"Times New Roman\" SIZE=-2>$40,824.7</FONT></TD>","<TD ALIGN=RIGHT><FONT FACE=\"Times New Roman\" SIZE=-2>$102,022.5</FONT></TD>","<TD ALIGN=RIGHT><FONT FACE=\"Times New Roman\" SIZE=-2>$19,791.2</FONT></TD>","<TD ALIGN=RIGHT><FONT FACE=\"Times New Roman\" SIZE=-2>$23,617.0</FONT></TD>","<TD ALIGN=RIGHT><FONT FACE=\"Times New Roman\" SIZE=-2>$26,000.2</FONT></TD>","<TD ALIGN=RIGHT><FONT FACE=\"Times New Roman\" SIZE=-2>$893.0</FONT></TD>","<TD ALIGN=RIGHT><FONT FACE=\"Times New Roman\" SIZE=-2>$38,332.0</FONT></TD>","<TD ALIGN=RIGHT><FONT FACE=\"Times New Roman\" SIZE=-2>$108,633.4</FONT></TD>","<TD ALIGN=RIGHT><FONT FACE=\"Times New Roman\" SIZE=-2 COLOR=#FF0000>($6,610.9)</FONT></TD>","</TR>"]
["Village of Colonie",{"$f":"'DataNews 2010'!B11","v":1201129},{"$f":"'DataNews 2010'!C11","v":2326038},{"$f":"'DataNews 2010'!D11","v":187683},{"$f":"'DataNews 2010'!E11","v":115892},{"$f":"'DataNews 2010'!F11","v":3712334},{"$f":"'DataNews 2010'!G11","v":7543076},{"$f":"'DataNews 2010'!H11","v":708727},{"$f":"'DataNews 2010'!I11","v":345518},{"$f":"'DataNews 2010'!J11","v":3801582},{"$f":"'DataNews 2010'!K11","v":25994},{"$f":"'DataNews 2010'!L11","v":2297160},{"$f":"'DataNews 2010'!M11","v":7178981},{"$f":"'DataNews 2010'!N11","v":364095},null,"<TR>","<TD NOWRAP ALIGN=LEFT><FONT FACE=\"Times New Roman\" SIZE=-2>Village of Colonie</TD>","<TD ALIGN=RIGHT><FONT FACE=\"Times New Roman\" SIZE=-2>$1,201.1</FONT></TD>","<TD ALIGN=RIGHT><FONT FACE=\"Times New Roman\" SIZE=-2>$2,326.0</FONT></TD>","<TD ALIGN=RIGHT><FONT FACE=\"Times New Roman\" SIZE=-2>$187.7</FONT></TD>","<TD ALIGN=RIGHT><FONT FACE=\"Times New Roman\" SIZE=-2>$115.9</FONT></TD>","<TD ALIGN=RIGHT><FONT FACE=\"Times New Roman\" SIZE=-2>$3,712.3</FONT></TD>","<TD ALIGN=RIGHT><FONT FACE=\"Times New Roman\" SIZE=-2>$7,543.1</FONT></TD>","<TD ALIGN=RIGHT><FONT FACE=\"Times New Roman\" SIZE=-2>$708.7</FONT></TD>","<TD ALIGN=RIGHT><FONT FACE=\"Times New Roman\" SIZE=-2>$345.5</FONT></TD>","<TD ALIGN=RIGHT><FONT FACE=\"Times New Roman\" SIZE=-2>$3,801.6</FONT></TD>","<TD ALIGN=RIGHT><FONT FACE=\"Times New Roman\" SIZE=-2>$26.0</FONT></TD>","<TD ALIGN=RIGHT><FONT FACE=\"Times New Roman\" SIZE=-2>$2,297.2</FONT></TD>","<TD ALIGN=RIGHT><FONT FACE=\"Times New Roman\" SIZE=-2>$7,179.0</FONT></TD>","<TD ALIGN=RIGHT><FONT FACE=\"Times New Roman\" SIZE=-2>$364.1</FONT></TD>","</TR>"]
["Village of Menands",{"$f":"'DataNews 2010'!B12","v":1800229},{"$f":"'DataNews 2010'!C12","v":1288251},{"$f":"'DataNews 2010'!D12","v":131927},{"$f":"'DataNews 2010'!E12","v":25848},{"$f":"'DataNews 2010'!F12","v":1899686},{"$f":"'DataNews 2010'!G12","v":5145941},{"$f":"'DataNews 2010'!H12","v":630602},{"$f":"'DataNews 2010'!I12","v":1176266},{"$f":"'DataNews 2010'!J12","v":1925997},{"$f":"'DataNews 2010'!K12","v":4476},{"$f":"'DataNews 2010'!L12","v":858876},{"$f":"'DataNews 2010'!M12","v":4596217},{"$f":"'DataNews 2010'!N12","v":549724},null,"<TR>","<TD NOWRAP ALIGN=LEFT><FONT FACE=\"Times New Roman\" SIZE=-2>Village of Menands</TD>","<TD ALIGN=RIGHT><FONT FACE=\"Times New Roman\" SIZE=-2>$1,800.2</FONT></TD>","<TD ALIGN=RIGHT><FONT FACE=\"Times New Roman\" SIZE=-2>$1,288.3</FONT></TD>","<TD ALIGN=RIGHT><FONT FACE=\"Times New Roman\" SIZE=-2>$131.9</FONT></TD>","<TD ALIGN=RIGHT><FONT FACE=\"Times New Roman\" SIZE=-2>$25.8</FONT></TD>","<TD ALIGN=RIGHT><FONT FACE=\"Times New Roman\" SIZE=-2>$1,899.7</FONT></TD>","<TD ALIGN=RIGHT><FONT FACE=\"Times New Roman\" SIZE=-2>$5,145.9</FONT></TD>","<TD ALIGN=RIGHT><FONT FACE=\"Times New Roman\" SIZE=-2>$630.6</FONT></TD>","<TD ALIGN=RIGHT><FONT FACE=\"Times New Roman\" SIZE=-2>$1,176.3</FONT></TD>","<TD ALIGN=RIGHT><FONT FACE=\"Times New Roman\" SIZE=-2>$1,926.0</FONT></TD>","<TD ALIGN=RIGHT><FONT FACE=\"Times New Roman\" SIZE=-2>$4.5</FONT></TD>","<TD ALIGN=RIGHT><FONT FACE=\"Times New Roman\" SIZE=-2>$858.9</FONT></TD>","<TD ALIGN=RIGHT><FONT FACE=\"Times New Roman\" SIZE=-2>$4,596.2</FONT></TD>","<TD ALIGN=RIGHT><FONT FACE=\"Times New Roman\" SIZE=-2>$549.7</FONT></TD>","</TR>"]
["Town/Village of Green Island",{"$f":"'DataNews 2010'!B13","v":2102833},{"$f":"'DataNews 2010'!C13","v":657742},{"$f":"'DataNews 2010'!D13","v":175303},{"$f":"'DataNews 2010'!E13","v":381400},{"$f":"'DataNews 2010'!F13","v":2003113},{"$f":"'DataNews 2010'!G13","v":5320391},{"$f":"'DataNews 2010'!H13","v":842699},{"$f":"'DataNews 2010'!I13","v":1122798},{"$f":"'DataNews 2010'!J13","v":1417066},{"$f":"'DataNews 2010'!K13","v":0},{"$f":"'DataNews 2010'!L13","v":1620882},{"$f":"'DataNews 2010'!M13","v":5003445},{"$f":"'DataNews 2010'!N13","v":316946},null,"<TR>","<TD NOWRAP ALIGN=LEFT><FONT FACE=\"Times New Roman\" SIZE=-2>Town/Village of Green Island</TD>","<TD ALIGN=RIGHT><FONT FACE=\"Times New Roman\" SIZE=-2>$2,102.8</FONT></TD>","<TD ALIGN=RIGHT><FONT FACE=\"Times New Roman\" SIZE=-2>$657.7</FONT></TD>","<TD ALIGN=RIGHT><FONT FACE=\"Times New Roman\" SIZE=-2>$175.3</FONT></TD>","<TD ALIGN=RIGHT><FONT FACE=\"Times New Roman\" SIZE=-2>$381.4</FONT></TD>","<TD ALIGN=RIGHT><FONT FACE=\"Times New Roman\" SIZE=-2>$2,003.1</FONT></TD>","<TD ALIGN=RIGHT><FONT FACE=\"Times New Roman\" SIZE=-2>$5,320.4</FONT></TD>","<TD ALIGN=RIGHT><FONT FACE=\"Times New Roman\" SIZE=-2>$842.7</FONT></TD>","<TD ALIGN=RIGHT><FONT FACE=\"Times New Roman\" SIZE=-2>$1,122.8</FONT></TD>","<TD ALIGN=RIGHT><FONT FACE=\"Times New Roman\" SIZE=-2>$1,417.1</FONT></TD>","<TD ALIGN=RIGHT><FONT FACE=\"Times New Roman\" SIZE=-2>$0.0</FONT></TD>","<TD ALIGN=RIGHT><FONT FACE=\"Times New Roman\" SIZE=-2>$1,620.9</FONT></TD>","<TD ALIGN=RIGHT><FONT FACE=\"Times New Roman\" SIZE=-2>$5,003.4</FONT></TD>","<TD ALIGN=RIGHT><FONT FACE=\"Times New Roman\" SIZE=-2>$316.9</FONT></TD>","</TR>"]
["Town of Guilderland",{"$f":"'DataNews 2010'!B14","v":8364308},{"$f":"'DataNews 2010'!C14","v":9747640},{"$f":"'DataNews 2010'!D14","v":1624711},{"$f":"'DataNews 2010'!E14","v":586027},{"$f":"'DataNews 2010'!F14","v":10574375},{"$f":"'DataNews 2010'!G14","v":30897061},{"$f":"'DataNews 2010'!H14","v":2592473},{"$f":"'DataNews 2010'!I14","v":6690465},{"$f":"'DataNews 2010'!J14","v":11888859},{"$f":"'DataNews 2010'!K14","v":648865},{"$f":"'DataNews 2010'!L14","v":10372030},{"$f":"'DataNews 2010'!M14","v":32192692},{"$f":"'DataNews 2010'!N14","v":-1295631},null,"<TR>","<TD NOWRAP ALIGN=LEFT><FONT FACE=\"Times New Roman\" SIZE=-2>Town of Guilderland</TD>","<TD ALIGN=RIGHT><FONT FACE=\"Times New Roman\" SIZE=-2>$8,364.3</FONT></TD>","<TD ALIGN=RIGHT><FONT FACE=\"Times New Roman\" SIZE=-2>$9,747.6</FONT></TD>","<TD ALIGN=RIGHT><FONT FACE=\"Times New Roman\" SIZE=-2>$1,624.7</FONT></TD>","<TD ALIGN=RIGHT><FONT FACE=\"Times New Roman\" SIZE=-2>$586.0</FONT></TD>","<TD ALIGN=RIGHT><FONT FACE=\"Times New Roman\" SIZE=-2>$10,574.4</FONT></TD>","<TD ALIGN=RIGHT><FONT FACE=\"Times New Roman\" SIZE=-2>$30,897.1</FONT></TD>","<TD ALIGN=RIGHT><FONT FACE=\"Times New Roman\" SIZE=-2>$2,592.5</FONT></TD>","<TD ALIGN=RIGHT><FONT FACE=\"Times New Roman\" SIZE=-2>$6,690.5</FONT></TD>","<TD ALIGN=RIGHT><FONT FACE=\"Times New Roman\" SIZE=-2>$11,888.9</FONT></TD>","<TD ALIGN=RIGHT><FONT FACE=\"Times New Roman\" SIZE=-2>$648.9</FONT></TD>","<TD ALIGN=RIGHT><FONT FACE=\"Times New Roman\" SIZE=-2>$10,372.0</FONT></TD>","<TD ALIGN=RIGHT><FONT FACE=\"Times New Roman\" SIZE=-2>$32,192.7</FONT></TD>","<TD ALIGN=RIGHT><FONT FACE=\"Times New Roman\" SIZE=-2 COLOR=#FF0000>($1,295.6)</FONT></TD>","</TR>"]
["Village of Altamont",{"$f":"'DataNews 2010'!B15","v":275236},{"$f":"'DataNews 2010'!C15","v":533455},{"$f":"'DataNews 2010'!D15","v":72482},{"$f":"'DataNews 2010'!E15","v":10452},{"$f":"'DataNews 2010'!F15","v":1048598},{"$f":"'DataNews 2010'!G15","v":1940223},{"$f":"'DataNews 2010'!H15","v":267391},{"$f":"'DataNews 2010'!I15","v":417249},{"$f":"'DataNews 2010'!J15","v":742064},{"$f":"'DataNews 2010'!K15","v":0},{"$f":"'DataNews 2010'!L15","v":493354},{"$f":"'DataNews 2010'!M15","v":1920058},{"$f":"'DataNews 2010'!N15","v":20165},null,"<TR>","<TD NOWRAP ALIGN=LEFT><FONT FACE=\"Times New Roman\" SIZE=-2>Village of Altamont</TD>","<TD ALIGN=RIGHT><FONT FACE=\"Times New Roman\" SIZE=-2>$275.2</FONT></TD>","<TD ALIGN=RIGHT><FONT FACE=\"Times New Roman\" SIZE=-2>$533.5</FONT></TD>","<TD ALIGN=RIGHT><FONT FACE=\"Times New Roman\" SIZE=-2>$72.5</FONT></TD>","<TD ALIGN=RIGHT><FONT FACE=\"Times New Roman\" SIZE=-2>$10.5</FONT></TD>","<TD ALIGN=RIGHT><FONT FACE=\"Times New Roman\" SIZE=-2>$1,048.6</FONT></TD>","<TD ALIGN=RIGHT><FONT FACE=\"Times New Roman\" SIZE=-2>$1,940.2</FONT></TD>","<TD ALIGN=RIGHT><FONT FACE=\"Times New Roman\" SIZE=-2>$267.4</FONT></TD>","<TD ALIGN=RIGHT><FONT FACE=\"Times New Roman\" SIZE=-2>$417.2</FONT></TD>","<TD ALIGN=RIGHT><FONT FACE=\"Times New Roman\" SIZE=-2>$742.1</FONT></TD>","<TD ALIGN=RIGHT><FONT FACE=\"Times New Roman\" SIZE=-2>$0.0</FONT></TD>","<TD ALIGN=RIGHT><FONT FACE=\"Times New Roman\" SIZE=-2>$493.4</FONT></TD>","<TD ALIGN=RIGHT><FONT FACE=\"Times New Roman\" SIZE=-2>$1,920.1</FONT></TD>","<TD ALIGN=RIGHT><FONT FACE=\"Times New Roman\" SIZE=-2>$20.2</FONT></TD>","</TR>"]
["Town of Knox",{"$f":"'DataNews 2010'!B16","v":244907},{"$f":"'DataNews 2010'!C16","v":798626},{"$f":"'DataNews 2010'!D16","v":115187},{"$f":"'DataNews 2010'!E16","v":0},{"$f":"'DataNews 2010'!F16","v":182175},{"$f":"'DataNews 2010'!G16","v":1340895},{"$f":"'DataNews 2010'!H16","v":1162541},{"$f":"'DataNews 2010'!I16","v":103725},{"$f":"'DataNews 2010'!J16","v":653318},{"$f":"'DataNews 2010'!K16","v":0},{"$f":"'DataNews 2010'!L16","v":311770},{"$f":"'DataNews 2010'!M16","v":2231354},{"$f":"'DataNews 2010'!N16","v":-890459},null,"<TR>","<TD NOWRAP ALIGN=LEFT><FONT FACE=\"Times New Roman\" SIZE=-2>Town of Knox</TD>","<TD ALIGN=RIGHT><FONT FACE=\"Times New Roman\" SIZE=-2>$244.9</FONT></TD>","<TD ALIGN=RIGHT><FONT FACE=\"Times New Roman\" SIZE=-2>$798.6</FONT></TD>","<TD ALIGN=RIGHT><FONT FACE=\"Times New Roman\" SIZE=-2>$115.2</FONT></TD>","<TD ALIGN=RIGHT><FONT FACE=\"Times New Roman\" SIZE=-2>$0.0</FONT></TD>","<TD ALIGN=RIGHT><FONT FACE=\"Times New Roman\" SIZE=-2>$182.2</FONT></TD>","<TD ALIGN=RIGHT><FONT FACE=\"Times New Roman\" SIZE=-2>$1,340.9</FONT></TD>","<TD ALIGN=RIGHT><FONT FACE=\"Times New Roman\" SIZE=-2>$1,162.5</FONT></TD>","<TD ALIGN=RIGHT><FONT FACE=\"Times New Roman\" SIZE=-2>$103.7</FONT></TD>","<TD ALIGN=RIGHT><FONT FACE=\"Times New Roman\" SIZE=-2>$653.3</FONT></TD>","<TD ALIGN=RIGHT><FONT FACE=\"Times New Roman\" SIZE=-2>$0.0</FONT></TD>","<TD ALIGN=RIGHT><FONT FACE=\"Times New Roman\" SIZE=-2>$311.8</FONT></TD>","<TD ALIGN=RIGHT><FONT FACE=\"Times New Roman\" SIZE=-2>$2,231.4</FONT></TD>","<TD ALIGN=RIGHT><FONT FACE=\"Times New Roman\" SIZE=-2 COLOR=#FF0000>($890.5)</FONT></TD>","</TR>"]
["Town of New Scotland",{"$f":"'DataNews 2010'!B17","v":2314314},{"$f":"'DataNews 2010'!C17","v":1765304},{"$f":"'DataNews 2010'!D17","v":403825},{"$f":"'DataNews 2010'!E17","v":126169},{"$f":"'DataNews 2010'!F17","v":778097},{"$f":"'DataNews 2010'!G17","v":5387709},{"$f":"'DataNews 2010'!H17","v":783786},{"$f":"'DataNews 2010'!I17","v":986497},{"$f":"'DataNews 2010'!J17","v":2738264},{"$f":"'DataNews 2010'!K17","v":0},{"$f":"'DataNews 2010'!L17","v":1152720},{"$f":"'DataNews 2010'!M17","v":5661267},{"$f":"'DataNews 2010'!N17","v":-273558},null,"<TR>","<TD NOWRAP ALIGN=LEFT><FONT FACE=\"Times New Roman\" SIZE=-2>Town of New Scotland</TD>","<TD ALIGN=RIGHT><FONT FACE=\"Times New Roman\" SIZE=-2>$2,314.3</FONT></TD>","<TD ALIGN=RIGHT><FONT FACE=\"Times New Roman\" SIZE=-2>$1,765.3</FONT></TD>","<TD ALIGN=RIGHT><FONT FACE=\"Times New Roman\" SIZE=-2>$403.8</FONT></TD>","<TD ALIGN=RIGHT><FONT FACE=\"Times New Roman\" SIZE=-2>$126.2</FONT></TD>","<TD ALIGN=RIGHT><FONT FACE=\"Times New Roman\" SIZE=-2>$778.1</FONT></TD>","<TD ALIGN=RIGHT><FONT FACE=\"Times New Roman\" SIZE=-2>$5,387.7</FONT></TD>","<TD ALIGN=RIGHT><FONT FACE=\"Times New Roman\" SIZE=-2>$783.8</FONT></TD>","<TD ALIGN=RIGHT><FONT FACE=\"Times New Roman\" SIZE=-2>$986.5</FONT></TD>","<TD ALIGN=RIGHT><FONT FACE=\"Times New Roman\" SIZE=-2>$2,738.3</FONT></TD>","<TD ALIGN=RIGHT><FONT FACE=\"Times New Roman\" SIZE=-2>$0.0</FONT></TD>","<TD ALIGN=RIGHT><FONT FACE=\"Times New Roman\" SIZE=-2>$1,152.7</FONT></TD>","<TD ALIGN=RIGHT><FONT FACE=\"Times New Roman\" SIZE=-2>$5,661.3</FONT></TD>","<TD ALIGN=RIGHT><FONT FACE=\"Times New Roman\" SIZE=-2 COLOR=#FF0000>($273.6)</FONT></TD>","</TR>"]
["Village of Voorheesville",{"$f":"'DataNews 2010'!B18","v":260687},{"$f":"'DataNews 2010'!C18","v":855366},{"$f":"'DataNews 2010'!D18","v":104494},{"$f":"'DataNews 2010'!E18","v":2550},{"$f":"'DataNews 2010'!F18","v":684167},{"$f":"'DataNews 2010'!G18","v":1907264},{"$f":"'DataNews 2010'!H18","v":303841},{"$f":"'DataNews 2010'!I18","v":71192},{"$f":"'DataNews 2010'!J18","v":809032},{"$f":"'DataNews 2010'!K18","v":0},{"$f":"'DataNews 2010'!L18","v":489238},{"$f":"'DataNews 2010'!M18","v":1673303},{"$f":"'DataNews 2010'!N18","v":233961},null,"<TR>","<TD NOWRAP ALIGN=LEFT><FONT FACE=\"Times New Roman\" SIZE=-2>Village of Voorheesville</TD>","<TD ALIGN=RIGHT><FONT FACE=\"Times New Roman\" SIZE=-2>$260.7</FONT></TD>","<TD ALIGN=RIGHT><FONT FACE=\"Times New Roman\" SIZE=-2>$855.4</FONT></TD>","<TD ALIGN=RIGHT><FONT FACE=\"Times New Roman\" SIZE=-2>$104.5</FONT></TD>","<TD ALIGN=RIGHT><FONT FACE=\"Times New Roman\" SIZE=-2>$2.6</FONT></TD>","<TD ALIGN=RIGHT><FONT FACE=\"Times New Roman\" SIZE=-2>$684.2</FONT></TD>","<TD ALIGN=RIGHT><FONT FACE=\"Times New Roman\" SIZE=-2>$1,907.3</FONT></TD>","<TD ALIGN=RIGHT><FONT FACE=\"Times New Roman\" SIZE=-2>$303.8</FONT></TD>","<TD ALIGN=RIGHT><FONT FACE=\"Times New Roman\" SIZE=-2>$71.2</FONT></TD>","<TD ALIGN=RIGHT><FONT FACE=\"Times New Roman\" SIZE=-2>$809.0</FONT></TD>","<TD ALIGN=RIGHT><FONT FACE=\"Times New Roman\" SIZE=-2>$0.0</FONT></TD>","<TD ALIGN=RIGHT><FONT FACE=\"Times New Roman\" SIZE=-2>$489.2</FONT></TD>","<TD ALIGN=RIGHT><FONT FACE=\"Times New Roman\" SIZE=-2>$1,673.3</FONT></TD>","<TD ALIGN=RIGHT><FONT FACE=\"Times New Roman\" SIZE=-2>$234.0</FONT></TD>","</TR>"]
["Town of Rensselaerville",{"$f":"'DataNews 2010'!B19","v":1199659},{"$f":"'DataNews 2010'!C19","v":501520},{"$f":"'DataNews 2010'!D19","v":169482},{"$f":"'DataNews 2010'!E19","v":0},{"$f":"'DataNews 2010'!F19","v":191072},{"$f":"'DataNews 2010'!G19","v":2061733},{"$f":"'DataNews 2010'!H19","v":329075},{"$f":"'DataNews 2010'!I19","v":276161},{"$f":"'DataNews 2010'!J19","v":1178227},{"$f":"'DataNews 2010'!K19","v":0},{"$f":"'DataNews 2010'!L19","v":482679},{"$f":"'DataNews 2010'!M19","v":2266142},{"$f":"'DataNews 2010'!N19","v":-204409},null,"<TR>","<TD NOWRAP ALIGN=LEFT><FONT FACE=\"Times New Roman\" SIZE=-2>Town of Rensselaerville</TD>","<TD ALIGN=RIGHT><FONT FACE=\"Times New Roman\" SIZE=-2>$1,199.7</FONT></TD>","<TD ALIGN=RIGHT><FONT FACE=\"Times New Roman\" SIZE=-2>$501.5</FONT></TD>","<TD ALIGN=RIGHT><FONT FACE=\"Times New Roman\" SIZE=-2>$169.5</FONT></TD>","<TD ALIGN=RIGHT><FONT FACE=\"Times New Roman\" SIZE=-2>$0.0</FONT></TD>","<TD ALIGN=RIGHT><FONT FACE=\"Times New Roman\" SIZE=-2>$191.1</FONT></TD>","<TD ALIGN=RIGHT><FONT FACE=\"Times New Roman\" SIZE=-2>$2,061.7</FONT></TD>","<TD ALIGN=RIGHT><FONT FACE=\"Times New Roman\" SIZE=-2>$329.1</FONT></TD>","<TD ALIGN=RIGHT><FONT FACE=\"Times New Roman\" SIZE=-2>$276.2</FONT></TD>","<TD ALIGN=RIGHT><FONT FACE=\"Times New Roman\" SIZE=-2>$1,178.2</FONT></TD>","<TD ALIGN=RIGHT><FONT FACE=\"Times New Roman\" SIZE=-2>$0.0</FONT></TD>","<TD ALIGN=RIGHT><FONT FACE=\"Times New Roman\" SIZE=-2>$482.7</FONT></TD>","<TD ALIGN=RIGHT><FONT FACE=\"Times New Roman\" SIZE=-2>$2,266.1</FONT></TD>","<TD ALIGN=RIGHT><FONT FACE=\"Times New Roman\" SIZE=-2 COLOR=#FF0000>($204.4)</FONT></TD>","</TR>"]
["City of Watervliet",{"$f":"'DataNews 2010'!B20","v":3970313},{"$f":"'DataNews 2010'!C20","v":3241101},{"$f":"'DataNews 2010'!D20","v":6434433},{"$f":"'DataNews 2010'!E20","v":246864},{"$f":"'DataNews 2010'!F20","v":6475115},{"$f":"'DataNews 2010'!G20","v":20367826},{"$f":"'DataNews 2010'!H20","v":1344622},{"$f":"'DataNews 2010'!I20","v":4589052},{"$f":"'DataNews 2010'!J20","v":8494419},{"$f":"'DataNews 2010'!K20","v":599105},{"$f":"'DataNews 2010'!L20","v":5504374},{"$f":"'DataNews 2010'!M20","v":20531572},{"$f":"'DataNews 2010'!N20","v":-163746},null,"<TR>","<TD NOWRAP ALIGN=LEFT><FONT FACE=\"Times New Roman\" SIZE=-2>City of Watervliet</TD>","<TD ALIGN=RIGHT><FONT FACE=\"Times New Roman\" SIZE=-2>$3,970.3</FONT></TD>","<TD ALIGN=RIGHT><FONT FACE=\"Times New Roman\" SIZE=-2>$3,241.1</FONT></TD>","<TD ALIGN=RIGHT><FONT FACE=\"Times New Roman\" SIZE=-2>$6,434.4</FONT></TD>","<TD ALIGN=RIGHT><FONT FACE=\"Times New Roman\" SIZE=-2>$246.9</FONT></TD>","<TD ALIGN=RIGHT><FONT FACE=\"Times New Roman\" SIZE=-2>$6,475.1</FONT></TD>","<TD ALIGN=RIGHT><FONT FACE=\"Times New Roman\" SIZE=-2>$20,367.8</FONT></TD>","<TD ALIGN=RIGHT><FONT FACE=\"Times New Roman\" SIZE=-2>$1,344.6</FONT></TD>","<TD ALIGN=RIGHT><FONT FACE=\"Times New Roman\" SIZE=-2>$4,589.1</FONT></TD>","<TD ALIGN=RIGHT><FONT FACE=\"Times New Roman\" SIZE=-2>$8,494.4</FONT></TD>","<TD ALIGN=RIGHT><FONT FACE=\"Times New Roman\" SIZE=-2>$599.1</FONT></TD>","<TD ALIGN=RIGHT><FONT FACE=\"Times New Roman\" SIZE=-2>$5,504.4</FONT></TD>","<TD ALIGN=RIGHT><FONT FACE=\"Times New Roman\" SIZE=-2>$20,531.6</FONT></TD>","<TD ALIGN=RIGHT><FONT FACE=\"Times New Roman\" SIZE=-2 COLOR=#FF0000>($163.7)</FONT></TD>","</TR>"]
["Town of Westerlo",{"$f":"'DataNews 2010'!B21","v":998611},{"$f":"'DataNews 2010'!C21","v":1045726},{"$f":"'DataNews 2010'!D21","v":234381},{"$f":"'DataNews 2010'!E21","v":0},{"$f":"'DataNews 2010'!F21","v":157386},{"$f":"'DataNews 2010'!G21","v":2436104},{"$f":"'DataNews 2010'!H21","v":622015},{"$f":"'DataNews 2010'!I21","v":285304},{"$f":"'DataNews 2010'!J21","v":1010592},{"$f":"'DataNews 2010'!K21","v":0},{"$f":"'DataNews 2010'!L21","v":711310},{"$f":"'DataNews 2010'!M21","v":2629221},{"$f":"'DataNews 2010'!N21","v":-193117},null,"<TR>","<TD NOWRAP ALIGN=LEFT><FONT FACE=\"Times New Roman\" SIZE=-2>Town of Westerlo</TD>","<TD ALIGN=RIGHT><FONT FACE=\"Times New Roman\" SIZE=-2>$998.6</FONT></TD>","<TD ALIGN=RIGHT><FONT FACE=\"Times New Roman\" SIZE=-2>$1,045.7</FONT></TD>","<TD ALIGN=RIGHT><FONT FACE=\"Times New Roman\" SIZE=-2>$234.4</FONT></TD>","<TD ALIGN=RIGHT><FONT FACE=\"Times New Roman\" SIZE=-2>$0.0</FONT></TD>","<TD ALIGN=RIGHT><FONT FACE=\"Times New Roman\" SIZE=-2>$157.4</FONT></TD>","<TD ALIGN=RIGHT><FONT FACE=\"Times New Roman\" SIZE=-2>$2,436.1</FONT></TD>","<TD ALIGN=RIGHT><FONT FACE=\"Times New Roman\" SIZE=-2>$622.0</FONT></TD>","<TD ALIGN=RIGHT><FONT FACE=\"Times New Roman\" SIZE=-2>$285.3</FONT></TD>","<TD ALIGN=RIGHT><FONT FACE=\"Times New Roman\" SIZE=-2>$1,010.6</FONT></TD>","<TD ALIGN=RIGHT><FONT FACE=\"Times New Roman\" SIZE=-2>$0.0</FONT></TD>","<TD ALIGN=RIGHT><FONT FACE=\"Times New Roman\" SIZE=-2>$711.3</FONT></TD>","<TD ALIGN=RIGHT><FONT FACE=\"Times New Roman\" SIZE=-2>$2,629.2</FONT></TD>","<TD ALIGN=RIGHT><FONT FACE=\"Times New Roman\" SIZE=-2 COLOR=#FF0000>($193.1)</FONT></TD>","</TR>"]
["Rensselaer County",{"$f":"'DataNews 2010'!B22","v":60081172},{"$f":"'DataNews 2010'!C22","v":69300351},{"$f":"'DataNews 2010'!D22","v":45932941},{"$f":"'DataNews 2010'!E22","v":27210705},{"$f":"'DataNews 2010'!F22","v":118541080},{"$f":"'DataNews 2010'!G22","v":321066249},{"$f":"'DataNews 2010'!H22","v":46614760},{"$f":"'DataNews 2010'!I22","v":73483171},{"$f":"'DataNews 2010'!J22","v":13058790},{"$f":"'DataNews 2010'!K22","v":889366},{"$f":"'DataNews 2010'!L22","v":180562523},{"$f":"'DataNews 2010'!M22","v":314608610},{"$f":"'DataNews 2010'!N22","v":6457639},null,"<TR>",{"$f":"\"<TD NOWRAP ALIGN=LEFT><FONT FACE=\"\"Times New Roman\"\" SIZE=-2><B>\"&A22&\"</B></TD>\"","v":"<TD NOWRAP ALIGN=LEFT><FONT FACE=\"Times New Roman\" SIZE=-2><B>Rensselaer County</B></TD>"},"<TD ALIGN=RIGHT><FONT FACE=\"Times New Roman\" SIZE=-2>$60,081.2</FONT></TD>","<TD ALIGN=RIGHT><FONT FACE=\"Times New Roman\" SIZE=-2>$69,300.4</FONT></TD>","<TD ALIGN=RIGHT><FONT FACE=\"Times New Roman\" SIZE=-2>$45,932.9</FONT></TD>","<TD ALIGN=RIGHT><FONT FACE=\"Times New Roman\" SIZE=-2>$27,210.7</FONT></TD>","<TD ALIGN=RIGHT><FONT FACE=\"Times New Roman\" SIZE=-2>$118,541.1</FONT></TD>","<TD ALIGN=RIGHT><FONT FACE=\"Times New Roman\" SIZE=-2>$321,066.2</FONT></TD>","<TD ALIGN=RIGHT><FONT FACE=\"Times New Roman\" SIZE=-2>$46,614.8</FONT></TD>","<TD ALIGN=RIGHT><FONT FACE=\"Times New Roman\" SIZE=-2>$73,483.2</FONT></TD>","<TD ALIGN=RIGHT><FONT FACE=\"Times New Roman\" SIZE=-2>$13,058.8</FONT></TD>","<TD ALIGN=RIGHT><FONT FACE=\"Times New Roman\" SIZE=-2>$889.4</FONT></TD>","<TD ALIGN=RIGHT><FONT FACE=\"Times New Roman\" SIZE=-2>$180,562.5</FONT></TD>","<TD ALIGN=RIGHT><FONT FACE=\"Times New Roman\" SIZE=-2>$314,608.6</FONT></TD>","<TD ALIGN=RIGHT><FONT FACE=\"Times New Roman\" SIZE=-2>$6,457.6</FONT></TD>","</TR>"]
["Village of Nassau",{"$f":"'DataNews 2010'!B23","v":345314},{"$f":"'DataNews 2010'!C23","v":63338},{"$f":"'DataNews 2010'!D23","v":73182},{"$f":"'DataNews 2010'!E23","v":6334},{"$f":"'DataNews 2010'!F23","v":377398},{"$f":"'DataNews 2010'!G23","v":865566},{"$f":"'DataNews 2010'!H23","v":169761},{"$f":"'DataNews 2010'!I23","v":159086},{"$f":"'DataNews 2010'!J23","v":336928},{"$f":"'DataNews 2010'!K23","v":0},{"$f":"'DataNews 2010'!L23","v":147806},{"$f":"'DataNews 2010'!M23","v":813581},{"$f":"'DataNews 2010'!N23","v":51985},null,"<TR>",{"$f":"\"<TD NOWRAP ALIGN=LEFT><FONT FACE=\"\"Times New Roman\"\" SIZE=-2>\"&A23&\"</TD>\"","v":"<TD NOWRAP ALIGN=LEFT><FONT FACE=\"Times New Roman\" SIZE=-2>Village of Nassau</TD>"},"<TD ALIGN=RIGHT><FONT FACE=\"Times New Roman\" SIZE=-2>$345.3</FONT></TD>","<TD ALIGN=RIGHT><FONT FACE=\"Times New Roman\" SIZE=-2>$63.3</FONT></TD>","<TD ALIGN=RIGHT><FONT FACE=\"Times New Roman\" SIZE=-2>$73.2</FONT></TD>","<TD ALIGN=RIGHT><FONT FACE=\"Times New Roman\" SIZE=-2>$6.3</FONT></TD>","<TD ALIGN=RIGHT><FONT FACE=\"Times New Roman\" SIZE=-2>$377.4</FONT></TD>","<TD ALIGN=RIGHT><FONT FACE=\"Times New Roman\" SIZE=-2>$865.6</FONT></TD>","<TD ALIGN=RIGHT><FONT FACE=\"Times New Roman\" SIZE=-2>$169.8</FONT></TD>","<TD ALIGN=RIGHT><FONT FACE=\"Times New Roman\" SIZE=-2>$159.1</FONT></TD>","<TD ALIGN=RIGHT><FONT FACE=\"Times New Roman\" SIZE=-2>$336.9</FONT></TD>","<TD ALIGN=RIGHT><FONT FACE=\"Times New Roman\" SIZE=-2>$0.0</FONT></TD>","<TD ALIGN=RIGHT><FONT FACE=\"Times New Roman\" SIZE=-2>$147.8</FONT></TD>","<TD ALIGN=RIGHT><FONT FACE=\"Times New Roman\" SIZE=-2>$813.6</FONT></TD>","<TD ALIGN=RIGHT><FONT FACE=\"Times New Roman\" SIZE=-2>$52.0</FONT></TD>","</TR>"]
["Village of Valley Falls",{"$f":"'DataNews 2010'!B24","v":50710},{"$f":"'DataNews 2010'!C24","v":29737},{"$f":"'DataNews 2010'!D24","v":19513},{"$f":"'DataNews 2010'!E24","v":0},{"$f":"'DataNews 2010'!F24","v":213222},{"$f":"'DataNews 2010'!G24","v":313182},{"$f":"'DataNews 2010'!H24","v":59543},{"$f":"'DataNews 2010'!I24","v":40548},{"$f":"'DataNews 2010'!J24","v":26317},{"$f":"'DataNews 2010'!K24","v":0},{"$f":"'DataNews 2010'!L24","v":170314},{"$f":"'DataNews 2010'!M24","v":296722},{"$f":"'DataNews 2010'!N24","v":16460},null,"<TR>","<TD NOWRAP ALIGN=LEFT><FONT FACE=\"Times New Roman\" SIZE=-2>Village of Valley Falls</TD>","<TD ALIGN=RIGHT><FONT FACE=\"Times New Roman\" SIZE=-2>$50.7</FONT></TD>","<TD ALIGN=RIGHT><FONT FACE=\"Times New Roman\" SIZE=-2>$29.7</FONT></TD>","<TD ALIGN=RIGHT><FONT FACE=\"Times New Roman\" SIZE=-2>$19.5</FONT></TD>","<TD ALIGN=RIGHT><FONT FACE=\"Times New Roman\" SIZE=-2>$0.0</FONT></TD>","<TD ALIGN=RIGHT><FONT FACE=\"Times New Roman\" SIZE=-2>$213.2</FONT></TD>","<TD ALIGN=RIGHT><FONT FACE=\"Times New Roman\" SIZE=-2>$313.2</FONT></TD>","<TD ALIGN=RIGHT><FONT FACE=\"Times New Roman\" SIZE=-2>$59.5</FONT></TD>","<TD ALIGN=RIGHT><FONT FACE=\"Times New Roman\" SIZE=-2>$40.5</FONT></TD>","<TD ALIGN=RIGHT><FONT FACE=\"Times New Roman\" SIZE=-2>$26.3</FONT></TD>","<TD ALIGN=RIGHT><FONT FACE=\"Times New Roman\" SIZE=-2>$0.0</FONT></TD>","<TD ALIGN=RIGHT><FONT FACE=\"Times New Roman\" SIZE=-2>$170.3</FONT></TD>","<TD ALIGN=RIGHT><FONT FACE=\"Times New Roman\" SIZE=-2>$296.7</FONT></TD>","<TD ALIGN=RIGHT><FONT FACE=\"Times New Roman\" SIZE=-2>$16.5</FONT></TD>","</TR>"]
["Town of Berlin",{"$f":"'DataNews 2010'!B25","v":381693},{"$f":"'DataNews 2010'!C25","v":164826},{"$f":"'DataNews 2010'!D25","v":116282},{"$f":"'DataNews 2010'!E25","v":0},{"$f":"'DataNews 2010'!F25","v":214612},{"$f":"'DataNews 2010'!G25","v":877413},{"$f":"'DataNews 2010'!H25","v":122054},{"$f":"'DataNews 2010'!I25","v":15321},{"$f":"'DataNews 2010'!J25","v":577556},{"$f":"'DataNews 2010'!K25","v":0},{"$f":"'DataNews 2010'!L25","v":118980},{"$f":"'DataNews 2010'!M25","v":833911},{"$f":"'DataNews 2010'!N25","v":43502},null,"<TR>","<TD NOWRAP ALIGN=LEFT><FONT FACE=\"Times New Roman\" SIZE=-2>Town of Berlin</TD>","<TD ALIGN=RIGHT><FONT FACE=\"Times New Roman\" SIZE=-2>$381.7</FONT></TD>","<TD ALIGN=RIGHT><FONT FACE=\"Times New Roman\" SIZE=-2>$164.8</FONT></TD>","<TD ALIGN=RIGHT><FONT FACE=\"Times New Roman\" SIZE=-2>$116.3</FONT></TD>","<TD ALIGN=RIGHT><FONT FACE=\"Times New Roman\" SIZE=-2>$0.0</FONT></TD>","<TD ALIGN=RIGHT><FONT FACE=\"Times New Roman\" SIZE=-2>$214.6</FONT></TD>","<TD ALIGN=RIGHT><FONT FACE=\"Times New Roman\" SIZE=-2>$877.4</FONT></TD>","<TD ALIGN=RIGHT><FONT FACE=\"Times New Roman\" SIZE=-2>$122.1</FONT></TD>","<TD ALIGN=RIGHT><FONT FACE=\"Times New Roman\" SIZE=-2>$15.3</FONT></TD>","<TD ALIGN=RIGHT><FONT FACE=\"Times New Roman\" SIZE=-2>$577.6</FONT></TD>","<TD ALIGN=RIGHT><FONT FACE=\"Times New Roman\" SIZE=-2>$0.0</FONT></TD>","<TD ALIGN=RIGHT><FONT FACE=\"Times New Roman\" SIZE=-2>$119.0</FONT></TD>","<TD ALIGN=RIGHT><FONT FACE=\"Times New Roman\" SIZE=-2>$833.9</FONT></TD>","<TD ALIGN=RIGHT><FONT FACE=\"Times New Roman\" SIZE=-2>$43.5</FONT></TD>","</TR>"]
["Town of Brunswick",{"$f":"'DataNews 2010'!B26","v":3408076},{"$f":"'DataNews 2010'!C26","v":1016116},{"$f":"'DataNews 2010'!D26","v":506240},{"$f":"'DataNews 2010'!E26","v":29988},{"$f":"'DataNews 2010'!F26","v":1667475},{"$f":"'DataNews 2010'!G26","v":6627895},{"$f":"'DataNews 2010'!H26","v":1076797},{"$f":"'DataNews 2010'!I26","v":1060696},{"$f":"'DataNews 2010'!J26","v":2970312},{"$f":"'DataNews 2010'!K26","v":146488},{"$f":"'DataNews 2010'!L26","v":1299604},{"$f":"'DataNews 2010'!M26","v":6553897},{"$f":"'DataNews 2010'!N26","v":73998},null,"<TR>","<TD NOWRAP ALIGN=LEFT><FONT FACE=\"Times New Roman\" SIZE=-2>Town of Brunswick</TD>","<TD ALIGN=RIGHT><FONT FACE=\"Times New Roman\" SIZE=-2>$3,408.1</FONT></TD>","<TD ALIGN=RIGHT><FONT FACE=\"Times New Roman\" SIZE=-2>$1,016.1</FONT></TD>","<TD ALIGN=RIGHT><FONT FACE=\"Times New Roman\" SIZE=-2>$506.2</FONT></TD>","<TD ALIGN=RIGHT><FONT FACE=\"Times New Roman\" SIZE=-2>$30.0</FONT></TD>","<TD ALIGN=RIGHT><FONT FACE=\"Times New Roman\" SIZE=-2>$1,667.5</FONT></TD>","<TD ALIGN=RIGHT><FONT FACE=\"Times New Roman\" SIZE=-2>$6,627.9</FONT></TD>","<TD ALIGN=RIGHT><FONT FACE=\"Times New Roman\" SIZE=-2>$1,076.8</FONT></TD>","<TD ALIGN=RIGHT><FONT FACE=\"Times New Roman\" SIZE=-2>$1,060.7</FONT></TD>","<TD ALIGN=RIGHT><FONT FACE=\"Times New Roman\" SIZE=-2>$2,970.3</FONT></TD>","<TD ALIGN=RIGHT><FONT FACE=\"Times New Roman\" SIZE=-2>$146.5</FONT></TD>","<TD ALIGN=RIGHT><FONT FACE=\"Times New Roman\" SIZE=-2>$1,299.6</FONT></TD>","<TD ALIGN=RIGHT><FONT FACE=\"Times New Roman\" SIZE=-2>$6,553.9</FONT></TD>","<TD ALIGN=RIGHT><FONT FACE=\"Times New Roman\" SIZE=-2>$74.0</FONT></TD>","</TR>"]
["Town of East Greenbush",{"$f":"'DataNews 2010'!B27","v":8683121},{"$f":"'DataNews 2010'!C27","v":1618667},{"$f":"'DataNews 2010'!D27","v":832467},{"$f":"'DataNews 2010'!E27","v":0},{"$f":"'DataNews 2010'!F27","v":5807246},{"$f":"'DataNews 2010'!G27","v":16941501},{"$f":"'DataNews 2010'!H27","v":2173457},{"$f":"'DataNews 2010'!I27","v":2770444},{"$f":"'DataNews 2010'!J27","v":6434731},{"$f":"'DataNews 2010'!K27","v":0},{"$f":"'DataNews 2010'!L27","v":4411861},{"$f":"'DataNews 2010'!M27","v":15790493},{"$f":"'DataNews 2010'!N27","v":1151008},null,"<TR>","<TD NOWRAP ALIGN=LEFT><FONT FACE=\"Times New Roman\" SIZE=-2>Town of East Greenbush</TD>","<TD ALIGN=RIGHT><FONT FACE=\"Times New Roman\" SIZE=-2>$8,683.1</FONT></TD>","<TD ALIGN=RIGHT><FONT FACE=\"Times New Roman\" SIZE=-2>$1,618.7</FONT></TD>","<TD ALIGN=RIGHT><FONT FACE=\"Times New Roman\" SIZE=-2>$832.5</FONT></TD>","<TD ALIGN=RIGHT><FONT FACE=\"Times New Roman\" SIZE=-2>$0.0</FONT></TD>","<TD ALIGN=RIGHT><FONT FACE=\"Times New Roman\" SIZE=-2>$5,807.2</FONT></TD>","<TD ALIGN=RIGHT><FONT FACE=\"Times New Roman\" SIZE=-2>$16,941.5</FONT></TD>","<TD ALIGN=RIGHT><FONT FACE=\"Times New Roman\" SIZE=-2>$2,173.5</FONT></TD>","<TD ALIGN=RIGHT><FONT FACE=\"Times New Roman\" SIZE=-2>$2,770.4</FONT></TD>","<TD ALIGN=RIGHT><FONT FACE=\"Times New Roman\" SIZE=-2>$6,434.7</FONT></TD>","<TD ALIGN=RIGHT><FONT FACE=\"Times New Roman\" SIZE=-2>$0.0</FONT></TD>","<TD ALIGN=RIGHT><FONT FACE=\"Times New Roman\" SIZE=-2>$4,411.9</FONT></TD>","<TD ALIGN=RIGHT><FONT FACE=\"Times New Roman\" SIZE=-2>$15,790.5</FONT></TD>","<TD ALIGN=RIGHT><FONT FACE=\"Times New Roman\" SIZE=-2>$1,151.0</FONT></TD>","</TR>"]
["Town of Grafton",{"$f":"'DataNews 2010'!B28","v":638066},{"$f":"'DataNews 2010'!C28","v":209402},{"$f":"'DataNews 2010'!D28","v":142881},{"$f":"'DataNews 2010'!E28","v":0},{"$f":"'DataNews 2010'!F28","v":96446},{"$f":"'DataNews 2010'!G28","v":1086795},{"$f":"'DataNews 2010'!H28","v":202877},{"$f":"'DataNews 2010'!I28","v":32422},{"$f":"'DataNews 2010'!J28","v":579450},{"$f":"'DataNews 2010'!K28","v":0},{"$f":"'DataNews 2010'!L28","v":233974},{"$f":"'DataNews 2010'!M28","v":1048723},{"$f":"'DataNews 2010'!N28","v":38072},null,"<TR>","<TD NOWRAP ALIGN=LEFT><FONT FACE=\"Times New Roman\" SIZE=-2>Town of Grafton</TD>","<TD ALIGN=RIGHT><FONT FACE=\"Times New Roman\" SIZE=-2>$638.1</FONT></TD>","<TD ALIGN=RIGHT><FONT FACE=\"Times New Roman\" SIZE=-2>$209.4</FONT></TD>","<TD ALIGN=RIGHT><FONT FACE=\"Times New Roman\" SIZE=-2>$142.9</FONT></TD>","<TD ALIGN=RIGHT><FONT FACE=\"Times New Roman\" SIZE=-2>$0.0</FONT></TD>","<TD ALIGN=RIGHT><FONT FACE=\"Times New Roman\" SIZE=-2>$96.4</FONT></TD>","<TD ALIGN=RIGHT><FONT FACE=\"Times New Roman\" SIZE=-2>$1,086.8</FONT></TD>","<TD ALIGN=RIGHT><FONT FACE=\"Times New Roman\" SIZE=-2>$202.9</FONT></TD>","<TD ALIGN=RIGHT><FONT FACE=\"Times New Roman\" SIZE=-2>$32.4</FONT></TD>","<TD ALIGN=RIGHT><FONT FACE=\"Times New Roman\" SIZE=-2>$579.5</FONT></TD>","<TD ALIGN=RIGHT><FONT FACE=\"Times New Roman\" SIZE=-2>$0.0</FONT></TD>","<TD ALIGN=RIGHT><FONT FACE=\"Times New Roman\" SIZE=-2>$234.0</FONT></TD>","<TD ALIGN=RIGHT><FONT FACE=\"Times New Roman\" SIZE=-2>$1,048.7</FONT></TD>","<TD ALIGN=RIGHT><FONT FACE=\"Times New Roman\" SIZE=-2>$38.1</FONT></TD>","</TR>"]
["Town of Hoosick",{"$f":"'DataNews 2010'!B29","v":1423948},{"$f":"'DataNews 2010'!C29","v":270637},{"$f":"'DataNews 2010'!D29","v":230281},{"$f":"'DataNews 2010'!E29","v":465525},{"$f":"'DataNews 2010'!F29","v":179540},{"$f":"'DataNews 2010'!G29","v":2569931},{"$f":"'DataNews 2010'!H29","v":353851},{"$f":"'DataNews 2010'!I29","v":300523},{"$f":"'DataNews 2010'!J29","v":1380245},{"$f":"'DataNews 2010'!K29","v":0},{"$f":"'DataNews 2010'!L29","v":591887},{"$f":"'DataNews 2010'!M29","v":2626506},{"$f":"'DataNews 2010'!N29","v":-56575},null,"<TR>","<TD NOWRAP ALIGN=LEFT><FONT FACE=\"Times New Roman\" SIZE=-2>Town of Hoosick</TD>","<TD ALIGN=RIGHT><FONT FACE=\"Times New Roman\" SIZE=-2>$1,423.9</FONT></TD>","<TD ALIGN=RIGHT><FONT FACE=\"Times New Roman\" SIZE=-2>$270.6</FONT></TD>","<TD ALIGN=RIGHT><FONT FACE=\"Times New Roman\" SIZE=-2>$230.3</FONT></TD>","<TD ALIGN=RIGHT><FONT FACE=\"Times New Roman\" SIZE=-2>$465.5</FONT></TD>","<TD ALIGN=RIGHT><FONT FACE=\"Times New Roman\" SIZE=-2>$179.5</FONT></TD>","<TD ALIGN=RIGHT><FONT FACE=\"Times New Roman\" SIZE=-2>$2,569.9</FONT></TD>","<TD ALIGN=RIGHT><FONT FACE=\"Times New Roman\" SIZE=-2>$353.9</FONT></TD>","<TD ALIGN=RIGHT><FONT FACE=\"Times New Roman\" SIZE=-2>$300.5</FONT></TD>","<TD ALIGN=RIGHT><FONT FACE=\"Times New Roman\" SIZE=-2>$1,380.2</FONT></TD>","<TD ALIGN=RIGHT><FONT FACE=\"Times New Roman\" SIZE=-2>$0.0</FONT></TD>","<TD ALIGN=RIGHT><FONT FACE=\"Times New Roman\" SIZE=-2>$591.9</FONT></TD>","<TD ALIGN=RIGHT><FONT FACE=\"Times New Roman\" SIZE=-2>$2,626.5</FONT></TD>","<TD ALIGN=RIGHT><FONT FACE=\"Times New Roman\" SIZE=-2 COLOR=#FF0000>($56.6)</FONT></TD>","</TR>"]
["Village of Hoosick Falls",{"$f":"'DataNews 2010'!B30","v":1114369},{"$f":"'DataNews 2010'!C30","v":182123},{"$f":"'DataNews 2010'!D30","v":253414},{"$f":"'DataNews 2010'!E30","v":0},{"$f":"'DataNews 2010'!F30","v":1631662},{"$f":"'DataNews 2010'!G30","v":3181568},{"$f":"'DataNews 2010'!H30","v":213535},{"$f":"'DataNews 2010'!I30","v":426802},{"$f":"'DataNews 2010'!J30","v":3447976},{"$f":"'DataNews 2010'!K30","v":17284},{"$f":"'DataNews 2010'!L30","v":735997},{"$f":"'DataNews 2010'!M30","v":4841594},{"$f":"'DataNews 2010'!N30","v":-1660026},null,"<TR>","<TD NOWRAP ALIGN=LEFT><FONT FACE=\"Times New Roman\" SIZE=-2>Village of Hoosick Falls</TD>","<TD ALIGN=RIGHT><FONT FACE=\"Times New Roman\" SIZE=-2>$1,114.4</FONT></TD>","<TD ALIGN=RIGHT><FONT FACE=\"Times New Roman\" SIZE=-2>$182.1</FONT></TD>","<TD ALIGN=RIGHT><FONT FACE=\"Times New Roman\" SIZE=-2>$253.4</FONT></TD>","<TD ALIGN=RIGHT><FONT FACE=\"Times New Roman\" SIZE=-2>$0.0</FONT></TD>","<TD ALIGN=RIGHT><FONT FACE=\"Times New Roman\" SIZE=-2>$1,631.7</FONT></TD>","<TD ALIGN=RIGHT><FONT FACE=\"Times New Roman\" SIZE=-2>$3,181.6</FONT></TD>","<TD ALIGN=RIGHT><FONT FACE=\"Times New Roman\" SIZE=-2>$213.5</FONT></TD>","<TD ALIGN=RIGHT><FONT FACE=\"Times New Roman\" SIZE=-2>$426.8</FONT></TD>","<TD ALIGN=RIGHT><FONT FACE=\"Times New Roman\" SIZE=-2>$3,448.0</FONT></TD>","<TD ALIGN=RIGHT><FONT FACE=\"Times New Roman\" SIZE=-2>$17.3</FONT></TD>","<TD ALIGN=RIGHT><FONT FACE=\"Times New Roman\" SIZE=-2>$736.0</FONT></TD>","<TD ALIGN=RIGHT><FONT FACE=\"Times New Roman\" SIZE=-2>$4,841.6</FONT></TD>","<TD ALIGN=RIGHT><FONT FACE=\"Times New Roman\" SIZE=-2 COLOR=#FF0000>($1,660.0)</FONT></TD>","</TR>"]
["Town of Nassau",{"$f":"'DataNews 2010'!B31","v":976577},{"$f":"'DataNews 2010'!C31","v":245264},{"$f":"'DataNews 2010'!D31","v":283192},{"$f":"'DataNews 2010'!E31","v":171863},{"$f":"'DataNews 2010'!F31","v":641119},{"$f":"'DataNews 2010'!G31","v":2318015},{"$f":"'DataNews 2010'!H31","v":402131},{"$f":"'DataNews 2010'!I31","v":221400},{"$f":"'DataNews 2010'!J31","v":1012399},{"$f":"'DataNews 2010'!K31","v":0},{"$f":"'DataNews 2010'!L31","v":722233},{"$f":"'DataNews 2010'!M31","v":2358163},{"$f":"'DataNews 2010'!N31","v":-40148},null,"<TR>","<TD NOWRAP ALIGN=LEFT><FONT FACE=\"Times New Roman\" SIZE=-2>Town of Nassau</TD>","<TD ALIGN=RIGHT><FONT FACE=\"Times New Roman\" SIZE=-2>$976.6</FONT></TD>","<TD ALIGN=RIGHT><FONT FACE=\"Times New Roman\" SIZE=-2>$245.3</FONT></TD>","<TD ALIGN=RIGHT><FONT FACE=\"Times New Roman\" SIZE=-2>$283.2</FONT></TD>","<TD ALIGN=RIGHT><FONT FACE=\"Times New Roman\" SIZE=-2>$171.9</FONT></TD>","<TD ALIGN=RIGHT><FONT FACE=\"Times New Roman\" SIZE=-2>$641.1</FONT></TD>","<TD ALIGN=RIGHT><FONT FACE=\"Times New Roman\" SIZE=-2>$2,318.0</FONT></TD>","<TD ALIGN=RIGHT><FONT FACE=\"Times New Roman\" SIZE=-2>$402.1</FONT></TD>","<TD ALIGN=RIGHT><FONT FACE=\"Times New Roman\" SIZE=-2>$221.4</FONT></TD>","<TD ALIGN=RIGHT><FONT FACE=\"Times New Roman\" SIZE=-2>$1,012.4</FONT></TD>","<TD ALIGN=RIGHT><FONT FACE=\"Times New Roman\" SIZE=-2>$0.0</FONT></TD>","<TD ALIGN=RIGHT><FONT FACE=\"Times New Roman\" SIZE=-2>$722.2</FONT></TD>","<TD ALIGN=RIGHT><FONT FACE=\"Times New Roman\" SIZE=-2>$2,358.2</FONT></TD>","<TD ALIGN=RIGHT><FONT FACE=\"Times New Roman\" SIZE=-2 COLOR=#FF0000>($40.1)</FONT></TD>","</TR>"]
["Village of East Nassau",{"$f":"'DataNews 2010'!B32","v":51519},{"$f":"'DataNews 2010'!C32","v":41243},{"$f":"'DataNews 2010'!D32","v":28379},{"$f":"'DataNews 2010'!E32","v":12995},{"$f":"'DataNews 2010'!F32","v":616},{"$f":"'DataNews 2010'!G32","v":134752},{"$f":"'DataNews 2010'!H32","v":45262},{"$f":"'DataNews 2010'!I32","v":4170},{"$f":"'DataNews 2010'!J32","v":93368},{"$f":"'DataNews 2010'!K32","v":0},{"$f":"'DataNews 2010'!L32","v":2106},{"$f":"'DataNews 2010'!M32","v":144906},{"$f":"'DataNews 2010'!N32","v":-10154},null,"<TR>",{"$f":"\"<TD NOWRAP ALIGN=LEFT><FONT FACE=\"\"Times New Roman\"\" SIZE=-2>\"&A32&\"</TD>\"","v":"<TD NOWRAP ALIGN=LEFT><FONT FACE=\"Times New Roman\" SIZE=-2>Village of East Nassau</TD>"},{"$f":"\"<TD ALIGN=RIGHT><FONT FACE=\"\"Times New Roman\"\" SIZE=-2\"&IF(B32<0,\" COLOR=#FF0000\",\"\")&\">\"&TEXT(B32/1000,\"$#,##0.0;($#,##0.0)\")&\"</FONT></TD>\"","v":"<TD ALIGN=RIGHT><FONT FACE=\"Times New Roman\" SIZE=-2>$51.5</FONT></TD>"},"<TD ALIGN=RIGHT><FONT FACE=\"Times New Roman\" SIZE=-2>$41.2</FONT></TD>","<TD ALIGN=RIGHT><FONT FACE=\"Times New Roman\" SIZE=-2>$28.4</FONT></TD>","<TD ALIGN=RIGHT><FONT FACE=\"Times New Roman\" SIZE=-2>$13.0</FONT></TD>","<TD ALIGN=RIGHT><FONT FACE=\"Times New Roman\" SIZE=-2>$0.6</FONT></TD>","<TD ALIGN=RIGHT><FONT FACE=\"Times New Roman\" SIZE=-2>$134.8</FONT></TD>","<TD ALIGN=RIGHT><FONT FACE=\"Times New Roman\" SIZE=-2>$45.3</FONT></TD>","<TD ALIGN=RIGHT><FONT FACE=\"Times New Roman\" SIZE=-2>$4.2</FONT></TD>","<TD ALIGN=RIGHT><FONT FACE=\"Times New Roman\" SIZE=-2>$93.4</FONT></TD>","<TD ALIGN=RIGHT><FONT FACE=\"Times New Roman\" SIZE=-2>$0.0</FONT></TD>","<TD ALIGN=RIGHT><FONT FACE=\"Times New Roman\" SIZE=-2>$2.1</FONT></TD>","<TD ALIGN=RIGHT><FONT FACE=\"Times New Roman\" SIZE=-2>$144.9</FONT></TD>","<TD ALIGN=RIGHT><FONT FACE=\"Times New Roman\" SIZE=-2 COLOR=#FF0000>($10.2)</FONT></TD>","</TR>"]
["Town of North Greenbush",{"$f":"'DataNews 2010'!B33","v":5300740},{"$f":"'DataNews 2010'!C33","v":981703},{"$f":"'DataNews 2010'!D33","v":603610},{"$f":"'DataNews 2010'!E33","v":0},{"$f":"'DataNews 2010'!F33","v":3240177},{"$f":"'DataNews 2010'!G33","v":10126230},{"$f":"'DataNews 2010'!H33","v":2968236},{"$f":"'DataNews 2010'!I33","v":1936097},{"$f":"'DataNews 2010'!J33","v":3369714},{"$f":"'DataNews 2010'!K33","v":0},{"$f":"'DataNews 2010'!L33","v":4003030},{"$f":"'DataNews 2010'!M33","v":12277077},{"$f":"'DataNews 2010'!N33","v":-2150847},null,"<TR>",{"$f":"\"<TD NOWRAP ALIGN=LEFT><FONT FACE=\"\"Times New Roman\"\" SIZE=-2>\"&A33&\"</TD>\"","v":"<TD NOWRAP ALIGN=LEFT><FONT FACE=\"Times New Roman\" SIZE=-2>Town of North Greenbush</TD>"},"<TD ALIGN=RIGHT><FONT FACE=\"Times New Roman\" SIZE=-2>$5,300.7</FONT></TD>","<TD ALIGN=RIGHT><FONT FACE=\"Times New Roman\" SIZE=-2>$981.7</FONT></TD>","<TD ALIGN=RIGHT><FONT FACE=\"Times New Roman\" SIZE=-2>$603.6</FONT></TD>","<TD ALIGN=RIGHT><FONT FACE=\"Times New Roman\" SIZE=-2>$0.0</FONT></TD>","<TD ALIGN=RIGHT><FONT FACE=\"Times New Roman\" SIZE=-2>$3,240.2</FONT></TD>","<TD ALIGN=RIGHT><FONT FACE=\"Times New Roman\" SIZE=-2>$10,126.2</FONT></TD>","<TD ALIGN=RIGHT><FONT FACE=\"Times New Roman\" SIZE=-2>$2,968.2</FONT></TD>","<TD ALIGN=RIGHT><FONT FACE=\"Times New Roman\" SIZE=-2>$1,936.1</FONT></TD>","<TD ALIGN=RIGHT><FONT FACE=\"Times New Roman\" SIZE=-2>$3,369.7</FONT></TD>","<TD ALIGN=RIGHT><FONT FACE=\"Times New Roman\" SIZE=-2>$0.0</FONT></TD>","<TD ALIGN=RIGHT><FONT FACE=\"Times New Roman\" SIZE=-2>$4,003.0</FONT></TD>","<TD ALIGN=RIGHT><FONT FACE=\"Times New Roman\" SIZE=-2>$12,277.1</FONT></TD>","<TD ALIGN=RIGHT><FONT FACE=\"Times New Roman\" SIZE=-2 COLOR=#FF0000>($2,150.8)</FONT></TD>","</TR>"]
["Town of Petersburg",{"$f":"'DataNews 2010'!B34","v":501638},{"$f":"'DataNews 2010'!C34","v":118643},{"$f":"'DataNews 2010'!D34","v":156149},{"$f":"'DataNews 2010'!E34","v":339},{"$f":"'DataNews 2010'!F34","v":97069},{"$f":"'DataNews 2010'!G34","v":873838},{"$f":"'DataNews 2010'!H34","v":162547},{"$f":"'DataNews 2010'!I34","v":22591},{"$f":"'DataNews 2010'!J34","v":445699},{"$f":"'DataNews 2010'!K34","v":0},{"$f":"'DataNews 2010'!L34","v":195453},{"$f":"'DataNews 2010'!M34","v":826290},{"$f":"'DataNews 2010'!N34","v":47548},null,"<TR>",{"$f":"\"<TD NOWRAP ALIGN=LEFT><FONT FACE=\"\"Times New Roman\"\" SIZE=-2>\"&A34&\"</TD>\"","v":"<TD NOWRAP ALIGN=LEFT><FONT FACE=\"Times New Roman\" SIZE=-2>Town of Petersburg</TD>"},{"$f":"\"<TD ALIGN=RIGHT><FONT FACE=\"\"Times New Roman\"\" SIZE=-2\"&IF(B34<0,\" COLOR=#FF0000\",\"\")&\">\"&TEXT(B34/1000,\"$#,##0.0;($#,##0.0)\")&\"</FONT></TD>\"","v":"<TD ALIGN=RIGHT><FONT FACE=\"Times New Roman\" SIZE=-2>$501.6</FONT></TD>"},"<TD ALIGN=RIGHT><FONT FACE=\"Times New Roman\" SIZE=-2>$118.6</FONT></TD>","<TD ALIGN=RIGHT><FONT FACE=\"Times New Roman\" SIZE=-2>$156.1</FONT></TD>","<TD ALIGN=RIGHT><FONT FACE=\"Times New Roman\" SIZE=-2>$0.3</FONT></TD>","<TD ALIGN=RIGHT><FONT FACE=\"Times New Roman\" SIZE=-2>$97.1</FONT></TD>","<TD ALIGN=RIGHT><FONT FACE=\"Times New Roman\" SIZE=-2>$873.8</FONT></TD>","<TD ALIGN=RIGHT><FONT FACE=\"Times New Roman\" SIZE=-2>$162.5</FONT></TD>","<TD ALIGN=RIGHT><FONT FACE=\"Times New Roman\" SIZE=-2>$22.6</FONT></TD>","<TD ALIGN=RIGHT><FONT FACE=\"Times New Roman\" SIZE=-2>$445.7</FONT></TD>","<TD ALIGN=RIGHT><FONT FACE=\"Times New Roman\" SIZE=-2>$0.0</FONT></TD>","<TD ALIGN=RIGHT><FONT FACE=\"Times New Roman\" SIZE=-2>$195.5</FONT></TD>","<TD ALIGN=RIGHT><FONT FACE=\"Times New Roman\" SIZE=-2>$826.3</FONT></TD>","<TD ALIGN=RIGHT><FONT FACE=\"Times New Roman\" SIZE=-2>$47.5</FONT></TD>","</TR>"]
["Town of Pittstown",{"$f":"'DataNews 2010'!B35","v":2036315},{"$f":"'DataNews 2010'!C35","v":227412},{"$f":"'DataNews 2010'!D35","v":102571},{"$f":"'DataNews 2010'!E35","v":0},{"$f":"'DataNews 2010'!F35","v":115370},{"$f":"'DataNews 2010'!G35","v":2481668},{"$f":"'DataNews 2010'!H35","v":258078},{"$f":"'DataNews 2010'!I35","v":96507},{"$f":"'DataNews 2010'!J35","v":1815254},{"$f":"'DataNews 2010'!K35","v":507},{"$f":"'DataNews 2010'!L35","v":316117},{"$f":"'DataNews 2010'!M35","v":2486463},{"$f":"'DataNews 2010'!N35","v":-4795},null,"<TR>","<TD NOWRAP ALIGN=LEFT><FONT FACE=\"Times New Roman\" SIZE=-2>Town of Pittstown</TD>","<TD ALIGN=RIGHT><FONT FACE=\"Times New Roman\" SIZE=-2>$2,036.3</FONT></TD>","<TD ALIGN=RIGHT><FONT FACE=\"Times New Roman\" SIZE=-2>$227.4</FONT></TD>","<TD ALIGN=RIGHT><FONT FACE=\"Times New Roman\" SIZE=-2>$102.6</FONT></TD>","<TD ALIGN=RIGHT><FONT FACE=\"Times New Roman\" SIZE=-2>$0.0</FONT></TD>","<TD ALIGN=RIGHT><FONT FACE=\"Times New Roman\" SIZE=-2>$115.4</FONT></TD>","<TD ALIGN=RIGHT><FONT FACE=\"Times New Roman\" SIZE=-2>$2,481.7</FONT></TD>","<TD ALIGN=RIGHT><FONT FACE=\"Times New Roman\" SIZE=-2>$258.1</FONT></TD>","<TD ALIGN=RIGHT><FONT FACE=\"Times New Roman\" SIZE=-2>$96.5</FONT></TD>","<TD ALIGN=RIGHT><FONT FACE=\"Times New Roman\" SIZE=-2>$1,815.3</FONT></TD>","<TD ALIGN=RIGHT><FONT FACE=\"Times New Roman\" SIZE=-2>$0.5</FONT></TD>","<TD ALIGN=RIGHT><FONT FACE=\"Times New Roman\" SIZE=-2>$316.1</FONT></TD>","<TD ALIGN=RIGHT><FONT FACE=\"Times New Roman\" SIZE=-2>$2,486.5</FONT></TD>","<TD ALIGN=RIGHT><FONT FACE=\"Times New Roman\" SIZE=-2 COLOR=#FF0000>($4.8)</FONT></TD>","</TR>"]
["Town of Poestenkill",{"$f":"'DataNews 2010'!B36","v":1120312},{"$f":"'DataNews 2010'!C36","v":320892},{"$f":"'DataNews 2010'!D36","v":494313},{"$f":"'DataNews 2010'!E36","v":430080},{"$f":"'DataNews 2010'!F36","v":88191},{"$f":"'DataNews 2010'!G36","v":2453788},{"$f":"'DataNews 2010'!H36","v":303513},{"$f":"'DataNews 2010'!I36","v":266175},{"$f":"'DataNews 2010'!J36","v":10330876},{"$f":"'DataNews 2010'!K36","v":0},{"$f":"'DataNews 2010'!L36","v":430376},{"$f":"'DataNews 2010'!M36","v":11330940},{"$f":"'DataNews 2010'!N36","v":-8877152},null,"<TR>","<TD NOWRAP ALIGN=LEFT><FONT FACE=\"Times New Roman\" SIZE=-2>Town of Poestenkill</TD>",{"$f":"\"<TD ALIGN=RIGHT><FONT FACE=\"\"Times New Roman\"\" SIZE=-2\"&IF(B36<0,\" COLOR=#FF0000\",\"\")&\">\"&TEXT(B36/1000,\"$#,##0.0;($#,##0.0)\")&\"</FONT></TD>\"","v":"<TD ALIGN=RIGHT><FONT FACE=\"Times New Roman\" SIZE=-2>$1,120.3</FONT></TD>"},{"$f":"\"<TD ALIGN=RIGHT><FONT FACE=\"\"Times New Roman\"\" SIZE=-2\"&IF(C36<0,\" COLOR=#FF0000\",\"\")&\">\"&TEXT(C36/1000,\"$#,##0.0;($#,##0.0)\")&\"</FONT></TD>\"","v":"<TD ALIGN=RIGHT><FONT FACE=\"Times New Roman\" SIZE=-2>$320.9</FONT></TD>"},{"$f":"\"<TD ALIGN=RIGHT><FONT FACE=\"\"Times New Roman\"\" SIZE=-2\"&IF(D36<0,\" COLOR=#FF0000\",\"\")&\">\"&TEXT(D36/1000,\"$#,##0.0;($#,##0.0)\")&\"</FONT></TD>\"","v":"<TD ALIGN=RIGHT><FONT FACE=\"Times New Roman\" SIZE=-2>$494.3</FONT></TD>"},{"$f":"\"<TD ALIGN=RIGHT><FONT FACE=\"\"Times New Roman\"\" SIZE=-2\"&IF(E36<0,\" COLOR=#FF0000\",\"\")&\">\"&TEXT(E36/1000,\"$#,##0.0;($#,##0.0)\")&\"</FONT></TD>\"","v":"<TD ALIGN=RIGHT><FONT FACE=\"Times New Roman\" SIZE=-2>$430.1</FONT></TD>"},{"$f":"\"<TD ALIGN=RIGHT><FONT FACE=\"\"Times New Roman\"\" SIZE=-2\"&IF(F36<0,\" COLOR=#FF0000\",\"\")&\">\"&TEXT(F36/1000,\"$#,##0.0;($#,##0.0)\")&\"</FONT></TD>\"","v":"<TD ALIGN=RIGHT><FONT FACE=\"Times New Roman\" SIZE=-2>$88.2</FONT></TD>"},{"$f":"\"<TD ALIGN=RIGHT><FONT FACE=\"\"Times New Roman\"\" SIZE=-2\"&IF(G36<0,\" COLOR=#FF0000\",\"\")&\">\"&TEXT(G36/1000,\"$#,##0.0;($#,##0.0)\")&\"</FONT></TD>\"","v":"<TD ALIGN=RIGHT><FONT FACE=\"Times New Roman\" SIZE=-2>$2,453.8</FONT></TD>"},{"$f":"\"<TD ALIGN=RIGHT><FONT FACE=\"\"Times New Roman\"\" SIZE=-2\"&IF(H36<0,\" COLOR=#FF0000\",\"\")&\">\"&TEXT(H36/1000,\"$#,##0.0;($#,##0.0)\")&\"</FONT></TD>\"","v":"<TD ALIGN=RIGHT><FONT FACE=\"Times New Roman\" SIZE=-2>$303.5</FONT></TD>"},{"$f":"\"<TD ALIGN=RIGHT><FONT FACE=\"\"Times New Roman\"\" SIZE=-2\"&IF(I36<0,\" COLOR=#FF0000\",\"\")&\">\"&TEXT(I36/1000,\"$#,##0.0;($#,##0.0)\")&\"</FONT></TD>\"","v":"<TD ALIGN=RIGHT><FONT FACE=\"Times New Roman\" SIZE=-2>$266.2</FONT></TD>"},{"$f":"\"<TD ALIGN=RIGHT><FONT FACE=\"\"Times New Roman\"\" SIZE=-2\"&IF(J36<0,\" COLOR=#FF0000\",\"\")&\">\"&TEXT(J36/1000,\"$#,##0.0;($#,##0.0)\")&\"</FONT></TD>\"","v":"<TD ALIGN=RIGHT><FONT FACE=\"Times New Roman\" SIZE=-2>$10,330.9</FONT></TD>"},{"$f":"\"<TD ALIGN=RIGHT><FONT FACE=\"\"Times New Roman\"\" SIZE=-2\"&IF(K36<0,\" COLOR=#FF0000\",\"\")&\">\"&TEXT(K36/1000,\"$#,##0.0;($#,##0.0)\")&\"</FONT></TD>\"","v":"<TD ALIGN=RIGHT><FONT FACE=\"Times New Roman\" SIZE=-2>$0.0</FONT></TD>"},{"$f":"\"<TD ALIGN=RIGHT><FONT FACE=\"\"Times New Roman\"\" SIZE=-2\"&IF(L36<0,\" COLOR=#FF0000\",\"\")&\">\"&TEXT(L36/1000,\"$#,##0.0;($#,##0.0)\")&\"</FONT></TD>\"","v":"<TD ALIGN=RIGHT><FONT FACE=\"Times New Roman\" SIZE=-2>$430.4</FONT></TD>"},{"$f":"\"<TD ALIGN=RIGHT><FONT FACE=\"\"Times New Roman\"\" SIZE=-2\"&IF(M36<0,\" COLOR=#FF0000\",\"\")&\">\"&TEXT(M36/1000,\"$#,##0.0;($#,##0.0)\")&\"</FONT></TD>\"","v":"<TD ALIGN=RIGHT><FONT FACE=\"Times New Roman\" SIZE=-2>$11,330.9</FONT></TD>"},{"$f":"\"<TD ALIGN=RIGHT><FONT FACE=\"\"Times New Roman\"\" SIZE=-2\"&IF(N36<0,\" COLOR=#FF0000\",\"\")&\">\"&TEXT(N36/1000,\"$#,##0.0;($#,##0.0)\")&\"</FONT></TD>\"","v":"<TD ALIGN=RIGHT><FONT FACE=\"Times New Roman\" SIZE=-2 COLOR=#FF0000>($8,877.2)</FONT></TD>"},"</TR>"]
["City of Rensselaer",{"$f":"'DataNews 2010'!B37","v":6981371},{"$f":"'DataNews 2010'!C37","v":1912977},{"$f":"'DataNews 2010'!D37","v":3125029},{"$f":"'DataNews 2010'!E37","v":926667},{"$f":"'DataNews 2010'!F37","v":7275901},{"$f":"'DataNews 2010'!G37","v":20221945},{"$f":"'DataNews 2010'!H37","v":2196120},{"$f":"'DataNews 2010'!I37","v":3542766},{"$f":"'DataNews 2010'!J37","v":5937910},{"$f":"'DataNews 2010'!K37","v":1511738},{"$f":"'DataNews 2010'!L37","v":3930230},{"$f":"'DataNews 2010'!M37","v":17118764},{"$f":"'DataNews 2010'!N37","v":3103181},null,"<TR>","<TD NOWRAP ALIGN=LEFT><FONT FACE=\"Times New Roman\" SIZE=-2>City of Rensselaer</TD>","<TD ALIGN=RIGHT><FONT FACE=\"Times New Roman\" SIZE=-2>$6,981.4</FONT></TD>","<TD ALIGN=RIGHT><FONT FACE=\"Times New Roman\" SIZE=-2>$1,913.0</FONT></TD>","<TD ALIGN=RIGHT><FONT FACE=\"Times New Roman\" SIZE=-2>$3,125.0</FONT></TD>","<TD ALIGN=RIGHT><FONT FACE=\"Times New Roman\" SIZE=-2>$926.7</FONT></TD>","<TD ALIGN=RIGHT><FONT FACE=\"Times New Roman\" SIZE=-2>$7,275.9</FONT></TD>","<TD ALIGN=RIGHT><FONT FACE=\"Times New Roman\" SIZE=-2>$20,221.9</FONT></TD>","<TD ALIGN=RIGHT><FONT FACE=\"Times New Roman\" SIZE=-2>$2,196.1</FONT></TD>","<TD ALIGN=RIGHT><FONT FACE=\"Times New Roman\" SIZE=-2>$3,542.8</FONT></TD>","<TD ALIGN=RIGHT><FONT FACE=\"Times New Roman\" SIZE=-2>$5,937.9</FONT></TD>","<TD ALIGN=RIGHT><FONT FACE=\"Times New Roman\" SIZE=-2>$1,511.7</FONT></TD>","<TD ALIGN=RIGHT><FONT FACE=\"Times New Roman\" SIZE=-2>$3,930.2</FONT></TD>","<TD ALIGN=RIGHT><FONT FACE=\"Times New Roman\" SIZE=-2>$17,118.8</FONT></TD>","<TD ALIGN=RIGHT><FONT FACE=\"Times New Roman\" SIZE=-2>$3,103.2</FONT></TD>","</TR>"]
["Town of Sand Lake",{"$f":"'DataNews 2010'!B38","v":1637994},{"$f":"'DataNews 2010'!C38","v":762972},{"$f":"'DataNews 2010'!D38","v":420271},{"$f":"'DataNews 2010'!E38","v":176383},{"$f":"'DataNews 2010'!F38","v":2640251},{"$f":"'DataNews 2010'!G38","v":5637871},{"$f":"'DataNews 2010'!H38","v":991779},{"$f":"'DataNews 2010'!I38","v":387673},{"$f":"'DataNews 2010'!J38","v":2386936},{"$f":"'DataNews 2010'!K38","v":0},{"$f":"'DataNews 2010'!L38","v":1260233},{"$f":"'DataNews 2010'!M38","v":5026621},{"$f":"'DataNews 2010'!N38","v":611250},null,"<TR>","<TD NOWRAP ALIGN=LEFT><FONT FACE=\"Times New Roman\" SIZE=-2>Town of Sand Lake</TD>","<TD ALIGN=RIGHT><FONT FACE=\"Times New Roman\" SIZE=-2>$1,638.0</FONT></TD>","<TD ALIGN=RIGHT><FONT FACE=\"Times New Roman\" SIZE=-2>$763.0</FONT></TD>","<TD ALIGN=RIGHT><FONT FACE=\"Times New Roman\" SIZE=-2>$420.3</FONT></TD>","<TD ALIGN=RIGHT><FONT FACE=\"Times New Roman\" SIZE=-2>$176.4</FONT></TD>","<TD ALIGN=RIGHT><FONT FACE=\"Times New Roman\" SIZE=-2>$2,640.3</FONT></TD>","<TD ALIGN=RIGHT><FONT FACE=\"Times New Roman\" SIZE=-2>$5,637.9</FONT></TD>","<TD ALIGN=RIGHT><FONT FACE=\"Times New Roman\" SIZE=-2>$991.8</FONT></TD>","<TD ALIGN=RIGHT><FONT FACE=\"Times New Roman\" SIZE=-2>$387.7</FONT></TD>","<TD ALIGN=RIGHT><FONT FACE=\"Times New Roman\" SIZE=-2>$2,386.9</FONT></TD>","<TD ALIGN=RIGHT><FONT FACE=\"Times New Roman\" SIZE=-2>$0.0</FONT></TD>","<TD ALIGN=RIGHT><FONT FACE=\"Times New Roman\" SIZE=-2>$1,260.2</FONT></TD>","<TD ALIGN=RIGHT><FONT FACE=\"Times New Roman\" SIZE=-2>$5,026.6</FONT></TD>","<TD ALIGN=RIGHT><FONT FACE=\"Times New Roman\" SIZE=-2>$611.3</FONT></TD>","</TR>"]
["Town of Schaghticoke",{"$f":"'DataNews 2010'!B39","v":2041754},{"$f":"'DataNews 2010'!C39","v":573781},{"$f":"'DataNews 2010'!D39","v":371100},{"$f":"'DataNews 2010'!E39","v":66556},{"$f":"'DataNews 2010'!F39","v":625284},{"$f":"'DataNews 2010'!G39","v":3678475},{"$f":"'DataNews 2010'!H39","v":466105},{"$f":"'DataNews 2010'!I39","v":247664},{"$f":"'DataNews 2010'!J39","v":2325616},{"$f":"'DataNews 2010'!K39","v":0},{"$f":"'DataNews 2010'!L39","v":949550},{"$f":"'DataNews 2010'!M39","v":3988935},{"$f":"'DataNews 2010'!N39","v":-310460},null,"<TR>","<TD NOWRAP ALIGN=LEFT><FONT FACE=\"Times New Roman\" SIZE=-2>Town of Schaghticoke</TD>","<TD ALIGN=RIGHT><FONT FACE=\"Times New Roman\" SIZE=-2>$2,041.8</FONT></TD>","<TD ALIGN=RIGHT><FONT FACE=\"Times New Roman\" SIZE=-2>$573.8</FONT></TD>","<TD ALIGN=RIGHT><FONT FACE=\"Times New Roman\" SIZE=-2>$371.1</FONT></TD>","<TD ALIGN=RIGHT><FONT FACE=\"Times New Roman\" SIZE=-2>$66.6</FONT></TD>","<TD ALIGN=RIGHT><FONT FACE=\"Times New Roman\" SIZE=-2>$625.3</FONT></TD>","<TD ALIGN=RIGHT><FONT FACE=\"Times New Roman\" SIZE=-2>$3,678.5</FONT></TD>","<TD ALIGN=RIGHT><FONT FACE=\"Times New Roman\" SIZE=-2>$466.1</FONT></TD>","<TD ALIGN=RIGHT><FONT FACE=\"Times New Roman\" SIZE=-2>$247.7</FONT></TD>","<TD ALIGN=RIGHT><FONT FACE=\"Times New Roman\" SIZE=-2>$2,325.6</FONT></TD>","<TD ALIGN=RIGHT><FONT FACE=\"Times New Roman\" SIZE=-2>$0.0</FONT></TD>","<TD ALIGN=RIGHT><FONT FACE=\"Times New Roman\" SIZE=-2>$949.6</FONT></TD>","<TD ALIGN=RIGHT><FONT FACE=\"Times New Roman\" SIZE=-2>$3,988.9</FONT></TD>","<TD ALIGN=RIGHT><FONT FACE=\"Times New Roman\" SIZE=-2 COLOR=#FF0000>($310.5)</FONT></TD>","</TR>"]
["Village of Schaghticoke",{"$f":"'DataNews 2010'!B40","v":146842},{"$f":"'DataNews 2010'!C40","v":55787},{"$f":"'DataNews 2010'!D40","v":59184},{"$f":"'DataNews 2010'!E40","v":312265},{"$f":"'DataNews 2010'!F40","v":184705},{"$f":"'DataNews 2010'!G40","v":758783},{"$f":"'DataNews 2010'!H40","v":120041},{"$f":"'DataNews 2010'!I40","v":386231},{"$f":"'DataNews 2010'!J40","v":223971},{"$f":"'DataNews 2010'!K40","v":276},{"$f":"'DataNews 2010'!L40","v":66260},{"$f":"'DataNews 2010'!M40","v":796779},{"$f":"'DataNews 2010'!N40","v":-37996},null,"<TR>","<TD NOWRAP ALIGN=LEFT><FONT FACE=\"Times New Roman\" SIZE=-2>Village of Schaghticoke</TD>","<TD ALIGN=RIGHT><FONT FACE=\"Times New Roman\" SIZE=-2>$146.8</FONT></TD>","<TD ALIGN=RIGHT><FONT FACE=\"Times New Roman\" SIZE=-2>$55.8</FONT></TD>","<TD ALIGN=RIGHT><FONT FACE=\"Times New Roman\" SIZE=-2>$59.2</FONT></TD>","<TD ALIGN=RIGHT><FONT FACE=\"Times New Roman\" SIZE=-2>$312.3</FONT></TD>","<TD ALIGN=RIGHT><FONT FACE=\"Times New Roman\" SIZE=-2>$184.7</FONT></TD>","<TD ALIGN=RIGHT><FONT FACE=\"Times New Roman\" SIZE=-2>$758.8</FONT></TD>","<TD ALIGN=RIGHT><FONT FACE=\"Times New Roman\" SIZE=-2>$120.0</FONT></TD>","<TD ALIGN=RIGHT><FONT FACE=\"Times New Roman\" SIZE=-2>$386.2</FONT></TD>","<TD ALIGN=RIGHT><FONT FACE=\"Times New Roman\" SIZE=-2>$224.0</FONT></TD>","<TD ALIGN=RIGHT><FONT FACE=\"Times New Roman\" SIZE=-2>$0.3</FONT></TD>","<TD ALIGN=RIGHT><FONT FACE=\"Times New Roman\" SIZE=-2>$66.3</FONT></TD>","<TD ALIGN=RIGHT><FONT FACE=\"Times New Roman\" SIZE=-2>$796.8</FONT></TD>","<TD ALIGN=RIGHT><FONT FACE=\"Times New Roman\" SIZE=-2 COLOR=#FF0000>($38.0)</FONT></TD>","</TR>"]
["Town of Schodack",{"$f":"'DataNews 2010'!B41","v":5769769},{"$f":"'DataNews 2010'!C41","v":1026675},{"$f":"'DataNews 2010'!D41","v":577393},{"$f":"'DataNews 2010'!E41","v":249773},{"$f":"'DataNews 2010'!F41","v":7220979},{"$f":"'DataNews 2010'!G41","v":14844589},{"$f":"'DataNews 2010'!H41","v":1527507},{"$f":"'DataNews 2010'!I41","v":1609622},{"$f":"'DataNews 2010'!J41","v":3313816},{"$f":"'DataNews 2010'!K41","v":4000},{"$f":"'DataNews 2010'!L41","v":6863722},{"$f":"'DataNews 2010'!M41","v":13318667},{"$f":"'DataNews 2010'!N41","v":1525922},null,"<TR>","<TD NOWRAP ALIGN=LEFT><FONT FACE=\"Times New Roman\" SIZE=-2>Town of Schodack</TD>","<TD ALIGN=RIGHT><FONT FACE=\"Times New Roman\" SIZE=-2>$5,769.8</FONT></TD>","<TD ALIGN=RIGHT><FONT FACE=\"Times New Roman\" SIZE=-2>$1,026.7</FONT></TD>","<TD ALIGN=RIGHT><FONT FACE=\"Times New Roman\" SIZE=-2>$577.4</FONT></TD>","<TD ALIGN=RIGHT><FONT FACE=\"Times New Roman\" SIZE=-2>$249.8</FONT></TD>","<TD ALIGN=RIGHT><FONT FACE=\"Times New Roman\" SIZE=-2>$7,221.0</FONT></TD>","<TD ALIGN=RIGHT><FONT FACE=\"Times New Roman\" SIZE=-2>$14,844.6</FONT></TD>","<TD ALIGN=RIGHT><FONT FACE=\"Times New Roman\" SIZE=-2>$1,527.5</FONT></TD>","<TD ALIGN=RIGHT><FONT FACE=\"Times New Roman\" SIZE=-2>$1,609.6</FONT></TD>","<TD ALIGN=RIGHT><FONT FACE=\"Times New Roman\" SIZE=-2>$3,313.8</FONT></TD>","<TD ALIGN=RIGHT><FONT FACE=\"Times New Roman\" SIZE=-2>$4.0</FONT></TD>","<TD ALIGN=RIGHT><FONT FACE=\"Times New Roman\" SIZE=-2>$6,863.7</FONT></TD>","<TD ALIGN=RIGHT><FONT FACE=\"Times New Roman\" SIZE=-2>$13,318.7</FONT></TD>","<TD ALIGN=RIGHT><FONT FACE=\"Times New Roman\" SIZE=-2>$1,525.9</FONT></TD>","</TR>"]
["Village of Castleton-on-Hudson",{"$f":"'DataNews 2010'!B42","v":428130},{"$f":"'DataNews 2010'!C42","v":149389},{"$f":"'DataNews 2010'!D42","v":550774},{"$f":"'DataNews 2010'!E42","v":36741},{"$f":"'DataNews 2010'!F42","v":1105768},{"$f":"'DataNews 2010'!G42","v":2270802},{"$f":"'DataNews 2010'!H42","v":151234},{"$f":"'DataNews 2010'!I42","v":84015},{"$f":"'DataNews 2010'!J42","v":1780256},{"$f":"'DataNews 2010'!K42","v":11029},{"$f":"'DataNews 2010'!L42","v":607900},{"$f":"'DataNews 2010'!M42","v":2634434},{"$f":"'DataNews 2010'!N42","v":-363632},null,"<TR>","<TD NOWRAP ALIGN=LEFT><FONT FACE=\"Times New Roman\" SIZE=-2>Village of Castleton-on-Hudson</TD>","<TD ALIGN=RIGHT><FONT FACE=\"Times New Roman\" SIZE=-2>$428.1</FONT></TD>","<TD ALIGN=RIGHT><FONT FACE=\"Times New Roman\" SIZE=-2>$149.4</FONT></TD>","<TD ALIGN=RIGHT><FONT FACE=\"Times New Roman\" SIZE=-2>$550.8</FONT></TD>","<TD ALIGN=RIGHT><FONT FACE=\"Times New Roman\" SIZE=-2>$36.7</FONT></TD>","<TD ALIGN=RIGHT><FONT FACE=\"Times New Roman\" SIZE=-2>$1,105.8</FONT></TD>","<TD ALIGN=RIGHT><FONT FACE=\"Times New Roman\" SIZE=-2>$2,270.8</FONT></TD>","<TD ALIGN=RIGHT><FONT FACE=\"Times New Roman\" SIZE=-2>$151.2</FONT></TD>","<TD ALIGN=RIGHT><FONT FACE=\"Times New Roman\" SIZE=-2>$84.0</FONT></TD>","<TD ALIGN=RIGHT><FONT FACE=\"Times New Roman\" SIZE=-2>$1,780.3</FONT></TD>","<TD ALIGN=RIGHT><FONT FACE=\"Times New Roman\" SIZE=-2>$11.0</FONT></TD>","<TD ALIGN=RIGHT><FONT FACE=\"Times New Roman\" SIZE=-2>$607.9</FONT></TD>","<TD ALIGN=RIGHT><FONT FACE=\"Times New Roman\" SIZE=-2>$2,634.4</FONT></TD>","<TD ALIGN=RIGHT><FONT FACE=\"Times New Roman\" SIZE=-2 COLOR=#FF0000>($363.6)</FONT></TD>","</TR>"]
["Town of Stephentown",{"$f":"'DataNews 2010'!B43","v":"N/A"},{"$f":"'DataNews 2010'!C43","v":"N/A"},{"$f":"'DataNews 2010'!D43","v":"N/A"},{"$f":"'DataNews 2010'!E43","v":"N/A"},{"$f":"'DataNews 2010'!F43","v":"N/A"},{"$f":"'DataNews 2010'!G43","v":"N/A"},{"$f":"'DataNews 2010'!H43","v":"N/A"},{"$f":"'DataNews 2010'!I43","v":"N/A"},{"$f":"'DataNews 2010'!J43","v":"N/A"},{"$f":"'DataNews 2010'!K43","v":"N/A"},{"$f":"'DataNews 2010'!L43","v":"N/A"},{"$f":"'DataNews 2010'!M43","v":"N/A"},{"$f":"'DataNews 2010'!N43","v":"N/A"},null,"<TR>","<TD NOWRAP ALIGN=LEFT><FONT FACE=\"Times New Roman\" SIZE=-2>Town of Stephentown</TD>","<TD ALIGN=center><FONT FACE=\"Times New Roman\" SIZE=-2>N/A</FONT></TD>","<TD ALIGN=center><FONT FACE=\"Times New Roman\" SIZE=-2>N/A</FONT></TD>","<TD ALIGN=center><FONT FACE=\"Times New Roman\" SIZE=-2>N/A</FONT></TD>","<TD ALIGN=center><FONT FACE=\"Times New Roman\" SIZE=-2>N/A</FONT></TD>","<TD ALIGN=center><FONT FACE=\"Times New Roman\" SIZE=-2>N/A</FONT></TD>","<TD ALIGN=center><FONT FACE=\"Times New Roman\" SIZE=-2>N/A</FONT></TD>","<TD ALIGN=center><FONT FACE=\"Times New Roman\" SIZE=-2>N/A</FONT></TD>","<TD ALIGN=center><FONT FACE=\"Times New Roman\" SIZE=-2>N/A</FONT></TD>","<TD ALIGN=center><FONT FACE=\"Times New Roman\" SIZE=-2>N/A</FONT></TD>","<TD ALIGN=center><FONT FACE=\"Times New Roman\" SIZE=-2>N/A</FONT></TD>","<TD ALIGN=center><FONT FACE=\"Times New Roman\" SIZE=-2>N/A</FONT></TD>","<TD ALIGN=center><FONT FACE=\"Times New Roman\" SIZE=-2>N/A</FONT></TD>","<TD ALIGN=center><FONT FACE=\"Times New Roman\" SIZE=-2>N/A</FONT></TD>","</TR>"]
["City of Troy",{"$f":"'DataNews 2010'!B44","v":20221527},{"$f":"'DataNews 2010'!C44","v":14069098},{"$f":"'DataNews 2010'!D44","v":16750224},{"$f":"'DataNews 2010'!E44","v":9719503},{"$f":"'DataNews 2010'!F44","v":32621534},{"$f":"'DataNews 2010'!G44","v":93381886},{"$f":"'DataNews 2010'!H44","v":8623752},{"$f":"'DataNews 2010'!I44","v":22579317},{"$f":"'DataNews 2010'!J44","v":21257668},{"$f":"'DataNews 2010'!K44","v":3317796},{"$f":"'DataNews 2010'!L44","v":34462689},{"$f":"'DataNews 2010'!M44","v":90241222},{"$f":"'DataNews 2010'!N44","v":3140664},null,"<TR>","<TD NOWRAP ALIGN=LEFT><FONT FACE=\"Times New Roman\" SIZE=-2>City of Troy</TD>","<TD ALIGN=RIGHT><FONT FACE=\"Times New Roman\" SIZE=-2>$20,221.5</FONT></TD>","<TD ALIGN=RIGHT><FONT FACE=\"Times New Roman\" SIZE=-2>$14,069.1</FONT></TD>","<TD ALIGN=RIGHT><FONT FACE=\"Times New Roman\" SIZE=-2>$16,750.2</FONT></TD>","<TD ALIGN=RIGHT><FONT FACE=\"Times New Roman\" SIZE=-2>$9,719.5</FONT></TD>","<TD ALIGN=RIGHT><FONT FACE=\"Times New Roman\" SIZE=-2>$32,621.5</FONT></TD>","<TD ALIGN=RIGHT><FONT FACE=\"Times New Roman\" SIZE=-2>$93,381.9</FONT></TD>","<TD ALIGN=RIGHT><FONT FACE=\"Times New Roman\" SIZE=-2>$8,623.8</FONT></TD>","<TD ALIGN=RIGHT><FONT FACE=\"Times New Roman\" SIZE=-2>$22,579.3</FONT></TD>","<TD ALIGN=RIGHT><FONT FACE=\"Times New Roman\" SIZE=-2>$21,257.7</FONT></TD>","<TD ALIGN=RIGHT><FONT FACE=\"Times New Roman\" SIZE=-2>$3,317.8</FONT></TD>","<TD ALIGN=RIGHT><FONT FACE=\"Times New Roman\" SIZE=-2>$34,462.7</FONT></TD>","<TD ALIGN=RIGHT><FONT FACE=\"Times New Roman\" SIZE=-2>$90,241.2</FONT></TD>","<TD ALIGN=RIGHT><FONT FACE=\"Times New Roman\" SIZE=-2>$3,140.7</FONT></TD>","</TR>"]
["Saratoga County",{"$f":"'DataNews 2010'!B48","v":49591569},{"$f":"'DataNews 2010'!C48","v":96552344},{"$f":"'DataNews 2010'!D48","v":22285279},{"$f":"'DataNews 2010'!E48","v":28159389},{"$f":"'DataNews 2010'!F48","v":111925104},{"$f":"'DataNews 2010'!G48","v":308513685},{"$f":"'DataNews 2010'!H48","v":95283313},{"$f":"'DataNews 2010'!I48","v":52823106},{"$f":"'DataNews 2010'!J48","v":23350644},{"$f":"'DataNews 2010'!K48","v":783671},{"$f":"'DataNews 2010'!L48","v":138023813},{"$f":"'DataNews 2010'!M48","v":310264547},{"$f":"'DataNews 2010'!N48","v":-1750862},null,"<TR>",{"$f":"\"<TD NOWRAP ALIGN=LEFT><FONT FACE=\"\"Times New Roman\"\" SIZE=-2><B>\"&A45&\"</B></TD>\"","v":"<TD NOWRAP ALIGN=LEFT><FONT FACE=\"Times New Roman\" SIZE=-2><B>Saratoga County</B></TD>"},"<TD ALIGN=RIGHT><FONT FACE=\"Times New Roman\" SIZE=-2>$49,591.6</FONT></TD>","<TD ALIGN=RIGHT><FONT FACE=\"Times New Roman\" SIZE=-2>$96,552.3</FONT></TD>","<TD ALIGN=RIGHT><FONT FACE=\"Times New Roman\" SIZE=-2>$22,285.3</FONT></TD>","<TD ALIGN=RIGHT><FONT FACE=\"Times New Roman\" SIZE=-2>$28,159.4</FONT></TD>","<TD ALIGN=RIGHT><FONT FACE=\"Times New Roman\" SIZE=-2>$111,925.1</FONT></TD>","<TD ALIGN=RIGHT><FONT FACE=\"Times New Roman\" SIZE=-2>$308,513.7</FONT></TD>","<TD ALIGN=RIGHT><FONT FACE=\"Times New Roman\" SIZE=-2>$95,283.3</FONT></TD>","<TD ALIGN=RIGHT><FONT FACE=\"Times New Roman\" SIZE=-2>$52,823.1</FONT></TD>","<TD ALIGN=RIGHT><FONT FACE=\"Times New Roman\" SIZE=-2>$23,350.6</FONT></TD>","<TD ALIGN=RIGHT><FONT FACE=\"Times New Roman\" SIZE=-2>$783.7</FONT></TD>","<TD ALIGN=RIGHT><FONT FACE=\"Times New Roman\" SIZE=-2>$138,023.8</FONT></TD>","<TD ALIGN=RIGHT><FONT FACE=\"Times New Roman\" SIZE=-2>$310,264.5</FONT></TD>","<TD ALIGN=RIGHT><FONT FACE=\"Times New Roman\" SIZE=-2 COLOR=#FF0000>($1,750.9)</FONT></TD>","</TR>"]
["Village of Ballston Spa",{"$f":"'DataNews 2010'!B49","v":1206007},{"$f":"'DataNews 2010'!C49","v":880430},{"$f":"'DataNews 2010'!D49","v":343619},{"$f":"'DataNews 2010'!E49","v":1040020},{"$f":"'DataNews 2010'!F49","v":1504432},{"$f":"'DataNews 2010'!G49","v":4974508},{"$f":"'DataNews 2010'!H49","v":568371},{"$f":"'DataNews 2010'!I49","v":780427},{"$f":"'DataNews 2010'!J49","v":1111285},{"$f":"'DataNews 2010'!K49","v":3400},{"$f":"'DataNews 2010'!L49","v":2312076},{"$f":"'DataNews 2010'!M49","v":4775559},{"$f":"'DataNews 2010'!N49","v":198949},null,"<TR>",{"$f":"\"<TD NOWRAP ALIGN=LEFT><FONT FACE=\"\"Times New Roman\"\" SIZE=-2>\"&A46&\"</TD>\"","v":"<TD NOWRAP ALIGN=LEFT><FONT FACE=\"Times New Roman\" SIZE=-2>Village of Ballston Spa</TD>"},"<TD ALIGN=RIGHT><FONT FACE=\"Times New Roman\" SIZE=-2>$1,206.0</FONT></TD>","<TD ALIGN=RIGHT><FONT FACE=\"Times New Roman\" SIZE=-2>$880.4</FONT></TD>","<TD ALIGN=RIGHT><FONT FACE=\"Times New Roman\" SIZE=-2>$343.6</FONT></TD>","<TD ALIGN=RIGHT><FONT FACE=\"Times New Roman\" SIZE=-2>$1,040.0</FONT></TD>","<TD ALIGN=RIGHT><FONT FACE=\"Times New Roman\" SIZE=-2>$1,504.4</FONT></TD>","<TD ALIGN=RIGHT><FONT FACE=\"Times New Roman\" SIZE=-2>$4,974.5</FONT></TD>","<TD ALIGN=RIGHT><FONT FACE=\"Times New Roman\" SIZE=-2>$568.4</FONT></TD>","<TD ALIGN=RIGHT><FONT FACE=\"Times New Roman\" SIZE=-2>$780.4</FONT></TD>","<TD ALIGN=RIGHT><FONT FACE=\"Times New Roman\" SIZE=-2>$1,111.3</FONT></TD>","<TD ALIGN=RIGHT><FONT FACE=\"Times New Roman\" SIZE=-2>$3.4</FONT></TD>","<TD ALIGN=RIGHT><FONT FACE=\"Times New Roman\" SIZE=-2>$2,312.1</FONT></TD>","<TD ALIGN=RIGHT><FONT FACE=\"Times New Roman\" SIZE=-2>$4,775.6</FONT></TD>","<TD ALIGN=RIGHT><FONT FACE=\"Times New Roman\" SIZE=-2>$198.9</FONT></TD>","</TR>"]
["Town of Ballston",{"$f":"'DataNews 2010'!B50","v":1183984},{"$f":"'DataNews 2010'!C50","v":2235176},{"$f":"'DataNews 2010'!D50","v":493998},{"$f":"'DataNews 2010'!E50","v":0},{"$f":"'DataNews 2010'!F50","v":1039224},{"$f":"'DataNews 2010'!G50","v":4952382},{"$f":"'DataNews 2010'!H50","v":853477},{"$f":"'DataNews 2010'!I50","v":397788},{"$f":"'DataNews 2010'!J50","v":2616587},{"$f":"'DataNews 2010'!K50","v":0},{"$f":"'DataNews 2010'!L50","v":1555236},{"$f":"'DataNews 2010'!M50","v":5423088},{"$f":"'DataNews 2010'!N50","v":-470706},null,"<TR>","<TD NOWRAP ALIGN=LEFT><FONT FACE=\"Times New Roman\" SIZE=-2>Town of Ballston</TD>","<TD ALIGN=RIGHT><FONT FACE=\"Times New Roman\" SIZE=-2>$1,184.0</FONT></TD>","<TD ALIGN=RIGHT><FONT FACE=\"Times New Roman\" SIZE=-2>$2,235.2</FONT></TD>","<TD ALIGN=RIGHT><FONT FACE=\"Times New Roman\" SIZE=-2>$494.0</FONT></TD>","<TD ALIGN=RIGHT><FONT FACE=\"Times New Roman\" SIZE=-2>$0.0</FONT></TD>","<TD ALIGN=RIGHT><FONT FACE=\"Times New Roman\" SIZE=-2>$1,039.2</FONT></TD>","<TD ALIGN=RIGHT><FONT FACE=\"Times New Roman\" SIZE=-2>$4,952.4</FONT></TD>","<TD ALIGN=RIGHT><FONT FACE=\"Times New Roman\" SIZE=-2>$853.5</FONT></TD>","<TD ALIGN=RIGHT><FONT FACE=\"Times New Roman\" SIZE=-2>$397.8</FONT></TD>","<TD ALIGN=RIGHT><FONT FACE=\"Times New Roman\" SIZE=-2>$2,616.6</FONT></TD>","<TD ALIGN=RIGHT><FONT FACE=\"Times New Roman\" SIZE=-2>$0.0</FONT></TD>","<TD ALIGN=RIGHT><FONT FACE=\"Times New Roman\" SIZE=-2>$1,555.2</FONT></TD>","<TD ALIGN=RIGHT><FONT FACE=\"Times New Roman\" SIZE=-2>$5,423.1</FONT></TD>","<TD ALIGN=RIGHT><FONT FACE=\"Times New Roman\" SIZE=-2 COLOR=#FF0000>($470.7)</FONT></TD>","</TR>"]
["Town of Charlton",{"$f":"'DataNews 2010'!B51","v":140504},{"$f":"'DataNews 2010'!C51","v":1130663},{"$f":"'DataNews 2010'!D51","v":299256},{"$f":"'DataNews 2010'!E51","v":0},{"$f":"'DataNews 2010'!F51","v":249455},{"$f":"'DataNews 2010'!G51","v":1819878},{"$f":"'DataNews 2010'!H51","v":502504},{"$f":"'DataNews 2010'!I51","v":89627},{"$f":"'DataNews 2010'!J51","v":917768},{"$f":"'DataNews 2010'!K51","v":0},{"$f":"'DataNews 2010'!L51","v":404314},{"$f":"'DataNews 2010'!M51","v":1914213},{"$f":"'DataNews 2010'!N51","v":-94335},null,"<TR>","<TD NOWRAP ALIGN=LEFT><FONT FACE=\"Times New Roman\" SIZE=-2>Town of Charlton</TD>","<TD ALIGN=RIGHT><FONT FACE=\"Times New Roman\" SIZE=-2>$140.5</FONT></TD>","<TD ALIGN=RIGHT><FONT FACE=\"Times New Roman\" SIZE=-2>$1,130.7</FONT></TD>","<TD ALIGN=RIGHT><FONT FACE=\"Times New Roman\" SIZE=-2>$299.3</FONT></TD>","<TD ALIGN=RIGHT><FONT FACE=\"Times New Roman\" SIZE=-2>$0.0</FONT></TD>","<TD ALIGN=RIGHT><FONT FACE=\"Times New Roman\" SIZE=-2>$249.5</FONT></TD>","<TD ALIGN=RIGHT><FONT FACE=\"Times New Roman\" SIZE=-2>$1,819.9</FONT></TD>","<TD ALIGN=RIGHT><FONT FACE=\"Times New Roman\" SIZE=-2>$502.5</FONT></TD>","<TD ALIGN=RIGHT><FONT FACE=\"Times New Roman\" SIZE=-2>$89.6</FONT></TD>","<TD ALIGN=RIGHT><FONT FACE=\"Times New Roman\" SIZE=-2>$917.8</FONT></TD>","<TD ALIGN=RIGHT><FONT FACE=\"Times New Roman\" SIZE=-2>$0.0</FONT></TD>","<TD ALIGN=RIGHT><FONT FACE=\"Times New Roman\" SIZE=-2>$404.3</FONT></TD>","<TD ALIGN=RIGHT><FONT FACE=\"Times New Roman\" SIZE=-2>$1,914.2</FONT></TD>","<TD ALIGN=RIGHT><FONT FACE=\"Times New Roman\" SIZE=-2 COLOR=#FF0000>($94.3)</FONT></TD>","</TR>"]
["Town of Clifton Park",{"$f":"'DataNews 2010'!B52","v":3192499},{"$f":"'DataNews 2010'!C52","v":9712419},{"$f":"'DataNews 2010'!D52","v":2259487},{"$f":"'DataNews 2010'!E52","v":412705},{"$f":"'DataNews 2010'!F52","v":9386673},{"$f":"'DataNews 2010'!G52","v":24963783},{"$f":"'DataNews 2010'!H52","v":3805643},{"$f":"'DataNews 2010'!I52","v":3944980},{"$f":"'DataNews 2010'!J52","v":6572062},{"$f":"'DataNews 2010'!K52","v":500},{"$f":"'DataNews 2010'!L52","v":12409167},{"$f":"'DataNews 2010'!M52","v":26732352},{"$f":"'DataNews 2010'!N52","v":-1768569},null,"<TR>","<TD NOWRAP ALIGN=LEFT><FONT FACE=\"Times New Roman\" SIZE=-2>Town of Clifton Park</TD>","<TD ALIGN=RIGHT><FONT FACE=\"Times New Roman\" SIZE=-2>$3,192.5</FONT></TD>","<TD ALIGN=RIGHT><FONT FACE=\"Times New Roman\" SIZE=-2>$9,712.4</FONT></TD>","<TD ALIGN=RIGHT><FONT FACE=\"Times New Roman\" SIZE=-2>$2,259.5</FONT></TD>","<TD ALIGN=RIGHT><FONT FACE=\"Times New Roman\" SIZE=-2>$412.7</FONT></TD>","<TD ALIGN=RIGHT><FONT FACE=\"Times New Roman\" SIZE=-2>$9,386.7</FONT></TD>","<TD ALIGN=RIGHT><FONT FACE=\"Times New Roman\" SIZE=-2>$24,963.8</FONT></TD>","<TD ALIGN=RIGHT><FONT FACE=\"Times New Roman\" SIZE=-2>$3,805.6</FONT></TD>","<TD ALIGN=RIGHT><FONT FACE=\"Times New Roman\" SIZE=-2>$3,945.0</FONT></TD>","<TD ALIGN=RIGHT><FONT FACE=\"Times New Roman\" SIZE=-2>$6,572.1</FONT></TD>","<TD ALIGN=RIGHT><FONT FACE=\"Times New Roman\" SIZE=-2>$0.5</FONT></TD>","<TD ALIGN=RIGHT><FONT FACE=\"Times New Roman\" SIZE=-2>$12,409.2</FONT></TD>","<TD ALIGN=RIGHT><FONT FACE=\"Times New Roman\" SIZE=-2>$26,732.4</FONT></TD>","<TD ALIGN=RIGHT><FONT FACE=\"Times New Roman\" SIZE=-2 COLOR=#FF0000>($1,768.6)</FONT></TD>","</TR>"]
["Town of Corinth",{"$f":"'DataNews 2010'!B53","v":1926574},{"$f":"'DataNews 2010'!C53","v":702444},{"$f":"'DataNews 2010'!D53","v":1439047},{"$f":"'DataNews 2010'!E53","v":0},{"$f":"'DataNews 2010'!F53","v":641478},{"$f":"'DataNews 2010'!G53","v":4709543},{"$f":"'DataNews 2010'!H53","v":557591},{"$f":"'DataNews 2010'!I53","v":862722},{"$f":"'DataNews 2010'!J53","v":2305236},{"$f":"'DataNews 2010'!K53","v":4500},{"$f":"'DataNews 2010'!L53","v":604490},{"$f":"'DataNews 2010'!M53","v":4334539},{"$f":"'DataNews 2010'!N53","v":375004},null,"<TR>","<TD NOWRAP ALIGN=LEFT><FONT FACE=\"Times New Roman\" SIZE=-2>Town of Corinth</TD>","<TD ALIGN=RIGHT><FONT FACE=\"Times New Roman\" SIZE=-2>$1,926.6</FONT></TD>","<TD ALIGN=RIGHT><FONT FACE=\"Times New Roman\" SIZE=-2>$702.4</FONT></TD>","<TD ALIGN=RIGHT><FONT FACE=\"Times New Roman\" SIZE=-2>$1,439.0</FONT></TD>","<TD ALIGN=RIGHT><FONT FACE=\"Times New Roman\" SIZE=-2>$0.0</FONT></TD>","<TD ALIGN=RIGHT><FONT FACE=\"Times New Roman\" SIZE=-2>$641.5</FONT></TD>","<TD ALIGN=RIGHT><FONT FACE=\"Times New Roman\" SIZE=-2>$4,709.5</FONT></TD>","<TD ALIGN=RIGHT><FONT FACE=\"Times New Roman\" SIZE=-2>$557.6</FONT></TD>","<TD ALIGN=RIGHT><FONT FACE=\"Times New Roman\" SIZE=-2>$862.7</FONT></TD>","<TD ALIGN=RIGHT><FONT FACE=\"Times New Roman\" SIZE=-2>$2,305.2</FONT></TD>","<TD ALIGN=RIGHT><FONT FACE=\"Times New Roman\" SIZE=-2>$4.5</FONT></TD>","<TD ALIGN=RIGHT><FONT FACE=\"Times New Roman\" SIZE=-2>$604.5</FONT></TD>","<TD ALIGN=RIGHT><FONT FACE=\"Times New Roman\" SIZE=-2>$4,334.5</FONT></TD>","<TD ALIGN=RIGHT><FONT FACE=\"Times New Roman\" SIZE=-2>$375.0</FONT></TD>","</TR>"]
["Village of Corinth",{"$f":"'DataNews 2010'!B54","v":1900813},{"$f":"'DataNews 2010'!C54","v":658638},{"$f":"'DataNews 2010'!D54","v":227662},{"$f":"'DataNews 2010'!E54","v":915691},{"$f":"'DataNews 2010'!F54","v":1573438},{"$f":"'DataNews 2010'!G54","v":5276242},{"$f":"'DataNews 2010'!H54","v":354145},{"$f":"'DataNews 2010'!I54","v":672066},{"$f":"'DataNews 2010'!J54","v":1528407},{"$f":"'DataNews 2010'!K54","v":439150},{"$f":"'DataNews 2010'!L54","v":1906398},{"$f":"'DataNews 2010'!M54","v":4900166},{"$f":"'DataNews 2010'!N54","v":376076},null,"<TR>","<TD NOWRAP ALIGN=LEFT><FONT FACE=\"Times New Roman\" SIZE=-2>Village of Corinth</TD>","<TD ALIGN=RIGHT><FONT FACE=\"Times New Roman\" SIZE=-2>$1,900.8</FONT></TD>","<TD ALIGN=RIGHT><FONT FACE=\"Times New Roman\" SIZE=-2>$658.6</FONT></TD>","<TD ALIGN=RIGHT><FONT FACE=\"Times New Roman\" SIZE=-2>$227.7</FONT></TD>","<TD ALIGN=RIGHT><FONT FACE=\"Times New Roman\" SIZE=-2>$915.7</FONT></TD>","<TD ALIGN=RIGHT><FONT FACE=\"Times New Roman\" SIZE=-2>$1,573.4</FONT></TD>","<TD ALIGN=RIGHT><FONT FACE=\"Times New Roman\" SIZE=-2>$5,276.2</FONT></TD>","<TD ALIGN=RIGHT><FONT FACE=\"Times New Roman\" SIZE=-2>$354.1</FONT></TD>","<TD ALIGN=RIGHT><FONT FACE=\"Times New Roman\" SIZE=-2>$672.1</FONT></TD>","<TD ALIGN=RIGHT><FONT FACE=\"Times New Roman\" SIZE=-2>$1,528.4</FONT></TD>","<TD ALIGN=RIGHT><FONT FACE=\"Times New Roman\" SIZE=-2>$439.2</FONT></TD>","<TD ALIGN=RIGHT><FONT FACE=\"Times New Roman\" SIZE=-2>$1,906.4</FONT></TD>","<TD ALIGN=RIGHT><FONT FACE=\"Times New Roman\" SIZE=-2>$4,900.2</FONT></TD>","<TD ALIGN=RIGHT><FONT FACE=\"Times New Roman\" SIZE=-2>$376.1</FONT></TD>","</TR>"]
["Town of Day",{"$f":"'DataNews 2010'!B55","v":484616},{"$f":"'DataNews 2010'!C55","v":778955},{"$f":"'DataNews 2010'!D55","v":238567},{"$f":"'DataNews 2010'!E55","v":0},{"$f":"'DataNews 2010'!F55","v":26187},{"$f":"'DataNews 2010'!G55","v":1528325},{"$f":"'DataNews 2010'!H55","v":279631},{"$f":"'DataNews 2010'!I55","v":97374},{"$f":"'DataNews 2010'!J55","v":1146735},{"$f":"'DataNews 2010'!K55","v":0},{"$f":"'DataNews 2010'!L55","v":254521},{"$f":"'DataNews 2010'!M55","v":1778261},{"$f":"'DataNews 2010'!N55","v":-249936},null,"<TR>","<TD NOWRAP ALIGN=LEFT><FONT FACE=\"Times New Roman\" SIZE=-2>Town of Day</TD>","<TD ALIGN=RIGHT><FONT FACE=\"Times New Roman\" SIZE=-2>$484.6</FONT></TD>","<TD ALIGN=RIGHT><FONT FACE=\"Times New Roman\" SIZE=-2>$779.0</FONT></TD>","<TD ALIGN=RIGHT><FONT FACE=\"Times New Roman\" SIZE=-2>$238.6</FONT></TD>","<TD ALIGN=RIGHT><FONT FACE=\"Times New Roman\" SIZE=-2>$0.0</FONT></TD>","<TD ALIGN=RIGHT><FONT FACE=\"Times New Roman\" SIZE=-2>$26.2</FONT></TD>","<TD ALIGN=RIGHT><FONT FACE=\"Times New Roman\" SIZE=-2>$1,528.3</FONT></TD>","<TD ALIGN=RIGHT><FONT FACE=\"Times New Roman\" SIZE=-2>$279.6</FONT></TD>","<TD ALIGN=RIGHT><FONT FACE=\"Times New Roman\" SIZE=-2>$97.4</FONT></TD>","<TD ALIGN=RIGHT><FONT FACE=\"Times New Roman\" SIZE=-2>$1,146.7</FONT></TD>","<TD ALIGN=RIGHT><FONT FACE=\"Times New Roman\" SIZE=-2>$0.0</FONT></TD>","<TD ALIGN=RIGHT><FONT FACE=\"Times New Roman\" SIZE=-2>$254.5</FONT></TD>","<TD ALIGN=RIGHT><FONT FACE=\"Times New Roman\" SIZE=-2>$1,778.3</FONT></TD>","<TD ALIGN=RIGHT><FONT FACE=\"Times New Roman\" SIZE=-2 COLOR=#FF0000>($249.9)</FONT></TD>","</TR>"]
["Town of Edinburg",{"$f":"'DataNews 2010'!B56","v":285326},{"$f":"'DataNews 2010'!C56","v":962445},{"$f":"'DataNews 2010'!D56","v":141649},{"$f":"'DataNews 2010'!E56","v":0},{"$f":"'DataNews 2010'!F56","v":89475},{"$f":"'DataNews 2010'!G56","v":1478895},{"$f":"'DataNews 2010'!H56","v":308468},{"$f":"'DataNews 2010'!I56","v":109440},{"$f":"'DataNews 2010'!J56","v":726859},{"$f":"'DataNews 2010'!K56","v":1253},{"$f":"'DataNews 2010'!L56","v":213837},{"$f":"'DataNews 2010'!M56","v":1359857},{"$f":"'DataNews 2010'!N56","v":119038},null,"<TR>","<TD NOWRAP ALIGN=LEFT><FONT FACE=\"Times New Roman\" SIZE=-2>Town of Edinburg</TD>","<TD ALIGN=RIGHT><FONT FACE=\"Times New Roman\" SIZE=-2>$285.3</FONT></TD>","<TD ALIGN=RIGHT><FONT FACE=\"Times New Roman\" SIZE=-2>$962.4</FONT></TD>","<TD ALIGN=RIGHT><FONT FACE=\"Times New Roman\" SIZE=-2>$141.6</FONT></TD>","<TD ALIGN=RIGHT><FONT FACE=\"Times New Roman\" SIZE=-2>$0.0</FONT></TD>","<TD ALIGN=RIGHT><FONT FACE=\"Times New Roman\" SIZE=-2>$89.5</FONT></TD>","<TD ALIGN=RIGHT><FONT FACE=\"Times New Roman\" SIZE=-2>$1,478.9</FONT></TD>","<TD ALIGN=RIGHT><FONT FACE=\"Times New Roman\" SIZE=-2>$308.5</FONT></TD>","<TD ALIGN=RIGHT><FONT FACE=\"Times New Roman\" SIZE=-2>$109.4</FONT></TD>","<TD ALIGN=RIGHT><FONT FACE=\"Times New Roman\" SIZE=-2>$726.9</FONT></TD>","<TD ALIGN=RIGHT><FONT FACE=\"Times New Roman\" SIZE=-2>$1.3</FONT></TD>","<TD ALIGN=RIGHT><FONT FACE=\"Times New Roman\" SIZE=-2>$213.8</FONT></TD>","<TD ALIGN=RIGHT><FONT FACE=\"Times New Roman\" SIZE=-2>$1,359.9</FONT></TD>","<TD ALIGN=RIGHT><FONT FACE=\"Times New Roman\" SIZE=-2>$119.0</FONT></TD>","</TR>"]
["Town of Galway",{"$f":"'DataNews 2010'!B57","v":567386},{"$f":"'DataNews 2010'!C57","v":1035159},{"$f":"'DataNews 2010'!D57","v":240885},{"$f":"'DataNews 2010'!E57","v":0},{"$f":"'DataNews 2010'!F57","v":92719},{"$f":"'DataNews 2010'!G57","v":1936149},{"$f":"'DataNews 2010'!H57","v":287979},{"$f":"'DataNews 2010'!I57","v":329896},{"$f":"'DataNews 2010'!J57","v":953989},{"$f":"'DataNews 2010'!K57","v":0},{"$f":"'DataNews 2010'!L57","v":335420},{"$f":"'DataNews 2010'!M57","v":1907284},{"$f":"'DataNews 2010'!N57","v":28865},null,"<TR>","<TD NOWRAP ALIGN=LEFT><FONT FACE=\"Times New Roman\" SIZE=-2>Town of Galway</TD>","<TD ALIGN=RIGHT><FONT FACE=\"Times New Roman\" SIZE=-2>$567.4</FONT></TD>","<TD ALIGN=RIGHT><FONT FACE=\"Times New Roman\" SIZE=-2>$1,035.2</FONT></TD>","<TD ALIGN=RIGHT><FONT FACE=\"Times New Roman\" SIZE=-2>$240.9</FONT></TD>","<TD ALIGN=RIGHT><FONT FACE=\"Times New Roman\" SIZE=-2>$0.0</FONT></TD>","<TD ALIGN=RIGHT><FONT FACE=\"Times New Roman\" SIZE=-2>$92.7</FONT></TD>","<TD ALIGN=RIGHT><FONT FACE=\"Times New Roman\" SIZE=-2>$1,936.1</FONT></TD>","<TD ALIGN=RIGHT><FONT FACE=\"Times New Roman\" SIZE=-2>$288.0</FONT></TD>","<TD ALIGN=RIGHT><FONT FACE=\"Times New Roman\" SIZE=-2>$329.9</FONT></TD>","<TD ALIGN=RIGHT><FONT FACE=\"Times New Roman\" SIZE=-2>$954.0</FONT></TD>","<TD ALIGN=RIGHT><FONT FACE=\"Times New Roman\" SIZE=-2>$0.0</FONT></TD>","<TD ALIGN=RIGHT><FONT FACE=\"Times New Roman\" SIZE=-2>$335.4</FONT></TD>","<TD ALIGN=RIGHT><FONT FACE=\"Times New Roman\" SIZE=-2>$1,907.3</FONT></TD>","<TD ALIGN=RIGHT><FONT FACE=\"Times New Roman\" SIZE=-2>$28.9</FONT></TD>","</TR>"]
["Village of Galway",{"$f":"'DataNews 2010'!B58","v":0},{"$f":"'DataNews 2010'!C58","v":39705},{"$f":"'DataNews 2010'!D58","v":5343},{"$f":"'DataNews 2010'!E58","v":0},{"$f":"'DataNews 2010'!F58","v":17735},{"$f":"'DataNews 2010'!G58","v":62783},{"$f":"'DataNews 2010'!H58","v":16808},{"$f":"'DataNews 2010'!I58","v":20315},{"$f":"'DataNews 2010'!J58","v":2606},{"$f":"'DataNews 2010'!K58","v":0},{"$f":"'DataNews 2010'!L58","v":6949},{"$f":"'DataNews 2010'!M58","v":46678},{"$f":"'DataNews 2010'!N58","v":16105},null,"<TR>","<TD NOWRAP ALIGN=LEFT><FONT FACE=\"Times New Roman\" SIZE=-2>Village of Galway</TD>","<TD ALIGN=RIGHT><FONT FACE=\"Times New Roman\" SIZE=-2>$0.0</FONT></TD>","<TD ALIGN=RIGHT><FONT FACE=\"Times New Roman\" SIZE=-2>$39.7</FONT></TD>","<TD ALIGN=RIGHT><FONT FACE=\"Times New Roman\" SIZE=-2>$5.3</FONT></TD>","<TD ALIGN=RIGHT><FONT FACE=\"Times New Roman\" SIZE=-2>$0.0</FONT></TD>","<TD ALIGN=RIGHT><FONT FACE=\"Times New Roman\" SIZE=-2>$17.7</FONT></TD>","<TD ALIGN=RIGHT><FONT FACE=\"Times New Roman\" SIZE=-2>$62.8</FONT></TD>","<TD ALIGN=RIGHT><FONT FACE=\"Times New Roman\" SIZE=-2>$16.8</FONT></TD>","<TD ALIGN=RIGHT><FONT FACE=\"Times New Roman\" SIZE=-2>$20.3</FONT></TD>","<TD ALIGN=RIGHT><FONT FACE=\"Times New Roman\" SIZE=-2>$2.6</FONT></TD>","<TD ALIGN=RIGHT><FONT FACE=\"Times New Roman\" SIZE=-2>$0.0</FONT></TD>","<TD ALIGN=RIGHT><FONT FACE=\"Times New Roman\" SIZE=-2>$6.9</FONT></TD>","<TD ALIGN=RIGHT><FONT FACE=\"Times New Roman\" SIZE=-2>$46.7</FONT></TD>","<TD ALIGN=RIGHT><FONT FACE=\"Times New Roman\" SIZE=-2>$16.1</FONT></TD>","</TR>"]
["Town of Greenfield",{"$f":"'DataNews 2010'!B59","v":851867},{"$f":"'DataNews 2010'!C59","v":1840340},{"$f":"'DataNews 2010'!D59","v":414037},{"$f":"'DataNews 2010'!E59","v":0},{"$f":"'DataNews 2010'!F59","v":413024},{"$f":"'DataNews 2010'!G59","v":3519268},{"$f":"'DataNews 2010'!H59","v":499166},{"$f":"'DataNews 2010'!I59","v":85432},{"$f":"'DataNews 2010'!J59","v":2231905},{"$f":"'DataNews 2010'!K59","v":229083},{"$f":"'DataNews 2010'!L59","v":657351},{"$f":"'DataNews 2010'!M59","v":3702937},{"$f":"'DataNews 2010'!N59","v":-183669},null,"<TR>","<TD NOWRAP ALIGN=LEFT><FONT FACE=\"Times New Roman\" SIZE=-2>Town of Greenfield</TD>","<TD ALIGN=RIGHT><FONT FACE=\"Times New Roman\" SIZE=-2>$851.9</FONT></TD>","<TD ALIGN=RIGHT><FONT FACE=\"Times New Roman\" SIZE=-2>$1,840.3</FONT></TD>","<TD ALIGN=RIGHT><FONT FACE=\"Times New Roman\" SIZE=-2>$414.0</FONT></TD>","<TD ALIGN=RIGHT><FONT FACE=\"Times New Roman\" SIZE=-2>$0.0</FONT></TD>","<TD ALIGN=RIGHT><FONT FACE=\"Times New Roman\" SIZE=-2>$413.0</FONT></TD>","<TD ALIGN=RIGHT><FONT FACE=\"Times New Roman\" SIZE=-2>$3,519.3</FONT></TD>","<TD ALIGN=RIGHT><FONT FACE=\"Times New Roman\" SIZE=-2>$499.2</FONT></TD>","<TD ALIGN=RIGHT><FONT FACE=\"Times New Roman\" SIZE=-2>$85.4</FONT></TD>","<TD ALIGN=RIGHT><FONT FACE=\"Times New Roman\" SIZE=-2>$2,231.9</FONT></TD>","<TD ALIGN=RIGHT><FONT FACE=\"Times New Roman\" SIZE=-2>$229.1</FONT></TD>","<TD ALIGN=RIGHT><FONT FACE=\"Times New Roman\" SIZE=-2>$657.4</FONT></TD>","<TD ALIGN=RIGHT><FONT FACE=\"Times New Roman\" SIZE=-2>$3,702.9</FONT></TD>","<TD ALIGN=RIGHT><FONT FACE=\"Times New Roman\" SIZE=-2 COLOR=#FF0000>($183.7)</FONT></TD>","</TR>"]
["Town of Hadley",{"$f":"'DataNews 2010'!B60","v":1053032},{"$f":"'DataNews 2010'!C60","v":628297},{"$f":"'DataNews 2010'!D60","v":176256},{"$f":"'DataNews 2010'!E60","v":202696},{"$f":"'DataNews 2010'!F60","v":771489},{"$f":"'DataNews 2010'!G60","v":2831770},{"$f":"'DataNews 2010'!H60","v":388086},{"$f":"'DataNews 2010'!I60","v":8866},{"$f":"'DataNews 2010'!J60","v":1023676},{"$f":"'DataNews 2010'!K60","v":260},{"$f":"'DataNews 2010'!L60","v":1234759},{"$f":"'DataNews 2010'!M60","v":2655647},{"$f":"'DataNews 2010'!N60","v":176123},null,"<TR>","<TD NOWRAP ALIGN=LEFT><FONT FACE=\"Times New Roman\" SIZE=-2>Town of Hadley</TD>","<TD ALIGN=RIGHT><FONT FACE=\"Times New Roman\" SIZE=-2>$1,053.0</FONT></TD>","<TD ALIGN=RIGHT><FONT FACE=\"Times New Roman\" SIZE=-2>$628.3</FONT></TD>","<TD ALIGN=RIGHT><FONT FACE=\"Times New Roman\" SIZE=-2>$176.3</FONT></TD>","<TD ALIGN=RIGHT><FONT FACE=\"Times New Roman\" SIZE=-2>$202.7</FONT></TD>","<TD ALIGN=RIGHT><FONT FACE=\"Times New Roman\" SIZE=-2>$771.5</FONT></TD>","<TD ALIGN=RIGHT><FONT FACE=\"Times New Roman\" SIZE=-2>$2,831.8</FONT></TD>","<TD ALIGN=RIGHT><FONT FACE=\"Times New Roman\" SIZE=-2>$388.1</FONT></TD>","<TD ALIGN=RIGHT><FONT FACE=\"Times New Roman\" SIZE=-2>$8.9</FONT></TD>","<TD ALIGN=RIGHT><FONT FACE=\"Times New Roman\" SIZE=-2>$1,023.7</FONT></TD>","<TD ALIGN=RIGHT><FONT FACE=\"Times New Roman\" SIZE=-2>$0.3</FONT></TD>","<TD ALIGN=RIGHT><FONT FACE=\"Times New Roman\" SIZE=-2>$1,234.8</FONT></TD>","<TD ALIGN=RIGHT><FONT FACE=\"Times New Roman\" SIZE=-2>$2,655.6</FONT></TD>","<TD ALIGN=RIGHT><FONT FACE=\"Times New Roman\" SIZE=-2>$176.1</FONT></TD>","</TR>"]
["Town of Halfmoon",{"$f":"'DataNews 2010'!B61","v":2815694},{"$f":"'DataNews 2010'!C61","v":4871503},{"$f":"'DataNews 2010'!D61","v":1123827},{"$f":"'DataNews 2010'!E61","v":77099},{"$f":"'DataNews 2010'!F61","v":5126438},{"$f":"'DataNews 2010'!G61","v":14014561},{"$f":"'DataNews 2010'!H61","v":2359983},{"$f":"'DataNews 2010'!I61","v":1616189},{"$f":"'DataNews 2010'!J61","v":5676049},{"$f":"'DataNews 2010'!K61","v":0},{"$f":"'DataNews 2010'!L61","v":6828357},{"$f":"'DataNews 2010'!M61","v":16480578},{"$f":"'DataNews 2010'!N61","v":-2466017},null,"<TR>","<TD NOWRAP ALIGN=LEFT><FONT FACE=\"Times New Roman\" SIZE=-2>Town of Halfmoon</TD>","<TD ALIGN=RIGHT><FONT FACE=\"Times New Roman\" SIZE=-2>$2,815.7</FONT></TD>","<TD ALIGN=RIGHT><FONT FACE=\"Times New Roman\" SIZE=-2>$4,871.5</FONT></TD>","<TD ALIGN=RIGHT><FONT FACE=\"Times New Roman\" SIZE=-2>$1,123.8</FONT></TD>","<TD ALIGN=RIGHT><FONT FACE=\"Times New Roman\" SIZE=-2>$77.1</FONT></TD>","<TD ALIGN=RIGHT><FONT FACE=\"Times New Roman\" SIZE=-2>$5,126.4</FONT></TD>","<TD ALIGN=RIGHT><FONT FACE=\"Times New Roman\" SIZE=-2>$14,014.6</FONT></TD>","<TD ALIGN=RIGHT><FONT FACE=\"Times New Roman\" SIZE=-2>$2,360.0</FONT></TD>","<TD ALIGN=RIGHT><FONT FACE=\"Times New Roman\" SIZE=-2>$1,616.2</FONT></TD>","<TD ALIGN=RIGHT><FONT FACE=\"Times New Roman\" SIZE=-2>$5,676.0</FONT></TD>","<TD ALIGN=RIGHT><FONT FACE=\"Times New Roman\" SIZE=-2>$0.0</FONT></TD>","<TD ALIGN=RIGHT><FONT FACE=\"Times New Roman\" SIZE=-2>$6,828.4</FONT></TD>","<TD ALIGN=RIGHT><FONT FACE=\"Times New Roman\" SIZE=-2>$16,480.6</FONT></TD>","<TD ALIGN=RIGHT><FONT FACE=\"Times New Roman\" SIZE=-2 COLOR=#FF0000>($2,466.0)</FONT></TD>","</TR>"]
["Town of Malta",{"$f":"'DataNews 2010'!B62","v":1297775},{"$f":"'DataNews 2010'!C62","v":3611321},{"$f":"'DataNews 2010'!D62","v":2890493},{"$f":"'DataNews 2010'!E62","v":15558},{"$f":"'DataNews 2010'!F62","v":5691796},{"$f":"'DataNews 2010'!G62","v":13506943},{"$f":"'DataNews 2010'!H62","v":3272905},{"$f":"'DataNews 2010'!I62","v":1553107},{"$f":"'DataNews 2010'!J62","v":3962694},{"$f":"'DataNews 2010'!K62","v":5491},{"$f":"'DataNews 2010'!L62","v":2412689},{"$f":"'DataNews 2010'!M62","v":11206886},{"$f":"'DataNews 2010'!N62","v":2300057},null,"<TR>","<TD NOWRAP ALIGN=LEFT><FONT FACE=\"Times New Roman\" SIZE=-2>Town of Malta</TD>","<TD ALIGN=RIGHT><FONT FACE=\"Times New Roman\" SIZE=-2>$1,297.8</FONT></TD>","<TD ALIGN=RIGHT><FONT FACE=\"Times New Roman\" SIZE=-2>$3,611.3</FONT></TD>","<TD ALIGN=RIGHT><FONT FACE=\"Times New Roman\" SIZE=-2>$2,890.5</FONT></TD>","<TD ALIGN=RIGHT><FONT FACE=\"Times New Roman\" SIZE=-2>$15.6</FONT></TD>","<TD ALIGN=RIGHT><FONT FACE=\"Times New Roman\" SIZE=-2>$5,691.8</FONT></TD>","<TD ALIGN=RIGHT><FONT FACE=\"Times New Roman\" SIZE=-2>$13,506.9</FONT></TD>","<TD ALIGN=RIGHT><FONT FACE=\"Times New Roman\" SIZE=-2>$3,272.9</FONT></TD>","<TD ALIGN=RIGHT><FONT FACE=\"Times New Roman\" SIZE=-2>$1,553.1</FONT></TD>","<TD ALIGN=RIGHT><FONT FACE=\"Times New Roman\" SIZE=-2>$3,962.7</FONT></TD>","<TD ALIGN=RIGHT><FONT FACE=\"Times New Roman\" SIZE=-2>$5.5</FONT></TD>","<TD ALIGN=RIGHT><FONT FACE=\"Times New Roman\" SIZE=-2>$2,412.7</FONT></TD>","<TD ALIGN=RIGHT><FONT FACE=\"Times New Roman\" SIZE=-2>$11,206.9</FONT></TD>","<TD ALIGN=RIGHT><FONT FACE=\"Times New Roman\" SIZE=-2>$2,300.1</FONT></TD>","</TR>"]
["Village of Round Lake",{"$f":"'DataNews 2010'!B63","v":321997},{"$f":"'DataNews 2010'!C63","v":135155},{"$f":"'DataNews 2010'!D63","v":78699},{"$f":"'DataNews 2010'!E63","v":0},{"$f":"'DataNews 2010'!F63","v":1006441},{"$f":"'DataNews 2010'!G63","v":1542292},{"$f":"'DataNews 2010'!H63","v":167924},{"$f":"'DataNews 2010'!I63","v":205393},{"$f":"'DataNews 2010'!J63","v":289920},{"$f":"'DataNews 2010'!K63","v":0},{"$f":"'DataNews 2010'!L63","v":680593},{"$f":"'DataNews 2010'!M63","v":1343830},{"$f":"'DataNews 2010'!N63","v":198462},null,"<TR>","<TD NOWRAP ALIGN=LEFT><FONT FACE=\"Times New Roman\" SIZE=-2>Village of Round Lake</TD>","<TD ALIGN=RIGHT><FONT FACE=\"Times New Roman\" SIZE=-2>$322.0</FONT></TD>","<TD ALIGN=RIGHT><FONT FACE=\"Times New Roman\" SIZE=-2>$135.2</FONT></TD>","<TD ALIGN=RIGHT><FONT FACE=\"Times New Roman\" SIZE=-2>$78.7</FONT></TD>","<TD ALIGN=RIGHT><FONT FACE=\"Times New Roman\" SIZE=-2>$0.0</FONT></TD>","<TD ALIGN=RIGHT><FONT FACE=\"Times New Roman\" SIZE=-2>$1,006.4</FONT></TD>","<TD ALIGN=RIGHT><FONT FACE=\"Times New Roman\" SIZE=-2>$1,542.3</FONT></TD>","<TD ALIGN=RIGHT><FONT FACE=\"Times New Roman\" SIZE=-2>$167.9</FONT></TD>","<TD ALIGN=RIGHT><FONT FACE=\"Times New Roman\" SIZE=-2>$205.4</FONT></TD>","<TD ALIGN=RIGHT><FONT FACE=\"Times New Roman\" SIZE=-2>$289.9</FONT></TD>","<TD ALIGN=RIGHT><FONT FACE=\"Times New Roman\" SIZE=-2>$0.0</FONT></TD>","<TD ALIGN=RIGHT><FONT FACE=\"Times New Roman\" SIZE=-2>$680.6</FONT></TD>","<TD ALIGN=RIGHT><FONT FACE=\"Times New Roman\" SIZE=-2>$1,343.8</FONT></TD>","<TD ALIGN=RIGHT><FONT FACE=\"Times New Roman\" SIZE=-2>$198.5</FONT></TD>","</TR>"]
["City of Mechanicville",{"$f":"'DataNews 2010'!B64","v":1953340},{"$f":"'DataNews 2010'!C64","v":1165271},{"$f":"'DataNews 2010'!D64","v":1075904},{"$f":"'DataNews 2010'!E64","v":175937},{"$f":"'DataNews 2010'!F64","v":2486772},{"$f":"'DataNews 2010'!G64","v":6857224},{"$f":"'DataNews 2010'!H64","v":696815},{"$f":"'DataNews 2010'!I64","v":2162362},{"$f":"'DataNews 2010'!J64","v":2292796},{"$f":"'DataNews 2010'!K64","v":385796},{"$f":"'DataNews 2010'!L64","v":1597879},{"$f":"'DataNews 2010'!M64","v":7135648},{"$f":"'DataNews 2010'!N64","v":-278424},null,"<TR>","<TD NOWRAP ALIGN=LEFT><FONT FACE=\"Times New Roman\" SIZE=-2>City of Mechanicville</TD>","<TD ALIGN=RIGHT><FONT FACE=\"Times New Roman\" SIZE=-2>$1,953.3</FONT></TD>","<TD ALIGN=RIGHT><FONT FACE=\"Times New Roman\" SIZE=-2>$1,165.3</FONT></TD>","<TD ALIGN=RIGHT><FONT FACE=\"Times New Roman\" SIZE=-2>$1,075.9</FONT></TD>","<TD ALIGN=RIGHT><FONT FACE=\"Times New Roman\" SIZE=-2>$175.9</FONT></TD>","<TD ALIGN=RIGHT><FONT FACE=\"Times New Roman\" SIZE=-2>$2,486.8</FONT></TD>","<TD ALIGN=RIGHT><FONT FACE=\"Times New Roman\" SIZE=-2>$6,857.2</FONT></TD>","<TD ALIGN=RIGHT><FONT FACE=\"Times New Roman\" SIZE=-2>$696.8</FONT></TD>","<TD ALIGN=RIGHT><FONT FACE=\"Times New Roman\" SIZE=-2>$2,162.4</FONT></TD>","<TD ALIGN=RIGHT><FONT FACE=\"Times New Roman\" SIZE=-2>$2,292.8</FONT></TD>","<TD ALIGN=RIGHT><FONT FACE=\"Times New Roman\" SIZE=-2>$385.8</FONT></TD>","<TD ALIGN=RIGHT><FONT FACE=\"Times New Roman\" SIZE=-2>$1,597.9</FONT></TD>","<TD ALIGN=RIGHT><FONT FACE=\"Times New Roman\" SIZE=-2>$7,135.6</FONT></TD>","<TD ALIGN=RIGHT><FONT FACE=\"Times New Roman\" SIZE=-2 COLOR=#FF0000>($278.4)</FONT></TD>","</TR>"]
["Town of Milton",{"$f":"'DataNews 2010'!B65","v":466688},{"$f":"'DataNews 2010'!C65","v":2533365},{"$f":"'DataNews 2010'!D65","v":682812},{"$f":"'DataNews 2010'!E65","v":0},{"$f":"'DataNews 2010'!F65","v":1184301},{"$f":"'DataNews 2010'!G65","v":4867166},{"$f":"'DataNews 2010'!H65","v":1039144},{"$f":"'DataNews 2010'!I65","v":213309},{"$f":"'DataNews 2010'!J65","v":2044778},{"$f":"'DataNews 2010'!K65","v":2899},{"$f":"'DataNews 2010'!L65","v":1942837},{"$f":"'DataNews 2010'!M65","v":5242967},{"$f":"'DataNews 2010'!N65","v":-375801},null,"<TR>","<TD NOWRAP ALIGN=LEFT><FONT FACE=\"Times New Roman\" SIZE=-2>Town of Milton</TD>","<TD ALIGN=RIGHT><FONT FACE=\"Times New Roman\" SIZE=-2>$466.7</FONT></TD>","<TD ALIGN=RIGHT><FONT FACE=\"Times New Roman\" SIZE=-2>$2,533.4</FONT></TD>","<TD ALIGN=RIGHT><FONT FACE=\"Times New Roman\" SIZE=-2>$682.8</FONT></TD>","<TD ALIGN=RIGHT><FONT FACE=\"Times New Roman\" SIZE=-2>$0.0</FONT></TD>","<TD ALIGN=RIGHT><FONT FACE=\"Times New Roman\" SIZE=-2>$1,184.3</FONT></TD>","<TD ALIGN=RIGHT><FONT FACE=\"Times New Roman\" SIZE=-2>$4,867.2</FONT></TD>","<TD ALIGN=RIGHT><FONT FACE=\"Times New Roman\" SIZE=-2>$1,039.1</FONT></TD>","<TD ALIGN=RIGHT><FONT FACE=\"Times New Roman\" SIZE=-2>$213.3</FONT></TD>","<TD ALIGN=RIGHT><FONT FACE=\"Times New Roman\" SIZE=-2>$2,044.8</FONT></TD>","<TD ALIGN=RIGHT><FONT FACE=\"Times New Roman\" SIZE=-2>$2.9</FONT></TD>","<TD ALIGN=RIGHT><FONT FACE=\"Times New Roman\" SIZE=-2>$1,942.8</FONT></TD>","<TD ALIGN=RIGHT><FONT FACE=\"Times New Roman\" SIZE=-2>$5,243.0</FONT></TD>","<TD ALIGN=RIGHT><FONT FACE=\"Times New Roman\" SIZE=-2 COLOR=#FF0000>($375.8)</FONT></TD>","</TR>"]
["Town of Moreau",{"$f":"'DataNews 2010'!B66","v":1851391},{"$f":"'DataNews 2010'!C66","v":1677028},{"$f":"'DataNews 2010'!D66","v":517299},{"$f":"'DataNews 2010'!E66","v":0},{"$f":"'DataNews 2010'!F66","v":2022492},{"$f":"'DataNews 2010'!G66","v":6068210},{"$f":"'DataNews 2010'!H66","v":846832},{"$f":"'DataNews 2010'!I66","v":1259379},{"$f":"'DataNews 2010'!J66","v":2008533},{"$f":"'DataNews 2010'!K66","v":4203},{"$f":"'DataNews 2010'!L66","v":2206860},{"$f":"'DataNews 2010'!M66","v":6325807},{"$f":"'DataNews 2010'!N66","v":-257597},null,"<TR>","<TD NOWRAP ALIGN=LEFT><FONT FACE=\"Times New Roman\" SIZE=-2>Town of Moreau</TD>","<TD ALIGN=RIGHT><FONT FACE=\"Times New Roman\" SIZE=-2>$1,851.4</FONT></TD>","<TD ALIGN=RIGHT><FONT FACE=\"Times New Roman\" SIZE=-2>$1,677.0</FONT></TD>","<TD ALIGN=RIGHT><FONT FACE=\"Times New Roman\" SIZE=-2>$517.3</FONT></TD>","<TD ALIGN=RIGHT><FONT FACE=\"Times New Roman\" SIZE=-2>$0.0</FONT></TD>","<TD ALIGN=RIGHT><FONT FACE=\"Times New Roman\" SIZE=-2>$2,022.5</FONT></TD>","<TD ALIGN=RIGHT><FONT FACE=\"Times New Roman\" SIZE=-2>$6,068.2</FONT></TD>","<TD ALIGN=RIGHT><FONT FACE=\"Times New Roman\" SIZE=-2>$846.8</FONT></TD>","<TD ALIGN=RIGHT><FONT FACE=\"Times New Roman\" SIZE=-2>$1,259.4</FONT></TD>","<TD ALIGN=RIGHT><FONT FACE=\"Times New Roman\" SIZE=-2>$2,008.5</FONT></TD>","<TD ALIGN=RIGHT><FONT FACE=\"Times New Roman\" SIZE=-2>$4.2</FONT></TD>","<TD ALIGN=RIGHT><FONT FACE=\"Times New Roman\" SIZE=-2>$2,206.9</FONT></TD>","<TD ALIGN=RIGHT><FONT FACE=\"Times New Roman\" SIZE=-2>$6,325.8</FONT></TD>","<TD ALIGN=RIGHT><FONT FACE=\"Times New Roman\" SIZE=-2 COLOR=#FF0000>($257.6)</FONT></TD>","</TR>"]
["Village of South Glens Falls",{"$f":"'DataNews 2010'!B67","v":1079444},{"$f":"'DataNews 2010'!C67","v":566629},{"$f":"'DataNews 2010'!D67","v":128251},{"$f":"'DataNews 2010'!E67","v":147772},{"$f":"'DataNews 2010'!F67","v":1297340},{"$f":"'DataNews 2010'!G67","v":3219436},{"$f":"'DataNews 2010'!H67","v":400632},{"$f":"'DataNews 2010'!I67","v":929126},{"$f":"'DataNews 2010'!J67","v":1005173},{"$f":"'DataNews 2010'!K67","v":152633},{"$f":"'DataNews 2010'!L67","v":718576},{"$f":"'DataNews 2010'!M67","v":3206140},{"$f":"'DataNews 2010'!N67","v":13296},null,"<TR>","<TD NOWRAP ALIGN=LEFT><FONT FACE=\"Times New Roman\" SIZE=-2>Village of South Glens Falls</TD>","<TD ALIGN=RIGHT><FONT FACE=\"Times New Roman\" SIZE=-2>$1,079.4</FONT></TD>","<TD ALIGN=RIGHT><FONT FACE=\"Times New Roman\" SIZE=-2>$566.6</FONT></TD>","<TD ALIGN=RIGHT><FONT FACE=\"Times New Roman\" SIZE=-2>$128.3</FONT></TD>","<TD ALIGN=RIGHT><FONT FACE=\"Times New Roman\" SIZE=-2>$147.8</FONT></TD>","<TD ALIGN=RIGHT><FONT FACE=\"Times New Roman\" SIZE=-2>$1,297.3</FONT></TD>","<TD ALIGN=RIGHT><FONT FACE=\"Times New Roman\" SIZE=-2>$3,219.4</FONT></TD>","<TD ALIGN=RIGHT><FONT FACE=\"Times New Roman\" SIZE=-2>$400.6</FONT></TD>","<TD ALIGN=RIGHT><FONT FACE=\"Times New Roman\" SIZE=-2>$929.1</FONT></TD>","<TD ALIGN=RIGHT><FONT FACE=\"Times New Roman\" SIZE=-2>$1,005.2</FONT></TD>","<TD ALIGN=RIGHT><FONT FACE=\"Times New Roman\" SIZE=-2>$152.6</FONT></TD>","<TD ALIGN=RIGHT><FONT FACE=\"Times New Roman\" SIZE=-2>$718.6</FONT></TD>","<TD ALIGN=RIGHT><FONT FACE=\"Times New Roman\" SIZE=-2>$3,206.1</FONT></TD>","<TD ALIGN=RIGHT><FONT FACE=\"Times New Roman\" SIZE=-2>$13.3</FONT></TD>","</TR>"]
["Town of Northumberland",{"$f":"'DataNews 2010'!B68","v":592871},{"$f":"'DataNews 2010'!C68","v":924822},{"$f":"'DataNews 2010'!D68","v":250518},{"$f":"'DataNews 2010'!E68","v":122942},{"$f":"'DataNews 2010'!F68","v":203957},{"$f":"'DataNews 2010'!G68","v":2095110},{"$f":"'DataNews 2010'!H68","v":353697},{"$f":"'DataNews 2010'!I68","v":170104},{"$f":"'DataNews 2010'!J68","v":1259000},{"$f":"'DataNews 2010'!K68","v":0},{"$f":"'DataNews 2010'!L68","v":333505},{"$f":"'DataNews 2010'!M68","v":2116306},{"$f":"'DataNews 2010'!N68","v":-21196},null,"<TR>","<TD NOWRAP ALIGN=LEFT><FONT FACE=\"Times New Roman\" SIZE=-2>Town of Northumberland</TD>","<TD ALIGN=RIGHT><FONT FACE=\"Times New Roman\" SIZE=-2>$592.9</FONT></TD>","<TD ALIGN=RIGHT><FONT FACE=\"Times New Roman\" SIZE=-2>$924.8</FONT></TD>","<TD ALIGN=RIGHT><FONT FACE=\"Times New Roman\" SIZE=-2>$250.5</FONT></TD>","<TD ALIGN=RIGHT><FONT FACE=\"Times New Roman\" SIZE=-2>$122.9</FONT></TD>","<TD ALIGN=RIGHT><FONT FACE=\"Times New Roman\" SIZE=-2>$204.0</FONT></TD>","<TD ALIGN=RIGHT><FONT FACE=\"Times New Roman\" SIZE=-2>$2,095.1</FONT></TD>","<TD ALIGN=RIGHT><FONT FACE=\"Times New Roman\" SIZE=-2>$353.7</FONT></TD>","<TD ALIGN=RIGHT><FONT FACE=\"Times New Roman\" SIZE=-2>$170.1</FONT></TD>","<TD ALIGN=RIGHT><FONT FACE=\"Times New Roman\" SIZE=-2>$1,259.0</FONT></TD>","<TD ALIGN=RIGHT><FONT FACE=\"Times New Roman\" SIZE=-2>$0.0</FONT></TD>","<TD ALIGN=RIGHT><FONT FACE=\"Times New Roman\" SIZE=-2>$333.5</FONT></TD>","<TD ALIGN=RIGHT><FONT FACE=\"Times New Roman\" SIZE=-2>$2,116.3</FONT></TD>","<TD ALIGN=RIGHT><FONT FACE=\"Times New Roman\" SIZE=-2 COLOR=#FF0000>($21.2)</FONT></TD>","</TR>"]
["Town of Providence",{"$f":"'DataNews 2010'!B69","v":693371},{"$f":"'DataNews 2010'!C69","v":497647},{"$f":"'DataNews 2010'!D69","v":142498},{"$f":"'DataNews 2010'!E69","v":0},{"$f":"'DataNews 2010'!F69","v":167239},{"$f":"'DataNews 2010'!G69","v":1500755},{"$f":"'DataNews 2010'!H69","v":160118},{"$f":"'DataNews 2010'!I69","v":50990},{"$f":"'DataNews 2010'!J69","v":852362},{"$f":"'DataNews 2010'!K69","v":0},{"$f":"'DataNews 2010'!L69","v":289823},{"$f":"'DataNews 2010'!M69","v":1353293},{"$f":"'DataNews 2010'!N69","v":147462},null,"<TR>","<TD NOWRAP ALIGN=LEFT><FONT FACE=\"Times New Roman\" SIZE=-2>Town of Providence</TD>","<TD ALIGN=RIGHT><FONT FACE=\"Times New Roman\" SIZE=-2>$693.4</FONT></TD>","<TD ALIGN=RIGHT><FONT FACE=\"Times New Roman\" SIZE=-2>$497.6</FONT></TD>","<TD ALIGN=RIGHT><FONT FACE=\"Times New Roman\" SIZE=-2>$142.5</FONT></TD>","<TD ALIGN=RIGHT><FONT FACE=\"Times New Roman\" SIZE=-2>$0.0</FONT></TD>","<TD ALIGN=RIGHT><FONT FACE=\"Times New Roman\" SIZE=-2>$167.2</FONT></TD>","<TD ALIGN=RIGHT><FONT FACE=\"Times New Roman\" SIZE=-2>$1,500.8</FONT></TD>","<TD ALIGN=RIGHT><FONT FACE=\"Times New Roman\" SIZE=-2>$160.1</FONT></TD>","<TD ALIGN=RIGHT><FONT FACE=\"Times New Roman\" SIZE=-2>$51.0</FONT></TD>","<TD ALIGN=RIGHT><FONT FACE=\"Times New Roman\" SIZE=-2>$852.4</FONT></TD>","<TD ALIGN=RIGHT><FONT FACE=\"Times New Roman\" SIZE=-2>$0.0</FONT></TD>","<TD ALIGN=RIGHT><FONT FACE=\"Times New Roman\" SIZE=-2>$289.8</FONT></TD>","<TD ALIGN=RIGHT><FONT FACE=\"Times New Roman\" SIZE=-2>$1,353.3</FONT></TD>","<TD ALIGN=RIGHT><FONT FACE=\"Times New Roman\" SIZE=-2>$147.5</FONT></TD>","</TR>"]
["Town of Saratoga",{"$f":"'DataNews 2010'!B70","v":611139},{"$f":"'DataNews 2010'!C70","v":1106553},{"$f":"'DataNews 2010'!D70","v":348516},{"$f":"'DataNews 2010'!E70","v":196846},{"$f":"'DataNews 2010'!F70","v":444868},{"$f":"'DataNews 2010'!G70","v":2707922},{"$f":"'DataNews 2010'!H70","v":487385},{"$f":"'DataNews 2010'!I70","v":78105},{"$f":"'DataNews 2010'!J70","v":1048723},{"$f":"'DataNews 2010'!K70","v":199296},{"$f":"'DataNews 2010'!L70","v":695877},{"$f":"'DataNews 2010'!M70","v":2509386},{"$f":"'DataNews 2010'!N70","v":198536},null,"<TR>","<TD NOWRAP ALIGN=LEFT><FONT FACE=\"Times New Roman\" SIZE=-2>Town of Saratoga</TD>","<TD ALIGN=RIGHT><FONT FACE=\"Times New Roman\" SIZE=-2>$611.1</FONT></TD>","<TD ALIGN=RIGHT><FONT FACE=\"Times New Roman\" SIZE=-2>$1,106.6</FONT></TD>","<TD ALIGN=RIGHT><FONT FACE=\"Times New Roman\" SIZE=-2>$348.5</FONT></TD>","<TD ALIGN=RIGHT><FONT FACE=\"Times New Roman\" SIZE=-2>$196.8</FONT></TD>","<TD ALIGN=RIGHT><FONT FACE=\"Times New Roman\" SIZE=-2>$444.9</FONT></TD>","<TD ALIGN=RIGHT><FONT FACE=\"Times New Roman\" SIZE=-2>$2,707.9</FONT></TD>","<TD ALIGN=RIGHT><FONT FACE=\"Times New Roman\" SIZE=-2>$487.4</FONT></TD>","<TD ALIGN=RIGHT><FONT FACE=\"Times New Roman\" SIZE=-2>$78.1</FONT></TD>","<TD ALIGN=RIGHT><FONT FACE=\"Times New Roman\" SIZE=-2>$1,048.7</FONT></TD>","<TD ALIGN=RIGHT><FONT FACE=\"Times New Roman\" SIZE=-2>$199.3</FONT></TD>","<TD ALIGN=RIGHT><FONT FACE=\"Times New Roman\" SIZE=-2>$695.9</FONT></TD>","<TD ALIGN=RIGHT><FONT FACE=\"Times New Roman\" SIZE=-2>$2,509.4</FONT></TD>","<TD ALIGN=RIGHT><FONT FACE=\"Times New Roman\" SIZE=-2>$198.5</FONT></TD>","</TR>"]
["Village of Schuylerville",{"$f":"'DataNews 2010'!B71","v":490174},{"$f":"'DataNews 2010'!C71","v":191670},{"$f":"'DataNews 2010'!D71","v":194370},{"$f":"'DataNews 2010'!E71","v":110719},{"$f":"'DataNews 2010'!F71","v":813000},{"$f":"'DataNews 2010'!G71","v":1799933},{"$f":"'DataNews 2010'!H71","v":447851},{"$f":"'DataNews 2010'!I71","v":99291},{"$f":"'DataNews 2010'!J71","v":830363},{"$f":"'DataNews 2010'!K71","v":112747},{"$f":"'DataNews 2010'!L71","v":473965},{"$f":"'DataNews 2010'!M71","v":1964217},{"$f":"'DataNews 2010'!N71","v":-164284},null,"<TR>","<TD NOWRAP ALIGN=LEFT><FONT FACE=\"Times New Roman\" SIZE=-2>Village of Schuylerville</TD>",{"$f":"\"<TD ALIGN=RIGHT><FONT FACE=\"\"Times New Roman\"\" SIZE=-2\"&IF(B68<0,\" COLOR=#FF0000\",\"\")&\">\"&TEXT(B68/1000,\"$#,##0.0;($#,##0.0)\")&\"</FONT></TD>\"","v":"<TD ALIGN=RIGHT><FONT FACE=\"Times New Roman\" SIZE=-2>$490.2</FONT></TD>"},{"$f":"\"<TD ALIGN=RIGHT><FONT FACE=\"\"Times New Roman\"\" SIZE=-2\"&IF(C68<0,\" COLOR=#FF0000\",\"\")&\">\"&TEXT(C68/1000,\"$#,##0.0;($#,##0.0)\")&\"</FONT></TD>\"","v":"<TD ALIGN=RIGHT><FONT FACE=\"Times New Roman\" SIZE=-2>$191.7</FONT></TD>"},{"$f":"\"<TD ALIGN=RIGHT><FONT FACE=\"\"Times New Roman\"\" SIZE=-2\"&IF(D68<0,\" COLOR=#FF0000\",\"\")&\">\"&TEXT(D68/1000,\"$#,##0.0;($#,##0.0)\")&\"</FONT></TD>\"","v":"<TD ALIGN=RIGHT><FONT FACE=\"Times New Roman\" SIZE=-2>$194.4</FONT></TD>"},{"$f":"\"<TD ALIGN=RIGHT><FONT FACE=\"\"Times New Roman\"\" SIZE=-2\"&IF(E68<0,\" COLOR=#FF0000\",\"\")&\">\"&TEXT(E68/1000,\"$#,##0.0;($#,##0.0)\")&\"</FONT></TD>\"","v":"<TD ALIGN=RIGHT><FONT FACE=\"Times New Roman\" SIZE=-2>$110.7</FONT></TD>"},{"$f":"\"<TD ALIGN=RIGHT><FONT FACE=\"\"Times New Roman\"\" SIZE=-2\"&IF(F68<0,\" COLOR=#FF0000\",\"\")&\">\"&TEXT(F68/1000,\"$#,##0.0;($#,##0.0)\")&\"</FONT></TD>\"","v":"<TD ALIGN=RIGHT><FONT FACE=\"Times New Roman\" SIZE=-2>$813.0</FONT></TD>"},{"$f":"\"<TD ALIGN=RIGHT><FONT FACE=\"\"Times New Roman\"\" SIZE=-2\"&IF(G68<0,\" COLOR=#FF0000\",\"\")&\">\"&TEXT(G68/1000,\"$#,##0.0;($#,##0.0)\")&\"</FONT></TD>\"","v":"<TD ALIGN=RIGHT><FONT FACE=\"Times New Roman\" SIZE=-2>$1,799.9</FONT></TD>"},{"$f":"\"<TD ALIGN=RIGHT><FONT FACE=\"\"Times New Roman\"\" SIZE=-2\"&IF(H68<0,\" COLOR=#FF0000\",\"\")&\">\"&TEXT(H68/1000,\"$#,##0.0;($#,##0.0)\")&\"</FONT></TD>\"","v":"<TD ALIGN=RIGHT><FONT FACE=\"Times New Roman\" SIZE=-2>$447.9</FONT></TD>"},{"$f":"\"<TD ALIGN=RIGHT><FONT FACE=\"\"Times New Roman\"\" SIZE=-2\"&IF(I68<0,\" COLOR=#FF0000\",\"\")&\">\"&TEXT(I68/1000,\"$#,##0.0;($#,##0.0)\")&\"</FONT></TD>\"","v":"<TD ALIGN=RIGHT><FONT FACE=\"Times New Roman\" SIZE=-2>$99.3</FONT></TD>"},{"$f":"\"<TD ALIGN=RIGHT><FONT FACE=\"\"Times New Roman\"\" SIZE=-2\"&IF(J68<0,\" COLOR=#FF0000\",\"\")&\">\"&TEXT(J68/1000,\"$#,##0.0;($#,##0.0)\")&\"</FONT></TD>\"","v":"<TD ALIGN=RIGHT><FONT FACE=\"Times New Roman\" SIZE=-2>$830.4</FONT></TD>"},{"$f":"\"<TD ALIGN=RIGHT><FONT FACE=\"\"Times New Roman\"\" SIZE=-2\"&IF(K68<0,\" COLOR=#FF0000\",\"\")&\">\"&TEXT(K68/1000,\"$#,##0.0;($#,##0.0)\")&\"</FONT></TD>\"","v":"<TD ALIGN=RIGHT><FONT FACE=\"Times New Roman\" SIZE=-2>$112.7</FONT></TD>"},{"$f":"\"<TD ALIGN=RIGHT><FONT FACE=\"\"Times New Roman\"\" SIZE=-2\"&IF(L68<0,\" COLOR=#FF0000\",\"\")&\">\"&TEXT(L68/1000,\"$#,##0.0;($#,##0.0)\")&\"</FONT></TD>\"","v":"<TD ALIGN=RIGHT><FONT FACE=\"Times New Roman\" SIZE=-2>$474.0</FONT></TD>"},{"$f":"\"<TD ALIGN=RIGHT><FONT FACE=\"\"Times New Roman\"\" SIZE=-2\"&IF(M68<0,\" COLOR=#FF0000\",\"\")&\">\"&TEXT(M68/1000,\"$#,##0.0;($#,##0.0)\")&\"</FONT></TD>\"","v":"<TD ALIGN=RIGHT><FONT FACE=\"Times New Roman\" SIZE=-2>$1,964.2</FONT></TD>"},{"$f":"\"<TD ALIGN=RIGHT><FONT FACE=\"\"Times New Roman\"\" SIZE=-2\"&IF(N68<0,\" COLOR=#FF0000\",\"\")&\">\"&TEXT(N68/1000,\"$#,##0.0;($#,##0.0)\")&\"</FONT></TD>\"","v":"<TD ALIGN=RIGHT><FONT FACE=\"Times New Roman\" SIZE=-2 COLOR=#FF0000>($164.3)</FONT></TD>"},"</TR>"]
["Village of Victory",{"$f":"'DataNews 2010'!B72","v":203921},{"$f":"'DataNews 2010'!C72","v":67218},{"$f":"'DataNews 2010'!D72","v":293907},{"$f":"'DataNews 2010'!E72","v":28591},{"$f":"'DataNews 2010'!F72","v":222317},{"$f":"'DataNews 2010'!G72","v":815954},{"$f":"'DataNews 2010'!H72","v":140007},{"$f":"'DataNews 2010'!I72","v":7363},{"$f":"'DataNews 2010'!J72","v":218101},{"$f":"'DataNews 2010'!K72","v":246183},{"$f":"'DataNews 2010'!L72","v":169815},{"$f":"'DataNews 2010'!M72","v":781469},{"$f":"'DataNews 2010'!N72","v":34485},null,"<TR>",{"$f":"\"<TD NOWRAP ALIGN=LEFT><FONT FACE=\"\"Times New Roman\"\" SIZE=-2>\"&A69&\"</TD>\"","v":"<TD NOWRAP ALIGN=LEFT><FONT FACE=\"Times New Roman\" SIZE=-2>Village of Victory</TD>"},{"$f":"\"<TD ALIGN=RIGHT><FONT FACE=\"\"Times New Roman\"\" SIZE=-2\"&IF(B69<0,\" COLOR=#FF0000\",\"\")&\">\"&TEXT(B69/1000,\"$#,##0.0;($#,##0.0)\")&\"</FONT></TD>\"","v":"<TD ALIGN=RIGHT><FONT FACE=\"Times New Roman\" SIZE=-2>$203.9</FONT></TD>"},"<TD ALIGN=RIGHT><FONT FACE=\"Times New Roman\" SIZE=-2>$67.2</FONT></TD>","<TD ALIGN=RIGHT><FONT FACE=\"Times New Roman\" SIZE=-2>$293.9</FONT></TD>","<TD ALIGN=RIGHT><FONT FACE=\"Times New Roman\" SIZE=-2>$28.6</FONT></TD>","<TD ALIGN=RIGHT><FONT FACE=\"Times New Roman\" SIZE=-2>$222.3</FONT></TD>","<TD ALIGN=RIGHT><FONT FACE=\"Times New Roman\" SIZE=-2>$816.0</FONT></TD>","<TD ALIGN=RIGHT><FONT FACE=\"Times New Roman\" SIZE=-2>$140.0</FONT></TD>","<TD ALIGN=RIGHT><FONT FACE=\"Times New Roman\" SIZE=-2>$7.4</FONT></TD>","<TD ALIGN=RIGHT><FONT FACE=\"Times New Roman\" SIZE=-2>$218.1</FONT></TD>","<TD ALIGN=RIGHT><FONT FACE=\"Times New Roman\" SIZE=-2>$246.2</FONT></TD>","<TD ALIGN=RIGHT><FONT FACE=\"Times New Roman\" SIZE=-2>$169.8</FONT></TD>","<TD ALIGN=RIGHT><FONT FACE=\"Times New Roman\" SIZE=-2>$781.5</FONT></TD>","<TD ALIGN=RIGHT><FONT FACE=\"Times New Roman\" SIZE=-2>$34.5</FONT></TD>","</TR>"]
["City of Saratoga Springs",{"$f":"'DataNews 2010'!B73","v":18739369},{"$f":"'DataNews 2010'!C73","v":10852800},{"$f":"'DataNews 2010'!D73","v":11756972},{"$f":"'DataNews 2010'!E73","v":3797171},{"$f":"'DataNews 2010'!F73","v":15172914},{"$f":"'DataNews 2010'!G73","v":60319226},{"$f":"'DataNews 2010'!H73","v":5535381},{"$f":"'DataNews 2010'!I73","v":12190350},{"$f":"'DataNews 2010'!J73","v":13976134},{"$f":"'DataNews 2010'!K73","v":437853},{"$f":"'DataNews 2010'!L73","v":22039296},{"$f":"'DataNews 2010'!M73","v":54179014},{"$f":"'DataNews 2010'!N73","v":6140212},null,"<TR>","<TD NOWRAP ALIGN=LEFT><FONT FACE=\"Times New Roman\" SIZE=-2>City of Saratoga Springs</TD>","<TD ALIGN=RIGHT><FONT FACE=\"Times New Roman\" SIZE=-2>$18,739.4</FONT></TD>","<TD ALIGN=RIGHT><FONT FACE=\"Times New Roman\" SIZE=-2>$10,852.8</FONT></TD>","<TD ALIGN=RIGHT><FONT FACE=\"Times New Roman\" SIZE=-2>$11,757.0</FONT></TD>","<TD ALIGN=RIGHT><FONT FACE=\"Times New Roman\" SIZE=-2>$3,797.2</FONT></TD>","<TD ALIGN=RIGHT><FONT FACE=\"Times New Roman\" SIZE=-2>$15,172.9</FONT></TD>","<TD ALIGN=RIGHT><FONT FACE=\"Times New Roman\" SIZE=-2>$60,319.2</FONT></TD>","<TD ALIGN=RIGHT><FONT FACE=\"Times New Roman\" SIZE=-2>$5,535.4</FONT></TD>","<TD ALIGN=RIGHT><FONT FACE=\"Times New Roman\" SIZE=-2>$12,190.4</FONT></TD>","<TD ALIGN=RIGHT><FONT FACE=\"Times New Roman\" SIZE=-2>$13,976.1</FONT></TD>","<TD ALIGN=RIGHT><FONT FACE=\"Times New Roman\" SIZE=-2>$437.9</FONT></TD>","<TD ALIGN=RIGHT><FONT FACE=\"Times New Roman\" SIZE=-2>$22,039.3</FONT></TD>","<TD ALIGN=RIGHT><FONT FACE=\"Times New Roman\" SIZE=-2>$54,179.0</FONT></TD>","<TD ALIGN=RIGHT><FONT FACE=\"Times New Roman\" SIZE=-2>$6,140.2</FONT></TD>","</TR>"]
["Town of Stillwater",{"$f":"'DataNews 2010'!B74","v":1940531},{"$f":"'DataNews 2010'!C74","v":1622200},{"$f":"'DataNews 2010'!D74","v":1332105},{"$f":"'DataNews 2010'!E74","v":774574},{"$f":"'DataNews 2010'!F74","v":6302338},{"$f":"'DataNews 2010'!G74","v":11971748},{"$f":"'DataNews 2010'!H74","v":924579},{"$f":"'DataNews 2010'!I74","v":1142577},{"$f":"'DataNews 2010'!J74","v":2364767},{"$f":"'DataNews 2010'!K74","v":76193},{"$f":"'DataNews 2010'!L74","v":3884554},{"$f":"'DataNews 2010'!M74","v":8392670},{"$f":"'DataNews 2010'!N74","v":3579078},null,"<TR>","<TD NOWRAP ALIGN=LEFT><FONT FACE=\"Times New Roman\" SIZE=-2>Town of Stillwater</TD>","<TD ALIGN=RIGHT><FONT FACE=\"Times New Roman\" SIZE=-2>$1,940.5</FONT></TD>","<TD ALIGN=RIGHT><FONT FACE=\"Times New Roman\" SIZE=-2>$1,622.2</FONT></TD>","<TD ALIGN=RIGHT><FONT FACE=\"Times New Roman\" SIZE=-2>$1,332.1</FONT></TD>","<TD ALIGN=RIGHT><FONT FACE=\"Times New Roman\" SIZE=-2>$774.6</FONT></TD>","<TD ALIGN=RIGHT><FONT FACE=\"Times New Roman\" SIZE=-2>$6,302.3</FONT></TD>","<TD ALIGN=RIGHT><FONT FACE=\"Times New Roman\" SIZE=-2>$11,971.7</FONT></TD>","<TD ALIGN=RIGHT><FONT FACE=\"Times New Roman\" SIZE=-2>$924.6</FONT></TD>","<TD ALIGN=RIGHT><FONT FACE=\"Times New Roman\" SIZE=-2>$1,142.6</FONT></TD>","<TD ALIGN=RIGHT><FONT FACE=\"Times New Roman\" SIZE=-2>$2,364.8</FONT></TD>","<TD ALIGN=RIGHT><FONT FACE=\"Times New Roman\" SIZE=-2>$76.2</FONT></TD>","<TD ALIGN=RIGHT><FONT FACE=\"Times New Roman\" SIZE=-2>$3,884.6</FONT></TD>","<TD ALIGN=RIGHT><FONT FACE=\"Times New Roman\" SIZE=-2>$8,392.7</FONT></TD>","<TD ALIGN=RIGHT><FONT FACE=\"Times New Roman\" SIZE=-2>$3,579.1</FONT></TD>","</TR>"]
["Village of Stillwater",{"$f":"'DataNews 2010'!B75","v":384286},{"$f":"'DataNews 2010'!C75","v":230065},{"$f":"'DataNews 2010'!D75","v":30013},{"$f":"'DataNews 2010'!E75","v":18666},{"$f":"'DataNews 2010'!F75","v":828322},{"$f":"'DataNews 2010'!G75","v":1491352},{"$f":"'DataNews 2010'!H75","v":172968},{"$f":"'DataNews 2010'!I75","v":70286},{"$f":"'DataNews 2010'!J75","v":929731},{"$f":"'DataNews 2010'!K75","v":0},{"$f":"'DataNews 2010'!L75","v":476325},{"$f":"'DataNews 2010'!M75","v":1649310},{"$f":"'DataNews 2010'!N75","v":-157958},null,"<TR>","<TD NOWRAP ALIGN=LEFT><FONT FACE=\"Times New Roman\" SIZE=-2>Village of Stillwater</TD>","<TD ALIGN=RIGHT><FONT FACE=\"Times New Roman\" SIZE=-2>$384.3</FONT></TD>","<TD ALIGN=RIGHT><FONT FACE=\"Times New Roman\" SIZE=-2>$230.1</FONT></TD>","<TD ALIGN=RIGHT><FONT FACE=\"Times New Roman\" SIZE=-2>$30.0</FONT></TD>","<TD ALIGN=RIGHT><FONT FACE=\"Times New Roman\" SIZE=-2>$18.7</FONT></TD>","<TD ALIGN=RIGHT><FONT FACE=\"Times New Roman\" SIZE=-2>$828.3</FONT></TD>","<TD ALIGN=RIGHT><FONT FACE=\"Times New Roman\" SIZE=-2>$1,491.4</FONT></TD>","<TD ALIGN=RIGHT><FONT FACE=\"Times New Roman\" SIZE=-2>$173.0</FONT></TD>","<TD ALIGN=RIGHT><FONT FACE=\"Times New Roman\" SIZE=-2>$70.3</FONT></TD>","<TD ALIGN=RIGHT><FONT FACE=\"Times New Roman\" SIZE=-2>$929.7</FONT></TD>","<TD ALIGN=RIGHT><FONT FACE=\"Times New Roman\" SIZE=-2>$0.0</FONT></TD>","<TD ALIGN=RIGHT><FONT FACE=\"Times New Roman\" SIZE=-2>$476.3</FONT></TD>","<TD ALIGN=RIGHT><FONT FACE=\"Times New Roman\" SIZE=-2>$1,649.3</FONT></TD>","<TD ALIGN=RIGHT><FONT FACE=\"Times New Roman\" SIZE=-2 COLOR=#FF0000>($158.0)</FONT></TD>","</TR>"]
["Town of Waterford",{"$f":"'DataNews 2010'!B76","v":3376439},{"$f":"'DataNews 2010'!C76","v":1431866},{"$f":"'DataNews 2010'!D76","v":878600},{"$f":"'DataNews 2010'!E76","v":380436},{"$f":"'DataNews 2010'!F76","v":2012752},{"$f":"'DataNews 2010'!G76","v":8080093},{"$f":"'DataNews 2010'!H76","v":1371657},{"$f":"'DataNews 2010'!I76","v":1536424},{"$f":"'DataNews 2010'!J76","v":1696088},{"$f":"'DataNews 2010'!K76","v":128338},{"$f":"'DataNews 2010'!L76","v":3281946},{"$f":"'DataNews 2010'!M76","v":8014453},{"$f":"'DataNews 2010'!N76","v":65640},null,"<TR>","<TD NOWRAP ALIGN=LEFT><FONT FACE=\"Times New Roman\" SIZE=-2>Town of Waterford</TD>","<TD ALIGN=RIGHT><FONT FACE=\"Times New Roman\" SIZE=-2>$3,376.4</FONT></TD>","<TD ALIGN=RIGHT><FONT FACE=\"Times New Roman\" SIZE=-2>$1,431.9</FONT></TD>","<TD ALIGN=RIGHT><FONT FACE=\"Times New Roman\" SIZE=-2>$878.6</FONT></TD>","<TD ALIGN=RIGHT><FONT FACE=\"Times New Roman\" SIZE=-2>$380.4</FONT></TD>","<TD ALIGN=RIGHT><FONT FACE=\"Times New Roman\" SIZE=-2>$2,012.8</FONT></TD>","<TD ALIGN=RIGHT><FONT FACE=\"Times New Roman\" SIZE=-2>$8,080.1</FONT></TD>","<TD ALIGN=RIGHT><FONT FACE=\"Times New Roman\" SIZE=-2>$1,371.7</FONT></TD>","<TD ALIGN=RIGHT><FONT FACE=\"Times New Roman\" SIZE=-2>$1,536.4</FONT></TD>","<TD ALIGN=RIGHT><FONT FACE=\"Times New Roman\" SIZE=-2>$1,696.1</FONT></TD>","<TD ALIGN=RIGHT><FONT FACE=\"Times New Roman\" SIZE=-2>$128.3</FONT></TD>","<TD ALIGN=RIGHT><FONT FACE=\"Times New Roman\" SIZE=-2>$3,281.9</FONT></TD>","<TD ALIGN=RIGHT><FONT FACE=\"Times New Roman\" SIZE=-2>$8,014.5</FONT></TD>","<TD ALIGN=RIGHT><FONT FACE=\"Times New Roman\" SIZE=-2>$65.6</FONT></TD>","</TR>"]
["Village of Waterford",{"$f":"'DataNews 2010'!B77","v":248674},{"$f":"'DataNews 2010'!C77","v":146012},{"$f":"'DataNews 2010'!D77","v":203916},{"$f":"'DataNews 2010'!E77","v":361242},{"$f":"'DataNews 2010'!F77","v":367264},{"$f":"'DataNews 2010'!G77","v":1327108},{"$f":"'DataNews 2010'!H77","v":138713},{"$f":"'DataNews 2010'!I77","v":203795},{"$f":"'DataNews 2010'!J77","v":424183},{"$f":"'DataNews 2010'!K77","v":0},{"$f":"'DataNews 2010'!L77","v":495794},{"$f":"'DataNews 2010'!M77","v":1262485},{"$f":"'DataNews 2010'!N77","v":64623},null,"<TR>","<TD NOWRAP ALIGN=LEFT><FONT FACE=\"Times New Roman\" SIZE=-2>Village of Waterford</TD>","<TD ALIGN=RIGHT><FONT FACE=\"Times New Roman\" SIZE=-2>$248.7</FONT></TD>","<TD ALIGN=RIGHT><FONT FACE=\"Times New Roman\" SIZE=-2>$146.0</FONT></TD>","<TD ALIGN=RIGHT><FONT FACE=\"Times New Roman\" SIZE=-2>$203.9</FONT></TD>","<TD ALIGN=RIGHT><FONT FACE=\"Times New Roman\" SIZE=-2>$361.2</FONT></TD>","<TD ALIGN=RIGHT><FONT FACE=\"Times New Roman\" SIZE=-2>$367.3</FONT></TD>","<TD ALIGN=RIGHT><FONT FACE=\"Times New Roman\" SIZE=-2>$1,327.1</FONT></TD>","<TD ALIGN=RIGHT><FONT FACE=\"Times New Roman\" SIZE=-2>$138.7</FONT></TD>","<TD ALIGN=RIGHT><FONT FACE=\"Times New Roman\" SIZE=-2>$203.8</FONT></TD>","<TD ALIGN=RIGHT><FONT FACE=\"Times New Roman\" SIZE=-2>$424.2</FONT></TD>","<TD ALIGN=RIGHT><FONT FACE=\"Times New Roman\" SIZE=-2>$0.0</FONT></TD>","<TD ALIGN=RIGHT><FONT FACE=\"Times New Roman\" SIZE=-2>$495.8</FONT></TD>","<TD ALIGN=RIGHT><FONT FACE=\"Times New Roman\" SIZE=-2>$1,262.5</FONT></TD>","<TD ALIGN=RIGHT><FONT FACE=\"Times New Roman\" SIZE=-2>$64.6</FONT></TD>","</TR>"]
["Town of Wilton",{"$f":"'DataNews 2010'!B78","v":566334},{"$f":"'DataNews 2010'!C78","v":4502733},{"$f":"'DataNews 2010'!D78","v":690241},{"$f":"'DataNews 2010'!E78","v":95555},{"$f":"'DataNews 2010'!F78","v":1387481},{"$f":"'DataNews 2010'!G78","v":7242344},{"$f":"'DataNews 2010'!H78","v":1492551},{"$f":"'DataNews 2010'!I78","v":712345},{"$f":"'DataNews 2010'!J78","v":1989682},{"$f":"'DataNews 2010'!K78","v":2479},{"$f":"'DataNews 2010'!L78","v":2270668},{"$f":"'DataNews 2010'!M78","v":6467725},{"$f":"'DataNews 2010'!N78","v":774619},null,"<TR>","<TD NOWRAP ALIGN=LEFT><FONT FACE=\"Times New Roman\" SIZE=-2>Town of Wilton</TD>","<TD ALIGN=RIGHT><FONT FACE=\"Times New Roman\" SIZE=-2>$566.3</FONT></TD>","<TD ALIGN=RIGHT><FONT FACE=\"Times New Roman\" SIZE=-2>$4,502.7</FONT></TD>","<TD ALIGN=RIGHT><FONT FACE=\"Times New Roman\" SIZE=-2>$690.2</FONT></TD>","<TD ALIGN=RIGHT><FONT FACE=\"Times New Roman\" SIZE=-2>$95.6</FONT></TD>","<TD ALIGN=RIGHT><FONT FACE=\"Times New Roman\" SIZE=-2>$1,387.5</FONT></TD>","<TD ALIGN=RIGHT><FONT FACE=\"Times New Roman\" SIZE=-2>$7,242.3</FONT></TD>","<TD ALIGN=RIGHT><FONT FACE=\"Times New Roman\" SIZE=-2>$1,492.6</FONT></TD>","<TD ALIGN=RIGHT><FONT FACE=\"Times New Roman\" SIZE=-2>$712.3</FONT></TD>","<TD ALIGN=RIGHT><FONT FACE=\"Times New Roman\" SIZE=-2>$1,989.7</FONT></TD>","<TD ALIGN=RIGHT><FONT FACE=\"Times New Roman\" SIZE=-2>$2.5</FONT></TD>","<TD ALIGN=RIGHT><FONT FACE=\"Times New Roman\" SIZE=-2>$2,270.7</FONT></TD>","<TD ALIGN=RIGHT><FONT FACE=\"Times New Roman\" SIZE=-2>$6,467.7</FONT></TD>","<TD ALIGN=RIGHT><FONT FACE=\"Times New Roman\" SIZE=-2>$774.6</FONT></TD>","</TR>"]
["Schenectady County",{"$f":"'DataNews 2010'!B79","v":66683038},{"$f":"'DataNews 2010'!C79","v":82717843},{"$f":"'DataNews 2010'!D79","v":46741425},{"$f":"'DataNews 2010'!E79","v":34631818},{"$f":"'DataNews 2010'!F79","v":59120087},{"$f":"'DataNews 2010'!G79","v":289894211},{"$f":"'DataNews 2010'!H79","v":50293418},{"$f":"'DataNews 2010'!I79","v":53068137},{"$f":"'DataNews 2010'!J79","v":16412094},{"$f":"'DataNews 2010'!K79","v":662969},{"$f":"'DataNews 2010'!L79","v":172081966},{"$f":"'DataNews 2010'!M79","v":292518584},{"$f":"'DataNews 2010'!N79","v":-2624373},null,"<TR>",{"$f":"\"<TD NOWRAP ALIGN=LEFT><FONT FACE=\"\"Times New Roman\"\" SIZE=-2><B>\"&A76&\"</B></TD>\"","v":"<TD NOWRAP ALIGN=LEFT><FONT FACE=\"Times New Roman\" SIZE=-2><B>Schenectady County</B></TD>"},"<TD ALIGN=RIGHT><FONT FACE=\"Times New Roman\" SIZE=-2>$66,683.0</FONT></TD>","<TD ALIGN=RIGHT><FONT FACE=\"Times New Roman\" SIZE=-2>$82,717.8</FONT></TD>","<TD ALIGN=RIGHT><FONT FACE=\"Times New Roman\" SIZE=-2>$46,741.4</FONT></TD>","<TD ALIGN=RIGHT><FONT FACE=\"Times New Roman\" SIZE=-2>$34,631.8</FONT></TD>","<TD ALIGN=RIGHT><FONT FACE=\"Times New Roman\" SIZE=-2>$59,120.1</FONT></TD>","<TD ALIGN=RIGHT><FONT FACE=\"Times New Roman\" SIZE=-2>$289,894.2</FONT></TD>","<TD ALIGN=RIGHT><FONT FACE=\"Times New Roman\" SIZE=-2>$50,293.4</FONT></TD>","<TD ALIGN=RIGHT><FONT FACE=\"Times New Roman\" SIZE=-2>$53,068.1</FONT></TD>","<TD ALIGN=RIGHT><FONT FACE=\"Times New Roman\" SIZE=-2>$16,412.1</FONT></TD>","<TD ALIGN=RIGHT><FONT FACE=\"Times New Roman\" SIZE=-2>$663.0</FONT></TD>","<TD ALIGN=RIGHT><FONT FACE=\"Times New Roman\" SIZE=-2>$172,082.0</FONT></TD>","<TD ALIGN=RIGHT><FONT FACE=\"Times New Roman\" SIZE=-2>$292,518.6</FONT></TD>","<TD ALIGN=RIGHT><FONT FACE=\"Times New Roman\" SIZE=-2 COLOR=#FF0000>($2,624.4)</FONT></TD>","</TR>"]
["Town of Duanesburg",{"$f":"'DataNews 2010'!B80","v":1503058},{"$f":"'DataNews 2010'!C80","v":724896},{"$f":"'DataNews 2010'!D80","v":222014},{"$f":"'DataNews 2010'!E80","v":87463},{"$f":"'DataNews 2010'!F80","v":300200},{"$f":"'DataNews 2010'!G80","v":2837631},{"$f":"'DataNews 2010'!H80","v":606647},{"$f":"'DataNews 2010'!I80","v":448190},{"$f":"'DataNews 2010'!J80","v":932188},{"$f":"'DataNews 2010'!K80","v":90536},{"$f":"'DataNews 2010'!L80","v":688462},{"$f":"'DataNews 2010'!M80","v":2766023},{"$f":"'DataNews 2010'!N80","v":71608},null,"<TR>",{"$f":"\"<TD NOWRAP ALIGN=LEFT><FONT FACE=\"\"Times New Roman\"\" SIZE=-2>\"&A77&\"</TD>\"","v":"<TD NOWRAP ALIGN=LEFT><FONT FACE=\"Times New Roman\" SIZE=-2>Town of Duanesburg</TD>"},"<TD ALIGN=RIGHT><FONT FACE=\"Times New Roman\" SIZE=-2>$1,503.1</FONT></TD>","<TD ALIGN=RIGHT><FONT FACE=\"Times New Roman\" SIZE=-2>$724.9</FONT></TD>","<TD ALIGN=RIGHT><FONT FACE=\"Times New Roman\" SIZE=-2>$222.0</FONT></TD>","<TD ALIGN=RIGHT><FONT FACE=\"Times New Roman\" SIZE=-2>$87.5</FONT></TD>","<TD ALIGN=RIGHT><FONT FACE=\"Times New Roman\" SIZE=-2>$300.2</FONT></TD>","<TD ALIGN=RIGHT><FONT FACE=\"Times New Roman\" SIZE=-2>$2,837.6</FONT></TD>","<TD ALIGN=RIGHT><FONT FACE=\"Times New Roman\" SIZE=-2>$606.6</FONT></TD>","<TD ALIGN=RIGHT><FONT FACE=\"Times New Roman\" SIZE=-2>$448.2</FONT></TD>","<TD ALIGN=RIGHT><FONT FACE=\"Times New Roman\" SIZE=-2>$932.2</FONT></TD>","<TD ALIGN=RIGHT><FONT FACE=\"Times New Roman\" SIZE=-2>$90.5</FONT></TD>","<TD ALIGN=RIGHT><FONT FACE=\"Times New Roman\" SIZE=-2>$688.5</FONT></TD>","<TD ALIGN=RIGHT><FONT FACE=\"Times New Roman\" SIZE=-2>$2,766.0</FONT></TD>","<TD ALIGN=RIGHT><FONT FACE=\"Times New Roman\" SIZE=-2>$71.6</FONT></TD>","</TR>"]
["Village of Delanson",{"$f":"'DataNews 2010'!B81","v":74484},{"$f":"'DataNews 2010'!C81","v":35349},{"$f":"'DataNews 2010'!D81","v":29495},{"$f":"'DataNews 2010'!E81","v":0},{"$f":"'DataNews 2010'!F81","v":154424},{"$f":"'DataNews 2010'!G81","v":293752},{"$f":"'DataNews 2010'!H81","v":76031},{"$f":"'DataNews 2010'!I81","v":32053},{"$f":"'DataNews 2010'!J81","v":117243},{"$f":"'DataNews 2010'!K81","v":0},{"$f":"'DataNews 2010'!L81","v":45915},{"$f":"'DataNews 2010'!M81","v":271242},{"$f":"'DataNews 2010'!N81","v":22510},null,"<TR>","<TD NOWRAP ALIGN=LEFT><FONT FACE=\"Times New Roman\" SIZE=-2>Village of Delanson</TD>","<TD ALIGN=RIGHT><FONT FACE=\"Times New Roman\" SIZE=-2>$74.5</FONT></TD>","<TD ALIGN=RIGHT><FONT FACE=\"Times New Roman\" SIZE=-2>$35.3</FONT></TD>","<TD ALIGN=RIGHT><FONT FACE=\"Times New Roman\" SIZE=-2>$29.5</FONT></TD>","<TD ALIGN=RIGHT><FONT FACE=\"Times New Roman\" SIZE=-2>$0.0</FONT></TD>","<TD ALIGN=RIGHT><FONT FACE=\"Times New Roman\" SIZE=-2>$154.4</FONT></TD>","<TD ALIGN=RIGHT><FONT FACE=\"Times New Roman\" SIZE=-2>$293.8</FONT></TD>","<TD ALIGN=RIGHT><FONT FACE=\"Times New Roman\" SIZE=-2>$76.0</FONT></TD>","<TD ALIGN=RIGHT><FONT FACE=\"Times New Roman\" SIZE=-2>$32.1</FONT></TD>","<TD ALIGN=RIGHT><FONT FACE=\"Times New Roman\" SIZE=-2>$117.2</FONT></TD>","<TD ALIGN=RIGHT><FONT FACE=\"Times New Roman\" SIZE=-2>$0.0</FONT></TD>","<TD ALIGN=RIGHT><FONT FACE=\"Times New Roman\" SIZE=-2>$45.9</FONT></TD>","<TD ALIGN=RIGHT><FONT FACE=\"Times New Roman\" SIZE=-2>$271.2</FONT></TD>","<TD ALIGN=RIGHT><FONT FACE=\"Times New Roman\" SIZE=-2>$22.5</FONT></TD>","</TR>"]
["Town of Glenville",{"$f":"'DataNews 2010'!B82","v":7493737},{"$f":"'DataNews 2010'!C82","v":2534366},{"$f":"'DataNews 2010'!D82","v":894403},{"$f":"'DataNews 2010'!E82","v":473431},{"$f":"'DataNews 2010'!F82","v":6657067},{"$f":"'DataNews 2010'!G82","v":18053004},{"$f":"'DataNews 2010'!H82","v":1470342},{"$f":"'DataNews 2010'!I82","v":3685801},{"$f":"'DataNews 2010'!J82","v":4538867},{"$f":"'DataNews 2010'!K82","v":156892},{"$f":"'DataNews 2010'!L82","v":5983021},{"$f":"'DataNews 2010'!M82","v":15834923},{"$f":"'DataNews 2010'!N82","v":2218081},null,"<TR>","<TD NOWRAP ALIGN=LEFT><FONT FACE=\"Times New Roman\" SIZE=-2>Town of Glenville</TD>","<TD ALIGN=RIGHT><FONT FACE=\"Times New Roman\" SIZE=-2>$7,493.7</FONT></TD>","<TD ALIGN=RIGHT><FONT FACE=\"Times New Roman\" SIZE=-2>$2,534.4</FONT></TD>","<TD ALIGN=RIGHT><FONT FACE=\"Times New Roman\" SIZE=-2>$894.4</FONT></TD>","<TD ALIGN=RIGHT><FONT FACE=\"Times New Roman\" SIZE=-2>$473.4</FONT></TD>","<TD ALIGN=RIGHT><FONT FACE=\"Times New Roman\" SIZE=-2>$6,657.1</FONT></TD>","<TD ALIGN=RIGHT><FONT FACE=\"Times New Roman\" SIZE=-2>$18,053.0</FONT></TD>","<TD ALIGN=RIGHT><FONT FACE=\"Times New Roman\" SIZE=-2>$1,470.3</FONT></TD>","<TD ALIGN=RIGHT><FONT FACE=\"Times New Roman\" SIZE=-2>$3,685.8</FONT></TD>","<TD ALIGN=RIGHT><FONT FACE=\"Times New Roman\" SIZE=-2>$4,538.9</FONT></TD>","<TD ALIGN=RIGHT><FONT FACE=\"Times New Roman\" SIZE=-2>$156.9</FONT></TD>","<TD ALIGN=RIGHT><FONT FACE=\"Times New Roman\" SIZE=-2>$5,983.0</FONT></TD>","<TD ALIGN=RIGHT><FONT FACE=\"Times New Roman\" SIZE=-2>$15,834.9</FONT></TD>","<TD ALIGN=RIGHT><FONT FACE=\"Times New Roman\" SIZE=-2>$2,218.1</FONT></TD>","</TR>"]
["Village of Scotia",{"$f":"'DataNews 2010'!B83","v":3867486},{"$f":"'DataNews 2010'!C83","v":762478},{"$f":"'DataNews 2010'!D83","v":1675868},{"$f":"'DataNews 2010'!E83","v":640262},{"$f":"'DataNews 2010'!F83","v":3018926},{"$f":"'DataNews 2010'!G83","v":9965020},{"$f":"'DataNews 2010'!H83","v":639606},{"$f":"'DataNews 2010'!I83","v":3118024},{"$f":"'DataNews 2010'!J83","v":2753783},{"$f":"'DataNews 2010'!K83","v":58440},{"$f":"'DataNews 2010'!L83","v":3596771},{"$f":"'DataNews 2010'!M83","v":10166624},{"$f":"'DataNews 2010'!N83","v":-201604},null,"<TR>","<TD NOWRAP ALIGN=LEFT><FONT FACE=\"Times New Roman\" SIZE=-2>Village of Scotia</TD>","<TD ALIGN=RIGHT><FONT FACE=\"Times New Roman\" SIZE=-2>$3,867.5</FONT></TD>","<TD ALIGN=RIGHT><FONT FACE=\"Times New Roman\" SIZE=-2>$762.5</FONT></TD>","<TD ALIGN=RIGHT><FONT FACE=\"Times New Roman\" SIZE=-2>$1,675.9</FONT></TD>","<TD ALIGN=RIGHT><FONT FACE=\"Times New Roman\" SIZE=-2>$640.3</FONT></TD>","<TD ALIGN=RIGHT><FONT FACE=\"Times New Roman\" SIZE=-2>$3,018.9</FONT></TD>","<TD ALIGN=RIGHT><FONT FACE=\"Times New Roman\" SIZE=-2>$9,965.0</FONT></TD>","<TD ALIGN=RIGHT><FONT FACE=\"Times New Roman\" SIZE=-2>$639.6</FONT></TD>","<TD ALIGN=RIGHT><FONT FACE=\"Times New Roman\" SIZE=-2>$3,118.0</FONT></TD>","<TD ALIGN=RIGHT><FONT FACE=\"Times New Roman\" SIZE=-2>$2,753.8</FONT></TD>","<TD ALIGN=RIGHT><FONT FACE=\"Times New Roman\" SIZE=-2>$58.4</FONT></TD>","<TD ALIGN=RIGHT><FONT FACE=\"Times New Roman\" SIZE=-2>$3,596.8</FONT></TD>","<TD ALIGN=RIGHT><FONT FACE=\"Times New Roman\" SIZE=-2>$10,166.6</FONT></TD>","<TD ALIGN=RIGHT><FONT FACE=\"Times New Roman\" SIZE=-2 COLOR=#FF0000>($201.6)</FONT></TD>","</TR>"]
["Town of Niskayuna",{"$f":"'DataNews 2010'!B84","v":10443428},{"$f":"'DataNews 2010'!C84","v":3026887},{"$f":"'DataNews 2010'!D84","v":954275},{"$f":"'DataNews 2010'!E84","v":560396},{"$f":"'DataNews 2010'!F84","v":14568347},{"$f":"'DataNews 2010'!G84","v":29553333},{"$f":"'DataNews 2010'!H84","v":1705458},{"$f":"'DataNews 2010'!I84","v":3355750},{"$f":"'DataNews 2010'!J84","v":10171470},{"$f":"'DataNews 2010'!K84","v":0},{"$f":"'DataNews 2010'!L84","v":7007185},{"$f":"'DataNews 2010'!M84","v":22239863},{"$f":"'DataNews 2010'!N84","v":7313470},null,"<TR>","<TD NOWRAP ALIGN=LEFT><FONT FACE=\"Times New Roman\" SIZE=-2>Town of Niskayuna</TD>","<TD ALIGN=RIGHT><FONT FACE=\"Times New Roman\" SIZE=-2>$10,443.4</FONT></TD>","<TD ALIGN=RIGHT><FONT FACE=\"Times New Roman\" SIZE=-2>$3,026.9</FONT></TD>","<TD ALIGN=RIGHT><FONT FACE=\"Times New Roman\" SIZE=-2>$954.3</FONT></TD>","<TD ALIGN=RIGHT><FONT FACE=\"Times New Roman\" SIZE=-2>$560.4</FONT></TD>","<TD ALIGN=RIGHT><FONT FACE=\"Times New Roman\" SIZE=-2>$14,568.3</FONT></TD>","<TD ALIGN=RIGHT><FONT FACE=\"Times New Roman\" SIZE=-2>$29,553.3</FONT></TD>","<TD ALIGN=RIGHT><FONT FACE=\"Times New Roman\" SIZE=-2>$1,705.5</FONT></TD>","<TD ALIGN=RIGHT><FONT FACE=\"Times New Roman\" SIZE=-2>$3,355.8</FONT></TD>","<TD ALIGN=RIGHT><FONT FACE=\"Times New Roman\" SIZE=-2>$10,171.5</FONT></TD>","<TD ALIGN=RIGHT><FONT FACE=\"Times New Roman\" SIZE=-2>$0.0</FONT></TD>","<TD ALIGN=RIGHT><FONT FACE=\"Times New Roman\" SIZE=-2>$7,007.2</FONT></TD>","<TD ALIGN=RIGHT><FONT FACE=\"Times New Roman\" SIZE=-2>$22,239.9</FONT></TD>","<TD ALIGN=RIGHT><FONT FACE=\"Times New Roman\" SIZE=-2>$7,313.5</FONT></TD>","</TR>"]
["Town of Princetown",{"$f":"'DataNews 2010'!B85","v":481867},{"$f":"'DataNews 2010'!C85","v":193766},{"$f":"'DataNews 2010'!D85","v":71230},{"$f":"'DataNews 2010'!E85","v":28267},{"$f":"'DataNews 2010'!F85","v":836434},{"$f":"'DataNews 2010'!G85","v":1611564},{"$f":"'DataNews 2010'!H85","v":382128},{"$f":"'DataNews 2010'!I85","v":276318},{"$f":"'DataNews 2010'!J85","v":556071},{"$f":"'DataNews 2010'!K85","v":0},{"$f":"'DataNews 2010'!L85","v":314557},{"$f":"'DataNews 2010'!M85","v":1529074},{"$f":"'DataNews 2010'!N85","v":82490},null,"<TR>","<TD NOWRAP ALIGN=LEFT><FONT FACE=\"Times New Roman\" SIZE=-2>Town of Princetown</TD>","<TD ALIGN=RIGHT><FONT FACE=\"Times New Roman\" SIZE=-2>$481.9</FONT></TD>","<TD ALIGN=RIGHT><FONT FACE=\"Times New Roman\" SIZE=-2>$193.8</FONT></TD>","<TD ALIGN=RIGHT><FONT FACE=\"Times New Roman\" SIZE=-2>$71.2</FONT></TD>","<TD ALIGN=RIGHT><FONT FACE=\"Times New Roman\" SIZE=-2>$28.3</FONT></TD>","<TD ALIGN=RIGHT><FONT FACE=\"Times New Roman\" SIZE=-2>$836.4</FONT></TD>","<TD ALIGN=RIGHT><FONT FACE=\"Times New Roman\" SIZE=-2>$1,611.6</FONT></TD>","<TD ALIGN=RIGHT><FONT FACE=\"Times New Roman\" SIZE=-2>$382.1</FONT></TD>","<TD ALIGN=RIGHT><FONT FACE=\"Times New Roman\" SIZE=-2>$276.3</FONT></TD>","<TD ALIGN=RIGHT><FONT FACE=\"Times New Roman\" SIZE=-2>$556.1</FONT></TD>","<TD ALIGN=RIGHT><FONT FACE=\"Times New Roman\" SIZE=-2>$0.0</FONT></TD>","<TD ALIGN=RIGHT><FONT FACE=\"Times New Roman\" SIZE=-2>$314.6</FONT></TD>","<TD ALIGN=RIGHT><FONT FACE=\"Times New Roman\" SIZE=-2>$1,529.1</FONT></TD>","<TD ALIGN=RIGHT><FONT FACE=\"Times New Roman\" SIZE=-2>$82.5</FONT></TD>","</TR>"]
["Town of Rotterdam",{"$f":"'DataNews 2010'!B86","v":11788200},{"$f":"'DataNews 2010'!C86","v":3523483},{"$f":"'DataNews 2010'!D86","v":1021568},{"$f":"'DataNews 2010'!E86","v":1543636},{"$f":"'DataNews 2010'!F86","v":2725968},{"$f":"'DataNews 2010'!G86","v":20602855},{"$f":"'DataNews 2010'!H86","v":2245334},{"$f":"'DataNews 2010'!I86","v":5792151},{"$f":"'DataNews 2010'!J86","v":6629806},{"$f":"'DataNews 2010'!K86","v":3660},{"$f":"'DataNews 2010'!L86","v":8404894},{"$f":"'DataNews 2010'!M86","v":23075845},{"$f":"'DataNews 2010'!N86","v":-2472990},null,"<TR>","<TD NOWRAP ALIGN=LEFT><FONT FACE=\"Times New Roman\" SIZE=-2>Town of Rotterdam</TD>","<TD ALIGN=RIGHT><FONT FACE=\"Times New Roman\" SIZE=-2>$11,788.2</FONT></TD>","<TD ALIGN=RIGHT><FONT FACE=\"Times New Roman\" SIZE=-2>$3,523.5</FONT></TD>","<TD ALIGN=RIGHT><FONT FACE=\"Times New Roman\" SIZE=-2>$1,021.6</FONT></TD>","<TD ALIGN=RIGHT><FONT FACE=\"Times New Roman\" SIZE=-2>$1,543.6</FONT></TD>","<TD ALIGN=RIGHT><FONT FACE=\"Times New Roman\" SIZE=-2>$2,726.0</FONT></TD>","<TD ALIGN=RIGHT><FONT FACE=\"Times New Roman\" SIZE=-2>$20,602.9</FONT></TD>","<TD ALIGN=RIGHT><FONT FACE=\"Times New Roman\" SIZE=-2>$2,245.3</FONT></TD>","<TD ALIGN=RIGHT><FONT FACE=\"Times New Roman\" SIZE=-2>$5,792.2</FONT></TD>","<TD ALIGN=RIGHT><FONT FACE=\"Times New Roman\" SIZE=-2>$6,629.8</FONT></TD>","<TD ALIGN=RIGHT><FONT FACE=\"Times New Roman\" SIZE=-2>$3.7</FONT></TD>","<TD ALIGN=RIGHT><FONT FACE=\"Times New Roman\" SIZE=-2>$8,404.9</FONT></TD>","<TD ALIGN=RIGHT><FONT FACE=\"Times New Roman\" SIZE=-2>$23,075.8</FONT></TD>","<TD ALIGN=RIGHT><FONT FACE=\"Times New Roman\" SIZE=-2 COLOR=#FF0000>($2,473.0)</FONT></TD>","</TR>"]
["City of Schenectady",{"$f":"'DataNews 2010'!B87","v":26861368},{"$f":"'DataNews 2010'!C87","v":11848038},{"$f":"'DataNews 2010'!D87","v":16346137},{"$f":"'DataNews 2010'!E87","v":8428494},{"$f":"'DataNews 2010'!F87","v":41063370},{"$f":"'DataNews 2010'!G87","v":104547407},{"$f":"'DataNews 2010'!H87","v":22284818},{"$f":"'DataNews 2010'!I87","v":26256064},{"$f":"'DataNews 2010'!J87","v":29582618},{"$f":"'DataNews 2010'!K87","v":11516104},{"$f":"'DataNews 2010'!L87","v":36364001},{"$f":"'DataNews 2010'!M87","v":126003605},{"$f":"'DataNews 2010'!N87","v":-21456198},null,"<TR>","<TD NOWRAP ALIGN=LEFT><FONT FACE=\"Times New Roman\" SIZE=-2>City of Schenectady</TD>","<TD ALIGN=RIGHT><FONT FACE=\"Times New Roman\" SIZE=-2>$26,861.4</FONT></TD>","<TD ALIGN=RIGHT><FONT FACE=\"Times New Roman\" SIZE=-2>$11,848.0</FONT></TD>","<TD ALIGN=RIGHT><FONT FACE=\"Times New Roman\" SIZE=-2>$16,346.1</FONT></TD>","<TD ALIGN=RIGHT><FONT FACE=\"Times New Roman\" SIZE=-2>$8,428.5</FONT></TD>","<TD ALIGN=RIGHT><FONT FACE=\"Times New Roman\" SIZE=-2>$41,063.4</FONT></TD>","<TD ALIGN=RIGHT><FONT FACE=\"Times New Roman\" SIZE=-2>$104,547.4</FONT></TD>","<TD ALIGN=RIGHT><FONT FACE=\"Times New Roman\" SIZE=-2>$22,284.8</FONT></TD>","<TD ALIGN=RIGHT><FONT FACE=\"Times New Roman\" SIZE=-2>$26,256.1</FONT></TD>","<TD ALIGN=RIGHT><FONT FACE=\"Times New Roman\" SIZE=-2>$29,582.6</FONT></TD>","<TD ALIGN=RIGHT><FONT FACE=\"Times New Roman\" SIZE=-2>$11,516.1</FONT></TD>","<TD ALIGN=RIGHT><FONT FACE=\"Times New Roman\" SIZE=-2>$36,364.0</FONT></TD>","<TD ALIGN=RIGHT><FONT FACE=\"Times New Roman\" SIZE=-2>$126,003.6</FONT></TD>","<TD ALIGN=RIGHT><FONT FACE=\"Times New Roman\" SIZE=-2 COLOR=#FF0000>($21,456.2)</FONT></TD>","</TR>"]
["Capital District",{"$f":"'DataNews 2010'!B88","v":250825033},{"$f":"'DataNews 2010'!C88","v":477522222},{"$f":"'DataNews 2010'!D88","v":189483684},{"$f":"'DataNews 2010'!E88","v":172384745},{"$f":"'DataNews 2010'!F88","v":491645206},{"$f":"'DataNews 2010'!G88","v":1581860890},{"$f":"'DataNews 2010'!H88","v":338502840},{"$f":"'DataNews 2010'!I88","v":272391832},{"$f":"'DataNews 2010'!J88","v":86641633},{"$f":"'DataNews 2010'!K88","v":3861337},{"$f":"'DataNews 2010'!L88","v":867172742},{"$f":"'DataNews 2010'!M88","v":1568570384},{"$f":"'DataNews 2010'!N88","v":13290506},null,"<TR>",{"$f":"\"<TD NOWRAP ALIGN=LEFT><FONT FACE=\"\"Times New Roman\"\" SIZE=-2><B>\"&A85&\"</B></TD>\"","v":"<TD NOWRAP ALIGN=LEFT><FONT FACE=\"Times New Roman\" SIZE=-2><B>Capital District</B></TD>"},"<TD ALIGN=RIGHT><FONT FACE=\"Times New Roman\" SIZE=-2>$250,825.0</FONT></TD>","<TD ALIGN=RIGHT><FONT FACE=\"Times New Roman\" SIZE=-2>$477,522.2</FONT></TD>","<TD ALIGN=RIGHT><FONT FACE=\"Times New Roman\" SIZE=-2>$189,483.7</FONT></TD>","<TD ALIGN=RIGHT><FONT FACE=\"Times New Roman\" SIZE=-2>$172,384.7</FONT></TD>","<TD ALIGN=RIGHT><FONT FACE=\"Times New Roman\" SIZE=-2>$491,645.2</FONT></TD>","<TD ALIGN=RIGHT><FONT FACE=\"Times New Roman\" SIZE=-2>$1,581,860.9</FONT></TD>","<TD ALIGN=RIGHT><FONT FACE=\"Times New Roman\" SIZE=-2>$338,502.8</FONT></TD>","<TD ALIGN=RIGHT><FONT FACE=\"Times New Roman\" SIZE=-2>$272,391.8</FONT></TD>","<TD ALIGN=RIGHT><FONT FACE=\"Times New Roman\" SIZE=-2>$86,641.6</FONT></TD>","<TD ALIGN=RIGHT><FONT FACE=\"Times New Roman\" SIZE=-2>$3,861.3</FONT></TD>","<TD ALIGN=RIGHT><FONT FACE=\"Times New Roman\" SIZE=-2>$867,172.7</FONT></TD>","<TD ALIGN=RIGHT><FONT FACE=\"Times New Roman\" SIZE=-2>$1,568,570.4</FONT></TD>","<TD ALIGN=RIGHT><FONT FACE=\"Times New Roman\" SIZE=-2>$13,290.5</FONT></TD>","</TR>"]
[null,null,null,null,null,null,null,null,null,null,null,null,null,null,null,"<TR>",{"$f":"\"<TD ALIGN=CENTER COLSPAN=14>Source:  New York State Office of the Comptroller, <I>\"&TEXT(RIGHT($A$1,4),\"0000\")&\" Special Report on Municipal Affairs</I><BR>\"","v":"<TD ALIGN=CENTER COLSPAN=14>Source:  New York State Office of the Comptroller, <I>2010 Special Report on Municipal Affairs</I><BR>"},"Prepared by the Capital District Regional Planning Commission</TD>","</TR>","</TABLE>"]